{"text_format":"1","workbook":"xlsx","n_sheets":29,"sheets":["WAVA","LeaderPivot","Leaderboard","Summary Sheet","Dewsbury","Bradford","Keighley","Bunny ","Liverpool","VoY 10m","Guisley","Odda","Leeds half","Ilkley","Otley","Solstice","Eccup","Shakerr","VoY","Kirkstall","City","Guy Fawkes","Abbey","Chevin","Division Lookup","2018 Divisions","Points Lookup","AgeStdHMS (Men)","AgeStdHMS (Women)"],"not_rendered":{"charts":0,"images":2,"macros":0,"external_links":1,"defined_names":4,"comments":0,"pivot_tables":3},"unopened":[],"bounds":{"document_bytes":16777216,"sheet_cells":100000,"rows_first":2000,"rows_last":500,"rows_between":2000,"halvings":0,"cell_chars":16384,"cell_head_chars":4096},"cells_cut":0,"cells_raw":0,"read":"whole","date_system":"1900"}

{"sheet":"WAVA","index":0,"n_rows":376,"n_cols":50,"rows_kept":376,"cut":false,"hidden":false,"merged":[[0,6,0,26],[0,28,0,48]]}
[null,null,null,null,"2017-01-01",null,"WAVA Graded Score",null,null,null,null,null,null,null,null,null,null,null,null,null,null,null,null,null,null,null,null,null,"Rank"]
["First Name","Surname",{"$f":"'Summary Sheet'!B1","v":"Name"},"DOB","Age","Division","Dewsbury 10k","Epilepsy Action 10k","Keighley BIG 10k","Bunny Run 1","Liverpool 10m/Half","VoY 10m","Guiseley Gallop","Over the Odda","Leeds half","Ilkley Trail","Otley 10","Solstice Saunter","Eccup 10","Lister Parkrun","Aurthur Shakerr","Vale of York Half","Kirkstall Abbey 10","Bradford city Runs","Guy Fawkes","Abbey Dash","Chevin Chase",null,{"$f":"G2","v":"Dewsbury 10k"},"Epilepsy Action 10k","Keighley BIG 10k","Bunny Run 1","Liverpool 10m/Half","VoY 10m","Guiseley Gallop","Over the Odda","Leeds half","Ilkley Trail","Otley 10","Solstice Saunter","Eccup 10","Lister Parkrun","Aurthur Shakerr","Vale of York Half","Kirkstall Abbey 10","Bradford city Runs","Guy Fawkes","Abbey Dash","Chevin Chase","Races"]
[null,null,"Reza Abdi","1966-08-06",{"$f":"DATEDIF(D3,$E$1,\"Y\")","v":50},{"$f":"IFERROR(VLOOKUP(C3,'Division Lookup'!$A$2:$D$251,4,FALSE),\"Second\")","v":"First"},{"$f":"VLOOKUP(C3,Dewsbury!$C$3:$L$46,7,FALSE)","v":{"$error":"#N/A"}},{"$f":"VLOOKUP($C3,Bradford!$C$3:$L$57,7,FALSE)","v":{"$error":"#N/A"}},{"$f":"VLOOKUP($C3,Keighley!$C$3:$N$42,9,FALSE)","v":{"$error":"#N/A"}},{"$f":"VLOOKUP($C3,'Bunny '!$C$3:$N$20,9,FALSE)","v":{"$error":"#N/A"}},{"$f":"VLOOKUP($C3,Liverpool!$C$3:$N$59,9,FALSE)","v":{"$error":"#N/A"}},{"$f":"VLOOKUP(C3,'VoY 10m'!$C$3:$N$40,9,FALSE)","v":{"$error":"#N/A"}},{"$f":"VLOOKUP(C3,Guisley!$C$3:$N$49,9,FALSE)","v":{"$error":"#N/A"}},{"$f":"VLOOKUP(C3,Odda!$C$3:$N$42,9,FALSE)","v":{"$error":"#N/A"}},{"$f":"VLOOKUP(C3,'Leeds half'!$C$4:$N$31,9,FALSE)","v":{"$error":"#N/A"}},{"$f":"VLOOKUP(C3,Ilkley!$C$3:$L$46,7,FALSE)","v":{"$error":"#N/A"}},{"$f":"VLOOKUP(C3,Otley!$C$3:$L$46,9,FALSE)","v":{"$error":"#N/A"}},{"$f":"VLOOKUP(C3,Solstice!$C$3:$L$48,7,FALSE)","v":{"$error":"#N/A"}},{"$f":"VLOOKUP(C3,Eccup!$C$3:$L$46,9,FALSE)","v":{"$error":"#N/A"}},null,{"$f":"VLOOKUP(C3,Shakerr!$C$3:$L$46,7,FALSE)","v":{"$error":"#N/A"}},{"$f":"VLOOKUP(C3,VoY!$C$3:$L$46,9,FALSE)","v":{"$error":"#N/A"}},{"$f":"VLOOKUP(C3,Kirkstall!$C$3:$L$46,9,FALSE)","v":{"$error":"#N/A"}},{"$f":"VLOOKUP($C3,City!$C$3:$L$69,9,FALSE)","v":{"$error":"#N/A"}},{"$f":"VLOOKUP(C3,'Guy Fawkes'!$C$3:$N$34,9,FALSE)","v":{"$error":"#N/A"}},{"$f":"VLOOKUP(C3,Abbey!$C$3:$L$48,7,FALSE)","v":{"$error":"#N/A"}},{"$f":"VLOOKUP(C3,Chevin!$C$3:$L$50,7,FALSE)","v":{"$error":"#N/A"}},null,{"$f":"IF(ISNA(G3),0,1+COUNTIFS($F$3:$F$399,$F3,G$3:G$399,\">\"&G3))","v":0},{"$f":"IF(ISNA(H3),0,1+COUNTIFS($F$3:$F$399,$F3,H$3:H$399,\">\"&H3))","v":0},{"$f":"IF(ISNA(I3),0,1+COUNTIFS($F$3:$F$399,$F3,I$3:I$399,\">\"&I3))","v":0},{"$f":"IF(ISNA(J3),0,1+COUNTIFS($F$3:$F$399,$F3,J$3:J$399,\">\"&J3))","v":0},{"$f":"IF(ISNA(K3),0,1+COUNTIFS($F$3:$F$399,$F3,K$3:K$399,\">\"&K3))","v":0},{"$f":"IF(ISNA(L3),0,1+COUNTIFS($F$3:$F$399,$F3,L$3:L$399,\">\"&L3))","v":0},{"$f":"IF(ISNA(M3),0,1+COUNTIFS($F$3:$F$399,$F3,M$3:M$399,\">\"&M3))","v":0},{"$f":"IF(ISNA(N3),0,1+COUNTIFS($F$3:$F$399,$F3,N$3:N$399,\">\"&N3))","v":0},{"$f":"IF(ISNA(O3),0,1+COUNTIFS($F$3:$F$399,$F3,O$3:O$399,\">\"&O3))","v":0},{"$f":"IF(ISNA(P3),0,1+COUNTIFS($F$3:$F$399,$F3,P$3:P$399,\">\"&P3))","v":0},{"$f":"IF(ISNA(Q3),0,1+COUNTIFS($F$3:$F$399,$F3,Q$3:Q$399,\">\"&Q3))","v":0},{"$f":"IF(ISNA(R3),0,1+COUNTIFS($F$3:$F$399,$F3,R$3:R$399,\">\"&R3))","v":0},{"$f":"IF(ISNA(S3),0,1+COUNTIFS($F$3:$F$399,$F3,S$3:S$399,\">\"&S3))","v":0},0,{"$f":"IF(ISNA(U3),0,1+COUNTIFS($F$3:$F$399,$F3,U$3:U$399,\">\"&U3))","v":0},0,0,0,0,0,{"$f":"IF(ISNA(AA3),0,1+COUNTIFS($F$3:$F$399,$F3,AA$3:AA$399,\">\"&AA3))","v":0},{"$f":"COUNTIF(AC3:AW3,\">0\")","v":0}]
[null,null,"Keith Abson","1950-04-20",{"$f":"DATEDIF(D4,$E$1,\"Y\")","v":66},{"$f":"IFERROR(VLOOKUP(C4,'Division Lookup'!$A$2:$D$251,4,FALSE),\"Second\")","v":"Second"},{"$f":"VLOOKUP(C4,Dewsbury!$C$3:$L$46,7,FALSE)","v":{"$error":"#N/A"}},{"$f":"VLOOKUP($C4,Bradford!$C$3:$L$57,7,FALSE)","v":{"$error":"#N/A"}},{"$f":"VLOOKUP($C4,Keighley!$C$3:$N$42,9,FALSE)","v":{"$error":"#N/A"}},{"$f":"VLOOKUP($C4,'Bunny '!$C$3:$N$20,9,FALSE)","v":{"$error":"#N/A"}},{"$f":"VLOOKUP($C4,Liverpool!$C$3:$N$59,9,FALSE)","v":{"$error":"#N/A"}},{"$f":"VLOOKUP(C4,'VoY 10m'!$C$3:$N$40,9,FALSE)","v":{"$error":"#N/A"}},{"$f":"VLOOKUP(C4,Guisley!$C$3:$N$49,9,FALSE)","v":{"$error":"#N/A"}},{"$f":"VLOOKUP(C4,Odda!$C$3:$N$42,9,FALSE)","v":{"$error":"#N/A"}},{"$f":"VLOOKUP(C4,'Leeds half'!$C$4:$N$31,9,FALSE)","v":{"$error":"#N/A"}},{"$f":"VLOOKUP(C4,Ilkley!$C$3:$L$46,7,FALSE)","v":{"$error":"#N/A"}},{"$f":"VLOOKUP(C4,Otley!$C$3:$L$46,9,FALSE)","v":{"$error":"#N/A"}},{"$f":"VLOOKUP(C4,Solstice!$C$3:$L$48,7,FALSE)","v":{"$error":"#N/A"}},{"$f":"VLOOKUP(C4,Eccup!$C$3:$L$46,9,FALSE)","v":{"$error":"#N/A"}},null,{"$f":"VLOOKUP(C4,Shakerr!$C$3:$L$46,7,FALSE)","v":{"$error":"#N/A"}},{"$f":"VLOOKUP(C4,VoY!$C$3:$L$46,9,FALSE)","v":{"$error":"#N/A"}},{"$f":"VLOOKUP(C4,Kirkstall!$C$3:$L$46,9,FALSE)","v":{"$error":"#N/A"}},{"$f":"VLOOKUP($C4,City!$C$3:$L$69,9,FALSE)","v":{"$error":"#N/A"}},{"$f":"VLOOKUP(C4,'Guy Fawkes'!$C$3:$N$34,9,FALSE)","v":{"$error":"#N/A"}},{"$f":"VLOOKUP(C4,Abbey!$C$3:$L$48,7,FALSE)","v":{"$error":"#N/A"}},{"$f":"VLOOKUP(C4,Chevin!$C$3:$L$50,7,FALSE)","v":{"$error":"#N/A"}},null,0,0,0,0,0,0,0,0,{"$f":"IF(ISNA(O4),0,1+COUNTIFS($F$3:$F$399,$F4,O$3:O$399,\">\"&O4))","v":0},{"$f":"IF(ISNA(P4),0,1+COUNTIFS($F$3:$F$399,$F4,P$3:P$399,\">\"&P4))","v":0},{"$f":"IF(ISNA(Q4),0,1+COUNTIFS($F$3:$F$399,$F4,Q$3:Q$399,\">\"&Q4))","v":0},{"$f":"IF(ISNA(R4),0,1+COUNTIFS($F$3:$F$399,$F4,R$3:R$399,\">\"&R4))","v":0},{"$f":"IF(ISNA(S4),0,1+COUNTIFS($F$3:$F$399,$F4,S$3:S$399,\">\"&S4))","v":0},0,{"$f":"IF(ISNA(U4),0,1+COUNTIFS($F$3:$F$399,$F4,U$3:U$399,\">\"&U4))","v":0},{"$f":"IF(ISNA(V4),0,1+COUNTIFS($F$3:$F$399,$F4,V$3:V$399,\">\"&V4))","v":0},{"$f":"IF(ISNA(W4),0,1+COUNTIFS($F$3:$F$399,$F4,W$3:W$399,\">\"&W4))","v":0},{"$f":"IF(ISNA(X4),0,1+COUNTIFS($F$3:$F$399,$F4,X$3:X$399,\">\"&X4))","v":0},{"$f":"IF(ISNA(Y4),0,1+COUNTIFS($F$3:$F$399,$F4,Y$3:Y$399,\">\"&Y4))","v":0},{"$f":"IF(ISNA(Z4),0,1+COUNTIFS($F$3:$F$399,$F4,Z$3:Z$399,\">\"&Z4))","v":0},{"$f":"IF(ISNA(AA4),0,1+COUNTIFS($F$3:$F$399,$F4,AA$3:AA$399,\">\"&AA4))","v":0},{"$f":"COUNTIF(AC4:AW4,\">0\")","v":0}]
[null,null,"Mel Akeroyd","1979-02-10",37,{"$f":"IFERROR(VLOOKUP(C5,'Division Lookup'!$A$2:$D$251,4,FALSE),\"Second\")","v":"Premier"},{"$f":"VLOOKUP(C5,Dewsbury!$C$3:$L$46,7,FALSE)","v":0.61068954140547671},{"$f":"VLOOKUP($C5,Bradford!$C$3:$L$57,7,FALSE)","v":0.60234298730881874},{"$f":"VLOOKUP($C5,Keighley!$C$3:$N$42,9,FALSE)","v":{"$error":"#N/A"}},{"$f":"VLOOKUP($C5,'Bunny '!$C$3:$N$20,9,FALSE)","v":0.53686087990487508},{"$f":"VLOOKUP($C5,Liverpool!$C$3:$N$59,9,FALSE)","v":0.60149700598802391},{"$f":"VLOOKUP(C5,'VoY 10m'!$C$3:$N$40,9,FALSE)","v":{"$error":"#N/A"}},{"$f":"VLOOKUP(C5,Guisley!$C$3:$N$49,9,FALSE)","v":{"$error":"#N/A"}},{"$f":"VLOOKUP(C5,Odda!$C$3:$N$42,9,FALSE)","v":0.49838449111470118},{"$f":"VLOOKUP(C5,'Leeds half'!$C$4:$N$31,9,FALSE)","v":0.57523264137437369},{"$f":"VLOOKUP(C5,Ilkley!$C$3:$L$46,7,FALSE)","v":{"$error":"#N/A"}},{"$f":"VLOOKUP(C5,Otley!$C$3:$L$46,9,FALSE)","v":{"$error":"#N/A"}},{"$f":"VLOOKUP(C5,Solstice!$C$3:$L$48,7,FALSE)","v":0.5220926122304701},{"$f":"VLOOKUP(C5,Eccup!$C$3:$L$46,9,FALSE)","v":{"$error":"#N/A"}},null,{"$f":"VLOOKUP(C5,Shakerr!$C$3:$L$46,7,FALSE)","v":0.41520861372812923},{"$f":"VLOOKUP(C5,VoY!$C$3:$L$46,9,FALSE)","v":{"$error":"#N/A"}},{"$f":"VLOOKUP(C5,Kirkstall!$C$3:$L$46,9,FALSE)","v":{"$error":"#N/A"}},{"$f":"VLOOKUP($C5,City!$C$3:$L$69,9,FALSE)","v":{"$error":"#N/A"}},{"$f":"VLOOKUP(C5,'Guy Fawkes'!$C$3:$N$34,9,FALSE)","v":0.49536952968948617},{"$f":"VLOOKUP(C5,Abbey!$C$3:$L$48,7,FALSE)","v":{"$error":"#N/A"}},{"$f":"VLOOKUP(C5,Chevin!$C$3:$L$50,7,FALSE)","v":{"$error":"#N/A"}},null,14,12,0,11,14,0,0,7,4,0,0,15,0,0,11,0,0,0,16,0,0,9]
[null,null,"Jessica Alred","1982-01-23",34,{"$f":"IFERROR(VLOOKUP(C6,'Division Lookup'!$A$2:$D$251,4,FALSE),\"Second\")","v":"Second"},{"$f":"VLOOKUP(C6,Dewsbury!$C$3:$L$46,7,FALSE)","v":{"$error":"#N/A"}},{"$f":"VLOOKUP($C6,Bradford!$C$3:$L$57,7,FALSE)","v":{"$error":"#N/A"}},{"$f":"VLOOKUP($C6,Keighley!$C$3:$N$42,9,FALSE)","v":{"$error":"#N/A"}},{"$f":"VLOOKUP($C6,'Bunny '!$C$3:$N$20,9,FALSE)","v":{"$error":"#N/A"}},{"$f":"VLOOKUP($C6,Liverpool!$C$3:$N$59,9,FALSE)","v":{"$error":"#N/A"}},{"$f":"VLOOKUP(C6,'VoY 10m'!$C$3:$N$40,9,FALSE)","v":{"$error":"#N/A"}},{"$f":"VLOOKUP(C6,Guisley!$C$3:$N$49,9,FALSE)","v":{"$error":"#N/A"}},{"$f":"VLOOKUP(C6,Odda!$C$3:$N$42,9,FALSE)","v":{"$error":"#N/A"}},{"$f":"VLOOKUP(C6,'Leeds half'!$C$4:$N$31,9,FALSE)","v":{"$error":"#N/A"}},{"$f":"VLOOKUP(C6,Ilkley!$C$3:$L$46,7,FALSE)","v":{"$error":"#N/A"}},{"$f":"VLOOKUP(C6,Otley!$C$3:$L$46,9,FALSE)","v":{"$error":"#N/A"}},{"$f":"VLOOKUP(C6,Solstice!$C$3:$L$48,7,FALSE)","v":{"$error":"#N/A"}},{"$f":"VLOOKUP(C6,Eccup!$C$3:$L$46,9,FALSE)","v":{"$error":"#N/A"}},null,{"$f":"VLOOKUP(C6,Shakerr!$C$3:$L$46,7,FALSE)","v":{"$error":"#N/A"}},{"$f":"VLOOKUP(C6,VoY!$C$3:$L$46,9,FALSE)","v":{"$error":"#N/A"}},{"$f":"VLOOKUP(C6,Kirkstall!$C$3:$L$46,9,FALSE)","v":{"$error":"#N/A"}},{"$f":"VLOOKUP($C6,City!$C$3:$L$69,9,FALSE)","v":{"$error":"#N/A"}},{"$f":"VLOOKUP(C6,'Guy Fawkes'!$C$3:$N$34,9,FALSE)","v":{"$error":"#N/A"}},{"$f":"VLOOKUP(C6,Abbey!$C$3:$L$48,7,FALSE)","v":0.48996487706974412},{"$f":"VLOOKUP(C6,Chevin!$C$3:$L$50,7,FALSE)","v":{"$error":"#N/A"}},null,0,0,0,0,0,0,0,0,0,0,0,0,0,0,0,0,0,0,0,21,0,1]
[null,null,"Imogen Ambler","1996-04-30",20,{"$f":"IFERROR(VLOOKUP(C7,'Division Lookup'!$A$2:$D$251,4,FALSE),\"Second\")","v":"Second"},{"$f":"VLOOKUP(C7,Dewsbury!$C$3:$L$46,7,FALSE)","v":{"$error":"#N/A"}},{"$f":"VLOOKUP($C7,Bradford!$C$3:$L$57,7,FALSE)","v":{"$error":"#N/A"}},{"$f":"VLOOKUP($C7,Keighley!$C$3:$N$42,9,FALSE)","v":{"$error":"#N/A"}},{"$f":"VLOOKUP($C7,'Bunny '!$C$3:$N$20,9,FALSE)","v":{"$error":"#N/A"}},{"$f":"VLOOKUP($C7,Liverpool!$C$3:$N$59,9,FALSE)","v":{"$error":"#N/A"}},{"$f":"VLOOKUP(C7,'VoY 10m'!$C$3:$N$40,9,FALSE)","v":{"$error":"#N/A"}},{"$f":"VLOOKUP(C7,Guisley!$C$3:$N$49,9,FALSE)","v":{"$error":"#N/A"}},{"$f":"VLOOKUP(C7,Odda!$C$3:$N$42,9,FALSE)","v":{"$error":"#N/A"}},{"$f":"VLOOKUP(C7,'Leeds half'!$C$4:$N$31,9,FALSE)","v":{"$error":"#N/A"}},{"$f":"VLOOKUP(C7,Ilkley!$C$3:$L$46,7,FALSE)","v":{"$error":"#N/A"}},{"$f":"VLOOKUP(C7,Otley!$C$3:$L$46,9,FALSE)","v":{"$error":"#N/A"}},{"$f":"VLOOKUP(C7,Solstice!$C$3:$L$48,7,FALSE)","v":{"$error":"#N/A"}},{"$f":"VLOOKUP(C7,Eccup!$C$3:$L$46,9,FALSE)","v":{"$error":"#N/A"}},null,{"$f":"VLOOKUP(C7,Shakerr!$C$3:$L$46,7,FALSE)","v":{"$error":"#N/A"}},{"$f":"VLOOKUP(C7,VoY!$C$3:$L$46,9,FALSE)","v":{"$error":"#N/A"}},{"$f":"VLOOKUP(C7,Kirkstall!$C$3:$L$46,9,FALSE)","v":{"$error":"#N/A"}},{"$f":"VLOOKUP($C7,City!$C$3:$L$69,9,FALSE)","v":{"$error":"#N/A"}},{"$f":"VLOOKUP(C7,'Guy Fawkes'!$C$3:$N$34,9,FALSE)","v":{"$error":"#N/A"}},{"$f":"VLOOKUP(C7,Abbey!$C$3:$L$48,7,FALSE)","v":{"$error":"#N/A"}},{"$f":"VLOOKUP(C7,Chevin!$C$3:$L$50,7,FALSE)","v":{"$error":"#N/A"}},null,0,0,0,0,0,0,0,0,0,0,0,0,0,0,0,0,0,0,0,0,0,0]
[null,null,"James Anderson","1973-12-24",43,{"$f":"IFERROR(VLOOKUP(C8,'Division Lookup'!$A$2:$D$251,4,FALSE),\"Second\")","v":"Second"},{"$f":"VLOOKUP(C8,Dewsbury!$C$3:$L$46,7,FALSE)","v":{"$error":"#N/A"}},{"$f":"VLOOKUP($C8,Bradford!$C$3:$L$57,7,FALSE)","v":{"$error":"#N/A"}},{"$f":"VLOOKUP($C8,Keighley!$C$3:$N$42,9,FALSE)","v":{"$error":"#N/A"}},{"$f":"VLOOKUP($C8,'Bunny '!$C$3:$N$20,9,FALSE)","v":{"$error":"#N/A"}},{"$f":"VLOOKUP($C8,Liverpool!$C$3:$N$59,9,FALSE)","v":{"$error":"#N/A"}},{"$f":"VLOOKUP(C8,'VoY 10m'!$C$3:$N$40,9,FALSE)","v":{"$error":"#N/A"}},{"$f":"VLOOKUP(C8,Guisley!$C$3:$N$49,9,FALSE)","v":{"$error":"#N/A"}},{"$f":"VLOOKUP(C8,Odda!$C$3:$N$42,9,FALSE)","v":{"$error":"#N/A"}},{"$f":"VLOOKUP(C8,'Leeds half'!$C$4:$N$31,9,FALSE)","v":{"$error":"#N/A"}},{"$f":"VLOOKUP(C8,Ilkley!$C$3:$L$46,7,FALSE)","v":{"$error":"#N/A"}},{"$f":"VLOOKUP(C8,Otley!$C$3:$L$46,9,FALSE)","v":{"$error":"#N/A"}},{"$f":"VLOOKUP(C8,Solstice!$C$3:$L$48,7,FALSE)","v":{"$error":"#N/A"}},{"$f":"VLOOKUP(C8,Eccup!$C$3:$L$46,9,FALSE)","v":{"$error":"#N/A"}},null,{"$f":"VLOOKUP(C8,Shakerr!$C$3:$L$46,7,FALSE)","v":{"$error":"#N/A"}},{"$f":"VLOOKUP(C8,VoY!$C$3:$L$46,9,FALSE)","v":{"$error":"#N/A"}},{"$f":"VLOOKUP(C8,Kirkstall!$C$3:$L$46,9,FALSE)","v":{"$error":"#N/A"}},{"$f":"VLOOKUP($C8,City!$C$3:$L$69,9,FALSE)","v":{"$error":"#N/A"}},{"$f":"VLOOKUP(C8,'Guy Fawkes'!$C$3:$N$34,9,FALSE)","v":{"$error":"#N/A"}},{"$f":"VLOOKUP(C8,Abbey!$C$3:$L$48,7,FALSE)","v":{"$error":"#N/A"}},{"$f":"VLOOKUP(C8,Chevin!$C$3:$L$50,7,FALSE)","v":{"$error":"#N/A"}},null,0,0,0,0,0,0,0,0,0,0,0,0,0,0,0,0,0,0,0,0,0,0]
[null,null,"Dave Armstrong","1948-06-05",68,{"$f":"IFERROR(VLOOKUP(C9,'Division Lookup'!$A$2:$D$251,4,FALSE),\"Second\")","v":"Second"},{"$f":"VLOOKUP(C9,Dewsbury!$C$3:$L$46,7,FALSE)","v":{"$error":"#N/A"}},{"$f":"VLOOKUP($C9,Bradford!$C$3:$L$57,7,FALSE)","v":{"$error":"#N/A"}},{"$f":"VLOOKUP($C9,Keighley!$C$3:$N$42,9,FALSE)","v":{"$error":"#N/A"}},{"$f":"VLOOKUP($C9,'Bunny '!$C$3:$N$20,9,FALSE)","v":{"$error":"#N/A"}},{"$f":"VLOOKUP($C9,Liverpool!$C$3:$N$59,9,FALSE)","v":{"$error":"#N/A"}},{"$f":"VLOOKUP(C9,'VoY 10m'!$C$3:$N$40,9,FALSE)","v":{"$error":"#N/A"}},{"$f":"VLOOKUP(C9,Guisley!$C$3:$N$49,9,FALSE)","v":{"$error":"#N/A"}},{"$f":"VLOOKUP(C9,Odda!$C$3:$N$42,9,FALSE)","v":{"$error":"#N/A"}},{"$f":"VLOOKUP(C9,'Leeds half'!$C$4:$N$31,9,FALSE)","v":{"$error":"#N/A"}},{"$f":"VLOOKUP(C9,Ilkley!$C$3:$L$46,7,FALSE)","v":{"$error":"#N/A"}},{"$f":"VLOOKUP(C9,Otley!$C$3:$L$46,9,FALSE)","v":{"$error":"#N/A"}},{"$f":"VLOOKUP(C9,Solstice!$C$3:$L$48,7,FALSE)","v":{"$error":"#N/A"}},{"$f":"VLOOKUP(C9,Eccup!$C$3:$L$46,9,FALSE)","v":{"$error":"#N/A"}},null,{"$f":"VLOOKUP(C9,Shakerr!$C$3:$L$46,7,FALSE)","v":{"$error":"#N/A"}},{"$f":"VLOOKUP(C9,VoY!$C$3:$L$46,9,FALSE)","v":{"$error":"#N/A"}},{"$f":"VLOOKUP(C9,Kirkstall!$C$3:$L$46,9,FALSE)","v":{"$error":"#N/A"}},{"$f":"VLOOKUP($C9,City!$C$3:$L$69,9,FALSE)","v":{"$error":"#N/A"}},{"$f":"VLOOKUP(C9,'Guy Fawkes'!$C$3:$N$34,9,FALSE)","v":{"$error":"#N/A"}},{"$f":"VLOOKUP(C9,Abbey!$C$3:$L$48,7,FALSE)","v":{"$error":"#N/A"}},{"$f":"VLOOKUP(C9,Chevin!$C$3:$L$50,7,FALSE)","v":{"$error":"#N/A"}},null,0,0,0,0,0,0,0,0,0,0,0,0,0,0,0,0,0,0,0,0,0,0]
[null,null,"Kevin Armstrong","1983-11-15",33,{"$f":"IFERROR(VLOOKUP(C10,'Division Lookup'!$A$2:$D$251,4,FALSE),\"Second\")","v":"Second"},{"$f":"VLOOKUP(C10,Dewsbury!$C$3:$L$46,7,FALSE)","v":{"$error":"#N/A"}},{"$f":"VLOOKUP($C10,Bradford!$C$3:$L$57,7,FALSE)","v":{"$error":"#N/A"}},{"$f":"VLOOKUP($C10,Keighley!$C$3:$N$42,9,FALSE)","v":{"$error":"#N/A"}},{"$f":"VLOOKUP($C10,'Bunny '!$C$3:$N$20,9,FALSE)","v":{"$error":"#N/A"}},{"$f":"VLOOKUP($C10,Liverpool!$C$3:$N$59,9,FALSE)","v":{"$error":"#N/A"}},{"$f":"VLOOKUP(C10,'VoY 10m'!$C$3:$N$40,9,FALSE)","v":{"$error":"#N/A"}},{"$f":"VLOOKUP(C10,Guisley!$C$3:$N$49,9,FALSE)","v":{"$error":"#N/A"}},{"$f":"VLOOKUP(C10,Odda!$C$3:$N$42,9,FALSE)","v":{"$error":"#N/A"}},{"$f":"VLOOKUP(C10,'Leeds half'!$C$4:$N$31,9,FALSE)","v":{"$error":"#N/A"}},{"$f":"VLOOKUP(C10,Ilkley!$C$3:$L$46,7,FALSE)","v":{"$error":"#N/A"}},{"$f":"VLOOKUP(C10,Otley!$C$3:$L$46,9,FALSE)","v":{"$error":"#N/A"}},{"$f":"VLOOKUP(C10,Solstice!$C$3:$L$48,7,FALSE)","v":{"$error":"#N/A"}},{"$f":"VLOOKUP(C10,Eccup!$C$3:$L$46,9,FALSE)","v":{"$error":"#N/A"}},null,{"$f":"VLOOKUP(C10,Shakerr!$C$3:$L$46,7,FALSE)","v":{"$error":"#N/A"}},{"$f":"VLOOKUP(C10,VoY!$C$3:$L$46,9,FALSE)","v":{"$error":"#N/A"}},{"$f":"VLOOKUP(C10,Kirkstall!$C$3:$L$46,9,FALSE)","v":{"$error":"#N/A"}},{"$f":"VLOOKUP($C10,City!$C$3:$L$69,9,FALSE)","v":{"$error":"#N/A"}},{"$f":"VLOOKUP(C10,'Guy Fawkes'!$C$3:$N$34,9,FALSE)","v":{"$error":"#N/A"}},{"$f":"VLOOKUP(C10,Abbey!$C$3:$L$48,7,FALSE)","v":{"$error":"#N/A"}},{"$f":"VLOOKUP(C10,Chevin!$C$3:$L$50,7,FALSE)","v":{"$error":"#N/A"}},null,0,0,0,0,0,0,0,0,0,0,0,0,0,0,0,0,0,0,0,0,0,0]
[null,null,"Sara Atkinson","1962-06-23",54,{"$f":"IFERROR(VLOOKUP(C11,'Division Lookup'!$A$2:$D$251,4,FALSE),\"Second\")","v":"Second"},{"$f":"VLOOKUP(C11,Dewsbury!$C$3:$L$46,7,FALSE)","v":{"$error":"#N/A"}},{"$f":"VLOOKUP($C11,Bradford!$C$3:$L$66,7,FALSE)","v":{"$error":"#N/A"}},{"$f":"VLOOKUP($C11,Keighley!$C$3:$N$42,9,FALSE)","v":{"$error":"#N/A"}},{"$f":"VLOOKUP($C11,'Bunny '!$C$3:$N$20,9,FALSE)","v":{"$error":"#N/A"}},{"$f":"VLOOKUP($C11,Liverpool!$C$3:$N$59,9,FALSE)","v":{"$error":"#N/A"}},{"$f":"VLOOKUP(C11,'VoY 10m'!$C$3:$N$40,9,FALSE)","v":{"$error":"#N/A"}},{"$f":"VLOOKUP(C11,Guisley!$C$3:$N$49,9,FALSE)","v":{"$error":"#N/A"}},{"$f":"VLOOKUP(C11,Odda!$C$3:$N$42,9,FALSE)","v":{"$error":"#N/A"}},{"$f":"VLOOKUP(C11,'Leeds half'!$C$4:$N$31,9,FALSE)","v":{"$error":"#N/A"}},{"$f":"VLOOKUP(C11,Ilkley!$C$3:$L$46,7,FALSE)","v":{"$error":"#N/A"}},{"$f":"VLOOKUP(C11,Otley!$C$3:$L$46,9,FALSE)","v":{"$error":"#N/A"}},{"$f":"VLOOKUP(C11,Solstice!$C$3:$L$48,7,FALSE)","v":{"$error":"#N/A"}},{"$f":"VLOOKUP(C11,Eccup!$C$3:$L$46,9,FALSE)","v":{"$error":"#N/A"}},null,{"$f":"VLOOKUP(C11,Shakerr!$C$3:$L$46,7,FALSE)","v":{"$error":"#N/A"}},{"$f":"VLOOKUP(C11,VoY!$C$3:$L$46,9,FALSE)","v":{"$error":"#N/A"}},{"$f":"VLOOKUP(C11,Kirkstall!$C$3:$L$46,9,FALSE)","v":{"$error":"#N/A"}},{"$f":"VLOOKUP($C11,City!$C$3:$L$69,9,FALSE)","v":{"$error":"#N/A"}},{"$f":"VLOOKUP(C11,'Guy Fawkes'!$C$3:$N$34,9,FALSE)","v":{"$error":"#N/A"}},{"$f":"VLOOKUP(C11,Abbey!$C$3:$L$48,7,FALSE)","v":{"$error":"#N/A"}},{"$f":"VLOOKUP(C11,Chevin!$C$3:$L$50,7,FALSE)","v":{"$error":"#N/A"}},null,0,0,0,0,0,0,0,0,0,0,0,0,0,0,0,0,0,0,0,0,0,0]
[null,null,"Alexandra Ayling","1965-11-13",51,{"$f":"IFERROR(VLOOKUP(C12,'Division Lookup'!$A$2:$D$251,4,FALSE),\"Second\")","v":"Second"},{"$f":"VLOOKUP(C12,Dewsbury!$C$3:$L$46,7,FALSE)","v":0.57021857923497277},{"$f":"VLOOKUP($C12,Bradford!$C$3:$L$66,7,FALSE)","v":0.55328738069989392},{"$f":"VLOOKUP($C12,Keighley!$C$3:$N$42,9,FALSE)","v":{"$error":"#N/A"}},{"$f":"VLOOKUP($C12,'Bunny '!$C$3:$N$20,9,FALSE)","v":{"$error":"#N/A"}},{"$f":"VLOOKUP($C12,Liverpool!$C$3:$N$59,9,FALSE)","v":{"$error":"#N/A"}},{"$f":"VLOOKUP(C12,'VoY 10m'!$C$3:$N$40,9,FALSE)","v":{"$error":"#N/A"}},{"$f":"VLOOKUP(C12,Guisley!$C$3:$N$49,9,FALSE)","v":{"$error":"#N/A"}},{"$f":"VLOOKUP(C12,Odda!$C$3:$N$42,9,FALSE)","v":{"$error":"#N/A"}},{"$f":"VLOOKUP(C12,'Leeds half'!$C$4:$N$31,9,FALSE)","v":{"$error":"#N/A"}},{"$f":"VLOOKUP(C12,Ilkley!$C$3:$L$46,7,FALSE)","v":{"$error":"#N/A"}},{"$f":"VLOOKUP(C12,Otley!$C$3:$L$46,9,FALSE)","v":{"$error":"#N/A"}},{"$f":"VLOOKUP(C12,Solstice!$C$3:$L$48,7,FALSE)","v":0.46262850791886634},{"$f":"VLOOKUP(C12,Eccup!$C$3:$L$46,9,FALSE)","v":{"$error":"#N/A"}},null,{"$f":"VLOOKUP(C12,Shakerr!$C$3:$L$46,7,FALSE)","v":{"$error":"#N/A"}},{"$f":"VLOOKUP(C12,VoY!$C$3:$L$46,9,FALSE)","v":{"$error":"#N/A"}},{"$f":"VLOOKUP(C12,Kirkstall!$C$3:$L$46,9,FALSE)","v":{"$error":"#N/A"}},{"$f":"VLOOKUP($C12,City!$C$3:$L$69,9,FALSE)","v":{"$error":"#N/A"}},{"$f":"VLOOKUP(C12,'Guy Fawkes'!$C$3:$N$34,9,FALSE)","v":0.43922811059907829},{"$f":"VLOOKUP(C12,Abbey!$C$3:$L$48,7,FALSE)","v":{"$error":"#N/A"}},{"$f":"VLOOKUP(C12,Chevin!$C$3:$L$50,7,FALSE)","v":{"$error":"#N/A"}},null,5,15,0,0,0,0,0,0,0,0,0,12,0,0,0,0,0,0,7,0,0,4]
[null,null,"Caroline Bagdonavicius","1958-08-31",58,{"$f":"IFERROR(VLOOKUP(C13,'Division Lookup'!$A$2:$D$251,4,FALSE),\"Second\")","v":"Second"},{"$f":"VLOOKUP(C13,Dewsbury!$C$3:$L$46,7,FALSE)","v":{"$error":"#N/A"}},{"$f":"VLOOKUP($C13,Bradford!$C$3:$L$66,7,FALSE)","v":{"$error":"#N/A"}},{"$f":"VLOOKUP($C13,Keighley!$C$3:$N$42,9,FALSE)","v":{"$error":"#N/A"}},{"$f":"VLOOKUP($C13,'Bunny '!$C$3:$N$20,9,FALSE)","v":{"$error":"#N/A"}},{"$f":"VLOOKUP($C13,Liverpool!$C$3:$N$59,9,FALSE)","v":{"$error":"#N/A"}},{"$f":"VLOOKUP(C13,'VoY 10m'!$C$3:$N$40,9,FALSE)","v":{"$error":"#N/A"}},{"$f":"VLOOKUP(C13,Guisley!$C$3:$N$49,9,FALSE)","v":{"$error":"#N/A"}},{"$f":"VLOOKUP(C13,Odda!$C$3:$N$42,9,FALSE)","v":{"$error":"#N/A"}},{"$f":"VLOOKUP(C13,'Leeds half'!$C$4:$N$31,9,FALSE)","v":{"$error":"#N/A"}},{"$f":"VLOOKUP(C13,Ilkley!$C$3:$L$46,7,FALSE)","v":{"$error":"#N/A"}},{"$f":"VLOOKUP(C13,Otley!$C$3:$L$46,9,FALSE)","v":{"$error":"#N/A"}},{"$f":"VLOOKUP(C13,Solstice!$C$3:$L$48,7,FALSE)","v":{"$error":"#N/A"}},{"$f":"VLOOKUP(C13,Eccup!$C$3:$L$46,9,FALSE)","v":{"$error":"#N/A"}},null,{"$f":"VLOOKUP(C13,Shakerr!$C$3:$L$46,7,FALSE)","v":{"$error":"#N/A"}},{"$f":"VLOOKUP(C13,VoY!$C$3:$L$46,9,FALSE)","v":{"$error":"#N/A"}},{"$f":"VLOOKUP(C13,Kirkstall!$C$3:$L$46,9,FALSE)","v":{"$error":"#N/A"}},{"$f":"VLOOKUP($C13,City!$C$3:$L$69,9,FALSE)","v":{"$error":"#N/A"}},{"$f":"VLOOKUP(C13,'Guy Fawkes'!$C$3:$N$34,9,FALSE)","v":{"$error":"#N/A"}},{"$f":"VLOOKUP(C13,Abbey!$C$3:$L$48,7,FALSE)","v":{"$error":"#N/A"}},{"$f":"VLOOKUP(C13,Chevin!$C$3:$L$50,7,FALSE)","v":{"$error":"#N/A"}},null,0,0,0,0,0,0,0,0,0,0,0,0,0,0,0,0,0,0,0,0,0,0]
[null,null,"heidi bagdonavicius","1981-02-18",35,{"$f":"IFERROR(VLOOKUP(C14,'Division Lookup'!$A$2:$D$251,4,FALSE),\"Second\")","v":"Second"},{"$f":"VLOOKUP(C14,Dewsbury!$C$3:$L$46,7,FALSE)","v":{"$error":"#N/A"}},{"$f":"VLOOKUP($C14,Bradford!$C$3:$L$66,7,FALSE)","v":{"$error":"#N/A"}},{"$f":"VLOOKUP($C14,Keighley!$C$3:$N$42,9,FALSE)","v":{"$error":"#N/A"}},{"$f":"VLOOKUP($C14,'Bunny '!$C$3:$N$20,9,FALSE)","v":{"$error":"#N/A"}},{"$f":"VLOOKUP($C14,Liverpool!$C$3:$N$59,9,FALSE)","v":{"$error":"#N/A"}},{"$f":"VLOOKUP(C14,'VoY 10m'!$C$3:$N$40,9,FALSE)","v":{"$error":"#N/A"}},{"$f":"VLOOKUP(C14,Guisley!$C$3:$N$49,9,FALSE)","v":{"$error":"#N/A"}},{"$f":"VLOOKUP(C14,Odda!$C$3:$N$42,9,FALSE)","v":{"$error":"#N/A"}},{"$f":"VLOOKUP(C14,'Leeds half'!$C$4:$N$31,9,FALSE)","v":{"$error":"#N/A"}},{"$f":"VLOOKUP(C14,Ilkley!$C$3:$L$46,7,FALSE)","v":{"$error":"#N/A"}},{"$f":"VLOOKUP(C14,Otley!$C$3:$L$46,9,FALSE)","v":{"$error":"#N/A"}},{"$f":"VLOOKUP(C14,Solstice!$C$3:$L$48,7,FALSE)","v":{"$error":"#N/A"}},{"$f":"VLOOKUP(C14,Eccup!$C$3:$L$46,9,FALSE)","v":{"$error":"#N/A"}},null,{"$f":"VLOOKUP(C14,Shakerr!$C$3:$L$46,7,FALSE)","v":{"$error":"#N/A"}},{"$f":"VLOOKUP(C14,VoY!$C$3:$L$46,9,FALSE)","v":{"$error":"#N/A"}},{"$f":"VLOOKUP(C14,Kirkstall!$C$3:$L$46,9,FALSE)","v":{"$error":"#N/A"}},{"$f":"VLOOKUP($C14,City!$C$3:$L$69,9,FALSE)","v":{"$error":"#N/A"}},{"$f":"VLOOKUP(C14,'Guy Fawkes'!$C$3:$N$34,9,FALSE)","v":{"$error":"#N/A"}},{"$f":"VLOOKUP(C14,Abbey!$C$3:$L$48,7,FALSE)","v":{"$error":"#N/A"}},{"$f":"VLOOKUP(C14,Chevin!$C$3:$L$50,7,FALSE)","v":{"$error":"#N/A"}},null,0,0,0,0,0,0,0,0,0,0,0,0,0,0,0,0,0,0,0,0,0,0]
[null,null,"Joe Bainborough","1993-02-22",23,{"$f":"IFERROR(VLOOKUP(C15,'Division Lookup'!$A$2:$D$251,4,FALSE),\"Second\")","v":"Second"},{"$f":"VLOOKUP(C15,Dewsbury!$C$3:$L$46,7,FALSE)","v":{"$error":"#N/A"}},{"$f":"VLOOKUP($C15,Bradford!$C$3:$L$66,7,FALSE)","v":{"$error":"#N/A"}},{"$f":"VLOOKUP($C15,Keighley!$C$3:$N$42,9,FALSE)","v":{"$error":"#N/A"}},{"$f":"VLOOKUP($C15,'Bunny '!$C$3:$N$20,9,FALSE)","v":{"$error":"#N/A"}},{"$f":"VLOOKUP($C15,Liverpool!$C$3:$N$59,9,FALSE)","v":{"$error":"#N/A"}},{"$f":"VLOOKUP(C15,'VoY 10m'!$C$3:$N$40,9,FALSE)","v":{"$error":"#N/A"}},{"$f":"VLOOKUP(C15,Guisley!$C$3:$N$49,9,FALSE)","v":{"$error":"#N/A"}},{"$f":"VLOOKUP(C15,Odda!$C$3:$N$42,9,FALSE)","v":{"$error":"#N/A"}},{"$f":"VLOOKUP(C15,'Leeds half'!$C$4:$N$31,9,FALSE)","v":{"$error":"#N/A"}},{"$f":"VLOOKUP(C15,Ilkley!$C$3:$L$46,7,FALSE)","v":{"$error":"#N/A"}},{"$f":"VLOOKUP(C15,Otley!$C$3:$L$46,9,FALSE)","v":{"$error":"#N/A"}},{"$f":"VLOOKUP(C15,Solstice!$C$3:$L$48,7,FALSE)","v":{"$error":"#N/A"}},{"$f":"VLOOKUP(C15,Eccup!$C$3:$L$46,9,FALSE)","v":{"$error":"#N/A"}},null,{"$f":"VLOOKUP(C15,Shakerr!$C$3:$L$46,7,FALSE)","v":{"$error":"#N/A"}},{"$f":"VLOOKUP(C15,VoY!$C$3:$L$46,9,FALSE)","v":{"$error":"#N/A"}},{"$f":"VLOOKUP(C15,Kirkstall!$C$3:$L$46,9,FALSE)","v":{"$error":"#N/A"}},{"$f":"VLOOKUP($C15,City!$C$3:$L$69,9,FALSE)","v":{"$error":"#N/A"}},{"$f":"VLOOKUP(C15,'Guy Fawkes'!$C$3:$N$34,9,FALSE)","v":{"$error":"#N/A"}},{"$f":"VLOOKUP(C15,Abbey!$C$3:$L$48,7,FALSE)","v":{"$error":"#N/A"}},{"$f":"VLOOKUP(C15,Chevin!$C$3:$L$50,7,FALSE)","v":{"$error":"#N/A"}},null,0,0,0,0,0,0,0,0,0,0,0,0,0,0,0,0,0,0,0,0,0,0]
[null,null,"Victoria Baker","1992-08-04",24,{"$f":"IFERROR(VLOOKUP(C16,'Division Lookup'!$A$2:$D$251,4,FALSE),\"Second\")","v":"Second"},{"$f":"VLOOKUP(C16,Dewsbury!$C$3:$L$46,7,FALSE)","v":{"$error":"#N/A"}},{"$f":"VLOOKUP($C16,Bradford!$C$3:$L$66,7,FALSE)","v":{"$error":"#N/A"}},{"$f":"VLOOKUP($C16,Keighley!$C$3:$N$42,9,FALSE)","v":{"$error":"#N/A"}},{"$f":"VLOOKUP($C16,'Bunny '!$C$3:$N$20,9,FALSE)","v":{"$error":"#N/A"}},{"$f":"VLOOKUP($C16,Liverpool!$C$3:$N$59,9,FALSE)","v":{"$error":"#N/A"}},{"$f":"VLOOKUP(C16,'VoY 10m'!$C$3:$N$40,9,FALSE)","v":{"$error":"#N/A"}},{"$f":"VLOOKUP(C16,Guisley!$C$3:$N$49,9,FALSE)","v":{"$error":"#N/A"}},{"$f":"VLOOKUP(C16,Odda!$C$3:$N$42,9,FALSE)","v":{"$error":"#N/A"}},{"$f":"VLOOKUP(C16,'Leeds half'!$C$4:$N$31,9,FALSE)","v":{"$error":"#N/A"}},{"$f":"VLOOKUP(C16,Ilkley!$C$3:$L$46,7,FALSE)","v":{"$error":"#N/A"}},{"$f":"VLOOKUP(C16,Otley!$C$3:$L$46,9,FALSE)","v":{"$error":"#N/A"}},{"$f":"VLOOKUP(C16,Solstice!$C$3:$L$48,7,FALSE)","v":{"$error":"#N/A"}},{"$f":"VLOOKUP(C16,Eccup!$C$3:$L$46,9,FALSE)","v":{"$error":"#N/A"}},null,{"$f":"VLOOKUP(C16,Shakerr!$C$3:$L$46,7,FALSE)","v":{"$error":"#N/A"}},{"$f":"VLOOKUP(C16,VoY!$C$3:$L$46,9,FALSE)","v":{"$error":"#N/A"}},{"$f":"VLOOKUP(C16,Kirkstall!$C$3:$L$46,9,FALSE)","v":{"$error":"#N/A"}},{"$f":"VLOOKUP($C16,City!$C$3:$L$69,9,FALSE)","v":{"$error":"#N/A"}},{"$f":"VLOOKUP(C16,'Guy Fawkes'!$C$3:$N$34,9,FALSE)","v":{"$error":"#N/A"}},{"$f":"VLOOKUP(C16,Abbey!$C$3:$L$48,7,FALSE)","v":{"$error":"#N/A"}},{"$f":"VLOOKUP(C16,Chevin!$C$3:$L$50,7,FALSE)","v":{"$error":"#N/A"}},null,0,0,0,0,0,0,0,0,0,0,0,0,0,0,0,0,0,0,0,0,0,0]
[null,null,"Tim Baldwin","1987-10-01",29,{"$f":"IFERROR(VLOOKUP(C17,'Division Lookup'!$A$2:$D$251,4,FALSE),\"Second\")","v":"Second"},{"$f":"VLOOKUP(C17,Dewsbury!$C$3:$L$46,7,FALSE)","v":{"$error":"#N/A"}},{"$f":"VLOOKUP($C17,Bradford!$C$3:$L$66,7,FALSE)","v":{"$error":"#N/A"}},{"$f":"VLOOKUP($C17,Keighley!$C$3:$N$42,9,FALSE)","v":{"$error":"#N/A"}},{"$f":"VLOOKUP($C17,'Bunny '!$C$3:$N$20,9,FALSE)","v":{"$error":"#N/A"}},{"$f":"VLOOKUP($C17,Liverpool!$C$3:$N$59,9,FALSE)","v":{"$error":"#N/A"}},{"$f":"VLOOKUP(C17,'VoY 10m'!$C$3:$N$40,9,FALSE)","v":{"$error":"#N/A"}},{"$f":"VLOOKUP(C17,Guisley!$C$3:$N$49,9,FALSE)","v":{"$error":"#N/A"}},{"$f":"VLOOKUP(C17,Odda!$C$3:$N$42,9,FALSE)","v":{"$error":"#N/A"}},{"$f":"VLOOKUP(C17,'Leeds half'!$C$4:$N$31,9,FALSE)","v":0.68156531747554194},{"$f":"VLOOKUP(C17,Ilkley!$C$3:$L$46,7,FALSE)","v":{"$error":"#N/A"}},{"$f":"VLOOKUP(C17,Otley!$C$3:$L$46,9,FALSE)","v":{"$error":"#N/A"}},{"$f":"VLOOKUP(C17,Solstice!$C$3:$L$48,7,FALSE)","v":{"$error":"#N/A"}},{"$f":"VLOOKUP(C17,Eccup!$C$3:$L$46,9,FALSE)","v":{"$error":"#N/A"}},null,{"$f":"VLOOKUP(C17,Shakerr!$C$3:$L$46,7,FALSE)","v":{"$error":"#N/A"}},{"$f":"VLOOKUP(C17,VoY!$C$3:$L$46,9,FALSE)","v":{"$error":"#N/A"}},{"$f":"VLOOKUP(C17,Kirkstall!$C$3:$L$46,9,FALSE)","v":{"$error":"#N/A"}},{"$f":"VLOOKUP($C17,City!$C$3:$L$69,9,FALSE)","v":{"$error":"#N/A"}},{"$f":"VLOOKUP(C17,'Guy Fawkes'!$C$3:$N$34,9,FALSE)","v":{"$error":"#N/A"}},{"$f":"VLOOKUP(C17,Abbey!$C$3:$L$48,7,FALSE)","v":0.75894538606403017},{"$f":"VLOOKUP(C17,Chevin!$C$3:$L$50,7,FALSE)","v":{"$error":"#N/A"}},null,0,0,0,0,0,0,0,0,1,0,0,0,0,0,0,0,0,0,0,2,0,2]
[null,null,"Amy Barker","1990-08-30",26,{"$f":"IFERROR(VLOOKUP(C18,'Division Lookup'!$A$2:$D$251,4,FALSE),\"Second\")","v":"Second"},{"$f":"VLOOKUP(C18,Dewsbury!$C$3:$L$46,7,FALSE)","v":{"$error":"#N/A"}},{"$f":"VLOOKUP($C18,Bradford!$C$3:$L$66,7,FALSE)","v":{"$error":"#N/A"}},{"$f":"VLOOKUP($C18,Keighley!$C$3:$N$42,9,FALSE)","v":{"$error":"#N/A"}},{"$f":"VLOOKUP($C18,'Bunny '!$C$3:$N$20,9,FALSE)","v":{"$error":"#N/A"}},{"$f":"VLOOKUP($C18,Liverpool!$C$3:$N$59,9,FALSE)","v":{"$error":"#N/A"}},{"$f":"VLOOKUP(C18,'VoY 10m'!$C$3:$N$40,9,FALSE)","v":{"$error":"#N/A"}},{"$f":"VLOOKUP(C18,Guisley!$C$3:$N$49,9,FALSE)","v":{"$error":"#N/A"}},{"$f":"VLOOKUP(C18,Odda!$C$3:$N$42,9,FALSE)","v":{"$error":"#N/A"}},{"$f":"VLOOKUP(C18,'Leeds half'!$C$4:$N$31,9,FALSE)","v":{"$error":"#N/A"}},{"$f":"VLOOKUP(C18,Ilkley!$C$3:$L$46,7,FALSE)","v":{"$error":"#N/A"}},{"$f":"VLOOKUP(C18,Otley!$C$3:$L$46,9,FALSE)","v":{"$error":"#N/A"}},{"$f":"VLOOKUP(C18,Solstice!$C$3:$L$48,7,FALSE)","v":{"$error":"#N/A"}},{"$f":"VLOOKUP(C18,Eccup!$C$3:$L$46,9,FALSE)","v":{"$error":"#N/A"}},null,{"$f":"VLOOKUP(C18,Shakerr!$C$3:$L$46,7,FALSE)","v":{"$error":"#N/A"}},{"$f":"VLOOKUP(C18,VoY!$C$3:$L$46,9,FALSE)","v":{"$error":"#N/A"}},{"$f":"VLOOKUP(C18,Kirkstall!$C$3:$L$46,9,FALSE)","v":{"$error":"#N/A"}},{"$f":"VLOOKUP($C18,City!$C$3:$L$69,9,FALSE)","v":{"$error":"#N/A"}},{"$f":"VLOOKUP(C18,'Guy Fawkes'!$C$3:$N$34,9,FALSE)","v":{"$error":"#N/A"}},{"$f":"VLOOKUP(C18,Abbey!$C$3:$L$48,7,FALSE)","v":{"$error":"#N/A"}},{"$f":"VLOOKUP(C18,Chevin!$C$3:$L$50,7,FALSE)","v":{"$error":"#N/A"}},null,0,0,0,0,0,0,0,0,0,0,0,0,0,0,0,0,0,0,0,0,0,0]
[null,null,"Craig Barrow","1964-10-08",52,{"$f":"IFERROR(VLOOKUP(C19,'Division Lookup'!$A$2:$D$251,4,FALSE),\"Second\")","v":"Second"},{"$f":"VLOOKUP(C19,Dewsbury!$C$3:$L$46,7,FALSE)","v":{"$error":"#N/A"}},{"$f":"VLOOKUP($C19,Bradford!$C$3:$L$66,7,FALSE)","v":{"$error":"#N/A"}},{"$f":"VLOOKUP($C19,Keighley!$C$3:$N$42,9,FALSE)","v":{"$error":"#N/A"}},{"$f":"VLOOKUP($C19,'Bunny '!$C$3:$N$20,9,FALSE)","v":{"$error":"#N/A"}},{"$f":"VLOOKUP($C19,Liverpool!$C$3:$N$59,9,FALSE)","v":{"$error":"#N/A"}},{"$f":"VLOOKUP(C19,'VoY 10m'!$C$3:$N$40,9,FALSE)","v":{"$error":"#N/A"}},{"$f":"VLOOKUP(C19,Guisley!$C$3:$N$49,9,FALSE)","v":{"$error":"#N/A"}},{"$f":"VLOOKUP(C19,Odda!$C$3:$N$42,9,FALSE)","v":{"$error":"#N/A"}},{"$f":"VLOOKUP(C19,'Leeds half'!$C$4:$N$31,9,FALSE)","v":{"$error":"#N/A"}},{"$f":"VLOOKUP(C19,Ilkley!$C$3:$L$46,7,FALSE)","v":{"$error":"#N/A"}},{"$f":"VLOOKUP(C19,Otley!$C$3:$L$46,9,FALSE)","v":{"$error":"#N/A"}},{"$f":"VLOOKUP(C19,Solstice!$C$3:$L$48,7,FALSE)","v":0.38653496230829226},{"$f":"VLOOKUP(C19,Eccup!$C$3:$L$46,9,FALSE)","v":{"$error":"#N/A"}},null,{"$f":"VLOOKUP(C19,Shakerr!$C$3:$L$46,7,FALSE)","v":{"$error":"#N/A"}},{"$f":"VLOOKUP(C19,VoY!$C$3:$L$46,9,FALSE)","v":{"$error":"#N/A"}},{"$f":"VLOOKUP(C19,Kirkstall!$C$3:$L$46,9,FALSE)","v":{"$error":"#N/A"}},{"$f":"VLOOKUP($C19,City!$C$3:$L$69,9,FALSE)","v":{"$error":"#N/A"}},{"$f":"VLOOKUP(C19,'Guy Fawkes'!$C$3:$N$34,9,FALSE)","v":{"$error":"#N/A"}},{"$f":"VLOOKUP(C19,Abbey!$C$3:$L$48,7,FALSE)","v":{"$error":"#N/A"}},{"$f":"VLOOKUP(C19,Chevin!$C$3:$L$50,7,FALSE)","v":{"$error":"#N/A"}},null,0,0,0,0,0,0,0,0,0,0,0,15,0,0,0,0,0,0,0,0,0,1]
[null,null,"Emma Barrow","1969-04-10",47,{"$f":"IFERROR(VLOOKUP(C20,'Division Lookup'!$A$2:$D$251,4,FALSE),\"Second\")","v":"Second"},{"$f":"VLOOKUP(C20,Dewsbury!$C$3:$L$46,7,FALSE)","v":{"$error":"#N/A"}},{"$f":"VLOOKUP($C20,Bradford!$C$3:$L$66,7,FALSE)","v":{"$error":"#N/A"}},{"$f":"VLOOKUP($C20,Keighley!$C$3:$N$42,9,FALSE)","v":{"$error":"#N/A"}},{"$f":"VLOOKUP($C20,'Bunny '!$C$3:$N$20,9,FALSE)","v":{"$error":"#N/A"}},{"$f":"VLOOKUP($C20,Liverpool!$C$3:$N$59,9,FALSE)","v":{"$error":"#N/A"}},{"$f":"VLOOKUP(C20,'VoY 10m'!$C$3:$N$40,9,FALSE)","v":{"$error":"#N/A"}},{"$f":"VLOOKUP(C20,Guisley!$C$3:$N$49,9,FALSE)","v":{"$error":"#N/A"}},{"$f":"VLOOKUP(C20,Odda!$C$3:$N$42,9,FALSE)","v":{"$error":"#N/A"}},{"$f":"VLOOKUP(C20,'Leeds half'!$C$4:$N$31,9,FALSE)","v":{"$error":"#N/A"}},{"$f":"VLOOKUP(C20,Ilkley!$C$3:$L$46,7,FALSE)","v":{"$error":"#N/A"}},{"$f":"VLOOKUP(C20,Otley!$C$3:$L$46,9,FALSE)","v":{"$error":"#N/A"}},{"$f":"VLOOKUP(C20,Solstice!$C$3:$L$48,7,FALSE)","v":0.34861781483106624},{"$f":"VLOOKUP(C20,Eccup!$C$3:$L$46,9,FALSE)","v":{"$error":"#N/A"}},null,{"$f":"VLOOKUP(C20,Shakerr!$C$3:$L$46,7,FALSE)","v":{"$error":"#N/A"}},{"$f":"VLOOKUP(C20,VoY!$C$3:$L$46,9,FALSE)","v":{"$error":"#N/A"}},{"$f":"VLOOKUP(C20,Kirkstall!$C$3:$L$46,9,FALSE)","v":{"$error":"#N/A"}},{"$f":"VLOOKUP($C20,City!$C$3:$L$69,9,FALSE)","v":{"$error":"#N/A"}},{"$f":"VLOOKUP(C20,'Guy Fawkes'!$C$3:$N$34,9,FALSE)","v":{"$error":"#N/A"}},{"$f":"VLOOKUP(C20,Abbey!$C$3:$L$48,7,FALSE)","v":{"$error":"#N/A"}},{"$f":"VLOOKUP(C20,Chevin!$C$3:$L$50,7,FALSE)","v":{"$error":"#N/A"}},null,0,0,0,0,0,0,0,0,0,0,0,17,0,0,0,0,0,0,0,0,0,1]
[null,null,"Rhiannon Barrow","1996-08-29",20,{"$f":"IFERROR(VLOOKUP(C21,'Division Lookup'!$A$2:$D$251,4,FALSE),\"Second\")","v":"Second"},{"$f":"VLOOKUP(C21,Dewsbury!$C$3:$L$46,7,FALSE)","v":{"$error":"#N/A"}},{"$f":"VLOOKUP($C21,Bradford!$C$3:$L$66,7,FALSE)","v":{"$error":"#N/A"}},{"$f":"VLOOKUP($C21,Keighley!$C$3:$N$42,9,FALSE)","v":{"$error":"#N/A"}},{"$f":"VLOOKUP($C21,'Bunny '!$C$3:$N$20,9,FALSE)","v":{"$error":"#N/A"}},{"$f":"VLOOKUP($C21,Liverpool!$C$3:$N$59,9,FALSE)","v":{"$error":"#N/A"}},{"$f":"VLOOKUP(C21,'VoY 10m'!$C$3:$N$40,9,FALSE)","v":{"$error":"#N/A"}},{"$f":"VLOOKUP(C21,Guisley!$C$3:$N$49,9,FALSE)","v":{"$error":"#N/A"}},{"$f":"VLOOKUP(C21,Odda!$C$3:$N$42,9,FALSE)","v":{"$error":"#N/A"}},{"$f":"VLOOKUP(C21,'Leeds half'!$C$4:$N$31,9,FALSE)","v":{"$error":"#N/A"}},{"$f":"VLOOKUP(C21,Ilkley!$C$3:$L$46,7,FALSE)","v":{"$error":"#N/A"}},{"$f":"VLOOKUP(C21,Otley!$C$3:$L$46,9,FALSE)","v":{"$error":"#N/A"}},{"$f":"VLOOKUP(C21,Solstice!$C$3:$L$48,7,FALSE)","v":{"$error":"#N/A"}},{"$f":"VLOOKUP(C21,Eccup!$C$3:$L$46,9,FALSE)","v":{"$error":"#N/A"}},null,{"$f":"VLOOKUP(C21,Shakerr!$C$3:$L$46,7,FALSE)","v":{"$error":"#N/A"}},{"$f":"VLOOKUP(C21,VoY!$C$3:$L$46,9,FALSE)","v":{"$error":"#N/A"}},{"$f":"VLOOKUP(C21,Kirkstall!$C$3:$L$46,9,FALSE)","v":{"$error":"#N/A"}},{"$f":"VLOOKUP($C21,City!$C$3:$L$69,9,FALSE)","v":{"$error":"#N/A"}},{"$f":"VLOOKUP(C21,'Guy Fawkes'!$C$3:$N$34,9,FALSE)","v":{"$error":"#N/A"}},{"$f":"VLOOKUP(C21,Abbey!$C$3:$L$48,7,FALSE)","v":{"$error":"#N/A"}},{"$f":"VLOOKUP(C21,Chevin!$C$3:$L$50,7,FALSE)","v":{"$error":"#N/A"}},null,0,0,0,0,0,0,0,0,0,0,0,0,0,0,0,0,0,0,0,0,0,0]
[null,null,"jennifer bartlett","1975-04-23",41,{"$f":"IFERROR(VLOOKUP(C22,'Division Lookup'!$A$2:$D$251,4,FALSE),\"Second\")","v":"Second"},{"$f":"VLOOKUP(C22,Dewsbury!$C$3:$L$46,7,FALSE)","v":{"$error":"#N/A"}},{"$f":"VLOOKUP($C22,Bradford!$C$3:$L$66,7,FALSE)","v":{"$error":"#N/A"}},{"$f":"VLOOKUP($C22,Keighley!$C$3:$N$42,9,FALSE)","v":{"$error":"#N/A"}},{"$f":"VLOOKUP($C22,'Bunny '!$C$3:$N$20,9,FALSE)","v":{"$error":"#N/A"}},{"$f":"VLOOKUP($C22,Liverpool!$C$3:$N$59,9,FALSE)","v":{"$error":"#N/A"}},{"$f":"VLOOKUP(C22,'VoY 10m'!$C$3:$N$40,9,FALSE)","v":{"$error":"#N/A"}},{"$f":"VLOOKUP(C22,Guisley!$C$3:$N$49,9,FALSE)","v":{"$error":"#N/A"}},{"$f":"VLOOKUP(C22,Odda!$C$3:$N$42,9,FALSE)","v":{"$error":"#N/A"}},{"$f":"VLOOKUP(C22,'Leeds half'!$C$4:$N$31,9,FALSE)","v":{"$error":"#N/A"}},{"$f":"VLOOKUP(C22,Ilkley!$C$3:$L$46,7,FALSE)","v":{"$error":"#N/A"}},{"$f":"VLOOKUP(C22,Otley!$C$3:$L$46,9,FALSE)","v":{"$error":"#N/A"}},{"$f":"VLOOKUP(C22,Solstice!$C$3:$L$48,7,FALSE)","v":0.4822740338549984},{"$f":"VLOOKUP(C22,Eccup!$C$3:$L$46,9,FALSE)","v":{"$error":"#N/A"}},null,{"$f":"VLOOKUP(C22,Shakerr!$C$3:$L$46,7,FALSE)","v":{"$error":"#N/A"}},{"$f":"VLOOKUP(C22,VoY!$C$3:$L$46,9,FALSE)","v":{"$error":"#N/A"}},{"$f":"VLOOKUP(C22,Kirkstall!$C$3:$L$46,9,FALSE)","v":{"$error":"#N/A"}},{"$f":"VLOOKUP($C22,City!$C$3:$L$69,9,FALSE)","v":{"$error":"#N/A"}},{"$f":"VLOOKUP(C22,'Guy Fawkes'!$C$3:$N$34,9,FALSE)","v":{"$error":"#N/A"}},{"$f":"VLOOKUP(C22,Abbey!$C$3:$L$48,7,FALSE)","v":0.59934210526315801},{"$f":"VLOOKUP(C22,Chevin!$C$3:$L$50,7,FALSE)","v":{"$error":"#N/A"}},null,0,0,0,0,0,0,0,0,0,0,0,10,0,0,0,0,0,0,0,9,0,2]
[null,null,"rifat bashir","1974-11-26",42,{"$f":"IFERROR(VLOOKUP(C23,'Division Lookup'!$A$2:$D$251,4,FALSE),\"Second\")","v":"Second"},{"$f":"VLOOKUP(C23,Dewsbury!$C$3:$L$46,7,FALSE)","v":{"$error":"#N/A"}},{"$f":"VLOOKUP($C23,Bradford!$C$3:$L$66,7,FALSE)","v":{"$error":"#N/A"}},{"$f":"VLOOKUP($C23,Keighley!$C$3:$N$42,9,FALSE)","v":{"$error":"#N/A"}},{"$f":"VLOOKUP($C23,'Bunny '!$C$3:$N$20,9,FALSE)","v":{"$error":"#N/A"}},{"$f":"VLOOKUP($C23,Liverpool!$C$3:$N$59,9,FALSE)","v":{"$error":"#N/A"}},{"$f":"VLOOKUP(C23,'VoY 10m'!$C$3:$N$40,9,FALSE)","v":{"$error":"#N/A"}},{"$f":"VLOOKUP(C23,Guisley!$C$3:$N$49,9,FALSE)","v":{"$error":"#N/A"}},{"$f":"VLOOKUP(C23,Odda!$C$3:$N$42,9,FALSE)","v":{"$error":"#N/A"}},{"$f":"VLOOKUP(C23,'Leeds half'!$C$4:$N$31,9,FALSE)","v":{"$error":"#N/A"}},{"$f":"VLOOKUP(C23,Ilkley!$C$3:$L$46,7,FALSE)","v":{"$error":"#N/A"}},{"$f":"VLOOKUP(C23,Otley!$C$3:$L$46,9,FALSE)","v":{"$error":"#N/A"}},{"$f":"VLOOKUP(C23,Solstice!$C$3:$L$48,7,FALSE)","v":{"$error":"#N/A"}},{"$f":"VLOOKUP(C23,Eccup!$C$3:$L$46,9,FALSE)","v":{"$error":"#N/A"}},null,{"$f":"VLOOKUP(C23,Shakerr!$C$3:$L$46,7,FALSE)","v":{"$error":"#N/A"}},{"$f":"VLOOKUP(C23,VoY!$C$3:$L$46,9,FALSE)","v":{"$error":"#N/A"}},{"$f":"VLOOKUP(C23,Kirkstall!$C$3:$L$46,9,FALSE)","v":{"$error":"#N/A"}},{"$f":"VLOOKUP($C23,City!$C$3:$L$69,9,FALSE)","v":{"$error":"#N/A"}},{"$f":"VLOOKUP(C23,'Guy Fawkes'!$C$3:$N$34,9,FALSE)","v":{"$error":"#N/A"}},{"$f":"VLOOKUP(C23,Abbey!$C$3:$L$48,7,FALSE)","v":{"$error":"#N/A"}},{"$f":"VLOOKUP(C23,Chevin!$C$3:$L$50,7,FALSE)","v":{"$error":"#N/A"}},null,0,0,0,0,0,0,0,0,0,0,0,0,0,0,0,0,0,0,0,0,0,0]
[null,null,"Heather Bayliss","1979-10-05",37,{"$f":"IFERROR(VLOOKUP(C24,'Division Lookup'!$A$2:$D$251,4,FALSE),\"Second\")","v":"Second"},{"$f":"VLOOKUP(C24,Dewsbury!$C$3:$L$46,7,FALSE)","v":{"$error":"#N/A"}},{"$f":"VLOOKUP($C24,Bradford!$C$3:$L$66,7,FALSE)","v":0.45805493689680771},{"$f":"VLOOKUP($C24,Keighley!$C$3:$N$42,9,FALSE)","v":0.46159600997506234},{"$f":"VLOOKUP($C24,'Bunny '!$C$3:$N$20,9,FALSE)","v":{"$error":"#N/A"}},{"$f":"VLOOKUP($C24,Liverpool!$C$3:$N$59,9,FALSE)","v":{"$error":"#N/A"}},{"$f":"VLOOKUP(C24,'VoY 10m'!$C$3:$N$40,9,FALSE)","v":{"$error":"#N/A"}},{"$f":"VLOOKUP(C24,Guisley!$C$3:$N$49,9,FALSE)","v":{"$error":"#N/A"}},{"$f":"VLOOKUP(C24,Odda!$C$3:$N$42,9,FALSE)","v":{"$error":"#N/A"}},{"$f":"VLOOKUP(C24,'Leeds half'!$C$4:$N$31,9,FALSE)","v":{"$error":"#N/A"}},{"$f":"VLOOKUP(C24,Ilkley!$C$3:$L$46,7,FALSE)","v":{"$error":"#N/A"}},{"$f":"VLOOKUP(C24,Otley!$C$3:$L$46,9,FALSE)","v":{"$error":"#N/A"}},{"$f":"VLOOKUP(C24,Solstice!$C$3:$L$48,7,FALSE)","v":0.4031113537117903},{"$f":"VLOOKUP(C24,Eccup!$C$3:$L$46,9,FALSE)","v":{"$error":"#N/A"}},null,{"$f":"VLOOKUP(C24,Shakerr!$C$3:$L$46,7,FALSE)","v":0.32576557550158397},{"$f":"VLOOKUP(C24,VoY!$C$3:$L$46,9,FALSE)","v":{"$error":"#N/A"}},{"$f":"VLOOKUP(C24,Kirkstall!$C$3:$L$46,9,FALSE)","v":{"$error":"#N/A"}},{"$f":"VLOOKUP($C24,City!$C$3:$L$69,9,FALSE)","v":0.41684822076978939},{"$f":"VLOOKUP(C24,'Guy Fawkes'!$C$3:$N$34,9,FALSE)","v":{"$error":"#N/A"}},{"$f":"VLOOKUP(C24,Abbey!$C$3:$L$48,7,FALSE)","v":{"$error":"#N/A"}},{"$f":"VLOOKUP(C24,Chevin!$C$3:$L$50,7,FALSE)","v":{"$error":"#N/A"}},null,0,23,9,0,0,0,0,0,0,0,0,13,0,0,14,0,0,14,0,0,0,5]
[null,null,"Julia Beaumont","1960-04-22",56,{"$f":"IFERROR(VLOOKUP(C25,'Division Lookup'!$A$2:$D$251,4,FALSE),\"Second\")","v":"Second"},{"$f":"VLOOKUP(C25,Dewsbury!$C$3:$L$46,7,FALSE)","v":{"$error":"#N/A"}},{"$f":"VLOOKUP($C25,Bradford!$C$3:$L$66,7,FALSE)","v":0.5613813965213007},{"$f":"VLOOKUP($C25,Keighley!$C$3:$N$42,9,FALSE)","v":0.54066521000242784},{"$f":"VLOOKUP($C25,'Bunny '!$C$3:$N$20,9,FALSE)","v":{"$error":"#N/A"}},{"$f":"VLOOKUP($C25,Liverpool!$C$3:$N$59,9,FALSE)","v":{"$error":"#N/A"}},{"$f":"VLOOKUP(C25,'VoY 10m'!$C$3:$N$40,9,FALSE)","v":{"$error":"#N/A"}},{"$f":"VLOOKUP(C25,Guisley!$C$3:$N$49,9,FALSE)","v":{"$error":"#N/A"}},{"$f":"VLOOKUP(C25,Odda!$C$3:$N$42,9,FALSE)","v":{"$error":"#N/A"}},{"$f":"VLOOKUP(C25,'Leeds half'!$C$4:$N$31,9,FALSE)","v":{"$error":"#N/A"}},{"$f":"VLOOKUP(C25,Ilkley!$C$3:$L$46,7,FALSE)","v":{"$error":"#N/A"}},{"$f":"VLOOKUP(C25,Otley!$C$3:$L$46,9,FALSE)","v":{"$error":"#N/A"}},{"$f":"VLOOKUP(C25,Solstice!$C$3:$L$48,7,FALSE)","v":{"$error":"#N/A"}},{"$f":"VLOOKUP(C25,Eccup!$C$3:$L$46,9,FALSE)","v":{"$error":"#N/A"}},null,{"$f":"VLOOKUP(C25,Shakerr!$C$3:$L$46,7,FALSE)","v":{"$error":"#N/A"}},{"$f":"VLOOKUP(C25,VoY!$C$3:$L$46,9,FALSE)","v":{"$error":"#N/A"}},{"$f":"VLOOKUP(C25,Kirkstall!$C$3:$L$46,9,FALSE)","v":{"$error":"#N/A"}},{"$f":"VLOOKUP($C25,City!$C$3:$L$69,9,FALSE)","v":{"$error":"#N/A"}},{"$f":"VLOOKUP(C25,'Guy Fawkes'!$C$3:$N$34,9,FALSE)","v":{"$error":"#N/A"}},{"$f":"VLOOKUP(C25,Abbey!$C$3:$L$48,7,FALSE)","v":{"$error":"#N/A"}},{"$f":"VLOOKUP(C25,Chevin!$C$3:$L$50,7,FALSE)","v":{"$error":"#N/A"}},null,0,13,8,0,0,0,0,0,0,0,0,0,0,0,0,0,0,0,0,0,0,2]
[null,null,"Frank Beecroft","1965-09-18",51,{"$f":"IFERROR(VLOOKUP(C26,'Division Lookup'!$A$2:$D$251,4,FALSE),\"Second\")","v":"Premier"},{"$f":"VLOOKUP(C26,Dewsbury!$C$3:$L$46,7,FALSE)","v":{"$error":"#N/A"}},{"$f":"VLOOKUP($C26,Bradford!$C$3:$L$66,7,FALSE)","v":0.53377407300948543},{"$f":"VLOOKUP($C26,Keighley!$C$3:$N$42,9,FALSE)","v":{"$error":"#N/A"}},{"$f":"VLOOKUP($C26,'Bunny '!$C$3:$N$20,9,FALSE)","v":{"$error":"#N/A"}},{"$f":"VLOOKUP($C26,Liverpool!$C$3:$N$59,9,FALSE)","v":0.60731414868105504},{"$f":"VLOOKUP(C26,'VoY 10m'!$C$3:$N$40,9,FALSE)","v":{"$error":"#N/A"}},{"$f":"VLOOKUP(C26,Guisley!$C$3:$N$49,9,FALSE)","v":{"$error":"#N/A"}},{"$f":"VLOOKUP(C26,Odda!$C$3:$N$42,9,FALSE)","v":{"$error":"#N/A"}},{"$f":"VLOOKUP(C26,'Leeds half'!$C$4:$N$31,9,FALSE)","v":0.55476451259583792},{"$f":"VLOOKUP(C26,Ilkley!$C$3:$L$46,7,FALSE)","v":{"$error":"#N/A"}},{"$f":"VLOOKUP(C26,Otley!$C$3:$L$46,9,FALSE)","v":{"$error":"#N/A"}},{"$f":"VLOOKUP(C26,Solstice!$C$3:$L$48,7,FALSE)","v":{"$error":"#N/A"}},{"$f":"VLOOKUP(C26,Eccup!$C$3:$L$46,9,FALSE)","v":{"$error":"#N/A"}},null,{"$f":"VLOOKUP(C26,Shakerr!$C$3:$L$46,7,FALSE)","v":{"$error":"#N/A"}},{"$f":"VLOOKUP(C26,VoY!$C$3:$L$46,9,FALSE)","v":{"$error":"#N/A"}},{"$f":"VLOOKUP(C26,Kirkstall!$C$3:$L$46,9,FALSE)","v":{"$error":"#N/A"}},{"$f":"VLOOKUP($C26,City!$C$3:$L$69,9,FALSE)","v":0.61957186544342513},{"$f":"VLOOKUP(C26,'Guy Fawkes'!$C$3:$N$34,9,FALSE)","v":{"$error":"#N/A"}},{"$f":"VLOOKUP(C26,Abbey!$C$3:$L$48,7,FALSE)","v":0.63163265306122462},{"$f":"VLOOKUP(C26,Chevin!$C$3:$L$50,7,FALSE)","v":{"$error":"#N/A"}},null,0,16,0,0,12,0,0,0,5,0,0,0,0,0,0,0,0,13,0,4,0,5]
[null,null,"Gemma Bell","1979-06-09",37,{"$f":"IFERROR(VLOOKUP(C27,'Division Lookup'!$A$2:$D$251,4,FALSE),\"Second\")","v":"Second"},{"$f":"VLOOKUP(C27,Dewsbury!$C$3:$L$46,7,FALSE)","v":{"$error":"#N/A"}},{"$f":"VLOOKUP($C27,Bradford!$C$3:$L$66,7,FALSE)","v":{"$error":"#N/A"}},{"$f":"VLOOKUP($C27,Keighley!$C$3:$N$42,9,FALSE)","v":{"$error":"#N/A"}},{"$f":"VLOOKUP($C27,'Bunny '!$C$3:$N$20,9,FALSE)","v":{"$error":"#N/A"}},{"$f":"VLOOKUP($C27,Liverpool!$C$3:$N$59,9,FALSE)","v":{"$error":"#N/A"}},{"$f":"VLOOKUP(C27,'VoY 10m'!$C$3:$N$40,9,FALSE)","v":{"$error":"#N/A"}},{"$f":"VLOOKUP(C27,Guisley!$C$3:$N$49,9,FALSE)","v":{"$error":"#N/A"}},{"$f":"VLOOKUP(C27,Odda!$C$3:$N$42,9,FALSE)","v":{"$error":"#N/A"}},{"$f":"VLOOKUP(C27,'Leeds half'!$C$4:$N$31,9,FALSE)","v":{"$error":"#N/A"}},{"$f":"VLOOKUP(C27,Ilkley!$C$3:$L$46,7,FALSE)","v":{"$error":"#N/A"}},{"$f":"VLOOKUP(C27,Otley!$C$3:$L$46,9,FALSE)","v":{"$error":"#N/A"}},{"$f":"VLOOKUP(C27,Solstice!$C$3:$L$48,7,FALSE)","v":0.52301699716713868},{"$f":"VLOOKUP(C27,Eccup!$C$3:$L$46,9,FALSE)","v":{"$error":"#N/A"}},null,{"$f":"VLOOKUP(C27,Shakerr!$C$3:$L$46,7,FALSE)","v":{"$error":"#N/A"}},{"$f":"VLOOKUP(C27,VoY!$C$3:$L$46,9,FALSE)","v":{"$error":"#N/A"}},{"$f":"VLOOKUP(C27,Kirkstall!$C$3:$L$46,9,FALSE)","v":{"$error":"#N/A"}},{"$f":"VLOOKUP($C27,City!$C$3:$L$69,9,FALSE)","v":{"$error":"#N/A"}},{"$f":"VLOOKUP(C27,'Guy Fawkes'!$C$3:$N$34,9,FALSE)","v":{"$error":"#N/A"}},{"$f":"VLOOKUP(C27,Abbey!$C$3:$L$48,7,FALSE)","v":{"$error":"#N/A"}},{"$f":"VLOOKUP(C27,Chevin!$C$3:$L$50,7,FALSE)","v":{"$error":"#N/A"}},null,0,0,0,0,0,0,0,0,0,0,0,5,0,0,0,0,0,0,0,0,0,1]
[null,null,"Amanda  Bellwood","1977-03-31",39,{"$f":"IFERROR(VLOOKUP(C28,'Division Lookup'!$A$2:$D$251,4,FALSE),\"Second\")","v":"Second"},{"$f":"VLOOKUP(C28,Dewsbury!$C$3:$L$46,7,FALSE)","v":{"$error":"#N/A"}},{"$f":"VLOOKUP($C28,Bradford!$C$3:$L$66,7,FALSE)","v":{"$error":"#N/A"}},{"$f":"VLOOKUP($C28,Keighley!$C$3:$N$42,9,FALSE)","v":{"$error":"#N/A"}},{"$f":"VLOOKUP($C28,'Bunny '!$C$3:$N$20,9,FALSE)","v":{"$error":"#N/A"}},{"$f":"VLOOKUP($C28,Liverpool!$C$3:$N$59,9,FALSE)","v":{"$error":"#N/A"}},{"$f":"VLOOKUP(C28,'VoY 10m'!$C$3:$N$40,9,FALSE)","v":{"$error":"#N/A"}},{"$f":"VLOOKUP(C28,Guisley!$C$3:$N$49,9,FALSE)","v":0.54457676214998385},{"$f":"VLOOKUP(C28,Odda!$C$3:$N$42,9,FALSE)","v":{"$error":"#N/A"}},{"$f":"VLOOKUP(C28,'Leeds half'!$C$4:$N$31,9,FALSE)","v":{"$error":"#N/A"}},{"$f":"VLOOKUP(C28,Ilkley!$C$3:$L$46,7,FALSE)","v":{"$error":"#N/A"}},{"$f":"VLOOKUP(C28,Otley!$C$3:$L$46,9,FALSE)","v":{"$error":"#N/A"}},{"$f":"VLOOKUP(C28,Solstice!$C$3:$L$48,7,FALSE)","v":{"$error":"#N/A"}},{"$f":"VLOOKUP(C28,Eccup!$C$3:$L$46,9,FALSE)","v":{"$error":"#N/A"}},null,{"$f":"VLOOKUP(C28,Shakerr!$C$3:$L$46,7,FALSE)","v":{"$error":"#N/A"}},{"$f":"VLOOKUP(C28,VoY!$C$3:$L$46,9,FALSE)","v":{"$error":"#N/A"}},{"$f":"VLOOKUP(C28,Kirkstall!$C$3:$L$46,9,FALSE)","v":{"$error":"#N/A"}},{"$f":"VLOOKUP($C28,City!$C$3:$L$69,9,FALSE)","v":{"$error":"#N/A"}},{"$f":"VLOOKUP(C28,'Guy Fawkes'!$C$3:$N$34,9,FALSE)","v":{"$error":"#N/A"}},{"$f":"VLOOKUP(C28,Abbey!$C$3:$L$48,7,FALSE)","v":{"$error":"#N/A"}},{"$f":"VLOOKUP(C28,Chevin!$C$3:$L$50,7,FALSE)","v":{"$error":"#N/A"}},null,0,0,0,0,0,0,6,0,0,0,0,0,0,0,0,0,0,0,0,0,0,1]
[null,null,"tim bellwood","1976-10-29",40,{"$f":"IFERROR(VLOOKUP(C29,'Division Lookup'!$A$2:$D$251,4,FALSE),\"Second\")","v":"Second"},{"$f":"VLOOKUP(C29,Dewsbury!$C$3:$L$46,7,FALSE)","v":{"$error":"#N/A"}},{"$f":"VLOOKUP($C29,Bradford!$C$3:$L$66,7,FALSE)","v":{"$error":"#N/A"}},{"$f":"VLOOKUP($C29,Keighley!$C$3:$N$42,9,FALSE)","v":{"$error":"#N/A"}},{"$f":"VLOOKUP($C29,'Bunny '!$C$3:$N$20,9,FALSE)","v":{"$error":"#N/A"}},{"$f":"VLOOKUP($C29,Liverpool!$C$3:$N$59,9,FALSE)","v":{"$error":"#N/A"}},{"$f":"VLOOKUP(C29,'VoY 10m'!$C$3:$N$40,9,FALSE)","v":{"$error":"#N/A"}},{"$f":"VLOOKUP(C29,Guisley!$C$3:$N$49,9,FALSE)","v":0.54664956716896451},{"$f":"VLOOKUP(C29,Odda!$C$3:$N$42,9,FALSE)","v":{"$error":"#N/A"}},{"$f":"VLOOKUP(C29,'Leeds half'!$C$4:$N$31,9,FALSE)","v":{"$error":"#N/A"}},{"$f":"VLOOKUP(C29,Ilkley!$C$3:$L$46,7,FALSE)","v":{"$error":"#N/A"}},{"$f":"VLOOKUP(C29,Otley!$C$3:$L$46,9,FALSE)","v":{"$error":"#N/A"}},{"$f":"VLOOKUP(C29,Solstice!$C$3:$L$48,7,FALSE)","v":{"$error":"#N/A"}},{"$f":"VLOOKUP(C29,Eccup!$C$3:$L$46,9,FALSE)","v":{"$error":"#N/A"}},null,{"$f":"VLOOKUP(C29,Shakerr!$C$3:$L$46,7,FALSE)","v":{"$error":"#N/A"}},{"$f":"VLOOKUP(C29,VoY!$C$3:$L$46,9,FALSE)","v":{"$error":"#N/A"}},{"$f":"VLOOKUP(C29,Kirkstall!$C$3:$L$46,9,FALSE)","v":{"$error":"#N/A"}},{"$f":"VLOOKUP($C29,City!$C$3:$L$69,9,FALSE)","v":{"$error":"#N/A"}},{"$f":"VLOOKUP(C29,'Guy Fawkes'!$C$3:$N$34,9,FALSE)","v":{"$error":"#N/A"}},{"$f":"VLOOKUP(C29,Abbey!$C$3:$L$48,7,FALSE)","v":{"$error":"#N/A"}},{"$f":"VLOOKUP(C29,Chevin!$C$3:$L$50,7,FALSE)","v":{"$error":"#N/A"}},null,0,0,0,0,0,0,5,0,0,0,0,0,0,0,0,0,0,0,0,0,0,1]
[null,null,"Catherine Berry","1978-04-12",38,{"$f":"IFERROR(VLOOKUP(C30,'Division Lookup'!$A$2:$D$251,4,FALSE),\"Second\")","v":"Second"},{"$f":"VLOOKUP(C30,Dewsbury!$C$3:$L$46,7,FALSE)","v":{"$error":"#N/A"}},{"$f":"VLOOKUP($C30,Bradford!$C$3:$L$66,7,FALSE)","v":{"$error":"#N/A"}},{"$f":"VLOOKUP($C30,Keighley!$C$3:$N$42,9,FALSE)","v":{"$error":"#N/A"}},{"$f":"VLOOKUP($C30,'Bunny '!$C$3:$N$20,9,FALSE)","v":{"$error":"#N/A"}},{"$f":"VLOOKUP($C30,Liverpool!$C$3:$N$59,9,FALSE)","v":{"$error":"#N/A"}},{"$f":"VLOOKUP(C30,'VoY 10m'!$C$3:$N$40,9,FALSE)","v":{"$error":"#N/A"}},{"$f":"VLOOKUP(C30,Guisley!$C$3:$N$49,9,FALSE)","v":{"$error":"#N/A"}},{"$f":"VLOOKUP(C30,Odda!$C$3:$N$42,9,FALSE)","v":{"$error":"#N/A"}},{"$f":"VLOOKUP(C30,'Leeds half'!$C$4:$N$31,9,FALSE)","v":{"$error":"#N/A"}},{"$f":"VLOOKUP(C30,Ilkley!$C$3:$L$46,7,FALSE)","v":{"$error":"#N/A"}},{"$f":"VLOOKUP(C30,Otley!$C$3:$L$46,9,FALSE)","v":{"$error":"#N/A"}},{"$f":"VLOOKUP(C30,Solstice!$C$3:$L$48,7,FALSE)","v":{"$error":"#N/A"}},{"$f":"VLOOKUP(C30,Eccup!$C$3:$L$46,9,FALSE)","v":{"$error":"#N/A"}},null,{"$f":"VLOOKUP(C30,Shakerr!$C$3:$L$46,7,FALSE)","v":{"$error":"#N/A"}},{"$f":"VLOOKUP(C30,VoY!$C$3:$L$46,9,FALSE)","v":{"$error":"#N/A"}},{"$f":"VLOOKUP(C30,Kirkstall!$C$3:$L$46,9,FALSE)","v":{"$error":"#N/A"}},{"$f":"VLOOKUP($C30,City!$C$3:$L$69,9,FALSE)","v":{"$error":"#N/A"}},{"$f":"VLOOKUP(C30,'Guy Fawkes'!$C$3:$N$34,9,FALSE)","v":{"$error":"#N/A"}},{"$f":"VLOOKUP(C30,Abbey!$C$3:$L$48,7,FALSE)","v":0.49986982556625881},{"$f":"VLOOKUP(C30,Chevin!$C$3:$L$50,7,FALSE)","v":{"$error":"#N/A"}},null,0,0,0,0,0,0,0,0,0,0,0,0,0,0,0,0,0,0,0,20,0,1]
[null,null,"Craig  Beza","1984-07-24",32,{"$f":"IFERROR(VLOOKUP(C31,'Division Lookup'!$A$2:$D$251,4,FALSE),\"Second\")","v":"Second"},{"$f":"VLOOKUP(C31,Dewsbury!$C$3:$L$46,7,FALSE)","v":{"$error":"#N/A"}},{"$f":"VLOOKUP($C31,Bradford!$C$3:$L$66,7,FALSE)","v":{"$error":"#N/A"}},{"$f":"VLOOKUP($C31,Keighley!$C$3:$N$42,9,FALSE)","v":{"$error":"#N/A"}},{"$f":"VLOOKUP($C31,'Bunny '!$C$3:$N$20,9,FALSE)","v":{"$error":"#N/A"}},{"$f":"VLOOKUP($C31,Liverpool!$C$3:$N$59,9,FALSE)","v":{"$error":"#N/A"}},{"$f":"VLOOKUP(C31,'VoY 10m'!$C$3:$N$40,9,FALSE)","v":{"$error":"#N/A"}},{"$f":"VLOOKUP(C31,Guisley!$C$3:$N$49,9,FALSE)","v":{"$error":"#N/A"}},{"$f":"VLOOKUP(C31,Odda!$C$3:$N$42,9,FALSE)","v":{"$error":"#N/A"}},{"$f":"VLOOKUP(C31,'Leeds half'!$C$4:$N$31,9,FALSE)","v":{"$error":"#N/A"}},{"$f":"VLOOKUP(C31,Ilkley!$C$3:$L$46,7,FALSE)","v":{"$error":"#N/A"}},{"$f":"VLOOKUP(C31,Otley!$C$3:$L$46,9,FALSE)","v":{"$error":"#N/A"}},{"$f":"VLOOKUP(C31,Solstice!$C$3:$L$48,7,FALSE)","v":{"$error":"#N/A"}},{"$f":"VLOOKUP(C31,Eccup!$C$3:$L$46,9,FALSE)","v":{"$error":"#N/A"}},null,{"$f":"VLOOKUP(C31,Shakerr!$C$3:$L$46,7,FALSE)","v":{"$error":"#N/A"}},{"$f":"VLOOKUP(C31,VoY!$C$3:$L$46,9,FALSE)","v":0.60196476964769641},{"$f":"VLOOKUP(C31,Kirkstall!$C$3:$L$46,9,FALSE)","v":{"$error":"#N/A"}},{"$f":"VLOOKUP($C31,City!$C$3:$L$69,9,FALSE)","v":0.60687593423019437},{"$f":"VLOOKUP(C31,'Guy Fawkes'!$C$3:$N$34,9,FALSE)","v":{"$error":"#N/A"}},{"$f":"VLOOKUP(C31,Abbey!$C$3:$L$48,7,FALSE)","v":{"$error":"#N/A"}},{"$f":"VLOOKUP(C31,Chevin!$C$3:$L$50,7,FALSE)","v":{"$error":"#N/A"}},null,0,0,0,0,0,0,0,0,0,0,0,0,0,0,0,2,0,2,0,0,0,2]
[null,null,"Philippa Bird","1981-01-01",36,{"$f":"IFERROR(VLOOKUP(C32,'Division Lookup'!$A$2:$D$251,4,FALSE),\"Second\")","v":"Second"},{"$f":"VLOOKUP(C32,Dewsbury!$C$3:$L$46,7,FALSE)","v":{"$error":"#N/A"}},{"$f":"VLOOKUP($C32,Bradford!$C$3:$L$66,7,FALSE)","v":{"$error":"#N/A"}},{"$f":"VLOOKUP($C32,Keighley!$C$3:$N$42,9,FALSE)","v":0.57001545595054104},{"$f":"VLOOKUP($C32,'Bunny '!$C$3:$N$20,9,FALSE)","v":0.54086538461538458},{"$f":"VLOOKUP($C32,Liverpool!$C$3:$N$59,9,FALSE)","v":{"$error":"#N/A"}},{"$f":"VLOOKUP(C32,'VoY 10m'!$C$3:$N$40,9,FALSE)","v":{"$error":"#N/A"}},{"$f":"VLOOKUP(C32,Guisley!$C$3:$N$49,9,FALSE)","v":{"$error":"#N/A"}},{"$f":"VLOOKUP(C32,Odda!$C$3:$N$42,9,FALSE)","v":{"$error":"#N/A"}},{"$f":"VLOOKUP(C32,'Leeds half'!$C$4:$N$31,9,FALSE)","v":0.56517441039401228},{"$f":"VLOOKUP(C32,Ilkley!$C$3:$L$46,7,FALSE)","v":0.47209421402969798},{"$f":"VLOOKUP(C32,Otley!$C$3:$L$46,9,FALSE)","v":0.48970375722543352},{"$f":"VLOOKUP(C32,Solstice!$C$3:$L$48,7,FALSE)","v":{"$error":"#N/A"}},{"$f":"VLOOKUP(C32,Eccup!$C$3:$L$46,9,FALSE)","v":0.50259547645532077},null,{"$f":"VLOOKUP(C32,Shakerr!$C$3:$L$46,7,FALSE)","v":{"$error":"#N/A"}},{"$f":"VLOOKUP(C32,VoY!$C$3:$L$46,9,FALSE)","v":{"$error":"#N/A"}},{"$f":"VLOOKUP(C32,Kirkstall!$C$3:$L$46,9,FALSE)","v":0.53294211789810619},{"$f":"VLOOKUP($C32,City!$C$3:$L$69,9,FALSE)","v":0.59602649006622521},{"$f":"VLOOKUP(C32,'Guy Fawkes'!$C$3:$N$34,9,FALSE)","v":0.47115050399721942},{"$f":"VLOOKUP(C32,Abbey!$C$3:$L$48,7,FALSE)","v":{"$error":"#N/A"}},{"$f":"VLOOKUP(C32,Chevin!$C$3:$L$50,7,FALSE)","v":{"$error":"#N/A"}},null,0,0,6,2,0,0,0,0,6,3,3,0,3,0,0,0,2,4,5,0,0,9]
[null,null,"David Blanchard","1961-12-01",55,{"$f":"IFERROR(VLOOKUP(C33,'Division Lookup'!$A$2:$D$251,4,FALSE),\"Second\")","v":"Second"},{"$f":"VLOOKUP(C33,Dewsbury!$C$3:$L$46,7,FALSE)","v":{"$error":"#N/A"}},{"$f":"VLOOKUP($C33,Bradford!$C$3:$L$66,7,FALSE)","v":{"$error":"#N/A"}},{"$f":"VLOOKUP($C33,Keighley!$C$3:$N$42,9,FALSE)","v":{"$error":"#N/A"}},{"$f":"VLOOKUP($C33,'Bunny '!$C$3:$N$20,9,FALSE)","v":{"$error":"#N/A"}},{"$f":"VLOOKUP($C33,Liverpool!$C$3:$N$59,9,FALSE)","v":{"$error":"#N/A"}},{"$f":"VLOOKUP(C33,'VoY 10m'!$C$3:$N$40,9,FALSE)","v":{"$error":"#N/A"}},{"$f":"VLOOKUP(C33,Guisley!$C$3:$N$49,9,FALSE)","v":{"$error":"#N/A"}},{"$f":"VLOOKUP(C33,Odda!$C$3:$N$42,9,FALSE)","v":{"$error":"#N/A"}},{"$f":"VLOOKUP(C33,'Leeds half'!$C$4:$N$31,9,FALSE)","v":{"$error":"#N/A"}},{"$f":"VLOOKUP(C33,Ilkley!$C$3:$L$46,7,FALSE)","v":{"$error":"#N/A"}},{"$f":"VLOOKUP(C33,Otley!$C$3:$L$46,9,FALSE)","v":{"$error":"#N/A"}},{"$f":"VLOOKUP(C33,Solstice!$C$3:$L$48,7,FALSE)","v":{"$error":"#N/A"}},{"$f":"VLOOKUP(C33,Eccup!$C$3:$L$46,9,FALSE)","v":{"$error":"#N/A"}},null,{"$f":"VLOOKUP(C33,Shakerr!$C$3:$L$46,7,FALSE)","v":{"$error":"#N/A"}},{"$f":"VLOOKUP(C33,VoY!$C$3:$L$46,9,FALSE)","v":{"$error":"#N/A"}},{"$f":"VLOOKUP(C33,Kirkstall!$C$3:$L$46,9,FALSE)","v":{"$error":"#N/A"}},{"$f":"VLOOKUP($C33,City!$C$3:$L$69,9,FALSE)","v":{"$error":"#N/A"}},{"$f":"VLOOKUP(C33,'Guy Fawkes'!$C$3:$N$34,9,FALSE)","v":{"$error":"#N/A"}},{"$f":"VLOOKUP(C33,Abbey!$C$3:$L$48,7,FALSE)","v":{"$error":"#N/A"}},{"$f":"VLOOKUP(C33,Chevin!$C$3:$L$50,7,FALSE)","v":{"$error":"#N/A"}},null,0,0,0,0,0,0,0,0,0,0,0,0,0,0,0,0,0,0,0,0,0,0]
[null,null,"Claire Bond","1970-02-28",46,{"$f":"IFERROR(VLOOKUP(C34,'Division Lookup'!$A$2:$D$251,4,FALSE),\"Second\")","v":"Second"},{"$f":"VLOOKUP(C34,Dewsbury!$C$3:$L$46,7,FALSE)","v":{"$error":"#N/A"}},{"$f":"VLOOKUP($C34,Bradford!$C$3:$L$66,7,FALSE)","v":{"$error":"#N/A"}},{"$f":"VLOOKUP($C34,Keighley!$C$3:$N$42,9,FALSE)","v":{"$error":"#N/A"}},{"$f":"VLOOKUP($C34,'Bunny '!$C$3:$N$20,9,FALSE)","v":{"$error":"#N/A"}},{"$f":"VLOOKUP($C34,Liverpool!$C$3:$N$59,9,FALSE)","v":{"$error":"#N/A"}},{"$f":"VLOOKUP(C34,'VoY 10m'!$C$3:$N$40,9,FALSE)","v":{"$error":"#N/A"}},{"$f":"VLOOKUP(C34,Guisley!$C$3:$N$49,9,FALSE)","v":{"$error":"#N/A"}},{"$f":"VLOOKUP(C34,Odda!$C$3:$N$42,9,FALSE)","v":{"$error":"#N/A"}},{"$f":"VLOOKUP(C34,'Leeds half'!$C$4:$N$31,9,FALSE)","v":{"$error":"#N/A"}},{"$f":"VLOOKUP(C34,Ilkley!$C$3:$L$46,7,FALSE)","v":{"$error":"#N/A"}},{"$f":"VLOOKUP(C34,Otley!$C$3:$L$46,9,FALSE)","v":{"$error":"#N/A"}},{"$f":"VLOOKUP(C34,Solstice!$C$3:$L$48,7,FALSE)","v":{"$error":"#N/A"}},{"$f":"VLOOKUP(C34,Eccup!$C$3:$L$46,9,FALSE)","v":{"$error":"#N/A"}},null,{"$f":"VLOOKUP(C34,Shakerr!$C$3:$L$46,7,FALSE)","v":{"$error":"#N/A"}},{"$f":"VLOOKUP(C34,VoY!$C$3:$L$46,9,FALSE)","v":{"$error":"#N/A"}},{"$f":"VLOOKUP(C34,Kirkstall!$C$3:$L$46,9,FALSE)","v":{"$error":"#N/A"}},{"$f":"VLOOKUP($C34,City!$C$3:$L$69,9,FALSE)","v":{"$error":"#N/A"}},{"$f":"VLOOKUP(C34,'Guy Fawkes'!$C$3:$N$34,9,FALSE)","v":{"$error":"#N/A"}},{"$f":"VLOOKUP(C34,Abbey!$C$3:$L$48,7,FALSE)","v":{"$error":"#N/A"}},{"$f":"VLOOKUP(C34,Chevin!$C$3:$L$50,7,FALSE)","v":{"$error":"#N/A"}},null,0,0,0,0,0,0,0,0,0,0,0,0,0,0,0,0,0,0,0,0,0,0]
[null,null,"Bernie Bowden","1970-06-30",46,{"$f":"IFERROR(VLOOKUP(C35,'Division Lookup'!$A$2:$D$251,4,FALSE),\"Second\")","v":"Second"},{"$f":"VLOOKUP(C35,Dewsbury!$C$3:$L$46,7,FALSE)","v":0.74942965779467663},{"$f":"VLOOKUP($C35,Bradford!$C$3:$L$66,7,FALSE)","v":0.77628987790468684},{"$f":"VLOOKUP($C35,Keighley!$C$3:$N$42,9,FALSE)","v":{"$error":"#N/A"}},{"$f":"VLOOKUP($C35,'Bunny '!$C$3:$N$20,9,FALSE)","v":{"$error":"#N/A"}},{"$f":"VLOOKUP($C35,Liverpool!$C$3:$N$59,9,FALSE)","v":{"$error":"#N/A"}},{"$f":"VLOOKUP(C35,'VoY 10m'!$C$3:$N$40,9,FALSE)","v":{"$error":"#N/A"}},{"$f":"VLOOKUP(C35,Guisley!$C$3:$N$49,9,FALSE)","v":{"$error":"#N/A"}},{"$f":"VLOOKUP(C35,Odda!$C$3:$N$42,9,FALSE)","v":{"$error":"#N/A"}},{"$f":"VLOOKUP(C35,'Leeds half'!$C$4:$N$31,9,FALSE)","v":{"$error":"#N/A"}},{"$f":"VLOOKUP(C35,Ilkley!$C$3:$L$46,7,FALSE)","v":0.58870967741935487},{"$f":"VLOOKUP(C35,Otley!$C$3:$L$46,9,FALSE)","v":{"$error":"#N/A"}},{"$f":"VLOOKUP(C35,Solstice!$C$3:$L$48,7,FALSE)","v":0.68630017452006986},{"$f":"VLOOKUP(C35,Eccup!$C$3:$L$46,9,FALSE)","v":{"$error":"#N/A"}},null,{"$f":"VLOOKUP(C35,Shakerr!$C$3:$L$46,7,FALSE)","v":0.55867346938775519},{"$f":"VLOOKUP(C35,VoY!$C$3:$L$46,9,FALSE)","v":{"$error":"#N/A"}},{"$f":"VLOOKUP(C35,Kirkstall!$C$3:$L$46,9,FALSE)","v":0.71239669421487595},{"$f":"VLOOKUP($C35,City!$C$3:$L$69,9,FALSE)","v":{"$error":"#N/A"}},{"$f":"VLOOKUP(C35,'Guy Fawkes'!$C$3:$N$34,9,FALSE)","v":{"$error":"#N/A"}},{"$f":"VLOOKUP(C35,Abbey!$C$3:$L$48,7,FALSE)","v":{"$error":"#N/A"}},{"$f":"VLOOKUP(C35,Chevin!$C$3:$L$50,7,FALSE)","v":{"$error":"#N/A"}},null,2,2,0,0,0,0,0,0,0,1,0,1,0,0,2,0,1,0,0,0,0,6]
[null,null,"Rachel Boyd","1988-06-12",28,{"$f":"IFERROR(VLOOKUP(C36,'Division Lookup'!$A$2:$D$251,4,FALSE),\"Second\")","v":"Second"},{"$f":"VLOOKUP(C36,Dewsbury!$C$3:$L$46,7,FALSE)","v":0.78753786239723067},{"$f":"VLOOKUP($C36,Bradford!$C$3:$L$66,7,FALSE)","v":0.7767819035424669},{"$f":"VLOOKUP($C36,Keighley!$C$3:$N$42,9,FALSE)","v":{"$error":"#N/A"}},{"$f":"VLOOKUP($C36,'Bunny '!$C$3:$N$20,9,FALSE)","v":{"$error":"#N/A"}},{"$f":"VLOOKUP($C36,Liverpool!$C$3:$N$59,9,FALSE)","v":0.76520728399845017},{"$f":"VLOOKUP(C36,'VoY 10m'!$C$3:$N$40,9,FALSE)","v":{"$error":"#N/A"}},{"$f":"VLOOKUP(C36,Guisley!$C$3:$N$49,9,FALSE)","v":{"$error":"#N/A"}},{"$f":"VLOOKUP(C36,Odda!$C$3:$N$42,9,FALSE)","v":{"$error":"#N/A"}},{"$f":"VLOOKUP(C36,'Leeds half'!$C$4:$N$31,9,FALSE)","v":{"$error":"#N/A"}},{"$f":"VLOOKUP(C36,Ilkley!$C$3:$L$46,7,FALSE)","v":{"$error":"#N/A"}},{"$f":"VLOOKUP(C36,Otley!$C$3:$L$46,9,FALSE)","v":{"$error":"#N/A"}},{"$f":"VLOOKUP(C36,Solstice!$C$3:$L$48,7,FALSE)","v":{"$error":"#N/A"}},{"$f":"VLOOKUP(C36,Eccup!$C$3:$L$46,9,FALSE)","v":{"$error":"#N/A"}},null,{"$f":"VLOOKUP(C36,Shakerr!$C$3:$L$46,7,FALSE)","v":{"$error":"#N/A"}},{"$f":"VLOOKUP(C36,VoY!$C$3:$L$46,9,FALSE)","v":{"$error":"#N/A"}},{"$f":"VLOOKUP(C36,Kirkstall!$C$3:$L$46,9,FALSE)","v":{"$error":"#N/A"}},{"$f":"VLOOKUP($C36,City!$C$3:$L$69,9,FALSE)","v":{"$error":"#N/A"}},{"$f":"VLOOKUP(C36,'Guy Fawkes'!$C$3:$N$34,9,FALSE)","v":{"$error":"#N/A"}},{"$f":"VLOOKUP(C36,Abbey!$C$3:$L$48,7,FALSE)","v":{"$error":"#N/A"}},{"$f":"VLOOKUP(C36,Chevin!$C$3:$L$50,7,FALSE)","v":{"$error":"#N/A"}},null,1,1,0,0,1,0,0,0,0,0,0,0,0,0,0,0,0,0,0,0,0,3]
[null,null,"Roy Bradshaw","1963-01-03",53,{"$f":"IFERROR(VLOOKUP(C37,'Division Lookup'!$A$2:$D$251,4,FALSE),\"Second\")","v":"Second"},{"$f":"VLOOKUP(C37,Dewsbury!$C$3:$L$46,7,FALSE)","v":{"$error":"#N/A"}},{"$f":"VLOOKUP($C37,Bradford!$C$3:$L$66,7,FALSE)","v":{"$error":"#N/A"}},{"$f":"VLOOKUP($C37,Keighley!$C$3:$N$42,9,FALSE)","v":{"$error":"#N/A"}},{"$f":"VLOOKUP($C37,'Bunny '!$C$3:$N$20,9,FALSE)","v":{"$error":"#N/A"}},{"$f":"VLOOKUP($C37,Liverpool!$C$3:$N$59,9,FALSE)","v":{"$error":"#N/A"}},{"$f":"VLOOKUP(C37,'VoY 10m'!$C$3:$N$40,9,FALSE)","v":{"$error":"#N/A"}},{"$f":"VLOOKUP(C37,Guisley!$C$3:$N$49,9,FALSE)","v":{"$error":"#N/A"}},{"$f":"VLOOKUP(C37,Odda!$C$3:$N$42,9,FALSE)","v":{"$error":"#N/A"}},{"$f":"VLOOKUP(C37,'Leeds half'!$C$4:$N$31,9,FALSE)","v":{"$error":"#N/A"}},{"$f":"VLOOKUP(C37,Ilkley!$C$3:$L$46,7,FALSE)","v":{"$error":"#N/A"}},{"$f":"VLOOKUP(C37,Otley!$C$3:$L$46,9,FALSE)","v":{"$error":"#N/A"}},{"$f":"VLOOKUP(C37,Solstice!$C$3:$L$48,7,FALSE)","v":{"$error":"#N/A"}},{"$f":"VLOOKUP(C37,Eccup!$C$3:$L$46,9,FALSE)","v":{"$error":"#N/A"}},null,{"$f":"VLOOKUP(C37,Shakerr!$C$3:$L$46,7,FALSE)","v":{"$error":"#N/A"}},{"$f":"VLOOKUP(C37,VoY!$C$3:$L$46,9,FALSE)","v":{"$error":"#N/A"}},{"$f":"VLOOKUP(C37,Kirkstall!$C$3:$L$46,9,FALSE)","v":{"$error":"#N/A"}},{"$f":"VLOOKUP($C37,City!$C$3:$L$69,9,FALSE)","v":{"$error":"#N/A"}},{"$f":"VLOOKUP(C37,'Guy Fawkes'!$C$3:$N$34,9,FALSE)","v":{"$error":"#N/A"}},{"$f":"VLOOKUP(C37,Abbey!$C$3:$L$48,7,FALSE)","v":{"$error":"#N/A"}},{"$f":"VLOOKUP(C37,Chevin!$C$3:$L$50,7,FALSE)","v":{"$error":"#N/A"}},null,0,0,0,0,0,0,0,0,0,0,0,0,0,0,0,0,0,0,0,0,0,0]
[null,null,"Helen Brant","1981-01-11",35,{"$f":"IFERROR(VLOOKUP(C38,'Division Lookup'!$A$2:$D$251,4,FALSE),\"Second\")","v":"Premier"},{"$f":"VLOOKUP(C38,Dewsbury!$C$3:$L$46,7,FALSE)","v":0.60242543428384132},{"$f":"VLOOKUP($C38,Bradford!$C$3:$L$66,7,FALSE)","v":0.60104643557880955},{"$f":"VLOOKUP($C38,Keighley!$C$3:$N$42,9,FALSE)","v":{"$error":"#N/A"}},{"$f":"VLOOKUP($C38,'Bunny '!$C$3:$N$20,9,FALSE)","v":{"$error":"#N/A"}},{"$f":"VLOOKUP($C38,Liverpool!$C$3:$N$59,9,FALSE)","v":{"$error":"#N/A"}},{"$f":"VLOOKUP(C38,'VoY 10m'!$C$3:$N$40,9,FALSE)","v":{"$error":"#N/A"}},{"$f":"VLOOKUP(C38,Guisley!$C$3:$N$49,9,FALSE)","v":0.44886828470139079},{"$f":"VLOOKUP(C38,Odda!$C$3:$N$42,9,FALSE)","v":0.45619260362372793},{"$f":"VLOOKUP(C38,'Leeds half'!$C$4:$N$31,9,FALSE)","v":{"$error":"#N/A"}},{"$f":"VLOOKUP(C38,Ilkley!$C$3:$L$46,7,FALSE)","v":{"$error":"#N/A"}},{"$f":"VLOOKUP(C38,Otley!$C$3:$L$46,9,FALSE)","v":{"$error":"#N/A"}},{"$f":"VLOOKUP(C38,Solstice!$C$3:$L$48,7,FALSE)","v":0.53231663035584609},{"$f":"VLOOKUP(C38,Eccup!$C$3:$L$46,9,FALSE)","v":{"$error":"#N/A"}},null,{"$f":"VLOOKUP(C38,Shakerr!$C$3:$L$46,7,FALSE)","v":0.42107674684994273},{"$f":"VLOOKUP(C38,VoY!$C$3:$L$46,9,FALSE)","v":{"$error":"#N/A"}},{"$f":"VLOOKUP(C38,Kirkstall!$C$3:$L$46,9,FALSE)","v":{"$error":"#N/A"}},{"$f":"VLOOKUP($C38,City!$C$3:$L$69,9,FALSE)","v":0.58935611038107749},{"$f":"VLOOKUP(C38,'Guy Fawkes'!$C$3:$N$34,9,FALSE)","v":0.489647657101344},{"$f":"VLOOKUP(C38,Abbey!$C$3:$L$48,7,FALSE)","v":{"$error":"#N/A"}},{"$f":"VLOOKUP(C38,Chevin!$C$3:$L$50,7,FALSE)","v":{"$error":"#N/A"}},null,16,13,0,0,0,0,10,10,0,0,0,11,0,0,10,0,0,16,18,0,0,8]
[null,null,"Nick Breare","1949-11-07",67,{"$f":"IFERROR(VLOOKUP(C39,'Division Lookup'!$A$2:$D$251,4,FALSE),\"Second\")","v":"Second"},{"$f":"VLOOKUP(C39,Dewsbury!$C$3:$L$46,7,FALSE)","v":{"$error":"#N/A"}},{"$f":"VLOOKUP($C39,Bradford!$C$3:$L$66,7,FALSE)","v":0.62452443664032775},{"$f":"VLOOKUP($C39,Keighley!$C$3:$N$42,9,FALSE)","v":0.70418353576248327},{"$f":"VLOOKUP($C39,'Bunny '!$C$3:$N$20,9,FALSE)","v":{"$error":"#N/A"}},{"$f":"VLOOKUP($C39,Liverpool!$C$3:$N$59,9,FALSE)","v":{"$error":"#N/A"}},{"$f":"VLOOKUP(C39,'VoY 10m'!$C$3:$N$40,9,FALSE)","v":{"$error":"#N/A"}},{"$f":"VLOOKUP(C39,Guisley!$C$3:$N$49,9,FALSE)","v":0.5253569670113245},{"$f":"VLOOKUP(C39,Odda!$C$3:$N$42,9,FALSE)","v":{"$error":"#N/A"}},{"$f":"VLOOKUP(C39,'Leeds half'!$C$4:$N$31,9,FALSE)","v":{"$error":"#N/A"}},{"$f":"VLOOKUP(C39,Ilkley!$C$3:$L$46,7,FALSE)","v":{"$error":"#N/A"}},{"$f":"VLOOKUP(C39,Otley!$C$3:$L$46,9,FALSE)","v":{"$error":"#N/A"}},{"$f":"VLOOKUP(C39,Solstice!$C$3:$L$48,7,FALSE)","v":{"$error":"#N/A"}},{"$f":"VLOOKUP(C39,Eccup!$C$3:$L$46,9,FALSE)","v":0.5773010153946937},null,{"$f":"VLOOKUP(C39,Shakerr!$C$3:$L$46,7,FALSE)","v":0.44747326483539523},{"$f":"VLOOKUP(C39,VoY!$C$3:$L$46,9,FALSE)","v":{"$error":"#N/A"}},{"$f":"VLOOKUP(C39,Kirkstall!$C$3:$L$46,9,FALSE)","v":{"$error":"#N/A"}},{"$f":"VLOOKUP($C39,City!$C$3:$L$69,9,FALSE)","v":{"$error":"#N/A"}},{"$f":"VLOOKUP(C39,'Guy Fawkes'!$C$3:$N$34,9,FALSE)","v":{"$error":"#N/A"}},{"$f":"VLOOKUP(C39,Abbey!$C$3:$L$48,7,FALSE)","v":{"$error":"#N/A"}},{"$f":"VLOOKUP(C39,Chevin!$C$3:$L$50,7,FALSE)","v":{"$error":"#N/A"}},null,0,6,1,0,0,0,8,0,0,0,0,0,1,0,7,0,0,0,0,0,0,5]
[null,null,"Mick Brearley","1961-08-08",55,{"$f":"IFERROR(VLOOKUP(C40,'Division Lookup'!$A$2:$D$251,4,FALSE),\"Second\")","v":"Second"},{"$f":"VLOOKUP(C40,Dewsbury!$C$3:$L$46,7,FALSE)","v":{"$error":"#N/A"}},{"$f":"VLOOKUP($C40,Bradford!$C$3:$L$66,7,FALSE)","v":{"$error":"#N/A"}},{"$f":"VLOOKUP($C40,Keighley!$C$3:$N$42,9,FALSE)","v":{"$error":"#N/A"}},{"$f":"VLOOKUP($C40,'Bunny '!$C$3:$N$20,9,FALSE)","v":{"$error":"#N/A"}},{"$f":"VLOOKUP($C40,Liverpool!$C$3:$N$59,9,FALSE)","v":{"$error":"#N/A"}},{"$f":"VLOOKUP(C40,'VoY 10m'!$C$3:$N$40,9,FALSE)","v":{"$error":"#N/A"}},{"$f":"VLOOKUP(C40,Guisley!$C$3:$N$49,9,FALSE)","v":{"$error":"#N/A"}},{"$f":"VLOOKUP(C40,Odda!$C$3:$N$42,9,FALSE)","v":{"$error":"#N/A"}},{"$f":"VLOOKUP(C40,'Leeds half'!$C$4:$N$31,9,FALSE)","v":{"$error":"#N/A"}},{"$f":"VLOOKUP(C40,Ilkley!$C$3:$L$46,7,FALSE)","v":{"$error":"#N/A"}},{"$f":"VLOOKUP(C40,Otley!$C$3:$L$46,9,FALSE)","v":{"$error":"#N/A"}},{"$f":"VLOOKUP(C40,Solstice!$C$3:$L$48,7,FALSE)","v":{"$error":"#N/A"}},{"$f":"VLOOKUP(C40,Eccup!$C$3:$L$46,9,FALSE)","v":{"$error":"#N/A"}},null,{"$f":"VLOOKUP(C40,Shakerr!$C$3:$L$46,7,FALSE)","v":{"$error":"#N/A"}},{"$f":"VLOOKUP(C40,VoY!$C$3:$L$46,9,FALSE)","v":{"$error":"#N/A"}},{"$f":"VLOOKUP(C40,Kirkstall!$C$3:$L$46,9,FALSE)","v":{"$error":"#N/A"}},{"$f":"VLOOKUP($C40,City!$C$3:$L$69,9,FALSE)","v":{"$error":"#N/A"}},{"$f":"VLOOKUP(C40,'Guy Fawkes'!$C$3:$N$34,9,FALSE)","v":{"$error":"#N/A"}},{"$f":"VLOOKUP(C40,Abbey!$C$3:$L$48,7,FALSE)","v":{"$error":"#N/A"}},{"$f":"VLOOKUP(C40,Chevin!$C$3:$L$50,7,FALSE)","v":{"$error":"#N/A"}},null,0,0,0,0,0,0,0,0,0,0,0,0,0,0,0,0,0,0,0,0,0,0]
[null,null,"Josephine Briggs","1968-02-06",48,{"$f":"IFERROR(VLOOKUP(C41,'Division Lookup'!$A$2:$D$251,4,FALSE),\"Second\")","v":"Second"},{"$f":"VLOOKUP(C41,Dewsbury!$C$3:$L$46,7,FALSE)","v":0.60650798433263031},{"$f":"VLOOKUP($C41,Bradford!$C$3:$L$66,7,FALSE)","v":{"$error":"#N/A"}},{"$f":"VLOOKUP($C41,Keighley!$C$3:$N$42,9,FALSE)","v":0.57613050944476241},{"$f":"VLOOKUP($C41,'Bunny '!$C$3:$N$20,9,FALSE)","v":{"$error":"#N/A"}},{"$f":"VLOOKUP($C41,Liverpool!$C$3:$N$59,9,FALSE)","v":0.59989015515584232},{"$f":"VLOOKUP(C41,'VoY 10m'!$C$3:$N$40,9,FALSE)","v":{"$error":"#N/A"}},{"$f":"VLOOKUP(C41,Guisley!$C$3:$N$49,9,FALSE)","v":{"$error":"#N/A"}},{"$f":"VLOOKUP(C41,Odda!$C$3:$N$42,9,FALSE)","v":{"$error":"#N/A"}},{"$f":"VLOOKUP(C41,'Leeds half'!$C$4:$N$31,9,FALSE)","v":{"$error":"#N/A"}},{"$f":"VLOOKUP(C41,Ilkley!$C$3:$L$46,7,FALSE)","v":{"$error":"#N/A"}},{"$f":"VLOOKUP(C41,Otley!$C$3:$L$46,9,FALSE)","v":{"$error":"#N/A"}},{"$f":"VLOOKUP(C41,Solstice!$C$3:$L$48,7,FALSE)","v":{"$error":"#N/A"}},{"$f":"VLOOKUP(C41,Eccup!$C$3:$L$46,9,FALSE)","v":{"$error":"#N/A"}},null,{"$f":"VLOOKUP(C41,Shakerr!$C$3:$L$46,7,FALSE)","v":{"$error":"#N/A"}},{"$f":"VLOOKUP(C41,VoY!$C$3:$L$46,9,FALSE)","v":{"$error":"#N/A"}},{"$f":"VLOOKUP(C41,Kirkstall!$C$3:$L$46,9,FALSE)","v":{"$error":"#N/A"}},{"$f":"VLOOKUP($C41,City!$C$3:$L$69,9,FALSE)","v":0.60632530120481931},{"$f":"VLOOKUP(C41,'Guy Fawkes'!$C$3:$N$34,9,FALSE)","v":{"$error":"#N/A"}},{"$f":"VLOOKUP(C41,Abbey!$C$3:$L$48,7,FALSE)","v":0.56360259981429883},{"$f":"VLOOKUP(C41,Chevin!$C$3:$L$50,7,FALSE)","v":{"$error":"#N/A"}},null,4,0,5,0,5,0,0,0,0,0,0,0,0,0,0,0,0,3,0,14,0,5]
[null,null,"Joseph Broadbent","1992-05-04",24,{"$f":"IFERROR(VLOOKUP(C42,'Division Lookup'!$A$2:$D$251,4,FALSE),\"Second\")","v":"Second"},{"$f":"VLOOKUP(C42,Dewsbury!$C$3:$L$46,7,FALSE)","v":{"$error":"#N/A"}},{"$f":"VLOOKUP($C42,Bradford!$C$3:$L$66,7,FALSE)","v":{"$error":"#N/A"}},{"$f":"VLOOKUP($C42,Keighley!$C$3:$N$42,9,FALSE)","v":{"$error":"#N/A"}},{"$f":"VLOOKUP($C42,'Bunny '!$C$3:$N$20,9,FALSE)","v":{"$error":"#N/A"}},{"$f":"VLOOKUP($C42,Liverpool!$C$3:$N$59,9,FALSE)","v":{"$error":"#N/A"}},{"$f":"VLOOKUP(C42,'VoY 10m'!$C$3:$N$40,9,FALSE)","v":{"$error":"#N/A"}},{"$f":"VLOOKUP(C42,Guisley!$C$3:$N$49,9,FALSE)","v":{"$error":"#N/A"}},{"$f":"VLOOKUP(C42,Odda!$C$3:$N$42,9,FALSE)","v":{"$error":"#N/A"}},{"$f":"VLOOKUP(C42,'Leeds half'!$C$4:$N$31,9,FALSE)","v":{"$error":"#N/A"}},{"$f":"VLOOKUP(C42,Ilkley!$C$3:$L$46,7,FALSE)","v":{"$error":"#N/A"}},{"$f":"VLOOKUP(C42,Otley!$C$3:$L$46,9,FALSE)","v":{"$error":"#N/A"}},{"$f":"VLOOKUP(C42,Solstice!$C$3:$L$48,7,FALSE)","v":{"$error":"#N/A"}},{"$f":"VLOOKUP(C42,Eccup!$C$3:$L$46,9,FALSE)","v":{"$error":"#N/A"}},null,{"$f":"VLOOKUP(C42,Shakerr!$C$3:$L$46,7,FALSE)","v":{"$error":"#N/A"}},{"$f":"VLOOKUP(C42,VoY!$C$3:$L$46,9,FALSE)","v":{"$error":"#N/A"}},{"$f":"VLOOKUP(C42,Kirkstall!$C$3:$L$46,9,FALSE)","v":{"$error":"#N/A"}},{"$f":"VLOOKUP($C42,City!$C$3:$L$69,9,FALSE)","v":{"$error":"#N/A"}},{"$f":"VLOOKUP(C42,'Guy Fawkes'!$C$3:$N$34,9,FALSE)","v":{"$error":"#N/A"}},{"$f":"VLOOKUP(C42,Abbey!$C$3:$L$48,7,FALSE)","v":{"$error":"#N/A"}},{"$f":"VLOOKUP(C42,Chevin!$C$3:$L$50,7,FALSE)","v":{"$error":"#N/A"}},null,0,0,0,0,0,0,0,0,0,0,0,0,0,0,0,0,0,0,0,0,0,0]
[null,null,"Andy Brown","1968-05-03",48,{"$f":"IFERROR(VLOOKUP(C43,'Division Lookup'!$A$2:$D$251,4,FALSE),\"Second\")","v":"Second"},{"$f":"VLOOKUP(C43,Dewsbury!$C$3:$L$46,7,FALSE)","v":{"$error":"#N/A"}},{"$f":"VLOOKUP($C43,Bradford!$C$3:$L$66,7,FALSE)","v":{"$error":"#N/A"}},{"$f":"VLOOKUP($C43,Keighley!$C$3:$N$42,9,FALSE)","v":{"$error":"#N/A"}},{"$f":"VLOOKUP($C43,'Bunny '!$C$3:$N$20,9,FALSE)","v":{"$error":"#N/A"}},{"$f":"VLOOKUP($C43,Liverpool!$C$3:$N$59,9,FALSE)","v":{"$error":"#N/A"}},{"$f":"VLOOKUP(C43,'VoY 10m'!$C$3:$N$40,9,FALSE)","v":{"$error":"#N/A"}},{"$f":"VLOOKUP(C43,Guisley!$C$3:$N$49,9,FALSE)","v":0.76603773584905666},{"$f":"VLOOKUP(C43,Odda!$C$3:$N$42,9,FALSE)","v":{"$error":"#N/A"}},{"$f":"VLOOKUP(C43,'Leeds half'!$C$4:$N$31,9,FALSE)","v":{"$error":"#N/A"}},{"$f":"VLOOKUP(C43,Ilkley!$C$3:$L$46,7,FALSE)","v":{"$error":"#N/A"}},{"$f":"VLOOKUP(C43,Otley!$C$3:$L$46,9,FALSE)","v":{"$error":"#N/A"}},{"$f":"VLOOKUP(C43,Solstice!$C$3:$L$48,7,FALSE)","v":{"$error":"#N/A"}},{"$f":"VLOOKUP(C43,Eccup!$C$3:$L$46,9,FALSE)","v":{"$error":"#N/A"}},null,{"$f":"VLOOKUP(C43,Shakerr!$C$3:$L$46,7,FALSE)","v":{"$error":"#N/A"}},{"$f":"VLOOKUP(C43,VoY!$C$3:$L$46,9,FALSE)","v":{"$error":"#N/A"}},{"$f":"VLOOKUP(C43,Kirkstall!$C$3:$L$46,9,FALSE)","v":{"$error":"#N/A"}},{"$f":"VLOOKUP($C43,City!$C$3:$L$69,9,FALSE)","v":{"$error":"#N/A"}},{"$f":"VLOOKUP(C43,'Guy Fawkes'!$C$3:$N$34,9,FALSE)","v":{"$error":"#N/A"}},{"$f":"VLOOKUP(C43,Abbey!$C$3:$L$48,7,FALSE)","v":{"$error":"#N/A"}},{"$f":"VLOOKUP(C43,Chevin!$C$3:$L$50,7,FALSE)","v":{"$error":"#N/A"}},null,0,0,0,0,0,0,1,0,0,0,0,0,0,0,0,0,0,0,0,0,0,1]
[null,null,"Andrew Bruce","1971-08-29",45,{"$f":"IFERROR(VLOOKUP(C44,'Division Lookup'!$A$2:$D$251,4,FALSE),\"Second\")","v":"Second"},{"$f":"VLOOKUP(C44,Dewsbury!$C$3:$L$46,7,FALSE)","v":{"$error":"#N/A"}},{"$f":"VLOOKUP($C44,Bradford!$C$3:$L$66,7,FALSE)","v":{"$error":"#N/A"}},{"$f":"VLOOKUP($C44,Keighley!$C$3:$N$42,9,FALSE)","v":{"$error":"#N/A"}},{"$f":"VLOOKUP($C44,'Bunny '!$C$3:$N$20,9,FALSE)","v":{"$error":"#N/A"}},{"$f":"VLOOKUP($C44,Liverpool!$C$3:$N$59,9,FALSE)","v":{"$error":"#N/A"}},{"$f":"VLOOKUP(C44,'VoY 10m'!$C$3:$N$40,9,FALSE)","v":{"$error":"#N/A"}},{"$f":"VLOOKUP(C44,Guisley!$C$3:$N$49,9,FALSE)","v":{"$error":"#N/A"}},{"$f":"VLOOKUP(C44,Odda!$C$3:$N$42,9,FALSE)","v":{"$error":"#N/A"}},{"$f":"VLOOKUP(C44,'Leeds half'!$C$4:$N$31,9,FALSE)","v":{"$error":"#N/A"}},{"$f":"VLOOKUP(C44,Ilkley!$C$3:$L$46,7,FALSE)","v":{"$error":"#N/A"}},{"$f":"VLOOKUP(C44,Otley!$C$3:$L$46,9,FALSE)","v":{"$error":"#N/A"}},{"$f":"VLOOKUP(C44,Solstice!$C$3:$L$48,7,FALSE)","v":{"$error":"#N/A"}},{"$f":"VLOOKUP(C44,Eccup!$C$3:$L$46,9,FALSE)","v":{"$error":"#N/A"}},null,{"$f":"VLOOKUP(C44,Shakerr!$C$3:$L$46,7,FALSE)","v":{"$error":"#N/A"}},{"$f":"VLOOKUP(C44,VoY!$C$3:$L$46,9,FALSE)","v":{"$error":"#N/A"}},{"$f":"VLOOKUP(C44,Kirkstall!$C$3:$L$46,9,FALSE)","v":{"$error":"#N/A"}},{"$f":"VLOOKUP($C44,City!$C$3:$L$69,9,FALSE)","v":{"$error":"#N/A"}},{"$f":"VLOOKUP(C44,'Guy Fawkes'!$C$3:$N$34,9,FALSE)","v":{"$error":"#N/A"}},{"$f":"VLOOKUP(C44,Abbey!$C$3:$L$48,7,FALSE)","v":{"$error":"#N/A"}},{"$f":"VLOOKUP(C44,Chevin!$C$3:$L$50,7,FALSE)","v":{"$error":"#N/A"}},null,0,0,0,0,0,0,0,0,0,0,0,0,0,0,0,0,0,0,0,0,0,0]
[null,null,"Catherine Bruckner","1981-01-19",35,{"$f":"IFERROR(VLOOKUP(C45,'Division Lookup'!$A$2:$D$251,4,FALSE),\"Second\")","v":"Second"},{"$f":"VLOOKUP(C45,Dewsbury!$C$3:$L$46,7,FALSE)","v":{"$error":"#N/A"}},{"$f":"VLOOKUP($C45,Bradford!$C$3:$L$66,7,FALSE)","v":{"$error":"#N/A"}},{"$f":"VLOOKUP($C45,Keighley!$C$3:$N$42,9,FALSE)","v":{"$error":"#N/A"}},{"$f":"VLOOKUP($C45,'Bunny '!$C$3:$N$20,9,FALSE)","v":{"$error":"#N/A"}},{"$f":"VLOOKUP($C45,Liverpool!$C$3:$N$59,9,FALSE)","v":{"$error":"#N/A"}},{"$f":"VLOOKUP(C45,'VoY 10m'!$C$3:$N$40,9,FALSE)","v":{"$error":"#N/A"}},{"$f":"VLOOKUP(C45,Guisley!$C$3:$N$49,9,FALSE)","v":{"$error":"#N/A"}},{"$f":"VLOOKUP(C45,Odda!$C$3:$N$42,9,FALSE)","v":{"$error":"#N/A"}},{"$f":"VLOOKUP(C45,'Leeds half'!$C$4:$N$31,9,FALSE)","v":{"$error":"#N/A"}},{"$f":"VLOOKUP(C45,Ilkley!$C$3:$L$46,7,FALSE)","v":{"$error":"#N/A"}},{"$f":"VLOOKUP(C45,Otley!$C$3:$L$46,9,FALSE)","v":{"$error":"#N/A"}},{"$f":"VLOOKUP(C45,Solstice!$C$3:$L$48,7,FALSE)","v":{"$error":"#N/A"}},{"$f":"VLOOKUP(C45,Eccup!$C$3:$L$46,9,FALSE)","v":{"$error":"#N/A"}},null,{"$f":"VLOOKUP(C45,Shakerr!$C$3:$L$46,7,FALSE)","v":{"$error":"#N/A"}},{"$f":"VLOOKUP(C45,VoY!$C$3:$L$46,9,FALSE)","v":{"$error":"#N/A"}},{"$f":"VLOOKUP(C45,Kirkstall!$C$3:$L$46,9,FALSE)","v":{"$error":"#N/A"}},{"$f":"VLOOKUP($C45,City!$C$3:$L$69,9,FALSE)","v":{"$error":"#N/A"}},{"$f":"VLOOKUP(C45,'Guy Fawkes'!$C$3:$N$34,9,FALSE)","v":{"$error":"#N/A"}},{"$f":"VLOOKUP(C45,Abbey!$C$3:$L$48,7,FALSE)","v":{"$error":"#N/A"}},{"$f":"VLOOKUP(C45,Chevin!$C$3:$L$50,7,FALSE)","v":{"$error":"#N/A"}},null,0,0,0,0,0,0,0,0,0,0,0,0,0,0,0,0,0,0,0,0,0,0]
[null,null,"Sarah Bruckshaw","1971-04-09",45,{"$f":"IFERROR(VLOOKUP(C46,'Division Lookup'!$A$2:$D$251,4,FALSE),\"Second\")","v":"Second"},{"$f":"VLOOKUP(C46,Dewsbury!$C$3:$L$46,7,FALSE)","v":{"$error":"#N/A"}},{"$f":"VLOOKUP($C46,Bradford!$C$3:$L$66,7,FALSE)","v":{"$error":"#N/A"}},{"$f":"VLOOKUP($C46,Keighley!$C$3:$N$42,9,FALSE)","v":{"$error":"#N/A"}},{"$f":"VLOOKUP($C46,'Bunny '!$C$3:$N$20,9,FALSE)","v":{"$error":"#N/A"}},{"$f":"VLOOKUP($C46,Liverpool!$C$3:$N$59,9,FALSE)","v":{"$error":"#N/A"}},{"$f":"VLOOKUP(C46,'VoY 10m'!$C$3:$N$40,9,FALSE)","v":{"$error":"#N/A"}},{"$f":"VLOOKUP(C46,Guisley!$C$3:$N$49,9,FALSE)","v":{"$error":"#N/A"}},{"$f":"VLOOKUP(C46,Odda!$C$3:$N$42,9,FALSE)","v":{"$error":"#N/A"}},{"$f":"VLOOKUP(C46,'Leeds half'!$C$4:$N$31,9,FALSE)","v":{"$error":"#N/A"}},{"$f":"VLOOKUP(C46,Ilkley!$C$3:$L$46,7,FALSE)","v":{"$error":"#N/A"}},{"$f":"VLOOKUP(C46,Otley!$C$3:$L$46,9,FALSE)","v":{"$error":"#N/A"}},{"$f":"VLOOKUP(C46,Solstice!$C$3:$L$48,7,FALSE)","v":{"$error":"#N/A"}},{"$f":"VLOOKUP(C46,Eccup!$C$3:$L$46,9,FALSE)","v":{"$error":"#N/A"}},null,{"$f":"VLOOKUP(C46,Shakerr!$C$3:$L$46,7,FALSE)","v":{"$error":"#N/A"}},{"$f":"VLOOKUP(C46,VoY!$C$3:$L$46,9,FALSE)","v":{"$error":"#N/A"}},{"$f":"VLOOKUP(C46,Kirkstall!$C$3:$L$46,9,FALSE)","v":{"$error":"#N/A"}},{"$f":"VLOOKUP($C46,City!$C$3:$L$69,9,FALSE)","v":{"$error":"#N/A"}},{"$f":"VLOOKUP(C46,'Guy Fawkes'!$C$3:$N$34,9,FALSE)","v":{"$error":"#N/A"}},{"$f":"VLOOKUP(C46,Abbey!$C$3:$L$48,7,FALSE)","v":{"$error":"#N/A"}},{"$f":"VLOOKUP(C46,Chevin!$C$3:$L$50,7,FALSE)","v":{"$error":"#N/A"}},null,0,0,0,0,0,0,0,0,0,0,0,0,0,0,0,0,0,0,0,0,0,0]
[null,null,"Shiela Bugg","1972-07-13",44,{"$f":"IFERROR(VLOOKUP(C47,'Division Lookup'!$A$2:$D$251,4,FALSE),\"Second\")","v":"Second"},{"$f":"VLOOKUP(C47,Dewsbury!$C$3:$L$46,7,FALSE)","v":{"$error":"#N/A"}},{"$f":"VLOOKUP($C47,Bradford!$C$3:$L$66,7,FALSE)","v":0.49948400412796695},{"$f":"VLOOKUP($C47,Keighley!$C$3:$N$42,9,FALSE)","v":{"$error":"#N/A"}},{"$f":"VLOOKUP($C47,'Bunny '!$C$3:$N$20,9,FALSE)","v":{"$error":"#N/A"}},{"$f":"VLOOKUP($C47,Liverpool!$C$3:$N$59,9,FALSE)","v":{"$error":"#N/A"}},{"$f":"VLOOKUP(C47,'VoY 10m'!$C$3:$N$40,9,FALSE)","v":{"$error":"#N/A"}},{"$f":"VLOOKUP(C47,Guisley!$C$3:$N$49,9,FALSE)","v":{"$error":"#N/A"}},{"$f":"VLOOKUP(C47,Odda!$C$3:$N$42,9,FALSE)","v":{"$error":"#N/A"}},{"$f":"VLOOKUP(C47,'Leeds half'!$C$4:$N$31,9,FALSE)","v":{"$error":"#N/A"}},{"$f":"VLOOKUP(C47,Ilkley!$C$3:$L$46,7,FALSE)","v":{"$error":"#N/A"}},{"$f":"VLOOKUP(C47,Otley!$C$3:$L$46,9,FALSE)","v":{"$error":"#N/A"}},{"$f":"VLOOKUP(C47,Solstice!$C$3:$L$48,7,FALSE)","v":0.46745382985165007},{"$f":"VLOOKUP(C47,Eccup!$C$3:$L$46,9,FALSE)","v":{"$error":"#N/A"}},null,{"$f":"VLOOKUP(C47,Shakerr!$C$3:$L$46,7,FALSE)","v":{"$error":"#N/A"}},{"$f":"VLOOKUP(C47,VoY!$C$3:$L$46,9,FALSE)","v":{"$error":"#N/A"}},{"$f":"VLOOKUP(C47,Kirkstall!$C$3:$L$46,9,FALSE)","v":{"$error":"#N/A"}},{"$f":"VLOOKUP($C47,City!$C$3:$L$69,9,FALSE)","v":{"$error":"#N/A"}},{"$f":"VLOOKUP(C47,'Guy Fawkes'!$C$3:$N$34,9,FALSE)","v":{"$error":"#N/A"}},{"$f":"VLOOKUP(C47,Abbey!$C$3:$L$48,7,FALSE)","v":{"$error":"#N/A"}},{"$f":"VLOOKUP(C47,Chevin!$C$3:$L$50,7,FALSE)","v":{"$error":"#N/A"}},null,0,22,0,0,0,0,0,0,0,0,0,11,0,0,0,0,0,0,0,0,0,2]
[null,null,"Claire Burrill","1975-10-29",41,{"$f":"IFERROR(VLOOKUP(C48,'Division Lookup'!$A$2:$D$251,4,FALSE),\"Second\")","v":"Second"},{"$f":"VLOOKUP(C48,Dewsbury!$C$3:$L$46,7,FALSE)","v":{"$error":"#N/A"}},{"$f":"VLOOKUP($C48,Bradford!$C$3:$L$66,7,FALSE)","v":{"$error":"#N/A"}},{"$f":"VLOOKUP($C48,Keighley!$C$3:$N$42,9,FALSE)","v":{"$error":"#N/A"}},{"$f":"VLOOKUP($C48,'Bunny '!$C$3:$N$20,9,FALSE)","v":{"$error":"#N/A"}},{"$f":"VLOOKUP($C48,Liverpool!$C$3:$N$59,9,FALSE)","v":0.59929957682766677},{"$f":"VLOOKUP(C48,'VoY 10m'!$C$3:$N$40,9,FALSE)","v":{"$error":"#N/A"}},{"$f":"VLOOKUP(C48,Guisley!$C$3:$N$49,9,FALSE)","v":{"$error":"#N/A"}},{"$f":"VLOOKUP(C48,Odda!$C$3:$N$42,9,FALSE)","v":{"$error":"#N/A"}},{"$f":"VLOOKUP(C48,'Leeds half'!$C$4:$N$31,9,FALSE)","v":{"$error":"#N/A"}},{"$f":"VLOOKUP(C48,Ilkley!$C$3:$L$46,7,FALSE)","v":{"$error":"#N/A"}},{"$f":"VLOOKUP(C48,Otley!$C$3:$L$46,9,FALSE)","v":{"$error":"#N/A"}},{"$f":"VLOOKUP(C48,Solstice!$C$3:$L$48,7,FALSE)","v":0.52558301427079712},{"$f":"VLOOKUP(C48,Eccup!$C$3:$L$46,9,FALSE)","v":{"$error":"#N/A"}},null,{"$f":"VLOOKUP(C48,Shakerr!$C$3:$L$46,7,FALSE)","v":{"$error":"#N/A"}},{"$f":"VLOOKUP(C48,VoY!$C$3:$L$46,9,FALSE)","v":{"$error":"#N/A"}},{"$f":"VLOOKUP(C48,Kirkstall!$C$3:$L$46,9,FALSE)","v":{"$error":"#N/A"}},{"$f":"VLOOKUP($C48,City!$C$3:$L$69,9,FALSE)","v":{"$error":"#N/A"}},{"$f":"VLOOKUP(C48,'Guy Fawkes'!$C$3:$N$34,9,FALSE)","v":{"$error":"#N/A"}},{"$f":"VLOOKUP(C48,Abbey!$C$3:$L$48,7,FALSE)","v":{"$error":"#N/A"}},{"$f":"VLOOKUP(C48,Chevin!$C$3:$L$50,7,FALSE)","v":{"$error":"#N/A"}},null,0,0,0,0,6,0,0,0,0,0,0,4,0,0,0,0,0,0,0,0,0,2]
[null,null,"Adam Camp","1983-12-10",33,{"$f":"IFERROR(VLOOKUP(C49,'Division Lookup'!$A$2:$D$251,4,FALSE),\"Second\")","v":"Second"},{"$f":"VLOOKUP(C49,Dewsbury!$C$3:$L$46,7,FALSE)","v":{"$error":"#N/A"}},{"$f":"VLOOKUP($C49,Bradford!$C$3:$L$66,7,FALSE)","v":{"$error":"#N/A"}},{"$f":"VLOOKUP($C49,Keighley!$C$3:$N$42,9,FALSE)","v":{"$error":"#N/A"}},{"$f":"VLOOKUP($C49,'Bunny '!$C$3:$N$20,9,FALSE)","v":{"$error":"#N/A"}},{"$f":"VLOOKUP($C49,Liverpool!$C$3:$N$59,9,FALSE)","v":{"$error":"#N/A"}},{"$f":"VLOOKUP(C49,'VoY 10m'!$C$3:$N$40,9,FALSE)","v":{"$error":"#N/A"}},{"$f":"VLOOKUP(C49,Guisley!$C$3:$N$49,9,FALSE)","v":{"$error":"#N/A"}},{"$f":"VLOOKUP(C49,Odda!$C$3:$N$42,9,FALSE)","v":{"$error":"#N/A"}},{"$f":"VLOOKUP(C49,'Leeds half'!$C$4:$N$31,9,FALSE)","v":{"$error":"#N/A"}},{"$f":"VLOOKUP(C49,Ilkley!$C$3:$L$46,7,FALSE)","v":{"$error":"#N/A"}},{"$f":"VLOOKUP(C49,Otley!$C$3:$L$46,9,FALSE)","v":{"$error":"#N/A"}},{"$f":"VLOOKUP(C49,Solstice!$C$3:$L$48,7,FALSE)","v":{"$error":"#N/A"}},{"$f":"VLOOKUP(C49,Eccup!$C$3:$L$46,9,FALSE)","v":{"$error":"#N/A"}},null,{"$f":"VLOOKUP(C49,Shakerr!$C$3:$L$46,7,FALSE)","v":0.46175637393767704},{"$f":"VLOOKUP(C49,VoY!$C$3:$L$46,9,FALSE)","v":{"$error":"#N/A"}},{"$f":"VLOOKUP(C49,Kirkstall!$C$3:$L$46,9,FALSE)","v":{"$error":"#N/A"}},{"$f":"VLOOKUP($C49,City!$C$3:$L$69,9,FALSE)","v":{"$error":"#N/A"}},{"$f":"VLOOKUP(C49,'Guy Fawkes'!$C$3:$N$34,9,FALSE)","v":{"$error":"#N/A"}},{"$f":"VLOOKUP(C49,Abbey!$C$3:$L$48,7,FALSE)","v":0.65699314792422403},{"$f":"VLOOKUP(C49,Chevin!$C$3:$L$50,7,FALSE)","v":{"$error":"#N/A"}},null,0,0,0,0,0,0,0,0,0,0,0,0,0,0,5,0,0,0,0,6,0,2]
[null,null,"Rebecca Carden","1993-02-14",23,{"$f":"IFERROR(VLOOKUP(C50,'Division Lookup'!$A$2:$D$251,4,FALSE),\"Second\")","v":"Second"},{"$f":"VLOOKUP(C50,Dewsbury!$C$3:$L$46,7,FALSE)","v":{"$error":"#N/A"}},{"$f":"VLOOKUP($C50,Bradford!$C$3:$L$66,7,FALSE)","v":{"$error":"#N/A"}},{"$f":"VLOOKUP($C50,Keighley!$C$3:$N$42,9,FALSE)","v":{"$error":"#N/A"}},{"$f":"VLOOKUP($C50,'Bunny '!$C$3:$N$20,9,FALSE)","v":{"$error":"#N/A"}},{"$f":"VLOOKUP($C50,Liverpool!$C$3:$N$59,9,FALSE)","v":{"$error":"#N/A"}},{"$f":"VLOOKUP(C50,'VoY 10m'!$C$3:$N$40,9,FALSE)","v":{"$error":"#N/A"}},{"$f":"VLOOKUP(C50,Guisley!$C$3:$N$49,9,FALSE)","v":{"$error":"#N/A"}},{"$f":"VLOOKUP(C50,Odda!$C$3:$N$42,9,FALSE)","v":{"$error":"#N/A"}},{"$f":"VLOOKUP(C50,'Leeds half'!$C$4:$N$31,9,FALSE)","v":{"$error":"#N/A"}},{"$f":"VLOOKUP(C50,Ilkley!$C$3:$L$46,7,FALSE)","v":{"$error":"#N/A"}},{"$f":"VLOOKUP(C50,Otley!$C$3:$L$46,9,FALSE)","v":{"$error":"#N/A"}},{"$f":"VLOOKUP(C50,Solstice!$C$3:$L$48,7,FALSE)","v":{"$error":"#N/A"}},{"$f":"VLOOKUP(C50,Eccup!$C$3:$L$46,9,FALSE)","v":{"$error":"#N/A"}},null,{"$f":"VLOOKUP(C50,Shakerr!$C$3:$L$46,7,FALSE)","v":{"$error":"#N/A"}},{"$f":"VLOOKUP(C50,VoY!$C$3:$L$46,9,FALSE)","v":{"$error":"#N/A"}},{"$f":"VLOOKUP(C50,Kirkstall!$C$3:$L$46,9,FALSE)","v":{"$error":"#N/A"}},{"$f":"VLOOKUP($C50,City!$C$3:$L$69,9,FALSE)","v":{"$error":"#N/A"}},{"$f":"VLOOKUP(C50,'Guy Fawkes'!$C$3:$N$34,9,FALSE)","v":{"$error":"#N/A"}},{"$f":"VLOOKUP(C50,Abbey!$C$3:$L$48,7,FALSE)","v":{"$error":"#N/A"}},{"$f":"VLOOKUP(C50,Chevin!$C$3:$L$50,7,FALSE)","v":{"$error":"#N/A"}},null,0,0,0,0,0,0,0,0,0,0,0,0,0,0,0,0,0,0,0,0,0,0]
[null,null,"Richard Carden","1992-05-03",24,{"$f":"IFERROR(VLOOKUP(C51,'Division Lookup'!$A$2:$D$251,4,FALSE),\"Second\")","v":"Second"},{"$f":"VLOOKUP(C51,Dewsbury!$C$3:$L$46,7,FALSE)","v":{"$error":"#N/A"}},{"$f":"VLOOKUP($C51,Bradford!$C$3:$L$66,7,FALSE)","v":{"$error":"#N/A"}},{"$f":"VLOOKUP($C51,Keighley!$C$3:$N$42,9,FALSE)","v":{"$error":"#N/A"}},{"$f":"VLOOKUP($C51,'Bunny '!$C$3:$N$20,9,FALSE)","v":{"$error":"#N/A"}},{"$f":"VLOOKUP($C51,Liverpool!$C$3:$N$59,9,FALSE)","v":{"$error":"#N/A"}},{"$f":"VLOOKUP(C51,'VoY 10m'!$C$3:$N$40,9,FALSE)","v":{"$error":"#N/A"}},{"$f":"VLOOKUP(C51,Guisley!$C$3:$N$49,9,FALSE)","v":{"$error":"#N/A"}},{"$f":"VLOOKUP(C51,Odda!$C$3:$N$42,9,FALSE)","v":{"$error":"#N/A"}},{"$f":"VLOOKUP(C51,'Leeds half'!$C$4:$N$31,9,FALSE)","v":{"$error":"#N/A"}},{"$f":"VLOOKUP(C51,Ilkley!$C$3:$L$46,7,FALSE)","v":{"$error":"#N/A"}},{"$f":"VLOOKUP(C51,Otley!$C$3:$L$46,9,FALSE)","v":{"$error":"#N/A"}},{"$f":"VLOOKUP(C51,Solstice!$C$3:$L$48,7,FALSE)","v":{"$error":"#N/A"}},{"$f":"VLOOKUP(C51,Eccup!$C$3:$L$46,9,FALSE)","v":{"$error":"#N/A"}},null,{"$f":"VLOOKUP(C51,Shakerr!$C$3:$L$46,7,FALSE)","v":{"$error":"#N/A"}},{"$f":"VLOOKUP(C51,VoY!$C$3:$L$46,9,FALSE)","v":{"$error":"#N/A"}},{"$f":"VLOOKUP(C51,Kirkstall!$C$3:$L$46,9,FALSE)","v":{"$error":"#N/A"}},{"$f":"VLOOKUP($C51,City!$C$3:$L$69,9,FALSE)","v":{"$error":"#N/A"}},{"$f":"VLOOKUP(C51,'Guy Fawkes'!$C$3:$N$34,9,FALSE)","v":{"$error":"#N/A"}},{"$f":"VLOOKUP(C51,Abbey!$C$3:$L$48,7,FALSE)","v":{"$error":"#N/A"}},{"$f":"VLOOKUP(C51,Chevin!$C$3:$L$50,7,FALSE)","v":{"$error":"#N/A"}},null,0,0,0,0,0,0,0,0,0,0,0,0,0,0,0,0,0,0,0,0,0,0]
[null,null,"Emma Cartledge","1974-07-23",42,{"$f":"IFERROR(VLOOKUP(C52,'Division Lookup'!$A$2:$D$251,4,FALSE),\"Second\")","v":"First"},{"$f":"VLOOKUP(C52,Dewsbury!$C$3:$L$46,7,FALSE)","v":{"$error":"#N/A"}},{"$f":"VLOOKUP($C52,Bradford!$C$3:$L$66,7,FALSE)","v":{"$error":"#N/A"}},{"$f":"VLOOKUP($C52,Keighley!$C$3:$N$42,9,FALSE)","v":{"$error":"#N/A"}},{"$f":"VLOOKUP($C52,'Bunny '!$C$3:$N$20,9,FALSE)","v":{"$error":"#N/A"}},{"$f":"VLOOKUP($C52,Liverpool!$C$3:$N$59,9,FALSE)","v":{"$error":"#N/A"}},{"$f":"VLOOKUP(C52,'VoY 10m'!$C$3:$N$40,9,FALSE)","v":{"$error":"#N/A"}},{"$f":"VLOOKUP(C52,Guisley!$C$3:$N$49,9,FALSE)","v":{"$error":"#N/A"}},{"$f":"VLOOKUP(C52,Odda!$C$3:$N$42,9,FALSE)","v":{"$error":"#N/A"}},{"$f":"VLOOKUP(C52,'Leeds half'!$C$4:$N$31,9,FALSE)","v":{"$error":"#N/A"}},{"$f":"VLOOKUP(C52,Ilkley!$C$3:$L$46,7,FALSE)","v":{"$error":"#N/A"}},{"$f":"VLOOKUP(C52,Otley!$C$3:$L$46,9,FALSE)","v":{"$error":"#N/A"}},{"$f":"VLOOKUP(C52,Solstice!$C$3:$L$48,7,FALSE)","v":{"$error":"#N/A"}},{"$f":"VLOOKUP(C52,Eccup!$C$3:$L$46,9,FALSE)","v":{"$error":"#N/A"}},null,{"$f":"VLOOKUP(C52,Shakerr!$C$3:$L$46,7,FALSE)","v":{"$error":"#N/A"}},{"$f":"VLOOKUP(C52,VoY!$C$3:$L$46,9,FALSE)","v":{"$error":"#N/A"}},{"$f":"VLOOKUP(C52,Kirkstall!$C$3:$L$46,9,FALSE)","v":{"$error":"#N/A"}},{"$f":"VLOOKUP($C52,City!$C$3:$L$69,9,FALSE)","v":{"$error":"#N/A"}},{"$f":"VLOOKUP(C52,'Guy Fawkes'!$C$3:$N$34,9,FALSE)","v":{"$error":"#N/A"}},{"$f":"VLOOKUP(C52,Abbey!$C$3:$L$48,7,FALSE)","v":{"$error":"#N/A"}},{"$f":"VLOOKUP(C52,Chevin!$C$3:$L$50,7,FALSE)","v":{"$error":"#N/A"}},null,0,0,0,0,0,0,0,0,0,0,0,0,0,0,0,0,0,0,0,0,0,0]
[null,null,"Mick Chambers","1953-09-05",63,{"$f":"IFERROR(VLOOKUP(C53,'Division Lookup'!$A$2:$D$251,4,FALSE),\"Second\")","v":"Second"},{"$f":"VLOOKUP(C53,Dewsbury!$C$3:$L$46,7,FALSE)","v":{"$error":"#N/A"}},{"$f":"VLOOKUP($C53,Bradford!$C$3:$L$66,7,FALSE)","v":{"$error":"#N/A"}},{"$f":"VLOOKUP($C53,Keighley!$C$3:$N$42,9,FALSE)","v":{"$error":"#N/A"}},{"$f":"VLOOKUP($C53,'Bunny '!$C$3:$N$20,9,FALSE)","v":{"$error":"#N/A"}},{"$f":"VLOOKUP($C53,Liverpool!$C$3:$N$59,9,FALSE)","v":{"$error":"#N/A"}},{"$f":"VLOOKUP(C53,'VoY 10m'!$C$3:$N$40,9,FALSE)","v":{"$error":"#N/A"}},{"$f":"VLOOKUP(C53,Guisley!$C$3:$N$49,9,FALSE)","v":{"$error":"#N/A"}},{"$f":"VLOOKUP(C53,Odda!$C$3:$N$42,9,FALSE)","v":{"$error":"#N/A"}},{"$f":"VLOOKUP(C53,'Leeds half'!$C$4:$N$31,9,FALSE)","v":{"$error":"#N/A"}},{"$f":"VLOOKUP(C53,Ilkley!$C$3:$L$46,7,FALSE)","v":{"$error":"#N/A"}},{"$f":"VLOOKUP(C53,Otley!$C$3:$L$46,9,FALSE)","v":{"$error":"#N/A"}},{"$f":"VLOOKUP(C53,Solstice!$C$3:$L$48,7,FALSE)","v":{"$error":"#N/A"}},{"$f":"VLOOKUP(C53,Eccup!$C$3:$L$46,9,FALSE)","v":{"$error":"#N/A"}},null,{"$f":"VLOOKUP(C53,Shakerr!$C$3:$L$46,7,FALSE)","v":{"$error":"#N/A"}},{"$f":"VLOOKUP(C53,VoY!$C$3:$L$46,9,FALSE)","v":{"$error":"#N/A"}},{"$f":"VLOOKUP(C53,Kirkstall!$C$3:$L$46,9,FALSE)","v":{"$error":"#N/A"}},{"$f":"VLOOKUP($C53,City!$C$3:$L$69,9,FALSE)","v":{"$error":"#N/A"}},{"$f":"VLOOKUP(C53,'Guy Fawkes'!$C$3:$N$34,9,FALSE)","v":{"$error":"#N/A"}},{"$f":"VLOOKUP(C53,Abbey!$C$3:$L$48,7,FALSE)","v":{"$error":"#N/A"}},{"$f":"VLOOKUP(C53,Chevin!$C$3:$L$50,7,FALSE)","v":{"$error":"#N/A"}},null,0,0,0,0,0,0,0,0,0,0,0,0,0,0,0,0,0,0,0,0,0,0]
[null,null,"Claire Cockcroft","1974-04-05",42,{"$f":"IFERROR(VLOOKUP(C54,'Division Lookup'!$A$2:$D$251,4,FALSE),\"Second\")","v":"Second"},{"$f":"VLOOKUP(C54,Dewsbury!$C$3:$L$46,7,FALSE)","v":{"$error":"#N/A"}},{"$f":"VLOOKUP($C54,Bradford!$C$3:$L$66,7,FALSE)","v":{"$error":"#N/A"}},{"$f":"VLOOKUP($C54,Keighley!$C$3:$N$42,9,FALSE)","v":{"$error":"#N/A"}},{"$f":"VLOOKUP($C54,'Bunny '!$C$3:$N$20,9,FALSE)","v":{"$error":"#N/A"}},{"$f":"VLOOKUP($C54,Liverpool!$C$3:$N$59,9,FALSE)","v":{"$error":"#N/A"}},{"$f":"VLOOKUP(C54,'VoY 10m'!$C$3:$N$40,9,FALSE)","v":{"$error":"#N/A"}},{"$f":"VLOOKUP(C54,Guisley!$C$3:$N$49,9,FALSE)","v":{"$error":"#N/A"}},{"$f":"VLOOKUP(C54,Odda!$C$3:$N$42,9,FALSE)","v":{"$error":"#N/A"}},{"$f":"VLOOKUP(C54,'Leeds half'!$C$4:$N$31,9,FALSE)","v":{"$error":"#N/A"}},{"$f":"VLOOKUP(C54,Ilkley!$C$3:$L$46,7,FALSE)","v":{"$error":"#N/A"}},{"$f":"VLOOKUP(C54,Otley!$C$3:$L$46,9,FALSE)","v":{"$error":"#N/A"}},{"$f":"VLOOKUP(C54,Solstice!$C$3:$L$48,7,FALSE)","v":{"$error":"#N/A"}},{"$f":"VLOOKUP(C54,Eccup!$C$3:$L$46,9,FALSE)","v":{"$error":"#N/A"}},null,{"$f":"VLOOKUP(C54,Shakerr!$C$3:$L$46,7,FALSE)","v":{"$error":"#N/A"}},{"$f":"VLOOKUP(C54,VoY!$C$3:$L$46,9,FALSE)","v":{"$error":"#N/A"}},{"$f":"VLOOKUP(C54,Kirkstall!$C$3:$L$46,9,FALSE)","v":{"$error":"#N/A"}},{"$f":"VLOOKUP($C54,City!$C$3:$L$69,9,FALSE)","v":{"$error":"#N/A"}},{"$f":"VLOOKUP(C54,'Guy Fawkes'!$C$3:$N$34,9,FALSE)","v":{"$error":"#N/A"}},{"$f":"VLOOKUP(C54,Abbey!$C$3:$L$48,7,FALSE)","v":{"$error":"#N/A"}},{"$f":"VLOOKUP(C54,Chevin!$C$3:$L$50,7,FALSE)","v":{"$error":"#N/A"}},null,0,0,0,0,0,0,0,0,0,0,0,0,0,0,0,0,0,0,0,0,0,0]
[null,null,"Diane Collett","1963-09-12",53,{"$f":"IFERROR(VLOOKUP(C55,'Division Lookup'!$A$2:$D$251,4,FALSE),\"Second\")","v":"Second"},{"$f":"VLOOKUP(C55,Dewsbury!$C$3:$L$46,7,FALSE)","v":{"$error":"#N/A"}},{"$f":"VLOOKUP($C55,Bradford!$C$3:$L$66,7,FALSE)","v":{"$error":"#N/A"}},{"$f":"VLOOKUP($C55,Keighley!$C$3:$N$42,9,FALSE)","v":{"$error":"#N/A"}},{"$f":"VLOOKUP($C55,'Bunny '!$C$3:$N$20,9,FALSE)","v":{"$error":"#N/A"}},{"$f":"VLOOKUP($C55,Liverpool!$C$3:$N$59,9,FALSE)","v":{"$error":"#N/A"}},{"$f":"VLOOKUP(C55,'VoY 10m'!$C$3:$N$40,9,FALSE)","v":{"$error":"#N/A"}},{"$f":"VLOOKUP(C55,Guisley!$C$3:$N$49,9,FALSE)","v":{"$error":"#N/A"}},{"$f":"VLOOKUP(C55,Odda!$C$3:$N$42,9,FALSE)","v":{"$error":"#N/A"}},{"$f":"VLOOKUP(C55,'Leeds half'!$C$4:$N$31,9,FALSE)","v":{"$error":"#N/A"}},{"$f":"VLOOKUP(C55,Ilkley!$C$3:$L$46,7,FALSE)","v":{"$error":"#N/A"}},{"$f":"VLOOKUP(C55,Otley!$C$3:$L$46,9,FALSE)","v":{"$error":"#N/A"}},{"$f":"VLOOKUP(C55,Solstice!$C$3:$L$48,7,FALSE)","v":{"$error":"#N/A"}},{"$f":"VLOOKUP(C55,Eccup!$C$3:$L$46,9,FALSE)","v":{"$error":"#N/A"}},null,{"$f":"VLOOKUP(C55,Shakerr!$C$3:$L$46,7,FALSE)","v":{"$error":"#N/A"}},{"$f":"VLOOKUP(C55,VoY!$C$3:$L$46,9,FALSE)","v":{"$error":"#N/A"}},{"$f":"VLOOKUP(C55,Kirkstall!$C$3:$L$46,9,FALSE)","v":{"$error":"#N/A"}},{"$f":"VLOOKUP($C55,City!$C$3:$L$69,9,FALSE)","v":{"$error":"#N/A"}},{"$f":"VLOOKUP(C55,'Guy Fawkes'!$C$3:$N$34,9,FALSE)","v":{"$error":"#N/A"}},{"$f":"VLOOKUP(C55,Abbey!$C$3:$L$48,7,FALSE)","v":{"$error":"#N/A"}},{"$f":"VLOOKUP(C55,Chevin!$C$3:$L$50,7,FALSE)","v":{"$error":"#N/A"}},null,0,0,0,0,0,0,0,0,0,0,0,0,0,0,0,0,0,0,0,0,0,0]
[null,null,"William Collinson","1984-06-03",32,{"$f":"IFERROR(VLOOKUP(C56,'Division Lookup'!$A$2:$D$251,4,FALSE),\"Second\")","v":"Second"},{"$f":"VLOOKUP(C56,Dewsbury!$C$3:$L$46,7,FALSE)","v":{"$error":"#N/A"}},{"$f":"VLOOKUP($C56,Bradford!$C$3:$L$66,7,FALSE)","v":{"$error":"#N/A"}},{"$f":"VLOOKUP($C56,Keighley!$C$3:$N$42,9,FALSE)","v":{"$error":"#N/A"}},{"$f":"VLOOKUP($C56,'Bunny '!$C$3:$N$20,9,FALSE)","v":{"$error":"#N/A"}},{"$f":"VLOOKUP($C56,Liverpool!$C$3:$N$59,9,FALSE)","v":{"$error":"#N/A"}},{"$f":"VLOOKUP(C56,'VoY 10m'!$C$3:$N$40,9,FALSE)","v":{"$error":"#N/A"}},{"$f":"VLOOKUP(C56,Guisley!$C$3:$N$49,9,FALSE)","v":{"$error":"#N/A"}},{"$f":"VLOOKUP(C56,Odda!$C$3:$N$42,9,FALSE)","v":{"$error":"#N/A"}},{"$f":"VLOOKUP(C56,'Leeds half'!$C$4:$N$31,9,FALSE)","v":{"$error":"#N/A"}},{"$f":"VLOOKUP(C56,Ilkley!$C$3:$L$46,7,FALSE)","v":{"$error":"#N/A"}},{"$f":"VLOOKUP(C56,Otley!$C$3:$L$46,9,FALSE)","v":{"$error":"#N/A"}},{"$f":"VLOOKUP(C56,Solstice!$C$3:$L$48,7,FALSE)","v":{"$error":"#N/A"}},{"$f":"VLOOKUP(C56,Eccup!$C$3:$L$46,9,FALSE)","v":{"$error":"#N/A"}},null,{"$f":"VLOOKUP(C56,Shakerr!$C$3:$L$46,7,FALSE)","v":{"$error":"#N/A"}},{"$f":"VLOOKUP(C56,VoY!$C$3:$L$46,9,FALSE)","v":{"$error":"#N/A"}},{"$f":"VLOOKUP(C56,Kirkstall!$C$3:$L$46,9,FALSE)","v":{"$error":"#N/A"}},{"$f":"VLOOKUP($C56,City!$C$3:$L$69,9,FALSE)","v":{"$error":"#N/A"}},{"$f":"VLOOKUP(C56,'Guy Fawkes'!$C$3:$N$34,9,FALSE)","v":{"$error":"#N/A"}},{"$f":"VLOOKUP(C56,Abbey!$C$3:$L$48,7,FALSE)","v":{"$error":"#N/A"}},{"$f":"VLOOKUP(C56,Chevin!$C$3:$L$50,7,FALSE)","v":{"$error":"#N/A"}},null,0,0,0,0,0,0,0,0,0,0,0,0,0,0,0,0,0,0,0,0,0,0]
[null,null,"Jenny Colwell","1968-10-20",48,{"$f":"IFERROR(VLOOKUP(C57,'Division Lookup'!$A$2:$D$251,4,FALSE),\"Second\")","v":"First"},{"$f":"VLOOKUP(C57,Dewsbury!$C$3:$L$46,7,FALSE)","v":{"$error":"#N/A"}},{"$f":"VLOOKUP($C57,Bradford!$C$3:$L$66,7,FALSE)","v":0.53366914103923646},{"$f":"VLOOKUP($C57,Keighley!$C$3:$N$42,9,FALSE)","v":{"$error":"#N/A"}},{"$f":"VLOOKUP($C57,'Bunny '!$C$3:$N$20,9,FALSE)","v":{"$error":"#N/A"}},{"$f":"VLOOKUP($C57,Liverpool!$C$3:$N$59,9,FALSE)","v":{"$error":"#N/A"}},{"$f":"VLOOKUP(C57,'VoY 10m'!$C$3:$N$40,9,FALSE)","v":{"$error":"#N/A"}},{"$f":"VLOOKUP(C57,Guisley!$C$3:$N$49,9,FALSE)","v":{"$error":"#N/A"}},{"$f":"VLOOKUP(C57,Odda!$C$3:$N$42,9,FALSE)","v":{"$error":"#N/A"}},{"$f":"VLOOKUP(C57,'Leeds half'!$C$4:$N$31,9,FALSE)","v":{"$error":"#N/A"}},{"$f":"VLOOKUP(C57,Ilkley!$C$3:$L$46,7,FALSE)","v":{"$error":"#N/A"}},{"$f":"VLOOKUP(C57,Otley!$C$3:$L$46,9,FALSE)","v":{"$error":"#N/A"}},{"$f":"VLOOKUP(C57,Solstice!$C$3:$L$48,7,FALSE)","v":0.49629171817058099},{"$f":"VLOOKUP(C57,Eccup!$C$3:$L$46,9,FALSE)","v":{"$error":"#N/A"}},null,{"$f":"VLOOKUP(C57,Shakerr!$C$3:$L$46,7,FALSE)","v":{"$error":"#N/A"}},{"$f":"VLOOKUP(C57,VoY!$C$3:$L$46,9,FALSE)","v":{"$error":"#N/A"}},{"$f":"VLOOKUP(C57,Kirkstall!$C$3:$L$46,9,FALSE)","v":{"$error":"#N/A"}},{"$f":"VLOOKUP($C57,City!$C$3:$L$69,9,FALSE)","v":{"$error":"#N/A"}},{"$f":"VLOOKUP(C57,'Guy Fawkes'!$C$3:$N$34,9,FALSE)","v":{"$error":"#N/A"}},{"$f":"VLOOKUP(C57,Abbey!$C$3:$L$48,7,FALSE)","v":{"$error":"#N/A"}},{"$f":"VLOOKUP(C57,Chevin!$C$3:$L$50,7,FALSE)","v":{"$error":"#N/A"}},null,0,13,0,0,0,0,0,0,0,0,0,5,0,0,0,0,0,0,0,0,0,2]
[null,null,"John Colwell","1956-08-16",60,{"$f":"IFERROR(VLOOKUP(C58,'Division Lookup'!$A$2:$D$251,4,FALSE),\"Second\")","v":"First"},{"$f":"VLOOKUP(C58,Dewsbury!$C$3:$L$46,7,FALSE)","v":{"$error":"#N/A"}},{"$f":"VLOOKUP($C58,Bradford!$C$3:$L$66,7,FALSE)","v":{"$error":"#N/A"}},{"$f":"VLOOKUP($C58,Keighley!$C$3:$N$42,9,FALSE)","v":{"$error":"#N/A"}},{"$f":"VLOOKUP($C58,'Bunny '!$C$3:$N$20,9,FALSE)","v":{"$error":"#N/A"}},{"$f":"VLOOKUP($C58,Liverpool!$C$3:$N$59,9,FALSE)","v":{"$error":"#N/A"}},{"$f":"VLOOKUP(C58,'VoY 10m'!$C$3:$N$40,9,FALSE)","v":{"$error":"#N/A"}},{"$f":"VLOOKUP(C58,Guisley!$C$3:$N$49,9,FALSE)","v":{"$error":"#N/A"}},{"$f":"VLOOKUP(C58,Odda!$C$3:$N$42,9,FALSE)","v":{"$error":"#N/A"}},{"$f":"VLOOKUP(C58,'Leeds half'!$C$4:$N$31,9,FALSE)","v":{"$error":"#N/A"}},{"$f":"VLOOKUP(C58,Ilkley!$C$3:$L$46,7,FALSE)","v":{"$error":"#N/A"}},{"$f":"VLOOKUP(C58,Otley!$C$3:$L$46,9,FALSE)","v":{"$error":"#N/A"}},{"$f":"VLOOKUP(C58,Solstice!$C$3:$L$48,7,FALSE)","v":0.54263301500682126},{"$f":"VLOOKUP(C58,Eccup!$C$3:$L$46,9,FALSE)","v":{"$error":"#N/A"}},null,{"$f":"VLOOKUP(C58,Shakerr!$C$3:$L$46,7,FALSE)","v":{"$error":"#N/A"}},{"$f":"VLOOKUP(C58,VoY!$C$3:$L$46,9,FALSE)","v":{"$error":"#N/A"}},{"$f":"VLOOKUP(C58,Kirkstall!$C$3:$L$46,9,FALSE)","v":{"$error":"#N/A"}},{"$f":"VLOOKUP($C58,City!$C$3:$L$69,9,FALSE)","v":{"$error":"#N/A"}},{"$f":"VLOOKUP(C58,'Guy Fawkes'!$C$3:$N$34,9,FALSE)","v":{"$error":"#N/A"}},{"$f":"VLOOKUP(C58,Abbey!$C$3:$L$48,7,FALSE)","v":{"$error":"#N/A"}},{"$f":"VLOOKUP(C58,Chevin!$C$3:$L$50,7,FALSE)","v":{"$error":"#N/A"}},null,0,0,0,0,0,0,0,0,0,0,0,4,0,0,0,0,0,0,0,0,0,1]
[null,null,"Bernadette Cook","1968-09-22",48,{"$f":"IFERROR(VLOOKUP(C59,'Division Lookup'!$A$2:$D$251,4,FALSE),\"Second\")","v":"First"},{"$f":"VLOOKUP(C59,Dewsbury!$C$3:$L$46,7,FALSE)","v":{"$error":"#N/A"}},{"$f":"VLOOKUP($C59,Bradford!$C$3:$L$66,7,FALSE)","v":{"$error":"#N/A"}},{"$f":"VLOOKUP($C59,Keighley!$C$3:$N$42,9,FALSE)","v":{"$error":"#N/A"}},{"$f":"VLOOKUP($C59,'Bunny '!$C$3:$N$20,9,FALSE)","v":{"$error":"#N/A"}},{"$f":"VLOOKUP($C59,Liverpool!$C$3:$N$59,9,FALSE)","v":{"$error":"#N/A"}},{"$f":"VLOOKUP(C59,'VoY 10m'!$C$3:$N$40,9,FALSE)","v":{"$error":"#N/A"}},{"$f":"VLOOKUP(C59,Guisley!$C$3:$N$49,9,FALSE)","v":{"$error":"#N/A"}},{"$f":"VLOOKUP(C59,Odda!$C$3:$N$42,9,FALSE)","v":{"$error":"#N/A"}},{"$f":"VLOOKUP(C59,'Leeds half'!$C$4:$N$31,9,FALSE)","v":{"$error":"#N/A"}},{"$f":"VLOOKUP(C59,Ilkley!$C$3:$L$46,7,FALSE)","v":{"$error":"#N/A"}},{"$f":"VLOOKUP(C59,Otley!$C$3:$L$46,9,FALSE)","v":{"$error":"#N/A"}},{"$f":"VLOOKUP(C59,Solstice!$C$3:$L$48,7,FALSE)","v":{"$error":"#N/A"}},{"$f":"VLOOKUP(C59,Eccup!$C$3:$L$46,9,FALSE)","v":{"$error":"#N/A"}},null,{"$f":"VLOOKUP(C59,Shakerr!$C$3:$L$46,7,FALSE)","v":{"$error":"#N/A"}},{"$f":"VLOOKUP(C59,VoY!$C$3:$L$46,9,FALSE)","v":{"$error":"#N/A"}},{"$f":"VLOOKUP(C59,Kirkstall!$C$3:$L$46,9,FALSE)","v":{"$error":"#N/A"}},{"$f":"VLOOKUP($C59,City!$C$3:$L$69,9,FALSE)","v":{"$error":"#N/A"}},{"$f":"VLOOKUP(C59,'Guy Fawkes'!$C$3:$N$34,9,FALSE)","v":{"$error":"#N/A"}},{"$f":"VLOOKUP(C59,Abbey!$C$3:$L$48,7,FALSE)","v":{"$error":"#N/A"}},{"$f":"VLOOKUP(C59,Chevin!$C$3:$L$50,7,FALSE)","v":{"$error":"#N/A"}},null,0,0,0,0,0,0,0,0,0,0,0,0,0,0,0,0,0,0,0,0,0,0]
[null,null,"Graham Corbett","1979-09-13",37,{"$f":"IFERROR(VLOOKUP(C60,'Division Lookup'!$A$2:$D$251,4,FALSE),\"Second\")","v":"Premier"},{"$f":"VLOOKUP(C60,Dewsbury!$C$3:$L$46,7,FALSE)","v":0.79305423406279729},{"$f":"VLOOKUP($C60,Bradford!$C$3:$L$66,7,FALSE)","v":{"$error":"#N/A"}},{"$f":"VLOOKUP($C60,Keighley!$C$3:$N$42,9,FALSE)","v":{"$error":"#N/A"}},{"$f":"VLOOKUP($C60,'Bunny '!$C$3:$N$20,9,FALSE)","v":{"$error":"#N/A"}},{"$f":"VLOOKUP($C60,Liverpool!$C$3:$N$59,9,FALSE)","v":{"$error":"#N/A"}},{"$f":"VLOOKUP(C60,'VoY 10m'!$C$3:$N$40,9,FALSE)","v":{"$error":"#N/A"}},{"$f":"VLOOKUP(C60,Guisley!$C$3:$N$49,9,FALSE)","v":{"$error":"#N/A"}},{"$f":"VLOOKUP(C60,Odda!$C$3:$N$42,9,FALSE)","v":{"$error":"#N/A"}},{"$f":"VLOOKUP(C60,'Leeds half'!$C$4:$N$31,9,FALSE)","v":{"$error":"#N/A"}},{"$f":"VLOOKUP(C60,Ilkley!$C$3:$L$46,7,FALSE)","v":{"$error":"#N/A"}},{"$f":"VLOOKUP(C60,Otley!$C$3:$L$46,9,FALSE)","v":{"$error":"#N/A"}},{"$f":"VLOOKUP(C60,Solstice!$C$3:$L$48,7,FALSE)","v":{"$error":"#N/A"}},{"$f":"VLOOKUP(C60,Eccup!$C$3:$L$46,9,FALSE)","v":{"$error":"#N/A"}},null,{"$f":"VLOOKUP(C60,Shakerr!$C$3:$L$46,7,FALSE)","v":{"$error":"#N/A"}},{"$f":"VLOOKUP(C60,VoY!$C$3:$L$46,9,FALSE)","v":{"$error":"#N/A"}},{"$f":"VLOOKUP(C60,Kirkstall!$C$3:$L$46,9,FALSE)","v":{"$error":"#N/A"}},{"$f":"VLOOKUP($C60,City!$C$3:$L$69,9,FALSE)","v":{"$error":"#N/A"}},{"$f":"VLOOKUP(C60,'Guy Fawkes'!$C$3:$N$34,9,FALSE)","v":{"$error":"#N/A"}},{"$f":"VLOOKUP(C60,Abbey!$C$3:$L$48,7,FALSE)","v":{"$error":"#N/A"}},{"$f":"VLOOKUP(C60,Chevin!$C$3:$L$50,7,FALSE)","v":{"$error":"#N/A"}},null,1,0,0,0,0,0,0,0,0,0,0,0,0,0,0,0,0,0,0,0,0,1]
[null,null,"julie Cowan-Clark","1964-05-08",52,{"$f":"IFERROR(VLOOKUP(C61,'Division Lookup'!$A$2:$D$251,4,FALSE),\"Second\")","v":"Second"},{"$f":"VLOOKUP(C61,Dewsbury!$C$3:$L$46,7,FALSE)","v":{"$error":"#N/A"}},{"$f":"VLOOKUP($C61,Bradford!$C$3:$L$66,7,FALSE)","v":{"$error":"#N/A"}},{"$f":"VLOOKUP($C61,Keighley!$C$3:$N$42,9,FALSE)","v":{"$error":"#N/A"}},{"$f":"VLOOKUP($C61,'Bunny '!$C$3:$N$20,9,FALSE)","v":{"$error":"#N/A"}},{"$f":"VLOOKUP($C61,Liverpool!$C$3:$N$59,9,FALSE)","v":{"$error":"#N/A"}},{"$f":"VLOOKUP(C61,'VoY 10m'!$C$3:$N$40,9,FALSE)","v":{"$error":"#N/A"}},{"$f":"VLOOKUP(C61,Guisley!$C$3:$N$49,9,FALSE)","v":{"$error":"#N/A"}},{"$f":"VLOOKUP(C61,Odda!$C$3:$N$42,9,FALSE)","v":{"$error":"#N/A"}},{"$f":"VLOOKUP(C61,'Leeds half'!$C$4:$N$31,9,FALSE)","v":{"$error":"#N/A"}},{"$f":"VLOOKUP(C61,Ilkley!$C$3:$L$46,7,FALSE)","v":{"$error":"#N/A"}},{"$f":"VLOOKUP(C61,Otley!$C$3:$L$46,9,FALSE)","v":{"$error":"#N/A"}},{"$f":"VLOOKUP(C61,Solstice!$C$3:$L$48,7,FALSE)","v":{"$error":"#N/A"}},{"$f":"VLOOKUP(C61,Eccup!$C$3:$L$46,9,FALSE)","v":{"$error":"#N/A"}},null,{"$f":"VLOOKUP(C61,Shakerr!$C$3:$L$46,7,FALSE)","v":{"$error":"#N/A"}},{"$f":"VLOOKUP(C61,VoY!$C$3:$L$46,9,FALSE)","v":{"$error":"#N/A"}},{"$f":"VLOOKUP(C61,Kirkstall!$C$3:$L$46,9,FALSE)","v":{"$error":"#N/A"}},{"$f":"VLOOKUP($C61,City!$C$3:$L$69,9,FALSE)","v":{"$error":"#N/A"}},{"$f":"VLOOKUP(C61,'Guy Fawkes'!$C$3:$N$34,9,FALSE)","v":{"$error":"#N/A"}},{"$f":"VLOOKUP(C61,Abbey!$C$3:$L$48,7,FALSE)","v":{"$error":"#N/A"}},{"$f":"VLOOKUP(C61,Chevin!$C$3:$L$50,7,FALSE)","v":{"$error":"#N/A"}},null,0,0,0,0,0,0,0,0,0,0,0,0,0,0,0,0,0,0,0,0,0,0]
[null,null,"Duane Craven","1972-04-22",44,{"$f":"IFERROR(VLOOKUP(C62,'Division Lookup'!$A$2:$D$251,4,FALSE),\"Second\")","v":"First"},{"$f":"VLOOKUP(C62,Dewsbury!$C$3:$L$46,7,FALSE)","v":{"$error":"#N/A"}},{"$f":"VLOOKUP($C62,Bradford!$C$3:$L$66,7,FALSE)","v":0.67369631901840488},{"$f":"VLOOKUP($C62,Keighley!$C$3:$N$42,9,FALSE)","v":{"$error":"#N/A"}},{"$f":"VLOOKUP($C62,'Bunny '!$C$3:$N$20,9,FALSE)","v":{"$error":"#N/A"}},{"$f":"VLOOKUP($C62,Liverpool!$C$3:$N$59,9,FALSE)","v":{"$error":"#N/A"}},{"$f":"VLOOKUP(C62,'VoY 10m'!$C$3:$N$40,9,FALSE)","v":{"$error":"#N/A"}},{"$f":"VLOOKUP(C62,Guisley!$C$3:$N$49,9,FALSE)","v":{"$error":"#N/A"}},{"$f":"VLOOKUP(C62,Odda!$C$3:$N$42,9,FALSE)","v":{"$error":"#N/A"}},{"$f":"VLOOKUP(C62,'Leeds half'!$C$4:$N$31,9,FALSE)","v":0.61834654586636462},{"$f":"VLOOKUP(C62,Ilkley!$C$3:$L$46,7,FALSE)","v":{"$error":"#N/A"}},{"$f":"VLOOKUP(C62,Otley!$C$3:$L$46,9,FALSE)","v":{"$error":"#N/A"}},{"$f":"VLOOKUP(C62,Solstice!$C$3:$L$48,7,FALSE)","v":{"$error":"#N/A"}},{"$f":"VLOOKUP(C62,Eccup!$C$3:$L$46,9,FALSE)","v":{"$error":"#N/A"}},null,{"$f":"VLOOKUP(C62,Shakerr!$C$3:$L$46,7,FALSE)","v":{"$error":"#N/A"}},{"$f":"VLOOKUP(C62,VoY!$C$3:$L$46,9,FALSE)","v":{"$error":"#N/A"}},{"$f":"VLOOKUP(C62,Kirkstall!$C$3:$L$46,9,FALSE)","v":{"$error":"#N/A"}},{"$f":"VLOOKUP($C62,City!$C$3:$L$69,9,FALSE)","v":{"$error":"#N/A"}},{"$f":"VLOOKUP(C62,'Guy Fawkes'!$C$3:$N$34,9,FALSE)","v":{"$error":"#N/A"}},{"$f":"VLOOKUP(C62,Abbey!$C$3:$L$48,7,FALSE)","v":{"$error":"#N/A"}},{"$f":"VLOOKUP(C62,Chevin!$C$3:$L$50,7,FALSE)","v":{"$error":"#N/A"}},null,0,3,0,0,0,0,0,0,1,0,0,0,0,0,0,0,0,0,0,0,0,2]
[null,null,"Patricia Craven","1957-03-30",59,{"$f":"IFERROR(VLOOKUP(C63,'Division Lookup'!$A$2:$D$251,4,FALSE),\"Second\")","v":"Second"},{"$f":"VLOOKUP(C63,Dewsbury!$C$3:$L$46,7,FALSE)","v":{"$error":"#N/A"}},{"$f":"VLOOKUP($C63,Bradford!$C$3:$L$66,7,FALSE)","v":{"$error":"#N/A"}},{"$f":"VLOOKUP($C63,Keighley!$C$3:$N$42,9,FALSE)","v":{"$error":"#N/A"}},{"$f":"VLOOKUP($C63,'Bunny '!$C$3:$N$20,9,FALSE)","v":{"$error":"#N/A"}},{"$f":"VLOOKUP($C63,Liverpool!$C$3:$N$59,9,FALSE)","v":{"$error":"#N/A"}},{"$f":"VLOOKUP(C63,'VoY 10m'!$C$3:$N$40,9,FALSE)","v":{"$error":"#N/A"}},{"$f":"VLOOKUP(C63,Guisley!$C$3:$N$49,9,FALSE)","v":{"$error":"#N/A"}},{"$f":"VLOOKUP(C63,Odda!$C$3:$N$42,9,FALSE)","v":{"$error":"#N/A"}},{"$f":"VLOOKUP(C63,'Leeds half'!$C$4:$N$31,9,FALSE)","v":{"$error":"#N/A"}},{"$f":"VLOOKUP(C63,Ilkley!$C$3:$L$46,7,FALSE)","v":{"$error":"#N/A"}},{"$f":"VLOOKUP(C63,Otley!$C$3:$L$46,9,FALSE)","v":{"$error":"#N/A"}},{"$f":"VLOOKUP(C63,Solstice!$C$3:$L$48,7,FALSE)","v":{"$error":"#N/A"}},{"$f":"VLOOKUP(C63,Eccup!$C$3:$L$46,9,FALSE)","v":{"$error":"#N/A"}},null,{"$f":"VLOOKUP(C63,Shakerr!$C$3:$L$46,7,FALSE)","v":{"$error":"#N/A"}},{"$f":"VLOOKUP(C63,VoY!$C$3:$L$46,9,FALSE)","v":{"$error":"#N/A"}},{"$f":"VLOOKUP(C63,Kirkstall!$C$3:$L$46,9,FALSE)","v":{"$error":"#N/A"}},{"$f":"VLOOKUP($C63,City!$C$3:$L$69,9,FALSE)","v":{"$error":"#N/A"}},{"$f":"VLOOKUP(C63,'Guy Fawkes'!$C$3:$N$34,9,FALSE)","v":{"$error":"#N/A"}},{"$f":"VLOOKUP(C63,Abbey!$C$3:$L$48,7,FALSE)","v":{"$error":"#N/A"}},{"$f":"VLOOKUP(C63,Chevin!$C$3:$L$50,7,FALSE)","v":{"$error":"#N/A"}},null,0,0,0,0,0,0,0,0,0,0,0,0,0,0,0,0,0,0,0,0,0,0]
[null,null,"Paula Cutter","1978-01-02",38,{"$f":"IFERROR(VLOOKUP(C64,'Division Lookup'!$A$2:$D$251,4,FALSE),\"Second\")","v":"Second"},{"$f":"VLOOKUP(C64,Dewsbury!$C$3:$L$46,7,FALSE)","v":{"$error":"#N/A"}},{"$f":"VLOOKUP($C64,Bradford!$C$3:$L$66,7,FALSE)","v":{"$error":"#N/A"}},{"$f":"VLOOKUP($C64,Keighley!$C$3:$N$42,9,FALSE)","v":{"$error":"#N/A"}},{"$f":"VLOOKUP($C64,'Bunny '!$C$3:$N$20,9,FALSE)","v":{"$error":"#N/A"}},{"$f":"VLOOKUP($C64,Liverpool!$C$3:$N$59,9,FALSE)","v":{"$error":"#N/A"}},{"$f":"VLOOKUP(C64,'VoY 10m'!$C$3:$N$40,9,FALSE)","v":{"$error":"#N/A"}},{"$f":"VLOOKUP(C64,Guisley!$C$3:$N$49,9,FALSE)","v":{"$error":"#N/A"}},{"$f":"VLOOKUP(C64,Odda!$C$3:$N$42,9,FALSE)","v":{"$error":"#N/A"}},{"$f":"VLOOKUP(C64,'Leeds half'!$C$4:$N$31,9,FALSE)","v":{"$error":"#N/A"}},{"$f":"VLOOKUP(C64,Ilkley!$C$3:$L$46,7,FALSE)","v":{"$error":"#N/A"}},{"$f":"VLOOKUP(C64,Otley!$C$3:$L$46,9,FALSE)","v":{"$error":"#N/A"}},{"$f":"VLOOKUP(C64,Solstice!$C$3:$L$48,7,FALSE)","v":{"$error":"#N/A"}},{"$f":"VLOOKUP(C64,Eccup!$C$3:$L$46,9,FALSE)","v":{"$error":"#N/A"}},null,{"$f":"VLOOKUP(C64,Shakerr!$C$3:$L$46,7,FALSE)","v":{"$error":"#N/A"}},{"$f":"VLOOKUP(C64,VoY!$C$3:$L$46,9,FALSE)","v":{"$error":"#N/A"}},{"$f":"VLOOKUP(C64,Kirkstall!$C$3:$L$46,9,FALSE)","v":{"$error":"#N/A"}},{"$f":"VLOOKUP($C64,City!$C$3:$L$69,9,FALSE)","v":{"$error":"#N/A"}},{"$f":"VLOOKUP(C64,'Guy Fawkes'!$C$3:$N$34,9,FALSE)","v":{"$error":"#N/A"}},{"$f":"VLOOKUP(C64,Abbey!$C$3:$L$48,7,FALSE)","v":{"$error":"#N/A"}},{"$f":"VLOOKUP(C64,Chevin!$C$3:$L$50,7,FALSE)","v":{"$error":"#N/A"}},null,0,0,0,0,0,0,0,0,0,0,0,0,0,0,0,0,0,0,0,0,0,0]
[null,null,"Denise Davis","1968-04-26",48,{"$f":"IFERROR(VLOOKUP(C65,'Division Lookup'!$A$2:$D$251,4,FALSE),\"Second\")","v":"Premier"},{"$f":"VLOOKUP(C65,Dewsbury!$C$3:$L$46,7,FALSE)","v":0.61428135489777236},{"$f":"VLOOKUP($C65,Bradford!$C$3:$L$66,7,FALSE)","v":{"$error":"#N/A"}},{"$f":"VLOOKUP($C65,Keighley!$C$3:$N$42,9,FALSE)","v":0.58517441860465114},{"$f":"VLOOKUP($C65,'Bunny '!$C$3:$N$20,9,FALSE)","v":{"$error":"#N/A"}},{"$f":"VLOOKUP($C65,Liverpool!$C$3:$N$59,9,FALSE)","v":0.57396216500262731},{"$f":"VLOOKUP(C65,'VoY 10m'!$C$3:$N$40,9,FALSE)","v":{"$error":"#N/A"}},{"$f":"VLOOKUP(C65,Guisley!$C$3:$N$49,9,FALSE)","v":{"$error":"#N/A"}},{"$f":"VLOOKUP(C65,Odda!$C$3:$N$42,9,FALSE)","v":0.48296545105566219},{"$f":"VLOOKUP(C65,'Leeds half'!$C$4:$N$31,9,FALSE)","v":{"$error":"#N/A"}},{"$f":"VLOOKUP(C65,Ilkley!$C$3:$L$46,7,FALSE)","v":{"$error":"#N/A"}},{"$f":"VLOOKUP(C65,Otley!$C$3:$L$46,9,FALSE)","v":{"$error":"#N/A"}},{"$f":"VLOOKUP(C65,Solstice!$C$3:$L$48,7,FALSE)","v":0.52312703583061892},{"$f":"VLOOKUP(C65,Eccup!$C$3:$L$46,9,FALSE)","v":{"$error":"#N/A"}},null,{"$f":"VLOOKUP(C65,Shakerr!$C$3:$L$46,7,FALSE)","v":{"$error":"#N/A"}},{"$f":"VLOOKUP(C65,VoY!$C$3:$L$46,9,FALSE)","v":{"$error":"#N/A"}},{"$f":"VLOOKUP(C65,Kirkstall!$C$3:$L$46,9,FALSE)","v":{"$error":"#N/A"}},{"$f":"VLOOKUP($C65,City!$C$3:$L$69,9,FALSE)","v":{"$error":"#N/A"}},{"$f":"VLOOKUP(C65,'Guy Fawkes'!$C$3:$N$34,9,FALSE)","v":0.50586834495662525},{"$f":"VLOOKUP(C65,Abbey!$C$3:$L$48,7,FALSE)","v":{"$error":"#N/A"}},{"$f":"VLOOKUP(C65,Chevin!$C$3:$L$50,7,FALSE)","v":{"$error":"#N/A"}},null,13,0,8,0,17,0,0,8,0,0,0,14,0,0,0,0,0,0,15,0,0,6]
[null,null,"Mark Davis","1975-06-06",41,{"$f":"IFERROR(VLOOKUP(C66,'Division Lookup'!$A$2:$D$251,4,FALSE),\"Second\")","v":"Second"},{"$f":"VLOOKUP(C66,Dewsbury!$C$3:$L$46,7,FALSE)","v":{"$error":"#N/A"}},{"$f":"VLOOKUP($C66,Bradford!$C$3:$L$66,7,FALSE)","v":{"$error":"#N/A"}},{"$f":"VLOOKUP($C66,Keighley!$C$3:$N$42,9,FALSE)","v":{"$error":"#N/A"}},{"$f":"VLOOKUP($C66,'Bunny '!$C$3:$N$20,9,FALSE)","v":{"$error":"#N/A"}},{"$f":"VLOOKUP($C66,Liverpool!$C$3:$N$59,9,FALSE)","v":{"$error":"#N/A"}},{"$f":"VLOOKUP(C66,'VoY 10m'!$C$3:$N$40,9,FALSE)","v":{"$error":"#N/A"}},{"$f":"VLOOKUP(C66,Guisley!$C$3:$N$49,9,FALSE)","v":{"$error":"#N/A"}},{"$f":"VLOOKUP(C66,Odda!$C$3:$N$42,9,FALSE)","v":{"$error":"#N/A"}},{"$f":"VLOOKUP(C66,'Leeds half'!$C$4:$N$31,9,FALSE)","v":{"$error":"#N/A"}},{"$f":"VLOOKUP(C66,Ilkley!$C$3:$L$46,7,FALSE)","v":{"$error":"#N/A"}},{"$f":"VLOOKUP(C66,Otley!$C$3:$L$46,9,FALSE)","v":{"$error":"#N/A"}},{"$f":"VLOOKUP(C66,Solstice!$C$3:$L$48,7,FALSE)","v":{"$error":"#N/A"}},{"$f":"VLOOKUP(C66,Eccup!$C$3:$L$46,9,FALSE)","v":{"$error":"#N/A"}},null,{"$f":"VLOOKUP(C66,Shakerr!$C$3:$L$46,7,FALSE)","v":{"$error":"#N/A"}},{"$f":"VLOOKUP(C66,VoY!$C$3:$L$46,9,FALSE)","v":{"$error":"#N/A"}},{"$f":"VLOOKUP(C66,Kirkstall!$C$3:$L$46,9,FALSE)","v":{"$error":"#N/A"}},{"$f":"VLOOKUP($C66,City!$C$3:$L$69,9,FALSE)","v":{"$error":"#N/A"}},{"$f":"VLOOKUP(C66,'Guy Fawkes'!$C$3:$N$34,9,FALSE)","v":{"$error":"#N/A"}},{"$f":"VLOOKUP(C66,Abbey!$C$3:$L$48,7,FALSE)","v":{"$error":"#N/A"}},{"$f":"VLOOKUP(C66,Chevin!$C$3:$L$50,7,FALSE)","v":{"$error":"#N/A"}},null,0,0,0,0,0,0,0,0,0,0,0,0,0,0,0,0,0,0,0,0,0,0]
[null,null,"Liz Dearden","1968-10-16",48,{"$f":"IFERROR(VLOOKUP(C67,'Division Lookup'!$A$2:$D$251,4,FALSE),\"Second\")","v":"Second"},{"$f":"VLOOKUP(C67,Dewsbury!$C$3:$L$46,7,FALSE)","v":{"$error":"#N/A"}},{"$f":"VLOOKUP($C67,Bradford!$C$3:$L$66,7,FALSE)","v":0.53866738025153871},{"$f":"VLOOKUP($C67,Keighley!$C$3:$N$42,9,FALSE)","v":{"$error":"#N/A"}},{"$f":"VLOOKUP($C67,'Bunny '!$C$3:$N$20,9,FALSE)","v":{"$error":"#N/A"}},{"$f":"VLOOKUP($C67,Liverpool!$C$3:$N$59,9,FALSE)","v":{"$error":"#N/A"}},{"$f":"VLOOKUP(C67,'VoY 10m'!$C$3:$N$40,9,FALSE)","v":{"$error":"#N/A"}},{"$f":"VLOOKUP(C67,Guisley!$C$3:$N$49,9,FALSE)","v":{"$error":"#N/A"}},{"$f":"VLOOKUP(C67,Odda!$C$3:$N$42,9,FALSE)","v":{"$error":"#N/A"}},{"$f":"VLOOKUP(C67,'Leeds half'!$C$4:$N$31,9,FALSE)","v":{"$error":"#N/A"}},{"$f":"VLOOKUP(C67,Ilkley!$C$3:$L$46,7,FALSE)","v":{"$error":"#N/A"}},{"$f":"VLOOKUP(C67,Otley!$C$3:$L$46,9,FALSE)","v":{"$error":"#N/A"}},{"$f":"VLOOKUP(C67,Solstice!$C$3:$L$48,7,FALSE)","v":{"$error":"#N/A"}},{"$f":"VLOOKUP(C67,Eccup!$C$3:$L$46,9,FALSE)","v":{"$error":"#N/A"}},null,{"$f":"VLOOKUP(C67,Shakerr!$C$3:$L$46,7,FALSE)","v":{"$error":"#N/A"}},{"$f":"VLOOKUP(C67,VoY!$C$3:$L$46,9,FALSE)","v":{"$error":"#N/A"}},{"$f":"VLOOKUP(C67,Kirkstall!$C$3:$L$46,9,FALSE)","v":{"$error":"#N/A"}},{"$f":"VLOOKUP($C67,City!$C$3:$L$69,9,FALSE)","v":{"$error":"#N/A"}},{"$f":"VLOOKUP(C67,'Guy Fawkes'!$C$3:$N$34,9,FALSE)","v":{"$error":"#N/A"}},{"$f":"VLOOKUP(C67,Abbey!$C$3:$L$48,7,FALSE)","v":0.53479010925819426},{"$f":"VLOOKUP(C67,Chevin!$C$3:$L$50,7,FALSE)","v":{"$error":"#N/A"}},null,{"$f":"IF(ISNA(G67),0,1+COUNTIFS($F$3:$F$399,$F67,G$3:G$399,\">\"&G67))","v":0},{"$f":"IF(ISNA(H67),0,1+COUNTIFS($F$3:$F$399,$F67,H$3:H$399,\">\"&H67))","v":19},{"$f":"IF(ISNA(I67),0,1+COUNTIFS($F$3:$F$399,$F67,I$3:I$399,\">\"&I67))","v":0},{"$f":"IF(ISNA(J67),0,1+COUNTIFS($F$3:$F$399,$F67,J$3:J$399,\">\"&J67))","v":0},{"$f":"IF(ISNA(K67),0,1+COUNTIFS($F$3:$F$399,$F67,K$3:K$399,\">\"&K67))","v":0},{"$f":"IF(ISNA(L67),0,1+COUNTIFS($F$3:$F$399,$F67,L$3:L$399,\">\"&L67))","v":0},{"$f":"IF(ISNA(M67),0,1+COUNTIFS($F$3:$F$399,$F67,M$3:M$399,\">\"&M67))","v":0},{"$f":"IF(ISNA(N67),0,1+COUNTIFS($F$3:$F$399,$F67,N$3:N$399,\">\"&N67))","v":0},0,0,0,0,0,0,0,0,0,0,0,16,0,2]
[null,null,"Loris Dell'Amico","1974-07-11",{"$f":"DATEDIF(D68,$E$1,\"Y\")","v":42},{"$f":"IFERROR(VLOOKUP(C68,'Division Lookup'!$A$2:$D$251,4,FALSE),\"Second\")","v":"First"},{"$f":"VLOOKUP(C68,Dewsbury!$C$3:$L$46,7,FALSE)","v":{"$error":"#N/A"}},{"$f":"VLOOKUP($C68,Bradford!$C$3:$L$66,7,FALSE)","v":{"$error":"#N/A"}},{"$f":"VLOOKUP($C68,Keighley!$C$3:$N$42,9,FALSE)","v":{"$error":"#N/A"}},{"$f":"VLOOKUP($C68,'Bunny '!$C$3:$N$20,9,FALSE)","v":{"$error":"#N/A"}},{"$f":"VLOOKUP($C68,Liverpool!$C$3:$N$59,9,FALSE)","v":{"$error":"#N/A"}},{"$f":"VLOOKUP(C68,'VoY 10m'!$C$3:$N$40,9,FALSE)","v":{"$error":"#N/A"}},{"$f":"VLOOKUP(C68,Guisley!$C$3:$N$49,9,FALSE)","v":{"$error":"#N/A"}},{"$f":"VLOOKUP(C68,Odda!$C$3:$N$42,9,FALSE)","v":{"$error":"#N/A"}},{"$f":"VLOOKUP(C68,'Leeds half'!$C$4:$N$31,9,FALSE)","v":{"$error":"#N/A"}},{"$f":"VLOOKUP(C68,Ilkley!$C$3:$L$46,7,FALSE)","v":{"$error":"#N/A"}},{"$f":"VLOOKUP(C68,Otley!$C$3:$L$46,9,FALSE)","v":{"$error":"#N/A"}},{"$f":"VLOOKUP(C68,Solstice!$C$3:$L$48,7,FALSE)","v":{"$error":"#N/A"}},{"$f":"VLOOKUP(C68,Eccup!$C$3:$L$46,9,FALSE)","v":{"$error":"#N/A"}},null,{"$f":"VLOOKUP(C68,Shakerr!$C$3:$L$46,7,FALSE)","v":0.42329336921947641},{"$f":"VLOOKUP(C68,VoY!$C$3:$L$46,9,FALSE)","v":{"$error":"#N/A"}},{"$f":"VLOOKUP(C68,Kirkstall!$C$3:$L$46,9,FALSE)","v":{"$error":"#N/A"}},{"$f":"VLOOKUP($C68,City!$C$3:$L$69,9,FALSE)","v":{"$error":"#N/A"}},{"$f":"VLOOKUP(C68,'Guy Fawkes'!$C$3:$N$34,9,FALSE)","v":0.60285045734950016},{"$f":"VLOOKUP(C68,Abbey!$C$3:$L$48,7,FALSE)","v":{"$error":"#N/A"}},{"$f":"VLOOKUP(C68,Chevin!$C$3:$L$50,7,FALSE)","v":{"$error":"#N/A"}},null,0,0,0,0,0,0,0,0,{"$f":"IF(ISNA(O68),0,1+COUNTIFS($F$3:$F$399,$F68,O$3:O$399,\">\"&O68))","v":0},{"$f":"IF(ISNA(P68),0,1+COUNTIFS($F$3:$F$399,$F68,P$3:P$399,\">\"&P68))","v":0},{"$f":"IF(ISNA(Q68),0,1+COUNTIFS($F$3:$F$399,$F68,Q$3:Q$399,\">\"&Q68))","v":0},{"$f":"IF(ISNA(R68),0,1+COUNTIFS($F$3:$F$399,$F68,R$3:R$399,\">\"&R68))","v":0},{"$f":"IF(ISNA(S68),0,1+COUNTIFS($F$3:$F$399,$F68,S$3:S$399,\">\"&S68))","v":0},0,{"$f":"IF(ISNA(U68),0,1+COUNTIFS($F$3:$F$399,$F68,U$3:U$399,\">\"&U68))","v":6},{"$f":"IF(ISNA(V68),0,1+COUNTIFS($F$3:$F$399,$F68,V$3:V$399,\">\"&V68))","v":0},{"$f":"IF(ISNA(W68),0,1+COUNTIFS($F$3:$F$399,$F68,W$3:W$399,\">\"&W68))","v":0},{"$f":"IF(ISNA(X68),0,1+COUNTIFS($F$3:$F$399,$F68,X$3:X$399,\">\"&X68))","v":0},{"$f":"IF(ISNA(Y68),0,1+COUNTIFS($F$3:$F$399,$F68,Y$3:Y$399,\">\"&Y68))","v":1},{"$f":"IF(ISNA(Z68),0,1+COUNTIFS($F$3:$F$399,$F68,Z$3:Z$399,\">\"&Z68))","v":0},{"$f":"IF(ISNA(AA68),0,1+COUNTIFS($F$3:$F$399,$F68,AA$3:AA$399,\">\"&AA68))","v":0},{"$f":"COUNTIF(AC68:AW68,\">0\")","v":2}]
[null,null,"Louise Dell'Amico","1975-04-30",41,{"$f":"IFERROR(VLOOKUP(C69,'Division Lookup'!$A$2:$D$251,4,FALSE),\"Second\")","v":"Premier"},{"$f":"VLOOKUP(C69,Dewsbury!$C$3:$L$46,7,FALSE)","v":{"$error":"#N/A"}},{"$f":"VLOOKUP($C69,Bradford!$C$3:$L$66,7,FALSE)","v":{"$error":"#N/A"}},{"$f":"VLOOKUP($C69,Keighley!$C$3:$N$42,9,FALSE)","v":0.50997304582210246},{"$f":"VLOOKUP($C69,'Bunny '!$C$3:$N$20,9,FALSE)","v":{"$error":"#N/A"}},{"$f":"VLOOKUP($C69,Liverpool!$C$3:$N$59,9,FALSE)","v":0.51466165413533838},{"$f":"VLOOKUP(C69,'VoY 10m'!$C$3:$N$40,9,FALSE)","v":{"$error":"#N/A"}},{"$f":"VLOOKUP(C69,Guisley!$C$3:$N$49,9,FALSE)","v":{"$error":"#N/A"}},{"$f":"VLOOKUP(C69,Odda!$C$3:$N$42,9,FALSE)","v":{"$error":"#N/A"}},{"$f":"VLOOKUP(C69,'Leeds half'!$C$4:$N$31,9,FALSE)","v":0.49787853073099758},{"$f":"VLOOKUP(C69,Ilkley!$C$3:$L$46,7,FALSE)","v":{"$error":"#N/A"}},{"$f":"VLOOKUP(C69,Otley!$C$3:$L$46,9,FALSE)","v":{"$error":"#N/A"}},{"$f":"VLOOKUP(C69,Solstice!$C$3:$L$48,7,FALSE)","v":{"$error":"#N/A"}},{"$f":"VLOOKUP(C69,Eccup!$C$3:$L$46,9,FALSE)","v":{"$error":"#N/A"}},null,{"$f":"VLOOKUP(C69,Shakerr!$C$3:$L$46,7,FALSE)","v":0.26186851211072665},{"$f":"VLOOKUP(C69,VoY!$C$3:$L$46,9,FALSE)","v":{"$error":"#N/A"}},{"$f":"VLOOKUP(C69,Kirkstall!$C$3:$L$46,9,FALSE)","v":{"$error":"#N/A"}},{"$f":"VLOOKUP($C69,City!$C$3:$L$69,9,FALSE)","v":{"$error":"#N/A"}},{"$f":"VLOOKUP(C69,'Guy Fawkes'!$C$3:$N$34,9,FALSE)","v":{"$error":"#N/A"}},{"$f":"VLOOKUP(C69,Abbey!$C$3:$L$48,7,FALSE)","v":{"$error":"#N/A"}},{"$f":"VLOOKUP(C69,Chevin!$C$3:$L$50,7,FALSE)","v":{"$error":"#N/A"}},null,0,0,11,0,18,0,0,0,6,0,0,0,0,0,14,0,0,0,0,0,0,4]
[null,null,"Zanna Dennis","1989-08-21",27,{"$f":"IFERROR(VLOOKUP(C70,'Division Lookup'!$A$2:$D$251,4,FALSE),\"Second\")","v":"Second"},{"$f":"VLOOKUP(C70,Dewsbury!$C$3:$L$46,7,FALSE)","v":{"$error":"#N/A"}},{"$f":"VLOOKUP($C70,Bradford!$C$3:$L$66,7,FALSE)","v":{"$error":"#N/A"}},{"$f":"VLOOKUP($C70,Keighley!$C$3:$N$42,9,FALSE)","v":{"$error":"#N/A"}},{"$f":"VLOOKUP($C70,'Bunny '!$C$3:$N$20,9,FALSE)","v":{"$error":"#N/A"}},{"$f":"VLOOKUP($C70,Liverpool!$C$3:$N$59,9,FALSE)","v":{"$error":"#N/A"}},{"$f":"VLOOKUP(C70,'VoY 10m'!$C$3:$N$40,9,FALSE)","v":{"$error":"#N/A"}},{"$f":"VLOOKUP(C70,Guisley!$C$3:$N$49,9,FALSE)","v":{"$error":"#N/A"}},{"$f":"VLOOKUP(C70,Odda!$C$3:$N$42,9,FALSE)","v":{"$error":"#N/A"}},{"$f":"VLOOKUP(C70,'Leeds half'!$C$4:$N$31,9,FALSE)","v":{"$error":"#N/A"}},{"$f":"VLOOKUP(C70,Ilkley!$C$3:$L$46,7,FALSE)","v":{"$error":"#N/A"}},{"$f":"VLOOKUP(C70,Otley!$C$3:$L$46,9,FALSE)","v":{"$error":"#N/A"}},{"$f":"VLOOKUP(C70,Solstice!$C$3:$L$48,7,FALSE)","v":{"$error":"#N/A"}},{"$f":"VLOOKUP(C70,Eccup!$C$3:$L$46,9,FALSE)","v":{"$error":"#N/A"}},null,{"$f":"VLOOKUP(C70,Shakerr!$C$3:$L$46,7,FALSE)","v":{"$error":"#N/A"}},{"$f":"VLOOKUP(C70,VoY!$C$3:$L$46,9,FALSE)","v":{"$error":"#N/A"}},{"$f":"VLOOKUP(C70,Kirkstall!$C$3:$L$46,9,FALSE)","v":{"$error":"#N/A"}},{"$f":"VLOOKUP($C70,City!$C$3:$L$69,9,FALSE)","v":{"$error":"#N/A"}},{"$f":"VLOOKUP(C70,'Guy Fawkes'!$C$3:$N$34,9,FALSE)","v":{"$error":"#N/A"}},{"$f":"VLOOKUP(C70,Abbey!$C$3:$L$48,7,FALSE)","v":{"$error":"#N/A"}},{"$f":"VLOOKUP(C70,Chevin!$C$3:$L$50,7,FALSE)","v":{"$error":"#N/A"}},null,0,0,0,0,0,0,0,0,0,0,0,0,0,0,0,0,0,0,0,0,0,0]
[null,null,"Ian Dickinson","1970-07-13",46,{"$f":"IFERROR(VLOOKUP(C71,'Division Lookup'!$A$2:$D$251,4,FALSE),\"Second\")","v":"First"},{"$f":"VLOOKUP(C71,Dewsbury!$C$3:$L$46,7,FALSE)","v":{"$error":"#N/A"}},{"$f":"VLOOKUP($C71,Bradford!$C$3:$L$66,7,FALSE)","v":0.49377248823692221},{"$f":"VLOOKUP($C71,Keighley!$C$3:$N$42,9,FALSE)","v":{"$error":"#N/A"}},{"$f":"VLOOKUP($C71,'Bunny '!$C$3:$N$20,9,FALSE)","v":{"$error":"#N/A"}},{"$f":"VLOOKUP($C71,Liverpool!$C$3:$N$59,9,FALSE)","v":{"$error":"#N/A"}},{"$f":"VLOOKUP(C71,'VoY 10m'!$C$3:$N$40,9,FALSE)","v":{"$error":"#N/A"}},{"$f":"VLOOKUP(C71,Guisley!$C$3:$N$49,9,FALSE)","v":{"$error":"#N/A"}},{"$f":"VLOOKUP(C71,Odda!$C$3:$N$42,9,FALSE)","v":{"$error":"#N/A"}},{"$f":"VLOOKUP(C71,'Leeds half'!$C$4:$N$31,9,FALSE)","v":{"$error":"#N/A"}},{"$f":"VLOOKUP(C71,Ilkley!$C$3:$L$46,7,FALSE)","v":{"$error":"#N/A"}},{"$f":"VLOOKUP(C71,Otley!$C$3:$L$46,9,FALSE)","v":{"$error":"#N/A"}},{"$f":"VLOOKUP(C71,Solstice!$C$3:$L$48,7,FALSE)","v":{"$error":"#N/A"}},{"$f":"VLOOKUP(C71,Eccup!$C$3:$L$46,9,FALSE)","v":{"$error":"#N/A"}},null,{"$f":"VLOOKUP(C71,Shakerr!$C$3:$L$46,7,FALSE)","v":{"$error":"#N/A"}},{"$f":"VLOOKUP(C71,VoY!$C$3:$L$46,9,FALSE)","v":{"$error":"#N/A"}},{"$f":"VLOOKUP(C71,Kirkstall!$C$3:$L$46,9,FALSE)","v":{"$error":"#N/A"}},{"$f":"VLOOKUP($C71,City!$C$3:$L$69,9,FALSE)","v":0.52470588235294113},{"$f":"VLOOKUP(C71,'Guy Fawkes'!$C$3:$N$34,9,FALSE)","v":{"$error":"#N/A"}},{"$f":"VLOOKUP(C71,Abbey!$C$3:$L$48,7,FALSE)","v":{"$error":"#N/A"}},{"$f":"VLOOKUP(C71,Chevin!$C$3:$L$50,7,FALSE)","v":{"$error":"#N/A"}},null,0,14,0,0,0,0,0,0,0,0,0,0,0,0,0,0,0,5,0,0,0,2]
[null,null,"Paul Disney","1968-04-22",48,{"$f":"IFERROR(VLOOKUP(C72,'Division Lookup'!$A$2:$D$251,4,FALSE),\"Second\")","v":"Premier"},{"$f":"VLOOKUP(C72,Dewsbury!$C$3:$L$46,7,FALSE)","v":{"$error":"#N/A"}},{"$f":"VLOOKUP($C72,Bradford!$C$3:$L$66,7,FALSE)","v":{"$error":"#N/A"}},{"$f":"VLOOKUP($C72,Keighley!$C$3:$N$42,9,FALSE)","v":{"$error":"#N/A"}},{"$f":"VLOOKUP($C72,'Bunny '!$C$3:$N$20,9,FALSE)","v":{"$error":"#N/A"}},{"$f":"VLOOKUP($C72,Liverpool!$C$3:$N$59,9,FALSE)","v":{"$error":"#N/A"}},{"$f":"VLOOKUP(C72,'VoY 10m'!$C$3:$N$40,9,FALSE)","v":{"$error":"#N/A"}},{"$f":"VLOOKUP(C72,Guisley!$C$3:$N$49,9,FALSE)","v":{"$error":"#N/A"}},{"$f":"VLOOKUP(C72,Odda!$C$3:$N$42,9,FALSE)","v":{"$error":"#N/A"}},{"$f":"VLOOKUP(C72,'Leeds half'!$C$4:$N$31,9,FALSE)","v":{"$error":"#N/A"}},{"$f":"VLOOKUP(C72,Ilkley!$C$3:$L$46,7,FALSE)","v":{"$error":"#N/A"}},{"$f":"VLOOKUP(C72,Otley!$C$3:$L$46,9,FALSE)","v":{"$error":"#N/A"}},{"$f":"VLOOKUP(C72,Solstice!$C$3:$L$48,7,FALSE)","v":{"$error":"#N/A"}},{"$f":"VLOOKUP(C72,Eccup!$C$3:$L$46,9,FALSE)","v":{"$error":"#N/A"}},null,{"$f":"VLOOKUP(C72,Shakerr!$C$3:$L$46,7,FALSE)","v":{"$error":"#N/A"}},{"$f":"VLOOKUP(C72,VoY!$C$3:$L$46,9,FALSE)","v":{"$error":"#N/A"}},{"$f":"VLOOKUP(C72,Kirkstall!$C$3:$L$46,9,FALSE)","v":{"$error":"#N/A"}},{"$f":"VLOOKUP($C72,City!$C$3:$L$69,9,FALSE)","v":{"$error":"#N/A"}},{"$f":"VLOOKUP(C72,'Guy Fawkes'!$C$3:$N$34,9,FALSE)","v":{"$error":"#N/A"}},{"$f":"VLOOKUP(C72,Abbey!$C$3:$L$48,7,FALSE)","v":{"$error":"#N/A"}},{"$f":"VLOOKUP(C72,Chevin!$C$3:$L$50,7,FALSE)","v":{"$error":"#N/A"}},null,0,0,0,0,0,0,0,0,0,0,0,0,0,0,0,0,0,0,0,0,0,0]
[null,null,"Robert Burrell Donkin","1972-10-21",44,{"$f":"IFERROR(VLOOKUP(C73,'Division Lookup'!$A$2:$D$251,4,FALSE),\"Second\")","v":"Second"},{"$f":"VLOOKUP(C73,Dewsbury!$C$3:$L$46,7,FALSE)","v":{"$error":"#N/A"}},{"$f":"VLOOKUP($C73,Bradford!$C$3:$L$66,7,FALSE)","v":{"$error":"#N/A"}},{"$f":"VLOOKUP($C73,Keighley!$C$3:$N$42,9,FALSE)","v":{"$error":"#N/A"}},{"$f":"VLOOKUP($C73,'Bunny '!$C$3:$N$20,9,FALSE)","v":{"$error":"#N/A"}},{"$f":"VLOOKUP($C73,Liverpool!$C$3:$N$59,9,FALSE)","v":{"$error":"#N/A"}},{"$f":"VLOOKUP(C73,'VoY 10m'!$C$3:$N$40,9,FALSE)","v":{"$error":"#N/A"}},{"$f":"VLOOKUP(C73,Guisley!$C$3:$N$49,9,FALSE)","v":{"$error":"#N/A"}},{"$f":"VLOOKUP(C73,Odda!$C$3:$N$42,9,FALSE)","v":0.59986343461932401},{"$f":"VLOOKUP(C73,'Leeds half'!$C$4:$N$31,9,FALSE)","v":{"$error":"#N/A"}},{"$f":"VLOOKUP(C73,Ilkley!$C$3:$L$46,7,FALSE)","v":{"$error":"#N/A"}},{"$f":"VLOOKUP(C73,Otley!$C$3:$L$46,9,FALSE)","v":{"$error":"#N/A"}},{"$f":"VLOOKUP(C73,Solstice!$C$3:$L$48,7,FALSE)","v":{"$error":"#N/A"}},{"$f":"VLOOKUP(C73,Eccup!$C$3:$L$46,9,FALSE)","v":{"$error":"#N/A"}},null,{"$f":"VLOOKUP(C73,Shakerr!$C$3:$L$46,7,FALSE)","v":{"$error":"#N/A"}},{"$f":"VLOOKUP(C73,VoY!$C$3:$L$46,9,FALSE)","v":{"$error":"#N/A"}},{"$f":"VLOOKUP(C73,Kirkstall!$C$3:$L$46,9,FALSE)","v":{"$error":"#N/A"}},{"$f":"VLOOKUP($C73,City!$C$3:$L$69,9,FALSE)","v":{"$error":"#N/A"}},{"$f":"VLOOKUP(C73,'Guy Fawkes'!$C$3:$N$34,9,FALSE)","v":{"$error":"#N/A"}},{"$f":"VLOOKUP(C73,Abbey!$C$3:$L$48,7,FALSE)","v":{"$error":"#N/A"}},{"$f":"VLOOKUP(C73,Chevin!$C$3:$L$50,7,FALSE)","v":{"$error":"#N/A"}},null,0,0,0,0,0,0,0,1,0,0,0,0,0,0,0,0,0,0,0,0,0,1]
[null,null,"Alan Douglas","1969-06-22",47,{"$f":"IFERROR(VLOOKUP(C74,'Division Lookup'!$A$2:$D$251,4,FALSE),\"Second\")","v":"Premier"},{"$f":"VLOOKUP(C74,Dewsbury!$C$3:$L$46,7,FALSE)","v":{"$error":"#N/A"}},{"$f":"VLOOKUP($C74,Bradford!$C$3:$L$66,7,FALSE)","v":0.66865005578281889},{"$f":"VLOOKUP($C74,Keighley!$C$3:$N$42,9,FALSE)","v":{"$error":"#N/A"}},{"$f":"VLOOKUP($C74,'Bunny '!$C$3:$N$20,9,FALSE)","v":{"$error":"#N/A"}},{"$f":"VLOOKUP($C74,Liverpool!$C$3:$N$59,9,FALSE)","v":{"$error":"#N/A"}},{"$f":"VLOOKUP(C74,'VoY 10m'!$C$3:$N$40,9,FALSE)","v":{"$error":"#N/A"}},{"$f":"VLOOKUP(C74,Guisley!$C$3:$N$49,9,FALSE)","v":0.57683670195700998},{"$f":"VLOOKUP(C74,Odda!$C$3:$N$42,9,FALSE)","v":{"$error":"#N/A"}},{"$f":"VLOOKUP(C74,'Leeds half'!$C$4:$N$31,9,FALSE)","v":{"$error":"#N/A"}},{"$f":"VLOOKUP(C74,Ilkley!$C$3:$L$46,7,FALSE)","v":0.50862800565770871},{"$f":"VLOOKUP(C74,Otley!$C$3:$L$46,9,FALSE)","v":0.61754239062172911},{"$f":"VLOOKUP(C74,Solstice!$C$3:$L$48,7,FALSE)","v":0.57971602434077074},{"$f":"VLOOKUP(C74,Eccup!$C$3:$L$46,9,FALSE)","v":0.61343314618423772},null,{"$f":"VLOOKUP(C74,Shakerr!$C$3:$L$46,7,FALSE)","v":0.47440633245382585},{"$f":"VLOOKUP(C74,VoY!$C$3:$L$46,9,FALSE)","v":0.65109707446808496},{"$f":"VLOOKUP(C74,Kirkstall!$C$3:$L$46,9,FALSE)","v":0.6542168674698795},{"$f":"VLOOKUP($C74,City!$C$3:$L$69,9,FALSE)","v":0.62233873530346373},{"$f":"VLOOKUP(C74,'Guy Fawkes'!$C$3:$N$34,9,FALSE)","v":0.60950413223140498},{"$f":"VLOOKUP(C74,Abbey!$C$3:$L$48,7,FALSE)","v":{"$error":"#N/A"}},{"$f":"VLOOKUP(C74,Chevin!$C$3:$L$50,7,FALSE)","v":0.60467706013363032},null,0,7,0,0,0,0,5,0,0,5,8,8,3,0,7,4,4,12,8,0,4,12]
[null,null,"Stuart Dunbar","1962-05-30",54,{"$f":"IFERROR(VLOOKUP(C75,'Division Lookup'!$A$2:$D$251,4,FALSE),\"Second\")","v":"Premier"},{"$f":"VLOOKUP(C75,Dewsbury!$C$3:$L$46,7,FALSE)","v":{"$error":"#N/A"}},{"$f":"VLOOKUP($C75,Bradford!$C$3:$L$66,7,FALSE)","v":0.83355234340779671},{"$f":"VLOOKUP($C75,Keighley!$C$3:$N$42,9,FALSE)","v":{"$error":"#N/A"}},{"$f":"VLOOKUP($C75,'Bunny '!$C$3:$N$20,9,FALSE)","v":0.76742233417296379},{"$f":"VLOOKUP($C75,Liverpool!$C$3:$N$59,9,FALSE)","v":{"$error":"#N/A"}},{"$f":"VLOOKUP(C75,'VoY 10m'!$C$3:$N$40,9,FALSE)","v":{"$error":"#N/A"}},{"$f":"VLOOKUP(C75,Guisley!$C$3:$N$49,9,FALSE)","v":0.76826806620912391},{"$f":"VLOOKUP(C75,Odda!$C$3:$N$42,9,FALSE)","v":{"$error":"#N/A"}},{"$f":"VLOOKUP(C75,'Leeds half'!$C$4:$N$31,9,FALSE)","v":{"$error":"#N/A"}},{"$f":"VLOOKUP(C75,Ilkley!$C$3:$L$46,7,FALSE)","v":0.66260445682451241},{"$f":"VLOOKUP(C75,Otley!$C$3:$L$46,9,FALSE)","v":0.80230769230769228},{"$f":"VLOOKUP(C75,Solstice!$C$3:$L$48,7,FALSE)","v":0.74888558692422003},{"$f":"VLOOKUP(C75,Eccup!$C$3:$L$46,9,FALSE)","v":{"$error":"#N/A"}},null,{"$f":"VLOOKUP(C75,Shakerr!$C$3:$L$46,7,FALSE)","v":{"$error":"#N/A"}},{"$f":"VLOOKUP(C75,VoY!$C$3:$L$46,9,FALSE)","v":0.85155610155610151},{"$f":"VLOOKUP(C75,Kirkstall!$C$3:$L$46,9,FALSE)","v":{"$error":"#N/A"}},{"$f":"VLOOKUP($C75,City!$C$3:$L$69,9,FALSE)","v":0.82848605577689238},{"$f":"VLOOKUP(C75,'Guy Fawkes'!$C$3:$N$34,9,FALSE)","v":0.81209447184012462},{"$f":"VLOOKUP(C75,Abbey!$C$3:$L$48,7,FALSE)","v":{"$error":"#N/A"}},{"$f":"VLOOKUP(C75,Chevin!$C$3:$L$50,7,FALSE)","v":{"$error":"#N/A"}},null,0,1,0,2,0,0,1,0,0,1,1,1,0,0,0,1,0,1,1,0,0,9]
[null,null,"Lee  East","1977-01-25",39,{"$f":"IFERROR(VLOOKUP(C76,'Division Lookup'!$A$2:$D$251,4,FALSE),\"Second\")","v":"Second"},{"$f":"VLOOKUP(C76,Dewsbury!$C$3:$L$46,7,FALSE)","v":{"$error":"#N/A"}},{"$f":"VLOOKUP($C76,Bradford!$C$3:$L$66,7,FALSE)","v":{"$error":"#N/A"}},{"$f":"VLOOKUP($C76,Keighley!$C$3:$N$42,9,FALSE)","v":{"$error":"#N/A"}},{"$f":"VLOOKUP($C76,'Bunny '!$C$3:$N$20,9,FALSE)","v":{"$error":"#N/A"}},{"$f":"VLOOKUP($C76,Liverpool!$C$3:$N$59,9,FALSE)","v":{"$error":"#N/A"}},{"$f":"VLOOKUP(C76,'VoY 10m'!$C$3:$N$40,9,FALSE)","v":{"$error":"#N/A"}},{"$f":"VLOOKUP(C76,Guisley!$C$3:$N$49,9,FALSE)","v":{"$error":"#N/A"}},{"$f":"VLOOKUP(C76,Odda!$C$3:$N$42,9,FALSE)","v":{"$error":"#N/A"}},{"$f":"VLOOKUP(C76,'Leeds half'!$C$4:$N$31,9,FALSE)","v":{"$error":"#N/A"}},{"$f":"VLOOKUP(C76,Ilkley!$C$3:$L$46,7,FALSE)","v":{"$error":"#N/A"}},{"$f":"VLOOKUP(C76,Otley!$C$3:$L$46,9,FALSE)","v":{"$error":"#N/A"}},{"$f":"VLOOKUP(C76,Solstice!$C$3:$L$48,7,FALSE)","v":{"$error":"#N/A"}},{"$f":"VLOOKUP(C76,Eccup!$C$3:$L$46,9,FALSE)","v":{"$error":"#N/A"}},null,{"$f":"VLOOKUP(C76,Shakerr!$C$3:$L$46,7,FALSE)","v":{"$error":"#N/A"}},{"$f":"VLOOKUP(C76,VoY!$C$3:$L$46,9,FALSE)","v":{"$error":"#N/A"}},{"$f":"VLOOKUP(C76,Kirkstall!$C$3:$L$46,9,FALSE)","v":{"$error":"#N/A"}},{"$f":"VLOOKUP($C76,City!$C$3:$L$69,9,FALSE)","v":{"$error":"#N/A"}},{"$f":"VLOOKUP(C76,'Guy Fawkes'!$C$3:$N$34,9,FALSE)","v":{"$error":"#N/A"}},{"$f":"VLOOKUP(C76,Abbey!$C$3:$L$48,7,FALSE)","v":{"$error":"#N/A"}},{"$f":"VLOOKUP(C76,Chevin!$C$3:$L$50,7,FALSE)","v":{"$error":"#N/A"}},null,0,0,0,0,0,0,0,0,0,0,0,0,0,0,0,0,0,0,0,0,0,0]
[null,null,"Craig Elliott","1973-11-03",43,{"$f":"IFERROR(VLOOKUP(C77,'Division Lookup'!$A$2:$D$251,4,FALSE),\"Second\")","v":"Second"},{"$f":"VLOOKUP(C77,Dewsbury!$C$3:$L$46,7,FALSE)","v":{"$error":"#N/A"}},{"$f":"VLOOKUP($C77,Bradford!$C$3:$L$66,7,FALSE)","v":0.5868102288021535},{"$f":"VLOOKUP($C77,Keighley!$C$3:$N$42,9,FALSE)","v":{"$error":"#N/A"}},{"$f":"VLOOKUP($C77,'Bunny '!$C$3:$N$20,9,FALSE)","v":{"$error":"#N/A"}},{"$f":"VLOOKUP($C77,Liverpool!$C$3:$N$59,9,FALSE)","v":{"$error":"#N/A"}},{"$f":"VLOOKUP(C77,'VoY 10m'!$C$3:$N$40,9,FALSE)","v":{"$error":"#N/A"}},{"$f":"VLOOKUP(C77,Guisley!$C$3:$N$49,9,FALSE)","v":{"$error":"#N/A"}},{"$f":"VLOOKUP(C77,Odda!$C$3:$N$42,9,FALSE)","v":{"$error":"#N/A"}},{"$f":"VLOOKUP(C77,'Leeds half'!$C$4:$N$31,9,FALSE)","v":0.57886700259581614},{"$f":"VLOOKUP(C77,Ilkley!$C$3:$L$46,7,FALSE)","v":{"$error":"#N/A"}},{"$f":"VLOOKUP(C77,Otley!$C$3:$L$46,9,FALSE)","v":0.57369477911646583},{"$f":"VLOOKUP(C77,Solstice!$C$3:$L$48,7,FALSE)","v":{"$error":"#N/A"}},{"$f":"VLOOKUP(C77,Eccup!$C$3:$L$46,9,FALSE)","v":{"$error":"#N/A"}},null,{"$f":"VLOOKUP(C77,Shakerr!$C$3:$L$46,7,FALSE)","v":0.45157949249093743},{"$f":"VLOOKUP(C77,VoY!$C$3:$L$46,9,FALSE)","v":{"$error":"#N/A"}},{"$f":"VLOOKUP(C77,Kirkstall!$C$3:$L$46,9,FALSE)","v":{"$error":"#N/A"}},{"$f":"VLOOKUP($C77,City!$C$3:$L$69,9,FALSE)","v":{"$error":"#N/A"}},{"$f":"VLOOKUP(C77,'Guy Fawkes'!$C$3:$N$34,9,FALSE)","v":{"$error":"#N/A"}},{"$f":"VLOOKUP(C77,Abbey!$C$3:$L$48,7,FALSE)","v":{"$error":"#N/A"}},{"$f":"VLOOKUP(C77,Chevin!$C$3:$L$50,7,FALSE)","v":0.51758052618637806},null,0,9,0,0,0,0,0,0,5,0,2,0,0,0,6,0,0,0,0,0,5,5]
[null,null,"Hannah Elliott","1988-03-19",28,{"$f":"IFERROR(VLOOKUP(C78,'Division Lookup'!$A$2:$D$251,4,FALSE),\"Second\")","v":"Second"},{"$f":"VLOOKUP(C78,Dewsbury!$C$3:$L$46,7,FALSE)","v":{"$error":"#N/A"}},{"$f":"VLOOKUP($C78,Bradford!$C$3:$L$66,7,FALSE)","v":{"$error":"#N/A"}},{"$f":"VLOOKUP($C78,Keighley!$C$3:$N$42,9,FALSE)","v":{"$error":"#N/A"}},{"$f":"VLOOKUP($C78,'Bunny '!$C$3:$N$20,9,FALSE)","v":{"$error":"#N/A"}},{"$f":"VLOOKUP($C78,Liverpool!$C$3:$N$59,9,FALSE)","v":0.64416177429876054},{"$f":"VLOOKUP(C78,'VoY 10m'!$C$3:$N$40,9,FALSE)","v":0.52279901788846006},{"$f":"VLOOKUP(C78,Guisley!$C$3:$N$49,9,FALSE)","v":{"$error":"#N/A"}},{"$f":"VLOOKUP(C78,Odda!$C$3:$N$42,9,FALSE)","v":{"$error":"#N/A"}},{"$f":"VLOOKUP(C78,'Leeds half'!$C$4:$N$31,9,FALSE)","v":{"$error":"#N/A"}},{"$f":"VLOOKUP(C78,Ilkley!$C$3:$L$46,7,FALSE)","v":{"$error":"#N/A"}},{"$f":"VLOOKUP(C78,Otley!$C$3:$L$46,9,FALSE)","v":{"$error":"#N/A"}},{"$f":"VLOOKUP(C78,Solstice!$C$3:$L$48,7,FALSE)","v":{"$error":"#N/A"}},{"$f":"VLOOKUP(C78,Eccup!$C$3:$L$46,9,FALSE)","v":{"$error":"#N/A"}},null,{"$f":"VLOOKUP(C78,Shakerr!$C$3:$L$46,7,FALSE)","v":{"$error":"#N/A"}},{"$f":"VLOOKUP(C78,VoY!$C$3:$L$46,9,FALSE)","v":{"$error":"#N/A"}},{"$f":"VLOOKUP(C78,Kirkstall!$C$3:$L$46,9,FALSE)","v":{"$error":"#N/A"}},{"$f":"VLOOKUP($C78,City!$C$3:$L$69,9,FALSE)","v":{"$error":"#N/A"}},{"$f":"VLOOKUP(C78,'Guy Fawkes'!$C$3:$N$34,9,FALSE)","v":{"$error":"#N/A"}},{"$f":"VLOOKUP(C78,Abbey!$C$3:$L$48,7,FALSE)","v":{"$error":"#N/A"}},{"$f":"VLOOKUP(C78,Chevin!$C$3:$L$50,7,FALSE)","v":{"$error":"#N/A"}},null,0,0,0,0,2,2,0,0,0,0,0,0,0,0,0,0,0,0,0,0,0,2]
[null,null,"Natalie Ellis","1986-04-29",30,{"$f":"IFERROR(VLOOKUP(C79,'Division Lookup'!$A$2:$D$251,4,FALSE),\"Second\")","v":"Second"},{"$f":"VLOOKUP(C79,Dewsbury!$C$3:$L$46,7,FALSE)","v":{"$error":"#N/A"}},{"$f":"VLOOKUP($C79,Bradford!$C$3:$L$66,7,FALSE)","v":{"$error":"#N/A"}},{"$f":"VLOOKUP($C79,Keighley!$C$3:$N$42,9,FALSE)","v":{"$error":"#N/A"}},{"$f":"VLOOKUP($C79,'Bunny '!$C$3:$N$20,9,FALSE)","v":{"$error":"#N/A"}},{"$f":"VLOOKUP($C79,Liverpool!$C$3:$N$59,9,FALSE)","v":{"$error":"#N/A"}},{"$f":"VLOOKUP(C79,'VoY 10m'!$C$3:$N$40,9,FALSE)","v":{"$error":"#N/A"}},{"$f":"VLOOKUP(C79,Guisley!$C$3:$N$49,9,FALSE)","v":{"$error":"#N/A"}},{"$f":"VLOOKUP(C79,Odda!$C$3:$N$42,9,FALSE)","v":{"$error":"#N/A"}},{"$f":"VLOOKUP(C79,'Leeds half'!$C$4:$N$31,9,FALSE)","v":{"$error":"#N/A"}},{"$f":"VLOOKUP(C79,Ilkley!$C$3:$L$46,7,FALSE)","v":{"$error":"#N/A"}},{"$f":"VLOOKUP(C79,Otley!$C$3:$L$46,9,FALSE)","v":{"$error":"#N/A"}},{"$f":"VLOOKUP(C79,Solstice!$C$3:$L$48,7,FALSE)","v":0.38823529411764701},{"$f":"VLOOKUP(C79,Eccup!$C$3:$L$46,9,FALSE)","v":{"$error":"#N/A"}},null,{"$f":"VLOOKUP(C79,Shakerr!$C$3:$L$46,7,FALSE)","v":{"$error":"#N/A"}},{"$f":"VLOOKUP(C79,VoY!$C$3:$L$46,9,FALSE)","v":{"$error":"#N/A"}},{"$f":"VLOOKUP(C79,Kirkstall!$C$3:$L$46,9,FALSE)","v":{"$error":"#N/A"}},{"$f":"VLOOKUP($C79,City!$C$3:$L$69,9,FALSE)","v":{"$error":"#N/A"}},{"$f":"VLOOKUP(C79,'Guy Fawkes'!$C$3:$N$34,9,FALSE)","v":{"$error":"#N/A"}},{"$f":"VLOOKUP(C79,Abbey!$C$3:$L$48,7,FALSE)","v":{"$error":"#N/A"}},{"$f":"VLOOKUP(C79,Chevin!$C$3:$L$50,7,FALSE)","v":{"$error":"#N/A"}},null,0,0,0,0,0,0,0,0,0,0,0,14,0,0,0,0,0,0,0,0,0,1]
[null,null,"Michelle Eyres","1961-03-13",55,{"$f":"IFERROR(VLOOKUP(C80,'Division Lookup'!$A$2:$D$251,4,FALSE),\"Second\")","v":"Second"},{"$f":"VLOOKUP(C80,Dewsbury!$C$3:$L$46,7,FALSE)","v":{"$error":"#N/A"}},{"$f":"VLOOKUP($C80,Bradford!$C$3:$L$66,7,FALSE)","v":{"$error":"#N/A"}},{"$f":"VLOOKUP($C80,Keighley!$C$3:$N$42,9,FALSE)","v":{"$error":"#N/A"}},{"$f":"VLOOKUP($C80,'Bunny '!$C$3:$N$20,9,FALSE)","v":{"$error":"#N/A"}},{"$f":"VLOOKUP($C80,Liverpool!$C$3:$N$59,9,FALSE)","v":{"$error":"#N/A"}},{"$f":"VLOOKUP(C80,'VoY 10m'!$C$3:$N$40,9,FALSE)","v":{"$error":"#N/A"}},{"$f":"VLOOKUP(C80,Guisley!$C$3:$N$49,9,FALSE)","v":{"$error":"#N/A"}},{"$f":"VLOOKUP(C80,Odda!$C$3:$N$42,9,FALSE)","v":{"$error":"#N/A"}},{"$f":"VLOOKUP(C80,'Leeds half'!$C$4:$N$31,9,FALSE)","v":{"$error":"#N/A"}},{"$f":"VLOOKUP(C80,Ilkley!$C$3:$L$46,7,FALSE)","v":{"$error":"#N/A"}},{"$f":"VLOOKUP(C80,Otley!$C$3:$L$46,9,FALSE)","v":{"$error":"#N/A"}},{"$f":"VLOOKUP(C80,Solstice!$C$3:$L$48,7,FALSE)","v":{"$error":"#N/A"}},{"$f":"VLOOKUP(C80,Eccup!$C$3:$L$46,9,FALSE)","v":{"$error":"#N/A"}},null,{"$f":"VLOOKUP(C80,Shakerr!$C$3:$L$46,7,FALSE)","v":{"$error":"#N/A"}},{"$f":"VLOOKUP(C80,VoY!$C$3:$L$46,9,FALSE)","v":{"$error":"#N/A"}},{"$f":"VLOOKUP(C80,Kirkstall!$C$3:$L$46,9,FALSE)","v":{"$error":"#N/A"}},{"$f":"VLOOKUP($C80,City!$C$3:$L$69,9,FALSE)","v":{"$error":"#N/A"}},{"$f":"VLOOKUP(C80,'Guy Fawkes'!$C$3:$N$34,9,FALSE)","v":{"$error":"#N/A"}},{"$f":"VLOOKUP(C80,Abbey!$C$3:$L$48,7,FALSE)","v":{"$error":"#N/A"}},{"$f":"VLOOKUP(C80,Chevin!$C$3:$L$50,7,FALSE)","v":{"$error":"#N/A"}},null,0,0,0,0,0,0,0,0,0,0,0,0,0,0,0,0,0,0,0,0,0,0]
[null,null,"Fiona Farquhar","1968-12-09",48,{"$f":"IFERROR(VLOOKUP(C81,'Division Lookup'!$A$2:$D$251,4,FALSE),\"Second\")","v":"Premier"},{"$f":"VLOOKUP(C81,Dewsbury!$C$3:$L$46,7,FALSE)","v":0.60071620411817361},{"$f":"VLOOKUP($C81,Bradford!$C$3:$L$66,7,FALSE)","v":{"$error":"#N/A"}},{"$f":"VLOOKUP($C81,Keighley!$C$3:$N$42,9,FALSE)","v":0.64108280254777061},{"$f":"VLOOKUP($C81,'Bunny '!$C$3:$N$20,9,FALSE)","v":{"$error":"#N/A"}},{"$f":"VLOOKUP($C81,Liverpool!$C$3:$N$59,9,FALSE)","v":{"$error":"#N/A"}},{"$f":"VLOOKUP(C81,'VoY 10m'!$C$3:$N$40,9,FALSE)","v":{"$error":"#N/A"}},{"$f":"VLOOKUP(C81,Guisley!$C$3:$N$49,9,FALSE)","v":{"$error":"#N/A"}},{"$f":"VLOOKUP(C81,Odda!$C$3:$N$42,9,FALSE)","v":0.48054428264502269},{"$f":"VLOOKUP(C81,'Leeds half'!$C$4:$N$31,9,FALSE)","v":0.48985312254737079},{"$f":"VLOOKUP(C81,Ilkley!$C$3:$L$46,7,FALSE)","v":{"$error":"#N/A"}},{"$f":"VLOOKUP(C81,Otley!$C$3:$L$46,9,FALSE)","v":{"$error":"#N/A"}},{"$f":"VLOOKUP(C81,Solstice!$C$3:$L$48,7,FALSE)","v":0.47318797878609303},{"$f":"VLOOKUP(C81,Eccup!$C$3:$L$46,9,FALSE)","v":{"$error":"#N/A"}},null,{"$f":"VLOOKUP(C81,Shakerr!$C$3:$L$46,7,FALSE)","v":{"$error":"#N/A"}},{"$f":"VLOOKUP(C81,VoY!$C$3:$L$46,9,FALSE)","v":{"$error":"#N/A"}},{"$f":"VLOOKUP(C81,Kirkstall!$C$3:$L$46,9,FALSE)","v":{"$error":"#N/A"}},{"$f":"VLOOKUP($C81,City!$C$3:$L$69,9,FALSE)","v":{"$error":"#N/A"}},{"$f":"VLOOKUP(C81,'Guy Fawkes'!$C$3:$N$34,9,FALSE)","v":{"$error":"#N/A"}},{"$f":"VLOOKUP(C81,Abbey!$C$3:$L$48,7,FALSE)","v":{"$error":"#N/A"}},{"$f":"VLOOKUP(C81,Chevin!$C$3:$L$50,7,FALSE)","v":{"$error":"#N/A"}},null,17,0,5,0,0,0,0,9,7,0,0,16,0,0,0,0,0,0,0,0,0,5]
[null,null,"Martin Fillingham","1971-05-20",45,{"$f":"IFERROR(VLOOKUP(C82,'Division Lookup'!$A$2:$D$251,4,FALSE),\"Second\")","v":"Premier"},{"$f":"VLOOKUP(C82,Dewsbury!$C$3:$L$46,7,FALSE)","v":{"$error":"#N/A"}},{"$f":"VLOOKUP($C82,Bradford!$C$3:$L$66,7,FALSE)","v":0.75772503358710241},{"$f":"VLOOKUP($C82,Keighley!$C$3:$N$42,9,FALSE)","v":0.76402070750647111},{"$f":"VLOOKUP($C82,'Bunny '!$C$3:$N$20,9,FALSE)","v":0.73935708079930484},{"$f":"VLOOKUP($C82,Liverpool!$C$3:$N$59,9,FALSE)","v":0.79182079736950273},{"$f":"VLOOKUP(C82,'VoY 10m'!$C$3:$N$40,9,FALSE)","v":{"$error":"#N/A"}},{"$f":"VLOOKUP(C82,Guisley!$C$3:$N$49,9,FALSE)","v":{"$error":"#N/A"}},{"$f":"VLOOKUP(C82,Odda!$C$3:$N$42,9,FALSE)","v":{"$error":"#N/A"}},{"$f":"VLOOKUP(C82,'Leeds half'!$C$4:$N$31,9,FALSE)","v":{"$error":"#N/A"}},{"$f":"VLOOKUP(C82,Ilkley!$C$3:$L$46,7,FALSE)","v":{"$error":"#N/A"}},{"$f":"VLOOKUP(C82,Otley!$C$3:$L$46,9,FALSE)","v":{"$error":"#N/A"}},{"$f":"VLOOKUP(C82,Solstice!$C$3:$L$48,7,FALSE)","v":0.71676006113092194},{"$f":"VLOOKUP(C82,Eccup!$C$3:$L$46,9,FALSE)","v":{"$error":"#N/A"}},null,{"$f":"VLOOKUP(C82,Shakerr!$C$3:$L$46,7,FALSE)","v":0.56927033108325298},{"$f":"VLOOKUP(C82,VoY!$C$3:$L$46,9,FALSE)","v":{"$error":"#N/A"}},{"$f":"VLOOKUP(C82,Kirkstall!$C$3:$L$46,9,FALSE)","v":{"$error":"#N/A"}},{"$f":"VLOOKUP($C82,City!$C$3:$L$69,9,FALSE)","v":0.80317460317460299},{"$f":"VLOOKUP(C82,'Guy Fawkes'!$C$3:$N$34,9,FALSE)","v":{"$error":"#N/A"}},{"$f":"VLOOKUP(C82,Abbey!$C$3:$L$48,7,FALSE)","v":0.83577159037281723},{"$f":"VLOOKUP(C82,Chevin!$C$3:$L$50,7,FALSE)","v":{"$error":"#N/A"}},null,0,3,1,3,2,0,0,0,0,0,0,3,0,0,2,0,0,2,0,1,0,8]
[null,null,"Julie Firth","1964-06-24",52,{"$f":"IFERROR(VLOOKUP(C83,'Division Lookup'!$A$2:$D$251,4,FALSE),\"Second\")","v":"Premier"},{"$f":"VLOOKUP(C83,Dewsbury!$C$3:$L$46,7,FALSE)","v":{"$error":"#N/A"}},{"$f":"VLOOKUP($C83,Bradford!$C$3:$L$66,7,FALSE)","v":{"$error":"#N/A"}},{"$f":"VLOOKUP($C83,Keighley!$C$3:$N$42,9,FALSE)","v":{"$error":"#N/A"}},{"$f":"VLOOKUP($C83,'Bunny '!$C$3:$N$20,9,FALSE)","v":{"$error":"#N/A"}},{"$f":"VLOOKUP($C83,Liverpool!$C$3:$N$59,9,FALSE)","v":{"$error":"#N/A"}},{"$f":"VLOOKUP(C83,'VoY 10m'!$C$3:$N$40,9,FALSE)","v":{"$error":"#N/A"}},{"$f":"VLOOKUP(C83,Guisley!$C$3:$N$49,9,FALSE)","v":{"$error":"#N/A"}},{"$f":"VLOOKUP(C83,Odda!$C$3:$N$42,9,FALSE)","v":{"$error":"#N/A"}},{"$f":"VLOOKUP(C83,'Leeds half'!$C$4:$N$31,9,FALSE)","v":{"$error":"#N/A"}},{"$f":"VLOOKUP(C83,Ilkley!$C$3:$L$46,7,FALSE)","v":{"$error":"#N/A"}},{"$f":"VLOOKUP(C83,Otley!$C$3:$L$46,9,FALSE)","v":{"$error":"#N/A"}},{"$f":"VLOOKUP(C83,Solstice!$C$3:$L$48,7,FALSE)","v":{"$error":"#N/A"}},{"$f":"VLOOKUP(C83,Eccup!$C$3:$L$46,9,FALSE)","v":{"$error":"#N/A"}},null,{"$f":"VLOOKUP(C83,Shakerr!$C$3:$L$46,7,FALSE)","v":{"$error":"#N/A"}},{"$f":"VLOOKUP(C83,VoY!$C$3:$L$46,9,FALSE)","v":{"$error":"#N/A"}},{"$f":"VLOOKUP(C83,Kirkstall!$C$3:$L$46,9,FALSE)","v":{"$error":"#N/A"}},{"$f":"VLOOKUP($C83,City!$C$3:$L$69,9,FALSE)","v":{"$error":"#N/A"}},{"$f":"VLOOKUP(C83,'Guy Fawkes'!$C$3:$N$34,9,FALSE)","v":{"$error":"#N/A"}},{"$f":"VLOOKUP(C83,Abbey!$C$3:$L$48,7,FALSE)","v":{"$error":"#N/A"}},{"$f":"VLOOKUP(C83,Chevin!$C$3:$L$50,7,FALSE)","v":{"$error":"#N/A"}},null,0,0,0,0,0,0,0,0,0,0,0,0,0,0,0,0,0,0,0,0,0,0]
[null,null,"Clair Fitzpatrick","1972-02-15",44,{"$f":"IFERROR(VLOOKUP(C84,'Division Lookup'!$A$2:$D$251,4,FALSE),\"Second\")","v":"First"},{"$f":"VLOOKUP(C84,Dewsbury!$C$3:$L$46,7,FALSE)","v":{"$error":"#N/A"}},{"$f":"VLOOKUP($C84,Bradford!$C$3:$L$66,7,FALSE)","v":0.42123585726718887},{"$f":"VLOOKUP($C84,Keighley!$C$3:$N$42,9,FALSE)","v":{"$error":"#N/A"}},{"$f":"VLOOKUP($C84,'Bunny '!$C$3:$N$20,9,FALSE)","v":{"$error":"#N/A"}},{"$f":"VLOOKUP($C84,Liverpool!$C$3:$N$59,9,FALSE)","v":0.4184481393507522},{"$f":"VLOOKUP(C84,'VoY 10m'!$C$3:$N$40,9,FALSE)","v":{"$error":"#N/A"}},{"$f":"VLOOKUP(C84,Guisley!$C$3:$N$49,9,FALSE)","v":{"$error":"#N/A"}},{"$f":"VLOOKUP(C84,Odda!$C$3:$N$42,9,FALSE)","v":{"$error":"#N/A"}},{"$f":"VLOOKUP(C84,'Leeds half'!$C$4:$N$31,9,FALSE)","v":{"$error":"#N/A"}},{"$f":"VLOOKUP(C84,Ilkley!$C$3:$L$46,7,FALSE)","v":{"$error":"#N/A"}},{"$f":"VLOOKUP(C84,Otley!$C$3:$L$46,9,FALSE)","v":{"$error":"#N/A"}},{"$f":"VLOOKUP(C84,Solstice!$C$3:$L$48,7,FALSE)","v":{"$error":"#N/A"}},{"$f":"VLOOKUP(C84,Eccup!$C$3:$L$46,9,FALSE)","v":{"$error":"#N/A"}},null,{"$f":"VLOOKUP(C84,Shakerr!$C$3:$L$46,7,FALSE)","v":{"$error":"#N/A"}},{"$f":"VLOOKUP(C84,VoY!$C$3:$L$46,9,FALSE)","v":{"$error":"#N/A"}},{"$f":"VLOOKUP(C84,Kirkstall!$C$3:$L$46,9,FALSE)","v":{"$error":"#N/A"}},{"$f":"VLOOKUP($C84,City!$C$3:$L$69,9,FALSE)","v":{"$error":"#N/A"}},{"$f":"VLOOKUP(C84,'Guy Fawkes'!$C$3:$N$34,9,FALSE)","v":{"$error":"#N/A"}},{"$f":"VLOOKUP(C84,Abbey!$C$3:$L$48,7,FALSE)","v":0.44601254480286739},{"$f":"VLOOKUP(C84,Chevin!$C$3:$L$50,7,FALSE)","v":{"$error":"#N/A"}},null,0,15,0,0,7,0,0,0,0,0,0,0,0,0,0,0,0,0,0,3,0,3]
[null,null,"Noel Fitzpatrick","1969-09-05",47,{"$f":"IFERROR(VLOOKUP(C85,'Division Lookup'!$A$2:$D$251,4,FALSE),\"Second\")","v":"Premier"},{"$f":"VLOOKUP(C85,Dewsbury!$C$3:$L$46,7,FALSE)","v":{"$error":"#N/A"}},{"$f":"VLOOKUP($C85,Bradford!$C$3:$L$66,7,FALSE)","v":0.61177271180673687},{"$f":"VLOOKUP($C85,Keighley!$C$3:$N$42,9,FALSE)","v":{"$error":"#N/A"}},{"$f":"VLOOKUP($C85,'Bunny '!$C$3:$N$20,9,FALSE)","v":{"$error":"#N/A"}},{"$f":"VLOOKUP($C85,Liverpool!$C$3:$N$59,9,FALSE)","v":0.61423867022110712},{"$f":"VLOOKUP(C85,'VoY 10m'!$C$3:$N$40,9,FALSE)","v":{"$error":"#N/A"}},{"$f":"VLOOKUP(C85,Guisley!$C$3:$N$49,9,FALSE)","v":{"$error":"#N/A"}},{"$f":"VLOOKUP(C85,Odda!$C$3:$N$42,9,FALSE)","v":{"$error":"#N/A"}},{"$f":"VLOOKUP(C85,'Leeds half'!$C$4:$N$31,9,FALSE)","v":0.58471413643827441},{"$f":"VLOOKUP(C85,Ilkley!$C$3:$L$46,7,FALSE)","v":{"$error":"#N/A"}},{"$f":"VLOOKUP(C85,Otley!$C$3:$L$46,9,FALSE)","v":{"$error":"#N/A"}},{"$f":"VLOOKUP(C85,Solstice!$C$3:$L$48,7,FALSE)","v":0.52691740412979338},{"$f":"VLOOKUP(C85,Eccup!$C$3:$L$46,9,FALSE)","v":{"$error":"#N/A"}},null,{"$f":"VLOOKUP(C85,Shakerr!$C$3:$L$46,7,FALSE)","v":{"$error":"#N/A"}},{"$f":"VLOOKUP(C85,VoY!$C$3:$L$46,9,FALSE)","v":{"$error":"#N/A"}},{"$f":"VLOOKUP(C85,Kirkstall!$C$3:$L$46,9,FALSE)","v":{"$error":"#N/A"}},{"$f":"VLOOKUP($C85,City!$C$3:$L$69,9,FALSE)","v":0.64047442550037059},{"$f":"VLOOKUP(C85,'Guy Fawkes'!$C$3:$N$34,9,FALSE)","v":{"$error":"#N/A"}},{"$f":"VLOOKUP(C85,Abbey!$C$3:$L$48,7,FALSE)","v":0.63804116394606092},{"$f":"VLOOKUP(C85,Chevin!$C$3:$L$50,7,FALSE)","v":{"$error":"#N/A"}},null,0,10,0,0,11,0,0,0,3,0,0,13,0,0,0,0,0,9,0,3,0,6]
[null,null,"Harriet Fletcher","1972-11-08",44,{"$f":"IFERROR(VLOOKUP(C86,'Division Lookup'!$A$2:$D$251,4,FALSE),\"Second\")","v":"Second"},{"$f":"VLOOKUP(C86,Dewsbury!$C$3:$L$46,7,FALSE)","v":{"$error":"#N/A"}},{"$f":"VLOOKUP($C86,Bradford!$C$3:$L$66,7,FALSE)","v":{"$error":"#N/A"}},{"$f":"VLOOKUP($C86,Keighley!$C$3:$N$42,9,FALSE)","v":{"$error":"#N/A"}},{"$f":"VLOOKUP($C86,'Bunny '!$C$3:$N$20,9,FALSE)","v":{"$error":"#N/A"}},{"$f":"VLOOKUP($C86,Liverpool!$C$3:$N$59,9,FALSE)","v":{"$error":"#N/A"}},{"$f":"VLOOKUP(C86,'VoY 10m'!$C$3:$N$40,9,FALSE)","v":{"$error":"#N/A"}},{"$f":"VLOOKUP(C86,Guisley!$C$3:$N$49,9,FALSE)","v":{"$error":"#N/A"}},{"$f":"VLOOKUP(C86,Odda!$C$3:$N$42,9,FALSE)","v":{"$error":"#N/A"}},{"$f":"VLOOKUP(C86,'Leeds half'!$C$4:$N$31,9,FALSE)","v":{"$error":"#N/A"}},{"$f":"VLOOKUP(C86,Ilkley!$C$3:$L$46,7,FALSE)","v":{"$error":"#N/A"}},{"$f":"VLOOKUP(C86,Otley!$C$3:$L$46,9,FALSE)","v":{"$error":"#N/A"}},{"$f":"VLOOKUP(C86,Solstice!$C$3:$L$48,7,FALSE)","v":{"$error":"#N/A"}},{"$f":"VLOOKUP(C86,Eccup!$C$3:$L$46,9,FALSE)","v":{"$error":"#N/A"}},null,{"$f":"VLOOKUP(C86,Shakerr!$C$3:$L$46,7,FALSE)","v":0.43195002231146812},{"$f":"VLOOKUP(C86,VoY!$C$3:$L$46,9,FALSE)","v":{"$error":"#N/A"}},{"$f":"VLOOKUP(C86,Kirkstall!$C$3:$L$46,9,FALSE)","v":{"$error":"#N/A"}},{"$f":"VLOOKUP($C86,City!$C$3:$L$69,9,FALSE)","v":{"$error":"#N/A"}},{"$f":"VLOOKUP(C86,'Guy Fawkes'!$C$3:$N$34,9,FALSE)","v":{"$error":"#N/A"}},{"$f":"VLOOKUP(C86,Abbey!$C$3:$L$48,7,FALSE)","v":0.55545426921908225},{"$f":"VLOOKUP(C86,Chevin!$C$3:$L$50,7,FALSE)","v":{"$error":"#N/A"}},null,0,0,0,0,0,0,0,0,0,0,0,0,0,0,9,0,0,0,0,15,0,2]
[null,null,"Anne Forster","1957-03-22",59,{"$f":"IFERROR(VLOOKUP(C87,'Division Lookup'!$A$2:$D$251,4,FALSE),\"Second\")","v":"Second"},{"$f":"VLOOKUP(C87,Dewsbury!$C$3:$L$46,7,FALSE)","v":{"$error":"#N/A"}},{"$f":"VLOOKUP($C87,Bradford!$C$3:$L$66,7,FALSE)","v":{"$error":"#N/A"}},{"$f":"VLOOKUP($C87,Keighley!$C$3:$N$42,9,FALSE)","v":{"$error":"#N/A"}},{"$f":"VLOOKUP($C87,'Bunny '!$C$3:$N$20,9,FALSE)","v":{"$error":"#N/A"}},{"$f":"VLOOKUP($C87,Liverpool!$C$3:$N$59,9,FALSE)","v":{"$error":"#N/A"}},{"$f":"VLOOKUP(C87,'VoY 10m'!$C$3:$N$40,9,FALSE)","v":{"$error":"#N/A"}},{"$f":"VLOOKUP(C87,Guisley!$C$3:$N$49,9,FALSE)","v":{"$error":"#N/A"}},{"$f":"VLOOKUP(C87,Odda!$C$3:$N$42,9,FALSE)","v":{"$error":"#N/A"}},{"$f":"VLOOKUP(C87,'Leeds half'!$C$4:$N$31,9,FALSE)","v":{"$error":"#N/A"}},{"$f":"VLOOKUP(C87,Ilkley!$C$3:$L$46,7,FALSE)","v":{"$error":"#N/A"}},{"$f":"VLOOKUP(C87,Otley!$C$3:$L$46,9,FALSE)","v":{"$error":"#N/A"}},{"$f":"VLOOKUP(C87,Solstice!$C$3:$L$48,7,FALSE)","v":{"$error":"#N/A"}},{"$f":"VLOOKUP(C87,Eccup!$C$3:$L$46,9,FALSE)","v":{"$error":"#N/A"}},null,{"$f":"VLOOKUP(C87,Shakerr!$C$3:$L$46,7,FALSE)","v":{"$error":"#N/A"}},{"$f":"VLOOKUP(C87,VoY!$C$3:$L$46,9,FALSE)","v":{"$error":"#N/A"}},{"$f":"VLOOKUP(C87,Kirkstall!$C$3:$L$46,9,FALSE)","v":{"$error":"#N/A"}},{"$f":"VLOOKUP($C87,City!$C$3:$L$69,9,FALSE)","v":{"$error":"#N/A"}},{"$f":"VLOOKUP(C87,'Guy Fawkes'!$C$3:$N$34,9,FALSE)","v":{"$error":"#N/A"}},{"$f":"VLOOKUP(C87,Abbey!$C$3:$L$48,7,FALSE)","v":0.50413002930988549},{"$f":"VLOOKUP(C87,Chevin!$C$3:$L$50,7,FALSE)","v":{"$error":"#N/A"}},null,0,0,0,0,0,0,0,0,0,0,0,0,0,0,0,0,0,0,0,18,0,1]
[null,null,"Timothy Forster","1990-07-12",26,{"$f":"IFERROR(VLOOKUP(C88,'Division Lookup'!$A$2:$D$251,4,FALSE),\"Second\")","v":"Second"},{"$f":"VLOOKUP(C88,Dewsbury!$C$3:$L$46,7,FALSE)","v":{"$error":"#N/A"}},{"$f":"VLOOKUP($C88,Bradford!$C$3:$L$66,7,FALSE)","v":{"$error":"#N/A"}},{"$f":"VLOOKUP($C88,Keighley!$C$3:$N$42,9,FALSE)","v":{"$error":"#N/A"}},{"$f":"VLOOKUP($C88,'Bunny '!$C$3:$N$20,9,FALSE)","v":{"$error":"#N/A"}},{"$f":"VLOOKUP($C88,Liverpool!$C$3:$N$59,9,FALSE)","v":{"$error":"#N/A"}},{"$f":"VLOOKUP(C88,'VoY 10m'!$C$3:$N$40,9,FALSE)","v":{"$error":"#N/A"}},{"$f":"VLOOKUP(C88,Guisley!$C$3:$N$49,9,FALSE)","v":{"$error":"#N/A"}},{"$f":"VLOOKUP(C88,Odda!$C$3:$N$42,9,FALSE)","v":{"$error":"#N/A"}},{"$f":"VLOOKUP(C88,'Leeds half'!$C$4:$N$31,9,FALSE)","v":{"$error":"#N/A"}},{"$f":"VLOOKUP(C88,Ilkley!$C$3:$L$46,7,FALSE)","v":{"$error":"#N/A"}},{"$f":"VLOOKUP(C88,Otley!$C$3:$L$46,9,FALSE)","v":{"$error":"#N/A"}},{"$f":"VLOOKUP(C88,Solstice!$C$3:$L$48,7,FALSE)","v":{"$error":"#N/A"}},{"$f":"VLOOKUP(C88,Eccup!$C$3:$L$46,9,FALSE)","v":{"$error":"#N/A"}},null,{"$f":"VLOOKUP(C88,Shakerr!$C$3:$L$46,7,FALSE)","v":{"$error":"#N/A"}},{"$f":"VLOOKUP(C88,VoY!$C$3:$L$46,9,FALSE)","v":{"$error":"#N/A"}},{"$f":"VLOOKUP(C88,Kirkstall!$C$3:$L$46,9,FALSE)","v":{"$error":"#N/A"}},{"$f":"VLOOKUP($C88,City!$C$3:$L$69,9,FALSE)","v":{"$error":"#N/A"}},{"$f":"VLOOKUP(C88,'Guy Fawkes'!$C$3:$N$34,9,FALSE)","v":{"$error":"#N/A"}},{"$f":"VLOOKUP(C88,Abbey!$C$3:$L$48,7,FALSE)","v":{"$error":"#N/A"}},{"$f":"VLOOKUP(C88,Chevin!$C$3:$L$50,7,FALSE)","v":0.63098318240620965},null,0,0,0,0,0,0,0,0,0,0,0,0,0,0,0,0,0,0,0,0,2,1]
[null,null,"Victoria Foster","1967-05-30",49,{"$f":"IFERROR(VLOOKUP(C89,'Division Lookup'!$A$2:$D$251,4,FALSE),\"Second\")","v":"Second"},{"$f":"VLOOKUP(C89,Dewsbury!$C$3:$L$46,7,FALSE)","v":{"$error":"#N/A"}},{"$f":"VLOOKUP($C89,Bradford!$C$3:$L$66,7,FALSE)","v":{"$error":"#N/A"}},{"$f":"VLOOKUP($C89,Keighley!$C$3:$N$42,9,FALSE)","v":{"$error":"#N/A"}},{"$f":"VLOOKUP($C89,'Bunny '!$C$3:$N$20,9,FALSE)","v":{"$error":"#N/A"}},{"$f":"VLOOKUP($C89,Liverpool!$C$3:$N$59,9,FALSE)","v":{"$error":"#N/A"}},{"$f":"VLOOKUP(C89,'VoY 10m'!$C$3:$N$40,9,FALSE)","v":{"$error":"#N/A"}},{"$f":"VLOOKUP(C89,Guisley!$C$3:$N$49,9,FALSE)","v":{"$error":"#N/A"}},{"$f":"VLOOKUP(C89,Odda!$C$3:$N$42,9,FALSE)","v":{"$error":"#N/A"}},{"$f":"VLOOKUP(C89,'Leeds half'!$C$4:$N$31,9,FALSE)","v":{"$error":"#N/A"}},{"$f":"VLOOKUP(C89,Ilkley!$C$3:$L$46,7,FALSE)","v":{"$error":"#N/A"}},{"$f":"VLOOKUP(C89,Otley!$C$3:$L$46,9,FALSE)","v":{"$error":"#N/A"}},{"$f":"VLOOKUP(C89,Solstice!$C$3:$L$48,7,FALSE)","v":{"$error":"#N/A"}},{"$f":"VLOOKUP(C89,Eccup!$C$3:$L$46,9,FALSE)","v":{"$error":"#N/A"}},null,{"$f":"VLOOKUP(C89,Shakerr!$C$3:$L$46,7,FALSE)","v":{"$error":"#N/A"}},{"$f":"VLOOKUP(C89,VoY!$C$3:$L$46,9,FALSE)","v":{"$error":"#N/A"}},{"$f":"VLOOKUP(C89,Kirkstall!$C$3:$L$46,9,FALSE)","v":{"$error":"#N/A"}},{"$f":"VLOOKUP($C89,City!$C$3:$L$69,9,FALSE)","v":{"$error":"#N/A"}},{"$f":"VLOOKUP(C89,'Guy Fawkes'!$C$3:$N$34,9,FALSE)","v":{"$error":"#N/A"}},{"$f":"VLOOKUP(C89,Abbey!$C$3:$L$48,7,FALSE)","v":{"$error":"#N/A"}},{"$f":"VLOOKUP(C89,Chevin!$C$3:$L$50,7,FALSE)","v":{"$error":"#N/A"}},null,0,0,0,0,0,0,0,0,0,0,0,0,0,0,0,0,0,0,0,0,0,0]
[null,null,"Steven Fowler","1972-12-29",44,{"$f":"IFERROR(VLOOKUP(C90,'Division Lookup'!$A$2:$D$251,4,FALSE),\"Second\")","v":"Second"},{"$f":"VLOOKUP(C90,Dewsbury!$C$3:$L$46,7,FALSE)","v":{"$error":"#N/A"}},{"$f":"VLOOKUP($C90,Bradford!$C$3:$L$66,7,FALSE)","v":{"$error":"#N/A"}},{"$f":"VLOOKUP($C90,Keighley!$C$3:$N$42,9,FALSE)","v":{"$error":"#N/A"}},{"$f":"VLOOKUP($C90,'Bunny '!$C$3:$N$20,9,FALSE)","v":{"$error":"#N/A"}},{"$f":"VLOOKUP($C90,Liverpool!$C$3:$N$59,9,FALSE)","v":{"$error":"#N/A"}},{"$f":"VLOOKUP(C90,'VoY 10m'!$C$3:$N$40,9,FALSE)","v":{"$error":"#N/A"}},{"$f":"VLOOKUP(C90,Guisley!$C$3:$N$49,9,FALSE)","v":{"$error":"#N/A"}},{"$f":"VLOOKUP(C90,Odda!$C$3:$N$42,9,FALSE)","v":{"$error":"#N/A"}},{"$f":"VLOOKUP(C90,'Leeds half'!$C$4:$N$31,9,FALSE)","v":{"$error":"#N/A"}},{"$f":"VLOOKUP(C90,Ilkley!$C$3:$L$46,7,FALSE)","v":{"$error":"#N/A"}},{"$f":"VLOOKUP(C90,Otley!$C$3:$L$46,9,FALSE)","v":{"$error":"#N/A"}},{"$f":"VLOOKUP(C90,Solstice!$C$3:$L$48,7,FALSE)","v":{"$error":"#N/A"}},{"$f":"VLOOKUP(C90,Eccup!$C$3:$L$46,9,FALSE)","v":{"$error":"#N/A"}},null,{"$f":"VLOOKUP(C90,Shakerr!$C$3:$L$46,7,FALSE)","v":0.58178807947019873},{"$f":"VLOOKUP(C90,VoY!$C$3:$L$46,9,FALSE)","v":{"$error":"#N/A"}},{"$f":"VLOOKUP(C90,Kirkstall!$C$3:$L$46,9,FALSE)","v":{"$error":"#N/A"}},{"$f":"VLOOKUP($C90,City!$C$3:$L$69,9,FALSE)","v":{"$error":"#N/A"}},{"$f":"VLOOKUP(C90,'Guy Fawkes'!$C$3:$N$34,9,FALSE)","v":{"$error":"#N/A"}},{"$f":"VLOOKUP(C90,Abbey!$C$3:$L$48,7,FALSE)","v":{"$error":"#N/A"}},{"$f":"VLOOKUP(C90,Chevin!$C$3:$L$50,7,FALSE)","v":{"$error":"#N/A"}},null,0,0,0,0,0,0,0,0,0,0,0,0,0,0,1,0,0,0,0,0,0,1]
[null,null,"Malcolm Foy","1963-04-03",53,{"$f":"IFERROR(VLOOKUP(C91,'Division Lookup'!$A$2:$D$251,4,FALSE),\"Second\")","v":"Second"},{"$f":"VLOOKUP(C91,Dewsbury!$C$3:$L$46,7,FALSE)","v":{"$error":"#N/A"}},{"$f":"VLOOKUP($C91,Bradford!$C$3:$L$66,7,FALSE)","v":{"$error":"#N/A"}},{"$f":"VLOOKUP($C91,Keighley!$C$3:$N$42,9,FALSE)","v":{"$error":"#N/A"}},{"$f":"VLOOKUP($C91,'Bunny '!$C$3:$N$20,9,FALSE)","v":{"$error":"#N/A"}},{"$f":"VLOOKUP($C91,Liverpool!$C$3:$N$59,9,FALSE)","v":{"$error":"#N/A"}},{"$f":"VLOOKUP(C91,'VoY 10m'!$C$3:$N$40,9,FALSE)","v":{"$error":"#N/A"}},{"$f":"VLOOKUP(C91,Guisley!$C$3:$N$49,9,FALSE)","v":0.56110615521855489},{"$f":"VLOOKUP(C91,Odda!$C$3:$N$42,9,FALSE)","v":0.46777392166584036},{"$f":"VLOOKUP(C91,'Leeds half'!$C$4:$N$31,9,FALSE)","v":{"$error":"#N/A"}},{"$f":"VLOOKUP(C91,Ilkley!$C$3:$L$46,7,FALSE)","v":{"$error":"#N/A"}},{"$f":"VLOOKUP(C91,Otley!$C$3:$L$46,9,FALSE)","v":{"$error":"#N/A"}},{"$f":"VLOOKUP(C91,Solstice!$C$3:$L$48,7,FALSE)","v":{"$error":"#N/A"}},{"$f":"VLOOKUP(C91,Eccup!$C$3:$L$46,9,FALSE)","v":{"$error":"#N/A"}},null,{"$f":"VLOOKUP(C91,Shakerr!$C$3:$L$46,7,FALSE)","v":{"$error":"#N/A"}},{"$f":"VLOOKUP(C91,VoY!$C$3:$L$46,9,FALSE)","v":{"$error":"#N/A"}},{"$f":"VLOOKUP(C91,Kirkstall!$C$3:$L$46,9,FALSE)","v":{"$error":"#N/A"}},{"$f":"VLOOKUP($C91,City!$C$3:$L$69,9,FALSE)","v":{"$error":"#N/A"}},{"$f":"VLOOKUP(C91,'Guy Fawkes'!$C$3:$N$34,9,FALSE)","v":{"$error":"#N/A"}},{"$f":"VLOOKUP(C91,Abbey!$C$3:$L$48,7,FALSE)","v":{"$error":"#N/A"}},{"$f":"VLOOKUP(C91,Chevin!$C$3:$L$50,7,FALSE)","v":{"$error":"#N/A"}},null,0,0,0,0,0,0,4,4,0,0,0,0,0,0,0,0,0,0,0,0,0,2]
[null,null,"Tracy Foy","1970-02-15",46,{"$f":"IFERROR(VLOOKUP(C92,'Division Lookup'!$A$2:$D$251,4,FALSE),\"Second\")","v":"Premier"},{"$f":"VLOOKUP(C92,Dewsbury!$C$3:$L$46,7,FALSE)","v":0.68723849372384938},{"$f":"VLOOKUP($C92,Bradford!$C$3:$L$66,7,FALSE)","v":{"$error":"#N/A"}},{"$f":"VLOOKUP($C92,Keighley!$C$3:$N$42,9,FALSE)","v":0.66163141993957708},{"$f":"VLOOKUP($C92,'Bunny '!$C$3:$N$20,9,FALSE)","v":0.61195928753180662},{"$f":"VLOOKUP($C92,Liverpool!$C$3:$N$59,9,FALSE)","v":0.68639717677253764},{"$f":"VLOOKUP(C92,'VoY 10m'!$C$3:$N$40,9,FALSE)","v":{"$error":"#N/A"}},{"$f":"VLOOKUP(C92,Guisley!$C$3:$N$49,9,FALSE)","v":0.55215103683070255},{"$f":"VLOOKUP(C92,Odda!$C$3:$N$42,9,FALSE)","v":0.56605399195864448},{"$f":"VLOOKUP(C92,'Leeds half'!$C$4:$N$31,9,FALSE)","v":0.64530236766701854},{"$f":"VLOOKUP(C92,Ilkley!$C$3:$L$46,7,FALSE)","v":{"$error":"#N/A"}},{"$f":"VLOOKUP(C92,Otley!$C$3:$L$46,9,FALSE)","v":{"$error":"#N/A"}},{"$f":"VLOOKUP(C92,Solstice!$C$3:$L$48,7,FALSE)","v":0.5951570185395384},{"$f":"VLOOKUP(C92,Eccup!$C$3:$L$46,9,FALSE)","v":{"$error":"#N/A"}},null,{"$f":"VLOOKUP(C92,Shakerr!$C$3:$L$46,7,FALSE)","v":{"$error":"#N/A"}},{"$f":"VLOOKUP(C92,VoY!$C$3:$L$46,9,FALSE)","v":{"$error":"#N/A"}},{"$f":"VLOOKUP(C92,Kirkstall!$C$3:$L$46,9,FALSE)","v":{"$error":"#N/A"}},{"$f":"VLOOKUP($C92,City!$C$3:$L$69,9,FALSE)","v":{"$error":"#N/A"}},{"$f":"VLOOKUP(C92,'Guy Fawkes'!$C$3:$N$34,9,FALSE)","v":0.57791823029824207},{"$f":"VLOOKUP(C92,Abbey!$C$3:$L$48,7,FALSE)","v":{"$error":"#N/A"}},{"$f":"VLOOKUP(C92,Chevin!$C$3:$L$50,7,FALSE)","v":{"$error":"#N/A"}},null,6,0,4,7,8,0,6,5,2,0,0,7,0,0,0,0,0,0,9,0,0,9]
[null,null,"Elaine Frazer","1972-02-21",44,{"$f":"IFERROR(VLOOKUP(C93,'Division Lookup'!$A$2:$D$251,4,FALSE),\"Second\")","v":"Second"},{"$f":"VLOOKUP(C93,Dewsbury!$C$3:$L$46,7,FALSE)","v":{"$error":"#N/A"}},{"$f":"VLOOKUP($C93,Bradford!$C$3:$L$66,7,FALSE)","v":{"$error":"#N/A"}},{"$f":"VLOOKUP($C93,Keighley!$C$3:$N$42,9,FALSE)","v":{"$error":"#N/A"}},{"$f":"VLOOKUP($C93,'Bunny '!$C$3:$N$20,9,FALSE)","v":{"$error":"#N/A"}},{"$f":"VLOOKUP($C93,Liverpool!$C$3:$N$59,9,FALSE)","v":0.56095606890105476},{"$f":"VLOOKUP(C93,'VoY 10m'!$C$3:$N$40,9,FALSE)","v":{"$error":"#N/A"}},{"$f":"VLOOKUP(C93,Guisley!$C$3:$N$49,9,FALSE)","v":{"$error":"#N/A"}},{"$f":"VLOOKUP(C93,Odda!$C$3:$N$42,9,FALSE)","v":{"$error":"#N/A"}},{"$f":"VLOOKUP(C93,'Leeds half'!$C$4:$N$31,9,FALSE)","v":{"$error":"#N/A"}},{"$f":"VLOOKUP(C93,Ilkley!$C$3:$L$46,7,FALSE)","v":{"$error":"#N/A"}},{"$f":"VLOOKUP(C93,Otley!$C$3:$L$46,9,FALSE)","v":{"$error":"#N/A"}},{"$f":"VLOOKUP(C93,Solstice!$C$3:$L$48,7,FALSE)","v":{"$error":"#N/A"}},{"$f":"VLOOKUP(C93,Eccup!$C$3:$L$46,9,FALSE)","v":{"$error":"#N/A"}},null,{"$f":"VLOOKUP(C93,Shakerr!$C$3:$L$46,7,FALSE)","v":{"$error":"#N/A"}},{"$f":"VLOOKUP(C93,VoY!$C$3:$L$46,9,FALSE)","v":{"$error":"#N/A"}},{"$f":"VLOOKUP(C93,Kirkstall!$C$3:$L$46,9,FALSE)","v":{"$error":"#N/A"}},{"$f":"VLOOKUP($C93,City!$C$3:$L$69,9,FALSE)","v":{"$error":"#N/A"}},{"$f":"VLOOKUP(C93,'Guy Fawkes'!$C$3:$N$34,9,FALSE)","v":{"$error":"#N/A"}},{"$f":"VLOOKUP(C93,Abbey!$C$3:$L$48,7,FALSE)","v":{"$error":"#N/A"}},{"$f":"VLOOKUP(C93,Chevin!$C$3:$L$50,7,FALSE)","v":{"$error":"#N/A"}},null,0,0,0,0,11,0,0,0,0,0,0,0,0,0,0,0,0,0,0,0,0,1]
[null,null,"Simon Frazer","1974-07-09",42,{"$f":"IFERROR(VLOOKUP(C94,'Division Lookup'!$A$2:$D$251,4,FALSE),\"Second\")","v":"Premier"},{"$f":"VLOOKUP(C94,Dewsbury!$C$3:$L$46,7,FALSE)","v":{"$error":"#N/A"}},{"$f":"VLOOKUP($C94,Bradford!$C$3:$L$66,7,FALSE)","v":0.72995780590717296},{"$f":"VLOOKUP($C94,Keighley!$C$3:$N$42,9,FALSE)","v":{"$error":"#N/A"}},{"$f":"VLOOKUP($C94,'Bunny '!$C$3:$N$20,9,FALSE)","v":{"$error":"#N/A"}},{"$f":"VLOOKUP($C94,Liverpool!$C$3:$N$59,9,FALSE)","v":0.71967087638729432},{"$f":"VLOOKUP(C94,'VoY 10m'!$C$3:$N$40,9,FALSE)","v":{"$error":"#N/A"}},{"$f":"VLOOKUP(C94,Guisley!$C$3:$N$49,9,FALSE)","v":{"$error":"#N/A"}},{"$f":"VLOOKUP(C94,Odda!$C$3:$N$42,9,FALSE)","v":0.62909090909090915},{"$f":"VLOOKUP(C94,'Leeds half'!$C$4:$N$31,9,FALSE)","v":0.70549615456762327},{"$f":"VLOOKUP(C94,Ilkley!$C$3:$L$46,7,FALSE)","v":{"$error":"#N/A"}},{"$f":"VLOOKUP(C94,Otley!$C$3:$L$46,9,FALSE)","v":{"$error":"#N/A"}},{"$f":"VLOOKUP(C94,Solstice!$C$3:$L$48,7,FALSE)","v":{"$error":"#N/A"}},{"$f":"VLOOKUP(C94,Eccup!$C$3:$L$46,9,FALSE)","v":0.69324853228962813},null,{"$f":"VLOOKUP(C94,Shakerr!$C$3:$L$46,7,FALSE)","v":{"$error":"#N/A"}},{"$f":"VLOOKUP(C94,VoY!$C$3:$L$46,9,FALSE)","v":{"$error":"#N/A"}},{"$f":"VLOOKUP(C94,Kirkstall!$C$3:$L$46,9,FALSE)","v":{"$error":"#N/A"}},{"$f":"VLOOKUP($C94,City!$C$3:$L$69,9,FALSE)","v":{"$error":"#N/A"}},{"$f":"VLOOKUP(C94,'Guy Fawkes'!$C$3:$N$34,9,FALSE)","v":{"$error":"#N/A"}},{"$f":"VLOOKUP(C94,Abbey!$C$3:$L$48,7,FALSE)","v":{"$error":"#N/A"}},{"$f":"VLOOKUP(C94,Chevin!$C$3:$L$50,7,FALSE)","v":{"$error":"#N/A"}},null,0,4,0,0,5,0,0,3,1,0,0,0,1,0,0,0,0,0,0,0,0,5]
[null,null,"Simon Furlong","1987-07-20",29,{"$f":"IFERROR(VLOOKUP(C95,'Division Lookup'!$A$2:$D$251,4,FALSE),\"Second\")","v":"Second"},{"$f":"VLOOKUP(C95,Dewsbury!$C$3:$L$46,7,FALSE)","v":{"$error":"#N/A"}},{"$f":"VLOOKUP($C95,Bradford!$C$3:$L$66,7,FALSE)","v":0.58746355685131191},{"$f":"VLOOKUP($C95,Keighley!$C$3:$N$42,9,FALSE)","v":{"$error":"#N/A"}},{"$f":"VLOOKUP($C95,'Bunny '!$C$3:$N$20,9,FALSE)","v":{"$error":"#N/A"}},{"$f":"VLOOKUP($C95,Liverpool!$C$3:$N$59,9,FALSE)","v":0.56245053031502301},{"$f":"VLOOKUP(C95,'VoY 10m'!$C$3:$N$40,9,FALSE)","v":{"$error":"#N/A"}},{"$f":"VLOOKUP(C95,Guisley!$C$3:$N$49,9,FALSE)","v":{"$error":"#N/A"}},{"$f":"VLOOKUP(C95,Odda!$C$3:$N$42,9,FALSE)","v":{"$error":"#N/A"}},{"$f":"VLOOKUP(C95,'Leeds half'!$C$4:$N$31,9,FALSE)","v":{"$error":"#N/A"}},{"$f":"VLOOKUP(C95,Ilkley!$C$3:$L$46,7,FALSE)","v":{"$error":"#N/A"}},{"$f":"VLOOKUP(C95,Otley!$C$3:$L$46,9,FALSE)","v":{"$error":"#N/A"}},{"$f":"VLOOKUP(C95,Solstice!$C$3:$L$48,7,FALSE)","v":{"$error":"#N/A"}},{"$f":"VLOOKUP(C95,Eccup!$C$3:$L$46,9,FALSE)","v":{"$error":"#N/A"}},null,{"$f":"VLOOKUP(C95,Shakerr!$C$3:$L$46,7,FALSE)","v":{"$error":"#N/A"}},{"$f":"VLOOKUP(C95,VoY!$C$3:$L$46,9,FALSE)","v":{"$error":"#N/A"}},{"$f":"VLOOKUP(C95,Kirkstall!$C$3:$L$46,9,FALSE)","v":{"$error":"#N/A"}},{"$f":"VLOOKUP($C95,City!$C$3:$L$69,9,FALSE)","v":{"$error":"#N/A"}},{"$f":"VLOOKUP(C95,'Guy Fawkes'!$C$3:$N$34,9,FALSE)","v":{"$error":"#N/A"}},{"$f":"VLOOKUP(C95,Abbey!$C$3:$L$48,7,FALSE)","v":{"$error":"#N/A"}},{"$f":"VLOOKUP(C95,Chevin!$C$3:$L$50,7,FALSE)","v":{"$error":"#N/A"}},null,0,7,0,0,10,0,0,0,0,0,0,0,0,0,0,0,0,0,0,0,0,2]
[null,null,"James Gardner","1988-12-22",28,{"$f":"IFERROR(VLOOKUP(C96,'Division Lookup'!$A$2:$D$251,4,FALSE),\"Second\")","v":"Second"},{"$f":"VLOOKUP(C96,Dewsbury!$C$3:$L$46,7,FALSE)","v":{"$error":"#N/A"}},{"$f":"VLOOKUP($C96,Bradford!$C$3:$L$66,7,FALSE)","v":{"$error":"#N/A"}},{"$f":"VLOOKUP($C96,Keighley!$C$3:$N$42,9,FALSE)","v":0.60907372400756143},{"$f":"VLOOKUP($C96,'Bunny '!$C$3:$N$20,9,FALSE)","v":{"$error":"#N/A"}},{"$f":"VLOOKUP($C96,Liverpool!$C$3:$N$59,9,FALSE)","v":{"$error":"#N/A"}},{"$f":"VLOOKUP(C96,'VoY 10m'!$C$3:$N$40,9,FALSE)","v":{"$error":"#N/A"}},{"$f":"VLOOKUP(C96,Guisley!$C$3:$N$49,9,FALSE)","v":{"$error":"#N/A"}},{"$f":"VLOOKUP(C96,Odda!$C$3:$N$42,9,FALSE)","v":{"$error":"#N/A"}},{"$f":"VLOOKUP(C96,'Leeds half'!$C$4:$N$31,9,FALSE)","v":0.64942423688539574},{"$f":"VLOOKUP(C96,Ilkley!$C$3:$L$46,7,FALSE)","v":{"$error":"#N/A"}},{"$f":"VLOOKUP(C96,Otley!$C$3:$L$46,9,FALSE)","v":{"$error":"#N/A"}},{"$f":"VLOOKUP(C96,Solstice!$C$3:$L$48,7,FALSE)","v":{"$error":"#N/A"}},{"$f":"VLOOKUP(C96,Eccup!$C$3:$L$46,9,FALSE)","v":{"$error":"#N/A"}},null,{"$f":"VLOOKUP(C96,Shakerr!$C$3:$L$46,7,FALSE)","v":0.43717774762550887},{"$f":"VLOOKUP(C96,VoY!$C$3:$L$46,9,FALSE)","v":{"$error":"#N/A"}},{"$f":"VLOOKUP(C96,Kirkstall!$C$3:$L$46,9,FALSE)","v":{"$error":"#N/A"}},{"$f":"VLOOKUP($C96,City!$C$3:$L$69,9,FALSE)","v":{"$error":"#N/A"}},{"$f":"VLOOKUP(C96,'Guy Fawkes'!$C$3:$N$34,9,FALSE)","v":{"$error":"#N/A"}},{"$f":"VLOOKUP(C96,Abbey!$C$3:$L$48,7,FALSE)","v":{"$error":"#N/A"}},{"$f":"VLOOKUP(C96,Chevin!$C$3:$L$50,7,FALSE)","v":{"$error":"#N/A"}},null,0,0,3,0,0,0,0,0,3,0,0,0,0,0,8,0,0,0,0,0,0,3]
[null,null,"Ewan Gibb","1987-11-16",29,{"$f":"IFERROR(VLOOKUP(C97,'Division Lookup'!$A$2:$D$251,4,FALSE),\"Second\")","v":"First"},{"$f":"VLOOKUP(C97,Dewsbury!$C$3:$L$46,7,FALSE)","v":0.60104399701715139},{"$f":"VLOOKUP($C97,Bradford!$C$3:$L$66,7,FALSE)","v":0.64146438519697579},{"$f":"VLOOKUP($C97,Keighley!$C$3:$N$42,9,FALSE)","v":{"$error":"#N/A"}},{"$f":"VLOOKUP($C97,'Bunny '!$C$3:$N$20,9,FALSE)","v":{"$error":"#N/A"}},{"$f":"VLOOKUP($C97,Liverpool!$C$3:$N$59,9,FALSE)","v":0.64651614469531449},{"$f":"VLOOKUP(C97,'VoY 10m'!$C$3:$N$40,9,FALSE)","v":{"$error":"#N/A"}},{"$f":"VLOOKUP(C97,Guisley!$C$3:$N$49,9,FALSE)","v":{"$error":"#N/A"}},{"$f":"VLOOKUP(C97,Odda!$C$3:$N$42,9,FALSE)","v":{"$error":"#N/A"}},{"$f":"VLOOKUP(C97,'Leeds half'!$C$4:$N$31,9,FALSE)","v":0.61332642844812701},{"$f":"VLOOKUP(C97,Ilkley!$C$3:$L$46,7,FALSE)","v":{"$error":"#N/A"}},{"$f":"VLOOKUP(C97,Otley!$C$3:$L$46,9,FALSE)","v":{"$error":"#N/A"}},{"$f":"VLOOKUP(C97,Solstice!$C$3:$L$48,7,FALSE)","v":0.5960912052117262},{"$f":"VLOOKUP(C97,Eccup!$C$3:$L$46,9,FALSE)","v":{"$error":"#N/A"}},null,{"$f":"VLOOKUP(C97,Shakerr!$C$3:$L$46,7,FALSE)","v":0.47411764705882353},{"$f":"VLOOKUP(C97,VoY!$C$3:$L$46,9,FALSE)","v":0.62442882249560627},{"$f":"VLOOKUP(C97,Kirkstall!$C$3:$L$46,9,FALSE)","v":{"$error":"#N/A"}},{"$f":"VLOOKUP($C97,City!$C$3:$L$69,9,FALSE)","v":0.65733672603901627},{"$f":"VLOOKUP(C97,'Guy Fawkes'!$C$3:$N$34,9,FALSE)","v":{"$error":"#N/A"}},{"$f":"VLOOKUP(C97,Abbey!$C$3:$L$48,7,FALSE)","v":{"$error":"#N/A"}},{"$f":"VLOOKUP(C97,Chevin!$C$3:$L$50,7,FALSE)","v":{"$error":"#N/A"}},null,3,5,0,0,2,0,0,0,2,0,0,2,0,0,4,2,0,3,0,0,0,8]
[null,null,"James Goodall","1989-03-16",27,{"$f":"IFERROR(VLOOKUP(C98,'Division Lookup'!$A$2:$D$251,4,FALSE),\"Second\")","v":"Second"},{"$f":"VLOOKUP(C98,Dewsbury!$C$3:$L$46,7,FALSE)","v":{"$error":"#N/A"}},{"$f":"VLOOKUP($C98,Bradford!$C$3:$L$66,7,FALSE)","v":{"$error":"#N/A"}},{"$f":"VLOOKUP($C98,Keighley!$C$3:$N$42,9,FALSE)","v":{"$error":"#N/A"}},{"$f":"VLOOKUP($C98,'Bunny '!$C$3:$N$20,9,FALSE)","v":{"$error":"#N/A"}},{"$f":"VLOOKUP($C98,Liverpool!$C$3:$N$59,9,FALSE)","v":0.63457760314341849},{"$f":"VLOOKUP(C98,'VoY 10m'!$C$3:$N$40,9,FALSE)","v":{"$error":"#N/A"}},{"$f":"VLOOKUP(C98,Guisley!$C$3:$N$49,9,FALSE)","v":{"$error":"#N/A"}},{"$f":"VLOOKUP(C98,Odda!$C$3:$N$42,9,FALSE)","v":{"$error":"#N/A"}},{"$f":"VLOOKUP(C98,'Leeds half'!$C$4:$N$31,9,FALSE)","v":{"$error":"#N/A"}},{"$f":"VLOOKUP(C98,Ilkley!$C$3:$L$46,7,FALSE)","v":{"$error":"#N/A"}},{"$f":"VLOOKUP(C98,Otley!$C$3:$L$46,9,FALSE)","v":{"$error":"#N/A"}},{"$f":"VLOOKUP(C98,Solstice!$C$3:$L$48,7,FALSE)","v":{"$error":"#N/A"}},{"$f":"VLOOKUP(C98,Eccup!$C$3:$L$46,9,FALSE)","v":{"$error":"#N/A"}},null,{"$f":"VLOOKUP(C98,Shakerr!$C$3:$L$46,7,FALSE)","v":0.48803392911239019},{"$f":"VLOOKUP(C98,VoY!$C$3:$L$46,9,FALSE)","v":{"$error":"#N/A"}},{"$f":"VLOOKUP(C98,Kirkstall!$C$3:$L$46,9,FALSE)","v":{"$error":"#N/A"}},{"$f":"VLOOKUP($C98,City!$C$3:$L$69,9,FALSE)","v":{"$error":"#N/A"}},{"$f":"VLOOKUP(C98,'Guy Fawkes'!$C$3:$N$34,9,FALSE)","v":{"$error":"#N/A"}},{"$f":"VLOOKUP(C98,Abbey!$C$3:$L$48,7,FALSE)","v":{"$error":"#N/A"}},{"$f":"VLOOKUP(C98,Chevin!$C$3:$L$50,7,FALSE)","v":{"$error":"#N/A"}},null,0,0,0,0,3,0,0,0,0,0,0,0,0,0,3,0,0,0,0,0,0,2]
[null,null,"Laura Goodyear","1982-01-29",34,{"$f":"IFERROR(VLOOKUP(C99,'Division Lookup'!$A$2:$D$251,4,FALSE),\"Second\")","v":"Second"},{"$f":"VLOOKUP(C99,Dewsbury!$C$3:$L$46,7,FALSE)","v":{"$error":"#N/A"}},{"$f":"VLOOKUP($C99,Bradford!$C$3:$L$66,7,FALSE)","v":{"$error":"#N/A"}},{"$f":"VLOOKUP($C99,Keighley!$C$3:$N$42,9,FALSE)","v":{"$error":"#N/A"}},{"$f":"VLOOKUP($C99,'Bunny '!$C$3:$N$20,9,FALSE)","v":{"$error":"#N/A"}},{"$f":"VLOOKUP($C99,Liverpool!$C$3:$N$59,9,FALSE)","v":{"$error":"#N/A"}},{"$f":"VLOOKUP(C99,'VoY 10m'!$C$3:$N$40,9,FALSE)","v":{"$error":"#N/A"}},{"$f":"VLOOKUP(C99,Guisley!$C$3:$N$49,9,FALSE)","v":{"$error":"#N/A"}},{"$f":"VLOOKUP(C99,Odda!$C$3:$N$42,9,FALSE)","v":{"$error":"#N/A"}},{"$f":"VLOOKUP(C99,'Leeds half'!$C$4:$N$31,9,FALSE)","v":{"$error":"#N/A"}},{"$f":"VLOOKUP(C99,Ilkley!$C$3:$L$46,7,FALSE)","v":{"$error":"#N/A"}},{"$f":"VLOOKUP(C99,Otley!$C$3:$L$46,9,FALSE)","v":{"$error":"#N/A"}},{"$f":"VLOOKUP(C99,Solstice!$C$3:$L$48,7,FALSE)","v":{"$error":"#N/A"}},{"$f":"VLOOKUP(C99,Eccup!$C$3:$L$46,9,FALSE)","v":{"$error":"#N/A"}},null,{"$f":"VLOOKUP(C99,Shakerr!$C$3:$L$46,7,FALSE)","v":{"$error":"#N/A"}},{"$f":"VLOOKUP(C99,VoY!$C$3:$L$46,9,FALSE)","v":{"$error":"#N/A"}},{"$f":"VLOOKUP(C99,Kirkstall!$C$3:$L$46,9,FALSE)","v":{"$error":"#N/A"}},{"$f":"VLOOKUP($C99,City!$C$3:$L$69,9,FALSE)","v":{"$error":"#N/A"}},{"$f":"VLOOKUP(C99,'Guy Fawkes'!$C$3:$N$34,9,FALSE)","v":{"$error":"#N/A"}},{"$f":"VLOOKUP(C99,Abbey!$C$3:$L$48,7,FALSE)","v":{"$error":"#N/A"}},{"$f":"VLOOKUP(C99,Chevin!$C$3:$L$50,7,FALSE)","v":{"$error":"#N/A"}},null,0,0,0,0,0,0,0,0,0,0,0,0,0,0,0,0,0,0,0,0,0,0]
[null,null,"Rowan Grant","1982-06-17",34,{"$f":"IFERROR(VLOOKUP(C100,'Division Lookup'!$A$2:$D$251,4,FALSE),\"Second\")","v":"Second"},{"$f":"VLOOKUP(C100,Dewsbury!$C$3:$L$46,7,FALSE)","v":{"$error":"#N/A"}},{"$f":"VLOOKUP($C100,Bradford!$C$3:$L$66,7,FALSE)","v":{"$error":"#N/A"}},{"$f":"VLOOKUP($C100,Keighley!$C$3:$N$42,9,FALSE)","v":{"$error":"#N/A"}},{"$f":"VLOOKUP($C100,'Bunny '!$C$3:$N$20,9,FALSE)","v":{"$error":"#N/A"}},{"$f":"VLOOKUP($C100,Liverpool!$C$3:$N$59,9,FALSE)","v":{"$error":"#N/A"}},{"$f":"VLOOKUP(C100,'VoY 10m'!$C$3:$N$40,9,FALSE)","v":{"$error":"#N/A"}},{"$f":"VLOOKUP(C100,Guisley!$C$3:$N$49,9,FALSE)","v":{"$error":"#N/A"}},{"$f":"VLOOKUP(C100,Odda!$C$3:$N$42,9,FALSE)","v":{"$error":"#N/A"}},{"$f":"VLOOKUP(C100,'Leeds half'!$C$4:$N$31,9,FALSE)","v":{"$error":"#N/A"}},{"$f":"VLOOKUP(C100,Ilkley!$C$3:$L$46,7,FALSE)","v":{"$error":"#N/A"}},{"$f":"VLOOKUP(C100,Otley!$C$3:$L$46,9,FALSE)","v":{"$error":"#N/A"}},{"$f":"VLOOKUP(C100,Solstice!$C$3:$L$48,7,FALSE)","v":{"$error":"#N/A"}},{"$f":"VLOOKUP(C100,Eccup!$C$3:$L$46,9,FALSE)","v":{"$error":"#N/A"}},null,{"$f":"VLOOKUP(C100,Shakerr!$C$3:$L$46,7,FALSE)","v":{"$error":"#N/A"}},{"$f":"VLOOKUP(C100,VoY!$C$3:$L$46,9,FALSE)","v":{"$error":"#N/A"}},{"$f":"VLOOKUP(C100,Kirkstall!$C$3:$L$46,9,FALSE)","v":{"$error":"#N/A"}},{"$f":"VLOOKUP($C100,City!$C$3:$L$69,9,FALSE)","v":{"$error":"#N/A"}},{"$f":"VLOOKUP(C100,'Guy Fawkes'!$C$3:$N$34,9,FALSE)","v":{"$error":"#N/A"}},{"$f":"VLOOKUP(C100,Abbey!$C$3:$L$48,7,FALSE)","v":{"$error":"#N/A"}},{"$f":"VLOOKUP(C100,Chevin!$C$3:$L$50,7,FALSE)","v":{"$error":"#N/A"}},null,0,0,0,0,0,0,0,0,0,0,0,0,0,0,0,0,0,0,0,0,0,0]
[null,null,"Olivia Gregory","1991-01-08",25,{"$f":"IFERROR(VLOOKUP(C101,'Division Lookup'!$A$2:$D$251,4,FALSE),\"Second\")","v":"Second"},{"$f":"VLOOKUP(C101,Dewsbury!$C$3:$L$46,7,FALSE)","v":{"$error":"#N/A"}},{"$f":"VLOOKUP($C101,Bradford!$C$3:$L$66,7,FALSE)","v":{"$error":"#N/A"}},{"$f":"VLOOKUP($C101,Keighley!$C$3:$N$42,9,FALSE)","v":{"$error":"#N/A"}},{"$f":"VLOOKUP($C101,'Bunny '!$C$3:$N$20,9,FALSE)","v":{"$error":"#N/A"}},{"$f":"VLOOKUP($C101,Liverpool!$C$3:$N$59,9,FALSE)","v":{"$error":"#N/A"}},{"$f":"VLOOKUP(C101,'VoY 10m'!$C$3:$N$40,9,FALSE)","v":{"$error":"#N/A"}},{"$f":"VLOOKUP(C101,Guisley!$C$3:$N$49,9,FALSE)","v":{"$error":"#N/A"}},{"$f":"VLOOKUP(C101,Odda!$C$3:$N$42,9,FALSE)","v":{"$error":"#N/A"}},{"$f":"VLOOKUP(C101,'Leeds half'!$C$4:$N$31,9,FALSE)","v":{"$error":"#N/A"}},{"$f":"VLOOKUP(C101,Ilkley!$C$3:$L$46,7,FALSE)","v":{"$error":"#N/A"}},{"$f":"VLOOKUP(C101,Otley!$C$3:$L$46,9,FALSE)","v":{"$error":"#N/A"}},{"$f":"VLOOKUP(C101,Solstice!$C$3:$L$48,7,FALSE)","v":{"$error":"#N/A"}},{"$f":"VLOOKUP(C101,Eccup!$C$3:$L$46,9,FALSE)","v":{"$error":"#N/A"}},null,{"$f":"VLOOKUP(C101,Shakerr!$C$3:$L$46,7,FALSE)","v":{"$error":"#N/A"}},{"$f":"VLOOKUP(C101,VoY!$C$3:$L$46,9,FALSE)","v":{"$error":"#N/A"}},{"$f":"VLOOKUP(C101,Kirkstall!$C$3:$L$46,9,FALSE)","v":{"$error":"#N/A"}},{"$f":"VLOOKUP($C101,City!$C$3:$L$69,9,FALSE)","v":{"$error":"#N/A"}},{"$f":"VLOOKUP(C101,'Guy Fawkes'!$C$3:$N$34,9,FALSE)","v":{"$error":"#N/A"}},{"$f":"VLOOKUP(C101,Abbey!$C$3:$L$48,7,FALSE)","v":{"$error":"#N/A"}},{"$f":"VLOOKUP(C101,Chevin!$C$3:$L$50,7,FALSE)","v":{"$error":"#N/A"}},null,0,0,0,0,0,0,0,0,0,0,0,0,0,0,0,0,0,0,0,0,0,0]
[null,null,"Alun Griffiths","1957-07-19",59,{"$f":"IFERROR(VLOOKUP(C102,'Division Lookup'!$A$2:$D$251,4,FALSE),\"Second\")","v":"Premier"},{"$f":"VLOOKUP(C102,Dewsbury!$C$3:$L$46,7,FALSE)","v":0.67851042022548691},{"$f":"VLOOKUP($C102,Bradford!$C$3:$L$66,7,FALSE)","v":0.66554959785522783},{"$f":"VLOOKUP($C102,Keighley!$C$3:$N$42,9,FALSE)","v":0.61811391223155931},{"$f":"VLOOKUP($C102,'Bunny '!$C$3:$N$20,9,FALSE)","v":0.62028608582574774},{"$f":"VLOOKUP($C102,Liverpool!$C$3:$N$59,9,FALSE)","v":{"$error":"#N/A"}},{"$f":"VLOOKUP(C102,'VoY 10m'!$C$3:$N$40,9,FALSE)","v":{"$error":"#N/A"}},{"$f":"VLOOKUP(C102,Guisley!$C$3:$N$49,9,FALSE)","v":{"$error":"#N/A"}},{"$f":"VLOOKUP(C102,Odda!$C$3:$N$42,9,FALSE)","v":{"$error":"#N/A"}},{"$f":"VLOOKUP(C102,'Leeds half'!$C$4:$N$31,9,FALSE)","v":{"$error":"#N/A"}},{"$f":"VLOOKUP(C102,Ilkley!$C$3:$L$46,7,FALSE)","v":0.50988446726572534},{"$f":"VLOOKUP(C102,Otley!$C$3:$L$46,9,FALSE)","v":{"$error":"#N/A"}},{"$f":"VLOOKUP(C102,Solstice!$C$3:$L$48,7,FALSE)","v":0.6027501909854851},{"$f":"VLOOKUP(C102,Eccup!$C$3:$L$46,9,FALSE)","v":{"$error":"#N/A"}},null,{"$f":"VLOOKUP(C102,Shakerr!$C$3:$L$46,7,FALSE)","v":{"$error":"#N/A"}},{"$f":"VLOOKUP(C102,VoY!$C$3:$L$46,9,FALSE)","v":{"$error":"#N/A"}},{"$f":"VLOOKUP(C102,Kirkstall!$C$3:$L$46,9,FALSE)","v":{"$error":"#N/A"}},{"$f":"VLOOKUP($C102,City!$C$3:$L$69,9,FALSE)","v":0.67230443974630016},{"$f":"VLOOKUP(C102,'Guy Fawkes'!$C$3:$N$34,9,FALSE)","v":0.64142801098469993},{"$f":"VLOOKUP(C102,Abbey!$C$3:$L$48,7,FALSE)","v":{"$error":"#N/A"}},{"$f":"VLOOKUP(C102,Chevin!$C$3:$L$50,7,FALSE)","v":{"$error":"#N/A"}},null,7,8,7,5,0,0,0,0,0,4,0,6,0,0,0,0,0,7,4,0,0,8]
[null,null,"Ambrose Griffiths","1979-01-17",37,{"$f":"IFERROR(VLOOKUP(C103,'Division Lookup'!$A$2:$D$251,4,FALSE),\"Second\")","v":"Second"},{"$f":"VLOOKUP(C103,Dewsbury!$C$3:$L$46,7,FALSE)","v":{"$error":"#N/A"}},{"$f":"VLOOKUP($C103,Bradford!$C$3:$L$66,7,FALSE)","v":0.57821713492889348},{"$f":"VLOOKUP($C103,Keighley!$C$3:$N$42,9,FALSE)","v":{"$error":"#N/A"}},{"$f":"VLOOKUP($C103,'Bunny '!$C$3:$N$20,9,FALSE)","v":{"$error":"#N/A"}},{"$f":"VLOOKUP($C103,Liverpool!$C$3:$N$59,9,FALSE)","v":{"$error":"#N/A"}},{"$f":"VLOOKUP(C103,'VoY 10m'!$C$3:$N$40,9,FALSE)","v":{"$error":"#N/A"}},{"$f":"VLOOKUP(C103,Guisley!$C$3:$N$49,9,FALSE)","v":{"$error":"#N/A"}},{"$f":"VLOOKUP(C103,Odda!$C$3:$N$42,9,FALSE)","v":{"$error":"#N/A"}},{"$f":"VLOOKUP(C103,'Leeds half'!$C$4:$N$31,9,FALSE)","v":{"$error":"#N/A"}},{"$f":"VLOOKUP(C103,Ilkley!$C$3:$L$46,7,FALSE)","v":{"$error":"#N/A"}},{"$f":"VLOOKUP(C103,Otley!$C$3:$L$46,9,FALSE)","v":{"$error":"#N/A"}},{"$f":"VLOOKUP(C103,Solstice!$C$3:$L$48,7,FALSE)","v":{"$error":"#N/A"}},{"$f":"VLOOKUP(C103,Eccup!$C$3:$L$46,9,FALSE)","v":{"$error":"#N/A"}},null,{"$f":"VLOOKUP(C103,Shakerr!$C$3:$L$46,7,FALSE)","v":0.37276386404293382},{"$f":"VLOOKUP(C103,VoY!$C$3:$L$46,9,FALSE)","v":{"$error":"#N/A"}},{"$f":"VLOOKUP(C103,Kirkstall!$C$3:$L$46,9,FALSE)","v":{"$error":"#N/A"}},{"$f":"VLOOKUP($C103,City!$C$3:$L$69,9,FALSE)","v":{"$error":"#N/A"}},{"$f":"VLOOKUP(C103,'Guy Fawkes'!$C$3:$N$34,9,FALSE)","v":{"$error":"#N/A"}},{"$f":"VLOOKUP(C103,Abbey!$C$3:$L$48,7,FALSE)","v":{"$error":"#N/A"}},{"$f":"VLOOKUP(C103,Chevin!$C$3:$L$50,7,FALSE)","v":{"$error":"#N/A"}},null,0,11,0,0,0,0,0,0,0,0,0,0,0,0,13,0,0,0,0,0,0,2]
[null,null,"Frances  Guy","1967-03-28",49,{"$f":"IFERROR(VLOOKUP(C104,'Division Lookup'!$A$2:$D$251,4,FALSE),\"Second\")","v":"Second"},{"$f":"VLOOKUP(C104,Dewsbury!$C$3:$L$46,7,FALSE)","v":{"$error":"#N/A"}},{"$f":"VLOOKUP($C104,Bradford!$C$3:$L$66,7,FALSE)","v":{"$error":"#N/A"}},{"$f":"VLOOKUP($C104,Keighley!$C$3:$N$42,9,FALSE)","v":{"$error":"#N/A"}},{"$f":"VLOOKUP($C104,'Bunny '!$C$3:$N$20,9,FALSE)","v":{"$error":"#N/A"}},{"$f":"VLOOKUP($C104,Liverpool!$C$3:$N$59,9,FALSE)","v":{"$error":"#N/A"}},{"$f":"VLOOKUP(C104,'VoY 10m'!$C$3:$N$40,9,FALSE)","v":{"$error":"#N/A"}},{"$f":"VLOOKUP(C104,Guisley!$C$3:$N$49,9,FALSE)","v":{"$error":"#N/A"}},{"$f":"VLOOKUP(C104,Odda!$C$3:$N$42,9,FALSE)","v":{"$error":"#N/A"}},{"$f":"VLOOKUP(C104,'Leeds half'!$C$4:$N$31,9,FALSE)","v":{"$error":"#N/A"}},{"$f":"VLOOKUP(C104,Ilkley!$C$3:$L$46,7,FALSE)","v":{"$error":"#N/A"}},{"$f":"VLOOKUP(C104,Otley!$C$3:$L$46,9,FALSE)","v":{"$error":"#N/A"}},{"$f":"VLOOKUP(C104,Solstice!$C$3:$L$48,7,FALSE)","v":{"$error":"#N/A"}},{"$f":"VLOOKUP(C104,Eccup!$C$3:$L$46,9,FALSE)","v":{"$error":"#N/A"}},null,{"$f":"VLOOKUP(C104,Shakerr!$C$3:$L$46,7,FALSE)","v":{"$error":"#N/A"}},{"$f":"VLOOKUP(C104,VoY!$C$3:$L$46,9,FALSE)","v":{"$error":"#N/A"}},{"$f":"VLOOKUP(C104,Kirkstall!$C$3:$L$46,9,FALSE)","v":{"$error":"#N/A"}},{"$f":"VLOOKUP($C104,City!$C$3:$L$69,9,FALSE)","v":0.58640552995391715},{"$f":"VLOOKUP(C104,'Guy Fawkes'!$C$3:$N$34,9,FALSE)","v":{"$error":"#N/A"}},{"$f":"VLOOKUP(C104,Abbey!$C$3:$L$48,7,FALSE)","v":{"$error":"#N/A"}},{"$f":"VLOOKUP(C104,Chevin!$C$3:$L$50,7,FALSE)","v":{"$error":"#N/A"}},null,0,0,0,0,0,0,0,0,0,0,0,0,0,0,0,0,0,6,0,0,0,1]
[null,null,"Robert Hague","1963-12-11",53,{"$f":"IFERROR(VLOOKUP(C105,'Division Lookup'!$A$2:$D$251,4,FALSE),\"Second\")","v":"First"},{"$f":"VLOOKUP(C105,Dewsbury!$C$3:$L$46,7,FALSE)","v":{"$error":"#N/A"}},{"$f":"VLOOKUP($C105,Bradford!$C$3:$L$66,7,FALSE)","v":{"$error":"#N/A"}},{"$f":"VLOOKUP($C105,Keighley!$C$3:$N$42,9,FALSE)","v":{"$error":"#N/A"}},{"$f":"VLOOKUP($C105,'Bunny '!$C$3:$N$20,9,FALSE)","v":{"$error":"#N/A"}},{"$f":"VLOOKUP($C105,Liverpool!$C$3:$N$59,9,FALSE)","v":{"$error":"#N/A"}},{"$f":"VLOOKUP(C105,'VoY 10m'!$C$3:$N$40,9,FALSE)","v":{"$error":"#N/A"}},{"$f":"VLOOKUP(C105,Guisley!$C$3:$N$49,9,FALSE)","v":{"$error":"#N/A"}},{"$f":"VLOOKUP(C105,Odda!$C$3:$N$42,9,FALSE)","v":{"$error":"#N/A"}},{"$f":"VLOOKUP(C105,'Leeds half'!$C$4:$N$31,9,FALSE)","v":{"$error":"#N/A"}},{"$f":"VLOOKUP(C105,Ilkley!$C$3:$L$46,7,FALSE)","v":{"$error":"#N/A"}},{"$f":"VLOOKUP(C105,Otley!$C$3:$L$46,9,FALSE)","v":{"$error":"#N/A"}},{"$f":"VLOOKUP(C105,Solstice!$C$3:$L$48,7,FALSE)","v":{"$error":"#N/A"}},{"$f":"VLOOKUP(C105,Eccup!$C$3:$L$46,9,FALSE)","v":{"$error":"#N/A"}},null,{"$f":"VLOOKUP(C105,Shakerr!$C$3:$L$46,7,FALSE)","v":{"$error":"#N/A"}},{"$f":"VLOOKUP(C105,VoY!$C$3:$L$46,9,FALSE)","v":{"$error":"#N/A"}},{"$f":"VLOOKUP(C105,Kirkstall!$C$3:$L$46,9,FALSE)","v":{"$error":"#N/A"}},{"$f":"VLOOKUP($C105,City!$C$3:$L$69,9,FALSE)","v":{"$error":"#N/A"}},{"$f":"VLOOKUP(C105,'Guy Fawkes'!$C$3:$N$34,9,FALSE)","v":{"$error":"#N/A"}},{"$f":"VLOOKUP(C105,Abbey!$C$3:$L$48,7,FALSE)","v":{"$error":"#N/A"}},{"$f":"VLOOKUP(C105,Chevin!$C$3:$L$50,7,FALSE)","v":{"$error":"#N/A"}},null,0,0,0,0,0,0,0,0,0,0,0,0,0,0,0,0,0,0,0,0,0,0]
[null,null,"Suzanne Hague","1965-02-19",51,{"$f":"IFERROR(VLOOKUP(C106,'Division Lookup'!$A$2:$D$251,4,FALSE),\"Second\")","v":"Premier"},{"$f":"VLOOKUP(C106,Dewsbury!$C$3:$L$46,7,FALSE)","v":0.61947165330958753},{"$f":"VLOOKUP($C106,Bradford!$C$3:$L$66,7,FALSE)","v":{"$error":"#N/A"}},{"$f":"VLOOKUP($C106,Keighley!$C$3:$N$42,9,FALSE)","v":0.57731673582295995},{"$f":"VLOOKUP($C106,'Bunny '!$C$3:$N$20,9,FALSE)","v":{"$error":"#N/A"}},{"$f":"VLOOKUP($C106,Liverpool!$C$3:$N$59,9,FALSE)","v":0.59207946673637435},{"$f":"VLOOKUP(C106,'VoY 10m'!$C$3:$N$40,9,FALSE)","v":{"$error":"#N/A"}},{"$f":"VLOOKUP(C106,Guisley!$C$3:$N$49,9,FALSE)","v":{"$error":"#N/A"}},{"$f":"VLOOKUP(C106,Odda!$C$3:$N$42,9,FALSE)","v":{"$error":"#N/A"}},{"$f":"VLOOKUP(C106,'Leeds half'!$C$4:$N$31,9,FALSE)","v":{"$error":"#N/A"}},{"$f":"VLOOKUP(C106,Ilkley!$C$3:$L$46,7,FALSE)","v":{"$error":"#N/A"}},{"$f":"VLOOKUP(C106,Otley!$C$3:$L$46,9,FALSE)","v":{"$error":"#N/A"}},{"$f":"VLOOKUP(C106,Solstice!$C$3:$L$48,7,FALSE)","v":{"$error":"#N/A"}},{"$f":"VLOOKUP(C106,Eccup!$C$3:$L$46,9,FALSE)","v":{"$error":"#N/A"}},null,{"$f":"VLOOKUP(C106,Shakerr!$C$3:$L$46,7,FALSE)","v":{"$error":"#N/A"}},{"$f":"VLOOKUP(C106,VoY!$C$3:$L$46,9,FALSE)","v":{"$error":"#N/A"}},{"$f":"VLOOKUP(C106,Kirkstall!$C$3:$L$46,9,FALSE)","v":{"$error":"#N/A"}},{"$f":"VLOOKUP($C106,City!$C$3:$L$69,9,FALSE)","v":0.59256104486087446},{"$f":"VLOOKUP(C106,'Guy Fawkes'!$C$3:$N$34,9,FALSE)","v":{"$error":"#N/A"}},{"$f":"VLOOKUP(C106,Abbey!$C$3:$L$48,7,FALSE)","v":0.53821186190616699},{"$f":"VLOOKUP(C106,Chevin!$C$3:$L$50,7,FALSE)","v":{"$error":"#N/A"}},null,12,0,10,0,16,0,0,0,0,0,0,0,0,0,0,0,0,15,0,7,0,5]
[null,null,"Liz Halfpenny","1981-03-11",35,{"$f":"IFERROR(VLOOKUP(C107,'Division Lookup'!$A$2:$D$251,4,FALSE),\"Second\")","v":"Second"},{"$f":"VLOOKUP(C107,Dewsbury!$C$3:$L$46,7,FALSE)","v":{"$error":"#N/A"}},{"$f":"VLOOKUP($C107,Bradford!$C$3:$L$66,7,FALSE)","v":{"$error":"#N/A"}},{"$f":"VLOOKUP($C107,Keighley!$C$3:$N$42,9,FALSE)","v":{"$error":"#N/A"}},{"$f":"VLOOKUP($C107,'Bunny '!$C$3:$N$20,9,FALSE)","v":{"$error":"#N/A"}},{"$f":"VLOOKUP($C107,Liverpool!$C$3:$N$59,9,FALSE)","v":{"$error":"#N/A"}},{"$f":"VLOOKUP(C107,'VoY 10m'!$C$3:$N$40,9,FALSE)","v":{"$error":"#N/A"}},{"$f":"VLOOKUP(C107,Guisley!$C$3:$N$49,9,FALSE)","v":{"$error":"#N/A"}},{"$f":"VLOOKUP(C107,Odda!$C$3:$N$42,9,FALSE)","v":{"$error":"#N/A"}},{"$f":"VLOOKUP(C107,'Leeds half'!$C$4:$N$31,9,FALSE)","v":{"$error":"#N/A"}},{"$f":"VLOOKUP(C107,Ilkley!$C$3:$L$46,7,FALSE)","v":{"$error":"#N/A"}},{"$f":"VLOOKUP(C107,Otley!$C$3:$L$46,9,FALSE)","v":{"$error":"#N/A"}},{"$f":"VLOOKUP(C107,Solstice!$C$3:$L$48,7,FALSE)","v":{"$error":"#N/A"}},{"$f":"VLOOKUP(C107,Eccup!$C$3:$L$46,9,FALSE)","v":{"$error":"#N/A"}},null,{"$f":"VLOOKUP(C107,Shakerr!$C$3:$L$46,7,FALSE)","v":{"$error":"#N/A"}},{"$f":"VLOOKUP(C107,VoY!$C$3:$L$46,9,FALSE)","v":{"$error":"#N/A"}},{"$f":"VLOOKUP(C107,Kirkstall!$C$3:$L$46,9,FALSE)","v":{"$error":"#N/A"}},{"$f":"VLOOKUP($C107,City!$C$3:$L$69,9,FALSE)","v":{"$error":"#N/A"}},{"$f":"VLOOKUP(C107,'Guy Fawkes'!$C$3:$N$34,9,FALSE)","v":{"$error":"#N/A"}},{"$f":"VLOOKUP(C107,Abbey!$C$3:$L$48,7,FALSE)","v":{"$error":"#N/A"}},{"$f":"VLOOKUP(C107,Chevin!$C$3:$L$50,7,FALSE)","v":{"$error":"#N/A"}},null,0,0,0,0,0,0,0,0,0,0,0,0,0,0,0,0,0,0,0,0,0,0]
[null,null,"Emma Hall","1988-05-24",28,{"$f":"IFERROR(VLOOKUP(C108,'Division Lookup'!$A$2:$D$251,4,FALSE),\"Second\")","v":"Second"},{"$f":"VLOOKUP(C108,Dewsbury!$C$3:$L$46,7,FALSE)","v":{"$error":"#N/A"}},{"$f":"VLOOKUP($C108,Bradford!$C$3:$L$66,7,FALSE)","v":{"$error":"#N/A"}},{"$f":"VLOOKUP($C108,Keighley!$C$3:$N$42,9,FALSE)","v":{"$error":"#N/A"}},{"$f":"VLOOKUP($C108,'Bunny '!$C$3:$N$20,9,FALSE)","v":{"$error":"#N/A"}},{"$f":"VLOOKUP($C108,Liverpool!$C$3:$N$59,9,FALSE)","v":{"$error":"#N/A"}},{"$f":"VLOOKUP(C108,'VoY 10m'!$C$3:$N$40,9,FALSE)","v":{"$error":"#N/A"}},{"$f":"VLOOKUP(C108,Guisley!$C$3:$N$49,9,FALSE)","v":{"$error":"#N/A"}},{"$f":"VLOOKUP(C108,Odda!$C$3:$N$42,9,FALSE)","v":{"$error":"#N/A"}},{"$f":"VLOOKUP(C108,'Leeds half'!$C$4:$N$31,9,FALSE)","v":{"$error":"#N/A"}},{"$f":"VLOOKUP(C108,Ilkley!$C$3:$L$46,7,FALSE)","v":{"$error":"#N/A"}},{"$f":"VLOOKUP(C108,Otley!$C$3:$L$46,9,FALSE)","v":{"$error":"#N/A"}},{"$f":"VLOOKUP(C108,Solstice!$C$3:$L$48,7,FALSE)","v":{"$error":"#N/A"}},{"$f":"VLOOKUP(C108,Eccup!$C$3:$L$46,9,FALSE)","v":{"$error":"#N/A"}},null,{"$f":"VLOOKUP(C108,Shakerr!$C$3:$L$46,7,FALSE)","v":{"$error":"#N/A"}},{"$f":"VLOOKUP(C108,VoY!$C$3:$L$46,9,FALSE)","v":{"$error":"#N/A"}},{"$f":"VLOOKUP(C108,Kirkstall!$C$3:$L$46,9,FALSE)","v":{"$error":"#N/A"}},{"$f":"VLOOKUP($C108,City!$C$3:$L$69,9,FALSE)","v":{"$error":"#N/A"}},{"$f":"VLOOKUP(C108,'Guy Fawkes'!$C$3:$N$34,9,FALSE)","v":{"$error":"#N/A"}},{"$f":"VLOOKUP(C108,Abbey!$C$3:$L$48,7,FALSE)","v":{"$error":"#N/A"}},{"$f":"VLOOKUP(C108,Chevin!$C$3:$L$50,7,FALSE)","v":{"$error":"#N/A"}},null,0,0,0,0,0,0,0,0,0,0,0,0,0,0,0,0,0,0,0,0,0,0]
[null,null,"Gavin Hamilton","1976-09-24",40,{"$f":"IFERROR(VLOOKUP(C109,'Division Lookup'!$A$2:$D$251,4,FALSE),\"Second\")","v":"First"},{"$f":"VLOOKUP(C109,Dewsbury!$C$3:$L$46,7,FALSE)","v":{"$error":"#N/A"}},{"$f":"VLOOKUP($C109,Bradford!$C$3:$L$66,7,FALSE)","v":0.58230874316939907},{"$f":"VLOOKUP($C109,Keighley!$C$3:$N$42,9,FALSE)","v":{"$error":"#N/A"}},{"$f":"VLOOKUP($C109,'Bunny '!$C$3:$N$20,9,FALSE)","v":{"$error":"#N/A"}},{"$f":"VLOOKUP($C109,Liverpool!$C$3:$N$59,9,FALSE)","v":0.56374714394516379},{"$f":"VLOOKUP(C109,'VoY 10m'!$C$3:$N$40,9,FALSE)","v":{"$error":"#N/A"}},{"$f":"VLOOKUP(C109,Guisley!$C$3:$N$49,9,FALSE)","v":{"$error":"#N/A"}},{"$f":"VLOOKUP(C109,Odda!$C$3:$N$42,9,FALSE)","v":{"$error":"#N/A"}},{"$f":"VLOOKUP(C109,'Leeds half'!$C$4:$N$31,9,FALSE)","v":0.54894690002966484},{"$f":"VLOOKUP(C109,Ilkley!$C$3:$L$46,7,FALSE)","v":{"$error":"#N/A"}},{"$f":"VLOOKUP(C109,Otley!$C$3:$L$46,9,FALSE)","v":{"$error":"#N/A"}},{"$f":"VLOOKUP(C109,Solstice!$C$3:$L$48,7,FALSE)","v":{"$error":"#N/A"}},{"$f":"VLOOKUP(C109,Eccup!$C$3:$L$46,9,FALSE)","v":0.54236300038865148},null,{"$f":"VLOOKUP(C109,Shakerr!$C$3:$L$46,7,FALSE)","v":{"$error":"#N/A"}},{"$f":"VLOOKUP(C109,VoY!$C$3:$L$46,9,FALSE)","v":{"$error":"#N/A"}},{"$f":"VLOOKUP(C109,Kirkstall!$C$3:$L$46,9,FALSE)","v":{"$error":"#N/A"}},{"$f":"VLOOKUP($C109,City!$C$3:$L$69,9,FALSE)","v":{"$error":"#N/A"}},{"$f":"VLOOKUP(C109,'Guy Fawkes'!$C$3:$N$34,9,FALSE)","v":{"$error":"#N/A"}},{"$f":"VLOOKUP(C109,Abbey!$C$3:$L$48,7,FALSE)","v":{"$error":"#N/A"}},{"$f":"VLOOKUP(C109,Chevin!$C$3:$L$50,7,FALSE)","v":{"$error":"#N/A"}},null,0,8,0,0,6,0,0,0,5,0,0,0,1,0,0,0,0,0,0,0,0,4]
[null,null,"Liz Hamilton","1975-10-29",41,{"$f":"IFERROR(VLOOKUP(C110,'Division Lookup'!$A$2:$D$251,4,FALSE),\"Second\")","v":"First"},{"$f":"VLOOKUP(C110,Dewsbury!$C$3:$L$46,7,FALSE)","v":{"$error":"#N/A"}},{"$f":"VLOOKUP($C110,Bradford!$C$3:$L$66,7,FALSE)","v":0.54904236796285566},{"$f":"VLOOKUP($C110,Keighley!$C$3:$N$42,9,FALSE)","v":{"$error":"#N/A"}},{"$f":"VLOOKUP($C110,'Bunny '!$C$3:$N$20,9,FALSE)","v":{"$error":"#N/A"}},{"$f":"VLOOKUP($C110,Liverpool!$C$3:$N$59,9,FALSE)","v":{"$error":"#N/A"}},{"$f":"VLOOKUP(C110,'VoY 10m'!$C$3:$N$40,9,FALSE)","v":{"$error":"#N/A"}},{"$f":"VLOOKUP(C110,Guisley!$C$3:$N$49,9,FALSE)","v":{"$error":"#N/A"}},{"$f":"VLOOKUP(C110,Odda!$C$3:$N$42,9,FALSE)","v":{"$error":"#N/A"}},{"$f":"VLOOKUP(C110,'Leeds half'!$C$4:$N$31,9,FALSE)","v":{"$error":"#N/A"}},{"$f":"VLOOKUP(C110,Ilkley!$C$3:$L$46,7,FALSE)","v":{"$error":"#N/A"}},{"$f":"VLOOKUP(C110,Otley!$C$3:$L$46,9,FALSE)","v":{"$error":"#N/A"}},{"$f":"VLOOKUP(C110,Solstice!$C$3:$L$48,7,FALSE)","v":0.46432964329643295},{"$f":"VLOOKUP(C110,Eccup!$C$3:$L$46,9,FALSE)","v":{"$error":"#N/A"}},null,{"$f":"VLOOKUP(C110,Shakerr!$C$3:$L$46,7,FALSE)","v":{"$error":"#N/A"}},{"$f":"VLOOKUP(C110,VoY!$C$3:$L$46,9,FALSE)","v":{"$error":"#N/A"}},{"$f":"VLOOKUP(C110,Kirkstall!$C$3:$L$46,9,FALSE)","v":{"$error":"#N/A"}},{"$f":"VLOOKUP($C110,City!$C$3:$L$69,9,FALSE)","v":{"$error":"#N/A"}},{"$f":"VLOOKUP(C110,'Guy Fawkes'!$C$3:$N$34,9,FALSE)","v":0.44705882352941179},{"$f":"VLOOKUP(C110,Abbey!$C$3:$L$48,7,FALSE)","v":{"$error":"#N/A"}},{"$f":"VLOOKUP(C110,Chevin!$C$3:$L$50,7,FALSE)","v":{"$error":"#N/A"}},null,0,10,0,0,0,0,0,0,0,0,0,7,0,0,0,0,0,0,3,0,0,3]
[null,null,"Abby Hanson","1975-05-10",41,{"$f":"IFERROR(VLOOKUP(C111,'Division Lookup'!$A$2:$D$251,4,FALSE),\"Second\")","v":"Second"},{"$f":"VLOOKUP(C111,Dewsbury!$C$3:$L$46,7,FALSE)","v":{"$error":"#N/A"}},{"$f":"VLOOKUP($C111,Bradford!$C$3:$L$66,7,FALSE)","v":{"$error":"#N/A"}},{"$f":"VLOOKUP($C111,Keighley!$C$3:$N$42,9,FALSE)","v":{"$error":"#N/A"}},{"$f":"VLOOKUP($C111,'Bunny '!$C$3:$N$20,9,FALSE)","v":{"$error":"#N/A"}},{"$f":"VLOOKUP($C111,Liverpool!$C$3:$N$59,9,FALSE)","v":{"$error":"#N/A"}},{"$f":"VLOOKUP(C111,'VoY 10m'!$C$3:$N$40,9,FALSE)","v":{"$error":"#N/A"}},{"$f":"VLOOKUP(C111,Guisley!$C$3:$N$49,9,FALSE)","v":{"$error":"#N/A"}},{"$f":"VLOOKUP(C111,Odda!$C$3:$N$42,9,FALSE)","v":{"$error":"#N/A"}},{"$f":"VLOOKUP(C111,'Leeds half'!$C$4:$N$31,9,FALSE)","v":{"$error":"#N/A"}},{"$f":"VLOOKUP(C111,Ilkley!$C$3:$L$46,7,FALSE)","v":{"$error":"#N/A"}},{"$f":"VLOOKUP(C111,Otley!$C$3:$L$46,9,FALSE)","v":{"$error":"#N/A"}},{"$f":"VLOOKUP(C111,Solstice!$C$3:$L$48,7,FALSE)","v":{"$error":"#N/A"}},{"$f":"VLOOKUP(C111,Eccup!$C$3:$L$46,9,FALSE)","v":{"$error":"#N/A"}},null,{"$f":"VLOOKUP(C111,Shakerr!$C$3:$L$46,7,FALSE)","v":{"$error":"#N/A"}},{"$f":"VLOOKUP(C111,VoY!$C$3:$L$46,9,FALSE)","v":{"$error":"#N/A"}},{"$f":"VLOOKUP(C111,Kirkstall!$C$3:$L$46,9,FALSE)","v":{"$error":"#N/A"}},{"$f":"VLOOKUP($C111,City!$C$3:$L$69,9,FALSE)","v":{"$error":"#N/A"}},{"$f":"VLOOKUP(C111,'Guy Fawkes'!$C$3:$N$34,9,FALSE)","v":{"$error":"#N/A"}},{"$f":"VLOOKUP(C111,Abbey!$C$3:$L$48,7,FALSE)","v":{"$error":"#N/A"}},{"$f":"VLOOKUP(C111,Chevin!$C$3:$L$50,7,FALSE)","v":{"$error":"#N/A"}},null,0,0,0,0,0,0,0,0,0,0,0,0,0,0,0,0,0,0,0,0,0,0]
[null,null,"lynsey hardiman","1975-04-22",41,{"$f":"IFERROR(VLOOKUP(C112,'Division Lookup'!$A$2:$D$251,4,FALSE),\"Second\")","v":"Second"},{"$f":"VLOOKUP(C112,Dewsbury!$C$3:$L$46,7,FALSE)","v":{"$error":"#N/A"}},{"$f":"VLOOKUP($C112,Bradford!$C$3:$L$66,7,FALSE)","v":{"$error":"#N/A"}},{"$f":"VLOOKUP($C112,Keighley!$C$3:$N$42,9,FALSE)","v":{"$error":"#N/A"}},{"$f":"VLOOKUP($C112,'Bunny '!$C$3:$N$20,9,FALSE)","v":{"$error":"#N/A"}},{"$f":"VLOOKUP($C112,Liverpool!$C$3:$N$59,9,FALSE)","v":{"$error":"#N/A"}},{"$f":"VLOOKUP(C112,'VoY 10m'!$C$3:$N$40,9,FALSE)","v":{"$error":"#N/A"}},{"$f":"VLOOKUP(C112,Guisley!$C$3:$N$49,9,FALSE)","v":{"$error":"#N/A"}},{"$f":"VLOOKUP(C112,Odda!$C$3:$N$42,9,FALSE)","v":{"$error":"#N/A"}},{"$f":"VLOOKUP(C112,'Leeds half'!$C$4:$N$31,9,FALSE)","v":{"$error":"#N/A"}},{"$f":"VLOOKUP(C112,Ilkley!$C$3:$L$46,7,FALSE)","v":{"$error":"#N/A"}},{"$f":"VLOOKUP(C112,Otley!$C$3:$L$46,9,FALSE)","v":{"$error":"#N/A"}},{"$f":"VLOOKUP(C112,Solstice!$C$3:$L$48,7,FALSE)","v":{"$error":"#N/A"}},{"$f":"VLOOKUP(C112,Eccup!$C$3:$L$46,9,FALSE)","v":{"$error":"#N/A"}},null,{"$f":"VLOOKUP(C112,Shakerr!$C$3:$L$46,7,FALSE)","v":{"$error":"#N/A"}},{"$f":"VLOOKUP(C112,VoY!$C$3:$L$46,9,FALSE)","v":{"$error":"#N/A"}},{"$f":"VLOOKUP(C112,Kirkstall!$C$3:$L$46,9,FALSE)","v":{"$error":"#N/A"}},{"$f":"VLOOKUP($C112,City!$C$3:$L$69,9,FALSE)","v":{"$error":"#N/A"}},{"$f":"VLOOKUP(C112,'Guy Fawkes'!$C$3:$N$34,9,FALSE)","v":{"$error":"#N/A"}},{"$f":"VLOOKUP(C112,Abbey!$C$3:$L$48,7,FALSE)","v":{"$error":"#N/A"}},{"$f":"VLOOKUP(C112,Chevin!$C$3:$L$50,7,FALSE)","v":{"$error":"#N/A"}},null,0,0,0,0,0,0,0,0,0,0,0,0,0,0,0,0,0,0,0,0,0,0]
[null,null,"Anna Harding","1987-09-03",29,{"$f":"IFERROR(VLOOKUP(C113,'Division Lookup'!$A$2:$D$251,4,FALSE),\"Second\")","v":"Second"},{"$f":"VLOOKUP(C113,Dewsbury!$C$3:$L$46,7,FALSE)","v":{"$error":"#N/A"}},{"$f":"VLOOKUP($C113,Bradford!$C$3:$L$66,7,FALSE)","v":{"$error":"#N/A"}},{"$f":"VLOOKUP($C113,Keighley!$C$3:$N$42,9,FALSE)","v":{"$error":"#N/A"}},{"$f":"VLOOKUP($C113,'Bunny '!$C$3:$N$20,9,FALSE)","v":{"$error":"#N/A"}},{"$f":"VLOOKUP($C113,Liverpool!$C$3:$N$59,9,FALSE)","v":{"$error":"#N/A"}},{"$f":"VLOOKUP(C113,'VoY 10m'!$C$3:$N$40,9,FALSE)","v":{"$error":"#N/A"}},{"$f":"VLOOKUP(C113,Guisley!$C$3:$N$49,9,FALSE)","v":{"$error":"#N/A"}},{"$f":"VLOOKUP(C113,Odda!$C$3:$N$42,9,FALSE)","v":{"$error":"#N/A"}},{"$f":"VLOOKUP(C113,'Leeds half'!$C$4:$N$31,9,FALSE)","v":{"$error":"#N/A"}},{"$f":"VLOOKUP(C113,Ilkley!$C$3:$L$46,7,FALSE)","v":{"$error":"#N/A"}},{"$f":"VLOOKUP(C113,Otley!$C$3:$L$46,9,FALSE)","v":{"$error":"#N/A"}},{"$f":"VLOOKUP(C113,Solstice!$C$3:$L$48,7,FALSE)","v":{"$error":"#N/A"}},{"$f":"VLOOKUP(C113,Eccup!$C$3:$L$46,9,FALSE)","v":{"$error":"#N/A"}},null,{"$f":"VLOOKUP(C113,Shakerr!$C$3:$L$46,7,FALSE)","v":{"$error":"#N/A"}},{"$f":"VLOOKUP(C113,VoY!$C$3:$L$46,9,FALSE)","v":{"$error":"#N/A"}},{"$f":"VLOOKUP(C113,Kirkstall!$C$3:$L$46,9,FALSE)","v":{"$error":"#N/A"}},{"$f":"VLOOKUP($C113,City!$C$3:$L$69,9,FALSE)","v":{"$error":"#N/A"}},{"$f":"VLOOKUP(C113,'Guy Fawkes'!$C$3:$N$34,9,FALSE)","v":{"$error":"#N/A"}},{"$f":"VLOOKUP(C113,Abbey!$C$3:$L$48,7,FALSE)","v":{"$error":"#N/A"}},{"$f":"VLOOKUP(C113,Chevin!$C$3:$L$50,7,FALSE)","v":{"$error":"#N/A"}},null,0,0,0,0,0,0,0,0,0,0,0,0,0,0,0,0,0,0,0,0,0,0]
[null,null,"Jane Hart","1957-12-17",59,{"$f":"IFERROR(VLOOKUP(C114,'Division Lookup'!$A$2:$D$251,4,FALSE),\"Second\")","v":"First"},{"$f":"VLOOKUP(C114,Dewsbury!$C$3:$L$46,7,FALSE)","v":{"$error":"#N/A"}},{"$f":"VLOOKUP($C114,Bradford!$C$3:$L$66,7,FALSE)","v":{"$error":"#N/A"}},{"$f":"VLOOKUP($C114,Keighley!$C$3:$N$42,9,FALSE)","v":{"$error":"#N/A"}},{"$f":"VLOOKUP($C114,'Bunny '!$C$3:$N$20,9,FALSE)","v":{"$error":"#N/A"}},{"$f":"VLOOKUP($C114,Liverpool!$C$3:$N$59,9,FALSE)","v":{"$error":"#N/A"}},{"$f":"VLOOKUP(C114,'VoY 10m'!$C$3:$N$40,9,FALSE)","v":{"$error":"#N/A"}},{"$f":"VLOOKUP(C114,Guisley!$C$3:$N$49,9,FALSE)","v":{"$error":"#N/A"}},{"$f":"VLOOKUP(C114,Odda!$C$3:$N$42,9,FALSE)","v":{"$error":"#N/A"}},{"$f":"VLOOKUP(C114,'Leeds half'!$C$4:$N$31,9,FALSE)","v":{"$error":"#N/A"}},{"$f":"VLOOKUP(C114,Ilkley!$C$3:$L$46,7,FALSE)","v":{"$error":"#N/A"}},{"$f":"VLOOKUP(C114,Otley!$C$3:$L$46,9,FALSE)","v":{"$error":"#N/A"}},{"$f":"VLOOKUP(C114,Solstice!$C$3:$L$48,7,FALSE)","v":{"$error":"#N/A"}},{"$f":"VLOOKUP(C114,Eccup!$C$3:$L$46,9,FALSE)","v":{"$error":"#N/A"}},null,{"$f":"VLOOKUP(C114,Shakerr!$C$3:$L$46,7,FALSE)","v":{"$error":"#N/A"}},{"$f":"VLOOKUP(C114,VoY!$C$3:$L$46,9,FALSE)","v":{"$error":"#N/A"}},{"$f":"VLOOKUP(C114,Kirkstall!$C$3:$L$46,9,FALSE)","v":{"$error":"#N/A"}},{"$f":"VLOOKUP($C114,City!$C$3:$L$69,9,FALSE)","v":{"$error":"#N/A"}},{"$f":"VLOOKUP(C114,'Guy Fawkes'!$C$3:$N$34,9,FALSE)","v":{"$error":"#N/A"}},{"$f":"VLOOKUP(C114,Abbey!$C$3:$L$48,7,FALSE)","v":{"$error":"#N/A"}},{"$f":"VLOOKUP(C114,Chevin!$C$3:$L$50,7,FALSE)","v":{"$error":"#N/A"}},null,0,0,0,0,0,0,0,0,0,0,0,0,0,0,0,0,0,0,0,0,0,0]
[null,null,"Tony Hart","1960-11-20",56,{"$f":"IFERROR(VLOOKUP(C115,'Division Lookup'!$A$2:$D$251,4,FALSE),\"Second\")","v":"First"},{"$f":"VLOOKUP(C115,Dewsbury!$C$3:$L$46,7,FALSE)","v":{"$error":"#N/A"}},{"$f":"VLOOKUP($C115,Bradford!$C$3:$L$66,7,FALSE)","v":{"$error":"#N/A"}},{"$f":"VLOOKUP($C115,Keighley!$C$3:$N$42,9,FALSE)","v":{"$error":"#N/A"}},{"$f":"VLOOKUP($C115,'Bunny '!$C$3:$N$20,9,FALSE)","v":{"$error":"#N/A"}},{"$f":"VLOOKUP($C115,Liverpool!$C$3:$N$59,9,FALSE)","v":{"$error":"#N/A"}},{"$f":"VLOOKUP(C115,'VoY 10m'!$C$3:$N$40,9,FALSE)","v":{"$error":"#N/A"}},{"$f":"VLOOKUP(C115,Guisley!$C$3:$N$49,9,FALSE)","v":{"$error":"#N/A"}},{"$f":"VLOOKUP(C115,Odda!$C$3:$N$42,9,FALSE)","v":{"$error":"#N/A"}},{"$f":"VLOOKUP(C115,'Leeds half'!$C$4:$N$31,9,FALSE)","v":{"$error":"#N/A"}},{"$f":"VLOOKUP(C115,Ilkley!$C$3:$L$46,7,FALSE)","v":{"$error":"#N/A"}},{"$f":"VLOOKUP(C115,Otley!$C$3:$L$46,9,FALSE)","v":{"$error":"#N/A"}},{"$f":"VLOOKUP(C115,Solstice!$C$3:$L$48,7,FALSE)","v":{"$error":"#N/A"}},{"$f":"VLOOKUP(C115,Eccup!$C$3:$L$46,9,FALSE)","v":{"$error":"#N/A"}},null,{"$f":"VLOOKUP(C115,Shakerr!$C$3:$L$46,7,FALSE)","v":{"$error":"#N/A"}},{"$f":"VLOOKUP(C115,VoY!$C$3:$L$46,9,FALSE)","v":{"$error":"#N/A"}},{"$f":"VLOOKUP(C115,Kirkstall!$C$3:$L$46,9,FALSE)","v":{"$error":"#N/A"}},{"$f":"VLOOKUP($C115,City!$C$3:$L$69,9,FALSE)","v":{"$error":"#N/A"}},{"$f":"VLOOKUP(C115,'Guy Fawkes'!$C$3:$N$34,9,FALSE)","v":{"$error":"#N/A"}},{"$f":"VLOOKUP(C115,Abbey!$C$3:$L$48,7,FALSE)","v":{"$error":"#N/A"}},{"$f":"VLOOKUP(C115,Chevin!$C$3:$L$50,7,FALSE)","v":{"$error":"#N/A"}},null,0,0,0,0,0,0,0,0,0,0,0,0,0,0,0,0,0,0,0,0,0,0]
[null,null,"Louise  Hawksworth","1982-10-11",34,{"$f":"IFERROR(VLOOKUP(C116,'Division Lookup'!$A$2:$D$251,4,FALSE),\"Second\")","v":"Second"},{"$f":"VLOOKUP(C116,Dewsbury!$C$3:$L$46,7,FALSE)","v":{"$error":"#N/A"}},{"$f":"VLOOKUP($C116,Bradford!$C$3:$L$66,7,FALSE)","v":{"$error":"#N/A"}},{"$f":"VLOOKUP($C116,Keighley!$C$3:$N$42,9,FALSE)","v":{"$error":"#N/A"}},{"$f":"VLOOKUP($C116,'Bunny '!$C$3:$N$20,9,FALSE)","v":{"$error":"#N/A"}},{"$f":"VLOOKUP($C116,Liverpool!$C$3:$N$59,9,FALSE)","v":{"$error":"#N/A"}},{"$f":"VLOOKUP(C116,'VoY 10m'!$C$3:$N$40,9,FALSE)","v":{"$error":"#N/A"}},{"$f":"VLOOKUP(C116,Guisley!$C$3:$N$49,9,FALSE)","v":{"$error":"#N/A"}},{"$f":"VLOOKUP(C116,Odda!$C$3:$N$42,9,FALSE)","v":{"$error":"#N/A"}},{"$f":"VLOOKUP(C116,'Leeds half'!$C$4:$N$31,9,FALSE)","v":{"$error":"#N/A"}},{"$f":"VLOOKUP(C116,Ilkley!$C$3:$L$46,7,FALSE)","v":{"$error":"#N/A"}},{"$f":"VLOOKUP(C116,Otley!$C$3:$L$46,9,FALSE)","v":{"$error":"#N/A"}},{"$f":"VLOOKUP(C116,Solstice!$C$3:$L$48,7,FALSE)","v":{"$error":"#N/A"}},{"$f":"VLOOKUP(C116,Eccup!$C$3:$L$46,9,FALSE)","v":{"$error":"#N/A"}},null,{"$f":"VLOOKUP(C116,Shakerr!$C$3:$L$46,7,FALSE)","v":{"$error":"#N/A"}},{"$f":"VLOOKUP(C116,VoY!$C$3:$L$46,9,FALSE)","v":{"$error":"#N/A"}},{"$f":"VLOOKUP(C116,Kirkstall!$C$3:$L$46,9,FALSE)","v":{"$error":"#N/A"}},{"$f":"VLOOKUP($C116,City!$C$3:$L$69,9,FALSE)","v":{"$error":"#N/A"}},{"$f":"VLOOKUP(C116,'Guy Fawkes'!$C$3:$N$34,9,FALSE)","v":{"$error":"#N/A"}},{"$f":"VLOOKUP(C116,Abbey!$C$3:$L$48,7,FALSE)","v":{"$error":"#N/A"}},{"$f":"VLOOKUP(C116,Chevin!$C$3:$L$50,7,FALSE)","v":{"$error":"#N/A"}},null,0,0,0,0,0,0,0,0,0,0,0,0,0,0,0,0,0,0,0,0,0,0]
[null,null,"Dalvinder Hellawell","1968-09-30",48,{"$f":"IFERROR(VLOOKUP(C117,'Division Lookup'!$A$2:$D$251,4,FALSE),\"Second\")","v":"Second"},{"$f":"VLOOKUP(C117,Dewsbury!$C$3:$L$46,7,FALSE)","v":{"$error":"#N/A"}},{"$f":"VLOOKUP($C117,Bradford!$C$3:$L$66,7,FALSE)","v":{"$error":"#N/A"}},{"$f":"VLOOKUP($C117,Keighley!$C$3:$N$42,9,FALSE)","v":{"$error":"#N/A"}},{"$f":"VLOOKUP($C117,'Bunny '!$C$3:$N$20,9,FALSE)","v":{"$error":"#N/A"}},{"$f":"VLOOKUP($C117,Liverpool!$C$3:$N$59,9,FALSE)","v":{"$error":"#N/A"}},{"$f":"VLOOKUP(C117,'VoY 10m'!$C$3:$N$40,9,FALSE)","v":{"$error":"#N/A"}},{"$f":"VLOOKUP(C117,Guisley!$C$3:$N$49,9,FALSE)","v":{"$error":"#N/A"}},{"$f":"VLOOKUP(C117,Odda!$C$3:$N$42,9,FALSE)","v":{"$error":"#N/A"}},{"$f":"VLOOKUP(C117,'Leeds half'!$C$4:$N$31,9,FALSE)","v":{"$error":"#N/A"}},{"$f":"VLOOKUP(C117,Ilkley!$C$3:$L$46,7,FALSE)","v":{"$error":"#N/A"}},{"$f":"VLOOKUP(C117,Otley!$C$3:$L$46,9,FALSE)","v":{"$error":"#N/A"}},{"$f":"VLOOKUP(C117,Solstice!$C$3:$L$48,7,FALSE)","v":{"$error":"#N/A"}},{"$f":"VLOOKUP(C117,Eccup!$C$3:$L$46,9,FALSE)","v":{"$error":"#N/A"}},null,{"$f":"VLOOKUP(C117,Shakerr!$C$3:$L$46,7,FALSE)","v":{"$error":"#N/A"}},{"$f":"VLOOKUP(C117,VoY!$C$3:$L$46,9,FALSE)","v":{"$error":"#N/A"}},{"$f":"VLOOKUP(C117,Kirkstall!$C$3:$L$46,9,FALSE)","v":{"$error":"#N/A"}},{"$f":"VLOOKUP($C117,City!$C$3:$L$69,9,FALSE)","v":{"$error":"#N/A"}},{"$f":"VLOOKUP(C117,'Guy Fawkes'!$C$3:$N$34,9,FALSE)","v":{"$error":"#N/A"}},{"$f":"VLOOKUP(C117,Abbey!$C$3:$L$48,7,FALSE)","v":{"$error":"#N/A"}},{"$f":"VLOOKUP(C117,Chevin!$C$3:$L$50,7,FALSE)","v":{"$error":"#N/A"}},null,0,0,0,0,0,0,0,0,0,0,0,0,0,0,0,0,0,0,0,0,0,0]
[null,null,"Rachel Herar","1981-10-14",35,{"$f":"IFERROR(VLOOKUP(C118,'Division Lookup'!$A$2:$D$251,4,FALSE),\"Second\")","v":"Second"},{"$f":"VLOOKUP(C118,Dewsbury!$C$3:$L$46,7,FALSE)","v":{"$error":"#N/A"}},{"$f":"VLOOKUP($C118,Bradford!$C$3:$L$66,7,FALSE)","v":{"$error":"#N/A"}},{"$f":"VLOOKUP($C118,Keighley!$C$3:$N$42,9,FALSE)","v":{"$error":"#N/A"}},{"$f":"VLOOKUP($C118,'Bunny '!$C$3:$N$20,9,FALSE)","v":{"$error":"#N/A"}},{"$f":"VLOOKUP($C118,Liverpool!$C$3:$N$59,9,FALSE)","v":{"$error":"#N/A"}},{"$f":"VLOOKUP(C118,'VoY 10m'!$C$3:$N$40,9,FALSE)","v":{"$error":"#N/A"}},{"$f":"VLOOKUP(C118,Guisley!$C$3:$N$49,9,FALSE)","v":{"$error":"#N/A"}},{"$f":"VLOOKUP(C118,Odda!$C$3:$N$42,9,FALSE)","v":{"$error":"#N/A"}},{"$f":"VLOOKUP(C118,'Leeds half'!$C$4:$N$31,9,FALSE)","v":{"$error":"#N/A"}},{"$f":"VLOOKUP(C118,Ilkley!$C$3:$L$46,7,FALSE)","v":{"$error":"#N/A"}},{"$f":"VLOOKUP(C118,Otley!$C$3:$L$46,9,FALSE)","v":{"$error":"#N/A"}},{"$f":"VLOOKUP(C118,Solstice!$C$3:$L$48,7,FALSE)","v":{"$error":"#N/A"}},{"$f":"VLOOKUP(C118,Eccup!$C$3:$L$46,9,FALSE)","v":{"$error":"#N/A"}},null,{"$f":"VLOOKUP(C118,Shakerr!$C$3:$L$46,7,FALSE)","v":{"$error":"#N/A"}},{"$f":"VLOOKUP(C118,VoY!$C$3:$L$46,9,FALSE)","v":{"$error":"#N/A"}},{"$f":"VLOOKUP(C118,Kirkstall!$C$3:$L$46,9,FALSE)","v":{"$error":"#N/A"}},{"$f":"VLOOKUP($C118,City!$C$3:$L$69,9,FALSE)","v":{"$error":"#N/A"}},{"$f":"VLOOKUP(C118,'Guy Fawkes'!$C$3:$N$34,9,FALSE)","v":{"$error":"#N/A"}},{"$f":"VLOOKUP(C118,Abbey!$C$3:$L$48,7,FALSE)","v":{"$error":"#N/A"}},{"$f":"VLOOKUP(C118,Chevin!$C$3:$L$50,7,FALSE)","v":{"$error":"#N/A"}},null,0,0,0,0,0,0,0,0,0,0,0,0,0,0,0,0,0,0,0,0,0,0]
[null,null,"Stephen Hetherington","1959-10-20",57,{"$f":"IFERROR(VLOOKUP(C119,'Division Lookup'!$A$2:$D$251,4,FALSE),\"Second\")","v":"First"},{"$f":"VLOOKUP(C119,Dewsbury!$C$3:$L$46,7,FALSE)","v":{"$error":"#N/A"}},{"$f":"VLOOKUP($C119,Bradford!$C$3:$L$66,7,FALSE)","v":{"$error":"#N/A"}},{"$f":"VLOOKUP($C119,Keighley!$C$3:$N$42,9,FALSE)","v":0.72673119880863735},{"$f":"VLOOKUP($C119,'Bunny '!$C$3:$N$20,9,FALSE)","v":{"$error":"#N/A"}},{"$f":"VLOOKUP($C119,Liverpool!$C$3:$N$59,9,FALSE)","v":{"$error":"#N/A"}},{"$f":"VLOOKUP(C119,'VoY 10m'!$C$3:$N$40,9,FALSE)","v":{"$error":"#N/A"}},{"$f":"VLOOKUP(C119,Guisley!$C$3:$N$49,9,FALSE)","v":{"$error":"#N/A"}},{"$f":"VLOOKUP(C119,Odda!$C$3:$N$42,9,FALSE)","v":{"$error":"#N/A"}},{"$f":"VLOOKUP(C119,'Leeds half'!$C$4:$N$31,9,FALSE)","v":{"$error":"#N/A"}},{"$f":"VLOOKUP(C119,Ilkley!$C$3:$L$46,7,FALSE)","v":{"$error":"#N/A"}},{"$f":"VLOOKUP(C119,Otley!$C$3:$L$46,9,FALSE)","v":0.67906976744186043},{"$f":"VLOOKUP(C119,Solstice!$C$3:$L$48,7,FALSE)","v":{"$error":"#N/A"}},{"$f":"VLOOKUP(C119,Eccup!$C$3:$L$46,9,FALSE)","v":{"$error":"#N/A"}},null,{"$f":"VLOOKUP(C119,Shakerr!$C$3:$L$46,7,FALSE)","v":{"$error":"#N/A"}},{"$f":"VLOOKUP(C119,VoY!$C$3:$L$46,9,FALSE)","v":{"$error":"#N/A"}},{"$f":"VLOOKUP(C119,Kirkstall!$C$3:$L$46,9,FALSE)","v":{"$error":"#N/A"}},{"$f":"VLOOKUP($C119,City!$C$3:$L$69,9,FALSE)","v":0.72808653487504649},{"$f":"VLOOKUP(C119,'Guy Fawkes'!$C$3:$N$34,9,FALSE)","v":{"$error":"#N/A"}},{"$f":"VLOOKUP(C119,Abbey!$C$3:$L$48,7,FALSE)","v":{"$error":"#N/A"}},{"$f":"VLOOKUP(C119,Chevin!$C$3:$L$50,7,FALSE)","v":{"$error":"#N/A"}},null,0,0,2,0,0,0,0,0,0,0,1,0,0,0,0,0,0,2,0,0,0,3]
[null,null,"Wendy Hey","1969-02-06",47,{"$f":"IFERROR(VLOOKUP(C120,'Division Lookup'!$A$2:$D$251,4,FALSE),\"Second\")","v":"Second"},{"$f":"VLOOKUP(C120,Dewsbury!$C$3:$L$46,7,FALSE)","v":{"$error":"#N/A"}},{"$f":"VLOOKUP($C120,Bradford!$C$3:$L$66,7,FALSE)","v":{"$error":"#N/A"}},{"$f":"VLOOKUP($C120,Keighley!$C$3:$N$42,9,FALSE)","v":{"$error":"#N/A"}},{"$f":"VLOOKUP($C120,'Bunny '!$C$3:$N$20,9,FALSE)","v":{"$error":"#N/A"}},{"$f":"VLOOKUP($C120,Liverpool!$C$3:$N$59,9,FALSE)","v":{"$error":"#N/A"}},{"$f":"VLOOKUP(C120,'VoY 10m'!$C$3:$N$40,9,FALSE)","v":{"$error":"#N/A"}},{"$f":"VLOOKUP(C120,Guisley!$C$3:$N$49,9,FALSE)","v":{"$error":"#N/A"}},{"$f":"VLOOKUP(C120,Odda!$C$3:$N$42,9,FALSE)","v":{"$error":"#N/A"}},{"$f":"VLOOKUP(C120,'Leeds half'!$C$4:$N$31,9,FALSE)","v":{"$error":"#N/A"}},{"$f":"VLOOKUP(C120,Ilkley!$C$3:$L$46,7,FALSE)","v":{"$error":"#N/A"}},{"$f":"VLOOKUP(C120,Otley!$C$3:$L$46,9,FALSE)","v":{"$error":"#N/A"}},{"$f":"VLOOKUP(C120,Solstice!$C$3:$L$48,7,FALSE)","v":{"$error":"#N/A"}},{"$f":"VLOOKUP(C120,Eccup!$C$3:$L$46,9,FALSE)","v":{"$error":"#N/A"}},null,{"$f":"VLOOKUP(C120,Shakerr!$C$3:$L$46,7,FALSE)","v":0.46205616152239509},{"$f":"VLOOKUP(C120,VoY!$C$3:$L$46,9,FALSE)","v":{"$error":"#N/A"}},{"$f":"VLOOKUP(C120,Kirkstall!$C$3:$L$46,9,FALSE)","v":{"$error":"#N/A"}},{"$f":"VLOOKUP($C120,City!$C$3:$L$69,9,FALSE)","v":{"$error":"#N/A"}},{"$f":"VLOOKUP(C120,'Guy Fawkes'!$C$3:$N$34,9,FALSE)","v":{"$error":"#N/A"}},{"$f":"VLOOKUP(C120,Abbey!$C$3:$L$48,7,FALSE)","v":{"$error":"#N/A"}},{"$f":"VLOOKUP(C120,Chevin!$C$3:$L$50,7,FALSE)","v":{"$error":"#N/A"}},null,0,0,0,0,0,0,0,0,0,0,0,0,0,0,4,0,0,0,0,0,0,1]
[null,null,"Kirstie Holmes","1974-03-16",42,{"$f":"IFERROR(VLOOKUP(C121,'Division Lookup'!$A$2:$D$251,4,FALSE),\"Second\")","v":"Second"},{"$f":"VLOOKUP(C121,Dewsbury!$C$3:$L$46,7,FALSE)","v":{"$error":"#N/A"}},{"$f":"VLOOKUP($C121,Bradford!$C$3:$L$66,7,FALSE)","v":{"$error":"#N/A"}},{"$f":"VLOOKUP($C121,Keighley!$C$3:$N$42,9,FALSE)","v":{"$error":"#N/A"}},{"$f":"VLOOKUP($C121,'Bunny '!$C$3:$N$20,9,FALSE)","v":{"$error":"#N/A"}},{"$f":"VLOOKUP($C121,Liverpool!$C$3:$N$59,9,FALSE)","v":{"$error":"#N/A"}},{"$f":"VLOOKUP(C121,'VoY 10m'!$C$3:$N$40,9,FALSE)","v":{"$error":"#N/A"}},{"$f":"VLOOKUP(C121,Guisley!$C$3:$N$49,9,FALSE)","v":{"$error":"#N/A"}},{"$f":"VLOOKUP(C121,Odda!$C$3:$N$42,9,FALSE)","v":{"$error":"#N/A"}},{"$f":"VLOOKUP(C121,'Leeds half'!$C$4:$N$31,9,FALSE)","v":{"$error":"#N/A"}},{"$f":"VLOOKUP(C121,Ilkley!$C$3:$L$46,7,FALSE)","v":{"$error":"#N/A"}},{"$f":"VLOOKUP(C121,Otley!$C$3:$L$46,9,FALSE)","v":{"$error":"#N/A"}},{"$f":"VLOOKUP(C121,Solstice!$C$3:$L$48,7,FALSE)","v":0.52072627612195965},{"$f":"VLOOKUP(C121,Eccup!$C$3:$L$46,9,FALSE)","v":{"$error":"#N/A"}},null,{"$f":"VLOOKUP(C121,Shakerr!$C$3:$L$46,7,FALSE)","v":{"$error":"#N/A"}},{"$f":"VLOOKUP(C121,VoY!$C$3:$L$46,9,FALSE)","v":{"$error":"#N/A"}},{"$f":"VLOOKUP(C121,Kirkstall!$C$3:$L$46,9,FALSE)","v":{"$error":"#N/A"}},{"$f":"VLOOKUP($C121,City!$C$3:$L$69,9,FALSE)","v":{"$error":"#N/A"}},{"$f":"VLOOKUP(C121,'Guy Fawkes'!$C$3:$N$34,9,FALSE)","v":{"$error":"#N/A"}},{"$f":"VLOOKUP(C121,Abbey!$C$3:$L$48,7,FALSE)","v":{"$error":"#N/A"}},{"$f":"VLOOKUP(C121,Chevin!$C$3:$L$50,7,FALSE)","v":{"$error":"#N/A"}},null,0,0,0,0,0,0,0,0,0,0,0,7,0,0,0,0,0,0,0,0,0,1]
[null,null,"Peter Hopson","1986-08-11",30,{"$f":"IFERROR(VLOOKUP(C122,'Division Lookup'!$A$2:$D$251,4,FALSE),\"Second\")","v":"Second"},{"$f":"VLOOKUP(C122,Dewsbury!$C$3:$L$46,7,FALSE)","v":{"$error":"#N/A"}},{"$f":"VLOOKUP($C122,Bradford!$C$3:$L$66,7,FALSE)","v":{"$error":"#N/A"}},{"$f":"VLOOKUP($C122,Keighley!$C$3:$N$42,9,FALSE)","v":{"$error":"#N/A"}},{"$f":"VLOOKUP($C122,'Bunny '!$C$3:$N$20,9,FALSE)","v":{"$error":"#N/A"}},{"$f":"VLOOKUP($C122,Liverpool!$C$3:$N$59,9,FALSE)","v":{"$error":"#N/A"}},{"$f":"VLOOKUP(C122,'VoY 10m'!$C$3:$N$40,9,FALSE)","v":{"$error":"#N/A"}},{"$f":"VLOOKUP(C122,Guisley!$C$3:$N$49,9,FALSE)","v":{"$error":"#N/A"}},{"$f":"VLOOKUP(C122,Odda!$C$3:$N$42,9,FALSE)","v":{"$error":"#N/A"}},{"$f":"VLOOKUP(C122,'Leeds half'!$C$4:$N$31,9,FALSE)","v":{"$error":"#N/A"}},{"$f":"VLOOKUP(C122,Ilkley!$C$3:$L$46,7,FALSE)","v":{"$error":"#N/A"}},{"$f":"VLOOKUP(C122,Otley!$C$3:$L$46,9,FALSE)","v":{"$error":"#N/A"}},{"$f":"VLOOKUP(C122,Solstice!$C$3:$L$48,7,FALSE)","v":{"$error":"#N/A"}},{"$f":"VLOOKUP(C122,Eccup!$C$3:$L$46,9,FALSE)","v":{"$error":"#N/A"}},null,{"$f":"VLOOKUP(C122,Shakerr!$C$3:$L$46,7,FALSE)","v":{"$error":"#N/A"}},{"$f":"VLOOKUP(C122,VoY!$C$3:$L$46,9,FALSE)","v":{"$error":"#N/A"}},{"$f":"VLOOKUP(C122,Kirkstall!$C$3:$L$46,9,FALSE)","v":{"$error":"#N/A"}},{"$f":"VLOOKUP($C122,City!$C$3:$L$69,9,FALSE)","v":{"$error":"#N/A"}},{"$f":"VLOOKUP(C122,'Guy Fawkes'!$C$3:$N$34,9,FALSE)","v":{"$error":"#N/A"}},{"$f":"VLOOKUP(C122,Abbey!$C$3:$L$48,7,FALSE)","v":0.7940019665683381},{"$f":"VLOOKUP(C122,Chevin!$C$3:$L$50,7,FALSE)","v":{"$error":"#N/A"}},null,0,0,0,0,0,0,0,0,0,0,0,0,0,0,0,0,0,0,0,1,0,1]
[null,null,"Claire Horton","1992-10-20",24,{"$f":"IFERROR(VLOOKUP(C123,'Division Lookup'!$A$2:$D$251,4,FALSE),\"Second\")","v":"Second"},{"$f":"VLOOKUP(C123,Dewsbury!$C$3:$L$46,7,FALSE)","v":{"$error":"#N/A"}},{"$f":"VLOOKUP($C123,Bradford!$C$3:$L$66,7,FALSE)","v":{"$error":"#N/A"}},{"$f":"VLOOKUP($C123,Keighley!$C$3:$N$42,9,FALSE)","v":{"$error":"#N/A"}},{"$f":"VLOOKUP($C123,'Bunny '!$C$3:$N$20,9,FALSE)","v":{"$error":"#N/A"}},{"$f":"VLOOKUP($C123,Liverpool!$C$3:$N$59,9,FALSE)","v":{"$error":"#N/A"}},{"$f":"VLOOKUP(C123,'VoY 10m'!$C$3:$N$40,9,FALSE)","v":{"$error":"#N/A"}},{"$f":"VLOOKUP(C123,Guisley!$C$3:$N$49,9,FALSE)","v":{"$error":"#N/A"}},{"$f":"VLOOKUP(C123,Odda!$C$3:$N$42,9,FALSE)","v":{"$error":"#N/A"}},{"$f":"VLOOKUP(C123,'Leeds half'!$C$4:$N$31,9,FALSE)","v":{"$error":"#N/A"}},{"$f":"VLOOKUP(C123,Ilkley!$C$3:$L$46,7,FALSE)","v":{"$error":"#N/A"}},{"$f":"VLOOKUP(C123,Otley!$C$3:$L$46,9,FALSE)","v":{"$error":"#N/A"}},{"$f":"VLOOKUP(C123,Solstice!$C$3:$L$48,7,FALSE)","v":{"$error":"#N/A"}},{"$f":"VLOOKUP(C123,Eccup!$C$3:$L$46,9,FALSE)","v":{"$error":"#N/A"}},null,{"$f":"VLOOKUP(C123,Shakerr!$C$3:$L$46,7,FALSE)","v":{"$error":"#N/A"}},{"$f":"VLOOKUP(C123,VoY!$C$3:$L$46,9,FALSE)","v":{"$error":"#N/A"}},{"$f":"VLOOKUP(C123,Kirkstall!$C$3:$L$46,9,FALSE)","v":{"$error":"#N/A"}},{"$f":"VLOOKUP($C123,City!$C$3:$L$69,9,FALSE)","v":{"$error":"#N/A"}},{"$f":"VLOOKUP(C123,'Guy Fawkes'!$C$3:$N$34,9,FALSE)","v":{"$error":"#N/A"}},{"$f":"VLOOKUP(C123,Abbey!$C$3:$L$48,7,FALSE)","v":{"$error":"#N/A"}},{"$f":"VLOOKUP(C123,Chevin!$C$3:$L$50,7,FALSE)","v":{"$error":"#N/A"}},null,0,0,0,0,0,0,0,0,0,0,0,0,0,0,0,0,0,0,0,0,0,0]
[null,null,"Peter Huby","1961-11-28",55,{"$f":"IFERROR(VLOOKUP(C124,'Division Lookup'!$A$2:$D$251,4,FALSE),\"Second\")","v":"First"},{"$f":"VLOOKUP(C124,Dewsbury!$C$3:$L$46,7,FALSE)","v":{"$error":"#N/A"}},{"$f":"VLOOKUP($C124,Bradford!$C$3:$L$66,7,FALSE)","v":{"$error":"#N/A"}},{"$f":"VLOOKUP($C124,Keighley!$C$3:$N$42,9,FALSE)","v":{"$error":"#N/A"}},{"$f":"VLOOKUP($C124,'Bunny '!$C$3:$N$20,9,FALSE)","v":{"$error":"#N/A"}},{"$f":"VLOOKUP($C124,Liverpool!$C$3:$N$59,9,FALSE)","v":{"$error":"#N/A"}},{"$f":"VLOOKUP(C124,'VoY 10m'!$C$3:$N$40,9,FALSE)","v":{"$error":"#N/A"}},{"$f":"VLOOKUP(C124,Guisley!$C$3:$N$49,9,FALSE)","v":{"$error":"#N/A"}},{"$f":"VLOOKUP(C124,Odda!$C$3:$N$42,9,FALSE)","v":{"$error":"#N/A"}},{"$f":"VLOOKUP(C124,'Leeds half'!$C$4:$N$31,9,FALSE)","v":{"$error":"#N/A"}},{"$f":"VLOOKUP(C124,Ilkley!$C$3:$L$46,7,FALSE)","v":{"$error":"#N/A"}},{"$f":"VLOOKUP(C124,Otley!$C$3:$L$46,9,FALSE)","v":{"$error":"#N/A"}},{"$f":"VLOOKUP(C124,Solstice!$C$3:$L$48,7,FALSE)","v":{"$error":"#N/A"}},{"$f":"VLOOKUP(C124,Eccup!$C$3:$L$46,9,FALSE)","v":{"$error":"#N/A"}},null,{"$f":"VLOOKUP(C124,Shakerr!$C$3:$L$46,7,FALSE)","v":{"$error":"#N/A"}},{"$f":"VLOOKUP(C124,VoY!$C$3:$L$46,9,FALSE)","v":{"$error":"#N/A"}},{"$f":"VLOOKUP(C124,Kirkstall!$C$3:$L$46,9,FALSE)","v":0.56011588604538876},{"$f":"VLOOKUP($C124,City!$C$3:$L$69,9,FALSE)","v":{"$error":"#N/A"}},{"$f":"VLOOKUP(C124,'Guy Fawkes'!$C$3:$N$34,9,FALSE)","v":{"$error":"#N/A"}},{"$f":"VLOOKUP(C124,Abbey!$C$3:$L$48,7,FALSE)","v":{"$error":"#N/A"}},{"$f":"VLOOKUP(C124,Chevin!$C$3:$L$50,7,FALSE)","v":{"$error":"#N/A"}},null,0,0,0,0,0,0,0,0,0,0,0,0,0,0,0,0,3,0,0,0,0,1]
[null,null,"Ellie Hughes","1991-05-03",25,{"$f":"IFERROR(VLOOKUP(C125,'Division Lookup'!$A$2:$D$251,4,FALSE),\"Second\")","v":"Second"},{"$f":"VLOOKUP(C125,Dewsbury!$C$3:$L$46,7,FALSE)","v":{"$error":"#N/A"}},{"$f":"VLOOKUP($C125,Bradford!$C$3:$L$66,7,FALSE)","v":{"$error":"#N/A"}},{"$f":"VLOOKUP($C125,Keighley!$C$3:$N$42,9,FALSE)","v":{"$error":"#N/A"}},{"$f":"VLOOKUP($C125,'Bunny '!$C$3:$N$20,9,FALSE)","v":{"$error":"#N/A"}},{"$f":"VLOOKUP($C125,Liverpool!$C$3:$N$59,9,FALSE)","v":{"$error":"#N/A"}},{"$f":"VLOOKUP(C125,'VoY 10m'!$C$3:$N$40,9,FALSE)","v":{"$error":"#N/A"}},{"$f":"VLOOKUP(C125,Guisley!$C$3:$N$49,9,FALSE)","v":{"$error":"#N/A"}},{"$f":"VLOOKUP(C125,Odda!$C$3:$N$42,9,FALSE)","v":{"$error":"#N/A"}},{"$f":"VLOOKUP(C125,'Leeds half'!$C$4:$N$31,9,FALSE)","v":{"$error":"#N/A"}},{"$f":"VLOOKUP(C125,Ilkley!$C$3:$L$46,7,FALSE)","v":{"$error":"#N/A"}},{"$f":"VLOOKUP(C125,Otley!$C$3:$L$46,9,FALSE)","v":{"$error":"#N/A"}},{"$f":"VLOOKUP(C125,Solstice!$C$3:$L$48,7,FALSE)","v":{"$error":"#N/A"}},{"$f":"VLOOKUP(C125,Eccup!$C$3:$L$46,9,FALSE)","v":{"$error":"#N/A"}},null,{"$f":"VLOOKUP(C125,Shakerr!$C$3:$L$46,7,FALSE)","v":{"$error":"#N/A"}},{"$f":"VLOOKUP(C125,VoY!$C$3:$L$46,9,FALSE)","v":{"$error":"#N/A"}},{"$f":"VLOOKUP(C125,Kirkstall!$C$3:$L$46,9,FALSE)","v":{"$error":"#N/A"}},{"$f":"VLOOKUP($C125,City!$C$3:$L$69,9,FALSE)","v":0.43261231281198004},{"$f":"VLOOKUP(C125,'Guy Fawkes'!$C$3:$N$34,9,FALSE)","v":{"$error":"#N/A"}},{"$f":"VLOOKUP(C125,Abbey!$C$3:$L$48,7,FALSE)","v":{"$error":"#N/A"}},{"$f":"VLOOKUP(C125,Chevin!$C$3:$L$50,7,FALSE)","v":{"$error":"#N/A"}},null,0,0,0,0,0,0,0,0,0,0,0,0,0,0,0,0,0,13,0,0,0,1]
[null,null,"Greg  Hull","1965-08-16",51,{"$f":"IFERROR(VLOOKUP(C126,'Division Lookup'!$A$2:$D$251,4,FALSE),\"Second\")","v":"Second"},{"$f":"VLOOKUP(C126,Dewsbury!$C$3:$L$46,7,FALSE)","v":{"$error":"#N/A"}},{"$f":"VLOOKUP($C126,Bradford!$C$3:$L$66,7,FALSE)","v":{"$error":"#N/A"}},{"$f":"VLOOKUP($C126,Keighley!$C$3:$N$42,9,FALSE)","v":{"$error":"#N/A"}},{"$f":"VLOOKUP($C126,'Bunny '!$C$3:$N$20,9,FALSE)","v":{"$error":"#N/A"}},{"$f":"VLOOKUP($C126,Liverpool!$C$3:$N$59,9,FALSE)","v":{"$error":"#N/A"}},{"$f":"VLOOKUP(C126,'VoY 10m'!$C$3:$N$40,9,FALSE)","v":{"$error":"#N/A"}},{"$f":"VLOOKUP(C126,Guisley!$C$3:$N$49,9,FALSE)","v":{"$error":"#N/A"}},{"$f":"VLOOKUP(C126,Odda!$C$3:$N$42,9,FALSE)","v":{"$error":"#N/A"}},{"$f":"VLOOKUP(C126,'Leeds half'!$C$4:$N$31,9,FALSE)","v":{"$error":"#N/A"}},{"$f":"VLOOKUP(C126,Ilkley!$C$3:$L$46,7,FALSE)","v":{"$error":"#N/A"}},{"$f":"VLOOKUP(C126,Otley!$C$3:$L$46,9,FALSE)","v":{"$error":"#N/A"}},{"$f":"VLOOKUP(C126,Solstice!$C$3:$L$48,7,FALSE)","v":{"$error":"#N/A"}},{"$f":"VLOOKUP(C126,Eccup!$C$3:$L$46,9,FALSE)","v":{"$error":"#N/A"}},null,{"$f":"VLOOKUP(C126,Shakerr!$C$3:$L$46,7,FALSE)","v":{"$error":"#N/A"}},{"$f":"VLOOKUP(C126,VoY!$C$3:$L$46,9,FALSE)","v":{"$error":"#N/A"}},{"$f":"VLOOKUP(C126,Kirkstall!$C$3:$L$46,9,FALSE)","v":{"$error":"#N/A"}},{"$f":"VLOOKUP($C126,City!$C$3:$L$69,9,FALSE)","v":{"$error":"#N/A"}},{"$f":"VLOOKUP(C126,'Guy Fawkes'!$C$3:$N$34,9,FALSE)","v":{"$error":"#N/A"}},{"$f":"VLOOKUP(C126,Abbey!$C$3:$L$48,7,FALSE)","v":{"$error":"#N/A"}},{"$f":"VLOOKUP(C126,Chevin!$C$3:$L$50,7,FALSE)","v":{"$error":"#N/A"}},null,0,0,0,0,0,0,0,0,0,0,0,0,0,0,0,0,0,0,0,0,0,0]
[null,null,"John Hunt","1968-07-17",48,{"$f":"IFERROR(VLOOKUP(C127,'Division Lookup'!$A$2:$D$251,4,FALSE),\"Second\")","v":"Second"},{"$f":"VLOOKUP(C127,Dewsbury!$C$3:$L$46,7,FALSE)","v":{"$error":"#N/A"}},{"$f":"VLOOKUP($C127,Bradford!$C$3:$L$66,7,FALSE)","v":{"$error":"#N/A"}},{"$f":"VLOOKUP($C127,Keighley!$C$3:$N$42,9,FALSE)","v":{"$error":"#N/A"}},{"$f":"VLOOKUP($C127,'Bunny '!$C$3:$N$20,9,FALSE)","v":{"$error":"#N/A"}},{"$f":"VLOOKUP($C127,Liverpool!$C$3:$N$59,9,FALSE)","v":{"$error":"#N/A"}},{"$f":"VLOOKUP(C127,'VoY 10m'!$C$3:$N$40,9,FALSE)","v":{"$error":"#N/A"}},{"$f":"VLOOKUP(C127,Guisley!$C$3:$N$49,9,FALSE)","v":{"$error":"#N/A"}},{"$f":"VLOOKUP(C127,Odda!$C$3:$N$42,9,FALSE)","v":{"$error":"#N/A"}},{"$f":"VLOOKUP(C127,'Leeds half'!$C$4:$N$31,9,FALSE)","v":{"$error":"#N/A"}},{"$f":"VLOOKUP(C127,Ilkley!$C$3:$L$46,7,FALSE)","v":{"$error":"#N/A"}},{"$f":"VLOOKUP(C127,Otley!$C$3:$L$46,9,FALSE)","v":{"$error":"#N/A"}},{"$f":"VLOOKUP(C127,Solstice!$C$3:$L$48,7,FALSE)","v":{"$error":"#N/A"}},{"$f":"VLOOKUP(C127,Eccup!$C$3:$L$46,9,FALSE)","v":{"$error":"#N/A"}},null,{"$f":"VLOOKUP(C127,Shakerr!$C$3:$L$46,7,FALSE)","v":{"$error":"#N/A"}},{"$f":"VLOOKUP(C127,VoY!$C$3:$L$46,9,FALSE)","v":{"$error":"#N/A"}},{"$f":"VLOOKUP(C127,Kirkstall!$C$3:$L$46,9,FALSE)","v":{"$error":"#N/A"}},{"$f":"VLOOKUP($C127,City!$C$3:$L$69,9,FALSE)","v":{"$error":"#N/A"}},{"$f":"VLOOKUP(C127,'Guy Fawkes'!$C$3:$N$34,9,FALSE)","v":{"$error":"#N/A"}},{"$f":"VLOOKUP(C127,Abbey!$C$3:$L$48,7,FALSE)","v":{"$error":"#N/A"}},{"$f":"VLOOKUP(C127,Chevin!$C$3:$L$50,7,FALSE)","v":{"$error":"#N/A"}},null,0,0,0,0,0,0,0,0,0,0,0,0,0,0,0,0,0,0,0,0,0,0]
[null,null,"Andrew Hutchinson","1975-01-22",41,{"$f":"IFERROR(VLOOKUP(C128,'Division Lookup'!$A$2:$D$251,4,FALSE),\"Second\")","v":"Second"},{"$f":"VLOOKUP(C128,Dewsbury!$C$3:$L$46,7,FALSE)","v":{"$error":"#N/A"}},{"$f":"VLOOKUP($C128,Bradford!$C$3:$L$66,7,FALSE)","v":{"$error":"#N/A"}},{"$f":"VLOOKUP($C128,Keighley!$C$3:$N$42,9,FALSE)","v":{"$error":"#N/A"}},{"$f":"VLOOKUP($C128,'Bunny '!$C$3:$N$20,9,FALSE)","v":{"$error":"#N/A"}},{"$f":"VLOOKUP($C128,Liverpool!$C$3:$N$59,9,FALSE)","v":{"$error":"#N/A"}},{"$f":"VLOOKUP(C128,'VoY 10m'!$C$3:$N$40,9,FALSE)","v":{"$error":"#N/A"}},{"$f":"VLOOKUP(C128,Guisley!$C$3:$N$49,9,FALSE)","v":{"$error":"#N/A"}},{"$f":"VLOOKUP(C128,Odda!$C$3:$N$42,9,FALSE)","v":{"$error":"#N/A"}},{"$f":"VLOOKUP(C128,'Leeds half'!$C$4:$N$31,9,FALSE)","v":0.6527291812456264},{"$f":"VLOOKUP(C128,Ilkley!$C$3:$L$46,7,FALSE)","v":{"$error":"#N/A"}},{"$f":"VLOOKUP(C128,Otley!$C$3:$L$46,9,FALSE)","v":{"$error":"#N/A"}},{"$f":"VLOOKUP(C128,Solstice!$C$3:$L$48,7,FALSE)","v":{"$error":"#N/A"}},{"$f":"VLOOKUP(C128,Eccup!$C$3:$L$46,9,FALSE)","v":{"$error":"#N/A"}},null,{"$f":"VLOOKUP(C128,Shakerr!$C$3:$L$46,7,FALSE)","v":{"$error":"#N/A"}},{"$f":"VLOOKUP(C128,VoY!$C$3:$L$46,9,FALSE)","v":{"$error":"#N/A"}},{"$f":"VLOOKUP(C128,Kirkstall!$C$3:$L$46,9,FALSE)","v":{"$error":"#N/A"}},{"$f":"VLOOKUP($C128,City!$C$3:$L$69,9,FALSE)","v":{"$error":"#N/A"}},{"$f":"VLOOKUP(C128,'Guy Fawkes'!$C$3:$N$34,9,FALSE)","v":{"$error":"#N/A"}},{"$f":"VLOOKUP(C128,Abbey!$C$3:$L$48,7,FALSE)","v":{"$error":"#N/A"}},{"$f":"VLOOKUP(C128,Chevin!$C$3:$L$50,7,FALSE)","v":{"$error":"#N/A"}},null,0,0,0,0,0,0,0,0,2,0,0,0,0,0,0,0,0,0,0,0,0,1]
[null,null,"Gillian Hyde","1965-04-21",51,{"$f":"IFERROR(VLOOKUP(C129,'Division Lookup'!$A$2:$D$251,4,FALSE),\"Second\")","v":"Premier"},{"$f":"VLOOKUP(C129,Dewsbury!$C$3:$L$46,7,FALSE)","v":0.63434650455927055},{"$f":"VLOOKUP($C129,Bradford!$C$3:$L$66,7,FALSE)","v":{"$error":"#N/A"}},{"$f":"VLOOKUP($C129,Keighley!$C$3:$N$42,9,FALSE)","v":{"$error":"#N/A"}},{"$f":"VLOOKUP($C129,'Bunny '!$C$3:$N$20,9,FALSE)","v":0.57742484401588212},{"$f":"VLOOKUP($C129,Liverpool!$C$3:$N$59,9,FALSE)","v":0.60367803837953093},{"$f":"VLOOKUP(C129,'VoY 10m'!$C$3:$N$40,9,FALSE)","v":{"$error":"#N/A"}},{"$f":"VLOOKUP(C129,Guisley!$C$3:$N$49,9,FALSE)","v":{"$error":"#N/A"}},{"$f":"VLOOKUP(C129,Odda!$C$3:$N$42,9,FALSE)","v":{"$error":"#N/A"}},{"$f":"VLOOKUP(C129,'Leeds half'!$C$4:$N$31,9,FALSE)","v":{"$error":"#N/A"}},{"$f":"VLOOKUP(C129,Ilkley!$C$3:$L$46,7,FALSE)","v":{"$error":"#N/A"}},{"$f":"VLOOKUP(C129,Otley!$C$3:$L$46,9,FALSE)","v":{"$error":"#N/A"}},{"$f":"VLOOKUP(C129,Solstice!$C$3:$L$48,7,FALSE)","v":{"$error":"#N/A"}},{"$f":"VLOOKUP(C129,Eccup!$C$3:$L$46,9,FALSE)","v":{"$error":"#N/A"}},null,{"$f":"VLOOKUP(C129,Shakerr!$C$3:$L$46,7,FALSE)","v":{"$error":"#N/A"}},{"$f":"VLOOKUP(C129,VoY!$C$3:$L$46,9,FALSE)","v":{"$error":"#N/A"}},{"$f":"VLOOKUP(C129,Kirkstall!$C$3:$L$46,9,FALSE)","v":{"$error":"#N/A"}},{"$f":"VLOOKUP($C129,City!$C$3:$L$69,9,FALSE)","v":{"$error":"#N/A"}},{"$f":"VLOOKUP(C129,'Guy Fawkes'!$C$3:$N$34,9,FALSE)","v":0.4922530664945125},{"$f":"VLOOKUP(C129,Abbey!$C$3:$L$48,7,FALSE)","v":{"$error":"#N/A"}},{"$f":"VLOOKUP(C129,Chevin!$C$3:$L$50,7,FALSE)","v":{"$error":"#N/A"}},null,11,0,0,9,13,0,0,0,0,0,0,0,0,0,0,0,0,0,17,0,0,4]
[null,null,"Justin Ions","1970-01-02",46,{"$f":"IFERROR(VLOOKUP(C130,'Division Lookup'!$A$2:$D$251,4,FALSE),\"Second\")","v":"Second"},{"$f":"VLOOKUP(C130,Dewsbury!$C$3:$L$46,7,FALSE)","v":{"$error":"#N/A"}},{"$f":"VLOOKUP($C130,Bradford!$C$3:$L$66,7,FALSE)","v":{"$error":"#N/A"}},{"$f":"VLOOKUP($C130,Keighley!$C$3:$N$42,9,FALSE)","v":{"$error":"#N/A"}},{"$f":"VLOOKUP($C130,'Bunny '!$C$3:$N$20,9,FALSE)","v":{"$error":"#N/A"}},{"$f":"VLOOKUP($C130,Liverpool!$C$3:$N$59,9,FALSE)","v":{"$error":"#N/A"}},{"$f":"VLOOKUP(C130,'VoY 10m'!$C$3:$N$40,9,FALSE)","v":{"$error":"#N/A"}},{"$f":"VLOOKUP(C130,Guisley!$C$3:$N$49,9,FALSE)","v":{"$error":"#N/A"}},{"$f":"VLOOKUP(C130,Odda!$C$3:$N$42,9,FALSE)","v":{"$error":"#N/A"}},{"$f":"VLOOKUP(C130,'Leeds half'!$C$4:$N$31,9,FALSE)","v":{"$error":"#N/A"}},{"$f":"VLOOKUP(C130,Ilkley!$C$3:$L$46,7,FALSE)","v":{"$error":"#N/A"}},{"$f":"VLOOKUP(C130,Otley!$C$3:$L$46,9,FALSE)","v":{"$error":"#N/A"}},{"$f":"VLOOKUP(C130,Solstice!$C$3:$L$48,7,FALSE)","v":{"$error":"#N/A"}},{"$f":"VLOOKUP(C130,Eccup!$C$3:$L$46,9,FALSE)","v":{"$error":"#N/A"}},null,{"$f":"VLOOKUP(C130,Shakerr!$C$3:$L$46,7,FALSE)","v":{"$error":"#N/A"}},{"$f":"VLOOKUP(C130,VoY!$C$3:$L$46,9,FALSE)","v":{"$error":"#N/A"}},{"$f":"VLOOKUP(C130,Kirkstall!$C$3:$L$46,9,FALSE)","v":{"$error":"#N/A"}},{"$f":"VLOOKUP($C130,City!$C$3:$L$69,9,FALSE)","v":{"$error":"#N/A"}},{"$f":"VLOOKUP(C130,'Guy Fawkes'!$C$3:$N$34,9,FALSE)","v":{"$error":"#N/A"}},{"$f":"VLOOKUP(C130,Abbey!$C$3:$L$48,7,FALSE)","v":{"$error":"#N/A"}},{"$f":"VLOOKUP(C130,Chevin!$C$3:$L$50,7,FALSE)","v":{"$error":"#N/A"}},null,0,0,0,0,0,0,0,0,0,0,0,0,0,0,0,0,0,0,0,0,0,0]
[null,null,"Stuart James","1974-12-20",42,{"$f":"IFERROR(VLOOKUP(C131,'Division Lookup'!$A$2:$D$251,4,FALSE),\"Second\")","v":"Second"},{"$f":"VLOOKUP(C131,Dewsbury!$C$3:$L$46,7,FALSE)","v":{"$error":"#N/A"}},{"$f":"VLOOKUP($C131,Bradford!$C$3:$L$66,7,FALSE)","v":{"$error":"#N/A"}},{"$f":"VLOOKUP($C131,Keighley!$C$3:$N$42,9,FALSE)","v":{"$error":"#N/A"}},{"$f":"VLOOKUP($C131,'Bunny '!$C$3:$N$20,9,FALSE)","v":{"$error":"#N/A"}},{"$f":"VLOOKUP($C131,Liverpool!$C$3:$N$59,9,FALSE)","v":{"$error":"#N/A"}},{"$f":"VLOOKUP(C131,'VoY 10m'!$C$3:$N$40,9,FALSE)","v":{"$error":"#N/A"}},{"$f":"VLOOKUP(C131,Guisley!$C$3:$N$49,9,FALSE)","v":{"$error":"#N/A"}},{"$f":"VLOOKUP(C131,Odda!$C$3:$N$42,9,FALSE)","v":{"$error":"#N/A"}},{"$f":"VLOOKUP(C131,'Leeds half'!$C$4:$N$31,9,FALSE)","v":{"$error":"#N/A"}},{"$f":"VLOOKUP(C131,Ilkley!$C$3:$L$46,7,FALSE)","v":{"$error":"#N/A"}},{"$f":"VLOOKUP(C131,Otley!$C$3:$L$46,9,FALSE)","v":{"$error":"#N/A"}},{"$f":"VLOOKUP(C131,Solstice!$C$3:$L$48,7,FALSE)","v":{"$error":"#N/A"}},{"$f":"VLOOKUP(C131,Eccup!$C$3:$L$46,9,FALSE)","v":{"$error":"#N/A"}},null,{"$f":"VLOOKUP(C131,Shakerr!$C$3:$L$46,7,FALSE)","v":{"$error":"#N/A"}},{"$f":"VLOOKUP(C131,VoY!$C$3:$L$46,9,FALSE)","v":{"$error":"#N/A"}},{"$f":"VLOOKUP(C131,Kirkstall!$C$3:$L$46,9,FALSE)","v":{"$error":"#N/A"}},{"$f":"VLOOKUP($C131,City!$C$3:$L$69,9,FALSE)","v":{"$error":"#N/A"}},{"$f":"VLOOKUP(C131,'Guy Fawkes'!$C$3:$N$34,9,FALSE)","v":{"$error":"#N/A"}},{"$f":"VLOOKUP(C131,Abbey!$C$3:$L$48,7,FALSE)","v":{"$error":"#N/A"}},{"$f":"VLOOKUP(C131,Chevin!$C$3:$L$50,7,FALSE)","v":{"$error":"#N/A"}},null,{"$f":"IF(ISNA(G131),0,1+COUNTIFS($F$3:$F$399,$F131,G$3:G$399,\">\"&G131))","v":0},{"$f":"IF(ISNA(H131),0,1+COUNTIFS($F$3:$F$399,$F131,H$3:H$399,\">\"&H131))","v":0},{"$f":"IF(ISNA(I131),0,1+COUNTIFS($F$3:$F$399,$F131,I$3:I$399,\">\"&I131))","v":0},{"$f":"IF(ISNA(J131),0,1+COUNTIFS($F$3:$F$399,$F131,J$3:J$399,\">\"&J131))","v":0},{"$f":"IF(ISNA(K131),0,1+COUNTIFS($F$3:$F$399,$F131,K$3:K$399,\">\"&K131))","v":0},{"$f":"IF(ISNA(L131),0,1+COUNTIFS($F$3:$F$399,$F131,L$3:L$399,\">\"&L131))","v":0},{"$f":"IF(ISNA(M131),0,1+COUNTIFS($F$3:$F$399,$F131,M$3:M$399,\">\"&M131))","v":0},{"$f":"IF(ISNA(N131),0,1+COUNTIFS($F$3:$F$399,$F131,N$3:N$399,\">\"&N131))","v":0},0,0,0,0,0,0,0,0,0,0,0,0,0,0]
[null,null,"Ian Jenkins","1970-04-01",{"$f":"DATEDIF(D132,$E$1,\"Y\")","v":46},{"$f":"IFERROR(VLOOKUP(C132,'Division Lookup'!$A$2:$D$251,4,FALSE),\"Second\")","v":"First"},{"$f":"VLOOKUP(C132,Dewsbury!$C$3:$L$46,7,FALSE)","v":0.71646586345381524},{"$f":"VLOOKUP($C132,Bradford!$C$3:$L$66,7,FALSE)","v":0.70291568163908591},{"$f":"VLOOKUP($C132,Keighley!$C$3:$N$42,9,FALSE)","v":0.66592011944755503},{"$f":"VLOOKUP($C132,'Bunny '!$C$3:$N$20,9,FALSE)","v":{"$error":"#N/A"}},{"$f":"VLOOKUP($C132,Liverpool!$C$3:$N$59,9,FALSE)","v":{"$error":"#N/A"}},{"$f":"VLOOKUP(C132,'VoY 10m'!$C$3:$N$40,9,FALSE)","v":{"$error":"#N/A"}},{"$f":"VLOOKUP(C132,Guisley!$C$3:$N$49,9,FALSE)","v":0.63510145959416164},{"$f":"VLOOKUP(C132,Odda!$C$3:$N$42,9,FALSE)","v":0.56206679269061133},{"$f":"VLOOKUP(C132,'Leeds half'!$C$4:$N$31,9,FALSE)","v":{"$error":"#N/A"}},{"$f":"VLOOKUP(C132,Ilkley!$C$3:$L$46,7,FALSE)","v":{"$error":"#N/A"}},{"$f":"VLOOKUP(C132,Otley!$C$3:$L$46,9,FALSE)","v":0.66364254933091393},{"$f":"VLOOKUP(C132,Solstice!$C$3:$L$48,7,FALSE)","v":{"$error":"#N/A"}},{"$f":"VLOOKUP(C132,Eccup!$C$3:$L$46,9,FALSE)","v":{"$error":"#N/A"}},null,{"$f":"VLOOKUP(C132,Shakerr!$C$3:$L$46,7,FALSE)","v":0.50381248234961873},{"$f":"VLOOKUP(C132,VoY!$C$3:$L$46,9,FALSE)","v":0.69773706896551724},{"$f":"VLOOKUP(C132,Kirkstall!$C$3:$L$46,9,FALSE)","v":{"$error":"#N/A"}},{"$f":"VLOOKUP($C132,City!$C$3:$L$69,9,FALSE)","v":{"$error":"#N/A"}},{"$f":"VLOOKUP(C132,'Guy Fawkes'!$C$3:$N$34,9,FALSE)","v":{"$error":"#N/A"}},{"$f":"VLOOKUP(C132,Abbey!$C$3:$L$48,7,FALSE)","v":0.73779983457402809},{"$f":"VLOOKUP(C132,Chevin!$C$3:$L$50,7,FALSE)","v":0.65086076713983687},null,2,2,3,0,0,0,1,2,{"$f":"IF(ISNA(O132),0,1+COUNTIFS($F$3:$F$399,$F132,O$3:O$399,\">\"&O132))","v":0},{"$f":"IF(ISNA(P132),0,1+COUNTIFS($F$3:$F$399,$F132,P$3:P$399,\">\"&P132))","v":0},{"$f":"IF(ISNA(Q132),0,1+COUNTIFS($F$3:$F$399,$F132,Q$3:Q$399,\">\"&Q132))","v":2},{"$f":"IF(ISNA(R132),0,1+COUNTIFS($F$3:$F$399,$F132,R$3:R$399,\">\"&R132))","v":0},{"$f":"IF(ISNA(S132),0,1+COUNTIFS($F$3:$F$399,$F132,S$3:S$399,\">\"&S132))","v":0},0,{"$f":"IF(ISNA(U132),0,1+COUNTIFS($F$3:$F$399,$F132,U$3:U$399,\">\"&U132))","v":3},{"$f":"IF(ISNA(V132),0,1+COUNTIFS($F$3:$F$399,$F132,V$3:V$399,\">\"&V132))","v":1},{"$f":"IF(ISNA(W132),0,1+COUNTIFS($F$3:$F$399,$F132,W$3:W$399,\">\"&W132))","v":0},{"$f":"IF(ISNA(X132),0,1+COUNTIFS($F$3:$F$399,$F132,X$3:X$399,\">\"&X132))","v":0},{"$f":"IF(ISNA(Y132),0,1+COUNTIFS($F$3:$F$399,$F132,Y$3:Y$399,\">\"&Y132))","v":0},{"$f":"IF(ISNA(Z132),0,1+COUNTIFS($F$3:$F$399,$F132,Z$3:Z$399,\">\"&Z132))","v":1},{"$f":"IF(ISNA(AA132),0,1+COUNTIFS($F$3:$F$399,$F132,AA$3:AA$399,\">\"&AA132))","v":2},{"$f":"COUNTIF(AC132:AW132,\">0\")","v":10}]
[null,null,"Lucy Johnston","1985-09-05",31,{"$f":"IFERROR(VLOOKUP(C133,'Division Lookup'!$A$2:$D$251,4,FALSE),\"Second\")","v":"Second"},{"$f":"VLOOKUP(C133,Dewsbury!$C$3:$L$46,7,FALSE)","v":{"$error":"#N/A"}},{"$f":"VLOOKUP($C133,Bradford!$C$3:$L$66,7,FALSE)","v":{"$error":"#N/A"}},{"$f":"VLOOKUP($C133,Keighley!$C$3:$N$42,9,FALSE)","v":{"$error":"#N/A"}},{"$f":"VLOOKUP($C133,'Bunny '!$C$3:$N$20,9,FALSE)","v":{"$error":"#N/A"}},{"$f":"VLOOKUP($C133,Liverpool!$C$3:$N$59,9,FALSE)","v":0.55650950035186497},{"$f":"VLOOKUP(C133,'VoY 10m'!$C$3:$N$40,9,FALSE)","v":{"$error":"#N/A"}},{"$f":"VLOOKUP(C133,Guisley!$C$3:$N$49,9,FALSE)","v":{"$error":"#N/A"}},{"$f":"VLOOKUP(C133,Odda!$C$3:$N$42,9,FALSE)","v":{"$error":"#N/A"}},{"$f":"VLOOKUP(C133,'Leeds half'!$C$4:$N$31,9,FALSE)","v":{"$error":"#N/A"}},{"$f":"VLOOKUP(C133,Ilkley!$C$3:$L$46,7,FALSE)","v":{"$error":"#N/A"}},{"$f":"VLOOKUP(C133,Otley!$C$3:$L$46,9,FALSE)","v":{"$error":"#N/A"}},{"$f":"VLOOKUP(C133,Solstice!$C$3:$L$48,7,FALSE)","v":{"$error":"#N/A"}},{"$f":"VLOOKUP(C133,Eccup!$C$3:$L$46,9,FALSE)","v":0.47109775499381296},null,{"$f":"VLOOKUP(C133,Shakerr!$C$3:$L$46,7,FALSE)","v":{"$error":"#N/A"}},{"$f":"VLOOKUP(C133,VoY!$C$3:$L$46,9,FALSE)","v":{"$error":"#N/A"}},{"$f":"VLOOKUP(C133,Kirkstall!$C$3:$L$46,9,FALSE)","v":{"$error":"#N/A"}},{"$f":"VLOOKUP($C133,City!$C$3:$L$69,9,FALSE)","v":{"$error":"#N/A"}},{"$f":"VLOOKUP(C133,'Guy Fawkes'!$C$3:$N$34,9,FALSE)","v":{"$error":"#N/A"}},{"$f":"VLOOKUP(C133,Abbey!$C$3:$L$48,7,FALSE)","v":{"$error":"#N/A"}},{"$f":"VLOOKUP(C133,Chevin!$C$3:$L$50,7,FALSE)","v":{"$error":"#N/A"}},null,0,0,0,0,12,0,0,0,0,0,0,0,4,0,0,0,0,0,0,0,0,2]
[null,null,"Vicki Johnston","1976-01-23",40,{"$f":"IFERROR(VLOOKUP(C134,'Division Lookup'!$A$2:$D$251,4,FALSE),\"Second\")","v":"First"},{"$f":"VLOOKUP(C134,Dewsbury!$C$3:$L$46,7,FALSE)","v":{"$error":"#N/A"}},{"$f":"VLOOKUP($C134,Bradford!$C$3:$L$66,7,FALSE)","v":{"$error":"#N/A"}},{"$f":"VLOOKUP($C134,Keighley!$C$3:$N$42,9,FALSE)","v":{"$error":"#N/A"}},{"$f":"VLOOKUP($C134,'Bunny '!$C$3:$N$20,9,FALSE)","v":{"$error":"#N/A"}},{"$f":"VLOOKUP($C134,Liverpool!$C$3:$N$59,9,FALSE)","v":{"$error":"#N/A"}},{"$f":"VLOOKUP(C134,'VoY 10m'!$C$3:$N$40,9,FALSE)","v":{"$error":"#N/A"}},{"$f":"VLOOKUP(C134,Guisley!$C$3:$N$49,9,FALSE)","v":{"$error":"#N/A"}},{"$f":"VLOOKUP(C134,Odda!$C$3:$N$42,9,FALSE)","v":{"$error":"#N/A"}},{"$f":"VLOOKUP(C134,'Leeds half'!$C$4:$N$31,9,FALSE)","v":{"$error":"#N/A"}},{"$f":"VLOOKUP(C134,Ilkley!$C$3:$L$46,7,FALSE)","v":{"$error":"#N/A"}},{"$f":"VLOOKUP(C134,Otley!$C$3:$L$46,9,FALSE)","v":{"$error":"#N/A"}},{"$f":"VLOOKUP(C134,Solstice!$C$3:$L$48,7,FALSE)","v":{"$error":"#N/A"}},{"$f":"VLOOKUP(C134,Eccup!$C$3:$L$46,9,FALSE)","v":0.52285500187336087},null,{"$f":"VLOOKUP(C134,Shakerr!$C$3:$L$46,7,FALSE)","v":{"$error":"#N/A"}},{"$f":"VLOOKUP(C134,VoY!$C$3:$L$46,9,FALSE)","v":{"$error":"#N/A"}},{"$f":"VLOOKUP(C134,Kirkstall!$C$3:$L$46,9,FALSE)","v":{"$error":"#N/A"}},{"$f":"VLOOKUP($C134,City!$C$3:$L$69,9,FALSE)","v":{"$error":"#N/A"}},{"$f":"VLOOKUP(C134,'Guy Fawkes'!$C$3:$N$34,9,FALSE)","v":{"$error":"#N/A"}},{"$f":"VLOOKUP(C134,Abbey!$C$3:$L$48,7,FALSE)","v":{"$error":"#N/A"}},{"$f":"VLOOKUP(C134,Chevin!$C$3:$L$50,7,FALSE)","v":{"$error":"#N/A"}},null,0,0,0,0,0,0,0,0,0,0,0,0,2,0,0,0,0,0,0,0,0,1]
[null,null,"Chris Jones","1986-08-12",30,{"$f":"IFERROR(VLOOKUP(C135,'Division Lookup'!$A$2:$D$251,4,FALSE),\"Second\")","v":"Premier"},{"$f":"VLOOKUP(C135,Dewsbury!$C$3:$L$46,7,FALSE)","v":{"$error":"#N/A"}},{"$f":"VLOOKUP($C135,Bradford!$C$3:$L$66,7,FALSE)","v":{"$error":"#N/A"}},{"$f":"VLOOKUP($C135,Keighley!$C$3:$N$42,9,FALSE)","v":{"$error":"#N/A"}},{"$f":"VLOOKUP($C135,'Bunny '!$C$3:$N$20,9,FALSE)","v":{"$error":"#N/A"}},{"$f":"VLOOKUP($C135,Liverpool!$C$3:$N$59,9,FALSE)","v":{"$error":"#N/A"}},{"$f":"VLOOKUP(C135,'VoY 10m'!$C$3:$N$40,9,FALSE)","v":{"$error":"#N/A"}},{"$f":"VLOOKUP(C135,Guisley!$C$3:$N$49,9,FALSE)","v":{"$error":"#N/A"}},{"$f":"VLOOKUP(C135,Odda!$C$3:$N$42,9,FALSE)","v":{"$error":"#N/A"}},{"$f":"VLOOKUP(C135,'Leeds half'!$C$4:$N$31,9,FALSE)","v":{"$error":"#N/A"}},{"$f":"VLOOKUP(C135,Ilkley!$C$3:$L$46,7,FALSE)","v":{"$error":"#N/A"}},{"$f":"VLOOKUP(C135,Otley!$C$3:$L$46,9,FALSE)","v":{"$error":"#N/A"}},{"$f":"VLOOKUP(C135,Solstice!$C$3:$L$48,7,FALSE)","v":{"$error":"#N/A"}},{"$f":"VLOOKUP(C135,Eccup!$C$3:$L$46,9,FALSE)","v":{"$error":"#N/A"}},null,{"$f":"VLOOKUP(C135,Shakerr!$C$3:$L$46,7,FALSE)","v":{"$error":"#N/A"}},{"$f":"VLOOKUP(C135,VoY!$C$3:$L$46,9,FALSE)","v":{"$error":"#N/A"}},{"$f":"VLOOKUP(C135,Kirkstall!$C$3:$L$46,9,FALSE)","v":{"$error":"#N/A"}},{"$f":"VLOOKUP($C135,City!$C$3:$L$69,9,FALSE)","v":{"$error":"#N/A"}},{"$f":"VLOOKUP(C135,'Guy Fawkes'!$C$3:$N$34,9,FALSE)","v":{"$error":"#N/A"}},{"$f":"VLOOKUP(C135,Abbey!$C$3:$L$48,7,FALSE)","v":{"$error":"#N/A"}},{"$f":"VLOOKUP(C135,Chevin!$C$3:$L$50,7,FALSE)","v":{"$error":"#N/A"}},null,0,0,0,0,0,0,0,0,0,0,0,0,0,0,0,0,0,0,0,0,0,0]
[null,null,"Mick Jones","1957-05-21",59,{"$f":"IFERROR(VLOOKUP(C136,'Division Lookup'!$A$2:$D$251,4,FALSE),\"Second\")","v":"Second"},{"$f":"VLOOKUP(C136,Dewsbury!$C$3:$L$46,7,FALSE)","v":{"$error":"#N/A"}},{"$f":"VLOOKUP($C136,Bradford!$C$3:$L$66,7,FALSE)","v":{"$error":"#N/A"}},{"$f":"VLOOKUP($C136,Keighley!$C$3:$N$42,9,FALSE)","v":{"$error":"#N/A"}},{"$f":"VLOOKUP($C136,'Bunny '!$C$3:$N$20,9,FALSE)","v":{"$error":"#N/A"}},{"$f":"VLOOKUP($C136,Liverpool!$C$3:$N$59,9,FALSE)","v":{"$error":"#N/A"}},{"$f":"VLOOKUP(C136,'VoY 10m'!$C$3:$N$40,9,FALSE)","v":{"$error":"#N/A"}},{"$f":"VLOOKUP(C136,Guisley!$C$3:$N$49,9,FALSE)","v":{"$error":"#N/A"}},{"$f":"VLOOKUP(C136,Odda!$C$3:$N$42,9,FALSE)","v":{"$error":"#N/A"}},{"$f":"VLOOKUP(C136,'Leeds half'!$C$4:$N$31,9,FALSE)","v":{"$error":"#N/A"}},{"$f":"VLOOKUP(C136,Ilkley!$C$3:$L$46,7,FALSE)","v":{"$error":"#N/A"}},{"$f":"VLOOKUP(C136,Otley!$C$3:$L$46,9,FALSE)","v":{"$error":"#N/A"}},{"$f":"VLOOKUP(C136,Solstice!$C$3:$L$48,7,FALSE)","v":{"$error":"#N/A"}},{"$f":"VLOOKUP(C136,Eccup!$C$3:$L$46,9,FALSE)","v":{"$error":"#N/A"}},null,{"$f":"VLOOKUP(C136,Shakerr!$C$3:$L$46,7,FALSE)","v":{"$error":"#N/A"}},{"$f":"VLOOKUP(C136,VoY!$C$3:$L$46,9,FALSE)","v":{"$error":"#N/A"}},{"$f":"VLOOKUP(C136,Kirkstall!$C$3:$L$46,9,FALSE)","v":{"$error":"#N/A"}},{"$f":"VLOOKUP($C136,City!$C$3:$L$69,9,FALSE)","v":{"$error":"#N/A"}},{"$f":"VLOOKUP(C136,'Guy Fawkes'!$C$3:$N$34,9,FALSE)","v":{"$error":"#N/A"}},{"$f":"VLOOKUP(C136,Abbey!$C$3:$L$48,7,FALSE)","v":{"$error":"#N/A"}},{"$f":"VLOOKUP(C136,Chevin!$C$3:$L$50,7,FALSE)","v":{"$error":"#N/A"}},null,0,0,0,0,0,0,0,0,0,0,0,0,0,0,0,0,0,0,0,0,0,0]
[null,null,"Rita Jordan",null,117,{"$f":"IFERROR(VLOOKUP(C137,'Division Lookup'!$A$2:$D$251,4,FALSE),\"Second\")","v":"Second"},{"$f":"VLOOKUP(C137,Dewsbury!$C$3:$L$46,7,FALSE)","v":{"$error":"#N/A"}},{"$f":"VLOOKUP($C137,Bradford!$C$3:$L$66,7,FALSE)","v":{"$error":"#N/A"}},{"$f":"VLOOKUP($C137,Keighley!$C$3:$N$42,9,FALSE)","v":{"$error":"#N/A"}},{"$f":"VLOOKUP($C137,'Bunny '!$C$3:$N$20,9,FALSE)","v":{"$error":"#N/A"}},{"$f":"VLOOKUP($C137,Liverpool!$C$3:$N$59,9,FALSE)","v":{"$error":"#N/A"}},{"$f":"VLOOKUP(C137,'VoY 10m'!$C$3:$N$40,9,FALSE)","v":{"$error":"#N/A"}},{"$f":"VLOOKUP(C137,Guisley!$C$3:$N$49,9,FALSE)","v":{"$error":"#N/A"}},{"$f":"VLOOKUP(C137,Odda!$C$3:$N$42,9,FALSE)","v":{"$error":"#N/A"}},{"$f":"VLOOKUP(C137,'Leeds half'!$C$4:$N$31,9,FALSE)","v":{"$error":"#N/A"}},{"$f":"VLOOKUP(C137,Ilkley!$C$3:$L$46,7,FALSE)","v":{"$error":"#N/A"}},{"$f":"VLOOKUP(C137,Otley!$C$3:$L$46,9,FALSE)","v":{"$error":"#N/A"}},{"$f":"VLOOKUP(C137,Solstice!$C$3:$L$48,7,FALSE)","v":{"$error":"#N/A"}},{"$f":"VLOOKUP(C137,Eccup!$C$3:$L$46,9,FALSE)","v":{"$error":"#N/A"}},null,{"$f":"VLOOKUP(C137,Shakerr!$C$3:$L$46,7,FALSE)","v":{"$error":"#N/A"}},{"$f":"VLOOKUP(C137,VoY!$C$3:$L$46,9,FALSE)","v":{"$error":"#N/A"}},{"$f":"VLOOKUP(C137,Kirkstall!$C$3:$L$46,9,FALSE)","v":{"$error":"#N/A"}},{"$f":"VLOOKUP($C137,City!$C$3:$L$69,9,FALSE)","v":{"$error":"#N/A"}},{"$f":"VLOOKUP(C137,'Guy Fawkes'!$C$3:$N$34,9,FALSE)","v":{"$error":"#N/A"}},{"$f":"VLOOKUP(C137,Abbey!$C$3:$L$48,7,FALSE)","v":{"$error":"#N/A"}},{"$f":"VLOOKUP(C137,Chevin!$C$3:$L$50,7,FALSE)","v":{"$error":"#N/A"}},null,0,0,0,0,0,0,0,0,0,0,0,0,0,0,0,0,0,0,0,0,0,0]
[null,null,"Keith Jump","1947-10-17",69,{"$f":"IFERROR(VLOOKUP(C138,'Division Lookup'!$A$2:$D$251,4,FALSE),\"Second\")","v":"Second"},{"$f":"VLOOKUP(C138,Dewsbury!$C$3:$L$46,7,FALSE)","v":{"$error":"#N/A"}},{"$f":"VLOOKUP($C138,Bradford!$C$3:$L$66,7,FALSE)","v":{"$error":"#N/A"}},{"$f":"VLOOKUP($C138,Keighley!$C$3:$N$42,9,FALSE)","v":{"$error":"#N/A"}},{"$f":"VLOOKUP($C138,'Bunny '!$C$3:$N$20,9,FALSE)","v":{"$error":"#N/A"}},{"$f":"VLOOKUP($C138,Liverpool!$C$3:$N$59,9,FALSE)","v":0.52275701614075909},{"$f":"VLOOKUP(C138,'VoY 10m'!$C$3:$N$40,9,FALSE)","v":{"$error":"#N/A"}},{"$f":"VLOOKUP(C138,Guisley!$C$3:$N$49,9,FALSE)","v":{"$error":"#N/A"}},{"$f":"VLOOKUP(C138,Odda!$C$3:$N$42,9,FALSE)","v":{"$error":"#N/A"}},{"$f":"VLOOKUP(C138,'Leeds half'!$C$4:$N$31,9,FALSE)","v":{"$error":"#N/A"}},{"$f":"VLOOKUP(C138,Ilkley!$C$3:$L$46,7,FALSE)","v":{"$error":"#N/A"}},{"$f":"VLOOKUP(C138,Otley!$C$3:$L$46,9,FALSE)","v":{"$error":"#N/A"}},{"$f":"VLOOKUP(C138,Solstice!$C$3:$L$48,7,FALSE)","v":{"$error":"#N/A"}},{"$f":"VLOOKUP(C138,Eccup!$C$3:$L$46,9,FALSE)","v":{"$error":"#N/A"}},null,{"$f":"VLOOKUP(C138,Shakerr!$C$3:$L$46,7,FALSE)","v":{"$error":"#N/A"}},{"$f":"VLOOKUP(C138,VoY!$C$3:$L$46,9,FALSE)","v":{"$error":"#N/A"}},{"$f":"VLOOKUP(C138,Kirkstall!$C$3:$L$46,9,FALSE)","v":{"$error":"#N/A"}},{"$f":"VLOOKUP($C138,City!$C$3:$L$69,9,FALSE)","v":{"$error":"#N/A"}},{"$f":"VLOOKUP(C138,'Guy Fawkes'!$C$3:$N$34,9,FALSE)","v":{"$error":"#N/A"}},{"$f":"VLOOKUP(C138,Abbey!$C$3:$L$48,7,FALSE)","v":{"$error":"#N/A"}},{"$f":"VLOOKUP(C138,Chevin!$C$3:$L$50,7,FALSE)","v":{"$error":"#N/A"}},null,0,0,0,0,14,0,0,0,0,0,0,0,0,0,0,0,0,0,0,0,0,1]
[null,null,"Kanwaldeep Kaur","1986-10-02",30,{"$f":"IFERROR(VLOOKUP(C139,'Division Lookup'!$A$2:$D$251,4,FALSE),\"Second\")","v":"Second"},{"$f":"VLOOKUP(C139,Dewsbury!$C$3:$L$46,7,FALSE)","v":{"$error":"#N/A"}},{"$f":"VLOOKUP($C139,Bradford!$C$3:$L$66,7,FALSE)","v":0.40884598114054777},{"$f":"VLOOKUP($C139,Keighley!$C$3:$N$42,9,FALSE)","v":{"$error":"#N/A"}},{"$f":"VLOOKUP($C139,'Bunny '!$C$3:$N$20,9,FALSE)","v":{"$error":"#N/A"}},{"$f":"VLOOKUP($C139,Liverpool!$C$3:$N$59,9,FALSE)","v":{"$error":"#N/A"}},{"$f":"VLOOKUP(C139,'VoY 10m'!$C$3:$N$40,9,FALSE)","v":{"$error":"#N/A"}},{"$f":"VLOOKUP(C139,Guisley!$C$3:$N$49,9,FALSE)","v":{"$error":"#N/A"}},{"$f":"VLOOKUP(C139,Odda!$C$3:$N$42,9,FALSE)","v":{"$error":"#N/A"}},{"$f":"VLOOKUP(C139,'Leeds half'!$C$4:$N$31,9,FALSE)","v":{"$error":"#N/A"}},{"$f":"VLOOKUP(C139,Ilkley!$C$3:$L$46,7,FALSE)","v":{"$error":"#N/A"}},{"$f":"VLOOKUP(C139,Otley!$C$3:$L$46,9,FALSE)","v":{"$error":"#N/A"}},{"$f":"VLOOKUP(C139,Solstice!$C$3:$L$48,7,FALSE)","v":{"$error":"#N/A"}},{"$f":"VLOOKUP(C139,Eccup!$C$3:$L$46,9,FALSE)","v":{"$error":"#N/A"}},null,{"$f":"VLOOKUP(C139,Shakerr!$C$3:$L$46,7,FALSE)","v":{"$error":"#N/A"}},{"$f":"VLOOKUP(C139,VoY!$C$3:$L$46,9,FALSE)","v":{"$error":"#N/A"}},{"$f":"VLOOKUP(C139,Kirkstall!$C$3:$L$46,9,FALSE)","v":{"$error":"#N/A"}},{"$f":"VLOOKUP($C139,City!$C$3:$L$69,9,FALSE)","v":{"$error":"#N/A"}},{"$f":"VLOOKUP(C139,'Guy Fawkes'!$C$3:$N$34,9,FALSE)","v":{"$error":"#N/A"}},{"$f":"VLOOKUP(C139,Abbey!$C$3:$L$48,7,FALSE)","v":{"$error":"#N/A"}},{"$f":"VLOOKUP(C139,Chevin!$C$3:$L$50,7,FALSE)","v":{"$error":"#N/A"}},null,0,24,0,0,0,0,0,0,0,0,0,0,0,0,0,0,0,0,0,0,0,1]
[null,null,"Paul Keeling","1963-05-22",53,{"$f":"IFERROR(VLOOKUP(C140,'Division Lookup'!$A$2:$D$251,4,FALSE),\"Second\")","v":"Second"},{"$f":"VLOOKUP(C140,Dewsbury!$C$3:$L$46,7,FALSE)","v":{"$error":"#N/A"}},{"$f":"VLOOKUP($C140,Bradford!$C$3:$L$66,7,FALSE)","v":{"$error":"#N/A"}},{"$f":"VLOOKUP($C140,Keighley!$C$3:$N$42,9,FALSE)","v":{"$error":"#N/A"}},{"$f":"VLOOKUP($C140,'Bunny '!$C$3:$N$20,9,FALSE)","v":{"$error":"#N/A"}},{"$f":"VLOOKUP($C140,Liverpool!$C$3:$N$59,9,FALSE)","v":{"$error":"#N/A"}},{"$f":"VLOOKUP(C140,'VoY 10m'!$C$3:$N$40,9,FALSE)","v":{"$error":"#N/A"}},{"$f":"VLOOKUP(C140,Guisley!$C$3:$N$49,9,FALSE)","v":{"$error":"#N/A"}},{"$f":"VLOOKUP(C140,Odda!$C$3:$N$42,9,FALSE)","v":{"$error":"#N/A"}},{"$f":"VLOOKUP(C140,'Leeds half'!$C$4:$N$31,9,FALSE)","v":{"$error":"#N/A"}},{"$f":"VLOOKUP(C140,Ilkley!$C$3:$L$46,7,FALSE)","v":{"$error":"#N/A"}},{"$f":"VLOOKUP(C140,Otley!$C$3:$L$46,9,FALSE)","v":{"$error":"#N/A"}},{"$f":"VLOOKUP(C140,Solstice!$C$3:$L$48,7,FALSE)","v":{"$error":"#N/A"}},{"$f":"VLOOKUP(C140,Eccup!$C$3:$L$46,9,FALSE)","v":{"$error":"#N/A"}},null,{"$f":"VLOOKUP(C140,Shakerr!$C$3:$L$46,7,FALSE)","v":{"$error":"#N/A"}},{"$f":"VLOOKUP(C140,VoY!$C$3:$L$46,9,FALSE)","v":{"$error":"#N/A"}},{"$f":"VLOOKUP(C140,Kirkstall!$C$3:$L$46,9,FALSE)","v":{"$error":"#N/A"}},{"$f":"VLOOKUP($C140,City!$C$3:$L$69,9,FALSE)","v":{"$error":"#N/A"}},{"$f":"VLOOKUP(C140,'Guy Fawkes'!$C$3:$N$34,9,FALSE)","v":{"$error":"#N/A"}},{"$f":"VLOOKUP(C140,Abbey!$C$3:$L$48,7,FALSE)","v":{"$error":"#N/A"}},{"$f":"VLOOKUP(C140,Chevin!$C$3:$L$50,7,FALSE)","v":{"$error":"#N/A"}},null,0,0,0,0,0,0,0,0,0,0,0,0,0,0,0,0,0,0,0,0,0,0]
[null,null,"Camille Kendall","1982-03-30",34,{"$f":"IFERROR(VLOOKUP(C141,'Division Lookup'!$A$2:$D$251,4,FALSE),\"Second\")","v":"Second"},{"$f":"VLOOKUP(C141,Dewsbury!$C$3:$L$46,7,FALSE)","v":{"$error":"#N/A"}},{"$f":"VLOOKUP($C141,Bradford!$C$3:$L$66,7,FALSE)","v":{"$error":"#N/A"}},{"$f":"VLOOKUP($C141,Keighley!$C$3:$N$42,9,FALSE)","v":{"$error":"#N/A"}},{"$f":"VLOOKUP($C141,'Bunny '!$C$3:$N$20,9,FALSE)","v":{"$error":"#N/A"}},{"$f":"VLOOKUP($C141,Liverpool!$C$3:$N$59,9,FALSE)","v":{"$error":"#N/A"}},{"$f":"VLOOKUP(C141,'VoY 10m'!$C$3:$N$40,9,FALSE)","v":{"$error":"#N/A"}},{"$f":"VLOOKUP(C141,Guisley!$C$3:$N$49,9,FALSE)","v":{"$error":"#N/A"}},{"$f":"VLOOKUP(C141,Odda!$C$3:$N$42,9,FALSE)","v":{"$error":"#N/A"}},{"$f":"VLOOKUP(C141,'Leeds half'!$C$4:$N$31,9,FALSE)","v":{"$error":"#N/A"}},{"$f":"VLOOKUP(C141,Ilkley!$C$3:$L$46,7,FALSE)","v":{"$error":"#N/A"}},{"$f":"VLOOKUP(C141,Otley!$C$3:$L$46,9,FALSE)","v":{"$error":"#N/A"}},{"$f":"VLOOKUP(C141,Solstice!$C$3:$L$48,7,FALSE)","v":{"$error":"#N/A"}},{"$f":"VLOOKUP(C141,Eccup!$C$3:$L$46,9,FALSE)","v":{"$error":"#N/A"}},null,{"$f":"VLOOKUP(C141,Shakerr!$C$3:$L$46,7,FALSE)","v":{"$error":"#N/A"}},{"$f":"VLOOKUP(C141,VoY!$C$3:$L$46,9,FALSE)","v":{"$error":"#N/A"}},{"$f":"VLOOKUP(C141,Kirkstall!$C$3:$L$46,9,FALSE)","v":{"$error":"#N/A"}},{"$f":"VLOOKUP($C141,City!$C$3:$L$69,9,FALSE)","v":{"$error":"#N/A"}},{"$f":"VLOOKUP(C141,'Guy Fawkes'!$C$3:$N$34,9,FALSE)","v":{"$error":"#N/A"}},{"$f":"VLOOKUP(C141,Abbey!$C$3:$L$48,7,FALSE)","v":{"$error":"#N/A"}},{"$f":"VLOOKUP(C141,Chevin!$C$3:$L$50,7,FALSE)","v":{"$error":"#N/A"}},null,0,0,0,0,0,0,0,0,0,0,0,0,0,0,0,0,0,0,0,0,0,0]
[null,null,"Carl Kernick","1977-08-05",39,{"$f":"IFERROR(VLOOKUP(C142,'Division Lookup'!$A$2:$D$251,4,FALSE),\"Second\")","v":"Second"},{"$f":"VLOOKUP(C142,Dewsbury!$C$3:$L$46,7,FALSE)","v":{"$error":"#N/A"}},{"$f":"VLOOKUP($C142,Bradford!$C$3:$L$66,7,FALSE)","v":{"$error":"#N/A"}},{"$f":"VLOOKUP($C142,Keighley!$C$3:$N$42,9,FALSE)","v":{"$error":"#N/A"}},{"$f":"VLOOKUP($C142,'Bunny '!$C$3:$N$20,9,FALSE)","v":{"$error":"#N/A"}},{"$f":"VLOOKUP($C142,Liverpool!$C$3:$N$59,9,FALSE)","v":{"$error":"#N/A"}},{"$f":"VLOOKUP(C142,'VoY 10m'!$C$3:$N$40,9,FALSE)","v":{"$error":"#N/A"}},{"$f":"VLOOKUP(C142,Guisley!$C$3:$N$49,9,FALSE)","v":{"$error":"#N/A"}},{"$f":"VLOOKUP(C142,Odda!$C$3:$N$42,9,FALSE)","v":{"$error":"#N/A"}},{"$f":"VLOOKUP(C142,'Leeds half'!$C$4:$N$31,9,FALSE)","v":{"$error":"#N/A"}},{"$f":"VLOOKUP(C142,Ilkley!$C$3:$L$46,7,FALSE)","v":{"$error":"#N/A"}},{"$f":"VLOOKUP(C142,Otley!$C$3:$L$46,9,FALSE)","v":0.73137876386687795},{"$f":"VLOOKUP(C142,Solstice!$C$3:$L$48,7,FALSE)","v":{"$error":"#N/A"}},{"$f":"VLOOKUP(C142,Eccup!$C$3:$L$46,9,FALSE)","v":{"$error":"#N/A"}},null,{"$f":"VLOOKUP(C142,Shakerr!$C$3:$L$46,7,FALSE)","v":{"$error":"#N/A"}},{"$f":"VLOOKUP(C142,VoY!$C$3:$L$46,9,FALSE)","v":{"$error":"#N/A"}},{"$f":"VLOOKUP(C142,Kirkstall!$C$3:$L$46,9,FALSE)","v":{"$error":"#N/A"}},{"$f":"VLOOKUP($C142,City!$C$3:$L$69,9,FALSE)","v":{"$error":"#N/A"}},{"$f":"VLOOKUP(C142,'Guy Fawkes'!$C$3:$N$34,9,FALSE)","v":{"$error":"#N/A"}},{"$f":"VLOOKUP(C142,Abbey!$C$3:$L$48,7,FALSE)","v":{"$error":"#N/A"}},{"$f":"VLOOKUP(C142,Chevin!$C$3:$L$50,7,FALSE)","v":{"$error":"#N/A"}},null,0,0,0,0,0,0,0,0,0,0,1,0,0,0,0,0,0,0,0,0,0,1]
[null,null,"Will Kerr","1976-04-29",40,{"$f":"IFERROR(VLOOKUP(C143,'Division Lookup'!$A$2:$D$251,4,FALSE),\"Second\")","v":"Premier"},{"$f":"VLOOKUP(C143,Dewsbury!$C$3:$L$46,7,FALSE)","v":{"$error":"#N/A"}},{"$f":"VLOOKUP($C143,Bradford!$C$3:$L$66,7,FALSE)","v":{"$error":"#N/A"}},{"$f":"VLOOKUP($C143,Keighley!$C$3:$N$42,9,FALSE)","v":{"$error":"#N/A"}},{"$f":"VLOOKUP($C143,'Bunny '!$C$3:$N$20,9,FALSE)","v":0.80530973451327437},{"$f":"VLOOKUP($C143,Liverpool!$C$3:$N$59,9,FALSE)","v":0.82043892706716914},{"$f":"VLOOKUP(C143,'VoY 10m'!$C$3:$N$40,9,FALSE)","v":0.79651826484018273},{"$f":"VLOOKUP(C143,Guisley!$C$3:$N$49,9,FALSE)","v":{"$error":"#N/A"}},{"$f":"VLOOKUP(C143,Odda!$C$3:$N$42,9,FALSE)","v":0.71548468317247182},{"$f":"VLOOKUP(C143,'Leeds half'!$C$4:$N$31,9,FALSE)","v":{"$error":"#N/A"}},{"$f":"VLOOKUP(C143,Ilkley!$C$3:$L$46,7,FALSE)","v":{"$error":"#N/A"}},{"$f":"VLOOKUP(C143,Otley!$C$3:$L$46,9,FALSE)","v":0.80040149125322635},{"$f":"VLOOKUP(C143,Solstice!$C$3:$L$48,7,FALSE)","v":0.74724061810154541},{"$f":"VLOOKUP(C143,Eccup!$C$3:$L$46,9,FALSE)","v":{"$error":"#N/A"}},null,{"$f":"VLOOKUP(C143,Shakerr!$C$3:$L$46,7,FALSE)","v":0.61220825852782768},{"$f":"VLOOKUP(C143,VoY!$C$3:$L$46,9,FALSE)","v":0.81989366415595921},{"$f":"VLOOKUP(C143,Kirkstall!$C$3:$L$46,9,FALSE)","v":{"$error":"#N/A"}},{"$f":"VLOOKUP($C143,City!$C$3:$L$69,9,FALSE)","v":0.76498553121124435},{"$f":"VLOOKUP(C143,'Guy Fawkes'!$C$3:$N$34,9,FALSE)","v":{"$error":"#N/A"}},{"$f":"VLOOKUP(C143,Abbey!$C$3:$L$48,7,FALSE)","v":{"$error":"#N/A"}},{"$f":"VLOOKUP(C143,Chevin!$C$3:$L$50,7,FALSE)","v":0.77272727272727271},null,0,0,0,1,1,1,0,1,0,0,2,2,0,0,1,2,0,3,0,0,1,10]
[null,null,"Sikander Khan","1981-01-23",35,{"$f":"IFERROR(VLOOKUP(C144,'Division Lookup'!$A$2:$D$251,4,FALSE),\"Second\")","v":"Second"},{"$f":"VLOOKUP(C144,Dewsbury!$C$3:$L$46,7,FALSE)","v":{"$error":"#N/A"}},{"$f":"VLOOKUP($C144,Bradford!$C$3:$L$66,7,FALSE)","v":0.54848383872042661},{"$f":"VLOOKUP($C144,Keighley!$C$3:$N$42,9,FALSE)","v":{"$error":"#N/A"}},{"$f":"VLOOKUP($C144,'Bunny '!$C$3:$N$20,9,FALSE)","v":{"$error":"#N/A"}},{"$f":"VLOOKUP($C144,Liverpool!$C$3:$N$59,9,FALSE)","v":{"$error":"#N/A"}},{"$f":"VLOOKUP(C144,'VoY 10m'!$C$3:$N$40,9,FALSE)","v":{"$error":"#N/A"}},{"$f":"VLOOKUP(C144,Guisley!$C$3:$N$49,9,FALSE)","v":{"$error":"#N/A"}},{"$f":"VLOOKUP(C144,Odda!$C$3:$N$42,9,FALSE)","v":{"$error":"#N/A"}},{"$f":"VLOOKUP(C144,'Leeds half'!$C$4:$N$31,9,FALSE)","v":{"$error":"#N/A"}},{"$f":"VLOOKUP(C144,Ilkley!$C$3:$L$46,7,FALSE)","v":{"$error":"#N/A"}},{"$f":"VLOOKUP(C144,Otley!$C$3:$L$46,9,FALSE)","v":{"$error":"#N/A"}},{"$f":"VLOOKUP(C144,Solstice!$C$3:$L$48,7,FALSE)","v":{"$error":"#N/A"}},{"$f":"VLOOKUP(C144,Eccup!$C$3:$L$46,9,FALSE)","v":{"$error":"#N/A"}},null,{"$f":"VLOOKUP(C144,Shakerr!$C$3:$L$46,7,FALSE)","v":{"$error":"#N/A"}},{"$f":"VLOOKUP(C144,VoY!$C$3:$L$46,9,FALSE)","v":{"$error":"#N/A"}},{"$f":"VLOOKUP(C144,Kirkstall!$C$3:$L$46,9,FALSE)","v":{"$error":"#N/A"}},{"$f":"VLOOKUP($C144,City!$C$3:$L$69,9,FALSE)","v":{"$error":"#N/A"}},{"$f":"VLOOKUP(C144,'Guy Fawkes'!$C$3:$N$34,9,FALSE)","v":{"$error":"#N/A"}},{"$f":"VLOOKUP(C144,Abbey!$C$3:$L$48,7,FALSE)","v":{"$error":"#N/A"}},{"$f":"VLOOKUP(C144,Chevin!$C$3:$L$50,7,FALSE)","v":{"$error":"#N/A"}},null,0,17,0,0,0,0,0,0,0,0,0,0,0,0,0,0,0,0,0,0,0,1]
[null,null,"Simon Kingsnorth","1965-09-06",51,{"$f":"IFERROR(VLOOKUP(C145,'Division Lookup'!$A$2:$D$251,4,FALSE),\"Second\")","v":"Premier"},{"$f":"VLOOKUP(C145,Dewsbury!$C$3:$L$46,7,FALSE)","v":{"$error":"#N/A"}},{"$f":"VLOOKUP($C145,Bradford!$C$3:$L$66,7,FALSE)","v":{"$error":"#N/A"}},{"$f":"VLOOKUP($C145,Keighley!$C$3:$N$42,9,FALSE)","v":{"$error":"#N/A"}},{"$f":"VLOOKUP($C145,'Bunny '!$C$3:$N$20,9,FALSE)","v":{"$error":"#N/A"}},{"$f":"VLOOKUP($C145,Liverpool!$C$3:$N$59,9,FALSE)","v":{"$error":"#N/A"}},{"$f":"VLOOKUP(C145,'VoY 10m'!$C$3:$N$40,9,FALSE)","v":{"$error":"#N/A"}},{"$f":"VLOOKUP(C145,Guisley!$C$3:$N$49,9,FALSE)","v":{"$error":"#N/A"}},{"$f":"VLOOKUP(C145,Odda!$C$3:$N$42,9,FALSE)","v":{"$error":"#N/A"}},{"$f":"VLOOKUP(C145,'Leeds half'!$C$4:$N$31,9,FALSE)","v":{"$error":"#N/A"}},{"$f":"VLOOKUP(C145,Ilkley!$C$3:$L$46,7,FALSE)","v":{"$error":"#N/A"}},{"$f":"VLOOKUP(C145,Otley!$C$3:$L$46,9,FALSE)","v":{"$error":"#N/A"}},{"$f":"VLOOKUP(C145,Solstice!$C$3:$L$48,7,FALSE)","v":{"$error":"#N/A"}},{"$f":"VLOOKUP(C145,Eccup!$C$3:$L$46,9,FALSE)","v":{"$error":"#N/A"}},null,{"$f":"VLOOKUP(C145,Shakerr!$C$3:$L$46,7,FALSE)","v":{"$error":"#N/A"}},{"$f":"VLOOKUP(C145,VoY!$C$3:$L$46,9,FALSE)","v":{"$error":"#N/A"}},{"$f":"VLOOKUP(C145,Kirkstall!$C$3:$L$46,9,FALSE)","v":{"$error":"#N/A"}},{"$f":"VLOOKUP($C145,City!$C$3:$L$69,9,FALSE)","v":{"$error":"#N/A"}},{"$f":"VLOOKUP(C145,'Guy Fawkes'!$C$3:$N$34,9,FALSE)","v":{"$error":"#N/A"}},{"$f":"VLOOKUP(C145,Abbey!$C$3:$L$48,7,FALSE)","v":0.507377049180328},{"$f":"VLOOKUP(C145,Chevin!$C$3:$L$50,7,FALSE)","v":0.37049884373967623},null,0,0,0,0,0,0,0,0,0,0,0,0,0,0,0,0,0,0,0,8,7,2]
[null,null,"Simon Latimer","1965-03-15",51,{"$f":"IFERROR(VLOOKUP(C146,'Division Lookup'!$A$2:$D$251,4,FALSE),\"Second\")","v":"Second"},{"$f":"VLOOKUP(C146,Dewsbury!$C$3:$L$46,7,FALSE)","v":{"$error":"#N/A"}},{"$f":"VLOOKUP($C146,Bradford!$C$3:$L$66,7,FALSE)","v":{"$error":"#N/A"}},{"$f":"VLOOKUP($C146,Keighley!$C$3:$N$42,9,FALSE)","v":{"$error":"#N/A"}},{"$f":"VLOOKUP($C146,'Bunny '!$C$3:$N$20,9,FALSE)","v":{"$error":"#N/A"}},{"$f":"VLOOKUP($C146,Liverpool!$C$3:$N$59,9,FALSE)","v":{"$error":"#N/A"}},{"$f":"VLOOKUP(C146,'VoY 10m'!$C$3:$N$40,9,FALSE)","v":{"$error":"#N/A"}},{"$f":"VLOOKUP(C146,Guisley!$C$3:$N$49,9,FALSE)","v":{"$error":"#N/A"}},{"$f":"VLOOKUP(C146,Odda!$C$3:$N$42,9,FALSE)","v":{"$error":"#N/A"}},{"$f":"VLOOKUP(C146,'Leeds half'!$C$4:$N$31,9,FALSE)","v":{"$error":"#N/A"}},{"$f":"VLOOKUP(C146,Ilkley!$C$3:$L$46,7,FALSE)","v":{"$error":"#N/A"}},{"$f":"VLOOKUP(C146,Otley!$C$3:$L$46,9,FALSE)","v":{"$error":"#N/A"}},{"$f":"VLOOKUP(C146,Solstice!$C$3:$L$48,7,FALSE)","v":{"$error":"#N/A"}},{"$f":"VLOOKUP(C146,Eccup!$C$3:$L$46,9,FALSE)","v":{"$error":"#N/A"}},null,{"$f":"VLOOKUP(C146,Shakerr!$C$3:$L$46,7,FALSE)","v":{"$error":"#N/A"}},{"$f":"VLOOKUP(C146,VoY!$C$3:$L$46,9,FALSE)","v":{"$error":"#N/A"}},{"$f":"VLOOKUP(C146,Kirkstall!$C$3:$L$46,9,FALSE)","v":{"$error":"#N/A"}},{"$f":"VLOOKUP($C146,City!$C$3:$L$69,9,FALSE)","v":{"$error":"#N/A"}},{"$f":"VLOOKUP(C146,'Guy Fawkes'!$C$3:$N$34,9,FALSE)","v":{"$error":"#N/A"}},{"$f":"VLOOKUP(C146,Abbey!$C$3:$L$48,7,FALSE)","v":{"$error":"#N/A"}},{"$f":"VLOOKUP(C146,Chevin!$C$3:$L$50,7,FALSE)","v":{"$error":"#N/A"}},null,0,0,0,0,0,0,0,0,0,0,0,0,0,0,0,0,0,0,0,0,0,0]
[null,null,"Matthew Lawson","1989-03-01",27,{"$f":"IFERROR(VLOOKUP(C147,'Division Lookup'!$A$2:$D$251,4,FALSE),\"Second\")","v":"Second"},{"$f":"VLOOKUP(C147,Dewsbury!$C$3:$L$46,7,FALSE)","v":{"$error":"#N/A"}},{"$f":"VLOOKUP($C147,Bradford!$C$3:$L$66,7,FALSE)","v":{"$error":"#N/A"}},{"$f":"VLOOKUP($C147,Keighley!$C$3:$N$42,9,FALSE)","v":{"$error":"#N/A"}},{"$f":"VLOOKUP($C147,'Bunny '!$C$3:$N$20,9,FALSE)","v":{"$error":"#N/A"}},{"$f":"VLOOKUP($C147,Liverpool!$C$3:$N$59,9,FALSE)","v":{"$error":"#N/A"}},{"$f":"VLOOKUP(C147,'VoY 10m'!$C$3:$N$40,9,FALSE)","v":{"$error":"#N/A"}},{"$f":"VLOOKUP(C147,Guisley!$C$3:$N$49,9,FALSE)","v":{"$error":"#N/A"}},{"$f":"VLOOKUP(C147,Odda!$C$3:$N$42,9,FALSE)","v":{"$error":"#N/A"}},{"$f":"VLOOKUP(C147,'Leeds half'!$C$4:$N$31,9,FALSE)","v":{"$error":"#N/A"}},{"$f":"VLOOKUP(C147,Ilkley!$C$3:$L$46,7,FALSE)","v":{"$error":"#N/A"}},{"$f":"VLOOKUP(C147,Otley!$C$3:$L$46,9,FALSE)","v":{"$error":"#N/A"}},{"$f":"VLOOKUP(C147,Solstice!$C$3:$L$48,7,FALSE)","v":{"$error":"#N/A"}},{"$f":"VLOOKUP(C147,Eccup!$C$3:$L$46,9,FALSE)","v":{"$error":"#N/A"}},null,{"$f":"VLOOKUP(C147,Shakerr!$C$3:$L$46,7,FALSE)","v":{"$error":"#N/A"}},{"$f":"VLOOKUP(C147,VoY!$C$3:$L$46,9,FALSE)","v":{"$error":"#N/A"}},{"$f":"VLOOKUP(C147,Kirkstall!$C$3:$L$46,9,FALSE)","v":{"$error":"#N/A"}},{"$f":"VLOOKUP($C147,City!$C$3:$L$69,9,FALSE)","v":{"$error":"#N/A"}},{"$f":"VLOOKUP(C147,'Guy Fawkes'!$C$3:$N$34,9,FALSE)","v":{"$error":"#N/A"}},{"$f":"VLOOKUP(C147,Abbey!$C$3:$L$48,7,FALSE)","v":{"$error":"#N/A"}},{"$f":"VLOOKUP(C147,Chevin!$C$3:$L$50,7,FALSE)","v":{"$error":"#N/A"}},null,0,0,0,0,0,0,0,0,0,0,0,0,0,0,0,0,0,0,0,0,0,0]
[null,null,"Tom Lee","1987-10-31",29,{"$f":"IFERROR(VLOOKUP(C148,'Division Lookup'!$A$2:$D$251,4,FALSE),\"Second\")","v":"Second"},{"$f":"VLOOKUP(C148,Dewsbury!$C$3:$L$46,7,FALSE)","v":{"$error":"#N/A"}},{"$f":"VLOOKUP($C148,Bradford!$C$3:$L$66,7,FALSE)","v":{"$error":"#N/A"}},{"$f":"VLOOKUP($C148,Keighley!$C$3:$N$42,9,FALSE)","v":{"$error":"#N/A"}},{"$f":"VLOOKUP($C148,'Bunny '!$C$3:$N$20,9,FALSE)","v":{"$error":"#N/A"}},{"$f":"VLOOKUP($C148,Liverpool!$C$3:$N$59,9,FALSE)","v":{"$error":"#N/A"}},{"$f":"VLOOKUP(C148,'VoY 10m'!$C$3:$N$40,9,FALSE)","v":{"$error":"#N/A"}},{"$f":"VLOOKUP(C148,Guisley!$C$3:$N$49,9,FALSE)","v":{"$error":"#N/A"}},{"$f":"VLOOKUP(C148,Odda!$C$3:$N$42,9,FALSE)","v":{"$error":"#N/A"}},{"$f":"VLOOKUP(C148,'Leeds half'!$C$4:$N$31,9,FALSE)","v":{"$error":"#N/A"}},{"$f":"VLOOKUP(C148,Ilkley!$C$3:$L$46,7,FALSE)","v":{"$error":"#N/A"}},{"$f":"VLOOKUP(C148,Otley!$C$3:$L$46,9,FALSE)","v":{"$error":"#N/A"}},{"$f":"VLOOKUP(C148,Solstice!$C$3:$L$48,7,FALSE)","v":{"$error":"#N/A"}},{"$f":"VLOOKUP(C148,Eccup!$C$3:$L$46,9,FALSE)","v":{"$error":"#N/A"}},null,{"$f":"VLOOKUP(C148,Shakerr!$C$3:$L$46,7,FALSE)","v":{"$error":"#N/A"}},{"$f":"VLOOKUP(C148,VoY!$C$3:$L$46,9,FALSE)","v":{"$error":"#N/A"}},{"$f":"VLOOKUP(C148,Kirkstall!$C$3:$L$46,9,FALSE)","v":{"$error":"#N/A"}},{"$f":"VLOOKUP($C148,City!$C$3:$L$69,9,FALSE)","v":{"$error":"#N/A"}},{"$f":"VLOOKUP(C148,'Guy Fawkes'!$C$3:$N$34,9,FALSE)","v":{"$error":"#N/A"}},{"$f":"VLOOKUP(C148,Abbey!$C$3:$L$48,7,FALSE)","v":0.73139745916515431},{"$f":"VLOOKUP(C148,Chevin!$C$3:$L$50,7,FALSE)","v":0.73483992467043313},null,0,0,0,0,0,0,0,0,0,0,0,0,0,0,0,0,0,0,0,3,1,2]
[null,null,"helen leetham","1986-05-31",30,{"$f":"IFERROR(VLOOKUP(C149,'Division Lookup'!$A$2:$D$251,4,FALSE),\"Second\")","v":"Second"},{"$f":"VLOOKUP(C149,Dewsbury!$C$3:$L$46,7,FALSE)","v":{"$error":"#N/A"}},{"$f":"VLOOKUP($C149,Bradford!$C$3:$L$66,7,FALSE)","v":{"$error":"#N/A"}},{"$f":"VLOOKUP($C149,Keighley!$C$3:$N$42,9,FALSE)","v":{"$error":"#N/A"}},{"$f":"VLOOKUP($C149,'Bunny '!$C$3:$N$20,9,FALSE)","v":{"$error":"#N/A"}},{"$f":"VLOOKUP($C149,Liverpool!$C$3:$N$59,9,FALSE)","v":{"$error":"#N/A"}},{"$f":"VLOOKUP(C149,'VoY 10m'!$C$3:$N$40,9,FALSE)","v":{"$error":"#N/A"}},{"$f":"VLOOKUP(C149,Guisley!$C$3:$N$49,9,FALSE)","v":{"$error":"#N/A"}},{"$f":"VLOOKUP(C149,Odda!$C$3:$N$42,9,FALSE)","v":{"$error":"#N/A"}},{"$f":"VLOOKUP(C149,'Leeds half'!$C$4:$N$31,9,FALSE)","v":{"$error":"#N/A"}},{"$f":"VLOOKUP(C149,Ilkley!$C$3:$L$46,7,FALSE)","v":{"$error":"#N/A"}},{"$f":"VLOOKUP(C149,Otley!$C$3:$L$46,9,FALSE)","v":{"$error":"#N/A"}},{"$f":"VLOOKUP(C149,Solstice!$C$3:$L$48,7,FALSE)","v":{"$error":"#N/A"}},{"$f":"VLOOKUP(C149,Eccup!$C$3:$L$46,9,FALSE)","v":{"$error":"#N/A"}},null,{"$f":"VLOOKUP(C149,Shakerr!$C$3:$L$46,7,FALSE)","v":{"$error":"#N/A"}},{"$f":"VLOOKUP(C149,VoY!$C$3:$L$46,9,FALSE)","v":{"$error":"#N/A"}},{"$f":"VLOOKUP(C149,Kirkstall!$C$3:$L$46,9,FALSE)","v":{"$error":"#N/A"}},{"$f":"VLOOKUP($C149,City!$C$3:$L$69,9,FALSE)","v":{"$error":"#N/A"}},{"$f":"VLOOKUP(C149,'Guy Fawkes'!$C$3:$N$34,9,FALSE)","v":{"$error":"#N/A"}},{"$f":"VLOOKUP(C149,Abbey!$C$3:$L$48,7,FALSE)","v":{"$error":"#N/A"}},{"$f":"VLOOKUP(C149,Chevin!$C$3:$L$50,7,FALSE)","v":{"$error":"#N/A"}},null,0,0,0,0,0,0,0,0,0,0,0,0,0,0,0,0,0,0,0,0,0,0]
[null,null,"Barney Lerner","1950-01-16",66,{"$f":"IFERROR(VLOOKUP(C150,'Division Lookup'!$A$2:$D$251,4,FALSE),\"Second\")","v":"Premier"},{"$f":"VLOOKUP(C150,Dewsbury!$C$3:$L$46,7,FALSE)","v":0.70185922974767601},{"$f":"VLOOKUP($C150,Bradford!$C$3:$L$66,7,FALSE)","v":{"$error":"#N/A"}},{"$f":"VLOOKUP($C150,Keighley!$C$3:$N$42,9,FALSE)","v":{"$error":"#N/A"}},{"$f":"VLOOKUP($C150,'Bunny '!$C$3:$N$20,9,FALSE)","v":{"$error":"#N/A"}},{"$f":"VLOOKUP($C150,Liverpool!$C$3:$N$59,9,FALSE)","v":0.7016591251885369},{"$f":"VLOOKUP(C150,'VoY 10m'!$C$3:$N$40,9,FALSE)","v":{"$error":"#N/A"}},{"$f":"VLOOKUP(C150,Guisley!$C$3:$N$49,9,FALSE)","v":{"$error":"#N/A"}},{"$f":"VLOOKUP(C150,Odda!$C$3:$N$42,9,FALSE)","v":{"$error":"#N/A"}},{"$f":"VLOOKUP(C150,'Leeds half'!$C$4:$N$31,9,FALSE)","v":{"$error":"#N/A"}},{"$f":"VLOOKUP(C150,Ilkley!$C$3:$L$46,7,FALSE)","v":{"$error":"#N/A"}},{"$f":"VLOOKUP(C150,Otley!$C$3:$L$46,9,FALSE)","v":0.68117073170731701},{"$f":"VLOOKUP(C150,Solstice!$C$3:$L$48,7,FALSE)","v":0.65650644783118406},{"$f":"VLOOKUP(C150,Eccup!$C$3:$L$46,9,FALSE)","v":{"$error":"#N/A"}},null,{"$f":"VLOOKUP(C150,Shakerr!$C$3:$L$46,7,FALSE)","v":0.51826428046089723},{"$f":"VLOOKUP(C150,VoY!$C$3:$L$46,9,FALSE)","v":{"$error":"#N/A"}},{"$f":"VLOOKUP(C150,Kirkstall!$C$3:$L$46,9,FALSE)","v":{"$error":"#N/A"}},{"$f":"VLOOKUP($C150,City!$C$3:$L$69,9,FALSE)","v":{"$error":"#N/A"}},{"$f":"VLOOKUP(C150,'Guy Fawkes'!$C$3:$N$34,9,FALSE)","v":0.66967197391137534},{"$f":"VLOOKUP(C150,Abbey!$C$3:$L$48,7,FALSE)","v":{"$error":"#N/A"}},{"$f":"VLOOKUP(C150,Chevin!$C$3:$L$50,7,FALSE)","v":{"$error":"#N/A"}},null,5,0,0,0,6,0,0,0,0,0,4,4,0,0,4,0,0,0,2,0,0,6]
[null,null,"sandie lewis","1964-09-01",52,{"$f":"IFERROR(VLOOKUP(C151,'Division Lookup'!$A$2:$D$251,4,FALSE),\"Second\")","v":"Second"},{"$f":"VLOOKUP(C151,Dewsbury!$C$3:$L$46,7,FALSE)","v":{"$error":"#N/A"}},{"$f":"VLOOKUP($C151,Bradford!$C$3:$L$66,7,FALSE)","v":{"$error":"#N/A"}},{"$f":"VLOOKUP($C151,Keighley!$C$3:$N$42,9,FALSE)","v":{"$error":"#N/A"}},{"$f":"VLOOKUP($C151,'Bunny '!$C$3:$N$20,9,FALSE)","v":{"$error":"#N/A"}},{"$f":"VLOOKUP($C151,Liverpool!$C$3:$N$59,9,FALSE)","v":{"$error":"#N/A"}},{"$f":"VLOOKUP(C151,'VoY 10m'!$C$3:$N$40,9,FALSE)","v":{"$error":"#N/A"}},{"$f":"VLOOKUP(C151,Guisley!$C$3:$N$49,9,FALSE)","v":{"$error":"#N/A"}},{"$f":"VLOOKUP(C151,Odda!$C$3:$N$42,9,FALSE)","v":{"$error":"#N/A"}},{"$f":"VLOOKUP(C151,'Leeds half'!$C$4:$N$31,9,FALSE)","v":{"$error":"#N/A"}},{"$f":"VLOOKUP(C151,Ilkley!$C$3:$L$46,7,FALSE)","v":{"$error":"#N/A"}},{"$f":"VLOOKUP(C151,Otley!$C$3:$L$46,9,FALSE)","v":{"$error":"#N/A"}},{"$f":"VLOOKUP(C151,Solstice!$C$3:$L$48,7,FALSE)","v":{"$error":"#N/A"}},{"$f":"VLOOKUP(C151,Eccup!$C$3:$L$46,9,FALSE)","v":{"$error":"#N/A"}},null,{"$f":"VLOOKUP(C151,Shakerr!$C$3:$L$46,7,FALSE)","v":{"$error":"#N/A"}},{"$f":"VLOOKUP(C151,VoY!$C$3:$L$46,9,FALSE)","v":{"$error":"#N/A"}},{"$f":"VLOOKUP(C151,Kirkstall!$C$3:$L$46,9,FALSE)","v":{"$error":"#N/A"}},{"$f":"VLOOKUP($C151,City!$C$3:$L$69,9,FALSE)","v":{"$error":"#N/A"}},{"$f":"VLOOKUP(C151,'Guy Fawkes'!$C$3:$N$34,9,FALSE)","v":{"$error":"#N/A"}},{"$f":"VLOOKUP(C151,Abbey!$C$3:$L$48,7,FALSE)","v":{"$error":"#N/A"}},{"$f":"VLOOKUP(C151,Chevin!$C$3:$L$50,7,FALSE)","v":{"$error":"#N/A"}},null,0,0,0,0,0,0,0,0,0,0,0,0,0,0,0,0,0,0,0,0,0,0]
[null,null,"Donna Line","1975-09-05",41,{"$f":"IFERROR(VLOOKUP(C152,'Division Lookup'!$A$2:$D$251,4,FALSE),\"Second\")","v":"Second"},{"$f":"VLOOKUP(C152,Dewsbury!$C$3:$L$46,7,FALSE)","v":{"$error":"#N/A"}},{"$f":"VLOOKUP($C152,Bradford!$C$3:$L$66,7,FALSE)","v":{"$error":"#N/A"}},{"$f":"VLOOKUP($C152,Keighley!$C$3:$N$42,9,FALSE)","v":{"$error":"#N/A"}},{"$f":"VLOOKUP($C152,'Bunny '!$C$3:$N$20,9,FALSE)","v":{"$error":"#N/A"}},{"$f":"VLOOKUP($C152,Liverpool!$C$3:$N$59,9,FALSE)","v":{"$error":"#N/A"}},{"$f":"VLOOKUP(C152,'VoY 10m'!$C$3:$N$40,9,FALSE)","v":{"$error":"#N/A"}},{"$f":"VLOOKUP(C152,Guisley!$C$3:$N$49,9,FALSE)","v":{"$error":"#N/A"}},{"$f":"VLOOKUP(C152,Odda!$C$3:$N$42,9,FALSE)","v":{"$error":"#N/A"}},{"$f":"VLOOKUP(C152,'Leeds half'!$C$4:$N$31,9,FALSE)","v":{"$error":"#N/A"}},{"$f":"VLOOKUP(C152,Ilkley!$C$3:$L$46,7,FALSE)","v":{"$error":"#N/A"}},{"$f":"VLOOKUP(C152,Otley!$C$3:$L$46,9,FALSE)","v":{"$error":"#N/A"}},{"$f":"VLOOKUP(C152,Solstice!$C$3:$L$48,7,FALSE)","v":{"$error":"#N/A"}},{"$f":"VLOOKUP(C152,Eccup!$C$3:$L$46,9,FALSE)","v":{"$error":"#N/A"}},null,{"$f":"VLOOKUP(C152,Shakerr!$C$3:$L$46,7,FALSE)","v":{"$error":"#N/A"}},{"$f":"VLOOKUP(C152,VoY!$C$3:$L$46,9,FALSE)","v":{"$error":"#N/A"}},{"$f":"VLOOKUP(C152,Kirkstall!$C$3:$L$46,9,FALSE)","v":{"$error":"#N/A"}},{"$f":"VLOOKUP($C152,City!$C$3:$L$69,9,FALSE)","v":{"$error":"#N/A"}},{"$f":"VLOOKUP(C152,'Guy Fawkes'!$C$3:$N$34,9,FALSE)","v":{"$error":"#N/A"}},{"$f":"VLOOKUP(C152,Abbey!$C$3:$L$48,7,FALSE)","v":{"$error":"#N/A"}},{"$f":"VLOOKUP(C152,Chevin!$C$3:$L$50,7,FALSE)","v":{"$error":"#N/A"}},null,0,0,0,0,0,0,0,0,0,0,0,0,0,0,0,0,0,0,0,0,0,0]
[null,null,"Darren Longhorn","1966-10-18",50,{"$f":"IFERROR(VLOOKUP(C153,'Division Lookup'!$A$2:$D$251,4,FALSE),\"Second\")","v":"Premier"},{"$f":"VLOOKUP(C153,Dewsbury!$C$3:$L$46,7,FALSE)","v":{"$error":"#N/A"}},{"$f":"VLOOKUP($C153,Bradford!$C$3:$L$66,7,FALSE)","v":{"$error":"#N/A"}},{"$f":"VLOOKUP($C153,Keighley!$C$3:$N$42,9,FALSE)","v":{"$error":"#N/A"}},{"$f":"VLOOKUP($C153,'Bunny '!$C$3:$N$20,9,FALSE)","v":{"$error":"#N/A"}},{"$f":"VLOOKUP($C153,Liverpool!$C$3:$N$59,9,FALSE)","v":{"$error":"#N/A"}},{"$f":"VLOOKUP(C153,'VoY 10m'!$C$3:$N$40,9,FALSE)","v":{"$error":"#N/A"}},{"$f":"VLOOKUP(C153,Guisley!$C$3:$N$49,9,FALSE)","v":{"$error":"#N/A"}},{"$f":"VLOOKUP(C153,Odda!$C$3:$N$42,9,FALSE)","v":0.5210749646393209},{"$f":"VLOOKUP(C153,'Leeds half'!$C$4:$N$31,9,FALSE)","v":{"$error":"#N/A"}},{"$f":"VLOOKUP(C153,Ilkley!$C$3:$L$46,7,FALSE)","v":{"$error":"#N/A"}},{"$f":"VLOOKUP(C153,Otley!$C$3:$L$46,9,FALSE)","v":{"$error":"#N/A"}},{"$f":"VLOOKUP(C153,Solstice!$C$3:$L$48,7,FALSE)","v":{"$error":"#N/A"}},{"$f":"VLOOKUP(C153,Eccup!$C$3:$L$46,9,FALSE)","v":{"$error":"#N/A"}},null,{"$f":"VLOOKUP(C153,Shakerr!$C$3:$L$46,7,FALSE)","v":{"$error":"#N/A"}},{"$f":"VLOOKUP(C153,VoY!$C$3:$L$46,9,FALSE)","v":{"$error":"#N/A"}},{"$f":"VLOOKUP(C153,Kirkstall!$C$3:$L$46,9,FALSE)","v":{"$error":"#N/A"}},{"$f":"VLOOKUP($C153,City!$C$3:$L$69,9,FALSE)","v":{"$error":"#N/A"}},{"$f":"VLOOKUP(C153,'Guy Fawkes'!$C$3:$N$34,9,FALSE)","v":{"$error":"#N/A"}},{"$f":"VLOOKUP(C153,Abbey!$C$3:$L$48,7,FALSE)","v":0.57670632435817148},{"$f":"VLOOKUP(C153,Chevin!$C$3:$L$50,7,FALSE)","v":{"$error":"#N/A"}},null,0,0,0,0,0,0,0,6,0,0,0,0,0,0,0,0,0,0,0,5,0,2]
[null,null,"Helen Love","1957-09-15",59,{"$f":"IFERROR(VLOOKUP(C154,'Division Lookup'!$A$2:$D$251,4,FALSE),\"Second\")","v":"Premier"},{"$f":"VLOOKUP(C154,Dewsbury!$C$3:$L$46,7,FALSE)","v":0.78397565922920898},{"$f":"VLOOKUP($C154,Bradford!$C$3:$L$66,7,FALSE)","v":0.78054527095254123},{"$f":"VLOOKUP($C154,Keighley!$C$3:$N$42,9,FALSE)","v":0.76282894736842111},{"$f":"VLOOKUP($C154,'Bunny '!$C$3:$N$20,9,FALSE)","v":0.65737514518002327},{"$f":"VLOOKUP($C154,Liverpool!$C$3:$N$59,9,FALSE)","v":0.78558052434456938},{"$f":"VLOOKUP(C154,'VoY 10m'!$C$3:$N$40,9,FALSE)","v":{"$error":"#N/A"}},{"$f":"VLOOKUP(C154,Guisley!$C$3:$N$49,9,FALSE)","v":0.58411764705882352},{"$f":"VLOOKUP(C154,Odda!$C$3:$N$42,9,FALSE)","v":0.63937138130686511},{"$f":"VLOOKUP(C154,'Leeds half'!$C$4:$N$31,9,FALSE)","v":{"$error":"#N/A"}},{"$f":"VLOOKUP(C154,Ilkley!$C$3:$L$46,7,FALSE)","v":{"$error":"#N/A"}},{"$f":"VLOOKUP(C154,Otley!$C$3:$L$46,9,FALSE)","v":0.64842355740630575},{"$f":"VLOOKUP(C154,Solstice!$C$3:$L$48,7,FALSE)","v":{"$error":"#N/A"}},{"$f":"VLOOKUP(C154,Eccup!$C$3:$L$46,9,FALSE)","v":0.65861027190332322},null,{"$f":"VLOOKUP(C154,Shakerr!$C$3:$L$46,7,FALSE)","v":0.56068665377176019},{"$f":"VLOOKUP(C154,VoY!$C$3:$L$46,9,FALSE)","v":{"$error":"#N/A"}},{"$f":"VLOOKUP(C154,Kirkstall!$C$3:$L$46,9,FALSE)","v":{"$error":"#N/A"}},{"$f":"VLOOKUP($C154,City!$C$3:$L$69,9,FALSE)","v":0.74042145593869735},{"$f":"VLOOKUP(C154,'Guy Fawkes'!$C$3:$N$34,9,FALSE)","v":0.61884935654806961},{"$f":"VLOOKUP(C154,Abbey!$C$3:$L$48,7,FALSE)","v":{"$error":"#N/A"}},{"$f":"VLOOKUP(C154,Chevin!$C$3:$L$50,7,FALSE)","v":{"$error":"#N/A"}},null,2,2,2,4,3,0,4,2,0,0,6,0,2,0,3,0,0,4,7,0,0,12]
[null,null,"Martin Love","1961-12-14",55,{"$f":"IFERROR(VLOOKUP(C155,'Division Lookup'!$A$2:$D$251,4,FALSE),\"Second\")","v":"Premier"},{"$f":"VLOOKUP(C155,Dewsbury!$C$3:$L$46,7,FALSE)","v":{"$error":"#N/A"}},{"$f":"VLOOKUP($C155,Bradford!$C$3:$L$66,7,FALSE)","v":{"$error":"#N/A"}},{"$f":"VLOOKUP($C155,Keighley!$C$3:$N$42,9,FALSE)","v":{"$error":"#N/A"}},{"$f":"VLOOKUP($C155,'Bunny '!$C$3:$N$20,9,FALSE)","v":{"$error":"#N/A"}},{"$f":"VLOOKUP($C155,Liverpool!$C$3:$N$59,9,FALSE)","v":{"$error":"#N/A"}},{"$f":"VLOOKUP(C155,'VoY 10m'!$C$3:$N$40,9,FALSE)","v":{"$error":"#N/A"}},{"$f":"VLOOKUP(C155,Guisley!$C$3:$N$49,9,FALSE)","v":0.61605136436597119},{"$f":"VLOOKUP(C155,Odda!$C$3:$N$42,9,FALSE)","v":0.58310543907626866},{"$f":"VLOOKUP(C155,'Leeds half'!$C$4:$N$31,9,FALSE)","v":{"$error":"#N/A"}},{"$f":"VLOOKUP(C155,Ilkley!$C$3:$L$46,7,FALSE)","v":0.54579067121729241},{"$f":"VLOOKUP(C155,Otley!$C$3:$L$46,9,FALSE)","v":0.62780982693455345},{"$f":"VLOOKUP(C155,Solstice!$C$3:$L$48,7,FALSE)","v":{"$error":"#N/A"}},{"$f":"VLOOKUP(C155,Eccup!$C$3:$L$46,9,FALSE)","v":{"$error":"#N/A"}},null,{"$f":"VLOOKUP(C155,Shakerr!$C$3:$L$46,7,FALSE)","v":{"$error":"#N/A"}},{"$f":"VLOOKUP(C155,VoY!$C$3:$L$46,9,FALSE)","v":{"$error":"#N/A"}},{"$f":"VLOOKUP(C155,Kirkstall!$C$3:$L$46,9,FALSE)","v":{"$error":"#N/A"}},{"$f":"VLOOKUP($C155,City!$C$3:$L$69,9,FALSE)","v":0.69959897921983238},{"$f":"VLOOKUP(C155,'Guy Fawkes'!$C$3:$N$34,9,FALSE)","v":0.66316453036352174},{"$f":"VLOOKUP(C155,Abbey!$C$3:$L$48,7,FALSE)","v":{"$error":"#N/A"}},{"$f":"VLOOKUP(C155,Chevin!$C$3:$L$50,7,FALSE)","v":{"$error":"#N/A"}},null,0,0,0,0,0,0,3,4,0,2,7,0,0,0,0,0,0,6,3,0,0,6]
[null,null,"Ben Marchant","1985-05-06",31,{"$f":"IFERROR(VLOOKUP(C156,'Division Lookup'!$A$2:$D$251,4,FALSE),\"Second\")","v":"Premier"},{"$f":"VLOOKUP(C156,Dewsbury!$C$3:$L$46,7,FALSE)","v":{"$error":"#N/A"}},{"$f":"VLOOKUP($C156,Bradford!$C$3:$L$66,7,FALSE)","v":{"$error":"#N/A"}},{"$f":"VLOOKUP($C156,Keighley!$C$3:$N$42,9,FALSE)","v":{"$error":"#N/A"}},{"$f":"VLOOKUP($C156,'Bunny '!$C$3:$N$20,9,FALSE)","v":{"$error":"#N/A"}},{"$f":"VLOOKUP($C156,Liverpool!$C$3:$N$59,9,FALSE)","v":{"$error":"#N/A"}},{"$f":"VLOOKUP(C156,'VoY 10m'!$C$3:$N$40,9,FALSE)","v":{"$error":"#N/A"}},{"$f":"VLOOKUP(C156,Guisley!$C$3:$N$49,9,FALSE)","v":{"$error":"#N/A"}},{"$f":"VLOOKUP(C156,Odda!$C$3:$N$42,9,FALSE)","v":{"$error":"#N/A"}},{"$f":"VLOOKUP(C156,'Leeds half'!$C$4:$N$31,9,FALSE)","v":{"$error":"#N/A"}},{"$f":"VLOOKUP(C156,Ilkley!$C$3:$L$46,7,FALSE)","v":{"$error":"#N/A"}},{"$f":"VLOOKUP(C156,Otley!$C$3:$L$46,9,FALSE)","v":{"$error":"#N/A"}},{"$f":"VLOOKUP(C156,Solstice!$C$3:$L$48,7,FALSE)","v":{"$error":"#N/A"}},{"$f":"VLOOKUP(C156,Eccup!$C$3:$L$46,9,FALSE)","v":{"$error":"#N/A"}},null,{"$f":"VLOOKUP(C156,Shakerr!$C$3:$L$46,7,FALSE)","v":{"$error":"#N/A"}},{"$f":"VLOOKUP(C156,VoY!$C$3:$L$46,9,FALSE)","v":{"$error":"#N/A"}},{"$f":"VLOOKUP(C156,Kirkstall!$C$3:$L$46,9,FALSE)","v":{"$error":"#N/A"}},{"$f":"VLOOKUP($C156,City!$C$3:$L$69,9,FALSE)","v":{"$error":"#N/A"}},{"$f":"VLOOKUP(C156,'Guy Fawkes'!$C$3:$N$34,9,FALSE)","v":0.57201116119338913},{"$f":"VLOOKUP(C156,Abbey!$C$3:$L$48,7,FALSE)","v":{"$error":"#N/A"}},{"$f":"VLOOKUP(C156,Chevin!$C$3:$L$50,7,FALSE)","v":{"$error":"#N/A"}},null,0,0,0,0,0,0,0,0,0,0,0,0,0,0,0,0,0,0,10,0,0,1]
[null,null,"Laura Marchant","1985-08-08",31,{"$f":"IFERROR(VLOOKUP(C157,'Division Lookup'!$A$2:$D$251,4,FALSE),\"Second\")","v":"Second"},{"$f":"VLOOKUP(C157,Dewsbury!$C$3:$L$46,7,FALSE)","v":{"$error":"#N/A"}},{"$f":"VLOOKUP($C157,Bradford!$C$3:$L$66,7,FALSE)","v":{"$error":"#N/A"}},{"$f":"VLOOKUP($C157,Keighley!$C$3:$N$42,9,FALSE)","v":{"$error":"#N/A"}},{"$f":"VLOOKUP($C157,'Bunny '!$C$3:$N$20,9,FALSE)","v":{"$error":"#N/A"}},{"$f":"VLOOKUP($C157,Liverpool!$C$3:$N$59,9,FALSE)","v":{"$error":"#N/A"}},{"$f":"VLOOKUP(C157,'VoY 10m'!$C$3:$N$40,9,FALSE)","v":{"$error":"#N/A"}},{"$f":"VLOOKUP(C157,Guisley!$C$3:$N$49,9,FALSE)","v":{"$error":"#N/A"}},{"$f":"VLOOKUP(C157,Odda!$C$3:$N$42,9,FALSE)","v":{"$error":"#N/A"}},{"$f":"VLOOKUP(C157,'Leeds half'!$C$4:$N$31,9,FALSE)","v":{"$error":"#N/A"}},{"$f":"VLOOKUP(C157,Ilkley!$C$3:$L$46,7,FALSE)","v":{"$error":"#N/A"}},{"$f":"VLOOKUP(C157,Otley!$C$3:$L$46,9,FALSE)","v":{"$error":"#N/A"}},{"$f":"VLOOKUP(C157,Solstice!$C$3:$L$48,7,FALSE)","v":{"$error":"#N/A"}},{"$f":"VLOOKUP(C157,Eccup!$C$3:$L$46,9,FALSE)","v":{"$error":"#N/A"}},null,{"$f":"VLOOKUP(C157,Shakerr!$C$3:$L$46,7,FALSE)","v":{"$error":"#N/A"}},{"$f":"VLOOKUP(C157,VoY!$C$3:$L$46,9,FALSE)","v":{"$error":"#N/A"}},{"$f":"VLOOKUP(C157,Kirkstall!$C$3:$L$46,9,FALSE)","v":{"$error":"#N/A"}},{"$f":"VLOOKUP($C157,City!$C$3:$L$69,9,FALSE)","v":{"$error":"#N/A"}},{"$f":"VLOOKUP(C157,'Guy Fawkes'!$C$3:$N$34,9,FALSE)","v":0.51868431296224216},{"$f":"VLOOKUP(C157,Abbey!$C$3:$L$48,7,FALSE)","v":{"$error":"#N/A"}},{"$f":"VLOOKUP(C157,Chevin!$C$3:$L$50,7,FALSE)","v":{"$error":"#N/A"}},null,0,0,0,0,0,0,0,0,0,0,0,0,0,0,0,0,0,0,2,0,0,1]
[null,null,"Charlotte Martin 1","1991-03-01",25,{"$f":"IFERROR(VLOOKUP(C158,'Division Lookup'!$A$2:$D$251,4,FALSE),\"Second\")","v":"Second"},{"$f":"VLOOKUP(C158,Dewsbury!$C$3:$L$46,7,FALSE)","v":{"$error":"#N/A"}},{"$f":"VLOOKUP($C158,Bradford!$C$3:$L$66,7,FALSE)","v":{"$error":"#N/A"}},{"$f":"VLOOKUP($C158,Keighley!$C$3:$N$42,9,FALSE)","v":{"$error":"#N/A"}},{"$f":"VLOOKUP($C158,'Bunny '!$C$3:$N$20,9,FALSE)","v":{"$error":"#N/A"}},{"$f":"VLOOKUP($C158,Liverpool!$C$3:$N$59,9,FALSE)","v":{"$error":"#N/A"}},{"$f":"VLOOKUP(C158,'VoY 10m'!$C$3:$N$40,9,FALSE)","v":{"$error":"#N/A"}},{"$f":"VLOOKUP(C158,Guisley!$C$3:$N$49,9,FALSE)","v":{"$error":"#N/A"}},{"$f":"VLOOKUP(C158,Odda!$C$3:$N$42,9,FALSE)","v":{"$error":"#N/A"}},{"$f":"VLOOKUP(C158,'Leeds half'!$C$4:$N$31,9,FALSE)","v":{"$error":"#N/A"}},{"$f":"VLOOKUP(C158,Ilkley!$C$3:$L$46,7,FALSE)","v":{"$error":"#N/A"}},{"$f":"VLOOKUP(C158,Otley!$C$3:$L$46,9,FALSE)","v":{"$error":"#N/A"}},{"$f":"VLOOKUP(C158,Solstice!$C$3:$L$48,7,FALSE)","v":{"$error":"#N/A"}},{"$f":"VLOOKUP(C158,Eccup!$C$3:$L$46,9,FALSE)","v":{"$error":"#N/A"}},null,{"$f":"VLOOKUP(C158,Shakerr!$C$3:$L$46,7,FALSE)","v":{"$error":"#N/A"}},{"$f":"VLOOKUP(C158,VoY!$C$3:$L$46,9,FALSE)","v":{"$error":"#N/A"}},{"$f":"VLOOKUP(C158,Kirkstall!$C$3:$L$46,9,FALSE)","v":{"$error":"#N/A"}},{"$f":"VLOOKUP($C158,City!$C$3:$L$69,9,FALSE)","v":{"$error":"#N/A"}},{"$f":"VLOOKUP(C158,'Guy Fawkes'!$C$3:$N$34,9,FALSE)","v":{"$error":"#N/A"}},{"$f":"VLOOKUP(C158,Abbey!$C$3:$L$48,7,FALSE)","v":{"$error":"#N/A"}},{"$f":"VLOOKUP(C158,Chevin!$C$3:$L$50,7,FALSE)","v":{"$error":"#N/A"}},null,0,0,0,0,0,0,0,0,0,0,0,0,0,0,0,0,0,0,0,0,0,0]
[null,null,"charlotte martin","1978-05-20",38,{"$f":"IFERROR(VLOOKUP(C159,'Division Lookup'!$A$2:$D$251,4,FALSE),\"Second\")","v":"Second"},{"$f":"VLOOKUP(C159,Dewsbury!$C$3:$L$46,7,FALSE)","v":{"$error":"#N/A"}},{"$f":"VLOOKUP($C159,Bradford!$C$3:$L$66,7,FALSE)","v":{"$error":"#N/A"}},{"$f":"VLOOKUP($C159,Keighley!$C$3:$N$42,9,FALSE)","v":{"$error":"#N/A"}},{"$f":"VLOOKUP($C159,'Bunny '!$C$3:$N$20,9,FALSE)","v":{"$error":"#N/A"}},{"$f":"VLOOKUP($C159,Liverpool!$C$3:$N$59,9,FALSE)","v":{"$error":"#N/A"}},{"$f":"VLOOKUP(C159,'VoY 10m'!$C$3:$N$40,9,FALSE)","v":{"$error":"#N/A"}},{"$f":"VLOOKUP(C159,Guisley!$C$3:$N$49,9,FALSE)","v":{"$error":"#N/A"}},{"$f":"VLOOKUP(C159,Odda!$C$3:$N$42,9,FALSE)","v":{"$error":"#N/A"}},{"$f":"VLOOKUP(C159,'Leeds half'!$C$4:$N$31,9,FALSE)","v":{"$error":"#N/A"}},{"$f":"VLOOKUP(C159,Ilkley!$C$3:$L$46,7,FALSE)","v":{"$error":"#N/A"}},{"$f":"VLOOKUP(C159,Otley!$C$3:$L$46,9,FALSE)","v":{"$error":"#N/A"}},{"$f":"VLOOKUP(C159,Solstice!$C$3:$L$48,7,FALSE)","v":{"$error":"#N/A"}},{"$f":"VLOOKUP(C159,Eccup!$C$3:$L$46,9,FALSE)","v":{"$error":"#N/A"}},null,{"$f":"VLOOKUP(C159,Shakerr!$C$3:$L$46,7,FALSE)","v":{"$error":"#N/A"}},{"$f":"VLOOKUP(C159,VoY!$C$3:$L$46,9,FALSE)","v":{"$error":"#N/A"}},{"$f":"VLOOKUP(C159,Kirkstall!$C$3:$L$46,9,FALSE)","v":{"$error":"#N/A"}},{"$f":"VLOOKUP($C159,City!$C$3:$L$69,9,FALSE)","v":0.44212027573092466},{"$f":"VLOOKUP(C159,'Guy Fawkes'!$C$3:$N$34,9,FALSE)","v":{"$error":"#N/A"}},{"$f":"VLOOKUP(C159,Abbey!$C$3:$L$48,7,FALSE)","v":0.50403540744597763},{"$f":"VLOOKUP(C159,Chevin!$C$3:$L$50,7,FALSE)","v":{"$error":"#N/A"}},null,0,0,0,0,0,0,0,0,0,0,0,0,0,0,0,0,0,12,0,19,0,2]
[null,null,"Tina Martiny","1965-07-06",51,{"$f":"IFERROR(VLOOKUP(C160,'Division Lookup'!$A$2:$D$251,4,FALSE),\"Second\")","v":"Second"},{"$f":"VLOOKUP(C160,Dewsbury!$C$3:$L$46,7,FALSE)","v":{"$error":"#N/A"}},{"$f":"VLOOKUP($C160,Bradford!$C$3:$L$66,7,FALSE)","v":{"$error":"#N/A"}},{"$f":"VLOOKUP($C160,Keighley!$C$3:$N$42,9,FALSE)","v":{"$error":"#N/A"}},{"$f":"VLOOKUP($C160,'Bunny '!$C$3:$N$20,9,FALSE)","v":{"$error":"#N/A"}},{"$f":"VLOOKUP($C160,Liverpool!$C$3:$N$59,9,FALSE)","v":{"$error":"#N/A"}},{"$f":"VLOOKUP(C160,'VoY 10m'!$C$3:$N$40,9,FALSE)","v":{"$error":"#N/A"}},{"$f":"VLOOKUP(C160,Guisley!$C$3:$N$49,9,FALSE)","v":{"$error":"#N/A"}},{"$f":"VLOOKUP(C160,Odda!$C$3:$N$42,9,FALSE)","v":{"$error":"#N/A"}},{"$f":"VLOOKUP(C160,'Leeds half'!$C$4:$N$31,9,FALSE)","v":{"$error":"#N/A"}},{"$f":"VLOOKUP(C160,Ilkley!$C$3:$L$46,7,FALSE)","v":{"$error":"#N/A"}},{"$f":"VLOOKUP(C160,Otley!$C$3:$L$46,9,FALSE)","v":{"$error":"#N/A"}},{"$f":"VLOOKUP(C160,Solstice!$C$3:$L$48,7,FALSE)","v":{"$error":"#N/A"}},{"$f":"VLOOKUP(C160,Eccup!$C$3:$L$46,9,FALSE)","v":{"$error":"#N/A"}},null,{"$f":"VLOOKUP(C160,Shakerr!$C$3:$L$46,7,FALSE)","v":{"$error":"#N/A"}},{"$f":"VLOOKUP(C160,VoY!$C$3:$L$46,9,FALSE)","v":{"$error":"#N/A"}},{"$f":"VLOOKUP(C160,Kirkstall!$C$3:$L$46,9,FALSE)","v":{"$error":"#N/A"}},{"$f":"VLOOKUP($C160,City!$C$3:$L$69,9,FALSE)","v":{"$error":"#N/A"}},{"$f":"VLOOKUP(C160,'Guy Fawkes'!$C$3:$N$34,9,FALSE)","v":{"$error":"#N/A"}},{"$f":"VLOOKUP(C160,Abbey!$C$3:$L$48,7,FALSE)","v":{"$error":"#N/A"}},{"$f":"VLOOKUP(C160,Chevin!$C$3:$L$50,7,FALSE)","v":{"$error":"#N/A"}},null,0,0,0,0,0,0,0,0,0,0,0,0,0,0,0,0,0,0,0,0,0,0]
[null,null,"Frank Masley","1951-04-07",65,{"$f":"IFERROR(VLOOKUP(C161,'Division Lookup'!$A$2:$D$251,4,FALSE),\"Second\")","v":"Premier"},{"$f":"VLOOKUP(C161,Dewsbury!$C$3:$L$46,7,FALSE)","v":{"$error":"#N/A"}},{"$f":"VLOOKUP($C161,Bradford!$C$3:$L$66,7,FALSE)","v":{"$error":"#N/A"}},{"$f":"VLOOKUP($C161,Keighley!$C$3:$N$42,9,FALSE)","v":0.58437935843793576},{"$f":"VLOOKUP($C161,'Bunny '!$C$3:$N$20,9,FALSE)","v":{"$error":"#N/A"}},{"$f":"VLOOKUP($C161,Liverpool!$C$3:$N$59,9,FALSE)","v":{"$error":"#N/A"}},{"$f":"VLOOKUP(C161,'VoY 10m'!$C$3:$N$40,9,FALSE)","v":{"$error":"#N/A"}},{"$f":"VLOOKUP(C161,Guisley!$C$3:$N$49,9,FALSE)","v":{"$error":"#N/A"}},{"$f":"VLOOKUP(C161,Odda!$C$3:$N$42,9,FALSE)","v":{"$error":"#N/A"}},{"$f":"VLOOKUP(C161,'Leeds half'!$C$4:$N$31,9,FALSE)","v":{"$error":"#N/A"}},{"$f":"VLOOKUP(C161,Ilkley!$C$3:$L$46,7,FALSE)","v":{"$error":"#N/A"}},{"$f":"VLOOKUP(C161,Otley!$C$3:$L$46,9,FALSE)","v":{"$error":"#N/A"}},{"$f":"VLOOKUP(C161,Solstice!$C$3:$L$48,7,FALSE)","v":{"$error":"#N/A"}},{"$f":"VLOOKUP(C161,Eccup!$C$3:$L$46,9,FALSE)","v":{"$error":"#N/A"}},null,{"$f":"VLOOKUP(C161,Shakerr!$C$3:$L$46,7,FALSE)","v":{"$error":"#N/A"}},{"$f":"VLOOKUP(C161,VoY!$C$3:$L$46,9,FALSE)","v":0.63977225385363146},{"$f":"VLOOKUP(C161,Kirkstall!$C$3:$L$46,9,FALSE)","v":0.66736842105263161},{"$f":"VLOOKUP($C161,City!$C$3:$L$69,9,FALSE)","v":0.63639125151883358},{"$f":"VLOOKUP(C161,'Guy Fawkes'!$C$3:$N$34,9,FALSE)","v":{"$error":"#N/A"}},{"$f":"VLOOKUP(C161,Abbey!$C$3:$L$48,7,FALSE)","v":{"$error":"#N/A"}},{"$f":"VLOOKUP(C161,Chevin!$C$3:$L$50,7,FALSE)","v":{"$error":"#N/A"}},null,0,0,9,0,0,0,0,0,0,0,0,0,0,0,0,5,3,10,0,0,0,4]
[null,null,"Anne Mason","1976-12-27",40,{"$f":"IFERROR(VLOOKUP(C162,'Division Lookup'!$A$2:$D$251,4,FALSE),\"Second\")","v":"Second"},{"$f":"VLOOKUP(C162,Dewsbury!$C$3:$L$46,7,FALSE)","v":{"$error":"#N/A"}},{"$f":"VLOOKUP($C162,Bradford!$C$3:$L$66,7,FALSE)","v":0.53195701357466074},{"$f":"VLOOKUP($C162,Keighley!$C$3:$N$42,9,FALSE)","v":{"$error":"#N/A"}},{"$f":"VLOOKUP($C162,'Bunny '!$C$3:$N$20,9,FALSE)","v":{"$error":"#N/A"}},{"$f":"VLOOKUP($C162,Liverpool!$C$3:$N$59,9,FALSE)","v":{"$error":"#N/A"}},{"$f":"VLOOKUP(C162,'VoY 10m'!$C$3:$N$40,9,FALSE)","v":{"$error":"#N/A"}},{"$f":"VLOOKUP(C162,Guisley!$C$3:$N$49,9,FALSE)","v":{"$error":"#N/A"}},{"$f":"VLOOKUP(C162,Odda!$C$3:$N$42,9,FALSE)","v":{"$error":"#N/A"}},{"$f":"VLOOKUP(C162,'Leeds half'!$C$4:$N$31,9,FALSE)","v":{"$error":"#N/A"}},{"$f":"VLOOKUP(C162,Ilkley!$C$3:$L$46,7,FALSE)","v":{"$error":"#N/A"}},{"$f":"VLOOKUP(C162,Otley!$C$3:$L$46,9,FALSE)","v":{"$error":"#N/A"}},{"$f":"VLOOKUP(C162,Solstice!$C$3:$L$48,7,FALSE)","v":{"$error":"#N/A"}},{"$f":"VLOOKUP(C162,Eccup!$C$3:$L$46,9,FALSE)","v":{"$error":"#N/A"}},null,{"$f":"VLOOKUP(C162,Shakerr!$C$3:$L$46,7,FALSE)","v":{"$error":"#N/A"}},{"$f":"VLOOKUP(C162,VoY!$C$3:$L$46,9,FALSE)","v":{"$error":"#N/A"}},{"$f":"VLOOKUP(C162,Kirkstall!$C$3:$L$46,9,FALSE)","v":{"$error":"#N/A"}},{"$f":"VLOOKUP($C162,City!$C$3:$L$69,9,FALSE)","v":0.54903677758318736},{"$f":"VLOOKUP(C162,'Guy Fawkes'!$C$3:$N$34,9,FALSE)","v":{"$error":"#N/A"}},{"$f":"VLOOKUP(C162,Abbey!$C$3:$L$48,7,FALSE)","v":{"$error":"#N/A"}},{"$f":"VLOOKUP(C162,Chevin!$C$3:$L$50,7,FALSE)","v":{"$error":"#N/A"}},null,0,21,0,0,0,0,0,0,0,0,0,0,0,0,0,0,0,10,0,0,0,2]
[null,null,"Steven Maude","1979-09-18",37,{"$f":"IFERROR(VLOOKUP(C163,'Division Lookup'!$A$2:$D$251,4,FALSE),\"Second\")","v":"Second"},{"$f":"VLOOKUP(C163,Dewsbury!$C$3:$L$46,7,FALSE)","v":{"$error":"#N/A"}},{"$f":"VLOOKUP($C163,Bradford!$C$3:$L$66,7,FALSE)","v":0.65066354410616689},{"$f":"VLOOKUP($C163,Keighley!$C$3:$N$42,9,FALSE)","v":{"$error":"#N/A"}},{"$f":"VLOOKUP($C163,'Bunny '!$C$3:$N$20,9,FALSE)","v":{"$error":"#N/A"}},{"$f":"VLOOKUP($C163,Liverpool!$C$3:$N$59,9,FALSE)","v":{"$error":"#N/A"}},{"$f":"VLOOKUP(C163,'VoY 10m'!$C$3:$N$40,9,FALSE)","v":{"$error":"#N/A"}},{"$f":"VLOOKUP(C163,Guisley!$C$3:$N$49,9,FALSE)","v":0.59155429382540803},{"$f":"VLOOKUP(C163,Odda!$C$3:$N$42,9,FALSE)","v":{"$error":"#N/A"}},{"$f":"VLOOKUP(C163,'Leeds half'!$C$4:$N$31,9,FALSE)","v":{"$error":"#N/A"}},{"$f":"VLOOKUP(C163,Ilkley!$C$3:$L$46,7,FALSE)","v":{"$error":"#N/A"}},{"$f":"VLOOKUP(C163,Otley!$C$3:$L$46,9,FALSE)","v":{"$error":"#N/A"}},{"$f":"VLOOKUP(C163,Solstice!$C$3:$L$48,7,FALSE)","v":{"$error":"#N/A"}},{"$f":"VLOOKUP(C163,Eccup!$C$3:$L$46,9,FALSE)","v":{"$error":"#N/A"}},null,{"$f":"VLOOKUP(C163,Shakerr!$C$3:$L$46,7,FALSE)","v":{"$error":"#N/A"}},{"$f":"VLOOKUP(C163,VoY!$C$3:$L$46,9,FALSE)","v":{"$error":"#N/A"}},{"$f":"VLOOKUP(C163,Kirkstall!$C$3:$L$46,9,FALSE)","v":{"$error":"#N/A"}},{"$f":"VLOOKUP($C163,City!$C$3:$L$69,9,FALSE)","v":{"$error":"#N/A"}},{"$f":"VLOOKUP(C163,'Guy Fawkes'!$C$3:$N$34,9,FALSE)","v":{"$error":"#N/A"}},{"$f":"VLOOKUP(C163,Abbey!$C$3:$L$48,7,FALSE)","v":{"$error":"#N/A"}},{"$f":"VLOOKUP(C163,Chevin!$C$3:$L$50,7,FALSE)","v":{"$error":"#N/A"}},null,0,4,0,0,0,0,2,0,0,0,0,0,0,0,0,0,0,0,0,0,0,2]
[null,null,"Patricia Mayes","1960-03-21",56,{"$f":"IFERROR(VLOOKUP(C164,'Division Lookup'!$A$2:$D$251,4,FALSE),\"Second\")","v":"Second"},{"$f":"VLOOKUP(C164,Dewsbury!$C$3:$L$46,7,FALSE)","v":{"$error":"#N/A"}},{"$f":"VLOOKUP($C164,Bradford!$C$3:$L$66,7,FALSE)","v":{"$error":"#N/A"}},{"$f":"VLOOKUP($C164,Keighley!$C$3:$N$42,9,FALSE)","v":{"$error":"#N/A"}},{"$f":"VLOOKUP($C164,'Bunny '!$C$3:$N$20,9,FALSE)","v":{"$error":"#N/A"}},{"$f":"VLOOKUP($C164,Liverpool!$C$3:$N$59,9,FALSE)","v":{"$error":"#N/A"}},{"$f":"VLOOKUP(C164,'VoY 10m'!$C$3:$N$40,9,FALSE)","v":{"$error":"#N/A"}},{"$f":"VLOOKUP(C164,Guisley!$C$3:$N$49,9,FALSE)","v":{"$error":"#N/A"}},{"$f":"VLOOKUP(C164,Odda!$C$3:$N$42,9,FALSE)","v":{"$error":"#N/A"}},{"$f":"VLOOKUP(C164,'Leeds half'!$C$4:$N$31,9,FALSE)","v":{"$error":"#N/A"}},{"$f":"VLOOKUP(C164,Ilkley!$C$3:$L$46,7,FALSE)","v":{"$error":"#N/A"}},{"$f":"VLOOKUP(C164,Otley!$C$3:$L$46,9,FALSE)","v":{"$error":"#N/A"}},{"$f":"VLOOKUP(C164,Solstice!$C$3:$L$48,7,FALSE)","v":{"$error":"#N/A"}},{"$f":"VLOOKUP(C164,Eccup!$C$3:$L$46,9,FALSE)","v":{"$error":"#N/A"}},null,{"$f":"VLOOKUP(C164,Shakerr!$C$3:$L$46,7,FALSE)","v":{"$error":"#N/A"}},{"$f":"VLOOKUP(C164,VoY!$C$3:$L$46,9,FALSE)","v":{"$error":"#N/A"}},{"$f":"VLOOKUP(C164,Kirkstall!$C$3:$L$46,9,FALSE)","v":{"$error":"#N/A"}},{"$f":"VLOOKUP($C164,City!$C$3:$L$69,9,FALSE)","v":{"$error":"#N/A"}},{"$f":"VLOOKUP(C164,'Guy Fawkes'!$C$3:$N$34,9,FALSE)","v":{"$error":"#N/A"}},{"$f":"VLOOKUP(C164,Abbey!$C$3:$L$48,7,FALSE)","v":{"$error":"#N/A"}},{"$f":"VLOOKUP(C164,Chevin!$C$3:$L$50,7,FALSE)","v":{"$error":"#N/A"}},null,0,0,0,0,0,0,0,0,0,0,0,0,0,0,0,0,0,0,0,0,0,0]
[null,null,"Louise McGechaen","1965-08-27",51,{"$f":"IFERROR(VLOOKUP(C165,'Division Lookup'!$A$2:$D$251,4,FALSE),\"Second\")","v":"Second"},{"$f":"VLOOKUP(C165,Dewsbury!$C$3:$L$46,7,FALSE)","v":{"$error":"#N/A"}},{"$f":"VLOOKUP($C165,Bradford!$C$3:$L$66,7,FALSE)","v":{"$error":"#N/A"}},{"$f":"VLOOKUP($C165,Keighley!$C$3:$N$42,9,FALSE)","v":{"$error":"#N/A"}},{"$f":"VLOOKUP($C165,'Bunny '!$C$3:$N$20,9,FALSE)","v":{"$error":"#N/A"}},{"$f":"VLOOKUP($C165,Liverpool!$C$3:$N$59,9,FALSE)","v":{"$error":"#N/A"}},{"$f":"VLOOKUP(C165,'VoY 10m'!$C$3:$N$40,9,FALSE)","v":{"$error":"#N/A"}},{"$f":"VLOOKUP(C165,Guisley!$C$3:$N$49,9,FALSE)","v":{"$error":"#N/A"}},{"$f":"VLOOKUP(C165,Odda!$C$3:$N$42,9,FALSE)","v":{"$error":"#N/A"}},{"$f":"VLOOKUP(C165,'Leeds half'!$C$4:$N$31,9,FALSE)","v":{"$error":"#N/A"}},{"$f":"VLOOKUP(C165,Ilkley!$C$3:$L$46,7,FALSE)","v":{"$error":"#N/A"}},{"$f":"VLOOKUP(C165,Otley!$C$3:$L$46,9,FALSE)","v":{"$error":"#N/A"}},{"$f":"VLOOKUP(C165,Solstice!$C$3:$L$48,7,FALSE)","v":{"$error":"#N/A"}},{"$f":"VLOOKUP(C165,Eccup!$C$3:$L$46,9,FALSE)","v":{"$error":"#N/A"}},null,{"$f":"VLOOKUP(C165,Shakerr!$C$3:$L$46,7,FALSE)","v":{"$error":"#N/A"}},{"$f":"VLOOKUP(C165,VoY!$C$3:$L$46,9,FALSE)","v":{"$error":"#N/A"}},{"$f":"VLOOKUP(C165,Kirkstall!$C$3:$L$46,9,FALSE)","v":{"$error":"#N/A"}},{"$f":"VLOOKUP($C165,City!$C$3:$L$69,9,FALSE)","v":{"$error":"#N/A"}},{"$f":"VLOOKUP(C165,'Guy Fawkes'!$C$3:$N$34,9,FALSE)","v":{"$error":"#N/A"}},{"$f":"VLOOKUP(C165,Abbey!$C$3:$L$48,7,FALSE)","v":{"$error":"#N/A"}},{"$f":"VLOOKUP(C165,Chevin!$C$3:$L$50,7,FALSE)","v":{"$error":"#N/A"}},null,0,0,0,0,0,0,0,0,0,0,0,0,0,0,0,0,0,0,0,0,0,0]
[null,null,"Gary Mckee","1976-01-29",40,{"$f":"IFERROR(VLOOKUP(C166,'Division Lookup'!$A$2:$D$251,4,FALSE),\"Second\")","v":"Second"},{"$f":"VLOOKUP(C166,Dewsbury!$C$3:$L$46,7,FALSE)","v":{"$error":"#N/A"}},{"$f":"VLOOKUP($C166,Bradford!$C$3:$L$66,7,FALSE)","v":{"$error":"#N/A"}},{"$f":"VLOOKUP($C166,Keighley!$C$3:$N$42,9,FALSE)","v":{"$error":"#N/A"}},{"$f":"VLOOKUP($C166,'Bunny '!$C$3:$N$20,9,FALSE)","v":{"$error":"#N/A"}},{"$f":"VLOOKUP($C166,Liverpool!$C$3:$N$59,9,FALSE)","v":{"$error":"#N/A"}},{"$f":"VLOOKUP(C166,'VoY 10m'!$C$3:$N$40,9,FALSE)","v":{"$error":"#N/A"}},{"$f":"VLOOKUP(C166,Guisley!$C$3:$N$49,9,FALSE)","v":{"$error":"#N/A"}},{"$f":"VLOOKUP(C166,Odda!$C$3:$N$42,9,FALSE)","v":{"$error":"#N/A"}},{"$f":"VLOOKUP(C166,'Leeds half'!$C$4:$N$31,9,FALSE)","v":{"$error":"#N/A"}},{"$f":"VLOOKUP(C166,Ilkley!$C$3:$L$46,7,FALSE)","v":{"$error":"#N/A"}},{"$f":"VLOOKUP(C166,Otley!$C$3:$L$46,9,FALSE)","v":{"$error":"#N/A"}},{"$f":"VLOOKUP(C166,Solstice!$C$3:$L$48,7,FALSE)","v":{"$error":"#N/A"}},{"$f":"VLOOKUP(C166,Eccup!$C$3:$L$46,9,FALSE)","v":{"$error":"#N/A"}},null,{"$f":"VLOOKUP(C166,Shakerr!$C$3:$L$46,7,FALSE)","v":{"$error":"#N/A"}},{"$f":"VLOOKUP(C166,VoY!$C$3:$L$46,9,FALSE)","v":{"$error":"#N/A"}},{"$f":"VLOOKUP(C166,Kirkstall!$C$3:$L$46,9,FALSE)","v":{"$error":"#N/A"}},{"$f":"VLOOKUP($C166,City!$C$3:$L$69,9,FALSE)","v":{"$error":"#N/A"}},{"$f":"VLOOKUP(C166,'Guy Fawkes'!$C$3:$N$34,9,FALSE)","v":{"$error":"#N/A"}},{"$f":"VLOOKUP(C166,Abbey!$C$3:$L$48,7,FALSE)","v":{"$error":"#N/A"}},{"$f":"VLOOKUP(C166,Chevin!$C$3:$L$50,7,FALSE)","v":{"$error":"#N/A"}},null,0,0,0,0,0,0,0,0,0,0,0,0,0,0,0,0,0,0,0,0,0,0]
[null,null,"Rahul Mehra","1970-06-03",46,{"$f":"IFERROR(VLOOKUP(C167,'Division Lookup'!$A$2:$D$251,4,FALSE),\"Second\")","v":"Second"},{"$f":"VLOOKUP(C167,Dewsbury!$C$3:$L$46,7,FALSE)","v":{"$error":"#N/A"}},{"$f":"VLOOKUP($C167,Bradford!$C$3:$L$66,7,FALSE)","v":{"$error":"#N/A"}},{"$f":"VLOOKUP($C167,Keighley!$C$3:$N$42,9,FALSE)","v":{"$error":"#N/A"}},{"$f":"VLOOKUP($C167,'Bunny '!$C$3:$N$20,9,FALSE)","v":{"$error":"#N/A"}},{"$f":"VLOOKUP($C167,Liverpool!$C$3:$N$59,9,FALSE)","v":{"$error":"#N/A"}},{"$f":"VLOOKUP(C167,'VoY 10m'!$C$3:$N$40,9,FALSE)","v":{"$error":"#N/A"}},{"$f":"VLOOKUP(C167,Guisley!$C$3:$N$49,9,FALSE)","v":{"$error":"#N/A"}},{"$f":"VLOOKUP(C167,Odda!$C$3:$N$42,9,FALSE)","v":{"$error":"#N/A"}},{"$f":"VLOOKUP(C167,'Leeds half'!$C$4:$N$31,9,FALSE)","v":{"$error":"#N/A"}},{"$f":"VLOOKUP(C167,Ilkley!$C$3:$L$46,7,FALSE)","v":{"$error":"#N/A"}},{"$f":"VLOOKUP(C167,Otley!$C$3:$L$46,9,FALSE)","v":{"$error":"#N/A"}},{"$f":"VLOOKUP(C167,Solstice!$C$3:$L$48,7,FALSE)","v":{"$error":"#N/A"}},{"$f":"VLOOKUP(C167,Eccup!$C$3:$L$46,9,FALSE)","v":{"$error":"#N/A"}},null,{"$f":"VLOOKUP(C167,Shakerr!$C$3:$L$46,7,FALSE)","v":{"$error":"#N/A"}},{"$f":"VLOOKUP(C167,VoY!$C$3:$L$46,9,FALSE)","v":{"$error":"#N/A"}},{"$f":"VLOOKUP(C167,Kirkstall!$C$3:$L$46,9,FALSE)","v":{"$error":"#N/A"}},{"$f":"VLOOKUP($C167,City!$C$3:$L$69,9,FALSE)","v":{"$error":"#N/A"}},{"$f":"VLOOKUP(C167,'Guy Fawkes'!$C$3:$N$34,9,FALSE)","v":{"$error":"#N/A"}},{"$f":"VLOOKUP(C167,Abbey!$C$3:$L$48,7,FALSE)","v":{"$error":"#N/A"}},{"$f":"VLOOKUP(C167,Chevin!$C$3:$L$50,7,FALSE)","v":{"$error":"#N/A"}},null,0,0,0,0,0,0,0,0,0,0,0,0,0,0,0,0,0,0,0,0,0,0]
[null,null,"Sarah Miller","1984-08-04",32,{"$f":"IFERROR(VLOOKUP(C168,'Division Lookup'!$A$2:$D$251,4,FALSE),\"Second\")","v":"Second"},{"$f":"VLOOKUP(C168,Dewsbury!$C$3:$L$46,7,FALSE)","v":{"$error":"#N/A"}},{"$f":"VLOOKUP($C168,Bradford!$C$3:$L$66,7,FALSE)","v":{"$error":"#N/A"}},{"$f":"VLOOKUP($C168,Keighley!$C$3:$N$42,9,FALSE)","v":{"$error":"#N/A"}},{"$f":"VLOOKUP($C168,'Bunny '!$C$3:$N$20,9,FALSE)","v":{"$error":"#N/A"}},{"$f":"VLOOKUP($C168,Liverpool!$C$3:$N$59,9,FALSE)","v":{"$error":"#N/A"}},{"$f":"VLOOKUP(C168,'VoY 10m'!$C$3:$N$40,9,FALSE)","v":{"$error":"#N/A"}},{"$f":"VLOOKUP(C168,Guisley!$C$3:$N$49,9,FALSE)","v":{"$error":"#N/A"}},{"$f":"VLOOKUP(C168,Odda!$C$3:$N$42,9,FALSE)","v":{"$error":"#N/A"}},{"$f":"VLOOKUP(C168,'Leeds half'!$C$4:$N$31,9,FALSE)","v":{"$error":"#N/A"}},{"$f":"VLOOKUP(C168,Ilkley!$C$3:$L$46,7,FALSE)","v":{"$error":"#N/A"}},{"$f":"VLOOKUP(C168,Otley!$C$3:$L$46,9,FALSE)","v":{"$error":"#N/A"}},{"$f":"VLOOKUP(C168,Solstice!$C$3:$L$48,7,FALSE)","v":{"$error":"#N/A"}},{"$f":"VLOOKUP(C168,Eccup!$C$3:$L$46,9,FALSE)","v":{"$error":"#N/A"}},null,{"$f":"VLOOKUP(C168,Shakerr!$C$3:$L$46,7,FALSE)","v":{"$error":"#N/A"}},{"$f":"VLOOKUP(C168,VoY!$C$3:$L$46,9,FALSE)","v":{"$error":"#N/A"}},{"$f":"VLOOKUP(C168,Kirkstall!$C$3:$L$46,9,FALSE)","v":{"$error":"#N/A"}},{"$f":"VLOOKUP($C168,City!$C$3:$L$69,9,FALSE)","v":{"$error":"#N/A"}},{"$f":"VLOOKUP(C168,'Guy Fawkes'!$C$3:$N$34,9,FALSE)","v":{"$error":"#N/A"}},{"$f":"VLOOKUP(C168,Abbey!$C$3:$L$48,7,FALSE)","v":0.51639122189108644},{"$f":"VLOOKUP(C168,Chevin!$C$3:$L$50,7,FALSE)","v":{"$error":"#N/A"}},null,0,0,0,0,0,0,0,0,0,0,0,0,0,0,0,0,0,0,0,17,0,1]
[null,null,"Mohanlal Mistry","1961-08-11",55,{"$f":"IFERROR(VLOOKUP(C169,'Division Lookup'!$A$2:$D$251,4,FALSE),\"Second\")","v":"Premier"},{"$f":"VLOOKUP(C169,Dewsbury!$C$3:$L$46,7,FALSE)","v":0.63775340644732481},{"$f":"VLOOKUP($C169,Bradford!$C$3:$L$66,7,FALSE)","v":0.63585155732273035},{"$f":"VLOOKUP($C169,Keighley!$C$3:$N$42,9,FALSE)","v":{"$error":"#N/A"}},{"$f":"VLOOKUP($C169,'Bunny '!$C$3:$N$20,9,FALSE)","v":0.53171856978085363},{"$f":"VLOOKUP($C169,Liverpool!$C$3:$N$59,9,FALSE)","v":{"$error":"#N/A"}},{"$f":"VLOOKUP(C169,'VoY 10m'!$C$3:$N$40,9,FALSE)","v":{"$error":"#N/A"}},{"$f":"VLOOKUP(C169,Guisley!$C$3:$N$49,9,FALSE)","v":0.53246392896781369},{"$f":"VLOOKUP(C169,Odda!$C$3:$N$42,9,FALSE)","v":{"$error":"#N/A"}},{"$f":"VLOOKUP(C169,'Leeds half'!$C$4:$N$31,9,FALSE)","v":{"$error":"#N/A"}},{"$f":"VLOOKUP(C169,Ilkley!$C$3:$L$46,7,FALSE)","v":0.47115148539160329},{"$f":"VLOOKUP(C169,Otley!$C$3:$L$46,9,FALSE)","v":0.58618127786032692},{"$f":"VLOOKUP(C169,Solstice!$C$3:$L$48,7,FALSE)","v":{"$error":"#N/A"}},{"$f":"VLOOKUP(C169,Eccup!$C$3:$L$46,9,FALSE)","v":0.60436614324013793},null,{"$f":"VLOOKUP(C169,Shakerr!$C$3:$L$46,7,FALSE)","v":0.43802784752339652},{"$f":"VLOOKUP(C169,VoY!$C$3:$L$46,9,FALSE)","v":0.60583309269419572},{"$f":"VLOOKUP(C169,Kirkstall!$C$3:$L$46,9,FALSE)","v":{"$error":"#N/A"}},{"$f":"VLOOKUP($C169,City!$C$3:$L$69,9,FALSE)","v":{"$error":"#N/A"}},{"$f":"VLOOKUP(C169,'Guy Fawkes'!$C$3:$N$34,9,FALSE)","v":0.56589564281871974},{"$f":"VLOOKUP(C169,Abbey!$C$3:$L$48,7,FALSE)","v":{"$error":"#N/A"}},{"$f":"VLOOKUP(C169,Chevin!$C$3:$L$50,7,FALSE)","v":0.56106408706166866},null,10,9,0,12,0,0,7,0,0,6,10,0,4,0,8,6,0,0,12,0,5,11]
[null,null,"Urmila Mistry","1962-11-14",54,{"$f":"IFERROR(VLOOKUP(C170,'Division Lookup'!$A$2:$D$251,4,FALSE),\"Second\")","v":"Premier"},{"$f":"VLOOKUP(C170,Dewsbury!$C$3:$L$46,7,FALSE)","v":0.59950248756218916},{"$f":"VLOOKUP($C170,Bradford!$C$3:$L$66,7,FALSE)","v":0.60283490828237907},{"$f":"VLOOKUP($C170,Keighley!$C$3:$N$42,9,FALSE)","v":{"$error":"#N/A"}},{"$f":"VLOOKUP($C170,'Bunny '!$C$3:$N$20,9,FALSE)","v":{"$error":"#N/A"}},{"$f":"VLOOKUP($C170,Liverpool!$C$3:$N$59,9,FALSE)","v":{"$error":"#N/A"}},{"$f":"VLOOKUP(C170,'VoY 10m'!$C$3:$N$40,9,FALSE)","v":{"$error":"#N/A"}},{"$f":"VLOOKUP(C170,Guisley!$C$3:$N$49,9,FALSE)","v":{"$error":"#N/A"}},{"$f":"VLOOKUP(C170,Odda!$C$3:$N$42,9,FALSE)","v":{"$error":"#N/A"}},{"$f":"VLOOKUP(C170,'Leeds half'!$C$4:$N$31,9,FALSE)","v":{"$error":"#N/A"}},{"$f":"VLOOKUP(C170,Ilkley!$C$3:$L$46,7,FALSE)","v":{"$error":"#N/A"}},{"$f":"VLOOKUP(C170,Otley!$C$3:$L$46,9,FALSE)","v":0.48234931401264064},{"$f":"VLOOKUP(C170,Solstice!$C$3:$L$48,7,FALSE)","v":{"$error":"#N/A"}},{"$f":"VLOOKUP(C170,Eccup!$C$3:$L$46,9,FALSE)","v":0.50104083266613286},null,{"$f":"VLOOKUP(C170,Shakerr!$C$3:$L$46,7,FALSE)","v":0.38669994651453021},{"$f":"VLOOKUP(C170,VoY!$C$3:$L$46,9,FALSE)","v":{"$error":"#N/A"}},{"$f":"VLOOKUP(C170,Kirkstall!$C$3:$L$46,9,FALSE)","v":{"$error":"#N/A"}},{"$f":"VLOOKUP($C170,City!$C$3:$L$69,9,FALSE)","v":{"$error":"#N/A"}},{"$f":"VLOOKUP(C170,'Guy Fawkes'!$C$3:$N$34,9,FALSE)","v":0.48913553228075662},{"$f":"VLOOKUP(C170,Abbey!$C$3:$L$48,7,FALSE)","v":{"$error":"#N/A"}},{"$f":"VLOOKUP(C170,Chevin!$C$3:$L$50,7,FALSE)","v":0.4688841201716738},null,18,11,0,0,0,0,0,0,0,0,13,0,6,0,12,0,0,0,19,0,6,7]
[null,null,"Tim Mosedale","1980-05-11",36,{"$f":"IFERROR(VLOOKUP(C171,'Division Lookup'!$A$2:$D$251,4,FALSE),\"Second\")","v":"Premier"},{"$f":"VLOOKUP(C171,Dewsbury!$C$3:$L$46,7,FALSE)","v":0.60949576739050415},{"$f":"VLOOKUP($C171,Bradford!$C$3:$L$66,7,FALSE)","v":{"$error":"#N/A"}},{"$f":"VLOOKUP($C171,Keighley!$C$3:$N$42,9,FALSE)","v":{"$error":"#N/A"}},{"$f":"VLOOKUP($C171,'Bunny '!$C$3:$N$20,9,FALSE)","v":0.56254416961130749},{"$f":"VLOOKUP($C171,Liverpool!$C$3:$N$59,9,FALSE)","v":0.59622078567876691},{"$f":"VLOOKUP(C171,'VoY 10m'!$C$3:$N$40,9,FALSE)","v":{"$error":"#N/A"}},{"$f":"VLOOKUP(C171,Guisley!$C$3:$N$49,9,FALSE)","v":{"$error":"#N/A"}},{"$f":"VLOOKUP(C171,Odda!$C$3:$N$42,9,FALSE)","v":{"$error":"#N/A"}},{"$f":"VLOOKUP(C171,'Leeds half'!$C$4:$N$31,9,FALSE)","v":{"$error":"#N/A"}},{"$f":"VLOOKUP(C171,Ilkley!$C$3:$L$46,7,FALSE)","v":{"$error":"#N/A"}},{"$f":"VLOOKUP(C171,Otley!$C$3:$L$46,9,FALSE)","v":{"$error":"#N/A"}},{"$f":"VLOOKUP(C171,Solstice!$C$3:$L$48,7,FALSE)","v":{"$error":"#N/A"}},{"$f":"VLOOKUP(C171,Eccup!$C$3:$L$46,9,FALSE)","v":{"$error":"#N/A"}},null,{"$f":"VLOOKUP(C171,Shakerr!$C$3:$L$46,7,FALSE)","v":0.43147472642001033},{"$f":"VLOOKUP(C171,VoY!$C$3:$L$46,9,FALSE)","v":{"$error":"#N/A"}},{"$f":"VLOOKUP(C171,Kirkstall!$C$3:$L$46,9,FALSE)","v":{"$error":"#N/A"}},{"$f":"VLOOKUP($C171,City!$C$3:$L$69,9,FALSE)","v":0.59611231101511886},{"$f":"VLOOKUP(C171,'Guy Fawkes'!$C$3:$N$34,9,FALSE)","v":0.57169970476592147},{"$f":"VLOOKUP(C171,Abbey!$C$3:$L$48,7,FALSE)","v":{"$error":"#N/A"}},{"$f":"VLOOKUP(C171,Chevin!$C$3:$L$50,7,FALSE)","v":{"$error":"#N/A"}},null,15,0,0,10,15,0,0,0,0,0,0,0,0,0,9,0,0,14,11,0,0,6]
[null,null,"Michael Moss","1953-12-06",63,{"$f":"IFERROR(VLOOKUP(C172,'Division Lookup'!$A$2:$D$251,4,FALSE),\"Second\")","v":"Second"},{"$f":"VLOOKUP(C172,Dewsbury!$C$3:$L$46,7,FALSE)","v":{"$error":"#N/A"}},{"$f":"VLOOKUP($C172,Bradford!$C$3:$L$66,7,FALSE)","v":{"$error":"#N/A"}},{"$f":"VLOOKUP($C172,Keighley!$C$3:$N$42,9,FALSE)","v":{"$error":"#N/A"}},{"$f":"VLOOKUP($C172,'Bunny '!$C$3:$N$20,9,FALSE)","v":{"$error":"#N/A"}},{"$f":"VLOOKUP($C172,Liverpool!$C$3:$N$59,9,FALSE)","v":{"$error":"#N/A"}},{"$f":"VLOOKUP(C172,'VoY 10m'!$C$3:$N$40,9,FALSE)","v":{"$error":"#N/A"}},{"$f":"VLOOKUP(C172,Guisley!$C$3:$N$49,9,FALSE)","v":{"$error":"#N/A"}},{"$f":"VLOOKUP(C172,Odda!$C$3:$N$42,9,FALSE)","v":{"$error":"#N/A"}},{"$f":"VLOOKUP(C172,'Leeds half'!$C$4:$N$31,9,FALSE)","v":{"$error":"#N/A"}},{"$f":"VLOOKUP(C172,Ilkley!$C$3:$L$46,7,FALSE)","v":{"$error":"#N/A"}},{"$f":"VLOOKUP(C172,Otley!$C$3:$L$46,9,FALSE)","v":{"$error":"#N/A"}},{"$f":"VLOOKUP(C172,Solstice!$C$3:$L$48,7,FALSE)","v":{"$error":"#N/A"}},{"$f":"VLOOKUP(C172,Eccup!$C$3:$L$46,9,FALSE)","v":{"$error":"#N/A"}},null,{"$f":"VLOOKUP(C172,Shakerr!$C$3:$L$46,7,FALSE)","v":{"$error":"#N/A"}},{"$f":"VLOOKUP(C172,VoY!$C$3:$L$46,9,FALSE)","v":{"$error":"#N/A"}},{"$f":"VLOOKUP(C172,Kirkstall!$C$3:$L$46,9,FALSE)","v":{"$error":"#N/A"}},{"$f":"VLOOKUP($C172,City!$C$3:$L$69,9,FALSE)","v":{"$error":"#N/A"}},{"$f":"VLOOKUP(C172,'Guy Fawkes'!$C$3:$N$34,9,FALSE)","v":{"$error":"#N/A"}},{"$f":"VLOOKUP(C172,Abbey!$C$3:$L$48,7,FALSE)","v":{"$error":"#N/A"}},{"$f":"VLOOKUP(C172,Chevin!$C$3:$L$50,7,FALSE)","v":{"$error":"#N/A"}},null,0,0,0,0,0,0,0,0,0,0,0,0,0,0,0,0,0,0,0,0,0,0]
[null,null,"Jen  Murgatroyd","1981-12-23",35,{"$f":"IFERROR(VLOOKUP(C173,'Division Lookup'!$A$2:$D$251,4,FALSE),\"Second\")","v":"Second"},{"$f":"VLOOKUP(C173,Dewsbury!$C$3:$L$46,7,FALSE)","v":{"$error":"#N/A"}},{"$f":"VLOOKUP($C173,Bradford!$C$3:$L$66,7,FALSE)","v":{"$error":"#N/A"}},{"$f":"VLOOKUP($C173,Keighley!$C$3:$N$42,9,FALSE)","v":{"$error":"#N/A"}},{"$f":"VLOOKUP($C173,'Bunny '!$C$3:$N$20,9,FALSE)","v":{"$error":"#N/A"}},{"$f":"VLOOKUP($C173,Liverpool!$C$3:$N$59,9,FALSE)","v":{"$error":"#N/A"}},{"$f":"VLOOKUP(C173,'VoY 10m'!$C$3:$N$40,9,FALSE)","v":{"$error":"#N/A"}},{"$f":"VLOOKUP(C173,Guisley!$C$3:$N$49,9,FALSE)","v":{"$error":"#N/A"}},{"$f":"VLOOKUP(C173,Odda!$C$3:$N$42,9,FALSE)","v":{"$error":"#N/A"}},{"$f":"VLOOKUP(C173,'Leeds half'!$C$4:$N$31,9,FALSE)","v":{"$error":"#N/A"}},{"$f":"VLOOKUP(C173,Ilkley!$C$3:$L$46,7,FALSE)","v":{"$error":"#N/A"}},{"$f":"VLOOKUP(C173,Otley!$C$3:$L$46,9,FALSE)","v":{"$error":"#N/A"}},{"$f":"VLOOKUP(C173,Solstice!$C$3:$L$48,7,FALSE)","v":{"$error":"#N/A"}},{"$f":"VLOOKUP(C173,Eccup!$C$3:$L$46,9,FALSE)","v":{"$error":"#N/A"}},null,{"$f":"VLOOKUP(C173,Shakerr!$C$3:$L$46,7,FALSE)","v":{"$error":"#N/A"}},{"$f":"VLOOKUP(C173,VoY!$C$3:$L$46,9,FALSE)","v":{"$error":"#N/A"}},{"$f":"VLOOKUP(C173,Kirkstall!$C$3:$L$46,9,FALSE)","v":{"$error":"#N/A"}},{"$f":"VLOOKUP($C173,City!$C$3:$L$69,9,FALSE)","v":{"$error":"#N/A"}},{"$f":"VLOOKUP(C173,'Guy Fawkes'!$C$3:$N$34,9,FALSE)","v":{"$error":"#N/A"}},{"$f":"VLOOKUP(C173,Abbey!$C$3:$L$48,7,FALSE)","v":{"$error":"#N/A"}},{"$f":"VLOOKUP(C173,Chevin!$C$3:$L$50,7,FALSE)","v":{"$error":"#N/A"}},null,0,0,0,0,0,0,0,0,0,0,0,0,0,0,0,0,0,0,0,0,0,0]
[null,null,"Alistair Nash","1971-04-11",45,{"$f":"IFERROR(VLOOKUP(C174,'Division Lookup'!$A$2:$D$251,4,FALSE),\"Second\")","v":"First"},{"$f":"VLOOKUP(C174,Dewsbury!$C$3:$L$46,7,FALSE)","v":{"$error":"#N/A"}},{"$f":"VLOOKUP($C174,Bradford!$C$3:$L$66,7,FALSE)","v":{"$error":"#N/A"}},{"$f":"VLOOKUP($C174,Keighley!$C$3:$N$42,9,FALSE)","v":{"$error":"#N/A"}},{"$f":"VLOOKUP($C174,'Bunny '!$C$3:$N$20,9,FALSE)","v":{"$error":"#N/A"}},{"$f":"VLOOKUP($C174,Liverpool!$C$3:$N$59,9,FALSE)","v":{"$error":"#N/A"}},{"$f":"VLOOKUP(C174,'VoY 10m'!$C$3:$N$40,9,FALSE)","v":{"$error":"#N/A"}},{"$f":"VLOOKUP(C174,Guisley!$C$3:$N$49,9,FALSE)","v":{"$error":"#N/A"}},{"$f":"VLOOKUP(C174,Odda!$C$3:$N$42,9,FALSE)","v":{"$error":"#N/A"}},{"$f":"VLOOKUP(C174,'Leeds half'!$C$4:$N$31,9,FALSE)","v":{"$error":"#N/A"}},{"$f":"VLOOKUP(C174,Ilkley!$C$3:$L$46,7,FALSE)","v":{"$error":"#N/A"}},{"$f":"VLOOKUP(C174,Otley!$C$3:$L$46,9,FALSE)","v":{"$error":"#N/A"}},{"$f":"VLOOKUP(C174,Solstice!$C$3:$L$48,7,FALSE)","v":{"$error":"#N/A"}},{"$f":"VLOOKUP(C174,Eccup!$C$3:$L$46,9,FALSE)","v":{"$error":"#N/A"}},null,{"$f":"VLOOKUP(C174,Shakerr!$C$3:$L$46,7,FALSE)","v":{"$error":"#N/A"}},{"$f":"VLOOKUP(C174,VoY!$C$3:$L$46,9,FALSE)","v":{"$error":"#N/A"}},{"$f":"VLOOKUP(C174,Kirkstall!$C$3:$L$46,9,FALSE)","v":0.79155868196964085},{"$f":"VLOOKUP($C174,City!$C$3:$L$69,9,FALSE)","v":{"$error":"#N/A"}},{"$f":"VLOOKUP(C174,'Guy Fawkes'!$C$3:$N$34,9,FALSE)","v":{"$error":"#N/A"}},{"$f":"VLOOKUP(C174,Abbey!$C$3:$L$48,7,FALSE)","v":{"$error":"#N/A"}},{"$f":"VLOOKUP(C174,Chevin!$C$3:$L$50,7,FALSE)","v":{"$error":"#N/A"}},null,0,0,0,0,0,0,0,0,0,0,0,0,0,0,0,0,1,0,0,0,0,1]
[null,null,"Louise Nash","1969-08-22",47,{"$f":"IFERROR(VLOOKUP(C175,'Division Lookup'!$A$2:$D$251,4,FALSE),\"Second\")","v":"Premier"},{"$f":"VLOOKUP(C175,Dewsbury!$C$3:$L$46,7,FALSE)","v":{"$error":"#N/A"}},{"$f":"VLOOKUP($C175,Bradford!$C$3:$L$66,7,FALSE)","v":{"$error":"#N/A"}},{"$f":"VLOOKUP($C175,Keighley!$C$3:$N$42,9,FALSE)","v":{"$error":"#N/A"}},{"$f":"VLOOKUP($C175,'Bunny '!$C$3:$N$20,9,FALSE)","v":{"$error":"#N/A"}},{"$f":"VLOOKUP($C175,Liverpool!$C$3:$N$59,9,FALSE)","v":{"$error":"#N/A"}},{"$f":"VLOOKUP(C175,'VoY 10m'!$C$3:$N$40,9,FALSE)","v":{"$error":"#N/A"}},{"$f":"VLOOKUP(C175,Guisley!$C$3:$N$49,9,FALSE)","v":{"$error":"#N/A"}},{"$f":"VLOOKUP(C175,Odda!$C$3:$N$42,9,FALSE)","v":{"$error":"#N/A"}},{"$f":"VLOOKUP(C175,'Leeds half'!$C$4:$N$31,9,FALSE)","v":{"$error":"#N/A"}},{"$f":"VLOOKUP(C175,Ilkley!$C$3:$L$46,7,FALSE)","v":{"$error":"#N/A"}},{"$f":"VLOOKUP(C175,Otley!$C$3:$L$46,9,FALSE)","v":0.58706467661691553},{"$f":"VLOOKUP(C175,Solstice!$C$3:$L$48,7,FALSE)","v":{"$error":"#N/A"}},{"$f":"VLOOKUP(C175,Eccup!$C$3:$L$46,9,FALSE)","v":0.58706467661691553},null,{"$f":"VLOOKUP(C175,Shakerr!$C$3:$L$46,7,FALSE)","v":0.51714285714285713},{"$f":"VLOOKUP(C175,VoY!$C$3:$L$46,9,FALSE)","v":{"$error":"#N/A"}},{"$f":"VLOOKUP(C175,Kirkstall!$C$3:$L$46,9,FALSE)","v":0.69839228295819933},{"$f":"VLOOKUP($C175,City!$C$3:$L$69,9,FALSE)","v":0.7031072067675288},{"$f":"VLOOKUP(C175,'Guy Fawkes'!$C$3:$N$34,9,FALSE)","v":0.62196921779464476},{"$f":"VLOOKUP(C175,Abbey!$C$3:$L$48,7,FALSE)","v":{"$error":"#N/A"}},{"$f":"VLOOKUP(C175,Chevin!$C$3:$L$50,7,FALSE)","v":{"$error":"#N/A"}},null,0,0,0,0,0,0,0,0,0,0,9,0,5,0,5,0,1,5,6,0,0,6]
[null,null,"Dairine Nethercott","1967-03-21",49,{"$f":"IFERROR(VLOOKUP(C176,'Division Lookup'!$A$2:$D$251,4,FALSE),\"Second\")","v":"Premier"},{"$f":"VLOOKUP(C176,Dewsbury!$C$3:$L$46,7,FALSE)","v":{"$error":"#N/A"}},{"$f":"VLOOKUP($C176,Bradford!$C$3:$L$66,7,FALSE)","v":{"$error":"#N/A"}},{"$f":"VLOOKUP($C176,Keighley!$C$3:$N$42,9,FALSE)","v":{"$error":"#N/A"}},{"$f":"VLOOKUP($C176,'Bunny '!$C$3:$N$20,9,FALSE)","v":{"$error":"#N/A"}},{"$f":"VLOOKUP($C176,Liverpool!$C$3:$N$59,9,FALSE)","v":0.63332855709987101},{"$f":"VLOOKUP(C176,'VoY 10m'!$C$3:$N$40,9,FALSE)","v":{"$error":"#N/A"}},{"$f":"VLOOKUP(C176,Guisley!$C$3:$N$49,9,FALSE)","v":{"$error":"#N/A"}},{"$f":"VLOOKUP(C176,Odda!$C$3:$N$42,9,FALSE)","v":{"$error":"#N/A"}},{"$f":"VLOOKUP(C176,'Leeds half'!$C$4:$N$31,9,FALSE)","v":{"$error":"#N/A"}},{"$f":"VLOOKUP(C176,Ilkley!$C$3:$L$46,7,FALSE)","v":{"$error":"#N/A"}},{"$f":"VLOOKUP(C176,Otley!$C$3:$L$46,9,FALSE)","v":{"$error":"#N/A"}},{"$f":"VLOOKUP(C176,Solstice!$C$3:$L$48,7,FALSE)","v":0.54202801867911954},{"$f":"VLOOKUP(C176,Eccup!$C$3:$L$46,9,FALSE)","v":{"$error":"#N/A"}},null,{"$f":"VLOOKUP(C176,Shakerr!$C$3:$L$46,7,FALSE)","v":{"$error":"#N/A"}},{"$f":"VLOOKUP(C176,VoY!$C$3:$L$46,9,FALSE)","v":{"$error":"#N/A"}},{"$f":"VLOOKUP(C176,Kirkstall!$C$3:$L$46,9,FALSE)","v":{"$error":"#N/A"}},{"$f":"VLOOKUP($C176,City!$C$3:$L$69,9,FALSE)","v":{"$error":"#N/A"}},{"$f":"VLOOKUP(C176,'Guy Fawkes'!$C$3:$N$34,9,FALSE)","v":0.50727334235453303},{"$f":"VLOOKUP(C176,Abbey!$C$3:$L$48,7,FALSE)","v":{"$error":"#N/A"}},{"$f":"VLOOKUP(C176,Chevin!$C$3:$L$50,7,FALSE)","v":{"$error":"#N/A"}},null,0,0,0,0,10,0,0,0,0,0,0,10,0,0,0,0,0,0,14,0,0,3]
[null,null,"Jonathan Nixon","1981-02-19",35,{"$f":"IFERROR(VLOOKUP(C177,'Division Lookup'!$A$2:$D$251,4,FALSE),\"Second\")","v":"Second"},{"$f":"VLOOKUP(C177,Dewsbury!$C$3:$L$46,7,FALSE)","v":{"$error":"#N/A"}},{"$f":"VLOOKUP($C177,Bradford!$C$3:$L$66,7,FALSE)","v":{"$error":"#N/A"}},{"$f":"VLOOKUP($C177,Keighley!$C$3:$N$42,9,FALSE)","v":{"$error":"#N/A"}},{"$f":"VLOOKUP($C177,'Bunny '!$C$3:$N$20,9,FALSE)","v":{"$error":"#N/A"}},{"$f":"VLOOKUP($C177,Liverpool!$C$3:$N$59,9,FALSE)","v":{"$error":"#N/A"}},{"$f":"VLOOKUP(C177,'VoY 10m'!$C$3:$N$40,9,FALSE)","v":{"$error":"#N/A"}},{"$f":"VLOOKUP(C177,Guisley!$C$3:$N$49,9,FALSE)","v":{"$error":"#N/A"}},{"$f":"VLOOKUP(C177,Odda!$C$3:$N$42,9,FALSE)","v":{"$error":"#N/A"}},{"$f":"VLOOKUP(C177,'Leeds half'!$C$4:$N$31,9,FALSE)","v":{"$error":"#N/A"}},{"$f":"VLOOKUP(C177,Ilkley!$C$3:$L$46,7,FALSE)","v":{"$error":"#N/A"}},{"$f":"VLOOKUP(C177,Otley!$C$3:$L$46,9,FALSE)","v":{"$error":"#N/A"}},{"$f":"VLOOKUP(C177,Solstice!$C$3:$L$48,7,FALSE)","v":{"$error":"#N/A"}},{"$f":"VLOOKUP(C177,Eccup!$C$3:$L$46,9,FALSE)","v":{"$error":"#N/A"}},null,{"$f":"VLOOKUP(C177,Shakerr!$C$3:$L$46,7,FALSE)","v":{"$error":"#N/A"}},{"$f":"VLOOKUP(C177,VoY!$C$3:$L$46,9,FALSE)","v":{"$error":"#N/A"}},{"$f":"VLOOKUP(C177,Kirkstall!$C$3:$L$46,9,FALSE)","v":{"$error":"#N/A"}},{"$f":"VLOOKUP($C177,City!$C$3:$L$69,9,FALSE)","v":{"$error":"#N/A"}},{"$f":"VLOOKUP(C177,'Guy Fawkes'!$C$3:$N$34,9,FALSE)","v":{"$error":"#N/A"}},{"$f":"VLOOKUP(C177,Abbey!$C$3:$L$48,7,FALSE)","v":{"$error":"#N/A"}},{"$f":"VLOOKUP(C177,Chevin!$C$3:$L$50,7,FALSE)","v":{"$error":"#N/A"}},null,0,0,0,0,0,0,0,0,0,0,0,0,0,0,0,0,0,0,0,0,0,0]
[null,null,"Lorna Nixon","1971-05-15",45,{"$f":"IFERROR(VLOOKUP(C178,'Division Lookup'!$A$2:$D$251,4,FALSE),\"Second\")","v":"Premier"},{"$f":"VLOOKUP(C178,Dewsbury!$C$3:$L$46,7,FALSE)","v":{"$error":"#N/A"}},{"$f":"VLOOKUP($C178,Bradford!$C$3:$L$66,7,FALSE)","v":{"$error":"#N/A"}},{"$f":"VLOOKUP($C178,Keighley!$C$3:$N$42,9,FALSE)","v":{"$error":"#N/A"}},{"$f":"VLOOKUP($C178,'Bunny '!$C$3:$N$20,9,FALSE)","v":{"$error":"#N/A"}},{"$f":"VLOOKUP($C178,Liverpool!$C$3:$N$59,9,FALSE)","v":{"$error":"#N/A"}},{"$f":"VLOOKUP(C178,'VoY 10m'!$C$3:$N$40,9,FALSE)","v":{"$error":"#N/A"}},{"$f":"VLOOKUP(C178,Guisley!$C$3:$N$49,9,FALSE)","v":{"$error":"#N/A"}},{"$f":"VLOOKUP(C178,Odda!$C$3:$N$42,9,FALSE)","v":{"$error":"#N/A"}},{"$f":"VLOOKUP(C178,'Leeds half'!$C$4:$N$31,9,FALSE)","v":{"$error":"#N/A"}},{"$f":"VLOOKUP(C178,Ilkley!$C$3:$L$46,7,FALSE)","v":{"$error":"#N/A"}},{"$f":"VLOOKUP(C178,Otley!$C$3:$L$46,9,FALSE)","v":{"$error":"#N/A"}},{"$f":"VLOOKUP(C178,Solstice!$C$3:$L$48,7,FALSE)","v":{"$error":"#N/A"}},{"$f":"VLOOKUP(C178,Eccup!$C$3:$L$46,9,FALSE)","v":{"$error":"#N/A"}},null,{"$f":"VLOOKUP(C178,Shakerr!$C$3:$L$46,7,FALSE)","v":{"$error":"#N/A"}},{"$f":"VLOOKUP(C178,VoY!$C$3:$L$46,9,FALSE)","v":{"$error":"#N/A"}},{"$f":"VLOOKUP(C178,Kirkstall!$C$3:$L$46,9,FALSE)","v":{"$error":"#N/A"}},{"$f":"VLOOKUP($C178,City!$C$3:$L$69,9,FALSE)","v":{"$error":"#N/A"}},{"$f":"VLOOKUP(C178,'Guy Fawkes'!$C$3:$N$34,9,FALSE)","v":{"$error":"#N/A"}},{"$f":"VLOOKUP(C178,Abbey!$C$3:$L$48,7,FALSE)","v":{"$error":"#N/A"}},{"$f":"VLOOKUP(C178,Chevin!$C$3:$L$50,7,FALSE)","v":{"$error":"#N/A"}},null,0,0,0,0,0,0,0,0,0,0,0,0,0,0,0,0,0,0,0,0,0,0]
[null,null,"Richard Nixon","1970-01-18",46,{"$f":"IFERROR(VLOOKUP(C179,'Division Lookup'!$A$2:$D$251,4,FALSE),\"Second\")","v":"Premier"},{"$f":"VLOOKUP(C179,Dewsbury!$C$3:$L$46,7,FALSE)","v":{"$error":"#N/A"}},{"$f":"VLOOKUP($C179,Bradford!$C$3:$L$66,7,FALSE)","v":{"$error":"#N/A"}},{"$f":"VLOOKUP($C179,Keighley!$C$3:$N$42,9,FALSE)","v":{"$error":"#N/A"}},{"$f":"VLOOKUP($C179,'Bunny '!$C$3:$N$20,9,FALSE)","v":{"$error":"#N/A"}},{"$f":"VLOOKUP($C179,Liverpool!$C$3:$N$59,9,FALSE)","v":{"$error":"#N/A"}},{"$f":"VLOOKUP(C179,'VoY 10m'!$C$3:$N$40,9,FALSE)","v":{"$error":"#N/A"}},{"$f":"VLOOKUP(C179,Guisley!$C$3:$N$49,9,FALSE)","v":{"$error":"#N/A"}},{"$f":"VLOOKUP(C179,Odda!$C$3:$N$42,9,FALSE)","v":{"$error":"#N/A"}},{"$f":"VLOOKUP(C179,'Leeds half'!$C$4:$N$31,9,FALSE)","v":{"$error":"#N/A"}},{"$f":"VLOOKUP(C179,Ilkley!$C$3:$L$46,7,FALSE)","v":{"$error":"#N/A"}},{"$f":"VLOOKUP(C179,Otley!$C$3:$L$46,9,FALSE)","v":{"$error":"#N/A"}},{"$f":"VLOOKUP(C179,Solstice!$C$3:$L$48,7,FALSE)","v":{"$error":"#N/A"}},{"$f":"VLOOKUP(C179,Eccup!$C$3:$L$46,9,FALSE)","v":{"$error":"#N/A"}},null,{"$f":"VLOOKUP(C179,Shakerr!$C$3:$L$46,7,FALSE)","v":{"$error":"#N/A"}},{"$f":"VLOOKUP(C179,VoY!$C$3:$L$46,9,FALSE)","v":{"$error":"#N/A"}},{"$f":"VLOOKUP(C179,Kirkstall!$C$3:$L$46,9,FALSE)","v":{"$error":"#N/A"}},{"$f":"VLOOKUP($C179,City!$C$3:$L$69,9,FALSE)","v":{"$error":"#N/A"}},{"$f":"VLOOKUP(C179,'Guy Fawkes'!$C$3:$N$34,9,FALSE)","v":{"$error":"#N/A"}},{"$f":"VLOOKUP(C179,Abbey!$C$3:$L$48,7,FALSE)","v":{"$error":"#N/A"}},{"$f":"VLOOKUP(C179,Chevin!$C$3:$L$50,7,FALSE)","v":{"$error":"#N/A"}},null,0,0,0,0,0,0,0,0,0,0,0,0,0,0,0,0,0,0,0,0,0,0]
[null,null,"Matt Nowell","1980-10-10",36,{"$f":"IFERROR(VLOOKUP(C180,'Division Lookup'!$A$2:$D$251,4,FALSE),\"Second\")","v":"Second"},{"$f":"VLOOKUP(C180,Dewsbury!$C$3:$L$46,7,FALSE)","v":{"$error":"#N/A"}},{"$f":"VLOOKUP($C180,Bradford!$C$3:$L$66,7,FALSE)","v":{"$error":"#N/A"}},{"$f":"VLOOKUP($C180,Keighley!$C$3:$N$42,9,FALSE)","v":{"$error":"#N/A"}},{"$f":"VLOOKUP($C180,'Bunny '!$C$3:$N$20,9,FALSE)","v":{"$error":"#N/A"}},{"$f":"VLOOKUP($C180,Liverpool!$C$3:$N$59,9,FALSE)","v":{"$error":"#N/A"}},{"$f":"VLOOKUP(C180,'VoY 10m'!$C$3:$N$40,9,FALSE)","v":{"$error":"#N/A"}},{"$f":"VLOOKUP(C180,Guisley!$C$3:$N$49,9,FALSE)","v":{"$error":"#N/A"}},{"$f":"VLOOKUP(C180,Odda!$C$3:$N$42,9,FALSE)","v":{"$error":"#N/A"}},{"$f":"VLOOKUP(C180,'Leeds half'!$C$4:$N$31,9,FALSE)","v":{"$error":"#N/A"}},{"$f":"VLOOKUP(C180,Ilkley!$C$3:$L$46,7,FALSE)","v":{"$error":"#N/A"}},{"$f":"VLOOKUP(C180,Otley!$C$3:$L$46,9,FALSE)","v":{"$error":"#N/A"}},{"$f":"VLOOKUP(C180,Solstice!$C$3:$L$48,7,FALSE)","v":{"$error":"#N/A"}},{"$f":"VLOOKUP(C180,Eccup!$C$3:$L$46,9,FALSE)","v":{"$error":"#N/A"}},null,{"$f":"VLOOKUP(C180,Shakerr!$C$3:$L$46,7,FALSE)","v":{"$error":"#N/A"}},{"$f":"VLOOKUP(C180,VoY!$C$3:$L$46,9,FALSE)","v":0.73633572159672467},{"$f":"VLOOKUP(C180,Kirkstall!$C$3:$L$46,9,FALSE)","v":{"$error":"#N/A"}},{"$f":"VLOOKUP($C180,City!$C$3:$L$69,9,FALSE)","v":{"$error":"#N/A"}},{"$f":"VLOOKUP(C180,'Guy Fawkes'!$C$3:$N$34,9,FALSE)","v":{"$error":"#N/A"}},{"$f":"VLOOKUP(C180,Abbey!$C$3:$L$48,7,FALSE)","v":{"$error":"#N/A"}},{"$f":"VLOOKUP(C180,Chevin!$C$3:$L$50,7,FALSE)","v":{"$error":"#N/A"}},null,0,0,0,0,0,0,0,0,0,0,0,0,0,0,0,1,0,0,0,0,0,1]
[null,null,"Judith Nunn","1961-04-20",55,{"$f":"IFERROR(VLOOKUP(C181,'Division Lookup'!$A$2:$D$251,4,FALSE),\"Second\")","v":"Second"},{"$f":"VLOOKUP(C181,Dewsbury!$C$3:$L$46,7,FALSE)","v":{"$error":"#N/A"}},{"$f":"VLOOKUP($C181,Bradford!$C$3:$L$66,7,FALSE)","v":{"$error":"#N/A"}},{"$f":"VLOOKUP($C181,Keighley!$C$3:$N$42,9,FALSE)","v":{"$error":"#N/A"}},{"$f":"VLOOKUP($C181,'Bunny '!$C$3:$N$20,9,FALSE)","v":{"$error":"#N/A"}},{"$f":"VLOOKUP($C181,Liverpool!$C$3:$N$59,9,FALSE)","v":{"$error":"#N/A"}},{"$f":"VLOOKUP(C181,'VoY 10m'!$C$3:$N$40,9,FALSE)","v":{"$error":"#N/A"}},{"$f":"VLOOKUP(C181,Guisley!$C$3:$N$49,9,FALSE)","v":{"$error":"#N/A"}},{"$f":"VLOOKUP(C181,Odda!$C$3:$N$42,9,FALSE)","v":{"$error":"#N/A"}},{"$f":"VLOOKUP(C181,'Leeds half'!$C$4:$N$31,9,FALSE)","v":{"$error":"#N/A"}},{"$f":"VLOOKUP(C181,Ilkley!$C$3:$L$46,7,FALSE)","v":{"$error":"#N/A"}},{"$f":"VLOOKUP(C181,Otley!$C$3:$L$46,9,FALSE)","v":{"$error":"#N/A"}},{"$f":"VLOOKUP(C181,Solstice!$C$3:$L$48,7,FALSE)","v":{"$error":"#N/A"}},{"$f":"VLOOKUP(C181,Eccup!$C$3:$L$46,9,FALSE)","v":0.42505050505050507},null,{"$f":"VLOOKUP(C181,Shakerr!$C$3:$L$46,7,FALSE)","v":{"$error":"#N/A"}},{"$f":"VLOOKUP(C181,VoY!$C$3:$L$46,9,FALSE)","v":{"$error":"#N/A"}},{"$f":"VLOOKUP(C181,Kirkstall!$C$3:$L$46,9,FALSE)","v":{"$error":"#N/A"}},{"$f":"VLOOKUP($C181,City!$C$3:$L$69,9,FALSE)","v":0.49182896798746362},{"$f":"VLOOKUP(C181,'Guy Fawkes'!$C$3:$N$34,9,FALSE)","v":{"$error":"#N/A"}},{"$f":"VLOOKUP(C181,Abbey!$C$3:$L$48,7,FALSE)","v":0.47006916289053186},{"$f":"VLOOKUP(C181,Chevin!$C$3:$L$50,7,FALSE)","v":{"$error":"#N/A"}},null,0,0,0,0,0,0,0,0,0,0,0,0,5,0,0,0,0,11,0,22,0,3]
[null,null,"Joanne O'Dwyer","1966-09-07",50,{"$f":"IFERROR(VLOOKUP(C182,'Division Lookup'!$A$2:$D$251,4,FALSE),\"Second\")","v":"Second"},{"$f":"VLOOKUP(C182,Dewsbury!$C$3:$L$46,7,FALSE)","v":{"$error":"#N/A"}},{"$f":"VLOOKUP($C182,Bradford!$C$3:$L$66,7,FALSE)","v":{"$error":"#N/A"}},{"$f":"VLOOKUP($C182,Keighley!$C$3:$N$42,9,FALSE)","v":{"$error":"#N/A"}},{"$f":"VLOOKUP($C182,'Bunny '!$C$3:$N$20,9,FALSE)","v":{"$error":"#N/A"}},{"$f":"VLOOKUP($C182,Liverpool!$C$3:$N$59,9,FALSE)","v":{"$error":"#N/A"}},{"$f":"VLOOKUP(C182,'VoY 10m'!$C$3:$N$40,9,FALSE)","v":{"$error":"#N/A"}},{"$f":"VLOOKUP(C182,Guisley!$C$3:$N$49,9,FALSE)","v":{"$error":"#N/A"}},{"$f":"VLOOKUP(C182,Odda!$C$3:$N$42,9,FALSE)","v":{"$error":"#N/A"}},{"$f":"VLOOKUP(C182,'Leeds half'!$C$4:$N$31,9,FALSE)","v":{"$error":"#N/A"}},{"$f":"VLOOKUP(C182,Ilkley!$C$3:$L$46,7,FALSE)","v":{"$error":"#N/A"}},{"$f":"VLOOKUP(C182,Otley!$C$3:$L$46,9,FALSE)","v":{"$error":"#N/A"}},{"$f":"VLOOKUP(C182,Solstice!$C$3:$L$48,7,FALSE)","v":{"$error":"#N/A"}},{"$f":"VLOOKUP(C182,Eccup!$C$3:$L$46,9,FALSE)","v":{"$error":"#N/A"}},null,{"$f":"VLOOKUP(C182,Shakerr!$C$3:$L$46,7,FALSE)","v":{"$error":"#N/A"}},{"$f":"VLOOKUP(C182,VoY!$C$3:$L$46,9,FALSE)","v":{"$error":"#N/A"}},{"$f":"VLOOKUP(C182,Kirkstall!$C$3:$L$46,9,FALSE)","v":{"$error":"#N/A"}},{"$f":"VLOOKUP($C182,City!$C$3:$L$69,9,FALSE)","v":{"$error":"#N/A"}},{"$f":"VLOOKUP(C182,'Guy Fawkes'!$C$3:$N$34,9,FALSE)","v":{"$error":"#N/A"}},{"$f":"VLOOKUP(C182,Abbey!$C$3:$L$48,7,FALSE)","v":{"$error":"#N/A"}},{"$f":"VLOOKUP(C182,Chevin!$C$3:$L$50,7,FALSE)","v":{"$error":"#N/A"}},null,0,0,0,0,0,0,0,0,0,0,0,0,0,0,0,0,0,0,0,0,0,0]
[null,null,"Ian Ogden","1971-12-29",45,{"$f":"IFERROR(VLOOKUP(C183,'Division Lookup'!$A$2:$D$251,4,FALSE),\"Second\")","v":"Second"},{"$f":"VLOOKUP(C183,Dewsbury!$C$3:$L$46,7,FALSE)","v":{"$error":"#N/A"}},{"$f":"VLOOKUP($C183,Bradford!$C$3:$L$66,7,FALSE)","v":{"$error":"#N/A"}},{"$f":"VLOOKUP($C183,Keighley!$C$3:$N$42,9,FALSE)","v":{"$error":"#N/A"}},{"$f":"VLOOKUP($C183,'Bunny '!$C$3:$N$20,9,FALSE)","v":{"$error":"#N/A"}},{"$f":"VLOOKUP($C183,Liverpool!$C$3:$N$59,9,FALSE)","v":{"$error":"#N/A"}},{"$f":"VLOOKUP(C183,'VoY 10m'!$C$3:$N$40,9,FALSE)","v":{"$error":"#N/A"}},{"$f":"VLOOKUP(C183,Guisley!$C$3:$N$49,9,FALSE)","v":{"$error":"#N/A"}},{"$f":"VLOOKUP(C183,Odda!$C$3:$N$42,9,FALSE)","v":{"$error":"#N/A"}},{"$f":"VLOOKUP(C183,'Leeds half'!$C$4:$N$31,9,FALSE)","v":{"$error":"#N/A"}},{"$f":"VLOOKUP(C183,Ilkley!$C$3:$L$46,7,FALSE)","v":{"$error":"#N/A"}},{"$f":"VLOOKUP(C183,Otley!$C$3:$L$46,9,FALSE)","v":{"$error":"#N/A"}},{"$f":"VLOOKUP(C183,Solstice!$C$3:$L$48,7,FALSE)","v":{"$error":"#N/A"}},{"$f":"VLOOKUP(C183,Eccup!$C$3:$L$46,9,FALSE)","v":{"$error":"#N/A"}},null,{"$f":"VLOOKUP(C183,Shakerr!$C$3:$L$46,7,FALSE)","v":{"$error":"#N/A"}},{"$f":"VLOOKUP(C183,VoY!$C$3:$L$46,9,FALSE)","v":{"$error":"#N/A"}},{"$f":"VLOOKUP(C183,Kirkstall!$C$3:$L$46,9,FALSE)","v":{"$error":"#N/A"}},{"$f":"VLOOKUP($C183,City!$C$3:$L$69,9,FALSE)","v":{"$error":"#N/A"}},{"$f":"VLOOKUP(C183,'Guy Fawkes'!$C$3:$N$34,9,FALSE)","v":{"$error":"#N/A"}},{"$f":"VLOOKUP(C183,Abbey!$C$3:$L$48,7,FALSE)","v":{"$error":"#N/A"}},{"$f":"VLOOKUP(C183,Chevin!$C$3:$L$50,7,FALSE)","v":{"$error":"#N/A"}},null,0,0,0,0,0,0,0,0,0,0,0,0,0,0,0,0,0,0,0,0,0,0]
[null,null,"Hannah Oldroyd","1987-05-27",29,{"$f":"IFERROR(VLOOKUP(C184,'Division Lookup'!$A$2:$D$251,4,FALSE),\"Second\")","v":"Second"},{"$f":"VLOOKUP(C184,Dewsbury!$C$3:$L$46,7,FALSE)","v":{"$error":"#N/A"}},{"$f":"VLOOKUP($C184,Bradford!$C$3:$L$66,7,FALSE)","v":{"$error":"#N/A"}},{"$f":"VLOOKUP($C184,Keighley!$C$3:$N$42,9,FALSE)","v":{"$error":"#N/A"}},{"$f":"VLOOKUP($C184,'Bunny '!$C$3:$N$20,9,FALSE)","v":{"$error":"#N/A"}},{"$f":"VLOOKUP($C184,Liverpool!$C$3:$N$59,9,FALSE)","v":{"$error":"#N/A"}},{"$f":"VLOOKUP(C184,'VoY 10m'!$C$3:$N$40,9,FALSE)","v":{"$error":"#N/A"}},{"$f":"VLOOKUP(C184,Guisley!$C$3:$N$49,9,FALSE)","v":{"$error":"#N/A"}},{"$f":"VLOOKUP(C184,Odda!$C$3:$N$42,9,FALSE)","v":{"$error":"#N/A"}},{"$f":"VLOOKUP(C184,'Leeds half'!$C$4:$N$31,9,FALSE)","v":{"$error":"#N/A"}},{"$f":"VLOOKUP(C184,Ilkley!$C$3:$L$46,7,FALSE)","v":{"$error":"#N/A"}},{"$f":"VLOOKUP(C184,Otley!$C$3:$L$46,9,FALSE)","v":{"$error":"#N/A"}},{"$f":"VLOOKUP(C184,Solstice!$C$3:$L$48,7,FALSE)","v":{"$error":"#N/A"}},{"$f":"VLOOKUP(C184,Eccup!$C$3:$L$46,9,FALSE)","v":{"$error":"#N/A"}},null,{"$f":"VLOOKUP(C184,Shakerr!$C$3:$L$46,7,FALSE)","v":{"$error":"#N/A"}},{"$f":"VLOOKUP(C184,VoY!$C$3:$L$46,9,FALSE)","v":{"$error":"#N/A"}},{"$f":"VLOOKUP(C184,Kirkstall!$C$3:$L$46,9,FALSE)","v":{"$error":"#N/A"}},{"$f":"VLOOKUP($C184,City!$C$3:$L$69,9,FALSE)","v":{"$error":"#N/A"}},{"$f":"VLOOKUP(C184,'Guy Fawkes'!$C$3:$N$34,9,FALSE)","v":{"$error":"#N/A"}},{"$f":"VLOOKUP(C184,Abbey!$C$3:$L$48,7,FALSE)","v":{"$error":"#N/A"}},{"$f":"VLOOKUP(C184,Chevin!$C$3:$L$50,7,FALSE)","v":{"$error":"#N/A"}},null,0,0,0,0,0,0,0,0,0,0,0,0,0,0,0,0,0,0,0,0,0,0]
[null,null,"Cristina Pacchiarini","1994-09-26",22,{"$f":"IFERROR(VLOOKUP(C185,'Division Lookup'!$A$2:$D$251,4,FALSE),\"Second\")","v":"Second"},{"$f":"VLOOKUP(C185,Dewsbury!$C$3:$L$46,7,FALSE)","v":{"$error":"#N/A"}},{"$f":"VLOOKUP($C185,Bradford!$C$3:$L$66,7,FALSE)","v":0.55437100213219603},{"$f":"VLOOKUP($C185,Keighley!$C$3:$N$42,9,FALSE)","v":{"$error":"#N/A"}},{"$f":"VLOOKUP($C185,'Bunny '!$C$3:$N$20,9,FALSE)","v":{"$error":"#N/A"}},{"$f":"VLOOKUP($C185,Liverpool!$C$3:$N$59,9,FALSE)","v":{"$error":"#N/A"}},{"$f":"VLOOKUP(C185,'VoY 10m'!$C$3:$N$40,9,FALSE)","v":{"$error":"#N/A"}},{"$f":"VLOOKUP(C185,Guisley!$C$3:$N$49,9,FALSE)","v":{"$error":"#N/A"}},{"$f":"VLOOKUP(C185,Odda!$C$3:$N$42,9,FALSE)","v":{"$error":"#N/A"}},{"$f":"VLOOKUP(C185,'Leeds half'!$C$4:$N$31,9,FALSE)","v":{"$error":"#N/A"}},{"$f":"VLOOKUP(C185,Ilkley!$C$3:$L$46,7,FALSE)","v":{"$error":"#N/A"}},{"$f":"VLOOKUP(C185,Otley!$C$3:$L$46,9,FALSE)","v":{"$error":"#N/A"}},{"$f":"VLOOKUP(C185,Solstice!$C$3:$L$48,7,FALSE)","v":{"$error":"#N/A"}},{"$f":"VLOOKUP(C185,Eccup!$C$3:$L$46,9,FALSE)","v":{"$error":"#N/A"}},null,{"$f":"VLOOKUP(C185,Shakerr!$C$3:$L$46,7,FALSE)","v":{"$error":"#N/A"}},{"$f":"VLOOKUP(C185,VoY!$C$3:$L$46,9,FALSE)","v":{"$error":"#N/A"}},{"$f":"VLOOKUP(C185,Kirkstall!$C$3:$L$46,9,FALSE)","v":{"$error":"#N/A"}},{"$f":"VLOOKUP($C185,City!$C$3:$L$69,9,FALSE)","v":{"$error":"#N/A"}},{"$f":"VLOOKUP(C185,'Guy Fawkes'!$C$3:$N$34,9,FALSE)","v":{"$error":"#N/A"}},{"$f":"VLOOKUP(C185,Abbey!$C$3:$L$48,7,FALSE)","v":{"$error":"#N/A"}},{"$f":"VLOOKUP(C185,Chevin!$C$3:$L$50,7,FALSE)","v":{"$error":"#N/A"}},null,0,14,0,0,0,0,0,0,0,0,0,0,0,0,0,0,0,0,0,0,0,1]
[null,null,"Darren Parker","1969-04-16",47,{"$f":"IFERROR(VLOOKUP(C186,'Division Lookup'!$A$2:$D$251,4,FALSE),\"Second\")","v":"Second"},{"$f":"VLOOKUP(C186,Dewsbury!$C$3:$L$46,7,FALSE)","v":{"$error":"#N/A"}},{"$f":"VLOOKUP($C186,Bradford!$C$3:$L$66,7,FALSE)","v":{"$error":"#N/A"}},{"$f":"VLOOKUP($C186,Keighley!$C$3:$N$42,9,FALSE)","v":{"$error":"#N/A"}},{"$f":"VLOOKUP($C186,'Bunny '!$C$3:$N$20,9,FALSE)","v":{"$error":"#N/A"}},{"$f":"VLOOKUP($C186,Liverpool!$C$3:$N$59,9,FALSE)","v":{"$error":"#N/A"}},{"$f":"VLOOKUP(C186,'VoY 10m'!$C$3:$N$40,9,FALSE)","v":{"$error":"#N/A"}},{"$f":"VLOOKUP(C186,Guisley!$C$3:$N$49,9,FALSE)","v":{"$error":"#N/A"}},{"$f":"VLOOKUP(C186,Odda!$C$3:$N$42,9,FALSE)","v":{"$error":"#N/A"}},{"$f":"VLOOKUP(C186,'Leeds half'!$C$4:$N$31,9,FALSE)","v":{"$error":"#N/A"}},{"$f":"VLOOKUP(C186,Ilkley!$C$3:$L$46,7,FALSE)","v":{"$error":"#N/A"}},{"$f":"VLOOKUP(C186,Otley!$C$3:$L$46,9,FALSE)","v":{"$error":"#N/A"}},{"$f":"VLOOKUP(C186,Solstice!$C$3:$L$48,7,FALSE)","v":{"$error":"#N/A"}},{"$f":"VLOOKUP(C186,Eccup!$C$3:$L$46,9,FALSE)","v":{"$error":"#N/A"}},null,{"$f":"VLOOKUP(C186,Shakerr!$C$3:$L$46,7,FALSE)","v":{"$error":"#N/A"}},{"$f":"VLOOKUP(C186,VoY!$C$3:$L$46,9,FALSE)","v":{"$error":"#N/A"}},{"$f":"VLOOKUP(C186,Kirkstall!$C$3:$L$46,9,FALSE)","v":{"$error":"#N/A"}},{"$f":"VLOOKUP($C186,City!$C$3:$L$69,9,FALSE)","v":{"$error":"#N/A"}},{"$f":"VLOOKUP(C186,'Guy Fawkes'!$C$3:$N$34,9,FALSE)","v":{"$error":"#N/A"}},{"$f":"VLOOKUP(C186,Abbey!$C$3:$L$48,7,FALSE)","v":{"$error":"#N/A"}},{"$f":"VLOOKUP(C186,Chevin!$C$3:$L$50,7,FALSE)","v":{"$error":"#N/A"}},null,0,0,0,0,0,0,0,0,0,0,0,0,0,0,0,0,0,0,0,0,0,0]
[null,null,"Rachel Parker","1971-08-10",45,{"$f":"IFERROR(VLOOKUP(C187,'Division Lookup'!$A$2:$D$251,4,FALSE),\"Second\")","v":"Premier"},{"$f":"VLOOKUP(C187,Dewsbury!$C$3:$L$46,7,FALSE)","v":{"$error":"#N/A"}},{"$f":"VLOOKUP($C187,Bradford!$C$3:$L$66,7,FALSE)","v":{"$error":"#N/A"}},{"$f":"VLOOKUP($C187,Keighley!$C$3:$N$42,9,FALSE)","v":{"$error":"#N/A"}},{"$f":"VLOOKUP($C187,'Bunny '!$C$3:$N$20,9,FALSE)","v":{"$error":"#N/A"}},{"$f":"VLOOKUP($C187,Liverpool!$C$3:$N$59,9,FALSE)","v":{"$error":"#N/A"}},{"$f":"VLOOKUP(C187,'VoY 10m'!$C$3:$N$40,9,FALSE)","v":0.58079157588961505},{"$f":"VLOOKUP(C187,Guisley!$C$3:$N$49,9,FALSE)","v":0.48414434117003824},{"$f":"VLOOKUP(C187,Odda!$C$3:$N$42,9,FALSE)","v":{"$error":"#N/A"}},{"$f":"VLOOKUP(C187,'Leeds half'!$C$4:$N$31,9,FALSE)","v":{"$error":"#N/A"}},{"$f":"VLOOKUP(C187,Ilkley!$C$3:$L$46,7,FALSE)","v":{"$error":"#N/A"}},{"$f":"VLOOKUP(C187,Otley!$C$3:$L$46,9,FALSE)","v":0.52034414769671988},{"$f":"VLOOKUP(C187,Solstice!$C$3:$L$48,7,FALSE)","v":0.52777777777777768},{"$f":"VLOOKUP(C187,Eccup!$C$3:$L$46,9,FALSE)","v":{"$error":"#N/A"}},null,{"$f":"VLOOKUP(C187,Shakerr!$C$3:$L$46,7,FALSE)","v":{"$error":"#N/A"}},{"$f":"VLOOKUP(C187,VoY!$C$3:$L$46,9,FALSE)","v":{"$error":"#N/A"}},{"$f":"VLOOKUP(C187,Kirkstall!$C$3:$L$46,9,FALSE)","v":{"$error":"#N/A"}},{"$f":"VLOOKUP($C187,City!$C$3:$L$69,9,FALSE)","v":0.63322259136212633},{"$f":"VLOOKUP(C187,'Guy Fawkes'!$C$3:$N$34,9,FALSE)","v":0.5444486121530383},{"$f":"VLOOKUP(C187,Abbey!$C$3:$L$48,7,FALSE)","v":{"$error":"#N/A"}},{"$f":"VLOOKUP(C187,Chevin!$C$3:$L$50,7,FALSE)","v":{"$error":"#N/A"}},null,0,0,0,0,0,3,9,0,0,0,12,12,0,0,0,0,0,11,13,0,0,6]
[null,null,"Laura Parkin","1987-03-22",29,{"$f":"IFERROR(VLOOKUP(C188,'Division Lookup'!$A$2:$D$251,4,FALSE),\"Second\")","v":"Second"},{"$f":"VLOOKUP(C188,Dewsbury!$C$3:$L$46,7,FALSE)","v":{"$error":"#N/A"}},{"$f":"VLOOKUP($C188,Bradford!$C$3:$L$66,7,FALSE)","v":{"$error":"#N/A"}},{"$f":"VLOOKUP($C188,Keighley!$C$3:$N$42,9,FALSE)","v":{"$error":"#N/A"}},{"$f":"VLOOKUP($C188,'Bunny '!$C$3:$N$20,9,FALSE)","v":{"$error":"#N/A"}},{"$f":"VLOOKUP($C188,Liverpool!$C$3:$N$59,9,FALSE)","v":{"$error":"#N/A"}},{"$f":"VLOOKUP(C188,'VoY 10m'!$C$3:$N$40,9,FALSE)","v":{"$error":"#N/A"}},{"$f":"VLOOKUP(C188,Guisley!$C$3:$N$49,9,FALSE)","v":{"$error":"#N/A"}},{"$f":"VLOOKUP(C188,Odda!$C$3:$N$42,9,FALSE)","v":{"$error":"#N/A"}},{"$f":"VLOOKUP(C188,'Leeds half'!$C$4:$N$31,9,FALSE)","v":{"$error":"#N/A"}},{"$f":"VLOOKUP(C188,Ilkley!$C$3:$L$46,7,FALSE)","v":{"$error":"#N/A"}},{"$f":"VLOOKUP(C188,Otley!$C$3:$L$46,9,FALSE)","v":{"$error":"#N/A"}},{"$f":"VLOOKUP(C188,Solstice!$C$3:$L$48,7,FALSE)","v":{"$error":"#N/A"}},{"$f":"VLOOKUP(C188,Eccup!$C$3:$L$46,9,FALSE)","v":{"$error":"#N/A"}},null,{"$f":"VLOOKUP(C188,Shakerr!$C$3:$L$46,7,FALSE)","v":{"$error":"#N/A"}},{"$f":"VLOOKUP(C188,VoY!$C$3:$L$46,9,FALSE)","v":{"$error":"#N/A"}},{"$f":"VLOOKUP(C188,Kirkstall!$C$3:$L$46,9,FALSE)","v":{"$error":"#N/A"}},{"$f":"VLOOKUP($C188,City!$C$3:$L$69,9,FALSE)","v":{"$error":"#N/A"}},{"$f":"VLOOKUP(C188,'Guy Fawkes'!$C$3:$N$34,9,FALSE)","v":{"$error":"#N/A"}},{"$f":"VLOOKUP(C188,Abbey!$C$3:$L$48,7,FALSE)","v":{"$error":"#N/A"}},{"$f":"VLOOKUP(C188,Chevin!$C$3:$L$50,7,FALSE)","v":{"$error":"#N/A"}},null,0,0,0,0,0,0,0,0,0,0,0,0,0,0,0,0,0,0,0,0,0,0]
[null,null,"Hannah Partner","1982-02-15",34,{"$f":"IFERROR(VLOOKUP(C189,'Division Lookup'!$A$2:$D$251,4,FALSE),\"Second\")","v":"Second"},{"$f":"VLOOKUP(C189,Dewsbury!$C$3:$L$46,7,FALSE)","v":{"$error":"#N/A"}},{"$f":"VLOOKUP($C189,Bradford!$C$3:$L$66,7,FALSE)","v":{"$error":"#N/A"}},{"$f":"VLOOKUP($C189,Keighley!$C$3:$N$42,9,FALSE)","v":{"$error":"#N/A"}},{"$f":"VLOOKUP($C189,'Bunny '!$C$3:$N$20,9,FALSE)","v":{"$error":"#N/A"}},{"$f":"VLOOKUP($C189,Liverpool!$C$3:$N$59,9,FALSE)","v":{"$error":"#N/A"}},{"$f":"VLOOKUP(C189,'VoY 10m'!$C$3:$N$40,9,FALSE)","v":{"$error":"#N/A"}},{"$f":"VLOOKUP(C189,Guisley!$C$3:$N$49,9,FALSE)","v":{"$error":"#N/A"}},{"$f":"VLOOKUP(C189,Odda!$C$3:$N$42,9,FALSE)","v":{"$error":"#N/A"}},{"$f":"VLOOKUP(C189,'Leeds half'!$C$4:$N$31,9,FALSE)","v":{"$error":"#N/A"}},{"$f":"VLOOKUP(C189,Ilkley!$C$3:$L$46,7,FALSE)","v":{"$error":"#N/A"}},{"$f":"VLOOKUP(C189,Otley!$C$3:$L$46,9,FALSE)","v":{"$error":"#N/A"}},{"$f":"VLOOKUP(C189,Solstice!$C$3:$L$48,7,FALSE)","v":{"$error":"#N/A"}},{"$f":"VLOOKUP(C189,Eccup!$C$3:$L$46,9,FALSE)","v":{"$error":"#N/A"}},null,{"$f":"VLOOKUP(C189,Shakerr!$C$3:$L$46,7,FALSE)","v":{"$error":"#N/A"}},{"$f":"VLOOKUP(C189,VoY!$C$3:$L$46,9,FALSE)","v":{"$error":"#N/A"}},{"$f":"VLOOKUP(C189,Kirkstall!$C$3:$L$46,9,FALSE)","v":{"$error":"#N/A"}},{"$f":"VLOOKUP($C189,City!$C$3:$L$69,9,FALSE)","v":{"$error":"#N/A"}},{"$f":"VLOOKUP(C189,'Guy Fawkes'!$C$3:$N$34,9,FALSE)","v":{"$error":"#N/A"}},{"$f":"VLOOKUP(C189,Abbey!$C$3:$L$48,7,FALSE)","v":{"$error":"#N/A"}},{"$f":"VLOOKUP(C189,Chevin!$C$3:$L$50,7,FALSE)","v":{"$error":"#N/A"}},null,0,0,0,0,0,0,0,0,0,0,0,0,0,0,0,0,0,0,0,0,0,0]
[null,null,"Simon Pass","1970-11-26",46,{"$f":"IFERROR(VLOOKUP(C190,'Division Lookup'!$A$2:$D$251,4,FALSE),\"Second\")","v":"Second"},{"$f":"VLOOKUP(C190,Dewsbury!$C$3:$L$46,7,FALSE)","v":{"$error":"#N/A"}},{"$f":"VLOOKUP($C190,Bradford!$C$3:$L$66,7,FALSE)","v":{"$error":"#N/A"}},{"$f":"VLOOKUP($C190,Keighley!$C$3:$N$42,9,FALSE)","v":{"$error":"#N/A"}},{"$f":"VLOOKUP($C190,'Bunny '!$C$3:$N$20,9,FALSE)","v":{"$error":"#N/A"}},{"$f":"VLOOKUP($C190,Liverpool!$C$3:$N$59,9,FALSE)","v":{"$error":"#N/A"}},{"$f":"VLOOKUP(C190,'VoY 10m'!$C$3:$N$40,9,FALSE)","v":{"$error":"#N/A"}},{"$f":"VLOOKUP(C190,Guisley!$C$3:$N$49,9,FALSE)","v":{"$error":"#N/A"}},{"$f":"VLOOKUP(C190,Odda!$C$3:$N$42,9,FALSE)","v":{"$error":"#N/A"}},{"$f":"VLOOKUP(C190,'Leeds half'!$C$4:$N$31,9,FALSE)","v":{"$error":"#N/A"}},{"$f":"VLOOKUP(C190,Ilkley!$C$3:$L$46,7,FALSE)","v":{"$error":"#N/A"}},{"$f":"VLOOKUP(C190,Otley!$C$3:$L$46,9,FALSE)","v":{"$error":"#N/A"}},{"$f":"VLOOKUP(C190,Solstice!$C$3:$L$48,7,FALSE)","v":{"$error":"#N/A"}},{"$f":"VLOOKUP(C190,Eccup!$C$3:$L$46,9,FALSE)","v":{"$error":"#N/A"}},null,{"$f":"VLOOKUP(C190,Shakerr!$C$3:$L$46,7,FALSE)","v":{"$error":"#N/A"}},{"$f":"VLOOKUP(C190,VoY!$C$3:$L$46,9,FALSE)","v":{"$error":"#N/A"}},{"$f":"VLOOKUP(C190,Kirkstall!$C$3:$L$46,9,FALSE)","v":{"$error":"#N/A"}},{"$f":"VLOOKUP($C190,City!$C$3:$L$69,9,FALSE)","v":{"$error":"#N/A"}},{"$f":"VLOOKUP(C190,'Guy Fawkes'!$C$3:$N$34,9,FALSE)","v":{"$error":"#N/A"}},{"$f":"VLOOKUP(C190,Abbey!$C$3:$L$48,7,FALSE)","v":{"$error":"#N/A"}},{"$f":"VLOOKUP(C190,Chevin!$C$3:$L$50,7,FALSE)","v":{"$error":"#N/A"}},null,0,0,0,0,0,0,0,0,0,0,0,0,0,0,0,0,0,0,0,0,0,0]
[null,null,"Megan Paul","1987-10-21",29,{"$f":"IFERROR(VLOOKUP(C191,'Division Lookup'!$A$2:$D$251,4,FALSE),\"Second\")","v":"Second"},{"$f":"VLOOKUP(C191,Dewsbury!$C$3:$L$46,7,FALSE)","v":{"$error":"#N/A"}},{"$f":"VLOOKUP($C191,Bradford!$C$3:$L$66,7,FALSE)","v":0.53554817275747513},{"$f":"VLOOKUP($C191,Keighley!$C$3:$N$42,9,FALSE)","v":{"$error":"#N/A"}},{"$f":"VLOOKUP($C191,'Bunny '!$C$3:$N$20,9,FALSE)","v":{"$error":"#N/A"}},{"$f":"VLOOKUP($C191,Liverpool!$C$3:$N$59,9,FALSE)","v":{"$error":"#N/A"}},{"$f":"VLOOKUP(C191,'VoY 10m'!$C$3:$N$40,9,FALSE)","v":{"$error":"#N/A"}},{"$f":"VLOOKUP(C191,Guisley!$C$3:$N$49,9,FALSE)","v":{"$error":"#N/A"}},{"$f":"VLOOKUP(C191,Odda!$C$3:$N$42,9,FALSE)","v":{"$error":"#N/A"}},{"$f":"VLOOKUP(C191,'Leeds half'!$C$4:$N$31,9,FALSE)","v":{"$error":"#N/A"}},{"$f":"VLOOKUP(C191,Ilkley!$C$3:$L$46,7,FALSE)","v":{"$error":"#N/A"}},{"$f":"VLOOKUP(C191,Otley!$C$3:$L$46,9,FALSE)","v":{"$error":"#N/A"}},{"$f":"VLOOKUP(C191,Solstice!$C$3:$L$48,7,FALSE)","v":{"$error":"#N/A"}},{"$f":"VLOOKUP(C191,Eccup!$C$3:$L$46,9,FALSE)","v":{"$error":"#N/A"}},null,{"$f":"VLOOKUP(C191,Shakerr!$C$3:$L$46,7,FALSE)","v":{"$error":"#N/A"}},{"$f":"VLOOKUP(C191,VoY!$C$3:$L$46,9,FALSE)","v":{"$error":"#N/A"}},{"$f":"VLOOKUP(C191,Kirkstall!$C$3:$L$46,9,FALSE)","v":{"$error":"#N/A"}},{"$f":"VLOOKUP($C191,City!$C$3:$L$69,9,FALSE)","v":{"$error":"#N/A"}},{"$f":"VLOOKUP(C191,'Guy Fawkes'!$C$3:$N$34,9,FALSE)","v":{"$error":"#N/A"}},{"$f":"VLOOKUP(C191,Abbey!$C$3:$L$48,7,FALSE)","v":0.56803995006242192},{"$f":"VLOOKUP(C191,Chevin!$C$3:$L$50,7,FALSE)","v":{"$error":"#N/A"}},null,0,20,0,0,0,0,0,0,0,0,0,0,0,0,0,0,0,0,0,11,0,2]
[null,null,"Benjamin Pearson","1991-05-10",25,{"$f":"IFERROR(VLOOKUP(C192,'Division Lookup'!$A$2:$D$251,4,FALSE),\"Second\")","v":"Second"},{"$f":"VLOOKUP(C192,Dewsbury!$C$3:$L$46,7,FALSE)","v":{"$error":"#N/A"}},{"$f":"VLOOKUP($C192,Bradford!$C$3:$L$66,7,FALSE)","v":0.65301986218078634},{"$f":"VLOOKUP($C192,Keighley!$C$3:$N$42,9,FALSE)","v":{"$error":"#N/A"}},{"$f":"VLOOKUP($C192,'Bunny '!$C$3:$N$20,9,FALSE)","v":{"$error":"#N/A"}},{"$f":"VLOOKUP($C192,Liverpool!$C$3:$N$59,9,FALSE)","v":{"$error":"#N/A"}},{"$f":"VLOOKUP(C192,'VoY 10m'!$C$3:$N$40,9,FALSE)","v":{"$error":"#N/A"}},{"$f":"VLOOKUP(C192,Guisley!$C$3:$N$49,9,FALSE)","v":{"$error":"#N/A"}},{"$f":"VLOOKUP(C192,Odda!$C$3:$N$42,9,FALSE)","v":{"$error":"#N/A"}},{"$f":"VLOOKUP(C192,'Leeds half'!$C$4:$N$31,9,FALSE)","v":{"$error":"#N/A"}},{"$f":"VLOOKUP(C192,Ilkley!$C$3:$L$46,7,FALSE)","v":{"$error":"#N/A"}},{"$f":"VLOOKUP(C192,Otley!$C$3:$L$46,9,FALSE)","v":{"$error":"#N/A"}},{"$f":"VLOOKUP(C192,Solstice!$C$3:$L$48,7,FALSE)","v":{"$error":"#N/A"}},{"$f":"VLOOKUP(C192,Eccup!$C$3:$L$46,9,FALSE)","v":{"$error":"#N/A"}},null,{"$f":"VLOOKUP(C192,Shakerr!$C$3:$L$46,7,FALSE)","v":{"$error":"#N/A"}},{"$f":"VLOOKUP(C192,VoY!$C$3:$L$46,9,FALSE)","v":{"$error":"#N/A"}},{"$f":"VLOOKUP(C192,Kirkstall!$C$3:$L$46,9,FALSE)","v":{"$error":"#N/A"}},{"$f":"VLOOKUP($C192,City!$C$3:$L$69,9,FALSE)","v":{"$error":"#N/A"}},{"$f":"VLOOKUP(C192,'Guy Fawkes'!$C$3:$N$34,9,FALSE)","v":{"$error":"#N/A"}},{"$f":"VLOOKUP(C192,Abbey!$C$3:$L$48,7,FALSE)","v":{"$error":"#N/A"}},{"$f":"VLOOKUP(C192,Chevin!$C$3:$L$50,7,FALSE)","v":0.55269121813031152},null,0,3,0,0,0,0,0,0,0,0,0,0,0,0,0,0,0,0,0,0,4,2]
[null,null,"Lindsey Pearson","1958-07-18",58,{"$f":"IFERROR(VLOOKUP(C193,'Division Lookup'!$A$2:$D$251,4,FALSE),\"Second\")","v":"Second"},{"$f":"VLOOKUP(C193,Dewsbury!$C$3:$L$46,7,FALSE)","v":{"$error":"#N/A"}},{"$f":"VLOOKUP($C193,Bradford!$C$3:$L$66,7,FALSE)","v":{"$error":"#N/A"}},{"$f":"VLOOKUP($C193,Keighley!$C$3:$N$42,9,FALSE)","v":{"$error":"#N/A"}},{"$f":"VLOOKUP($C193,'Bunny '!$C$3:$N$20,9,FALSE)","v":{"$error":"#N/A"}},{"$f":"VLOOKUP($C193,Liverpool!$C$3:$N$59,9,FALSE)","v":{"$error":"#N/A"}},{"$f":"VLOOKUP(C193,'VoY 10m'!$C$3:$N$40,9,FALSE)","v":{"$error":"#N/A"}},{"$f":"VLOOKUP(C193,Guisley!$C$3:$N$49,9,FALSE)","v":{"$error":"#N/A"}},{"$f":"VLOOKUP(C193,Odda!$C$3:$N$42,9,FALSE)","v":{"$error":"#N/A"}},{"$f":"VLOOKUP(C193,'Leeds half'!$C$4:$N$31,9,FALSE)","v":{"$error":"#N/A"}},{"$f":"VLOOKUP(C193,Ilkley!$C$3:$L$46,7,FALSE)","v":{"$error":"#N/A"}},{"$f":"VLOOKUP(C193,Otley!$C$3:$L$46,9,FALSE)","v":{"$error":"#N/A"}},{"$f":"VLOOKUP(C193,Solstice!$C$3:$L$48,7,FALSE)","v":{"$error":"#N/A"}},{"$f":"VLOOKUP(C193,Eccup!$C$3:$L$46,9,FALSE)","v":{"$error":"#N/A"}},null,{"$f":"VLOOKUP(C193,Shakerr!$C$3:$L$46,7,FALSE)","v":{"$error":"#N/A"}},{"$f":"VLOOKUP(C193,VoY!$C$3:$L$46,9,FALSE)","v":{"$error":"#N/A"}},{"$f":"VLOOKUP(C193,Kirkstall!$C$3:$L$46,9,FALSE)","v":{"$error":"#N/A"}},{"$f":"VLOOKUP($C193,City!$C$3:$L$69,9,FALSE)","v":{"$error":"#N/A"}},{"$f":"VLOOKUP(C193,'Guy Fawkes'!$C$3:$N$34,9,FALSE)","v":{"$error":"#N/A"}},{"$f":"VLOOKUP(C193,Abbey!$C$3:$L$48,7,FALSE)","v":{"$error":"#N/A"}},{"$f":"VLOOKUP(C193,Chevin!$C$3:$L$50,7,FALSE)","v":{"$error":"#N/A"}},null,0,0,0,0,0,0,0,0,0,0,0,0,0,0,0,0,0,0,0,0,0,0]
[null,null,"Gary Pennington","1964-08-07",52,{"$f":"IFERROR(VLOOKUP(C194,'Division Lookup'!$A$2:$D$251,4,FALSE),\"Second\")","v":"Premier"},{"$f":"VLOOKUP(C194,Dewsbury!$C$3:$L$46,7,FALSE)","v":0.65730337078651691},{"$f":"VLOOKUP($C194,Bradford!$C$3:$L$66,7,FALSE)","v":{"$error":"#N/A"}},{"$f":"VLOOKUP($C194,Keighley!$C$3:$N$42,9,FALSE)","v":{"$error":"#N/A"}},{"$f":"VLOOKUP($C194,'Bunny '!$C$3:$N$20,9,FALSE)","v":{"$error":"#N/A"}},{"$f":"VLOOKUP($C194,Liverpool!$C$3:$N$59,9,FALSE)","v":{"$error":"#N/A"}},{"$f":"VLOOKUP(C194,'VoY 10m'!$C$3:$N$40,9,FALSE)","v":{"$error":"#N/A"}},{"$f":"VLOOKUP(C194,Guisley!$C$3:$N$49,9,FALSE)","v":{"$error":"#N/A"}},{"$f":"VLOOKUP(C194,Odda!$C$3:$N$42,9,FALSE)","v":{"$error":"#N/A"}},{"$f":"VLOOKUP(C194,'Leeds half'!$C$4:$N$31,9,FALSE)","v":{"$error":"#N/A"}},{"$f":"VLOOKUP(C194,Ilkley!$C$3:$L$46,7,FALSE)","v":{"$error":"#N/A"}},{"$f":"VLOOKUP(C194,Otley!$C$3:$L$46,9,FALSE)","v":{"$error":"#N/A"}},{"$f":"VLOOKUP(C194,Solstice!$C$3:$L$48,7,FALSE)","v":{"$error":"#N/A"}},{"$f":"VLOOKUP(C194,Eccup!$C$3:$L$46,9,FALSE)","v":{"$error":"#N/A"}},null,{"$f":"VLOOKUP(C194,Shakerr!$C$3:$L$46,7,FALSE)","v":{"$error":"#N/A"}},{"$f":"VLOOKUP(C194,VoY!$C$3:$L$46,9,FALSE)","v":{"$error":"#N/A"}},{"$f":"VLOOKUP(C194,Kirkstall!$C$3:$L$46,9,FALSE)","v":0.68566232191573195},{"$f":"VLOOKUP($C194,City!$C$3:$L$69,9,FALSE)","v":0.65730337078651691},{"$f":"VLOOKUP(C194,'Guy Fawkes'!$C$3:$N$34,9,FALSE)","v":0.62729498164014696},{"$f":"VLOOKUP(C194,Abbey!$C$3:$L$48,7,FALSE)","v":{"$error":"#N/A"}},{"$f":"VLOOKUP(C194,Chevin!$C$3:$L$50,7,FALSE)","v":0.6150081566068516},null,8,0,0,0,0,0,0,0,0,0,0,0,0,0,0,0,2,8,5,0,3,5]
[null,null,"Helen Pennington","1971-08-23",{"$f":"DATEDIF(D195,$E$1,\"Y\")","v":45},{"$f":"IFERROR(VLOOKUP(C195,'Division Lookup'!$A$2:$D$251,4,FALSE),\"Second\")","v":"Second"},{"$f":"VLOOKUP(C195,Dewsbury!$C$3:$L$46,7,FALSE)","v":{"$error":"#N/A"}},{"$f":"VLOOKUP($C195,Bradford!$C$3:$L$66,7,FALSE)","v":{"$error":"#N/A"}},{"$f":"VLOOKUP($C195,Keighley!$C$3:$N$42,9,FALSE)","v":{"$error":"#N/A"}},{"$f":"VLOOKUP($C195,'Bunny '!$C$3:$N$20,9,FALSE)","v":{"$error":"#N/A"}},{"$f":"VLOOKUP($C195,Liverpool!$C$3:$N$59,9,FALSE)","v":{"$error":"#N/A"}},{"$f":"VLOOKUP(C195,'VoY 10m'!$C$3:$N$40,9,FALSE)","v":{"$error":"#N/A"}},{"$f":"VLOOKUP(C195,Guisley!$C$3:$N$49,9,FALSE)","v":{"$error":"#N/A"}},{"$f":"VLOOKUP(C195,Odda!$C$3:$N$42,9,FALSE)","v":{"$error":"#N/A"}},{"$f":"VLOOKUP(C195,'Leeds half'!$C$4:$N$31,9,FALSE)","v":{"$error":"#N/A"}},{"$f":"VLOOKUP(C195,Ilkley!$C$3:$L$46,7,FALSE)","v":{"$error":"#N/A"}},{"$f":"VLOOKUP(C195,Otley!$C$3:$L$46,9,FALSE)","v":{"$error":"#N/A"}},{"$f":"VLOOKUP(C195,Solstice!$C$3:$L$48,7,FALSE)","v":{"$error":"#N/A"}},{"$f":"VLOOKUP(C195,Eccup!$C$3:$L$46,9,FALSE)","v":{"$error":"#N/A"}},null,{"$f":"VLOOKUP(C195,Shakerr!$C$3:$L$46,7,FALSE)","v":{"$error":"#N/A"}},{"$f":"VLOOKUP(C195,VoY!$C$3:$L$46,9,FALSE)","v":{"$error":"#N/A"}},{"$f":"VLOOKUP(C195,Kirkstall!$C$3:$L$46,9,FALSE)","v":{"$error":"#N/A"}},{"$f":"VLOOKUP($C195,City!$C$3:$L$69,9,FALSE)","v":{"$error":"#N/A"}},{"$f":"VLOOKUP(C195,'Guy Fawkes'!$C$3:$N$34,9,FALSE)","v":{"$error":"#N/A"}},{"$f":"VLOOKUP(C195,Abbey!$C$3:$L$48,7,FALSE)","v":{"$error":"#N/A"}},{"$f":"VLOOKUP(C195,Chevin!$C$3:$L$50,7,FALSE)","v":{"$error":"#N/A"}},null,{"$f":"IF(ISNA(G195),0,1+COUNTIFS($F$3:$F$399,$F195,G$3:G$399,\">\"&G195))","v":0},{"$f":"IF(ISNA(H195),0,1+COUNTIFS($F$3:$F$399,$F195,H$3:H$399,\">\"&H195))","v":0},{"$f":"IF(ISNA(I195),0,1+COUNTIFS($F$3:$F$399,$F195,I$3:I$399,\">\"&I195))","v":0},{"$f":"IF(ISNA(J195),0,1+COUNTIFS($F$3:$F$399,$F195,J$3:J$399,\">\"&J195))","v":0},{"$f":"IF(ISNA(K195),0,1+COUNTIFS($F$3:$F$399,$F195,K$3:K$399,\">\"&K195))","v":0},{"$f":"IF(ISNA(L195),0,1+COUNTIFS($F$3:$F$399,$F195,L$3:L$399,\">\"&L195))","v":0},{"$f":"IF(ISNA(M195),0,1+COUNTIFS($F$3:$F$399,$F195,M$3:M$399,\">\"&M195))","v":0},{"$f":"IF(ISNA(N195),0,1+COUNTIFS($F$3:$F$399,$F195,N$3:N$399,\">\"&N195))","v":0},0,0,0,0,0,0,0,0,0,0,0,0,0,{"$f":"COUNTIF(AC195:AW195,\">0\")","v":0}]
[null,null,"Sheila Pepper","1952-01-25",64,{"$f":"IFERROR(VLOOKUP(C196,'Division Lookup'!$A$2:$D$251,4,FALSE),\"Second\")","v":"Second"},{"$f":"VLOOKUP(C196,Dewsbury!$C$3:$L$46,7,FALSE)","v":{"$error":"#N/A"}},{"$f":"VLOOKUP($C196,Bradford!$C$3:$L$66,7,FALSE)","v":{"$error":"#N/A"}},{"$f":"VLOOKUP($C196,Keighley!$C$3:$N$42,9,FALSE)","v":{"$error":"#N/A"}},{"$f":"VLOOKUP($C196,'Bunny '!$C$3:$N$20,9,FALSE)","v":{"$error":"#N/A"}},{"$f":"VLOOKUP($C196,Liverpool!$C$3:$N$59,9,FALSE)","v":{"$error":"#N/A"}},{"$f":"VLOOKUP(C196,'VoY 10m'!$C$3:$N$40,9,FALSE)","v":{"$error":"#N/A"}},{"$f":"VLOOKUP(C196,Guisley!$C$3:$N$49,9,FALSE)","v":{"$error":"#N/A"}},{"$f":"VLOOKUP(C196,Odda!$C$3:$N$42,9,FALSE)","v":{"$error":"#N/A"}},{"$f":"VLOOKUP(C196,'Leeds half'!$C$4:$N$31,9,FALSE)","v":{"$error":"#N/A"}},{"$f":"VLOOKUP(C196,Ilkley!$C$3:$L$46,7,FALSE)","v":{"$error":"#N/A"}},{"$f":"VLOOKUP(C196,Otley!$C$3:$L$46,9,FALSE)","v":{"$error":"#N/A"}},{"$f":"VLOOKUP(C196,Solstice!$C$3:$L$48,7,FALSE)","v":0.50688424273329935},{"$f":"VLOOKUP(C196,Eccup!$C$3:$L$46,9,FALSE)","v":{"$error":"#N/A"}},null,{"$f":"VLOOKUP(C196,Shakerr!$C$3:$L$46,7,FALSE)","v":{"$error":"#N/A"}},{"$f":"VLOOKUP(C196,VoY!$C$3:$L$46,9,FALSE)","v":0.58596035099122523},{"$f":"VLOOKUP(C196,Kirkstall!$C$3:$L$46,9,FALSE)","v":{"$error":"#N/A"}},{"$f":"VLOOKUP($C196,City!$C$3:$L$69,9,FALSE)","v":{"$error":"#N/A"}},{"$f":"VLOOKUP(C196,'Guy Fawkes'!$C$3:$N$34,9,FALSE)","v":{"$error":"#N/A"}},{"$f":"VLOOKUP(C196,Abbey!$C$3:$L$48,7,FALSE)","v":{"$error":"#N/A"}},{"$f":"VLOOKUP(C196,Chevin!$C$3:$L$50,7,FALSE)","v":{"$error":"#N/A"}},null,0,0,0,0,0,0,0,0,{"$f":"IF(ISNA(O196),0,1+COUNTIFS($F$3:$F$399,$F196,O$3:O$399,\">\"&O196))","v":0},{"$f":"IF(ISNA(P196),0,1+COUNTIFS($F$3:$F$399,$F196,P$3:P$399,\">\"&P196))","v":0},{"$f":"IF(ISNA(Q196),0,1+COUNTIFS($F$3:$F$399,$F196,Q$3:Q$399,\">\"&Q196))","v":0},{"$f":"IF(ISNA(R196),0,1+COUNTIFS($F$3:$F$399,$F196,R$3:R$399,\">\"&R196))","v":8},{"$f":"IF(ISNA(S196),0,1+COUNTIFS($F$3:$F$399,$F196,S$3:S$399,\">\"&S196))","v":0},0,{"$f":"IF(ISNA(U196),0,1+COUNTIFS($F$3:$F$399,$F196,U$3:U$399,\">\"&U196))","v":0},{"$f":"IF(ISNA(V196),0,1+COUNTIFS($F$3:$F$399,$F196,V$3:V$399,\">\"&V196))","v":4},{"$f":"IF(ISNA(W196),0,1+COUNTIFS($F$3:$F$399,$F196,W$3:W$399,\">\"&W196))","v":0},{"$f":"IF(ISNA(X196),0,1+COUNTIFS($F$3:$F$399,$F196,X$3:X$399,\">\"&X196))","v":0},{"$f":"IF(ISNA(Y196),0,1+COUNTIFS($F$3:$F$399,$F196,Y$3:Y$399,\">\"&Y196))","v":0},{"$f":"IF(ISNA(Z196),0,1+COUNTIFS($F$3:$F$399,$F196,Z$3:Z$399,\">\"&Z196))","v":0},{"$f":"IF(ISNA(AA196),0,1+COUNTIFS($F$3:$F$399,$F196,AA$3:AA$399,\">\"&AA196))","v":0},2]
[null,null,"Lynne Perris","1960-09-24",56,{"$f":"IFERROR(VLOOKUP(C197,'Division Lookup'!$A$2:$D$251,4,FALSE),\"Second\")","v":"Second"},{"$f":"VLOOKUP(C197,Dewsbury!$C$3:$L$46,7,FALSE)","v":{"$error":"#N/A"}},{"$f":"VLOOKUP($C197,Bradford!$C$3:$L$66,7,FALSE)","v":{"$error":"#N/A"}},{"$f":"VLOOKUP($C197,Keighley!$C$3:$N$42,9,FALSE)","v":{"$error":"#N/A"}},{"$f":"VLOOKUP($C197,'Bunny '!$C$3:$N$20,9,FALSE)","v":{"$error":"#N/A"}},{"$f":"VLOOKUP($C197,Liverpool!$C$3:$N$59,9,FALSE)","v":{"$error":"#N/A"}},{"$f":"VLOOKUP(C197,'VoY 10m'!$C$3:$N$40,9,FALSE)","v":{"$error":"#N/A"}},{"$f":"VLOOKUP(C197,Guisley!$C$3:$N$49,9,FALSE)","v":{"$error":"#N/A"}},{"$f":"VLOOKUP(C197,Odda!$C$3:$N$42,9,FALSE)","v":{"$error":"#N/A"}},{"$f":"VLOOKUP(C197,'Leeds half'!$C$4:$N$31,9,FALSE)","v":{"$error":"#N/A"}},{"$f":"VLOOKUP(C197,Ilkley!$C$3:$L$46,7,FALSE)","v":{"$error":"#N/A"}},{"$f":"VLOOKUP(C197,Otley!$C$3:$L$46,9,FALSE)","v":{"$error":"#N/A"}},{"$f":"VLOOKUP(C197,Solstice!$C$3:$L$48,7,FALSE)","v":{"$error":"#N/A"}},{"$f":"VLOOKUP(C197,Eccup!$C$3:$L$46,9,FALSE)","v":{"$error":"#N/A"}},null,{"$f":"VLOOKUP(C197,Shakerr!$C$3:$L$46,7,FALSE)","v":{"$error":"#N/A"}},{"$f":"VLOOKUP(C197,VoY!$C$3:$L$46,9,FALSE)","v":{"$error":"#N/A"}},{"$f":"VLOOKUP(C197,Kirkstall!$C$3:$L$46,9,FALSE)","v":{"$error":"#N/A"}},{"$f":"VLOOKUP($C197,City!$C$3:$L$69,9,FALSE)","v":{"$error":"#N/A"}},{"$f":"VLOOKUP(C197,'Guy Fawkes'!$C$3:$N$34,9,FALSE)","v":{"$error":"#N/A"}},{"$f":"VLOOKUP(C197,Abbey!$C$3:$L$48,7,FALSE)","v":{"$error":"#N/A"}},{"$f":"VLOOKUP(C197,Chevin!$C$3:$L$50,7,FALSE)","v":{"$error":"#N/A"}},null,0,0,0,0,0,0,0,0,0,0,0,0,0,0,0,0,0,0,0,0,0,0]
[null,null,"Anthea Pickard","1973-07-09",43,{"$f":"IFERROR(VLOOKUP(C198,'Division Lookup'!$A$2:$D$251,4,FALSE),\"Second\")","v":"Second"},{"$f":"VLOOKUP(C198,Dewsbury!$C$3:$L$46,7,FALSE)","v":{"$error":"#N/A"}},{"$f":"VLOOKUP($C198,Bradford!$C$3:$L$66,7,FALSE)","v":{"$error":"#N/A"}},{"$f":"VLOOKUP($C198,Keighley!$C$3:$N$42,9,FALSE)","v":{"$error":"#N/A"}},{"$f":"VLOOKUP($C198,'Bunny '!$C$3:$N$20,9,FALSE)","v":{"$error":"#N/A"}},{"$f":"VLOOKUP($C198,Liverpool!$C$3:$N$59,9,FALSE)","v":{"$error":"#N/A"}},{"$f":"VLOOKUP(C198,'VoY 10m'!$C$3:$N$40,9,FALSE)","v":{"$error":"#N/A"}},{"$f":"VLOOKUP(C198,Guisley!$C$3:$N$49,9,FALSE)","v":{"$error":"#N/A"}},{"$f":"VLOOKUP(C198,Odda!$C$3:$N$42,9,FALSE)","v":{"$error":"#N/A"}},{"$f":"VLOOKUP(C198,'Leeds half'!$C$4:$N$31,9,FALSE)","v":{"$error":"#N/A"}},{"$f":"VLOOKUP(C198,Ilkley!$C$3:$L$46,7,FALSE)","v":{"$error":"#N/A"}},{"$f":"VLOOKUP(C198,Otley!$C$3:$L$46,9,FALSE)","v":{"$error":"#N/A"}},{"$f":"VLOOKUP(C198,Solstice!$C$3:$L$48,7,FALSE)","v":{"$error":"#N/A"}},{"$f":"VLOOKUP(C198,Eccup!$C$3:$L$46,9,FALSE)","v":{"$error":"#N/A"}},null,{"$f":"VLOOKUP(C198,Shakerr!$C$3:$L$46,7,FALSE)","v":{"$error":"#N/A"}},{"$f":"VLOOKUP(C198,VoY!$C$3:$L$46,9,FALSE)","v":{"$error":"#N/A"}},{"$f":"VLOOKUP(C198,Kirkstall!$C$3:$L$46,9,FALSE)","v":{"$error":"#N/A"}},{"$f":"VLOOKUP($C198,City!$C$3:$L$69,9,FALSE)","v":{"$error":"#N/A"}},{"$f":"VLOOKUP(C198,'Guy Fawkes'!$C$3:$N$34,9,FALSE)","v":{"$error":"#N/A"}},{"$f":"VLOOKUP(C198,Abbey!$C$3:$L$48,7,FALSE)","v":{"$error":"#N/A"}},{"$f":"VLOOKUP(C198,Chevin!$C$3:$L$50,7,FALSE)","v":{"$error":"#N/A"}},null,0,0,0,0,0,0,0,0,0,0,0,0,0,0,0,0,0,0,0,0,0,0]
[null,null,"Nicola Pickard","1972-12-29",44,{"$f":"IFERROR(VLOOKUP(C199,'Division Lookup'!$A$2:$D$251,4,FALSE),\"Second\")","v":"First"},{"$f":"VLOOKUP(C199,Dewsbury!$C$3:$L$46,7,FALSE)","v":{"$error":"#N/A"}},{"$f":"VLOOKUP($C199,Bradford!$C$3:$L$66,7,FALSE)","v":{"$error":"#N/A"}},{"$f":"VLOOKUP($C199,Keighley!$C$3:$N$42,9,FALSE)","v":{"$error":"#N/A"}},{"$f":"VLOOKUP($C199,'Bunny '!$C$3:$N$20,9,FALSE)","v":{"$error":"#N/A"}},{"$f":"VLOOKUP($C199,Liverpool!$C$3:$N$59,9,FALSE)","v":{"$error":"#N/A"}},{"$f":"VLOOKUP(C199,'VoY 10m'!$C$3:$N$40,9,FALSE)","v":{"$error":"#N/A"}},{"$f":"VLOOKUP(C199,Guisley!$C$3:$N$49,9,FALSE)","v":{"$error":"#N/A"}},{"$f":"VLOOKUP(C199,Odda!$C$3:$N$42,9,FALSE)","v":{"$error":"#N/A"}},{"$f":"VLOOKUP(C199,'Leeds half'!$C$4:$N$31,9,FALSE)","v":{"$error":"#N/A"}},{"$f":"VLOOKUP(C199,Ilkley!$C$3:$L$46,7,FALSE)","v":{"$error":"#N/A"}},{"$f":"VLOOKUP(C199,Otley!$C$3:$L$46,9,FALSE)","v":{"$error":"#N/A"}},{"$f":"VLOOKUP(C199,Solstice!$C$3:$L$48,7,FALSE)","v":{"$error":"#N/A"}},{"$f":"VLOOKUP(C199,Eccup!$C$3:$L$46,9,FALSE)","v":{"$error":"#N/A"}},null,{"$f":"VLOOKUP(C199,Shakerr!$C$3:$L$46,7,FALSE)","v":{"$error":"#N/A"}},{"$f":"VLOOKUP(C199,VoY!$C$3:$L$46,9,FALSE)","v":{"$error":"#N/A"}},{"$f":"VLOOKUP(C199,Kirkstall!$C$3:$L$46,9,FALSE)","v":{"$error":"#N/A"}},{"$f":"VLOOKUP($C199,City!$C$3:$L$69,9,FALSE)","v":{"$error":"#N/A"}},{"$f":"VLOOKUP(C199,'Guy Fawkes'!$C$3:$N$34,9,FALSE)","v":{"$error":"#N/A"}},{"$f":"VLOOKUP(C199,Abbey!$C$3:$L$48,7,FALSE)","v":{"$error":"#N/A"}},{"$f":"VLOOKUP(C199,Chevin!$C$3:$L$50,7,FALSE)","v":{"$error":"#N/A"}},null,0,0,0,0,0,0,0,0,0,0,0,0,0,0,0,0,0,0,0,0,0,0]
[null,null,"Rachel Pickles","1972-12-30",44,{"$f":"IFERROR(VLOOKUP(C200,'Division Lookup'!$A$2:$D$251,4,FALSE),\"Second\")","v":"Second"},{"$f":"VLOOKUP(C200,Dewsbury!$C$3:$L$46,7,FALSE)","v":{"$error":"#N/A"}},{"$f":"VLOOKUP($C200,Bradford!$C$3:$L$66,7,FALSE)","v":{"$error":"#N/A"}},{"$f":"VLOOKUP($C200,Keighley!$C$3:$N$42,9,FALSE)","v":{"$error":"#N/A"}},{"$f":"VLOOKUP($C200,'Bunny '!$C$3:$N$20,9,FALSE)","v":{"$error":"#N/A"}},{"$f":"VLOOKUP($C200,Liverpool!$C$3:$N$59,9,FALSE)","v":{"$error":"#N/A"}},{"$f":"VLOOKUP(C200,'VoY 10m'!$C$3:$N$40,9,FALSE)","v":{"$error":"#N/A"}},{"$f":"VLOOKUP(C200,Guisley!$C$3:$N$49,9,FALSE)","v":{"$error":"#N/A"}},{"$f":"VLOOKUP(C200,Odda!$C$3:$N$42,9,FALSE)","v":{"$error":"#N/A"}},{"$f":"VLOOKUP(C200,'Leeds half'!$C$4:$N$31,9,FALSE)","v":{"$error":"#N/A"}},{"$f":"VLOOKUP(C200,Ilkley!$C$3:$L$46,7,FALSE)","v":{"$error":"#N/A"}},{"$f":"VLOOKUP(C200,Otley!$C$3:$L$46,9,FALSE)","v":{"$error":"#N/A"}},{"$f":"VLOOKUP(C200,Solstice!$C$3:$L$48,7,FALSE)","v":{"$error":"#N/A"}},{"$f":"VLOOKUP(C200,Eccup!$C$3:$L$46,9,FALSE)","v":{"$error":"#N/A"}},null,{"$f":"VLOOKUP(C200,Shakerr!$C$3:$L$46,7,FALSE)","v":{"$error":"#N/A"}},{"$f":"VLOOKUP(C200,VoY!$C$3:$L$46,9,FALSE)","v":{"$error":"#N/A"}},{"$f":"VLOOKUP(C200,Kirkstall!$C$3:$L$46,9,FALSE)","v":{"$error":"#N/A"}},{"$f":"VLOOKUP($C200,City!$C$3:$L$69,9,FALSE)","v":{"$error":"#N/A"}},{"$f":"VLOOKUP(C200,'Guy Fawkes'!$C$3:$N$34,9,FALSE)","v":{"$error":"#N/A"}},{"$f":"VLOOKUP(C200,Abbey!$C$3:$L$48,7,FALSE)","v":{"$error":"#N/A"}},{"$f":"VLOOKUP(C200,Chevin!$C$3:$L$50,7,FALSE)","v":{"$error":"#N/A"}},null,0,0,0,0,0,0,0,0,0,0,0,0,0,0,0,0,0,0,0,0,0,0]
[null,null,"Lizzy Pix","1986-09-01",30,{"$f":"IFERROR(VLOOKUP(C201,'Division Lookup'!$A$2:$D$251,4,FALSE),\"Second\")","v":"Second"},{"$f":"VLOOKUP(C201,Dewsbury!$C$3:$L$46,7,FALSE)","v":{"$error":"#N/A"}},{"$f":"VLOOKUP($C201,Bradford!$C$3:$L$66,7,FALSE)","v":{"$error":"#N/A"}},{"$f":"VLOOKUP($C201,Keighley!$C$3:$N$42,9,FALSE)","v":{"$error":"#N/A"}},{"$f":"VLOOKUP($C201,'Bunny '!$C$3:$N$20,9,FALSE)","v":{"$error":"#N/A"}},{"$f":"VLOOKUP($C201,Liverpool!$C$3:$N$59,9,FALSE)","v":{"$error":"#N/A"}},{"$f":"VLOOKUP(C201,'VoY 10m'!$C$3:$N$40,9,FALSE)","v":{"$error":"#N/A"}},{"$f":"VLOOKUP(C201,Guisley!$C$3:$N$49,9,FALSE)","v":{"$error":"#N/A"}},{"$f":"VLOOKUP(C201,Odda!$C$3:$N$42,9,FALSE)","v":{"$error":"#N/A"}},{"$f":"VLOOKUP(C201,'Leeds half'!$C$4:$N$31,9,FALSE)","v":{"$error":"#N/A"}},{"$f":"VLOOKUP(C201,Ilkley!$C$3:$L$46,7,FALSE)","v":{"$error":"#N/A"}},{"$f":"VLOOKUP(C201,Otley!$C$3:$L$46,9,FALSE)","v":{"$error":"#N/A"}},{"$f":"VLOOKUP(C201,Solstice!$C$3:$L$48,7,FALSE)","v":{"$error":"#N/A"}},{"$f":"VLOOKUP(C201,Eccup!$C$3:$L$46,9,FALSE)","v":{"$error":"#N/A"}},null,{"$f":"VLOOKUP(C201,Shakerr!$C$3:$L$46,7,FALSE)","v":{"$error":"#N/A"}},{"$f":"VLOOKUP(C201,VoY!$C$3:$L$46,9,FALSE)","v":{"$error":"#N/A"}},{"$f":"VLOOKUP(C201,Kirkstall!$C$3:$L$46,9,FALSE)","v":{"$error":"#N/A"}},{"$f":"VLOOKUP($C201,City!$C$3:$L$69,9,FALSE)","v":{"$error":"#N/A"}},{"$f":"VLOOKUP(C201,'Guy Fawkes'!$C$3:$N$34,9,FALSE)","v":{"$error":"#N/A"}},{"$f":"VLOOKUP(C201,Abbey!$C$3:$L$48,7,FALSE)","v":{"$error":"#N/A"}},{"$f":"VLOOKUP(C201,Chevin!$C$3:$L$50,7,FALSE)","v":{"$error":"#N/A"}},null,0,0,0,0,0,0,0,0,0,0,0,0,0,0,0,0,0,0,0,0,0,0]
[null,null,"elizabeth prosser","1980-09-22",36,{"$f":"IFERROR(VLOOKUP(C202,'Division Lookup'!$A$2:$D$251,4,FALSE),\"Second\")","v":"Second"},{"$f":"VLOOKUP(C202,Dewsbury!$C$3:$L$46,7,FALSE)","v":{"$error":"#N/A"}},{"$f":"VLOOKUP($C202,Bradford!$C$3:$L$66,7,FALSE)","v":{"$error":"#N/A"}},{"$f":"VLOOKUP($C202,Keighley!$C$3:$N$42,9,FALSE)","v":{"$error":"#N/A"}},{"$f":"VLOOKUP($C202,'Bunny '!$C$3:$N$20,9,FALSE)","v":{"$error":"#N/A"}},{"$f":"VLOOKUP($C202,Liverpool!$C$3:$N$59,9,FALSE)","v":{"$error":"#N/A"}},{"$f":"VLOOKUP(C202,'VoY 10m'!$C$3:$N$40,9,FALSE)","v":{"$error":"#N/A"}},{"$f":"VLOOKUP(C202,Guisley!$C$3:$N$49,9,FALSE)","v":{"$error":"#N/A"}},{"$f":"VLOOKUP(C202,Odda!$C$3:$N$42,9,FALSE)","v":{"$error":"#N/A"}},{"$f":"VLOOKUP(C202,'Leeds half'!$C$4:$N$31,9,FALSE)","v":{"$error":"#N/A"}},{"$f":"VLOOKUP(C202,Ilkley!$C$3:$L$46,7,FALSE)","v":{"$error":"#N/A"}},{"$f":"VLOOKUP(C202,Otley!$C$3:$L$46,9,FALSE)","v":{"$error":"#N/A"}},{"$f":"VLOOKUP(C202,Solstice!$C$3:$L$48,7,FALSE)","v":{"$error":"#N/A"}},{"$f":"VLOOKUP(C202,Eccup!$C$3:$L$46,9,FALSE)","v":{"$error":"#N/A"}},null,{"$f":"VLOOKUP(C202,Shakerr!$C$3:$L$46,7,FALSE)","v":{"$error":"#N/A"}},{"$f":"VLOOKUP(C202,VoY!$C$3:$L$46,9,FALSE)","v":{"$error":"#N/A"}},{"$f":"VLOOKUP(C202,Kirkstall!$C$3:$L$46,9,FALSE)","v":{"$error":"#N/A"}},{"$f":"VLOOKUP($C202,City!$C$3:$L$69,9,FALSE)","v":{"$error":"#N/A"}},{"$f":"VLOOKUP(C202,'Guy Fawkes'!$C$3:$N$34,9,FALSE)","v":{"$error":"#N/A"}},{"$f":"VLOOKUP(C202,Abbey!$C$3:$L$48,7,FALSE)","v":{"$error":"#N/A"}},{"$f":"VLOOKUP(C202,Chevin!$C$3:$L$50,7,FALSE)","v":{"$error":"#N/A"}},null,0,0,0,0,0,0,0,0,0,0,0,0,0,0,0,0,0,0,0,0,0,0]
[null,null,"Paul Purcell","1964-01-30",52,{"$f":"IFERROR(VLOOKUP(C203,'Division Lookup'!$A$2:$D$251,4,FALSE),\"Second\")","v":"Second"},{"$f":"VLOOKUP(C203,Dewsbury!$C$3:$L$46,7,FALSE)","v":{"$error":"#N/A"}},{"$f":"VLOOKUP($C203,Bradford!$C$3:$L$66,7,FALSE)","v":{"$error":"#N/A"}},{"$f":"VLOOKUP($C203,Keighley!$C$3:$N$42,9,FALSE)","v":{"$error":"#N/A"}},{"$f":"VLOOKUP($C203,'Bunny '!$C$3:$N$20,9,FALSE)","v":{"$error":"#N/A"}},{"$f":"VLOOKUP($C203,Liverpool!$C$3:$N$59,9,FALSE)","v":{"$error":"#N/A"}},{"$f":"VLOOKUP(C203,'VoY 10m'!$C$3:$N$40,9,FALSE)","v":{"$error":"#N/A"}},{"$f":"VLOOKUP(C203,Guisley!$C$3:$N$49,9,FALSE)","v":{"$error":"#N/A"}},{"$f":"VLOOKUP(C203,Odda!$C$3:$N$42,9,FALSE)","v":{"$error":"#N/A"}},{"$f":"VLOOKUP(C203,'Leeds half'!$C$4:$N$31,9,FALSE)","v":{"$error":"#N/A"}},{"$f":"VLOOKUP(C203,Ilkley!$C$3:$L$46,7,FALSE)","v":{"$error":"#N/A"}},{"$f":"VLOOKUP(C203,Otley!$C$3:$L$46,9,FALSE)","v":{"$error":"#N/A"}},{"$f":"VLOOKUP(C203,Solstice!$C$3:$L$48,7,FALSE)","v":{"$error":"#N/A"}},{"$f":"VLOOKUP(C203,Eccup!$C$3:$L$46,9,FALSE)","v":{"$error":"#N/A"}},null,{"$f":"VLOOKUP(C203,Shakerr!$C$3:$L$46,7,FALSE)","v":{"$error":"#N/A"}},{"$f":"VLOOKUP(C203,VoY!$C$3:$L$46,9,FALSE)","v":{"$error":"#N/A"}},{"$f":"VLOOKUP(C203,Kirkstall!$C$3:$L$46,9,FALSE)","v":{"$error":"#N/A"}},{"$f":"VLOOKUP($C203,City!$C$3:$L$69,9,FALSE)","v":{"$error":"#N/A"}},{"$f":"VLOOKUP(C203,'Guy Fawkes'!$C$3:$N$34,9,FALSE)","v":{"$error":"#N/A"}},{"$f":"VLOOKUP(C203,Abbey!$C$3:$L$48,7,FALSE)","v":{"$error":"#N/A"}},{"$f":"VLOOKUP(C203,Chevin!$C$3:$L$50,7,FALSE)","v":{"$error":"#N/A"}},null,0,0,0,0,0,0,0,0,0,0,0,0,0,0,0,0,0,0,0,0,0,0]
[null,null,"Shirley Quarmby","1966-04-20",50,{"$f":"IFERROR(VLOOKUP(C204,'Division Lookup'!$A$2:$D$251,4,FALSE),\"Second\")","v":"Second"},{"$f":"VLOOKUP(C204,Dewsbury!$C$3:$L$46,7,FALSE)","v":{"$error":"#N/A"}},{"$f":"VLOOKUP($C204,Bradford!$C$3:$L$66,7,FALSE)","v":{"$error":"#N/A"}},{"$f":"VLOOKUP($C204,Keighley!$C$3:$N$42,9,FALSE)","v":{"$error":"#N/A"}},{"$f":"VLOOKUP($C204,'Bunny '!$C$3:$N$20,9,FALSE)","v":{"$error":"#N/A"}},{"$f":"VLOOKUP($C204,Liverpool!$C$3:$N$59,9,FALSE)","v":{"$error":"#N/A"}},{"$f":"VLOOKUP(C204,'VoY 10m'!$C$3:$N$40,9,FALSE)","v":{"$error":"#N/A"}},{"$f":"VLOOKUP(C204,Guisley!$C$3:$N$49,9,FALSE)","v":{"$error":"#N/A"}},{"$f":"VLOOKUP(C204,Odda!$C$3:$N$42,9,FALSE)","v":{"$error":"#N/A"}},{"$f":"VLOOKUP(C204,'Leeds half'!$C$4:$N$31,9,FALSE)","v":{"$error":"#N/A"}},{"$f":"VLOOKUP(C204,Ilkley!$C$3:$L$46,7,FALSE)","v":{"$error":"#N/A"}},{"$f":"VLOOKUP(C204,Otley!$C$3:$L$46,9,FALSE)","v":{"$error":"#N/A"}},{"$f":"VLOOKUP(C204,Solstice!$C$3:$L$48,7,FALSE)","v":{"$error":"#N/A"}},{"$f":"VLOOKUP(C204,Eccup!$C$3:$L$46,9,FALSE)","v":{"$error":"#N/A"}},null,{"$f":"VLOOKUP(C204,Shakerr!$C$3:$L$46,7,FALSE)","v":{"$error":"#N/A"}},{"$f":"VLOOKUP(C204,VoY!$C$3:$L$46,9,FALSE)","v":{"$error":"#N/A"}},{"$f":"VLOOKUP(C204,Kirkstall!$C$3:$L$46,9,FALSE)","v":{"$error":"#N/A"}},{"$f":"VLOOKUP($C204,City!$C$3:$L$69,9,FALSE)","v":{"$error":"#N/A"}},{"$f":"VLOOKUP(C204,'Guy Fawkes'!$C$3:$N$34,9,FALSE)","v":{"$error":"#N/A"}},{"$f":"VLOOKUP(C204,Abbey!$C$3:$L$48,7,FALSE)","v":{"$error":"#N/A"}},{"$f":"VLOOKUP(C204,Chevin!$C$3:$L$50,7,FALSE)","v":{"$error":"#N/A"}},null,0,0,0,0,0,0,0,0,0,0,0,0,0,0,0,0,0,0,0,0,0,0]
[null,null,"Amanda Race","1979-07-07",37,{"$f":"IFERROR(VLOOKUP(C205,'Division Lookup'!$A$2:$D$251,4,FALSE),\"Second\")","v":"Second"},{"$f":"VLOOKUP(C205,Dewsbury!$C$3:$L$46,7,FALSE)","v":{"$error":"#N/A"}},{"$f":"VLOOKUP($C205,Bradford!$C$3:$L$66,7,FALSE)","v":{"$error":"#N/A"}},{"$f":"VLOOKUP($C205,Keighley!$C$3:$N$42,9,FALSE)","v":{"$error":"#N/A"}},{"$f":"VLOOKUP($C205,'Bunny '!$C$3:$N$20,9,FALSE)","v":{"$error":"#N/A"}},{"$f":"VLOOKUP($C205,Liverpool!$C$3:$N$59,9,FALSE)","v":{"$error":"#N/A"}},{"$f":"VLOOKUP(C205,'VoY 10m'!$C$3:$N$40,9,FALSE)","v":{"$error":"#N/A"}},{"$f":"VLOOKUP(C205,Guisley!$C$3:$N$49,9,FALSE)","v":{"$error":"#N/A"}},{"$f":"VLOOKUP(C205,Odda!$C$3:$N$42,9,FALSE)","v":{"$error":"#N/A"}},{"$f":"VLOOKUP(C205,'Leeds half'!$C$4:$N$31,9,FALSE)","v":{"$error":"#N/A"}},{"$f":"VLOOKUP(C205,Ilkley!$C$3:$L$46,7,FALSE)","v":{"$error":"#N/A"}},{"$f":"VLOOKUP(C205,Otley!$C$3:$L$46,9,FALSE)","v":{"$error":"#N/A"}},{"$f":"VLOOKUP(C205,Solstice!$C$3:$L$48,7,FALSE)","v":0.36577513620604252},{"$f":"VLOOKUP(C205,Eccup!$C$3:$L$46,9,FALSE)","v":{"$error":"#N/A"}},null,{"$f":"VLOOKUP(C205,Shakerr!$C$3:$L$46,7,FALSE)","v":{"$error":"#N/A"}},{"$f":"VLOOKUP(C205,VoY!$C$3:$L$46,9,FALSE)","v":{"$error":"#N/A"}},{"$f":"VLOOKUP(C205,Kirkstall!$C$3:$L$46,9,FALSE)","v":{"$error":"#N/A"}},{"$f":"VLOOKUP($C205,City!$C$3:$L$69,9,FALSE)","v":{"$error":"#N/A"}},{"$f":"VLOOKUP(C205,'Guy Fawkes'!$C$3:$N$34,9,FALSE)","v":{"$error":"#N/A"}},{"$f":"VLOOKUP(C205,Abbey!$C$3:$L$48,7,FALSE)","v":0.41106800081682665},{"$f":"VLOOKUP(C205,Chevin!$C$3:$L$50,7,FALSE)","v":{"$error":"#N/A"}},null,0,0,0,0,0,0,0,0,0,0,0,16,0,0,0,0,0,0,0,23,0,2]
[null,null,"Carole Raistrick","1941-11-19",75,{"$f":"IFERROR(VLOOKUP(C206,'Division Lookup'!$A$2:$D$251,4,FALSE),\"Second\")","v":"Second"},{"$f":"VLOOKUP(C206,Dewsbury!$C$3:$L$46,7,FALSE)","v":{"$error":"#N/A"}},{"$f":"VLOOKUP($C206,Bradford!$C$3:$L$66,7,FALSE)","v":{"$error":"#N/A"}},{"$f":"VLOOKUP($C206,Keighley!$C$3:$N$42,9,FALSE)","v":{"$error":"#N/A"}},{"$f":"VLOOKUP($C206,'Bunny '!$C$3:$N$20,9,FALSE)","v":{"$error":"#N/A"}},{"$f":"VLOOKUP($C206,Liverpool!$C$3:$N$59,9,FALSE)","v":{"$error":"#N/A"}},{"$f":"VLOOKUP(C206,'VoY 10m'!$C$3:$N$40,9,FALSE)","v":{"$error":"#N/A"}},{"$f":"VLOOKUP(C206,Guisley!$C$3:$N$49,9,FALSE)","v":{"$error":"#N/A"}},{"$f":"VLOOKUP(C206,Odda!$C$3:$N$42,9,FALSE)","v":{"$error":"#N/A"}},{"$f":"VLOOKUP(C206,'Leeds half'!$C$4:$N$31,9,FALSE)","v":{"$error":"#N/A"}},{"$f":"VLOOKUP(C206,Ilkley!$C$3:$L$46,7,FALSE)","v":{"$error":"#N/A"}},{"$f":"VLOOKUP(C206,Otley!$C$3:$L$46,9,FALSE)","v":{"$error":"#N/A"}},{"$f":"VLOOKUP(C206,Solstice!$C$3:$L$48,7,FALSE)","v":{"$error":"#N/A"}},{"$f":"VLOOKUP(C206,Eccup!$C$3:$L$46,9,FALSE)","v":{"$error":"#N/A"}},null,{"$f":"VLOOKUP(C206,Shakerr!$C$3:$L$46,7,FALSE)","v":{"$error":"#N/A"}},{"$f":"VLOOKUP(C206,VoY!$C$3:$L$46,9,FALSE)","v":{"$error":"#N/A"}},{"$f":"VLOOKUP(C206,Kirkstall!$C$3:$L$46,9,FALSE)","v":{"$error":"#N/A"}},{"$f":"VLOOKUP($C206,City!$C$3:$L$69,9,FALSE)","v":{"$error":"#N/A"}},{"$f":"VLOOKUP(C206,'Guy Fawkes'!$C$3:$N$34,9,FALSE)","v":{"$error":"#N/A"}},{"$f":"VLOOKUP(C206,Abbey!$C$3:$L$48,7,FALSE)","v":{"$error":"#N/A"}},{"$f":"VLOOKUP(C206,Chevin!$C$3:$L$50,7,FALSE)","v":{"$error":"#N/A"}},null,0,0,0,0,0,0,0,0,0,0,0,0,0,0,0,0,0,0,0,0,0,0]
[null,null,"Tom Ratcliffe","1979-04-10",37,{"$f":"IFERROR(VLOOKUP(C207,'Division Lookup'!$A$2:$D$251,4,FALSE),\"Second\")","v":"Second"},{"$f":"VLOOKUP(C207,Dewsbury!$C$3:$L$46,7,FALSE)","v":{"$error":"#N/A"}},{"$f":"VLOOKUP($C207,Bradford!$C$3:$L$66,7,FALSE)","v":{"$error":"#N/A"}},{"$f":"VLOOKUP($C207,Keighley!$C$3:$N$42,9,FALSE)","v":{"$error":"#N/A"}},{"$f":"VLOOKUP($C207,'Bunny '!$C$3:$N$20,9,FALSE)","v":{"$error":"#N/A"}},{"$f":"VLOOKUP($C207,Liverpool!$C$3:$N$59,9,FALSE)","v":{"$error":"#N/A"}},{"$f":"VLOOKUP(C207,'VoY 10m'!$C$3:$N$40,9,FALSE)","v":{"$error":"#N/A"}},{"$f":"VLOOKUP(C207,Guisley!$C$3:$N$49,9,FALSE)","v":{"$error":"#N/A"}},{"$f":"VLOOKUP(C207,Odda!$C$3:$N$42,9,FALSE)","v":{"$error":"#N/A"}},{"$f":"VLOOKUP(C207,'Leeds half'!$C$4:$N$31,9,FALSE)","v":{"$error":"#N/A"}},{"$f":"VLOOKUP(C207,Ilkley!$C$3:$L$46,7,FALSE)","v":{"$error":"#N/A"}},{"$f":"VLOOKUP(C207,Otley!$C$3:$L$46,9,FALSE)","v":{"$error":"#N/A"}},{"$f":"VLOOKUP(C207,Solstice!$C$3:$L$48,7,FALSE)","v":{"$error":"#N/A"}},{"$f":"VLOOKUP(C207,Eccup!$C$3:$L$46,9,FALSE)","v":{"$error":"#N/A"}},null,{"$f":"VLOOKUP(C207,Shakerr!$C$3:$L$46,7,FALSE)","v":{"$error":"#N/A"}},{"$f":"VLOOKUP(C207,VoY!$C$3:$L$46,9,FALSE)","v":{"$error":"#N/A"}},{"$f":"VLOOKUP(C207,Kirkstall!$C$3:$L$46,9,FALSE)","v":{"$error":"#N/A"}},{"$f":"VLOOKUP($C207,City!$C$3:$L$69,9,FALSE)","v":{"$error":"#N/A"}},{"$f":"VLOOKUP(C207,'Guy Fawkes'!$C$3:$N$34,9,FALSE)","v":{"$error":"#N/A"}},{"$f":"VLOOKUP(C207,Abbey!$C$3:$L$48,7,FALSE)","v":0.62929407323518305},{"$f":"VLOOKUP(C207,Chevin!$C$3:$L$50,7,FALSE)","v":{"$error":"#N/A"}},null,0,0,0,0,0,0,0,0,0,0,0,0,0,0,0,0,0,0,0,7,0,1]
[null,null,"Kate Reed","1983-05-30",33,{"$f":"IFERROR(VLOOKUP(C208,'Division Lookup'!$A$2:$D$251,4,FALSE),\"Second\")","v":"Second"},{"$f":"VLOOKUP(C208,Dewsbury!$C$3:$L$46,7,FALSE)","v":{"$error":"#N/A"}},{"$f":"VLOOKUP($C208,Bradford!$C$3:$L$66,7,FALSE)","v":{"$error":"#N/A"}},{"$f":"VLOOKUP($C208,Keighley!$C$3:$N$42,9,FALSE)","v":{"$error":"#N/A"}},{"$f":"VLOOKUP($C208,'Bunny '!$C$3:$N$20,9,FALSE)","v":{"$error":"#N/A"}},{"$f":"VLOOKUP($C208,Liverpool!$C$3:$N$59,9,FALSE)","v":{"$error":"#N/A"}},{"$f":"VLOOKUP(C208,'VoY 10m'!$C$3:$N$40,9,FALSE)","v":{"$error":"#N/A"}},{"$f":"VLOOKUP(C208,Guisley!$C$3:$N$49,9,FALSE)","v":{"$error":"#N/A"}},{"$f":"VLOOKUP(C208,Odda!$C$3:$N$42,9,FALSE)","v":{"$error":"#N/A"}},{"$f":"VLOOKUP(C208,'Leeds half'!$C$4:$N$31,9,FALSE)","v":{"$error":"#N/A"}},{"$f":"VLOOKUP(C208,Ilkley!$C$3:$L$46,7,FALSE)","v":{"$error":"#N/A"}},{"$f":"VLOOKUP(C208,Otley!$C$3:$L$46,9,FALSE)","v":{"$error":"#N/A"}},{"$f":"VLOOKUP(C208,Solstice!$C$3:$L$48,7,FALSE)","v":{"$error":"#N/A"}},{"$f":"VLOOKUP(C208,Eccup!$C$3:$L$46,9,FALSE)","v":{"$error":"#N/A"}},null,{"$f":"VLOOKUP(C208,Shakerr!$C$3:$L$46,7,FALSE)","v":{"$error":"#N/A"}},{"$f":"VLOOKUP(C208,VoY!$C$3:$L$46,9,FALSE)","v":{"$error":"#N/A"}},{"$f":"VLOOKUP(C208,Kirkstall!$C$3:$L$46,9,FALSE)","v":{"$error":"#N/A"}},{"$f":"VLOOKUP($C208,City!$C$3:$L$69,9,FALSE)","v":{"$error":"#N/A"}},{"$f":"VLOOKUP(C208,'Guy Fawkes'!$C$3:$N$34,9,FALSE)","v":{"$error":"#N/A"}},{"$f":"VLOOKUP(C208,Abbey!$C$3:$L$48,7,FALSE)","v":{"$error":"#N/A"}},{"$f":"VLOOKUP(C208,Chevin!$C$3:$L$50,7,FALSE)","v":{"$error":"#N/A"}},null,0,0,0,0,0,0,0,0,0,0,0,0,0,0,0,0,0,0,0,0,0,0]
[null,null,"Rifut rehman","1968-08-01",48,{"$f":"IFERROR(VLOOKUP(C209,'Division Lookup'!$A$2:$D$251,4,FALSE),\"Second\")","v":"Second"},{"$f":"VLOOKUP(C209,Dewsbury!$C$3:$L$46,7,FALSE)","v":{"$error":"#N/A"}},{"$f":"VLOOKUP($C209,Bradford!$C$3:$L$66,7,FALSE)","v":{"$error":"#N/A"}},{"$f":"VLOOKUP($C209,Keighley!$C$3:$N$42,9,FALSE)","v":{"$error":"#N/A"}},{"$f":"VLOOKUP($C209,'Bunny '!$C$3:$N$20,9,FALSE)","v":{"$error":"#N/A"}},{"$f":"VLOOKUP($C209,Liverpool!$C$3:$N$59,9,FALSE)","v":{"$error":"#N/A"}},{"$f":"VLOOKUP(C209,'VoY 10m'!$C$3:$N$40,9,FALSE)","v":{"$error":"#N/A"}},{"$f":"VLOOKUP(C209,Guisley!$C$3:$N$49,9,FALSE)","v":{"$error":"#N/A"}},{"$f":"VLOOKUP(C209,Odda!$C$3:$N$42,9,FALSE)","v":{"$error":"#N/A"}},{"$f":"VLOOKUP(C209,'Leeds half'!$C$4:$N$31,9,FALSE)","v":{"$error":"#N/A"}},{"$f":"VLOOKUP(C209,Ilkley!$C$3:$L$46,7,FALSE)","v":{"$error":"#N/A"}},{"$f":"VLOOKUP(C209,Otley!$C$3:$L$46,9,FALSE)","v":{"$error":"#N/A"}},{"$f":"VLOOKUP(C209,Solstice!$C$3:$L$48,7,FALSE)","v":{"$error":"#N/A"}},{"$f":"VLOOKUP(C209,Eccup!$C$3:$L$46,9,FALSE)","v":{"$error":"#N/A"}},null,{"$f":"VLOOKUP(C209,Shakerr!$C$3:$L$46,7,FALSE)","v":{"$error":"#N/A"}},{"$f":"VLOOKUP(C209,VoY!$C$3:$L$46,9,FALSE)","v":{"$error":"#N/A"}},{"$f":"VLOOKUP(C209,Kirkstall!$C$3:$L$46,9,FALSE)","v":{"$error":"#N/A"}},{"$f":"VLOOKUP($C209,City!$C$3:$L$69,9,FALSE)","v":{"$error":"#N/A"}},{"$f":"VLOOKUP(C209,'Guy Fawkes'!$C$3:$N$34,9,FALSE)","v":{"$error":"#N/A"}},{"$f":"VLOOKUP(C209,Abbey!$C$3:$L$48,7,FALSE)","v":{"$error":"#N/A"}},{"$f":"VLOOKUP(C209,Chevin!$C$3:$L$50,7,FALSE)","v":{"$error":"#N/A"}},null,0,0,0,0,0,0,0,0,0,0,0,0,0,0,0,0,0,0,0,0,0,0]
[null,null,"Chris Reynier","1951-07-01",65,{"$f":"IFERROR(VLOOKUP(C210,'Division Lookup'!$A$2:$D$251,4,FALSE),\"Second\")","v":"Premier"},{"$f":"VLOOKUP(C210,Dewsbury!$C$3:$L$46,7,FALSE)","v":{"$error":"#N/A"}},{"$f":"VLOOKUP($C210,Bradford!$C$3:$L$66,7,FALSE)","v":{"$error":"#N/A"}},{"$f":"VLOOKUP($C210,Keighley!$C$3:$N$42,9,FALSE)","v":{"$error":"#N/A"}},{"$f":"VLOOKUP($C210,'Bunny '!$C$3:$N$20,9,FALSE)","v":{"$error":"#N/A"}},{"$f":"VLOOKUP($C210,Liverpool!$C$3:$N$59,9,FALSE)","v":{"$error":"#N/A"}},{"$f":"VLOOKUP(C210,'VoY 10m'!$C$3:$N$40,9,FALSE)","v":{"$error":"#N/A"}},{"$f":"VLOOKUP(C210,Guisley!$C$3:$N$49,9,FALSE)","v":{"$error":"#N/A"}},{"$f":"VLOOKUP(C210,Odda!$C$3:$N$42,9,FALSE)","v":{"$error":"#N/A"}},{"$f":"VLOOKUP(C210,'Leeds half'!$C$4:$N$31,9,FALSE)","v":{"$error":"#N/A"}},{"$f":"VLOOKUP(C210,Ilkley!$C$3:$L$46,7,FALSE)","v":{"$error":"#N/A"}},{"$f":"VLOOKUP(C210,Otley!$C$3:$L$46,9,FALSE)","v":{"$error":"#N/A"}},{"$f":"VLOOKUP(C210,Solstice!$C$3:$L$48,7,FALSE)","v":{"$error":"#N/A"}},{"$f":"VLOOKUP(C210,Eccup!$C$3:$L$46,9,FALSE)","v":{"$error":"#N/A"}},null,{"$f":"VLOOKUP(C210,Shakerr!$C$3:$L$46,7,FALSE)","v":{"$error":"#N/A"}},{"$f":"VLOOKUP(C210,VoY!$C$3:$L$46,9,FALSE)","v":{"$error":"#N/A"}},{"$f":"VLOOKUP(C210,Kirkstall!$C$3:$L$46,9,FALSE)","v":{"$error":"#N/A"}},{"$f":"VLOOKUP($C210,City!$C$3:$L$69,9,FALSE)","v":{"$error":"#N/A"}},{"$f":"VLOOKUP(C210,'Guy Fawkes'!$C$3:$N$34,9,FALSE)","v":{"$error":"#N/A"}},{"$f":"VLOOKUP(C210,Abbey!$C$3:$L$48,7,FALSE)","v":{"$error":"#N/A"}},{"$f":"VLOOKUP(C210,Chevin!$C$3:$L$50,7,FALSE)","v":{"$error":"#N/A"}},null,0,0,0,0,0,0,0,0,0,0,0,0,0,0,0,0,0,0,0,0,0,0]
[null,null,"Paul Rhodes","1973-07-02",43,{"$f":"IFERROR(VLOOKUP(C211,'Division Lookup'!$A$2:$D$251,4,FALSE),\"Second\")","v":"Second"},{"$f":"VLOOKUP(C211,Dewsbury!$C$3:$L$46,7,FALSE)","v":{"$error":"#N/A"}},{"$f":"VLOOKUP($C211,Bradford!$C$3:$L$66,7,FALSE)","v":{"$error":"#N/A"}},{"$f":"VLOOKUP($C211,Keighley!$C$3:$N$42,9,FALSE)","v":{"$error":"#N/A"}},{"$f":"VLOOKUP($C211,'Bunny '!$C$3:$N$20,9,FALSE)","v":{"$error":"#N/A"}},{"$f":"VLOOKUP($C211,Liverpool!$C$3:$N$59,9,FALSE)","v":{"$error":"#N/A"}},{"$f":"VLOOKUP(C211,'VoY 10m'!$C$3:$N$40,9,FALSE)","v":{"$error":"#N/A"}},{"$f":"VLOOKUP(C211,Guisley!$C$3:$N$49,9,FALSE)","v":{"$error":"#N/A"}},{"$f":"VLOOKUP(C211,Odda!$C$3:$N$42,9,FALSE)","v":{"$error":"#N/A"}},{"$f":"VLOOKUP(C211,'Leeds half'!$C$4:$N$31,9,FALSE)","v":{"$error":"#N/A"}},{"$f":"VLOOKUP(C211,Ilkley!$C$3:$L$46,7,FALSE)","v":{"$error":"#N/A"}},{"$f":"VLOOKUP(C211,Otley!$C$3:$L$46,9,FALSE)","v":{"$error":"#N/A"}},{"$f":"VLOOKUP(C211,Solstice!$C$3:$L$48,7,FALSE)","v":{"$error":"#N/A"}},{"$f":"VLOOKUP(C211,Eccup!$C$3:$L$46,9,FALSE)","v":{"$error":"#N/A"}},null,{"$f":"VLOOKUP(C211,Shakerr!$C$3:$L$46,7,FALSE)","v":{"$error":"#N/A"}},{"$f":"VLOOKUP(C211,VoY!$C$3:$L$46,9,FALSE)","v":{"$error":"#N/A"}},{"$f":"VLOOKUP(C211,Kirkstall!$C$3:$L$46,9,FALSE)","v":{"$error":"#N/A"}},{"$f":"VLOOKUP($C211,City!$C$3:$L$69,9,FALSE)","v":{"$error":"#N/A"}},{"$f":"VLOOKUP(C211,'Guy Fawkes'!$C$3:$N$34,9,FALSE)","v":{"$error":"#N/A"}},{"$f":"VLOOKUP(C211,Abbey!$C$3:$L$48,7,FALSE)","v":{"$error":"#N/A"}},{"$f":"VLOOKUP(C211,Chevin!$C$3:$L$50,7,FALSE)","v":{"$error":"#N/A"}},null,0,0,0,0,0,0,0,0,0,0,0,0,0,0,0,0,0,0,0,0,0,0]
[null,null,"Guy Richardson","1974-09-29",42,{"$f":"IFERROR(VLOOKUP(C212,'Division Lookup'!$A$2:$D$251,4,FALSE),\"Second\")","v":"Second"},{"$f":"VLOOKUP(C212,Dewsbury!$C$3:$L$46,7,FALSE)","v":{"$error":"#N/A"}},{"$f":"VLOOKUP($C212,Bradford!$C$3:$L$66,7,FALSE)","v":{"$error":"#N/A"}},{"$f":"VLOOKUP($C212,Keighley!$C$3:$N$42,9,FALSE)","v":0.60595446584938695},{"$f":"VLOOKUP($C212,'Bunny '!$C$3:$N$20,9,FALSE)","v":{"$error":"#N/A"}},{"$f":"VLOOKUP($C212,Liverpool!$C$3:$N$59,9,FALSE)","v":0.58573430929761727},{"$f":"VLOOKUP(C212,'VoY 10m'!$C$3:$N$40,9,FALSE)","v":0.58085673293707729},{"$f":"VLOOKUP(C212,Guisley!$C$3:$N$49,9,FALSE)","v":0.57628247834776813},{"$f":"VLOOKUP(C212,Odda!$C$3:$N$42,9,FALSE)","v":{"$error":"#N/A"}},{"$f":"VLOOKUP(C212,'Leeds half'!$C$4:$N$31,9,FALSE)","v":{"$error":"#N/A"}},{"$f":"VLOOKUP(C212,Ilkley!$C$3:$L$46,7,FALSE)","v":{"$error":"#N/A"}},{"$f":"VLOOKUP(C212,Otley!$C$3:$L$46,9,FALSE)","v":{"$error":"#N/A"}},{"$f":"VLOOKUP(C212,Solstice!$C$3:$L$48,7,FALSE)","v":{"$error":"#N/A"}},{"$f":"VLOOKUP(C212,Eccup!$C$3:$L$46,9,FALSE)","v":{"$error":"#N/A"}},null,{"$f":"VLOOKUP(C212,Shakerr!$C$3:$L$46,7,FALSE)","v":{"$error":"#N/A"}},{"$f":"VLOOKUP(C212,VoY!$C$3:$L$46,9,FALSE)","v":{"$error":"#N/A"}},{"$f":"VLOOKUP(C212,Kirkstall!$C$3:$L$46,9,FALSE)","v":{"$error":"#N/A"}},{"$f":"VLOOKUP($C212,City!$C$3:$L$69,9,FALSE)","v":{"$error":"#N/A"}},{"$f":"VLOOKUP(C212,'Guy Fawkes'!$C$3:$N$34,9,FALSE)","v":{"$error":"#N/A"}},{"$f":"VLOOKUP(C212,Abbey!$C$3:$L$48,7,FALSE)","v":{"$error":"#N/A"}},{"$f":"VLOOKUP(C212,Chevin!$C$3:$L$50,7,FALSE)","v":{"$error":"#N/A"}},null,0,0,4,0,7,1,3,0,0,0,0,0,0,0,0,0,0,0,0,0,0,4]
[null,null,"Laura Richardson","1985-06-09",31,{"$f":"IFERROR(VLOOKUP(C213,'Division Lookup'!$A$2:$D$251,4,FALSE),\"Second\")","v":"First"},{"$f":"VLOOKUP(C213,Dewsbury!$C$3:$L$46,7,FALSE)","v":{"$error":"#N/A"}},{"$f":"VLOOKUP($C213,Bradford!$C$3:$L$66,7,FALSE)","v":0.59406586240626036},{"$f":"VLOOKUP($C213,Keighley!$C$3:$N$42,9,FALSE)","v":{"$error":"#N/A"}},{"$f":"VLOOKUP($C213,'Bunny '!$C$3:$N$20,9,FALSE)","v":{"$error":"#N/A"}},{"$f":"VLOOKUP($C213,Liverpool!$C$3:$N$59,9,FALSE)","v":{"$error":"#N/A"}},{"$f":"VLOOKUP(C213,'VoY 10m'!$C$3:$N$40,9,FALSE)","v":{"$error":"#N/A"}},{"$f":"VLOOKUP(C213,Guisley!$C$3:$N$49,9,FALSE)","v":{"$error":"#N/A"}},{"$f":"VLOOKUP(C213,Odda!$C$3:$N$42,9,FALSE)","v":{"$error":"#N/A"}},{"$f":"VLOOKUP(C213,'Leeds half'!$C$4:$N$31,9,FALSE)","v":{"$error":"#N/A"}},{"$f":"VLOOKUP(C213,Ilkley!$C$3:$L$46,7,FALSE)","v":{"$error":"#N/A"}},{"$f":"VLOOKUP(C213,Otley!$C$3:$L$46,9,FALSE)","v":{"$error":"#N/A"}},{"$f":"VLOOKUP(C213,Solstice!$C$3:$L$48,7,FALSE)","v":{"$error":"#N/A"}},{"$f":"VLOOKUP(C213,Eccup!$C$3:$L$46,9,FALSE)","v":{"$error":"#N/A"}},null,{"$f":"VLOOKUP(C213,Shakerr!$C$3:$L$46,7,FALSE)","v":{"$error":"#N/A"}},{"$f":"VLOOKUP(C213,VoY!$C$3:$L$46,9,FALSE)","v":{"$error":"#N/A"}},{"$f":"VLOOKUP(C213,Kirkstall!$C$3:$L$46,9,FALSE)","v":{"$error":"#N/A"}},{"$f":"VLOOKUP($C213,City!$C$3:$L$69,9,FALSE)","v":{"$error":"#N/A"}},{"$f":"VLOOKUP(C213,'Guy Fawkes'!$C$3:$N$34,9,FALSE)","v":{"$error":"#N/A"}},{"$f":"VLOOKUP(C213,Abbey!$C$3:$L$48,7,FALSE)","v":{"$error":"#N/A"}},{"$f":"VLOOKUP(C213,Chevin!$C$3:$L$50,7,FALSE)","v":0.49516527996402077},null,0,7,0,0,0,0,0,0,0,0,0,0,0,0,0,0,0,0,0,0,4,2]
[null,null,"Matthew Richardson","1983-09-13",33,{"$f":"IFERROR(VLOOKUP(C214,'Division Lookup'!$A$2:$D$251,4,FALSE),\"Second\")","v":"Premier"},{"$f":"VLOOKUP(C214,Dewsbury!$C$3:$L$46,7,FALSE)","v":{"$error":"#N/A"}},{"$f":"VLOOKUP($C214,Bradford!$C$3:$L$66,7,FALSE)","v":0.70167886353852782},{"$f":"VLOOKUP($C214,Keighley!$C$3:$N$42,9,FALSE)","v":{"$error":"#N/A"}},{"$f":"VLOOKUP($C214,'Bunny '!$C$3:$N$20,9,FALSE)","v":{"$error":"#N/A"}},{"$f":"VLOOKUP($C214,Liverpool!$C$3:$N$59,9,FALSE)","v":{"$error":"#N/A"}},{"$f":"VLOOKUP(C214,'VoY 10m'!$C$3:$N$40,9,FALSE)","v":0.69843342036553524},{"$f":"VLOOKUP(C214,Guisley!$C$3:$N$49,9,FALSE)","v":{"$error":"#N/A"}},{"$f":"VLOOKUP(C214,Odda!$C$3:$N$42,9,FALSE)","v":{"$error":"#N/A"}},{"$f":"VLOOKUP(C214,'Leeds half'!$C$4:$N$31,9,FALSE)","v":{"$error":"#N/A"}},{"$f":"VLOOKUP(C214,Ilkley!$C$3:$L$46,7,FALSE)","v":{"$error":"#N/A"}},{"$f":"VLOOKUP(C214,Otley!$C$3:$L$46,9,FALSE)","v":{"$error":"#N/A"}},{"$f":"VLOOKUP(C214,Solstice!$C$3:$L$48,7,FALSE)","v":{"$error":"#N/A"}},{"$f":"VLOOKUP(C214,Eccup!$C$3:$L$46,9,FALSE)","v":{"$error":"#N/A"}},null,{"$f":"VLOOKUP(C214,Shakerr!$C$3:$L$46,7,FALSE)","v":{"$error":"#N/A"}},{"$f":"VLOOKUP(C214,VoY!$C$3:$L$46,9,FALSE)","v":0.75243128964059192},{"$f":"VLOOKUP(C214,Kirkstall!$C$3:$L$46,9,FALSE)","v":{"$error":"#N/A"}},{"$f":"VLOOKUP($C214,City!$C$3:$L$69,9,FALSE)","v":{"$error":"#N/A"}},{"$f":"VLOOKUP(C214,'Guy Fawkes'!$C$3:$N$34,9,FALSE)","v":{"$error":"#N/A"}},{"$f":"VLOOKUP(C214,Abbey!$C$3:$L$48,7,FALSE)","v":{"$error":"#N/A"}},{"$f":"VLOOKUP(C214,Chevin!$C$3:$L$50,7,FALSE)","v":{"$error":"#N/A"}},null,0,6,0,0,0,2,0,0,0,0,0,0,0,0,0,3,0,0,0,0,0,3]
[null,null,"Carolyn Rix","1958-09-13",58,{"$f":"IFERROR(VLOOKUP(C215,'Division Lookup'!$A$2:$D$251,4,FALSE),\"Second\")","v":"First"},{"$f":"VLOOKUP(C215,Dewsbury!$C$3:$L$46,7,FALSE)","v":{"$error":"#N/A"}},{"$f":"VLOOKUP($C215,Bradford!$C$3:$L$66,7,FALSE)","v":0.60754115772703143},{"$f":"VLOOKUP($C215,Keighley!$C$3:$N$42,9,FALSE)","v":0.58026883083946235},{"$f":"VLOOKUP($C215,'Bunny '!$C$3:$N$20,9,FALSE)","v":{"$error":"#N/A"}},{"$f":"VLOOKUP($C215,Liverpool!$C$3:$N$59,9,FALSE)","v":0.61190534877988656},{"$f":"VLOOKUP(C215,'VoY 10m'!$C$3:$N$40,9,FALSE)","v":0.59627625716104393},{"$f":"VLOOKUP(C215,Guisley!$C$3:$N$49,9,FALSE)","v":{"$error":"#N/A"}},{"$f":"VLOOKUP(C215,Odda!$C$3:$N$42,9,FALSE)","v":{"$error":"#N/A"}},{"$f":"VLOOKUP(C215,'Leeds half'!$C$4:$N$31,9,FALSE)","v":{"$error":"#N/A"}},{"$f":"VLOOKUP(C215,Ilkley!$C$3:$L$46,7,FALSE)","v":{"$error":"#N/A"}},{"$f":"VLOOKUP(C215,Otley!$C$3:$L$46,9,FALSE)","v":{"$error":"#N/A"}},{"$f":"VLOOKUP(C215,Solstice!$C$3:$L$48,7,FALSE)","v":{"$error":"#N/A"}},{"$f":"VLOOKUP(C215,Eccup!$C$3:$L$46,9,FALSE)","v":{"$error":"#N/A"}},null,{"$f":"VLOOKUP(C215,Shakerr!$C$3:$L$46,7,FALSE)","v":{"$error":"#N/A"}},{"$f":"VLOOKUP(C215,VoY!$C$3:$L$46,9,FALSE)","v":0.56872852233676985},{"$f":"VLOOKUP(C215,Kirkstall!$C$3:$L$46,9,FALSE)","v":0.52758697097274543},{"$f":"VLOOKUP($C215,City!$C$3:$L$69,9,FALSE)","v":{"$error":"#N/A"}},{"$f":"VLOOKUP(C215,'Guy Fawkes'!$C$3:$N$34,9,FALSE)","v":0.49647671568627449},{"$f":"VLOOKUP(C215,Abbey!$C$3:$L$48,7,FALSE)","v":{"$error":"#N/A"}},{"$f":"VLOOKUP(C215,Chevin!$C$3:$L$50,7,FALSE)","v":0.56799506984387838},null,0,6,4,0,3,1,0,0,0,0,0,0,0,0,0,3,4,0,2,0,3,8]
[null,null,"Jeremy Rix","1962-02-17",54,{"$f":"IFERROR(VLOOKUP(C216,'Division Lookup'!$A$2:$D$251,4,FALSE),\"Second\")","v":"Second"},{"$f":"VLOOKUP(C216,Dewsbury!$C$3:$L$46,7,FALSE)","v":{"$error":"#N/A"}},{"$f":"VLOOKUP($C216,Bradford!$C$3:$L$66,7,FALSE)","v":{"$error":"#N/A"}},{"$f":"VLOOKUP($C216,Keighley!$C$3:$N$42,9,FALSE)","v":{"$error":"#N/A"}},{"$f":"VLOOKUP($C216,'Bunny '!$C$3:$N$20,9,FALSE)","v":{"$error":"#N/A"}},{"$f":"VLOOKUP($C216,Liverpool!$C$3:$N$59,9,FALSE)","v":{"$error":"#N/A"}},{"$f":"VLOOKUP(C216,'VoY 10m'!$C$3:$N$40,9,FALSE)","v":{"$error":"#N/A"}},{"$f":"VLOOKUP(C216,Guisley!$C$3:$N$49,9,FALSE)","v":{"$error":"#N/A"}},{"$f":"VLOOKUP(C216,Odda!$C$3:$N$42,9,FALSE)","v":0.58142377024136871},{"$f":"VLOOKUP(C216,'Leeds half'!$C$4:$N$31,9,FALSE)","v":{"$error":"#N/A"}},{"$f":"VLOOKUP(C216,Ilkley!$C$3:$L$46,7,FALSE)","v":{"$error":"#N/A"}},{"$f":"VLOOKUP(C216,Otley!$C$3:$L$46,9,FALSE)","v":{"$error":"#N/A"}},{"$f":"VLOOKUP(C216,Solstice!$C$3:$L$48,7,FALSE)","v":{"$error":"#N/A"}},{"$f":"VLOOKUP(C216,Eccup!$C$3:$L$46,9,FALSE)","v":{"$error":"#N/A"}},null,{"$f":"VLOOKUP(C216,Shakerr!$C$3:$L$46,7,FALSE)","v":{"$error":"#N/A"}},{"$f":"VLOOKUP(C216,VoY!$C$3:$L$46,9,FALSE)","v":{"$error":"#N/A"}},{"$f":"VLOOKUP(C216,Kirkstall!$C$3:$L$46,9,FALSE)","v":{"$error":"#N/A"}},{"$f":"VLOOKUP($C216,City!$C$3:$L$69,9,FALSE)","v":{"$error":"#N/A"}},{"$f":"VLOOKUP(C216,'Guy Fawkes'!$C$3:$N$34,9,FALSE)","v":0.66873263517845694},{"$f":"VLOOKUP(C216,Abbey!$C$3:$L$48,7,FALSE)","v":{"$error":"#N/A"}},{"$f":"VLOOKUP(C216,Chevin!$C$3:$L$50,7,FALSE)","v":{"$error":"#N/A"}},null,0,0,0,0,0,0,0,2,0,0,0,0,0,0,0,0,0,0,1,0,0,2]
[null,null,"Igs Robun","1975-09-20",41,{"$f":"IFERROR(VLOOKUP(C217,'Division Lookup'!$A$2:$D$251,4,FALSE),\"Second\")","v":"First"},{"$f":"VLOOKUP(C217,Dewsbury!$C$3:$L$46,7,FALSE)","v":{"$error":"#N/A"}},{"$f":"VLOOKUP($C217,Bradford!$C$3:$L$66,7,FALSE)","v":{"$error":"#N/A"}},{"$f":"VLOOKUP($C217,Keighley!$C$3:$N$42,9,FALSE)","v":{"$error":"#N/A"}},{"$f":"VLOOKUP($C217,'Bunny '!$C$3:$N$20,9,FALSE)","v":{"$error":"#N/A"}},{"$f":"VLOOKUP($C217,Liverpool!$C$3:$N$59,9,FALSE)","v":{"$error":"#N/A"}},{"$f":"VLOOKUP(C217,'VoY 10m'!$C$3:$N$40,9,FALSE)","v":{"$error":"#N/A"}},{"$f":"VLOOKUP(C217,Guisley!$C$3:$N$49,9,FALSE)","v":{"$error":"#N/A"}},{"$f":"VLOOKUP(C217,Odda!$C$3:$N$42,9,FALSE)","v":{"$error":"#N/A"}},{"$f":"VLOOKUP(C217,'Leeds half'!$C$4:$N$31,9,FALSE)","v":{"$error":"#N/A"}},{"$f":"VLOOKUP(C217,Ilkley!$C$3:$L$46,7,FALSE)","v":{"$error":"#N/A"}},{"$f":"VLOOKUP(C217,Otley!$C$3:$L$46,9,FALSE)","v":{"$error":"#N/A"}},{"$f":"VLOOKUP(C217,Solstice!$C$3:$L$48,7,FALSE)","v":{"$error":"#N/A"}},{"$f":"VLOOKUP(C217,Eccup!$C$3:$L$46,9,FALSE)","v":{"$error":"#N/A"}},null,{"$f":"VLOOKUP(C217,Shakerr!$C$3:$L$46,7,FALSE)","v":{"$error":"#N/A"}},{"$f":"VLOOKUP(C217,VoY!$C$3:$L$46,9,FALSE)","v":{"$error":"#N/A"}},{"$f":"VLOOKUP(C217,Kirkstall!$C$3:$L$46,9,FALSE)","v":{"$error":"#N/A"}},{"$f":"VLOOKUP($C217,City!$C$3:$L$69,9,FALSE)","v":{"$error":"#N/A"}},{"$f":"VLOOKUP(C217,'Guy Fawkes'!$C$3:$N$34,9,FALSE)","v":{"$error":"#N/A"}},{"$f":"VLOOKUP(C217,Abbey!$C$3:$L$48,7,FALSE)","v":{"$error":"#N/A"}},{"$f":"VLOOKUP(C217,Chevin!$C$3:$L$50,7,FALSE)","v":{"$error":"#N/A"}},null,0,0,0,0,0,0,0,0,0,0,0,0,0,0,0,0,0,0,0,0,0,0]
[null,null,"Nina Rogers","1978-11-25",38,{"$f":"IFERROR(VLOOKUP(C218,'Division Lookup'!$A$2:$D$251,4,FALSE),\"Second\")","v":"Second"},{"$f":"VLOOKUP(C218,Dewsbury!$C$3:$L$46,7,FALSE)","v":{"$error":"#N/A"}},{"$f":"VLOOKUP($C218,Bradford!$C$3:$L$66,7,FALSE)","v":0.57336621454993841},{"$f":"VLOOKUP($C218,Keighley!$C$3:$N$42,9,FALSE)","v":{"$error":"#N/A"}},{"$f":"VLOOKUP($C218,'Bunny '!$C$3:$N$20,9,FALSE)","v":{"$error":"#N/A"}},{"$f":"VLOOKUP($C218,Liverpool!$C$3:$N$59,9,FALSE)","v":{"$error":"#N/A"}},{"$f":"VLOOKUP(C218,'VoY 10m'!$C$3:$N$40,9,FALSE)","v":{"$error":"#N/A"}},{"$f":"VLOOKUP(C218,Guisley!$C$3:$N$49,9,FALSE)","v":{"$error":"#N/A"}},{"$f":"VLOOKUP(C218,Odda!$C$3:$N$42,9,FALSE)","v":{"$error":"#N/A"}},{"$f":"VLOOKUP(C218,'Leeds half'!$C$4:$N$31,9,FALSE)","v":{"$error":"#N/A"}},{"$f":"VLOOKUP(C218,Ilkley!$C$3:$L$46,7,FALSE)","v":{"$error":"#N/A"}},{"$f":"VLOOKUP(C218,Otley!$C$3:$L$46,9,FALSE)","v":{"$error":"#N/A"}},{"$f":"VLOOKUP(C218,Solstice!$C$3:$L$48,7,FALSE)","v":{"$error":"#N/A"}},{"$f":"VLOOKUP(C218,Eccup!$C$3:$L$46,9,FALSE)","v":{"$error":"#N/A"}},null,{"$f":"VLOOKUP(C218,Shakerr!$C$3:$L$46,7,FALSE)","v":{"$error":"#N/A"}},{"$f":"VLOOKUP(C218,VoY!$C$3:$L$46,9,FALSE)","v":{"$error":"#N/A"}},{"$f":"VLOOKUP(C218,Kirkstall!$C$3:$L$46,9,FALSE)","v":{"$error":"#N/A"}},{"$f":"VLOOKUP($C218,City!$C$3:$L$69,9,FALSE)","v":{"$error":"#N/A"}},{"$f":"VLOOKUP(C218,'Guy Fawkes'!$C$3:$N$34,9,FALSE)","v":{"$error":"#N/A"}},{"$f":"VLOOKUP(C218,Abbey!$C$3:$L$48,7,FALSE)","v":{"$error":"#N/A"}},{"$f":"VLOOKUP(C218,Chevin!$C$3:$L$50,7,FALSE)","v":{"$error":"#N/A"}},null,0,12,0,0,0,0,0,0,0,0,0,0,0,0,0,0,0,0,0,0,0,1]
[null,null,"joshua rose","1996-01-10",20,{"$f":"IFERROR(VLOOKUP(C219,'Division Lookup'!$A$2:$D$251,4,FALSE),\"Second\")","v":"Second"},{"$f":"VLOOKUP(C219,Dewsbury!$C$3:$L$46,7,FALSE)","v":{"$error":"#N/A"}},{"$f":"VLOOKUP($C219,Bradford!$C$3:$L$66,7,FALSE)","v":{"$error":"#N/A"}},{"$f":"VLOOKUP($C219,Keighley!$C$3:$N$42,9,FALSE)","v":{"$error":"#N/A"}},{"$f":"VLOOKUP($C219,'Bunny '!$C$3:$N$20,9,FALSE)","v":{"$error":"#N/A"}},{"$f":"VLOOKUP($C219,Liverpool!$C$3:$N$59,9,FALSE)","v":{"$error":"#N/A"}},{"$f":"VLOOKUP(C219,'VoY 10m'!$C$3:$N$40,9,FALSE)","v":{"$error":"#N/A"}},{"$f":"VLOOKUP(C219,Guisley!$C$3:$N$49,9,FALSE)","v":{"$error":"#N/A"}},{"$f":"VLOOKUP(C219,Odda!$C$3:$N$42,9,FALSE)","v":{"$error":"#N/A"}},{"$f":"VLOOKUP(C219,'Leeds half'!$C$4:$N$31,9,FALSE)","v":{"$error":"#N/A"}},{"$f":"VLOOKUP(C219,Ilkley!$C$3:$L$46,7,FALSE)","v":{"$error":"#N/A"}},{"$f":"VLOOKUP(C219,Otley!$C$3:$L$46,9,FALSE)","v":{"$error":"#N/A"}},{"$f":"VLOOKUP(C219,Solstice!$C$3:$L$48,7,FALSE)","v":{"$error":"#N/A"}},{"$f":"VLOOKUP(C219,Eccup!$C$3:$L$46,9,FALSE)","v":{"$error":"#N/A"}},null,{"$f":"VLOOKUP(C219,Shakerr!$C$3:$L$46,7,FALSE)","v":{"$error":"#N/A"}},{"$f":"VLOOKUP(C219,VoY!$C$3:$L$46,9,FALSE)","v":{"$error":"#N/A"}},{"$f":"VLOOKUP(C219,Kirkstall!$C$3:$L$46,9,FALSE)","v":{"$error":"#N/A"}},{"$f":"VLOOKUP($C219,City!$C$3:$L$69,9,FALSE)","v":{"$error":"#N/A"}},{"$f":"VLOOKUP(C219,'Guy Fawkes'!$C$3:$N$34,9,FALSE)","v":{"$error":"#N/A"}},{"$f":"VLOOKUP(C219,Abbey!$C$3:$L$48,7,FALSE)","v":{"$error":"#N/A"}},{"$f":"VLOOKUP(C219,Chevin!$C$3:$L$50,7,FALSE)","v":{"$error":"#N/A"}},null,0,0,0,0,0,0,0,0,0,0,0,0,0,0,0,0,0,0,0,0,0,0]
[null,null,"Simon Rose","1965-02-26",51,{"$f":"IFERROR(VLOOKUP(C220,'Division Lookup'!$A$2:$D$251,4,FALSE),\"Second\")","v":"First"},{"$f":"VLOOKUP(C220,Dewsbury!$C$3:$L$46,7,FALSE)","v":{"$error":"#N/A"}},{"$f":"VLOOKUP($C220,Bradford!$C$3:$L$66,7,FALSE)","v":{"$error":"#N/A"}},{"$f":"VLOOKUP($C220,Keighley!$C$3:$N$42,9,FALSE)","v":{"$error":"#N/A"}},{"$f":"VLOOKUP($C220,'Bunny '!$C$3:$N$20,9,FALSE)","v":{"$error":"#N/A"}},{"$f":"VLOOKUP($C220,Liverpool!$C$3:$N$59,9,FALSE)","v":{"$error":"#N/A"}},{"$f":"VLOOKUP(C220,'VoY 10m'!$C$3:$N$40,9,FALSE)","v":{"$error":"#N/A"}},{"$f":"VLOOKUP(C220,Guisley!$C$3:$N$49,9,FALSE)","v":{"$error":"#N/A"}},{"$f":"VLOOKUP(C220,Odda!$C$3:$N$42,9,FALSE)","v":{"$error":"#N/A"}},{"$f":"VLOOKUP(C220,'Leeds half'!$C$4:$N$31,9,FALSE)","v":{"$error":"#N/A"}},{"$f":"VLOOKUP(C220,Ilkley!$C$3:$L$46,7,FALSE)","v":{"$error":"#N/A"}},{"$f":"VLOOKUP(C220,Otley!$C$3:$L$46,9,FALSE)","v":{"$error":"#N/A"}},{"$f":"VLOOKUP(C220,Solstice!$C$3:$L$48,7,FALSE)","v":{"$error":"#N/A"}},{"$f":"VLOOKUP(C220,Eccup!$C$3:$L$46,9,FALSE)","v":{"$error":"#N/A"}},null,{"$f":"VLOOKUP(C220,Shakerr!$C$3:$L$46,7,FALSE)","v":{"$error":"#N/A"}},{"$f":"VLOOKUP(C220,VoY!$C$3:$L$46,9,FALSE)","v":{"$error":"#N/A"}},{"$f":"VLOOKUP(C220,Kirkstall!$C$3:$L$46,9,FALSE)","v":{"$error":"#N/A"}},{"$f":"VLOOKUP($C220,City!$C$3:$L$69,9,FALSE)","v":{"$error":"#N/A"}},{"$f":"VLOOKUP(C220,'Guy Fawkes'!$C$3:$N$34,9,FALSE)","v":{"$error":"#N/A"}},{"$f":"VLOOKUP(C220,Abbey!$C$3:$L$48,7,FALSE)","v":{"$error":"#N/A"}},{"$f":"VLOOKUP(C220,Chevin!$C$3:$L$50,7,FALSE)","v":{"$error":"#N/A"}},null,0,0,0,0,0,0,0,0,0,0,0,0,0,0,0,0,0,0,0,0,0,0]
[null,null,"Theresa Rose","1969-08-25",47,{"$f":"IFERROR(VLOOKUP(C221,'Division Lookup'!$A$2:$D$251,4,FALSE),\"Second\")","v":"Second"},{"$f":"VLOOKUP(C221,Dewsbury!$C$3:$L$46,7,FALSE)","v":{"$error":"#N/A"}},{"$f":"VLOOKUP($C221,Bradford!$C$3:$L$66,7,FALSE)","v":{"$error":"#N/A"}},{"$f":"VLOOKUP($C221,Keighley!$C$3:$N$42,9,FALSE)","v":{"$error":"#N/A"}},{"$f":"VLOOKUP($C221,'Bunny '!$C$3:$N$20,9,FALSE)","v":{"$error":"#N/A"}},{"$f":"VLOOKUP($C221,Liverpool!$C$3:$N$59,9,FALSE)","v":{"$error":"#N/A"}},{"$f":"VLOOKUP(C221,'VoY 10m'!$C$3:$N$40,9,FALSE)","v":{"$error":"#N/A"}},{"$f":"VLOOKUP(C221,Guisley!$C$3:$N$49,9,FALSE)","v":{"$error":"#N/A"}},{"$f":"VLOOKUP(C221,Odda!$C$3:$N$42,9,FALSE)","v":{"$error":"#N/A"}},{"$f":"VLOOKUP(C221,'Leeds half'!$C$4:$N$31,9,FALSE)","v":{"$error":"#N/A"}},{"$f":"VLOOKUP(C221,Ilkley!$C$3:$L$46,7,FALSE)","v":{"$error":"#N/A"}},{"$f":"VLOOKUP(C221,Otley!$C$3:$L$46,9,FALSE)","v":{"$error":"#N/A"}},{"$f":"VLOOKUP(C221,Solstice!$C$3:$L$48,7,FALSE)","v":{"$error":"#N/A"}},{"$f":"VLOOKUP(C221,Eccup!$C$3:$L$46,9,FALSE)","v":{"$error":"#N/A"}},null,{"$f":"VLOOKUP(C221,Shakerr!$C$3:$L$46,7,FALSE)","v":{"$error":"#N/A"}},{"$f":"VLOOKUP(C221,VoY!$C$3:$L$46,9,FALSE)","v":{"$error":"#N/A"}},{"$f":"VLOOKUP(C221,Kirkstall!$C$3:$L$46,9,FALSE)","v":{"$error":"#N/A"}},{"$f":"VLOOKUP($C221,City!$C$3:$L$69,9,FALSE)","v":{"$error":"#N/A"}},{"$f":"VLOOKUP(C221,'Guy Fawkes'!$C$3:$N$34,9,FALSE)","v":{"$error":"#N/A"}},{"$f":"VLOOKUP(C221,Abbey!$C$3:$L$48,7,FALSE)","v":{"$error":"#N/A"}},{"$f":"VLOOKUP(C221,Chevin!$C$3:$L$50,7,FALSE)","v":{"$error":"#N/A"}},null,0,0,0,0,0,0,0,0,0,0,0,0,0,0,0,0,0,0,0,0,0,0]
[null,null,"Sylvia Ross","1947-12-28",69,{"$f":"IFERROR(VLOOKUP(C222,'Division Lookup'!$A$2:$D$251,4,FALSE),\"Second\")","v":"First"},{"$f":"VLOOKUP(C222,Dewsbury!$C$3:$L$46,7,FALSE)","v":0.80731195684746782},{"$f":"VLOOKUP($C222,Bradford!$C$3:$L$66,7,FALSE)","v":0.8046594982078854},{"$f":"VLOOKUP($C222,Keighley!$C$3:$N$42,9,FALSE)","v":0.75887323943661977},{"$f":"VLOOKUP($C222,'Bunny '!$C$3:$N$20,9,FALSE)","v":{"$error":"#N/A"}},{"$f":"VLOOKUP($C222,Liverpool!$C$3:$N$59,9,FALSE)","v":0.80658135283363819},{"$f":"VLOOKUP(C222,'VoY 10m'!$C$3:$N$40,9,FALSE)","v":{"$error":"#N/A"}},{"$f":"VLOOKUP(C222,Guisley!$C$3:$N$49,9,FALSE)","v":{"$error":"#N/A"}},{"$f":"VLOOKUP(C222,Odda!$C$3:$N$42,9,FALSE)","v":{"$error":"#N/A"}},{"$f":"VLOOKUP(C222,'Leeds half'!$C$4:$N$31,9,FALSE)","v":0.58489244622311154},{"$f":"VLOOKUP(C222,Ilkley!$C$3:$L$46,7,FALSE)","v":{"$error":"#N/A"}},{"$f":"VLOOKUP(C222,Otley!$C$3:$L$46,9,FALSE)","v":{"$error":"#N/A"}},{"$f":"VLOOKUP(C222,Solstice!$C$3:$L$48,7,FALSE)","v":0.65940472537588213},{"$f":"VLOOKUP(C222,Eccup!$C$3:$L$46,9,FALSE)","v":{"$error":"#N/A"}},null,{"$f":"VLOOKUP(C222,Shakerr!$C$3:$L$46,7,FALSE)","v":0.54490291262135926},{"$f":"VLOOKUP(C222,VoY!$C$3:$L$46,9,FALSE)","v":{"$error":"#N/A"}},{"$f":"VLOOKUP(C222,Kirkstall!$C$3:$L$46,9,FALSE)","v":0.64551690347868684},{"$f":"VLOOKUP($C222,City!$C$3:$L$69,9,FALSE)","v":0.75293460033538284},{"$f":"VLOOKUP(C222,'Guy Fawkes'!$C$3:$N$34,9,FALSE)","v":{"$error":"#N/A"}},{"$f":"VLOOKUP(C222,Abbey!$C$3:$L$48,7,FALSE)","v":0.54249706916764362},{"$f":"VLOOKUP(C222,Chevin!$C$3:$L$50,7,FALSE)","v":{"$error":"#N/A"}},null,1,1,1,0,1,0,0,0,3,0,0,1,0,0,1,0,2,1,0,2,0,10]
[null,null,"Joshua Rowe","1991-11-04",25,{"$f":"IFERROR(VLOOKUP(C223,'Division Lookup'!$A$2:$D$251,4,FALSE),\"Second\")","v":"Second"},{"$f":"VLOOKUP(C223,Dewsbury!$C$3:$L$46,7,FALSE)","v":{"$error":"#N/A"}},{"$f":"VLOOKUP($C223,Bradford!$C$3:$L$66,7,FALSE)","v":{"$error":"#N/A"}},{"$f":"VLOOKUP($C223,Keighley!$C$3:$N$42,9,FALSE)","v":{"$error":"#N/A"}},{"$f":"VLOOKUP($C223,'Bunny '!$C$3:$N$20,9,FALSE)","v":{"$error":"#N/A"}},{"$f":"VLOOKUP($C223,Liverpool!$C$3:$N$59,9,FALSE)","v":{"$error":"#N/A"}},{"$f":"VLOOKUP(C223,'VoY 10m'!$C$3:$N$40,9,FALSE)","v":{"$error":"#N/A"}},{"$f":"VLOOKUP(C223,Guisley!$C$3:$N$49,9,FALSE)","v":{"$error":"#N/A"}},{"$f":"VLOOKUP(C223,Odda!$C$3:$N$42,9,FALSE)","v":{"$error":"#N/A"}},{"$f":"VLOOKUP(C223,'Leeds half'!$C$4:$N$31,9,FALSE)","v":{"$error":"#N/A"}},{"$f":"VLOOKUP(C223,Ilkley!$C$3:$L$46,7,FALSE)","v":{"$error":"#N/A"}},{"$f":"VLOOKUP(C223,Otley!$C$3:$L$46,9,FALSE)","v":{"$error":"#N/A"}},{"$f":"VLOOKUP(C223,Solstice!$C$3:$L$48,7,FALSE)","v":{"$error":"#N/A"}},{"$f":"VLOOKUP(C223,Eccup!$C$3:$L$46,9,FALSE)","v":{"$error":"#N/A"}},null,{"$f":"VLOOKUP(C223,Shakerr!$C$3:$L$46,7,FALSE)","v":{"$error":"#N/A"}},{"$f":"VLOOKUP(C223,VoY!$C$3:$L$46,9,FALSE)","v":{"$error":"#N/A"}},{"$f":"VLOOKUP(C223,Kirkstall!$C$3:$L$46,9,FALSE)","v":{"$error":"#N/A"}},{"$f":"VLOOKUP($C223,City!$C$3:$L$69,9,FALSE)","v":{"$error":"#N/A"}},{"$f":"VLOOKUP(C223,'Guy Fawkes'!$C$3:$N$34,9,FALSE)","v":{"$error":"#N/A"}},{"$f":"VLOOKUP(C223,Abbey!$C$3:$L$48,7,FALSE)","v":{"$error":"#N/A"}},{"$f":"VLOOKUP(C223,Chevin!$C$3:$L$50,7,FALSE)","v":{"$error":"#N/A"}},null,0,0,0,0,0,0,0,0,0,0,0,0,0,0,0,0,0,0,0,0,0,0]
[null,null,"Ellen Rutter","1987-10-13",29,{"$f":"IFERROR(VLOOKUP(C224,'Division Lookup'!$A$2:$D$251,4,FALSE),\"Second\")","v":"Second"},{"$f":"VLOOKUP(C224,Dewsbury!$C$3:$L$46,7,FALSE)","v":{"$error":"#N/A"}},{"$f":"VLOOKUP($C224,Bradford!$C$3:$L$66,7,FALSE)","v":{"$error":"#N/A"}},{"$f":"VLOOKUP($C224,Keighley!$C$3:$N$42,9,FALSE)","v":{"$error":"#N/A"}},{"$f":"VLOOKUP($C224,'Bunny '!$C$3:$N$20,9,FALSE)","v":{"$error":"#N/A"}},{"$f":"VLOOKUP($C224,Liverpool!$C$3:$N$59,9,FALSE)","v":{"$error":"#N/A"}},{"$f":"VLOOKUP(C224,'VoY 10m'!$C$3:$N$40,9,FALSE)","v":{"$error":"#N/A"}},{"$f":"VLOOKUP(C224,Guisley!$C$3:$N$49,9,FALSE)","v":{"$error":"#N/A"}},{"$f":"VLOOKUP(C224,Odda!$C$3:$N$42,9,FALSE)","v":{"$error":"#N/A"}},{"$f":"VLOOKUP(C224,'Leeds half'!$C$4:$N$31,9,FALSE)","v":{"$error":"#N/A"}},{"$f":"VLOOKUP(C224,Ilkley!$C$3:$L$46,7,FALSE)","v":{"$error":"#N/A"}},{"$f":"VLOOKUP(C224,Otley!$C$3:$L$46,9,FALSE)","v":{"$error":"#N/A"}},{"$f":"VLOOKUP(C224,Solstice!$C$3:$L$48,7,FALSE)","v":{"$error":"#N/A"}},{"$f":"VLOOKUP(C224,Eccup!$C$3:$L$46,9,FALSE)","v":{"$error":"#N/A"}},null,{"$f":"VLOOKUP(C224,Shakerr!$C$3:$L$46,7,FALSE)","v":{"$error":"#N/A"}},{"$f":"VLOOKUP(C224,VoY!$C$3:$L$46,9,FALSE)","v":{"$error":"#N/A"}},{"$f":"VLOOKUP(C224,Kirkstall!$C$3:$L$46,9,FALSE)","v":{"$error":"#N/A"}},{"$f":"VLOOKUP($C224,City!$C$3:$L$69,9,FALSE)","v":{"$error":"#N/A"}},{"$f":"VLOOKUP(C224,'Guy Fawkes'!$C$3:$N$34,9,FALSE)","v":{"$error":"#N/A"}},{"$f":"VLOOKUP(C224,Abbey!$C$3:$L$48,7,FALSE)","v":{"$error":"#N/A"}},{"$f":"VLOOKUP(C224,Chevin!$C$3:$L$50,7,FALSE)","v":{"$error":"#N/A"}},null,0,0,0,0,0,0,0,0,0,0,0,0,0,0,0,0,0,0,0,0,0,0]
[null,null,"Laura Ryall","1984-08-15",32,{"$f":"IFERROR(VLOOKUP(C225,'Division Lookup'!$A$2:$D$251,4,FALSE),\"Second\")","v":"Second"},{"$f":"VLOOKUP(C225,Dewsbury!$C$3:$L$46,7,FALSE)","v":{"$error":"#N/A"}},{"$f":"VLOOKUP($C225,Bradford!$C$3:$L$66,7,FALSE)","v":{"$error":"#N/A"}},{"$f":"VLOOKUP($C225,Keighley!$C$3:$N$42,9,FALSE)","v":{"$error":"#N/A"}},{"$f":"VLOOKUP($C225,'Bunny '!$C$3:$N$20,9,FALSE)","v":{"$error":"#N/A"}},{"$f":"VLOOKUP($C225,Liverpool!$C$3:$N$59,9,FALSE)","v":{"$error":"#N/A"}},{"$f":"VLOOKUP(C225,'VoY 10m'!$C$3:$N$40,9,FALSE)","v":{"$error":"#N/A"}},{"$f":"VLOOKUP(C225,Guisley!$C$3:$N$49,9,FALSE)","v":{"$error":"#N/A"}},{"$f":"VLOOKUP(C225,Odda!$C$3:$N$42,9,FALSE)","v":{"$error":"#N/A"}},{"$f":"VLOOKUP(C225,'Leeds half'!$C$4:$N$31,9,FALSE)","v":{"$error":"#N/A"}},{"$f":"VLOOKUP(C225,Ilkley!$C$3:$L$46,7,FALSE)","v":{"$error":"#N/A"}},{"$f":"VLOOKUP(C225,Otley!$C$3:$L$46,9,FALSE)","v":{"$error":"#N/A"}},{"$f":"VLOOKUP(C225,Solstice!$C$3:$L$48,7,FALSE)","v":{"$error":"#N/A"}},{"$f":"VLOOKUP(C225,Eccup!$C$3:$L$46,9,FALSE)","v":{"$error":"#N/A"}},null,{"$f":"VLOOKUP(C225,Shakerr!$C$3:$L$46,7,FALSE)","v":{"$error":"#N/A"}},{"$f":"VLOOKUP(C225,VoY!$C$3:$L$46,9,FALSE)","v":{"$error":"#N/A"}},{"$f":"VLOOKUP(C225,Kirkstall!$C$3:$L$46,9,FALSE)","v":{"$error":"#N/A"}},{"$f":"VLOOKUP($C225,City!$C$3:$L$69,9,FALSE)","v":{"$error":"#N/A"}},{"$f":"VLOOKUP(C225,'Guy Fawkes'!$C$3:$N$34,9,FALSE)","v":{"$error":"#N/A"}},{"$f":"VLOOKUP(C225,Abbey!$C$3:$L$48,7,FALSE)","v":0.67257945306725786},{"$f":"VLOOKUP(C225,Chevin!$C$3:$L$50,7,FALSE)","v":{"$error":"#N/A"}},null,0,0,0,0,0,0,0,0,0,0,0,0,0,0,0,0,0,0,0,5,0,1]
[null,null,"David Scrivener","1978-07-11",38,{"$f":"IFERROR(VLOOKUP(C226,'Division Lookup'!$A$2:$D$251,4,FALSE),\"Second\")","v":"Second"},{"$f":"VLOOKUP(C226,Dewsbury!$C$3:$L$46,7,FALSE)","v":{"$error":"#N/A"}},{"$f":"VLOOKUP($C226,Bradford!$C$3:$L$66,7,FALSE)","v":{"$error":"#N/A"}},{"$f":"VLOOKUP($C226,Keighley!$C$3:$N$42,9,FALSE)","v":{"$error":"#N/A"}},{"$f":"VLOOKUP($C226,'Bunny '!$C$3:$N$20,9,FALSE)","v":{"$error":"#N/A"}},{"$f":"VLOOKUP($C226,Liverpool!$C$3:$N$59,9,FALSE)","v":{"$error":"#N/A"}},{"$f":"VLOOKUP(C226,'VoY 10m'!$C$3:$N$40,9,FALSE)","v":{"$error":"#N/A"}},{"$f":"VLOOKUP(C226,Guisley!$C$3:$N$49,9,FALSE)","v":{"$error":"#N/A"}},{"$f":"VLOOKUP(C226,Odda!$C$3:$N$42,9,FALSE)","v":{"$error":"#N/A"}},{"$f":"VLOOKUP(C226,'Leeds half'!$C$4:$N$31,9,FALSE)","v":0.59425962165688195},{"$f":"VLOOKUP(C226,Ilkley!$C$3:$L$46,7,FALSE)","v":{"$error":"#N/A"}},{"$f":"VLOOKUP(C226,Otley!$C$3:$L$46,9,FALSE)","v":{"$error":"#N/A"}},{"$f":"VLOOKUP(C226,Solstice!$C$3:$L$48,7,FALSE)","v":{"$error":"#N/A"}},{"$f":"VLOOKUP(C226,Eccup!$C$3:$L$46,9,FALSE)","v":{"$error":"#N/A"}},null,{"$f":"VLOOKUP(C226,Shakerr!$C$3:$L$46,7,FALSE)","v":{"$error":"#N/A"}},{"$f":"VLOOKUP(C226,VoY!$C$3:$L$46,9,FALSE)","v":{"$error":"#N/A"}},{"$f":"VLOOKUP(C226,Kirkstall!$C$3:$L$46,9,FALSE)","v":{"$error":"#N/A"}},{"$f":"VLOOKUP($C226,City!$C$3:$L$69,9,FALSE)","v":{"$error":"#N/A"}},{"$f":"VLOOKUP(C226,'Guy Fawkes'!$C$3:$N$34,9,FALSE)","v":{"$error":"#N/A"}},{"$f":"VLOOKUP(C226,Abbey!$C$3:$L$48,7,FALSE)","v":{"$error":"#N/A"}},{"$f":"VLOOKUP(C226,Chevin!$C$3:$L$50,7,FALSE)","v":{"$error":"#N/A"}},null,0,0,0,0,0,0,0,0,4,0,0,0,0,0,0,0,0,0,0,0,0,1]
[null,null,"David Seaward","1958-04-01",58,{"$f":"IFERROR(VLOOKUP(C227,'Division Lookup'!$A$2:$D$251,4,FALSE),\"Second\")","v":"Second"},{"$f":"VLOOKUP(C227,Dewsbury!$C$3:$L$46,7,FALSE)","v":{"$error":"#N/A"}},{"$f":"VLOOKUP($C227,Bradford!$C$3:$L$66,7,FALSE)","v":{"$error":"#N/A"}},{"$f":"VLOOKUP($C227,Keighley!$C$3:$N$42,9,FALSE)","v":{"$error":"#N/A"}},{"$f":"VLOOKUP($C227,'Bunny '!$C$3:$N$20,9,FALSE)","v":{"$error":"#N/A"}},{"$f":"VLOOKUP($C227,Liverpool!$C$3:$N$59,9,FALSE)","v":{"$error":"#N/A"}},{"$f":"VLOOKUP(C227,'VoY 10m'!$C$3:$N$40,9,FALSE)","v":{"$error":"#N/A"}},{"$f":"VLOOKUP(C227,Guisley!$C$3:$N$49,9,FALSE)","v":{"$error":"#N/A"}},{"$f":"VLOOKUP(C227,Odda!$C$3:$N$42,9,FALSE)","v":{"$error":"#N/A"}},{"$f":"VLOOKUP(C227,'Leeds half'!$C$4:$N$31,9,FALSE)","v":{"$error":"#N/A"}},{"$f":"VLOOKUP(C227,Ilkley!$C$3:$L$46,7,FALSE)","v":{"$error":"#N/A"}},{"$f":"VLOOKUP(C227,Otley!$C$3:$L$46,9,FALSE)","v":{"$error":"#N/A"}},{"$f":"VLOOKUP(C227,Solstice!$C$3:$L$48,7,FALSE)","v":{"$error":"#N/A"}},{"$f":"VLOOKUP(C227,Eccup!$C$3:$L$46,9,FALSE)","v":{"$error":"#N/A"}},null,{"$f":"VLOOKUP(C227,Shakerr!$C$3:$L$46,7,FALSE)","v":{"$error":"#N/A"}},{"$f":"VLOOKUP(C227,VoY!$C$3:$L$46,9,FALSE)","v":{"$error":"#N/A"}},{"$f":"VLOOKUP(C227,Kirkstall!$C$3:$L$46,9,FALSE)","v":{"$error":"#N/A"}},{"$f":"VLOOKUP($C227,City!$C$3:$L$69,9,FALSE)","v":{"$error":"#N/A"}},{"$f":"VLOOKUP(C227,'Guy Fawkes'!$C$3:$N$34,9,FALSE)","v":{"$error":"#N/A"}},{"$f":"VLOOKUP(C227,Abbey!$C$3:$L$48,7,FALSE)","v":{"$error":"#N/A"}},{"$f":"VLOOKUP(C227,Chevin!$C$3:$L$50,7,FALSE)","v":{"$error":"#N/A"}},null,0,0,0,0,0,0,0,0,0,0,0,0,0,0,0,0,0,0,0,0,0,0]
[null,null,"Tim Shea","1991-10-11",25,{"$f":"IFERROR(VLOOKUP(C228,'Division Lookup'!$A$2:$D$251,4,FALSE),\"Second\")","v":"Second"},{"$f":"VLOOKUP(C228,Dewsbury!$C$3:$L$46,7,FALSE)","v":{"$error":"#N/A"}},{"$f":"VLOOKUP($C228,Bradford!$C$3:$L$66,7,FALSE)","v":{"$error":"#N/A"}},{"$f":"VLOOKUP($C228,Keighley!$C$3:$N$42,9,FALSE)","v":{"$error":"#N/A"}},{"$f":"VLOOKUP($C228,'Bunny '!$C$3:$N$20,9,FALSE)","v":{"$error":"#N/A"}},{"$f":"VLOOKUP($C228,Liverpool!$C$3:$N$59,9,FALSE)","v":{"$error":"#N/A"}},{"$f":"VLOOKUP(C228,'VoY 10m'!$C$3:$N$40,9,FALSE)","v":{"$error":"#N/A"}},{"$f":"VLOOKUP(C228,Guisley!$C$3:$N$49,9,FALSE)","v":{"$error":"#N/A"}},{"$f":"VLOOKUP(C228,Odda!$C$3:$N$42,9,FALSE)","v":{"$error":"#N/A"}},{"$f":"VLOOKUP(C228,'Leeds half'!$C$4:$N$31,9,FALSE)","v":{"$error":"#N/A"}},{"$f":"VLOOKUP(C228,Ilkley!$C$3:$L$46,7,FALSE)","v":{"$error":"#N/A"}},{"$f":"VLOOKUP(C228,Otley!$C$3:$L$46,9,FALSE)","v":{"$error":"#N/A"}},{"$f":"VLOOKUP(C228,Solstice!$C$3:$L$48,7,FALSE)","v":{"$error":"#N/A"}},{"$f":"VLOOKUP(C228,Eccup!$C$3:$L$46,9,FALSE)","v":{"$error":"#N/A"}},null,{"$f":"VLOOKUP(C228,Shakerr!$C$3:$L$46,7,FALSE)","v":{"$error":"#N/A"}},{"$f":"VLOOKUP(C228,VoY!$C$3:$L$46,9,FALSE)","v":{"$error":"#N/A"}},{"$f":"VLOOKUP(C228,Kirkstall!$C$3:$L$46,9,FALSE)","v":{"$error":"#N/A"}},{"$f":"VLOOKUP($C228,City!$C$3:$L$69,9,FALSE)","v":{"$error":"#N/A"}},{"$f":"VLOOKUP(C228,'Guy Fawkes'!$C$3:$N$34,9,FALSE)","v":{"$error":"#N/A"}},{"$f":"VLOOKUP(C228,Abbey!$C$3:$L$48,7,FALSE)","v":{"$error":"#N/A"}},{"$f":"VLOOKUP(C228,Chevin!$C$3:$L$50,7,FALSE)","v":{"$error":"#N/A"}},null,0,0,0,0,0,0,0,0,0,0,0,0,0,0,0,0,0,0,0,0,0,0]
[null,null,"Therese Sheehan","1986-05-27",30,{"$f":"IFERROR(VLOOKUP(C229,'Division Lookup'!$A$2:$D$251,4,FALSE),\"Second\")","v":"Second"},{"$f":"VLOOKUP(C229,Dewsbury!$C$3:$L$46,7,FALSE)","v":{"$error":"#N/A"}},{"$f":"VLOOKUP($C229,Bradford!$C$3:$L$66,7,FALSE)","v":{"$error":"#N/A"}},{"$f":"VLOOKUP($C229,Keighley!$C$3:$N$42,9,FALSE)","v":{"$error":"#N/A"}},{"$f":"VLOOKUP($C229,'Bunny '!$C$3:$N$20,9,FALSE)","v":{"$error":"#N/A"}},{"$f":"VLOOKUP($C229,Liverpool!$C$3:$N$59,9,FALSE)","v":0.61908492635537449},{"$f":"VLOOKUP(C229,'VoY 10m'!$C$3:$N$40,9,FALSE)","v":{"$error":"#N/A"}},{"$f":"VLOOKUP(C229,Guisley!$C$3:$N$49,9,FALSE)","v":{"$error":"#N/A"}},{"$f":"VLOOKUP(C229,Odda!$C$3:$N$42,9,FALSE)","v":{"$error":"#N/A"}},{"$f":"VLOOKUP(C229,'Leeds half'!$C$4:$N$31,9,FALSE)","v":{"$error":"#N/A"}},{"$f":"VLOOKUP(C229,Ilkley!$C$3:$L$46,7,FALSE)","v":{"$error":"#N/A"}},{"$f":"VLOOKUP(C229,Otley!$C$3:$L$46,9,FALSE)","v":{"$error":"#N/A"}},{"$f":"VLOOKUP(C229,Solstice!$C$3:$L$48,7,FALSE)","v":{"$error":"#N/A"}},{"$f":"VLOOKUP(C229,Eccup!$C$3:$L$46,9,FALSE)","v":{"$error":"#N/A"}},null,{"$f":"VLOOKUP(C229,Shakerr!$C$3:$L$46,7,FALSE)","v":{"$error":"#N/A"}},{"$f":"VLOOKUP(C229,VoY!$C$3:$L$46,9,FALSE)","v":{"$error":"#N/A"}},{"$f":"VLOOKUP(C229,Kirkstall!$C$3:$L$46,9,FALSE)","v":{"$error":"#N/A"}},{"$f":"VLOOKUP($C229,City!$C$3:$L$69,9,FALSE)","v":{"$error":"#N/A"}},{"$f":"VLOOKUP(C229,'Guy Fawkes'!$C$3:$N$34,9,FALSE)","v":{"$error":"#N/A"}},{"$f":"VLOOKUP(C229,Abbey!$C$3:$L$48,7,FALSE)","v":{"$error":"#N/A"}},{"$f":"VLOOKUP(C229,Chevin!$C$3:$L$50,7,FALSE)","v":{"$error":"#N/A"}},null,0,0,0,0,4,0,0,0,0,0,0,0,0,0,0,0,0,0,0,0,0,1]
[null,null,"Sarah Sherratt","1978-10-29",38,{"$f":"IFERROR(VLOOKUP(C230,'Division Lookup'!$A$2:$D$251,4,FALSE),\"Second\")","v":"Second"},{"$f":"VLOOKUP(C230,Dewsbury!$C$3:$L$46,7,FALSE)","v":{"$error":"#N/A"}},{"$f":"VLOOKUP($C230,Bradford!$C$3:$L$66,7,FALSE)","v":0.55324211778703158},{"$f":"VLOOKUP($C230,Keighley!$C$3:$N$42,9,FALSE)","v":{"$error":"#N/A"}},{"$f":"VLOOKUP($C230,'Bunny '!$C$3:$N$20,9,FALSE)","v":{"$error":"#N/A"}},{"$f":"VLOOKUP($C230,Liverpool!$C$3:$N$59,9,FALSE)","v":0.53485513608428448},{"$f":"VLOOKUP(C230,'VoY 10m'!$C$3:$N$40,9,FALSE)","v":{"$error":"#N/A"}},{"$f":"VLOOKUP(C230,Guisley!$C$3:$N$49,9,FALSE)","v":{"$error":"#N/A"}},{"$f":"VLOOKUP(C230,Odda!$C$3:$N$42,9,FALSE)","v":{"$error":"#N/A"}},{"$f":"VLOOKUP(C230,'Leeds half'!$C$4:$N$31,9,FALSE)","v":0.51302579743296473},{"$f":"VLOOKUP(C230,Ilkley!$C$3:$L$46,7,FALSE)","v":{"$error":"#N/A"}},{"$f":"VLOOKUP(C230,Otley!$C$3:$L$46,9,FALSE)","v":{"$error":"#N/A"}},{"$f":"VLOOKUP(C230,Solstice!$C$3:$L$48,7,FALSE)","v":{"$error":"#N/A"}},{"$f":"VLOOKUP(C230,Eccup!$C$3:$L$46,9,FALSE)","v":{"$error":"#N/A"}},null,{"$f":"VLOOKUP(C230,Shakerr!$C$3:$L$46,7,FALSE)","v":0.3866943866943866},{"$f":"VLOOKUP(C230,VoY!$C$3:$L$46,9,FALSE)","v":0.52695470565200364},{"$f":"VLOOKUP(C230,Kirkstall!$C$3:$L$46,9,FALSE)","v":0.5228387096774193},{"$f":"VLOOKUP($C230,City!$C$3:$L$69,9,FALSE)","v":0.56811240073304825},{"$f":"VLOOKUP(C230,'Guy Fawkes'!$C$3:$N$34,9,FALSE)","v":{"$error":"#N/A"}},{"$f":"VLOOKUP(C230,Abbey!$C$3:$L$48,7,FALSE)","v":0.56508328192473778},{"$f":"VLOOKUP(C230,Chevin!$C$3:$L$50,7,FALSE)","v":{"$error":"#N/A"}},null,0,16,0,0,13,0,0,0,7,0,0,0,0,0,11,5,3,8,0,12,0,8]
[null,null,"Esther Silva","1984-07-03",32,{"$f":"IFERROR(VLOOKUP(C231,'Division Lookup'!$A$2:$D$251,4,FALSE),\"Second\")","v":"Second"},{"$f":"VLOOKUP(C231,Dewsbury!$C$3:$L$46,7,FALSE)","v":{"$error":"#N/A"}},{"$f":"VLOOKUP($C231,Bradford!$C$3:$L$66,7,FALSE)","v":0.54253420582986323},{"$f":"VLOOKUP($C231,Keighley!$C$3:$N$42,9,FALSE)","v":{"$error":"#N/A"}},{"$f":"VLOOKUP($C231,'Bunny '!$C$3:$N$20,9,FALSE)","v":{"$error":"#N/A"}},{"$f":"VLOOKUP($C231,Liverpool!$C$3:$N$59,9,FALSE)","v":{"$error":"#N/A"}},{"$f":"VLOOKUP(C231,'VoY 10m'!$C$3:$N$40,9,FALSE)","v":{"$error":"#N/A"}},{"$f":"VLOOKUP(C231,Guisley!$C$3:$N$49,9,FALSE)","v":{"$error":"#N/A"}},{"$f":"VLOOKUP(C231,Odda!$C$3:$N$42,9,FALSE)","v":{"$error":"#N/A"}},{"$f":"VLOOKUP(C231,'Leeds half'!$C$4:$N$31,9,FALSE)","v":0.50324056423942043},{"$f":"VLOOKUP(C231,Ilkley!$C$3:$L$46,7,FALSE)","v":{"$error":"#N/A"}},{"$f":"VLOOKUP(C231,Otley!$C$3:$L$46,9,FALSE)","v":{"$error":"#N/A"}},{"$f":"VLOOKUP(C231,Solstice!$C$3:$L$48,7,FALSE)","v":{"$error":"#N/A"}},{"$f":"VLOOKUP(C231,Eccup!$C$3:$L$46,9,FALSE)","v":{"$error":"#N/A"}},null,{"$f":"VLOOKUP(C231,Shakerr!$C$3:$L$46,7,FALSE)","v":0.3758499896970946},{"$f":"VLOOKUP(C231,VoY!$C$3:$L$46,9,FALSE)","v":0.512157268494568},{"$f":"VLOOKUP(C231,Kirkstall!$C$3:$L$46,9,FALSE)","v":{"$error":"#N/A"}},{"$f":"VLOOKUP($C231,City!$C$3:$L$69,9,FALSE)","v":{"$error":"#N/A"}},{"$f":"VLOOKUP(C231,'Guy Fawkes'!$C$3:$N$34,9,FALSE)","v":{"$error":"#N/A"}},{"$f":"VLOOKUP(C231,Abbey!$C$3:$L$48,7,FALSE)","v":0.56363078810180922},{"$f":"VLOOKUP(C231,Chevin!$C$3:$L$50,7,FALSE)","v":{"$error":"#N/A"}},null,0,18,0,0,0,0,0,0,8,0,0,0,0,0,12,6,0,0,0,13,0,5]
[null,null,"Mervyn Silva","1955-06-28",61,{"$f":"IFERROR(VLOOKUP(C232,'Division Lookup'!$A$2:$D$251,4,FALSE),\"Second\")","v":"First"},{"$f":"VLOOKUP(C232,Dewsbury!$C$3:$L$46,7,FALSE)","v":{"$error":"#N/A"}},{"$f":"VLOOKUP($C232,Bradford!$C$3:$L$66,7,FALSE)","v":0.6732505643340857},{"$f":"VLOOKUP($C232,Keighley!$C$3:$N$42,9,FALSE)","v":{"$error":"#N/A"}},{"$f":"VLOOKUP($C232,'Bunny '!$C$3:$N$20,9,FALSE)","v":{"$error":"#N/A"}},{"$f":"VLOOKUP($C232,Liverpool!$C$3:$N$59,9,FALSE)","v":{"$error":"#N/A"}},{"$f":"VLOOKUP(C232,'VoY 10m'!$C$3:$N$40,9,FALSE)","v":{"$error":"#N/A"}},{"$f":"VLOOKUP(C232,Guisley!$C$3:$N$49,9,FALSE)","v":{"$error":"#N/A"}},{"$f":"VLOOKUP(C232,Odda!$C$3:$N$42,9,FALSE)","v":{"$error":"#N/A"}},{"$f":"VLOOKUP(C232,'Leeds half'!$C$4:$N$31,9,FALSE)","v":{"$error":"#N/A"}},{"$f":"VLOOKUP(C232,Ilkley!$C$3:$L$46,7,FALSE)","v":{"$error":"#N/A"}},{"$f":"VLOOKUP(C232,Otley!$C$3:$L$46,9,FALSE)","v":{"$error":"#N/A"}},{"$f":"VLOOKUP(C232,Solstice!$C$3:$L$48,7,FALSE)","v":{"$error":"#N/A"}},{"$f":"VLOOKUP(C232,Eccup!$C$3:$L$46,9,FALSE)","v":{"$error":"#N/A"}},null,{"$f":"VLOOKUP(C232,Shakerr!$C$3:$L$46,7,FALSE)","v":{"$error":"#N/A"}},{"$f":"VLOOKUP(C232,VoY!$C$3:$L$46,9,FALSE)","v":{"$error":"#N/A"}},{"$f":"VLOOKUP(C232,Kirkstall!$C$3:$L$46,9,FALSE)","v":{"$error":"#N/A"}},{"$f":"VLOOKUP($C232,City!$C$3:$L$69,9,FALSE)","v":{"$error":"#N/A"}},{"$f":"VLOOKUP(C232,'Guy Fawkes'!$C$3:$N$34,9,FALSE)","v":{"$error":"#N/A"}},{"$f":"VLOOKUP(C232,Abbey!$C$3:$L$48,7,FALSE)","v":{"$error":"#N/A"}},{"$f":"VLOOKUP(C232,Chevin!$C$3:$L$50,7,FALSE)","v":{"$error":"#N/A"}},null,0,4,0,0,0,0,0,0,0,0,0,0,0,0,0,0,0,0,0,0,0,1]
[null,null,"John Singh","1982-10-29",34,{"$f":"IFERROR(VLOOKUP(C233,'Division Lookup'!$A$2:$D$251,4,FALSE),\"Second\")","v":"Second"},{"$f":"VLOOKUP(C233,Dewsbury!$C$3:$L$46,7,FALSE)","v":0.61518226230740325},{"$f":"VLOOKUP($C233,Bradford!$C$3:$L$66,7,FALSE)","v":{"$error":"#N/A"}},{"$f":"VLOOKUP($C233,Keighley!$C$3:$N$42,9,FALSE)","v":{"$error":"#N/A"}},{"$f":"VLOOKUP($C233,'Bunny '!$C$3:$N$20,9,FALSE)","v":0.58643815201192262},{"$f":"VLOOKUP($C233,Liverpool!$C$3:$N$59,9,FALSE)","v":{"$error":"#N/A"}},{"$f":"VLOOKUP(C233,'VoY 10m'!$C$3:$N$40,9,FALSE)","v":{"$error":"#N/A"}},{"$f":"VLOOKUP(C233,Guisley!$C$3:$N$49,9,FALSE)","v":0.53724975385625207},{"$f":"VLOOKUP(C233,Odda!$C$3:$N$42,9,FALSE)","v":{"$error":"#N/A"}},{"$f":"VLOOKUP(C233,'Leeds half'!$C$4:$N$31,9,FALSE)","v":{"$error":"#N/A"}},{"$f":"VLOOKUP(C233,Ilkley!$C$3:$L$46,7,FALSE)","v":0.47628745999418104},{"$f":"VLOOKUP(C233,Otley!$C$3:$L$46,9,FALSE)","v":{"$error":"#N/A"}},{"$f":"VLOOKUP(C233,Solstice!$C$3:$L$48,7,FALSE)","v":{"$error":"#N/A"}},{"$f":"VLOOKUP(C233,Eccup!$C$3:$L$46,9,FALSE)","v":0.57289220917822847},null,{"$f":"VLOOKUP(C233,Shakerr!$C$3:$L$46,7,FALSE)","v":{"$error":"#N/A"}},{"$f":"VLOOKUP(C233,VoY!$C$3:$L$46,9,FALSE)","v":0.60020191822311963},{"$f":"VLOOKUP(C233,Kirkstall!$C$3:$L$46,9,FALSE)","v":{"$error":"#N/A"}},{"$f":"VLOOKUP($C233,City!$C$3:$L$69,9,FALSE)","v":{"$error":"#N/A"}},{"$f":"VLOOKUP(C233,'Guy Fawkes'!$C$3:$N$34,9,FALSE)","v":{"$error":"#N/A"}},{"$f":"VLOOKUP(C233,Abbey!$C$3:$L$48,7,FALSE)","v":0.62696284948295677},{"$f":"VLOOKUP(C233,Chevin!$C$3:$L$50,7,FALSE)","v":0.63050414805360566},null,3,0,0,1,0,0,7,0,0,2,0,0,2,0,0,3,0,0,0,8,3,8]
[null,null,"Matt Small","1989-06-10",27,{"$f":"IFERROR(VLOOKUP(C234,'Division Lookup'!$A$2:$D$251,4,FALSE),\"Second\")","v":"Second"},{"$f":"VLOOKUP(C234,Dewsbury!$C$3:$L$46,7,FALSE)","v":{"$error":"#N/A"}},{"$f":"VLOOKUP($C234,Bradford!$C$3:$L$66,7,FALSE)","v":{"$error":"#N/A"}},{"$f":"VLOOKUP($C234,Keighley!$C$3:$N$42,9,FALSE)","v":{"$error":"#N/A"}},{"$f":"VLOOKUP($C234,'Bunny '!$C$3:$N$20,9,FALSE)","v":{"$error":"#N/A"}},{"$f":"VLOOKUP($C234,Liverpool!$C$3:$N$59,9,FALSE)","v":{"$error":"#N/A"}},{"$f":"VLOOKUP(C234,'VoY 10m'!$C$3:$N$40,9,FALSE)","v":{"$error":"#N/A"}},{"$f":"VLOOKUP(C234,Guisley!$C$3:$N$49,9,FALSE)","v":{"$error":"#N/A"}},{"$f":"VLOOKUP(C234,Odda!$C$3:$N$42,9,FALSE)","v":{"$error":"#N/A"}},{"$f":"VLOOKUP(C234,'Leeds half'!$C$4:$N$31,9,FALSE)","v":{"$error":"#N/A"}},{"$f":"VLOOKUP(C234,Ilkley!$C$3:$L$46,7,FALSE)","v":{"$error":"#N/A"}},{"$f":"VLOOKUP(C234,Otley!$C$3:$L$46,9,FALSE)","v":{"$error":"#N/A"}},{"$f":"VLOOKUP(C234,Solstice!$C$3:$L$48,7,FALSE)","v":{"$error":"#N/A"}},{"$f":"VLOOKUP(C234,Eccup!$C$3:$L$46,9,FALSE)","v":{"$error":"#N/A"}},null,{"$f":"VLOOKUP(C234,Shakerr!$C$3:$L$46,7,FALSE)","v":{"$error":"#N/A"}},{"$f":"VLOOKUP(C234,VoY!$C$3:$L$46,9,FALSE)","v":{"$error":"#N/A"}},{"$f":"VLOOKUP(C234,Kirkstall!$C$3:$L$46,9,FALSE)","v":{"$error":"#N/A"}},{"$f":"VLOOKUP($C234,City!$C$3:$L$69,9,FALSE)","v":{"$error":"#N/A"}},{"$f":"VLOOKUP(C234,'Guy Fawkes'!$C$3:$N$34,9,FALSE)","v":{"$error":"#N/A"}},{"$f":"VLOOKUP(C234,Abbey!$C$3:$L$48,7,FALSE)","v":{"$error":"#N/A"}},{"$f":"VLOOKUP(C234,Chevin!$C$3:$L$50,7,FALSE)","v":{"$error":"#N/A"}},null,0,0,0,0,0,0,0,0,0,0,0,0,0,0,0,0,0,0,0,0,0,0]
[null,null,"cathryn Smith","1959-06-30",57,{"$f":"IFERROR(VLOOKUP(C235,'Division Lookup'!$A$2:$D$251,4,FALSE),\"Second\")","v":"Second"},{"$f":"VLOOKUP(C235,Dewsbury!$C$3:$L$46,7,FALSE)","v":{"$error":"#N/A"}},{"$f":"VLOOKUP($C235,Bradford!$C$3:$L$66,7,FALSE)","v":{"$error":"#N/A"}},{"$f":"VLOOKUP($C235,Keighley!$C$3:$N$42,9,FALSE)","v":{"$error":"#N/A"}},{"$f":"VLOOKUP($C235,'Bunny '!$C$3:$N$20,9,FALSE)","v":{"$error":"#N/A"}},{"$f":"VLOOKUP($C235,Liverpool!$C$3:$N$59,9,FALSE)","v":{"$error":"#N/A"}},{"$f":"VLOOKUP(C235,'VoY 10m'!$C$3:$N$40,9,FALSE)","v":{"$error":"#N/A"}},{"$f":"VLOOKUP(C235,Guisley!$C$3:$N$49,9,FALSE)","v":{"$error":"#N/A"}},{"$f":"VLOOKUP(C235,Odda!$C$3:$N$42,9,FALSE)","v":{"$error":"#N/A"}},{"$f":"VLOOKUP(C235,'Leeds half'!$C$4:$N$31,9,FALSE)","v":{"$error":"#N/A"}},{"$f":"VLOOKUP(C235,Ilkley!$C$3:$L$46,7,FALSE)","v":{"$error":"#N/A"}},{"$f":"VLOOKUP(C235,Otley!$C$3:$L$46,9,FALSE)","v":{"$error":"#N/A"}},{"$f":"VLOOKUP(C235,Solstice!$C$3:$L$48,7,FALSE)","v":{"$error":"#N/A"}},{"$f":"VLOOKUP(C235,Eccup!$C$3:$L$46,9,FALSE)","v":{"$error":"#N/A"}},null,{"$f":"VLOOKUP(C235,Shakerr!$C$3:$L$46,7,FALSE)","v":{"$error":"#N/A"}},{"$f":"VLOOKUP(C235,VoY!$C$3:$L$46,9,FALSE)","v":{"$error":"#N/A"}},{"$f":"VLOOKUP(C235,Kirkstall!$C$3:$L$46,9,FALSE)","v":{"$error":"#N/A"}},{"$f":"VLOOKUP($C235,City!$C$3:$L$69,9,FALSE)","v":{"$error":"#N/A"}},{"$f":"VLOOKUP(C235,'Guy Fawkes'!$C$3:$N$34,9,FALSE)","v":{"$error":"#N/A"}},{"$f":"VLOOKUP(C235,Abbey!$C$3:$L$48,7,FALSE)","v":{"$error":"#N/A"}},{"$f":"VLOOKUP(C235,Chevin!$C$3:$L$50,7,FALSE)","v":{"$error":"#N/A"}},null,0,0,0,0,0,0,0,0,0,0,0,0,0,0,0,0,0,0,0,0,0,0]
[null,null,"Jadine Smith","1988-07-24",28,{"$f":"IFERROR(VLOOKUP(C236,'Division Lookup'!$A$2:$D$251,4,FALSE),\"Second\")","v":"Second"},{"$f":"VLOOKUP(C236,Dewsbury!$C$3:$L$46,7,FALSE)","v":{"$error":"#N/A"}},{"$f":"VLOOKUP($C236,Bradford!$C$3:$L$66,7,FALSE)","v":0.58690744920993232},{"$f":"VLOOKUP($C236,Keighley!$C$3:$N$42,9,FALSE)","v":{"$error":"#N/A"}},{"$f":"VLOOKUP($C236,'Bunny '!$C$3:$N$20,9,FALSE)","v":{"$error":"#N/A"}},{"$f":"VLOOKUP($C236,Liverpool!$C$3:$N$59,9,FALSE)","v":0.56941040795733022},{"$f":"VLOOKUP(C236,'VoY 10m'!$C$3:$N$40,9,FALSE)","v":{"$error":"#N/A"}},{"$f":"VLOOKUP(C236,Guisley!$C$3:$N$49,9,FALSE)","v":{"$error":"#N/A"}},{"$f":"VLOOKUP(C236,Odda!$C$3:$N$42,9,FALSE)","v":{"$error":"#N/A"}},{"$f":"VLOOKUP(C236,'Leeds half'!$C$4:$N$31,9,FALSE)","v":0.49842271293375395},{"$f":"VLOOKUP(C236,Ilkley!$C$3:$L$46,7,FALSE)","v":{"$error":"#N/A"}},{"$f":"VLOOKUP(C236,Otley!$C$3:$L$46,9,FALSE)","v":{"$error":"#N/A"}},{"$f":"VLOOKUP(C236,Solstice!$C$3:$L$48,7,FALSE)","v":{"$error":"#N/A"}},{"$f":"VLOOKUP(C236,Eccup!$C$3:$L$46,9,FALSE)","v":{"$error":"#N/A"}},null,{"$f":"VLOOKUP(C236,Shakerr!$C$3:$L$46,7,FALSE)","v":{"$error":"#N/A"}},{"$f":"VLOOKUP(C236,VoY!$C$3:$L$46,9,FALSE)","v":{"$error":"#N/A"}},{"$f":"VLOOKUP(C236,Kirkstall!$C$3:$L$46,9,FALSE)","v":{"$error":"#N/A"}},{"$f":"VLOOKUP($C236,City!$C$3:$L$69,9,FALSE)","v":0.56294463346736789},{"$f":"VLOOKUP(C236,'Guy Fawkes'!$C$3:$N$34,9,FALSE)","v":0.48683729433272405},{"$f":"VLOOKUP(C236,Abbey!$C$3:$L$48,7,FALSE)","v":{"$error":"#N/A"}},{"$f":"VLOOKUP(C236,Chevin!$C$3:$L$50,7,FALSE)","v":{"$error":"#N/A"}},null,0,8,0,0,9,0,0,0,9,0,0,0,0,0,0,0,0,9,3,0,0,5]
[null,null,"Jonathan Smith","1989-01-09",27,{"$f":"IFERROR(VLOOKUP(C237,'Division Lookup'!$A$2:$D$251,4,FALSE),\"Second\")","v":"Second"},{"$f":"VLOOKUP(C237,Dewsbury!$C$3:$L$46,7,FALSE)","v":{"$error":"#N/A"}},{"$f":"VLOOKUP($C237,Bradford!$C$3:$L$66,7,FALSE)","v":{"$error":"#N/A"}},{"$f":"VLOOKUP($C237,Keighley!$C$3:$N$42,9,FALSE)","v":{"$error":"#N/A"}},{"$f":"VLOOKUP($C237,'Bunny '!$C$3:$N$20,9,FALSE)","v":{"$error":"#N/A"}},{"$f":"VLOOKUP($C237,Liverpool!$C$3:$N$59,9,FALSE)","v":{"$error":"#N/A"}},{"$f":"VLOOKUP(C237,'VoY 10m'!$C$3:$N$40,9,FALSE)","v":{"$error":"#N/A"}},{"$f":"VLOOKUP(C237,Guisley!$C$3:$N$49,9,FALSE)","v":{"$error":"#N/A"}},{"$f":"VLOOKUP(C237,Odda!$C$3:$N$42,9,FALSE)","v":{"$error":"#N/A"}},{"$f":"VLOOKUP(C237,'Leeds half'!$C$4:$N$31,9,FALSE)","v":{"$error":"#N/A"}},{"$f":"VLOOKUP(C237,Ilkley!$C$3:$L$46,7,FALSE)","v":{"$error":"#N/A"}},{"$f":"VLOOKUP(C237,Otley!$C$3:$L$46,9,FALSE)","v":{"$error":"#N/A"}},{"$f":"VLOOKUP(C237,Solstice!$C$3:$L$48,7,FALSE)","v":{"$error":"#N/A"}},{"$f":"VLOOKUP(C237,Eccup!$C$3:$L$46,9,FALSE)","v":{"$error":"#N/A"}},null,{"$f":"VLOOKUP(C237,Shakerr!$C$3:$L$46,7,FALSE)","v":{"$error":"#N/A"}},{"$f":"VLOOKUP(C237,VoY!$C$3:$L$46,9,FALSE)","v":{"$error":"#N/A"}},{"$f":"VLOOKUP(C237,Kirkstall!$C$3:$L$46,9,FALSE)","v":{"$error":"#N/A"}},{"$f":"VLOOKUP($C237,City!$C$3:$L$69,9,FALSE)","v":{"$error":"#N/A"}},{"$f":"VLOOKUP(C237,'Guy Fawkes'!$C$3:$N$34,9,FALSE)","v":{"$error":"#N/A"}},{"$f":"VLOOKUP(C237,Abbey!$C$3:$L$48,7,FALSE)","v":{"$error":"#N/A"}},{"$f":"VLOOKUP(C237,Chevin!$C$3:$L$50,7,FALSE)","v":{"$error":"#N/A"}},null,0,0,0,0,0,0,0,0,0,0,0,0,0,0,0,0,0,0,0,0,0,0]
[null,null,"Kelly Smith","1975-05-22",41,{"$f":"IFERROR(VLOOKUP(C238,'Division Lookup'!$A$2:$D$251,4,FALSE),\"Second\")","v":"First"},{"$f":"VLOOKUP(C238,Dewsbury!$C$3:$L$46,7,FALSE)","v":{"$error":"#N/A"}},{"$f":"VLOOKUP($C238,Bradford!$C$3:$L$66,7,FALSE)","v":{"$error":"#N/A"}},{"$f":"VLOOKUP($C238,Keighley!$C$3:$N$42,9,FALSE)","v":0.54540213317959063},{"$f":"VLOOKUP($C238,'Bunny '!$C$3:$N$20,9,FALSE)","v":{"$error":"#N/A"}},{"$f":"VLOOKUP($C238,Liverpool!$C$3:$N$59,9,FALSE)","v":{"$error":"#N/A"}},{"$f":"VLOOKUP(C238,'VoY 10m'!$C$3:$N$40,9,FALSE)","v":{"$error":"#N/A"}},{"$f":"VLOOKUP(C238,Guisley!$C$3:$N$49,9,FALSE)","v":{"$error":"#N/A"}},{"$f":"VLOOKUP(C238,Odda!$C$3:$N$42,9,FALSE)","v":{"$error":"#N/A"}},{"$f":"VLOOKUP(C238,'Leeds half'!$C$4:$N$31,9,FALSE)","v":{"$error":"#N/A"}},{"$f":"VLOOKUP(C238,Ilkley!$C$3:$L$46,7,FALSE)","v":{"$error":"#N/A"}},{"$f":"VLOOKUP(C238,Otley!$C$3:$L$46,9,FALSE)","v":{"$error":"#N/A"}},{"$f":"VLOOKUP(C238,Solstice!$C$3:$L$48,7,FALSE)","v":{"$error":"#N/A"}},{"$f":"VLOOKUP(C238,Eccup!$C$3:$L$46,9,FALSE)","v":{"$error":"#N/A"}},null,{"$f":"VLOOKUP(C238,Shakerr!$C$3:$L$46,7,FALSE)","v":{"$error":"#N/A"}},{"$f":"VLOOKUP(C238,VoY!$C$3:$L$46,9,FALSE)","v":{"$error":"#N/A"}},{"$f":"VLOOKUP(C238,Kirkstall!$C$3:$L$46,9,FALSE)","v":{"$error":"#N/A"}},{"$f":"VLOOKUP($C238,City!$C$3:$L$69,9,FALSE)","v":{"$error":"#N/A"}},{"$f":"VLOOKUP(C238,'Guy Fawkes'!$C$3:$N$34,9,FALSE)","v":{"$error":"#N/A"}},{"$f":"VLOOKUP(C238,Abbey!$C$3:$L$48,7,FALSE)","v":{"$error":"#N/A"}},{"$f":"VLOOKUP(C238,Chevin!$C$3:$L$50,7,FALSE)","v":{"$error":"#N/A"}},null,0,0,5,0,0,0,0,0,0,0,0,0,0,0,0,0,0,0,0,0,0,1]
[null,null,"Richard Smith","1958-01-22",58,{"$f":"IFERROR(VLOOKUP(C239,'Division Lookup'!$A$2:$D$251,4,FALSE),\"Second\")","v":"First"},{"$f":"VLOOKUP(C239,Dewsbury!$C$3:$L$46,7,FALSE)","v":0.5858886573384936},{"$f":"VLOOKUP($C239,Bradford!$C$3:$L$66,7,FALSE)","v":0.56357388316151191},{"$f":"VLOOKUP($C239,Keighley!$C$3:$N$42,9,FALSE)","v":0.52634394223054282},{"$f":"VLOOKUP($C239,'Bunny '!$C$3:$N$20,9,FALSE)","v":0.52006597031335899},{"$f":"VLOOKUP($C239,Liverpool!$C$3:$N$59,9,FALSE)","v":0.5712960508878876},{"$f":"VLOOKUP(C239,'VoY 10m'!$C$3:$N$40,9,FALSE)","v":0.55156569094622188},{"$f":"VLOOKUP(C239,Guisley!$C$3:$N$49,9,FALSE)","v":0.47801797425309689},{"$f":"VLOOKUP(C239,Odda!$C$3:$N$42,9,FALSE)","v":{"$error":"#N/A"}},{"$f":"VLOOKUP(C239,'Leeds half'!$C$4:$N$31,9,FALSE)","v":0.55907145636104272},{"$f":"VLOOKUP(C239,Ilkley!$C$3:$L$46,7,FALSE)","v":{"$error":"#N/A"}},{"$f":"VLOOKUP(C239,Otley!$C$3:$L$46,9,FALSE)","v":0.5022470168913683},{"$f":"VLOOKUP(C239,Solstice!$C$3:$L$48,7,FALSE)","v":0.479607482367372},{"$f":"VLOOKUP(C239,Eccup!$C$3:$L$46,9,FALSE)","v":{"$error":"#N/A"}},null,{"$f":"VLOOKUP(C239,Shakerr!$C$3:$L$46,7,FALSE)","v":{"$error":"#N/A"}},{"$f":"VLOOKUP(C239,VoY!$C$3:$L$46,9,FALSE)","v":{"$error":"#N/A"}},{"$f":"VLOOKUP(C239,Kirkstall!$C$3:$L$46,9,FALSE)","v":{"$error":"#N/A"}},{"$f":"VLOOKUP($C239,City!$C$3:$L$69,9,FALSE)","v":0.5493612078977933},{"$f":"VLOOKUP(C239,'Guy Fawkes'!$C$3:$N$34,9,FALSE)","v":{"$error":"#N/A"}},{"$f":"VLOOKUP(C239,Abbey!$C$3:$L$48,7,FALSE)","v":{"$error":"#N/A"}},{"$f":"VLOOKUP(C239,Chevin!$C$3:$L$50,7,FALSE)","v":{"$error":"#N/A"}},null,4,9,6,1,5,2,2,0,4,0,3,6,0,0,0,0,0,4,0,0,0,11]
[null,null,"Marcin Soszka","1983-05-21",33,{"$f":"IFERROR(VLOOKUP(C240,'Division Lookup'!$A$2:$D$251,4,FALSE),\"Second\")","v":"First"},{"$f":"VLOOKUP(C240,Dewsbury!$C$3:$L$46,7,FALSE)","v":{"$error":"#N/A"}},{"$f":"VLOOKUP($C240,Bradford!$C$3:$L$66,7,FALSE)","v":{"$error":"#N/A"}},{"$f":"VLOOKUP($C240,Keighley!$C$3:$N$42,9,FALSE)","v":{"$error":"#N/A"}},{"$f":"VLOOKUP($C240,'Bunny '!$C$3:$N$20,9,FALSE)","v":{"$error":"#N/A"}},{"$f":"VLOOKUP($C240,Liverpool!$C$3:$N$59,9,FALSE)","v":{"$error":"#N/A"}},{"$f":"VLOOKUP(C240,'VoY 10m'!$C$3:$N$40,9,FALSE)","v":{"$error":"#N/A"}},{"$f":"VLOOKUP(C240,Guisley!$C$3:$N$49,9,FALSE)","v":{"$error":"#N/A"}},{"$f":"VLOOKUP(C240,Odda!$C$3:$N$42,9,FALSE)","v":{"$error":"#N/A"}},{"$f":"VLOOKUP(C240,'Leeds half'!$C$4:$N$31,9,FALSE)","v":{"$error":"#N/A"}},{"$f":"VLOOKUP(C240,Ilkley!$C$3:$L$46,7,FALSE)","v":{"$error":"#N/A"}},{"$f":"VLOOKUP(C240,Otley!$C$3:$L$46,9,FALSE)","v":{"$error":"#N/A"}},{"$f":"VLOOKUP(C240,Solstice!$C$3:$L$48,7,FALSE)","v":{"$error":"#N/A"}},{"$f":"VLOOKUP(C240,Eccup!$C$3:$L$46,9,FALSE)","v":{"$error":"#N/A"}},null,{"$f":"VLOOKUP(C240,Shakerr!$C$3:$L$46,7,FALSE)","v":{"$error":"#N/A"}},{"$f":"VLOOKUP(C240,VoY!$C$3:$L$46,9,FALSE)","v":{"$error":"#N/A"}},{"$f":"VLOOKUP(C240,Kirkstall!$C$3:$L$46,9,FALSE)","v":{"$error":"#N/A"}},{"$f":"VLOOKUP($C240,City!$C$3:$L$69,9,FALSE)","v":{"$error":"#N/A"}},{"$f":"VLOOKUP(C240,'Guy Fawkes'!$C$3:$N$34,9,FALSE)","v":{"$error":"#N/A"}},{"$f":"VLOOKUP(C240,Abbey!$C$3:$L$48,7,FALSE)","v":{"$error":"#N/A"}},{"$f":"VLOOKUP(C240,Chevin!$C$3:$L$50,7,FALSE)","v":{"$error":"#N/A"}},null,0,0,0,0,0,0,0,0,0,0,0,0,0,0,0,0,0,0,0,0,0,0]
[null,null,"Tim Spencer","1956-11-24",60,{"$f":"IFERROR(VLOOKUP(C241,'Division Lookup'!$A$2:$D$251,4,FALSE),\"Second\")","v":"Second"},{"$f":"VLOOKUP(C241,Dewsbury!$C$3:$L$46,7,FALSE)","v":{"$error":"#N/A"}},{"$f":"VLOOKUP($C241,Bradford!$C$3:$L$66,7,FALSE)","v":{"$error":"#N/A"}},{"$f":"VLOOKUP($C241,Keighley!$C$3:$N$42,9,FALSE)","v":{"$error":"#N/A"}},{"$f":"VLOOKUP($C241,'Bunny '!$C$3:$N$20,9,FALSE)","v":{"$error":"#N/A"}},{"$f":"VLOOKUP($C241,Liverpool!$C$3:$N$59,9,FALSE)","v":{"$error":"#N/A"}},{"$f":"VLOOKUP(C241,'VoY 10m'!$C$3:$N$40,9,FALSE)","v":{"$error":"#N/A"}},{"$f":"VLOOKUP(C241,Guisley!$C$3:$N$49,9,FALSE)","v":{"$error":"#N/A"}},{"$f":"VLOOKUP(C241,Odda!$C$3:$N$42,9,FALSE)","v":{"$error":"#N/A"}},{"$f":"VLOOKUP(C241,'Leeds half'!$C$4:$N$31,9,FALSE)","v":{"$error":"#N/A"}},{"$f":"VLOOKUP(C241,Ilkley!$C$3:$L$46,7,FALSE)","v":{"$error":"#N/A"}},{"$f":"VLOOKUP(C241,Otley!$C$3:$L$46,9,FALSE)","v":{"$error":"#N/A"}},{"$f":"VLOOKUP(C241,Solstice!$C$3:$L$48,7,FALSE)","v":{"$error":"#N/A"}},{"$f":"VLOOKUP(C241,Eccup!$C$3:$L$46,9,FALSE)","v":{"$error":"#N/A"}},null,{"$f":"VLOOKUP(C241,Shakerr!$C$3:$L$46,7,FALSE)","v":{"$error":"#N/A"}},{"$f":"VLOOKUP(C241,VoY!$C$3:$L$46,9,FALSE)","v":{"$error":"#N/A"}},{"$f":"VLOOKUP(C241,Kirkstall!$C$3:$L$46,9,FALSE)","v":{"$error":"#N/A"}},{"$f":"VLOOKUP($C241,City!$C$3:$L$69,9,FALSE)","v":{"$error":"#N/A"}},{"$f":"VLOOKUP(C241,'Guy Fawkes'!$C$3:$N$34,9,FALSE)","v":{"$error":"#N/A"}},{"$f":"VLOOKUP(C241,Abbey!$C$3:$L$48,7,FALSE)","v":{"$error":"#N/A"}},{"$f":"VLOOKUP(C241,Chevin!$C$3:$L$50,7,FALSE)","v":{"$error":"#N/A"}},null,0,0,0,0,0,0,0,0,0,0,0,0,0,0,0,0,0,0,0,0,0,0]
[null,null,"Stewart Spink","1968-02-24",48,{"$f":"IFERROR(VLOOKUP(C242,'Division Lookup'!$A$2:$D$251,4,FALSE),\"Second\")","v":"Premier"},{"$f":"VLOOKUP(C242,Dewsbury!$C$3:$L$46,7,FALSE)","v":0.72811244979919676},{"$f":"VLOOKUP($C242,Bradford!$C$3:$L$66,7,FALSE)","v":{"$error":"#N/A"}},{"$f":"VLOOKUP($C242,Keighley!$C$3:$N$42,9,FALSE)","v":{"$error":"#N/A"}},{"$f":"VLOOKUP($C242,'Bunny '!$C$3:$N$20,9,FALSE)","v":{"$error":"#N/A"}},{"$f":"VLOOKUP($C242,Liverpool!$C$3:$N$59,9,FALSE)","v":0.72304594545121725},{"$f":"VLOOKUP(C242,'VoY 10m'!$C$3:$N$40,9,FALSE)","v":{"$error":"#N/A"}},{"$f":"VLOOKUP(C242,Guisley!$C$3:$N$49,9,FALSE)","v":{"$error":"#N/A"}},{"$f":"VLOOKUP(C242,Odda!$C$3:$N$42,9,FALSE)","v":{"$error":"#N/A"}},{"$f":"VLOOKUP(C242,'Leeds half'!$C$4:$N$31,9,FALSE)","v":{"$error":"#N/A"}},{"$f":"VLOOKUP(C242,Ilkley!$C$3:$L$46,7,FALSE)","v":{"$error":"#N/A"}},{"$f":"VLOOKUP(C242,Otley!$C$3:$L$46,9,FALSE)","v":0.69340172534390299},{"$f":"VLOOKUP(C242,Solstice!$C$3:$L$48,7,FALSE)","v":{"$error":"#N/A"}},{"$f":"VLOOKUP(C242,Eccup!$C$3:$L$46,9,FALSE)","v":{"$error":"#N/A"}},null,{"$f":"VLOOKUP(C242,Shakerr!$C$3:$L$46,7,FALSE)","v":{"$error":"#N/A"}},{"$f":"VLOOKUP(C242,VoY!$C$3:$L$46,9,FALSE)","v":{"$error":"#N/A"}},{"$f":"VLOOKUP(C242,Kirkstall!$C$3:$L$46,9,FALSE)","v":{"$error":"#N/A"}},{"$f":"VLOOKUP($C242,City!$C$3:$L$69,9,FALSE)","v":{"$error":"#N/A"}},{"$f":"VLOOKUP(C242,'Guy Fawkes'!$C$3:$N$34,9,FALSE)","v":{"$error":"#N/A"}},{"$f":"VLOOKUP(C242,Abbey!$C$3:$L$48,7,FALSE)","v":{"$error":"#N/A"}},{"$f":"VLOOKUP(C242,Chevin!$C$3:$L$50,7,FALSE)","v":{"$error":"#N/A"}},null,3,0,0,0,4,0,0,0,0,0,3,0,0,0,0,0,0,0,0,0,0,3]
[null,null,"Kath Stone","1968-03-15",48,{"$f":"IFERROR(VLOOKUP(C243,'Division Lookup'!$A$2:$D$251,4,FALSE),\"Second\")","v":"Second"},{"$f":"VLOOKUP(C243,Dewsbury!$C$3:$L$46,7,FALSE)","v":{"$error":"#N/A"}},{"$f":"VLOOKUP($C243,Bradford!$C$3:$L$66,7,FALSE)","v":{"$error":"#N/A"}},{"$f":"VLOOKUP($C243,Keighley!$C$3:$N$42,9,FALSE)","v":{"$error":"#N/A"}},{"$f":"VLOOKUP($C243,'Bunny '!$C$3:$N$20,9,FALSE)","v":{"$error":"#N/A"}},{"$f":"VLOOKUP($C243,Liverpool!$C$3:$N$59,9,FALSE)","v":{"$error":"#N/A"}},{"$f":"VLOOKUP(C243,'VoY 10m'!$C$3:$N$40,9,FALSE)","v":{"$error":"#N/A"}},{"$f":"VLOOKUP(C243,Guisley!$C$3:$N$49,9,FALSE)","v":{"$error":"#N/A"}},{"$f":"VLOOKUP(C243,Odda!$C$3:$N$42,9,FALSE)","v":0.4834293948126801},{"$f":"VLOOKUP(C243,'Leeds half'!$C$4:$N$31,9,FALSE)","v":{"$error":"#N/A"}},{"$f":"VLOOKUP(C243,Ilkley!$C$3:$L$46,7,FALSE)","v":{"$error":"#N/A"}},{"$f":"VLOOKUP(C243,Otley!$C$3:$L$46,9,FALSE)","v":{"$error":"#N/A"}},{"$f":"VLOOKUP(C243,Solstice!$C$3:$L$48,7,FALSE)","v":0.52968337730870707},{"$f":"VLOOKUP(C243,Eccup!$C$3:$L$46,9,FALSE)","v":{"$error":"#N/A"}},null,{"$f":"VLOOKUP(C243,Shakerr!$C$3:$L$46,7,FALSE)","v":{"$error":"#N/A"}},{"$f":"VLOOKUP(C243,VoY!$C$3:$L$46,9,FALSE)","v":{"$error":"#N/A"}},{"$f":"VLOOKUP(C243,Kirkstall!$C$3:$L$46,9,FALSE)","v":{"$error":"#N/A"}},{"$f":"VLOOKUP($C243,City!$C$3:$L$69,9,FALSE)","v":{"$error":"#N/A"}},{"$f":"VLOOKUP(C243,'Guy Fawkes'!$C$3:$N$34,9,FALSE)","v":0.48271384515500732},{"$f":"VLOOKUP(C243,Abbey!$C$3:$L$48,7,FALSE)","v":{"$error":"#N/A"}},{"$f":"VLOOKUP(C243,Chevin!$C$3:$L$50,7,FALSE)","v":{"$error":"#N/A"}},null,0,0,0,0,0,0,0,3,0,0,0,3,0,0,0,0,0,0,4,0,0,3]
[null,null,"Richard Stone","1965-12-19",51,{"$f":"IFERROR(VLOOKUP(C244,'Division Lookup'!$A$2:$D$251,4,FALSE),\"Second\")","v":"First"},{"$f":"VLOOKUP(C244,Dewsbury!$C$3:$L$46,7,FALSE)","v":{"$error":"#N/A"}},{"$f":"VLOOKUP($C244,Bradford!$C$3:$L$66,7,FALSE)","v":{"$error":"#N/A"}},{"$f":"VLOOKUP($C244,Keighley!$C$3:$N$42,9,FALSE)","v":{"$error":"#N/A"}},{"$f":"VLOOKUP($C244,'Bunny '!$C$3:$N$20,9,FALSE)","v":{"$error":"#N/A"}},{"$f":"VLOOKUP($C244,Liverpool!$C$3:$N$59,9,FALSE)","v":{"$error":"#N/A"}},{"$f":"VLOOKUP(C244,'VoY 10m'!$C$3:$N$40,9,FALSE)","v":{"$error":"#N/A"}},{"$f":"VLOOKUP(C244,Guisley!$C$3:$N$49,9,FALSE)","v":{"$error":"#N/A"}},{"$f":"VLOOKUP(C244,Odda!$C$3:$N$42,9,FALSE)","v":0.62630691399662741},{"$f":"VLOOKUP(C244,'Leeds half'!$C$4:$N$31,9,FALSE)","v":{"$error":"#N/A"}},{"$f":"VLOOKUP(C244,Ilkley!$C$3:$L$46,7,FALSE)","v":{"$error":"#N/A"}},{"$f":"VLOOKUP(C244,Otley!$C$3:$L$46,9,FALSE)","v":{"$error":"#N/A"}},{"$f":"VLOOKUP(C244,Solstice!$C$3:$L$48,7,FALSE)","v":{"$error":"#N/A"}},{"$f":"VLOOKUP(C244,Eccup!$C$3:$L$46,9,FALSE)","v":{"$error":"#N/A"}},null,{"$f":"VLOOKUP(C244,Shakerr!$C$3:$L$46,7,FALSE)","v":{"$error":"#N/A"}},{"$f":"VLOOKUP(C244,VoY!$C$3:$L$46,9,FALSE)","v":{"$error":"#N/A"}},{"$f":"VLOOKUP(C244,Kirkstall!$C$3:$L$46,9,FALSE)","v":{"$error":"#N/A"}},{"$f":"VLOOKUP($C244,City!$C$3:$L$69,9,FALSE)","v":{"$error":"#N/A"}},{"$f":"VLOOKUP(C244,'Guy Fawkes'!$C$3:$N$34,9,FALSE)","v":{"$error":"#N/A"}},{"$f":"VLOOKUP(C244,Abbey!$C$3:$L$48,7,FALSE)","v":{"$error":"#N/A"}},{"$f":"VLOOKUP(C244,Chevin!$C$3:$L$50,7,FALSE)","v":0.66577619471653315},null,0,0,0,0,0,0,0,1,0,0,0,0,0,0,0,0,0,0,0,0,1,2]
[null,null,"Chris Stott","1978-06-25",38,{"$f":"IFERROR(VLOOKUP(C245,'Division Lookup'!$A$2:$D$251,4,FALSE),\"Second\")","v":"Premier"},{"$f":"VLOOKUP(C245,Dewsbury!$C$3:$L$46,7,FALSE)","v":0.64516129032258074},{"$f":"VLOOKUP($C245,Bradford!$C$3:$L$66,7,FALSE)","v":{"$error":"#N/A"}},{"$f":"VLOOKUP($C245,Keighley!$C$3:$N$42,9,FALSE)","v":{"$error":"#N/A"}},{"$f":"VLOOKUP($C245,'Bunny '!$C$3:$N$20,9,FALSE)","v":{"$error":"#N/A"}},{"$f":"VLOOKUP($C245,Liverpool!$C$3:$N$59,9,FALSE)","v":{"$error":"#N/A"}},{"$f":"VLOOKUP(C245,'VoY 10m'!$C$3:$N$40,9,FALSE)","v":{"$error":"#N/A"}},{"$f":"VLOOKUP(C245,Guisley!$C$3:$N$49,9,FALSE)","v":{"$error":"#N/A"}},{"$f":"VLOOKUP(C245,Odda!$C$3:$N$42,9,FALSE)","v":{"$error":"#N/A"}},{"$f":"VLOOKUP(C245,'Leeds half'!$C$4:$N$31,9,FALSE)","v":{"$error":"#N/A"}},{"$f":"VLOOKUP(C245,Ilkley!$C$3:$L$46,7,FALSE)","v":{"$error":"#N/A"}},{"$f":"VLOOKUP(C245,Otley!$C$3:$L$46,9,FALSE)","v":{"$error":"#N/A"}},{"$f":"VLOOKUP(C245,Solstice!$C$3:$L$48,7,FALSE)","v":{"$error":"#N/A"}},{"$f":"VLOOKUP(C245,Eccup!$C$3:$L$46,9,FALSE)","v":{"$error":"#N/A"}},null,{"$f":"VLOOKUP(C245,Shakerr!$C$3:$L$46,7,FALSE)","v":{"$error":"#N/A"}},{"$f":"VLOOKUP(C245,VoY!$C$3:$L$46,9,FALSE)","v":{"$error":"#N/A"}},{"$f":"VLOOKUP(C245,Kirkstall!$C$3:$L$46,9,FALSE)","v":{"$error":"#N/A"}},{"$f":"VLOOKUP($C245,City!$C$3:$L$69,9,FALSE)","v":{"$error":"#N/A"}},{"$f":"VLOOKUP(C245,'Guy Fawkes'!$C$3:$N$34,9,FALSE)","v":{"$error":"#N/A"}},{"$f":"VLOOKUP(C245,Abbey!$C$3:$L$48,7,FALSE)","v":{"$error":"#N/A"}},{"$f":"VLOOKUP(C245,Chevin!$C$3:$L$50,7,FALSE)","v":{"$error":"#N/A"}},null,9,0,0,0,0,0,0,0,0,0,0,0,0,0,0,0,0,0,0,0,0,1]
[null,null,"peter stringer","1967-01-27",49,{"$f":"IFERROR(VLOOKUP(C246,'Division Lookup'!$A$2:$D$251,4,FALSE),\"Second\")","v":"Second"},{"$f":"VLOOKUP(C246,Dewsbury!$C$3:$L$46,7,FALSE)","v":{"$error":"#N/A"}},{"$f":"VLOOKUP($C246,Bradford!$C$3:$L$66,7,FALSE)","v":{"$error":"#N/A"}},{"$f":"VLOOKUP($C246,Keighley!$C$3:$N$42,9,FALSE)","v":{"$error":"#N/A"}},{"$f":"VLOOKUP($C246,'Bunny '!$C$3:$N$20,9,FALSE)","v":{"$error":"#N/A"}},{"$f":"VLOOKUP($C246,Liverpool!$C$3:$N$59,9,FALSE)","v":{"$error":"#N/A"}},{"$f":"VLOOKUP(C246,'VoY 10m'!$C$3:$N$40,9,FALSE)","v":{"$error":"#N/A"}},{"$f":"VLOOKUP(C246,Guisley!$C$3:$N$49,9,FALSE)","v":{"$error":"#N/A"}},{"$f":"VLOOKUP(C246,Odda!$C$3:$N$42,9,FALSE)","v":{"$error":"#N/A"}},{"$f":"VLOOKUP(C246,'Leeds half'!$C$4:$N$31,9,FALSE)","v":{"$error":"#N/A"}},{"$f":"VLOOKUP(C246,Ilkley!$C$3:$L$46,7,FALSE)","v":{"$error":"#N/A"}},{"$f":"VLOOKUP(C246,Otley!$C$3:$L$46,9,FALSE)","v":{"$error":"#N/A"}},{"$f":"VLOOKUP(C246,Solstice!$C$3:$L$48,7,FALSE)","v":{"$error":"#N/A"}},{"$f":"VLOOKUP(C246,Eccup!$C$3:$L$46,9,FALSE)","v":{"$error":"#N/A"}},null,{"$f":"VLOOKUP(C246,Shakerr!$C$3:$L$46,7,FALSE)","v":{"$error":"#N/A"}},{"$f":"VLOOKUP(C246,VoY!$C$3:$L$46,9,FALSE)","v":{"$error":"#N/A"}},{"$f":"VLOOKUP(C246,Kirkstall!$C$3:$L$46,9,FALSE)","v":{"$error":"#N/A"}},{"$f":"VLOOKUP($C246,City!$C$3:$L$69,9,FALSE)","v":{"$error":"#N/A"}},{"$f":"VLOOKUP(C246,'Guy Fawkes'!$C$3:$N$34,9,FALSE)","v":{"$error":"#N/A"}},{"$f":"VLOOKUP(C246,Abbey!$C$3:$L$48,7,FALSE)","v":{"$error":"#N/A"}},{"$f":"VLOOKUP(C246,Chevin!$C$3:$L$50,7,FALSE)","v":{"$error":"#N/A"}},null,0,0,0,0,0,0,0,0,0,0,0,0,0,0,0,0,0,0,0,0,0,0]
[null,null,"Graham Terry","1968-03-21",48,{"$f":"IFERROR(VLOOKUP(C247,'Division Lookup'!$A$2:$D$251,4,FALSE),\"Second\")","v":"Second"},{"$f":"VLOOKUP(C247,Dewsbury!$C$3:$L$46,7,FALSE)","v":{"$error":"#N/A"}},{"$f":"VLOOKUP($C247,Bradford!$C$3:$L$66,7,FALSE)","v":{"$error":"#N/A"}},{"$f":"VLOOKUP($C247,Keighley!$C$3:$N$42,9,FALSE)","v":{"$error":"#N/A"}},{"$f":"VLOOKUP($C247,'Bunny '!$C$3:$N$20,9,FALSE)","v":{"$error":"#N/A"}},{"$f":"VLOOKUP($C247,Liverpool!$C$3:$N$59,9,FALSE)","v":{"$error":"#N/A"}},{"$f":"VLOOKUP(C247,'VoY 10m'!$C$3:$N$40,9,FALSE)","v":{"$error":"#N/A"}},{"$f":"VLOOKUP(C247,Guisley!$C$3:$N$49,9,FALSE)","v":{"$error":"#N/A"}},{"$f":"VLOOKUP(C247,Odda!$C$3:$N$42,9,FALSE)","v":{"$error":"#N/A"}},{"$f":"VLOOKUP(C247,'Leeds half'!$C$4:$N$31,9,FALSE)","v":{"$error":"#N/A"}},{"$f":"VLOOKUP(C247,Ilkley!$C$3:$L$46,7,FALSE)","v":{"$error":"#N/A"}},{"$f":"VLOOKUP(C247,Otley!$C$3:$L$46,9,FALSE)","v":{"$error":"#N/A"}},{"$f":"VLOOKUP(C247,Solstice!$C$3:$L$48,7,FALSE)","v":{"$error":"#N/A"}},{"$f":"VLOOKUP(C247,Eccup!$C$3:$L$46,9,FALSE)","v":{"$error":"#N/A"}},null,{"$f":"VLOOKUP(C247,Shakerr!$C$3:$L$46,7,FALSE)","v":{"$error":"#N/A"}},{"$f":"VLOOKUP(C247,VoY!$C$3:$L$46,9,FALSE)","v":{"$error":"#N/A"}},{"$f":"VLOOKUP(C247,Kirkstall!$C$3:$L$46,9,FALSE)","v":{"$error":"#N/A"}},{"$f":"VLOOKUP($C247,City!$C$3:$L$69,9,FALSE)","v":{"$error":"#N/A"}},{"$f":"VLOOKUP(C247,'Guy Fawkes'!$C$3:$N$34,9,FALSE)","v":{"$error":"#N/A"}},{"$f":"VLOOKUP(C247,Abbey!$C$3:$L$48,7,FALSE)","v":0.71125931737936443},{"$f":"VLOOKUP(C247,Chevin!$C$3:$L$50,7,FALSE)","v":{"$error":"#N/A"}},null,{"$f":"IF(ISNA(G247),0,1+COUNTIFS($F$3:$F$399,$F247,G$3:G$399,\">\"&G247))","v":0},{"$f":"IF(ISNA(H247),0,1+COUNTIFS($F$3:$F$399,$F247,H$3:H$399,\">\"&H247))","v":0},{"$f":"IF(ISNA(I247),0,1+COUNTIFS($F$3:$F$399,$F247,I$3:I$399,\">\"&I247))","v":0},{"$f":"IF(ISNA(J247),0,1+COUNTIFS($F$3:$F$399,$F247,J$3:J$399,\">\"&J247))","v":0},{"$f":"IF(ISNA(K247),0,1+COUNTIFS($F$3:$F$399,$F247,K$3:K$399,\">\"&K247))","v":0},{"$f":"IF(ISNA(L247),0,1+COUNTIFS($F$3:$F$399,$F247,L$3:L$399,\">\"&L247))","v":0},{"$f":"IF(ISNA(M247),0,1+COUNTIFS($F$3:$F$399,$F247,M$3:M$399,\">\"&M247))","v":0},{"$f":"IF(ISNA(N247),0,1+COUNTIFS($F$3:$F$399,$F247,N$3:N$399,\">\"&N247))","v":0},0,0,0,0,0,0,0,0,0,0,0,4,0,{"$f":"COUNTIF(AC247:AW247,\">0\")","v":1}]
[null,null,"Claire Thaper","1980-08-08",36,{"$f":"IFERROR(VLOOKUP(C248,'Division Lookup'!$A$2:$D$251,4,FALSE),\"Second\")","v":"Premier"},{"$f":"VLOOKUP(C248,Dewsbury!$C$3:$L$46,7,FALSE)","v":{"$error":"#N/A"}},{"$f":"VLOOKUP($C248,Bradford!$C$3:$L$66,7,FALSE)","v":0.53526850507982582},{"$f":"VLOOKUP($C248,Keighley!$C$3:$N$42,9,FALSE)","v":{"$error":"#N/A"}},{"$f":"VLOOKUP($C248,'Bunny '!$C$3:$N$20,9,FALSE)","v":{"$error":"#N/A"}},{"$f":"VLOOKUP($C248,Liverpool!$C$3:$N$59,9,FALSE)","v":{"$error":"#N/A"}},{"$f":"VLOOKUP(C248,'VoY 10m'!$C$3:$N$40,9,FALSE)","v":{"$error":"#N/A"}},{"$f":"VLOOKUP(C248,Guisley!$C$3:$N$49,9,FALSE)","v":{"$error":"#N/A"}},{"$f":"VLOOKUP(C248,Odda!$C$3:$N$42,9,FALSE)","v":{"$error":"#N/A"}},{"$f":"VLOOKUP(C248,'Leeds half'!$C$4:$N$31,9,FALSE)","v":0.48176236908631281},{"$f":"VLOOKUP(C248,Ilkley!$C$3:$L$46,7,FALSE)","v":{"$error":"#N/A"}},{"$f":"VLOOKUP(C248,Otley!$C$3:$L$46,9,FALSE)","v":{"$error":"#N/A"}},{"$f":"VLOOKUP(C248,Solstice!$C$3:$L$48,7,FALSE)","v":0.44806579348157172},{"$f":"VLOOKUP(C248,Eccup!$C$3:$L$46,9,FALSE)","v":{"$error":"#N/A"}},null,{"$f":"VLOOKUP(C248,Shakerr!$C$3:$L$46,7,FALSE)","v":0.3490441037289419},{"$f":"VLOOKUP(C248,VoY!$C$3:$L$46,9,FALSE)","v":{"$error":"#N/A"}},{"$f":"VLOOKUP(C248,Kirkstall!$C$3:$L$46,9,FALSE)","v":0.45265065700045309},{"$f":"VLOOKUP($C248,City!$C$3:$L$69,9,FALSE)","v":{"$error":"#N/A"}},{"$f":"VLOOKUP(C248,'Guy Fawkes'!$C$3:$N$34,9,FALSE)","v":0.43100158982511921},{"$f":"VLOOKUP(C248,Abbey!$C$3:$L$48,7,FALSE)","v":{"$error":"#N/A"}},{"$f":"VLOOKUP(C248,Chevin!$C$3:$L$50,7,FALSE)","v":{"$error":"#N/A"}},null,0,15,0,0,0,0,0,0,8,0,0,17,0,0,13,0,5,0,20,0,0,6]
[null,null,"simon themistocleous","1975-08-20",41,{"$f":"IFERROR(VLOOKUP(C249,'Division Lookup'!$A$2:$D$251,4,FALSE),\"Second\")","v":"Second"},{"$f":"VLOOKUP(C249,Dewsbury!$C$3:$L$46,7,FALSE)","v":{"$error":"#N/A"}},{"$f":"VLOOKUP($C249,Bradford!$C$3:$L$66,7,FALSE)","v":{"$error":"#N/A"}},{"$f":"VLOOKUP($C249,Keighley!$C$3:$N$42,9,FALSE)","v":{"$error":"#N/A"}},{"$f":"VLOOKUP($C249,'Bunny '!$C$3:$N$20,9,FALSE)","v":{"$error":"#N/A"}},{"$f":"VLOOKUP($C249,Liverpool!$C$3:$N$59,9,FALSE)","v":{"$error":"#N/A"}},{"$f":"VLOOKUP(C249,'VoY 10m'!$C$3:$N$40,9,FALSE)","v":{"$error":"#N/A"}},{"$f":"VLOOKUP(C249,Guisley!$C$3:$N$49,9,FALSE)","v":{"$error":"#N/A"}},{"$f":"VLOOKUP(C249,Odda!$C$3:$N$42,9,FALSE)","v":{"$error":"#N/A"}},{"$f":"VLOOKUP(C249,'Leeds half'!$C$4:$N$31,9,FALSE)","v":{"$error":"#N/A"}},{"$f":"VLOOKUP(C249,Ilkley!$C$3:$L$46,7,FALSE)","v":{"$error":"#N/A"}},{"$f":"VLOOKUP(C249,Otley!$C$3:$L$46,9,FALSE)","v":{"$error":"#N/A"}},{"$f":"VLOOKUP(C249,Solstice!$C$3:$L$48,7,FALSE)","v":{"$error":"#N/A"}},{"$f":"VLOOKUP(C249,Eccup!$C$3:$L$46,9,FALSE)","v":{"$error":"#N/A"}},null,{"$f":"VLOOKUP(C249,Shakerr!$C$3:$L$46,7,FALSE)","v":{"$error":"#N/A"}},{"$f":"VLOOKUP(C249,VoY!$C$3:$L$46,9,FALSE)","v":{"$error":"#N/A"}},{"$f":"VLOOKUP(C249,Kirkstall!$C$3:$L$46,9,FALSE)","v":{"$error":"#N/A"}},{"$f":"VLOOKUP($C249,City!$C$3:$L$69,9,FALSE)","v":{"$error":"#N/A"}},{"$f":"VLOOKUP(C249,'Guy Fawkes'!$C$3:$N$34,9,FALSE)","v":{"$error":"#N/A"}},{"$f":"VLOOKUP(C249,Abbey!$C$3:$L$48,7,FALSE)","v":{"$error":"#N/A"}},{"$f":"VLOOKUP(C249,Chevin!$C$3:$L$50,7,FALSE)","v":{"$error":"#N/A"}},null,0,0,0,0,0,0,0,0,0,0,0,0,0,0,0,0,0,0,0,0,0,0]
[null,null,"Tracey Thomas-Marshall","1966-11-04",51,{"$f":"IFERROR(VLOOKUP(C250,'Division Lookup'!$A$2:$D$251,4,FALSE),\"Second\")","v":"Second"},{"$f":"VLOOKUP(C250,Dewsbury!$C$3:$L$46,7,FALSE)","v":{"$error":"#N/A"}},{"$f":"VLOOKUP($C250,Bradford!$C$3:$L$66,7,FALSE)","v":{"$error":"#N/A"}},{"$f":"VLOOKUP($C250,Keighley!$C$3:$N$42,9,FALSE)","v":{"$error":"#N/A"}},{"$f":"VLOOKUP($C250,'Bunny '!$C$3:$N$20,9,FALSE)","v":{"$error":"#N/A"}},{"$f":"VLOOKUP($C250,Liverpool!$C$3:$N$59,9,FALSE)","v":{"$error":"#N/A"}},{"$f":"VLOOKUP(C250,'VoY 10m'!$C$3:$N$40,9,FALSE)","v":{"$error":"#N/A"}},{"$f":"VLOOKUP(C250,Guisley!$C$3:$N$49,9,FALSE)","v":{"$error":"#N/A"}},{"$f":"VLOOKUP(C250,Odda!$C$3:$N$42,9,FALSE)","v":{"$error":"#N/A"}},{"$f":"VLOOKUP(C250,'Leeds half'!$C$4:$N$31,9,FALSE)","v":{"$error":"#N/A"}},{"$f":"VLOOKUP(C250,Ilkley!$C$3:$L$46,7,FALSE)","v":{"$error":"#N/A"}},{"$f":"VLOOKUP(C250,Otley!$C$3:$L$46,9,FALSE)","v":{"$error":"#N/A"}},{"$f":"VLOOKUP(C250,Solstice!$C$3:$L$48,7,FALSE)","v":{"$error":"#N/A"}},{"$f":"VLOOKUP(C250,Eccup!$C$3:$L$46,9,FALSE)","v":{"$error":"#N/A"}},null,{"$f":"VLOOKUP(C250,Shakerr!$C$3:$L$46,7,FALSE)","v":{"$error":"#N/A"}},{"$f":"VLOOKUP(C250,VoY!$C$3:$L$46,9,FALSE)","v":{"$error":"#N/A"}},{"$f":"VLOOKUP(C250,Kirkstall!$C$3:$L$46,9,FALSE)","v":{"$error":"#N/A"}},{"$f":"VLOOKUP($C250,City!$C$3:$L$69,9,FALSE)","v":{"$error":"#N/A"}},{"$f":"VLOOKUP(C250,'Guy Fawkes'!$C$3:$N$34,9,FALSE)","v":{"$error":"#N/A"}},{"$f":"VLOOKUP(C250,Abbey!$C$3:$L$48,7,FALSE)","v":{"$error":"#N/A"}},{"$f":"VLOOKUP(C250,Chevin!$C$3:$L$50,7,FALSE)","v":{"$error":"#N/A"}},null,0,0,0,0,0,0,0,0,0,0,0,0,0,0,0,0,0,0,0,0,0,0]
[null,null,"Tamsin Treasure-Jones","1969-02-20",47,{"$f":"IFERROR(VLOOKUP(C251,'Division Lookup'!$A$2:$D$251,4,FALSE),\"Second\")","v":"First"},{"$f":"VLOOKUP(C251,Dewsbury!$C$3:$L$46,7,FALSE)","v":{"$error":"#N/A"}},{"$f":"VLOOKUP($C251,Bradford!$C$3:$L$66,7,FALSE)","v":{"$error":"#N/A"}},{"$f":"VLOOKUP($C251,Keighley!$C$3:$N$42,9,FALSE)","v":{"$error":"#N/A"}},{"$f":"VLOOKUP($C251,'Bunny '!$C$3:$N$20,9,FALSE)","v":{"$error":"#N/A"}},{"$f":"VLOOKUP($C251,Liverpool!$C$3:$N$59,9,FALSE)","v":{"$error":"#N/A"}},{"$f":"VLOOKUP(C251,'VoY 10m'!$C$3:$N$40,9,FALSE)","v":{"$error":"#N/A"}},{"$f":"VLOOKUP(C251,Guisley!$C$3:$N$49,9,FALSE)","v":{"$error":"#N/A"}},{"$f":"VLOOKUP(C251,Odda!$C$3:$N$42,9,FALSE)","v":{"$error":"#N/A"}},{"$f":"VLOOKUP(C251,'Leeds half'!$C$4:$N$31,9,FALSE)","v":{"$error":"#N/A"}},{"$f":"VLOOKUP(C251,Ilkley!$C$3:$L$46,7,FALSE)","v":{"$error":"#N/A"}},{"$f":"VLOOKUP(C251,Otley!$C$3:$L$46,9,FALSE)","v":{"$error":"#N/A"}},{"$f":"VLOOKUP(C251,Solstice!$C$3:$L$48,7,FALSE)","v":{"$error":"#N/A"}},{"$f":"VLOOKUP(C251,Eccup!$C$3:$L$46,9,FALSE)","v":{"$error":"#N/A"}},null,{"$f":"VLOOKUP(C251,Shakerr!$C$3:$L$46,7,FALSE)","v":0.47359657469077071},{"$f":"VLOOKUP(C251,VoY!$C$3:$L$46,9,FALSE)","v":{"$error":"#N/A"}},{"$f":"VLOOKUP(C251,Kirkstall!$C$3:$L$46,9,FALSE)","v":{"$error":"#N/A"}},{"$f":"VLOOKUP($C251,City!$C$3:$L$69,9,FALSE)","v":{"$error":"#N/A"}},{"$f":"VLOOKUP(C251,'Guy Fawkes'!$C$3:$N$34,9,FALSE)","v":{"$error":"#N/A"}},{"$f":"VLOOKUP(C251,Abbey!$C$3:$L$48,7,FALSE)","v":{"$error":"#N/A"}},{"$f":"VLOOKUP(C251,Chevin!$C$3:$L$50,7,FALSE)","v":{"$error":"#N/A"}},null,0,0,0,0,0,0,0,0,0,0,0,0,0,0,5,0,0,0,0,0,0,1]
[null,null,"Pawel Tryc","1980-04-11",36,{"$f":"IFERROR(VLOOKUP(C252,'Division Lookup'!$A$2:$D$251,4,FALSE),\"Second\")","v":"Second"},{"$f":"VLOOKUP(C252,Dewsbury!$C$3:$L$46,7,FALSE)","v":{"$error":"#N/A"}},{"$f":"VLOOKUP($C252,Bradford!$C$3:$L$66,7,FALSE)","v":{"$error":"#N/A"}},{"$f":"VLOOKUP($C252,Keighley!$C$3:$N$42,9,FALSE)","v":{"$error":"#N/A"}},{"$f":"VLOOKUP($C252,'Bunny '!$C$3:$N$20,9,FALSE)","v":{"$error":"#N/A"}},{"$f":"VLOOKUP($C252,Liverpool!$C$3:$N$59,9,FALSE)","v":{"$error":"#N/A"}},{"$f":"VLOOKUP(C252,'VoY 10m'!$C$3:$N$40,9,FALSE)","v":{"$error":"#N/A"}},{"$f":"VLOOKUP(C252,Guisley!$C$3:$N$49,9,FALSE)","v":{"$error":"#N/A"}},{"$f":"VLOOKUP(C252,Odda!$C$3:$N$42,9,FALSE)","v":{"$error":"#N/A"}},{"$f":"VLOOKUP(C252,'Leeds half'!$C$4:$N$31,9,FALSE)","v":{"$error":"#N/A"}},{"$f":"VLOOKUP(C252,Ilkley!$C$3:$L$46,7,FALSE)","v":{"$error":"#N/A"}},{"$f":"VLOOKUP(C252,Otley!$C$3:$L$46,9,FALSE)","v":{"$error":"#N/A"}},{"$f":"VLOOKUP(C252,Solstice!$C$3:$L$48,7,FALSE)","v":{"$error":"#N/A"}},null,null,{"$f":"VLOOKUP(C252,Shakerr!$C$3:$L$46,7,FALSE)","v":{"$error":"#N/A"}},{"$f":"VLOOKUP(C252,VoY!$C$3:$L$46,9,FALSE)","v":{"$error":"#N/A"}},{"$f":"VLOOKUP(C252,Kirkstall!$C$3:$L$46,9,FALSE)","v":{"$error":"#N/A"}},{"$f":"VLOOKUP($C252,City!$C$3:$L$69,9,FALSE)","v":0.58765081618168902},{"$f":"VLOOKUP(C252,'Guy Fawkes'!$C$3:$N$34,9,FALSE)","v":{"$error":"#N/A"}},{"$f":"VLOOKUP(C252,Abbey!$C$3:$L$48,7,FALSE)","v":0.59376120473287919},{"$f":"VLOOKUP(C252,Chevin!$C$3:$L$50,7,FALSE)","v":{"$error":"#N/A"}},null,0,0,0,0,0,0,0,0,0,0,0,0,1,0,0,0,0,5,0,10,0,3]
[null,null,"Ann Upton","1960-02-14",{"$f":"DATEDIF(D253,$E$1,\"Y\")","v":56},{"$f":"IFERROR(VLOOKUP(C253,'Division Lookup'!$A$2:$D$251,4,FALSE),\"Second\")","v":"Second"},{"$f":"VLOOKUP(C253,Dewsbury!$C$3:$L$46,7,FALSE)","v":{"$error":"#N/A"}},{"$f":"VLOOKUP($C253,Bradford!$C$3:$L$66,7,FALSE)","v":0.58298429319371725},{"$f":"VLOOKUP($C253,Keighley!$C$3:$N$42,9,FALSE)","v":0.5622317596566524},{"$f":"VLOOKUP($C253,'Bunny '!$C$3:$N$20,9,FALSE)","v":{"$error":"#N/A"}},{"$f":"VLOOKUP($C253,Liverpool!$C$3:$N$59,9,FALSE)","v":{"$error":"#N/A"}},{"$f":"VLOOKUP(C253,'VoY 10m'!$C$3:$N$40,9,FALSE)","v":{"$error":"#N/A"}},{"$f":"VLOOKUP(C253,Guisley!$C$3:$N$49,9,FALSE)","v":{"$error":"#N/A"}},{"$f":"VLOOKUP(C253,Odda!$C$3:$N$42,9,FALSE)","v":{"$error":"#N/A"}},{"$f":"VLOOKUP(C253,'Leeds half'!$C$4:$N$31,9,FALSE)","v":{"$error":"#N/A"}},{"$f":"VLOOKUP(C253,Ilkley!$C$3:$L$46,7,FALSE)","v":{"$error":"#N/A"}},{"$f":"VLOOKUP(C253,Otley!$C$3:$L$46,9,FALSE)","v":{"$error":"#N/A"}},{"$f":"VLOOKUP(C253,Solstice!$C$3:$L$48,7,FALSE)","v":0.50354408846044796},null,null,{"$f":"VLOOKUP(C253,Shakerr!$C$3:$L$46,7,FALSE)","v":0.41012891344383057},{"$f":"VLOOKUP(C253,VoY!$C$3:$L$46,9,FALSE)","v":{"$error":"#N/A"}},{"$f":"VLOOKUP(C253,Kirkstall!$C$3:$L$46,9,FALSE)","v":{"$error":"#N/A"}},{"$f":"VLOOKUP($C253,City!$C$3:$L$69,9,FALSE)","v":0.56912854587273187},{"$f":"VLOOKUP(C253,'Guy Fawkes'!$C$3:$N$34,9,FALSE)","v":0.46124873243517311},{"$f":"VLOOKUP(C253,Abbey!$C$3:$L$48,7,FALSE)","v":{"$error":"#N/A"}},{"$f":"VLOOKUP(C253,Chevin!$C$3:$L$50,7,FALSE)","v":{"$error":"#N/A"}},null,0,10,7,0,0,0,0,0,0,0,0,9,null,0,10,0,0,7,6,0,0,6]
[null,null,"Chris Upton","1956-08-14",60,{"$f":"IFERROR(VLOOKUP(C254,'Division Lookup'!$A$2:$D$251,4,FALSE),\"Second\")","v":"Second"},{"$f":"VLOOKUP(C254,Dewsbury!$C$3:$L$46,7,FALSE)","v":{"$error":"#N/A"}},{"$f":"VLOOKUP($C254,Bradford!$C$3:$L$66,7,FALSE)","v":{"$error":"#N/A"}},{"$f":"VLOOKUP($C254,Keighley!$C$3:$N$42,9,FALSE)","v":{"$error":"#N/A"}},{"$f":"VLOOKUP($C254,'Bunny '!$C$3:$N$20,9,FALSE)","v":{"$error":"#N/A"}},{"$f":"VLOOKUP($C254,Liverpool!$C$3:$N$59,9,FALSE)","v":{"$error":"#N/A"}},{"$f":"VLOOKUP(C254,'VoY 10m'!$C$3:$N$40,9,FALSE)","v":{"$error":"#N/A"}},{"$f":"VLOOKUP(C254,Guisley!$C$3:$N$49,9,FALSE)","v":{"$error":"#N/A"}},{"$f":"VLOOKUP(C254,Odda!$C$3:$N$42,9,FALSE)","v":{"$error":"#N/A"}},{"$f":"VLOOKUP(C254,'Leeds half'!$C$4:$N$31,9,FALSE)","v":{"$error":"#N/A"}},{"$f":"VLOOKUP(C254,Ilkley!$C$3:$L$46,7,FALSE)","v":{"$error":"#N/A"}},{"$f":"VLOOKUP(C254,Otley!$C$3:$L$46,9,FALSE)","v":{"$error":"#N/A"}},{"$f":"VLOOKUP(C254,Solstice!$C$3:$L$48,7,FALSE)","v":{"$error":"#N/A"}},null,null,{"$f":"VLOOKUP(C254,Shakerr!$C$3:$L$46,7,FALSE)","v":{"$error":"#N/A"}},{"$f":"VLOOKUP(C254,VoY!$C$3:$L$46,9,FALSE)","v":{"$error":"#N/A"}},{"$f":"VLOOKUP(C254,Kirkstall!$C$3:$L$46,9,FALSE)","v":{"$error":"#N/A"}},{"$f":"VLOOKUP($C254,City!$C$3:$L$69,9,FALSE)","v":{"$error":"#N/A"}},{"$f":"VLOOKUP(C254,'Guy Fawkes'!$C$3:$N$34,9,FALSE)","v":{"$error":"#N/A"}},{"$f":"VLOOKUP(C254,Abbey!$C$3:$L$48,7,FALSE)","v":{"$error":"#N/A"}},{"$f":"VLOOKUP(C254,Chevin!$C$3:$L$50,7,FALSE)","v":{"$error":"#N/A"}},null,0,0,0,0,0,0,0,0,0,0,0,0,null,0,0,0,0,0,0,0,0,0]
[null,null,"Jack Verity","1957-12-16",59,{"$f":"IFERROR(VLOOKUP(C255,'Division Lookup'!$A$2:$D$251,4,FALSE),\"Second\")","v":"Premier"},{"$f":"VLOOKUP(C255,Dewsbury!$C$3:$L$46,7,FALSE)","v":0.71930459978268757},{"$f":"VLOOKUP($C255,Bradford!$C$3:$L$66,7,FALSE)","v":0.70651013874066171},{"$f":"VLOOKUP($C255,Keighley!$C$3:$N$42,9,FALSE)","v":{"$error":"#N/A"}},{"$f":"VLOOKUP($C255,'Bunny '!$C$3:$N$20,9,FALSE)","v":{"$error":"#N/A"}},{"$f":"VLOOKUP($C255,Liverpool!$C$3:$N$59,9,FALSE)","v":{"$error":"#N/A"}},{"$f":"VLOOKUP(C255,'VoY 10m'!$C$3:$N$40,9,FALSE)","v":{"$error":"#N/A"}},{"$f":"VLOOKUP(C255,Guisley!$C$3:$N$49,9,FALSE)","v":{"$error":"#N/A"}},{"$f":"VLOOKUP(C255,Odda!$C$3:$N$42,9,FALSE)","v":{"$error":"#N/A"}},{"$f":"VLOOKUP(C255,'Leeds half'!$C$4:$N$31,9,FALSE)","v":{"$error":"#N/A"}},{"$f":"VLOOKUP(C255,Ilkley!$C$3:$L$46,7,FALSE)","v":{"$error":"#N/A"}},{"$f":"VLOOKUP(C255,Otley!$C$3:$L$46,9,FALSE)","v":{"$error":"#N/A"}},{"$f":"VLOOKUP(C255,Solstice!$C$3:$L$48,7,FALSE)","v":{"$error":"#N/A"}},null,null,{"$f":"VLOOKUP(C255,Shakerr!$C$3:$L$46,7,FALSE)","v":0.4978691401353722},{"$f":"VLOOKUP(C255,VoY!$C$3:$L$46,9,FALSE)","v":{"$error":"#N/A"}},{"$f":"VLOOKUP(C255,Kirkstall!$C$3:$L$46,9,FALSE)","v":{"$error":"#N/A"}},{"$f":"VLOOKUP($C255,City!$C$3:$L$69,9,FALSE)","v":{"$error":"#N/A"}},{"$f":"VLOOKUP(C255,'Guy Fawkes'!$C$3:$N$34,9,FALSE)","v":{"$error":"#N/A"}},{"$f":"VLOOKUP(C255,Abbey!$C$3:$L$48,7,FALSE)","v":{"$error":"#N/A"}},{"$f":"VLOOKUP(C255,Chevin!$C$3:$L$50,7,FALSE)","v":0.6764291748803154},null,4,5,0,0,0,0,0,0,0,0,0,0,null,0,6,0,0,0,0,0,2,4]
[null,null,"Mark Walker","1963-08-19",53,{"$f":"IFERROR(VLOOKUP(C256,'Division Lookup'!$A$2:$D$251,4,FALSE),\"Second\")","v":"Premier"},{"$f":"VLOOKUP(C256,Dewsbury!$C$3:$L$46,7,FALSE)","v":{"$error":"#N/A"}},{"$f":"VLOOKUP($C256,Bradford!$C$3:$L$66,7,FALSE)","v":0.57442922374429228},{"$f":"VLOOKUP($C256,Keighley!$C$3:$N$42,9,FALSE)","v":{"$error":"#N/A"}},{"$f":"VLOOKUP($C256,'Bunny '!$C$3:$N$20,9,FALSE)","v":{"$error":"#N/A"}},{"$f":"VLOOKUP($C256,Liverpool!$C$3:$N$59,9,FALSE)","v":{"$error":"#N/A"}},{"$f":"VLOOKUP(C256,'VoY 10m'!$C$3:$N$40,9,FALSE)","v":{"$error":"#N/A"}},{"$f":"VLOOKUP(C256,Guisley!$C$3:$N$49,9,FALSE)","v":0.52184734513274333},{"$f":"VLOOKUP(C256,Odda!$C$3:$N$42,9,FALSE)","v":{"$error":"#N/A"}},{"$f":"VLOOKUP(C256,'Leeds half'!$C$4:$N$31,9,FALSE)","v":{"$error":"#N/A"}},{"$f":"VLOOKUP(C256,Ilkley!$C$3:$L$46,7,FALSE)","v":{"$error":"#N/A"}},{"$f":"VLOOKUP(C256,Otley!$C$3:$L$46,9,FALSE)","v":{"$error":"#N/A"}},{"$f":"VLOOKUP(C256,Solstice!$C$3:$L$48,7,FALSE)","v":{"$error":"#N/A"}},null,null,{"$f":"VLOOKUP(C256,Shakerr!$C$3:$L$46,7,FALSE)","v":{"$error":"#N/A"}},{"$f":"VLOOKUP(C256,VoY!$C$3:$L$46,9,FALSE)","v":{"$error":"#N/A"}},{"$f":"VLOOKUP(C256,Kirkstall!$C$3:$L$46,9,FALSE)","v":{"$error":"#N/A"}},{"$f":"VLOOKUP($C256,City!$C$3:$L$69,9,FALSE)","v":{"$error":"#N/A"}},{"$f":"VLOOKUP(C256,'Guy Fawkes'!$C$3:$N$34,9,FALSE)","v":{"$error":"#N/A"}},{"$f":"VLOOKUP(C256,Abbey!$C$3:$L$48,7,FALSE)","v":0.57164495607391697},{"$f":"VLOOKUP(C256,Chevin!$C$3:$L$50,7,FALSE)","v":{"$error":"#N/A"}},null,0,14,0,0,0,0,8,0,0,0,0,0,null,0,0,0,0,0,0,6,0,3]
[null,null,"John Walton","1969-02-02",47,{"$f":"IFERROR(VLOOKUP(C257,'Division Lookup'!$A$2:$D$251,4,FALSE),\"Second\")","v":"First"},{"$f":"VLOOKUP(C257,Dewsbury!$C$3:$L$46,7,FALSE)","v":{"$error":"#N/A"}},{"$f":"VLOOKUP($C257,Bradford!$C$3:$L$66,7,FALSE)","v":{"$error":"#N/A"}},{"$f":"VLOOKUP($C257,Keighley!$C$3:$N$42,9,FALSE)","v":{"$error":"#N/A"}},{"$f":"VLOOKUP($C257,'Bunny '!$C$3:$N$20,9,FALSE)","v":{"$error":"#N/A"}},{"$f":"VLOOKUP($C257,Liverpool!$C$3:$N$59,9,FALSE)","v":{"$error":"#N/A"}},{"$f":"VLOOKUP(C257,'VoY 10m'!$C$3:$N$40,9,FALSE)","v":0.34685479129923574},{"$f":"VLOOKUP(C257,Guisley!$C$3:$N$49,9,FALSE)","v":{"$error":"#N/A"}},{"$f":"VLOOKUP(C257,Odda!$C$3:$N$42,9,FALSE)","v":{"$error":"#N/A"}},{"$f":"VLOOKUP(C257,'Leeds half'!$C$4:$N$31,9,FALSE)","v":0.54668527564549907},{"$f":"VLOOKUP(C257,Ilkley!$C$3:$L$46,7,FALSE)","v":{"$error":"#N/A"}},{"$f":"VLOOKUP(C257,Otley!$C$3:$L$46,9,FALSE)","v":{"$error":"#N/A"}},{"$f":"VLOOKUP(C257,Solstice!$C$3:$L$48,7,FALSE)","v":0.58493655341792872},null,null,{"$f":"VLOOKUP(C257,Shakerr!$C$3:$L$46,7,FALSE)","v":{"$error":"#N/A"}},{"$f":"VLOOKUP(C257,VoY!$C$3:$L$46,9,FALSE)","v":{"$error":"#N/A"}},{"$f":"VLOOKUP(C257,Kirkstall!$C$3:$L$46,9,FALSE)","v":{"$error":"#N/A"}},{"$f":"VLOOKUP($C257,City!$C$3:$L$69,9,FALSE)","v":{"$error":"#N/A"}},{"$f":"VLOOKUP(C257,'Guy Fawkes'!$C$3:$N$34,9,FALSE)","v":{"$error":"#N/A"}},{"$f":"VLOOKUP(C257,Abbey!$C$3:$L$48,7,FALSE)","v":{"$error":"#N/A"}},{"$f":"VLOOKUP(C257,Chevin!$C$3:$L$50,7,FALSE)","v":{"$error":"#N/A"}},null,0,0,0,0,0,4,0,0,6,0,0,3,null,0,0,0,0,0,0,0,0,3]
[null,null,"Gareth Ward","1979-03-12",37,{"$f":"IFERROR(VLOOKUP(C258,'Division Lookup'!$A$2:$D$251,4,FALSE),\"Second\")","v":"First"},{"$f":"VLOOKUP(C258,Dewsbury!$C$3:$L$46,7,FALSE)","v":{"$error":"#N/A"}},{"$f":"VLOOKUP($C258,Bradford!$C$3:$L$66,7,FALSE)","v":0.53739522888459057},{"$f":"VLOOKUP($C258,Keighley!$C$3:$N$42,9,FALSE)","v":{"$error":"#N/A"}},{"$f":"VLOOKUP($C258,'Bunny '!$C$3:$N$20,9,FALSE)","v":{"$error":"#N/A"}},{"$f":"VLOOKUP($C258,Liverpool!$C$3:$N$59,9,FALSE)","v":0.59584980237154139},{"$f":"VLOOKUP(C258,'VoY 10m'!$C$3:$N$40,9,FALSE)","v":{"$error":"#N/A"}},{"$f":"VLOOKUP(C258,Guisley!$C$3:$N$49,9,FALSE)","v":{"$error":"#N/A"}},{"$f":"VLOOKUP(C258,Odda!$C$3:$N$42,9,FALSE)","v":{"$error":"#N/A"}},{"$f":"VLOOKUP(C258,'Leeds half'!$C$4:$N$31,9,FALSE)","v":{"$error":"#N/A"}},{"$f":"VLOOKUP(C258,Ilkley!$C$3:$L$46,7,FALSE)","v":{"$error":"#N/A"}},{"$f":"VLOOKUP(C258,Otley!$C$3:$L$46,9,FALSE)","v":{"$error":"#N/A"}},{"$f":"VLOOKUP(C258,Solstice!$C$3:$L$48,7,FALSE)","v":{"$error":"#N/A"}},null,null,{"$f":"VLOOKUP(C258,Shakerr!$C$3:$L$46,7,FALSE)","v":{"$error":"#N/A"}},{"$f":"VLOOKUP(C258,VoY!$C$3:$L$46,9,FALSE)","v":{"$error":"#N/A"}},{"$f":"VLOOKUP(C258,Kirkstall!$C$3:$L$46,9,FALSE)","v":{"$error":"#N/A"}},{"$f":"VLOOKUP($C258,City!$C$3:$L$69,9,FALSE)","v":{"$error":"#N/A"}},{"$f":"VLOOKUP(C258,'Guy Fawkes'!$C$3:$N$34,9,FALSE)","v":{"$error":"#N/A"}},{"$f":"VLOOKUP(C258,Abbey!$C$3:$L$48,7,FALSE)","v":{"$error":"#N/A"}},{"$f":"VLOOKUP(C258,Chevin!$C$3:$L$50,7,FALSE)","v":{"$error":"#N/A"}},null,0,12,0,0,4,0,0,0,0,0,0,0,null,0,0,0,0,0,0,0,0,2]
[null,null,"Lesley Watson","1972-03-18",44,{"$f":"IFERROR(VLOOKUP(C259,'Division Lookup'!$A$2:$D$251,4,FALSE),\"Second\")","v":"Second"},{"$f":"VLOOKUP(C259,Dewsbury!$C$3:$L$46,7,FALSE)","v":{"$error":"#N/A"}},{"$f":"VLOOKUP($C259,Bradford!$C$3:$L$66,7,FALSE)","v":{"$error":"#N/A"}},{"$f":"VLOOKUP($C259,Keighley!$C$3:$N$42,9,FALSE)","v":{"$error":"#N/A"}},{"$f":"VLOOKUP($C259,'Bunny '!$C$3:$N$20,9,FALSE)","v":{"$error":"#N/A"}},{"$f":"VLOOKUP($C259,Liverpool!$C$3:$N$59,9,FALSE)","v":{"$error":"#N/A"}},{"$f":"VLOOKUP(C259,'VoY 10m'!$C$3:$N$40,9,FALSE)","v":{"$error":"#N/A"}},{"$f":"VLOOKUP(C259,Guisley!$C$3:$N$49,9,FALSE)","v":{"$error":"#N/A"}},{"$f":"VLOOKUP(C259,Odda!$C$3:$N$42,9,FALSE)","v":{"$error":"#N/A"}},{"$f":"VLOOKUP(C259,'Leeds half'!$C$4:$N$31,9,FALSE)","v":{"$error":"#N/A"}},{"$f":"VLOOKUP(C259,Ilkley!$C$3:$L$46,7,FALSE)","v":{"$error":"#N/A"}},{"$f":"VLOOKUP(C259,Otley!$C$3:$L$46,9,FALSE)","v":{"$error":"#N/A"}},{"$f":"VLOOKUP(C259,Solstice!$C$3:$L$48,7,FALSE)","v":{"$error":"#N/A"}},null,null,{"$f":"VLOOKUP(C259,Shakerr!$C$3:$L$46,7,FALSE)","v":{"$error":"#N/A"}},{"$f":"VLOOKUP(C259,VoY!$C$3:$L$46,9,FALSE)","v":{"$error":"#N/A"}},{"$f":"VLOOKUP(C259,Kirkstall!$C$3:$L$46,9,FALSE)","v":{"$error":"#N/A"}},{"$f":"VLOOKUP($C259,City!$C$3:$L$69,9,FALSE)","v":{"$error":"#N/A"}},{"$f":"VLOOKUP(C259,'Guy Fawkes'!$C$3:$N$34,9,FALSE)","v":{"$error":"#N/A"}},{"$f":"VLOOKUP(C259,Abbey!$C$3:$L$48,7,FALSE)","v":{"$error":"#N/A"}},{"$f":"VLOOKUP(C259,Chevin!$C$3:$L$50,7,FALSE)","v":{"$error":"#N/A"}},null,0,0,0,0,0,0,0,0,0,0,0,0,null,0,0,0,0,0,0,0,0,0]
[null,null,"Gary Western","1959-03-11",57,{"$f":"IFERROR(VLOOKUP(C260,'Division Lookup'!$A$2:$D$251,4,FALSE),\"Second\")","v":"Premier"},{"$f":"VLOOKUP(C260,Dewsbury!$C$3:$L$46,7,FALSE)","v":{"$error":"#N/A"}},{"$f":"VLOOKUP($C260,Bradford!$C$3:$L$66,7,FALSE)","v":{"$error":"#N/A"}},{"$f":"VLOOKUP($C260,Keighley!$C$3:$N$42,9,FALSE)","v":0.68013937282229953},{"$f":"VLOOKUP($C260,'Bunny '!$C$3:$N$20,9,FALSE)","v":0.61387434554973819},{"$f":"VLOOKUP($C260,Liverpool!$C$3:$N$59,9,FALSE)","v":0.69148591777274204},{"$f":"VLOOKUP(C260,'VoY 10m'!$C$3:$N$40,9,FALSE)","v":{"$error":"#N/A"}},{"$f":"VLOOKUP(C260,Guisley!$C$3:$N$49,9,FALSE)","v":0.62126034373010819},{"$f":"VLOOKUP(C260,Odda!$C$3:$N$42,9,FALSE)","v":{"$error":"#N/A"}},{"$f":"VLOOKUP(C260,'Leeds half'!$C$4:$N$31,9,FALSE)","v":{"$error":"#N/A"}},{"$f":"VLOOKUP(C260,Ilkley!$C$3:$L$46,7,FALSE)","v":0.54479486463857096},{"$f":"VLOOKUP(C260,Otley!$C$3:$L$46,9,FALSE)","v":0.66680506539339834},{"$f":"VLOOKUP(C260,Solstice!$C$3:$L$48,7,FALSE)","v":0.62214199759326116},null,null,{"$f":"VLOOKUP(C260,Shakerr!$C$3:$L$46,7,FALSE)","v":{"$error":"#N/A"}},{"$f":"VLOOKUP(C260,VoY!$C$3:$L$46,9,FALSE)","v":{"$error":"#N/A"}},{"$f":"VLOOKUP(C260,Kirkstall!$C$3:$L$46,9,FALSE)","v":{"$error":"#N/A"}},{"$f":"VLOOKUP($C260,City!$C$3:$L$69,9,FALSE)","v":{"$error":"#N/A"}},{"$f":"VLOOKUP(C260,'Guy Fawkes'!$C$3:$N$34,9,FALSE)","v":{"$error":"#N/A"}},{"$f":"VLOOKUP(C260,Abbey!$C$3:$L$48,7,FALSE)","v":0.698140200286123},{"$f":"VLOOKUP(C260,Chevin!$C$3:$L$50,7,FALSE)","v":{"$error":"#N/A"}},null,0,0,3,6,7,0,2,0,{"$f":"IF(ISNA(O260),0,1+COUNTIFS($F$3:$F$399,$F260,O$3:O$399,\">\"&O260))","v":0},{"$f":"IF(ISNA(P260),0,1+COUNTIFS($F$3:$F$399,$F260,P$3:P$399,\">\"&P260))","v":3},{"$f":"IF(ISNA(Q260),0,1+COUNTIFS($F$3:$F$399,$F260,Q$3:Q$399,\">\"&Q260))","v":5},{"$f":"IF(ISNA(R260),0,1+COUNTIFS($F$3:$F$399,$F260,R$3:R$399,\">\"&R260))","v":5},null,0,{"$f":"IF(ISNA(U260),0,1+COUNTIFS($F$3:$F$399,$F260,U$3:U$399,\">\"&U260))","v":0},{"$f":"IF(ISNA(V260),0,1+COUNTIFS($F$3:$F$399,$F260,V$3:V$399,\">\"&V260))","v":0},{"$f":"IF(ISNA(W260),0,1+COUNTIFS($F$3:$F$399,$F260,W$3:W$399,\">\"&W260))","v":0},{"$f":"IF(ISNA(X260),0,1+COUNTIFS($F$3:$F$399,$F260,X$3:X$399,\">\"&X260))","v":0},{"$f":"IF(ISNA(Y260),0,1+COUNTIFS($F$3:$F$399,$F260,Y$3:Y$399,\">\"&Y260))","v":0},{"$f":"IF(ISNA(Z260),0,1+COUNTIFS($F$3:$F$399,$F260,Z$3:Z$399,\">\"&Z260))","v":2},{"$f":"IF(ISNA(AA260),0,1+COUNTIFS($F$3:$F$399,$F260,AA$3:AA$399,\">\"&AA260))","v":0},8]
[null,null,"Helen Western","1968-04-15",48,{"$f":"IFERROR(VLOOKUP(C261,'Division Lookup'!$A$2:$D$251,4,FALSE),\"Second\")","v":"Premier"},{"$f":"VLOOKUP(C261,Dewsbury!$C$3:$L$46,7,FALSE)","v":{"$error":"#N/A"}},{"$f":"VLOOKUP($C261,Bradford!$C$3:$L$66,7,FALSE)","v":{"$error":"#N/A"}},{"$f":"VLOOKUP($C261,Keighley!$C$3:$N$42,9,FALSE)","v":0.63024420788979341},{"$f":"VLOOKUP($C261,'Bunny '!$C$3:$N$20,9,FALSE)","v":0.59049909801563449},{"$f":"VLOOKUP($C261,Liverpool!$C$3:$N$59,9,FALSE)","v":0.65131186642814554},{"$f":"VLOOKUP(C261,'VoY 10m'!$C$3:$N$40,9,FALSE)","v":{"$error":"#N/A"}},{"$f":"VLOOKUP(C261,Guisley!$C$3:$N$49,9,FALSE)","v":{"$error":"#N/A"}},{"$f":"VLOOKUP(C261,Odda!$C$3:$N$42,9,FALSE)","v":{"$error":"#N/A"}},{"$f":"VLOOKUP(C261,'Leeds half'!$C$4:$N$31,9,FALSE)","v":{"$error":"#N/A"}},{"$f":"VLOOKUP(C261,Ilkley!$C$3:$L$46,7,FALSE)","v":{"$error":"#N/A"}},{"$f":"VLOOKUP(C261,Otley!$C$3:$L$46,9,FALSE)","v":0.54200838345179514},{"$f":"VLOOKUP(C261,Solstice!$C$3:$L$48,7,FALSE)","v":0.56869688385269124},null,null,{"$f":"VLOOKUP(C261,Shakerr!$C$3:$L$46,7,FALSE)","v":{"$error":"#N/A"}},{"$f":"VLOOKUP(C261,VoY!$C$3:$L$46,9,FALSE)","v":{"$error":"#N/A"}},{"$f":"VLOOKUP(C261,Kirkstall!$C$3:$L$46,9,FALSE)","v":{"$error":"#N/A"}},{"$f":"VLOOKUP($C261,City!$C$3:$L$69,9,FALSE)","v":{"$error":"#N/A"}},{"$f":"VLOOKUP(C261,'Guy Fawkes'!$C$3:$N$34,9,FALSE)","v":{"$error":"#N/A"}},{"$f":"VLOOKUP(C261,Abbey!$C$3:$L$48,7,FALSE)","v":{"$error":"#N/A"}},{"$f":"VLOOKUP(C261,Chevin!$C$3:$L$50,7,FALSE)","v":{"$error":"#N/A"}},null,0,0,6,8,9,0,0,0,0,0,11,9,null,0,0,0,0,0,0,0,0,5]
[null,null,"Sam White","1993-04-28",23,{"$f":"IFERROR(VLOOKUP(C262,'Division Lookup'!$A$2:$D$251,4,FALSE),\"Second\")","v":"First"},{"$f":"VLOOKUP(C262,Dewsbury!$C$3:$L$46,7,FALSE)","v":{"$error":"#N/A"}},{"$f":"VLOOKUP($C262,Bradford!$C$3:$L$66,7,FALSE)","v":{"$error":"#N/A"}},{"$f":"VLOOKUP($C262,Keighley!$C$3:$N$42,9,FALSE)","v":{"$error":"#N/A"}},{"$f":"VLOOKUP($C262,'Bunny '!$C$3:$N$20,9,FALSE)","v":{"$error":"#N/A"}},{"$f":"VLOOKUP($C262,Liverpool!$C$3:$N$59,9,FALSE)","v":{"$error":"#N/A"}},{"$f":"VLOOKUP(C262,'VoY 10m'!$C$3:$N$40,9,FALSE)","v":0.49627282892284758},{"$f":"VLOOKUP(C262,Guisley!$C$3:$N$49,9,FALSE)","v":{"$error":"#N/A"}},{"$f":"VLOOKUP(C262,Odda!$C$3:$N$42,9,FALSE)","v":{"$error":"#N/A"}},{"$f":"VLOOKUP(C262,'Leeds half'!$C$4:$N$31,9,FALSE)","v":{"$error":"#N/A"}},{"$f":"VLOOKUP(C262,Ilkley!$C$3:$L$46,7,FALSE)","v":{"$error":"#N/A"}},{"$f":"VLOOKUP(C262,Otley!$C$3:$L$46,9,FALSE)","v":{"$error":"#N/A"}},{"$f":"VLOOKUP(C262,Solstice!$C$3:$L$48,7,FALSE)","v":{"$error":"#N/A"}},null,null,{"$f":"VLOOKUP(C262,Shakerr!$C$3:$L$46,7,FALSE)","v":{"$error":"#N/A"}},{"$f":"VLOOKUP(C262,VoY!$C$3:$L$46,9,FALSE)","v":{"$error":"#N/A"}},{"$f":"VLOOKUP(C262,Kirkstall!$C$3:$L$46,9,FALSE)","v":{"$error":"#N/A"}},{"$f":"VLOOKUP($C262,City!$C$3:$L$69,9,FALSE)","v":{"$error":"#N/A"}},{"$f":"VLOOKUP(C262,'Guy Fawkes'!$C$3:$N$34,9,FALSE)","v":{"$error":"#N/A"}},{"$f":"VLOOKUP(C262,Abbey!$C$3:$L$48,7,FALSE)","v":{"$error":"#N/A"}},{"$f":"VLOOKUP(C262,Chevin!$C$3:$L$50,7,FALSE)","v":{"$error":"#N/A"}},null,0,0,0,0,0,3,0,0,0,0,0,0,null,0,0,0,0,0,0,0,0,1]
[null,null,"Zack Whitehead","1985-04-06",31,{"$f":"IFERROR(VLOOKUP(C263,'Division Lookup'!$A$2:$D$251,4,FALSE),\"Second\")","v":"Second"},{"$f":"VLOOKUP(C263,Dewsbury!$C$3:$L$46,7,FALSE)","v":{"$error":"#N/A"}},{"$f":"VLOOKUP($C263,Bradford!$C$3:$L$66,7,FALSE)","v":{"$error":"#N/A"}},{"$f":"VLOOKUP($C263,Keighley!$C$3:$N$42,9,FALSE)","v":{"$error":"#N/A"}},{"$f":"VLOOKUP($C263,'Bunny '!$C$3:$N$20,9,FALSE)","v":{"$error":"#N/A"}},{"$f":"VLOOKUP($C263,Liverpool!$C$3:$N$59,9,FALSE)","v":{"$error":"#N/A"}},{"$f":"VLOOKUP(C263,'VoY 10m'!$C$3:$N$40,9,FALSE)","v":{"$error":"#N/A"}},{"$f":"VLOOKUP(C263,Guisley!$C$3:$N$49,9,FALSE)","v":{"$error":"#N/A"}},{"$f":"VLOOKUP(C263,Odda!$C$3:$N$42,9,FALSE)","v":{"$error":"#N/A"}},{"$f":"VLOOKUP(C263,'Leeds half'!$C$4:$N$31,9,FALSE)","v":{"$error":"#N/A"}},{"$f":"VLOOKUP(C263,Ilkley!$C$3:$L$46,7,FALSE)","v":{"$error":"#N/A"}},{"$f":"VLOOKUP(C263,Otley!$C$3:$L$46,9,FALSE)","v":{"$error":"#N/A"}},{"$f":"VLOOKUP(C263,Solstice!$C$3:$L$48,7,FALSE)","v":{"$error":"#N/A"}},null,null,{"$f":"VLOOKUP(C263,Shakerr!$C$3:$L$46,7,FALSE)","v":{"$error":"#N/A"}},{"$f":"VLOOKUP(C263,VoY!$C$3:$L$46,9,FALSE)","v":{"$error":"#N/A"}},{"$f":"VLOOKUP(C263,Kirkstall!$C$3:$L$46,9,FALSE)","v":{"$error":"#N/A"}},{"$f":"VLOOKUP($C263,City!$C$3:$L$69,9,FALSE)","v":{"$error":"#N/A"}},{"$f":"VLOOKUP(C263,'Guy Fawkes'!$C$3:$N$34,9,FALSE)","v":{"$error":"#N/A"}},{"$f":"VLOOKUP(C263,Abbey!$C$3:$L$48,7,FALSE)","v":{"$error":"#N/A"}},{"$f":"VLOOKUP(C263,Chevin!$C$3:$L$50,7,FALSE)","v":{"$error":"#N/A"}},null,0,0,0,0,0,0,0,0,0,0,0,0,null,0,0,0,0,0,0,0,0,0]
[null,null,"Martin Wilkins","1984-06-14",32,{"$f":"IFERROR(VLOOKUP(C264,'Division Lookup'!$A$2:$D$251,4,FALSE),\"Second\")","v":"Second"},{"$f":"VLOOKUP(C264,Dewsbury!$C$3:$L$46,7,FALSE)","v":{"$error":"#N/A"}},{"$f":"VLOOKUP($C264,Bradford!$C$3:$L$66,7,FALSE)","v":{"$error":"#N/A"}},{"$f":"VLOOKUP($C264,Keighley!$C$3:$N$42,9,FALSE)","v":{"$error":"#N/A"}},{"$f":"VLOOKUP($C264,'Bunny '!$C$3:$N$20,9,FALSE)","v":{"$error":"#N/A"}},{"$f":"VLOOKUP($C264,Liverpool!$C$3:$N$59,9,FALSE)","v":{"$error":"#N/A"}},{"$f":"VLOOKUP(C264,'VoY 10m'!$C$3:$N$40,9,FALSE)","v":{"$error":"#N/A"}},{"$f":"VLOOKUP(C264,Guisley!$C$3:$N$49,9,FALSE)","v":{"$error":"#N/A"}},{"$f":"VLOOKUP(C264,Odda!$C$3:$N$42,9,FALSE)","v":{"$error":"#N/A"}},{"$f":"VLOOKUP(C264,'Leeds half'!$C$4:$N$31,9,FALSE)","v":{"$error":"#N/A"}},{"$f":"VLOOKUP(C264,Ilkley!$C$3:$L$46,7,FALSE)","v":{"$error":"#N/A"}},{"$f":"VLOOKUP(C264,Otley!$C$3:$L$46,9,FALSE)","v":{"$error":"#N/A"}},{"$f":"VLOOKUP(C264,Solstice!$C$3:$L$48,7,FALSE)","v":{"$error":"#N/A"}},null,null,{"$f":"VLOOKUP(C264,Shakerr!$C$3:$L$46,7,FALSE)","v":{"$error":"#N/A"}},{"$f":"VLOOKUP(C264,VoY!$C$3:$L$46,9,FALSE)","v":{"$error":"#N/A"}},{"$f":"VLOOKUP(C264,Kirkstall!$C$3:$L$46,9,FALSE)","v":{"$error":"#N/A"}},{"$f":"VLOOKUP($C264,City!$C$3:$L$69,9,FALSE)","v":{"$error":"#N/A"}},{"$f":"VLOOKUP(C264,'Guy Fawkes'!$C$3:$N$34,9,FALSE)","v":{"$error":"#N/A"}},{"$f":"VLOOKUP(C264,Abbey!$C$3:$L$48,7,FALSE)","v":{"$error":"#N/A"}},{"$f":"VLOOKUP(C264,Chevin!$C$3:$L$50,7,FALSE)","v":{"$error":"#N/A"}},null,0,0,0,0,0,0,0,0,0,0,0,0,null,0,0,0,0,0,0,0,0,0]
[null,null,"Kate Williams","1970-02-17",46,{"$f":"IFERROR(VLOOKUP(C265,'Division Lookup'!$A$2:$D$251,4,FALSE),\"Second\")","v":"Second"},{"$f":"VLOOKUP(C265,Dewsbury!$C$3:$L$46,7,FALSE)","v":{"$error":"#N/A"}},{"$f":"VLOOKUP($C265,Bradford!$C$3:$L$66,7,FALSE)","v":{"$error":"#N/A"}},{"$f":"VLOOKUP($C265,Keighley!$C$3:$N$42,9,FALSE)","v":{"$error":"#N/A"}},{"$f":"VLOOKUP($C265,'Bunny '!$C$3:$N$20,9,FALSE)","v":{"$error":"#N/A"}},{"$f":"VLOOKUP($C265,Liverpool!$C$3:$N$59,9,FALSE)","v":{"$error":"#N/A"}},{"$f":"VLOOKUP(C265,'VoY 10m'!$C$3:$N$40,9,FALSE)","v":{"$error":"#N/A"}},{"$f":"VLOOKUP(C265,Guisley!$C$3:$N$49,9,FALSE)","v":{"$error":"#N/A"}},{"$f":"VLOOKUP(C265,Odda!$C$3:$N$42,9,FALSE)","v":{"$error":"#N/A"}},{"$f":"VLOOKUP(C265,'Leeds half'!$C$4:$N$31,9,FALSE)","v":{"$error":"#N/A"}},{"$f":"VLOOKUP(C265,Ilkley!$C$3:$L$46,7,FALSE)","v":{"$error":"#N/A"}},{"$f":"VLOOKUP(C265,Otley!$C$3:$L$46,9,FALSE)","v":{"$error":"#N/A"}},{"$f":"VLOOKUP(C265,Solstice!$C$3:$L$48,7,FALSE)","v":{"$error":"#N/A"}},null,null,{"$f":"VLOOKUP(C265,Shakerr!$C$3:$L$46,7,FALSE)","v":{"$error":"#N/A"}},{"$f":"VLOOKUP(C265,VoY!$C$3:$L$46,9,FALSE)","v":{"$error":"#N/A"}},{"$f":"VLOOKUP(C265,Kirkstall!$C$3:$L$46,9,FALSE)","v":{"$error":"#N/A"}},{"$f":"VLOOKUP($C265,City!$C$3:$L$69,9,FALSE)","v":{"$error":"#N/A"}},{"$f":"VLOOKUP(C265,'Guy Fawkes'!$C$3:$N$34,9,FALSE)","v":{"$error":"#N/A"}},{"$f":"VLOOKUP(C265,Abbey!$C$3:$L$48,7,FALSE)","v":{"$error":"#N/A"}},{"$f":"VLOOKUP(C265,Chevin!$C$3:$L$50,7,FALSE)","v":{"$error":"#N/A"}},null,0,0,0,0,0,0,0,0,0,0,0,0,null,0,0,0,0,0,0,0,0,0]
[null,null,"Jen Willingham","1978-05-03",38,{"$f":"IFERROR(VLOOKUP(C266,'Division Lookup'!$A$2:$D$251,4,FALSE),\"Second\")","v":"Second"},{"$f":"VLOOKUP(C266,Dewsbury!$C$3:$L$46,7,FALSE)","v":{"$error":"#N/A"}},{"$f":"VLOOKUP($C266,Bradford!$C$3:$L$66,7,FALSE)","v":{"$error":"#N/A"}},{"$f":"VLOOKUP($C266,Keighley!$C$3:$N$42,9,FALSE)","v":{"$error":"#N/A"}},{"$f":"VLOOKUP($C266,'Bunny '!$C$3:$N$20,9,FALSE)","v":{"$error":"#N/A"}},{"$f":"VLOOKUP($C266,Liverpool!$C$3:$N$59,9,FALSE)","v":{"$error":"#N/A"}},{"$f":"VLOOKUP(C266,'VoY 10m'!$C$3:$N$40,9,FALSE)","v":{"$error":"#N/A"}},{"$f":"VLOOKUP(C266,Guisley!$C$3:$N$49,9,FALSE)","v":{"$error":"#N/A"}},{"$f":"VLOOKUP(C266,Odda!$C$3:$N$42,9,FALSE)","v":{"$error":"#N/A"}},{"$f":"VLOOKUP(C266,'Leeds half'!$C$4:$N$31,9,FALSE)","v":{"$error":"#N/A"}},{"$f":"VLOOKUP(C266,Ilkley!$C$3:$L$46,7,FALSE)","v":{"$error":"#N/A"}},{"$f":"VLOOKUP(C266,Otley!$C$3:$L$46,9,FALSE)","v":{"$error":"#N/A"}},{"$f":"VLOOKUP(C266,Solstice!$C$3:$L$48,7,FALSE)","v":{"$error":"#N/A"}},null,null,{"$f":"VLOOKUP(C266,Shakerr!$C$3:$L$46,7,FALSE)","v":{"$error":"#N/A"}},{"$f":"VLOOKUP(C266,VoY!$C$3:$L$46,9,FALSE)","v":{"$error":"#N/A"}},{"$f":"VLOOKUP(C266,Kirkstall!$C$3:$L$46,9,FALSE)","v":{"$error":"#N/A"}},{"$f":"VLOOKUP($C266,City!$C$3:$L$69,9,FALSE)","v":{"$error":"#N/A"}},{"$f":"VLOOKUP(C266,'Guy Fawkes'!$C$3:$N$34,9,FALSE)","v":{"$error":"#N/A"}},{"$f":"VLOOKUP(C266,Abbey!$C$3:$L$48,7,FALSE)","v":{"$error":"#N/A"}},{"$f":"VLOOKUP(C266,Chevin!$C$3:$L$50,7,FALSE)","v":{"$error":"#N/A"}},null,0,0,0,0,0,0,0,0,0,0,0,0,null,0,0,0,0,0,0,0,0,0]
[null,null,"Adam Willoughby","1987-04-06",29,{"$f":"IFERROR(VLOOKUP(C267,'Division Lookup'!$A$2:$D$251,4,FALSE),\"Second\")","v":"Second"},{"$f":"VLOOKUP(C267,Dewsbury!$C$3:$L$46,7,FALSE)","v":{"$error":"#N/A"}},{"$f":"VLOOKUP($C267,Bradford!$C$3:$L$66,7,FALSE)","v":0.64069952305246436},{"$f":"VLOOKUP($C267,Keighley!$C$3:$N$42,9,FALSE)","v":0.63315003927729774},{"$f":"VLOOKUP($C267,'Bunny '!$C$3:$N$20,9,FALSE)","v":{"$error":"#N/A"}},{"$f":"VLOOKUP($C267,Liverpool!$C$3:$N$59,9,FALSE)","v":{"$error":"#N/A"}},{"$f":"VLOOKUP(C267,'VoY 10m'!$C$3:$N$40,9,FALSE)","v":{"$error":"#N/A"}},{"$f":"VLOOKUP(C267,Guisley!$C$3:$N$49,9,FALSE)","v":{"$error":"#N/A"}},{"$f":"VLOOKUP(C267,Odda!$C$3:$N$42,9,FALSE)","v":{"$error":"#N/A"}},{"$f":"VLOOKUP(C267,'Leeds half'!$C$4:$N$31,9,FALSE)","v":{"$error":"#N/A"}},{"$f":"VLOOKUP(C267,Ilkley!$C$3:$L$46,7,FALSE)","v":{"$error":"#N/A"}},{"$f":"VLOOKUP(C267,Otley!$C$3:$L$46,9,FALSE)","v":{"$error":"#N/A"}},{"$f":"VLOOKUP(C267,Solstice!$C$3:$L$48,7,FALSE)","v":0.56832298136645965},null,null,{"$f":"VLOOKUP(C267,Shakerr!$C$3:$L$46,7,FALSE)","v":{"$error":"#N/A"}},{"$f":"VLOOKUP(C267,VoY!$C$3:$L$46,9,FALSE)","v":{"$error":"#N/A"}},{"$f":"VLOOKUP(C267,Kirkstall!$C$3:$L$46,9,FALSE)","v":{"$error":"#N/A"}},{"$f":"VLOOKUP($C267,City!$C$3:$L$69,9,FALSE)","v":0.60899131091802039},{"$f":"VLOOKUP(C267,'Guy Fawkes'!$C$3:$N$34,9,FALSE)","v":{"$error":"#N/A"}},{"$f":"VLOOKUP(C267,Abbey!$C$3:$L$48,7,FALSE)","v":{"$error":"#N/A"}},{"$f":"VLOOKUP(C267,Chevin!$C$3:$L$50,7,FALSE)","v":{"$error":"#N/A"}},null,0,5,2,0,0,0,0,0,0,0,0,2,null,0,0,0,0,1,0,0,0,4]
[null,null,"Nicola Willoughby","1987-07-22",29,{"$f":"IFERROR(VLOOKUP(C268,'Division Lookup'!$A$2:$D$251,4,FALSE),\"Second\")","v":"Second"},{"$f":"VLOOKUP(C268,Dewsbury!$C$3:$L$46,7,FALSE)","v":{"$error":"#N/A"}},{"$f":"VLOOKUP($C268,Bradford!$C$3:$L$66,7,FALSE)","v":0.39991210722918041},{"$f":"VLOOKUP($C268,Keighley!$C$3:$N$42,9,FALSE)","v":{"$error":"#N/A"}},{"$f":"VLOOKUP($C268,'Bunny '!$C$3:$N$20,9,FALSE)","v":{"$error":"#N/A"}},{"$f":"VLOOKUP($C268,Liverpool!$C$3:$N$59,9,FALSE)","v":{"$error":"#N/A"}},{"$f":"VLOOKUP(C268,'VoY 10m'!$C$3:$N$40,9,FALSE)","v":{"$error":"#N/A"}},{"$f":"VLOOKUP(C268,Guisley!$C$3:$N$49,9,FALSE)","v":{"$error":"#N/A"}},{"$f":"VLOOKUP(C268,Odda!$C$3:$N$42,9,FALSE)","v":{"$error":"#N/A"}},{"$f":"VLOOKUP(C268,'Leeds half'!$C$4:$N$31,9,FALSE)","v":{"$error":"#N/A"}},{"$f":"VLOOKUP(C268,Ilkley!$C$3:$L$46,7,FALSE)","v":{"$error":"#N/A"}},{"$f":"VLOOKUP(C268,Otley!$C$3:$L$46,9,FALSE)","v":{"$error":"#N/A"}},{"$f":"VLOOKUP(C268,Solstice!$C$3:$L$48,7,FALSE)","v":{"$error":"#N/A"}},null,null,{"$f":"VLOOKUP(C268,Shakerr!$C$3:$L$46,7,FALSE)","v":{"$error":"#N/A"}},{"$f":"VLOOKUP(C268,VoY!$C$3:$L$46,9,FALSE)","v":{"$error":"#N/A"}},{"$f":"VLOOKUP(C268,Kirkstall!$C$3:$L$46,9,FALSE)","v":{"$error":"#N/A"}},{"$f":"VLOOKUP($C268,City!$C$3:$L$69,9,FALSE)","v":{"$error":"#N/A"}},{"$f":"VLOOKUP(C268,'Guy Fawkes'!$C$3:$N$34,9,FALSE)","v":{"$error":"#N/A"}},{"$f":"VLOOKUP(C268,Abbey!$C$3:$L$48,7,FALSE)","v":{"$error":"#N/A"}},{"$f":"VLOOKUP(C268,Chevin!$C$3:$L$50,7,FALSE)","v":{"$error":"#N/A"}},null,0,25,0,0,0,0,0,0,0,0,0,0,null,0,0,0,0,0,0,0,0,1]
[null,null,"David Wilson","1976-12-14",40,{"$f":"IFERROR(VLOOKUP(C269,'Division Lookup'!$A$2:$D$251,4,FALSE),\"Second\")","v":"Second"},{"$f":"VLOOKUP(C269,Dewsbury!$C$3:$L$46,7,FALSE)","v":{"$error":"#N/A"}},{"$f":"VLOOKUP($C269,Bradford!$C$3:$L$66,7,FALSE)","v":{"$error":"#N/A"}},{"$f":"VLOOKUP($C269,Keighley!$C$3:$N$42,9,FALSE)","v":{"$error":"#N/A"}},{"$f":"VLOOKUP($C269,'Bunny '!$C$3:$N$20,9,FALSE)","v":{"$error":"#N/A"}},{"$f":"VLOOKUP($C269,Liverpool!$C$3:$N$59,9,FALSE)","v":{"$error":"#N/A"}},{"$f":"VLOOKUP(C269,'VoY 10m'!$C$3:$N$40,9,FALSE)","v":{"$error":"#N/A"}},{"$f":"VLOOKUP(C269,Guisley!$C$3:$N$49,9,FALSE)","v":{"$error":"#N/A"}},{"$f":"VLOOKUP(C269,Odda!$C$3:$N$42,9,FALSE)","v":{"$error":"#N/A"}},{"$f":"VLOOKUP(C269,'Leeds half'!$C$4:$N$31,9,FALSE)","v":{"$error":"#N/A"}},{"$f":"VLOOKUP(C269,Ilkley!$C$3:$L$46,7,FALSE)","v":{"$error":"#N/A"}},{"$f":"VLOOKUP(C269,Otley!$C$3:$L$46,9,FALSE)","v":{"$error":"#N/A"}},{"$f":"VLOOKUP(C269,Solstice!$C$3:$L$48,7,FALSE)","v":{"$error":"#N/A"}},null,null,{"$f":"VLOOKUP(C269,Shakerr!$C$3:$L$46,7,FALSE)","v":{"$error":"#N/A"}},{"$f":"VLOOKUP(C269,VoY!$C$3:$L$46,9,FALSE)","v":{"$error":"#N/A"}},{"$f":"VLOOKUP(C269,Kirkstall!$C$3:$L$46,9,FALSE)","v":{"$error":"#N/A"}},{"$f":"VLOOKUP($C269,City!$C$3:$L$69,9,FALSE)","v":{"$error":"#N/A"}},{"$f":"VLOOKUP(C269,'Guy Fawkes'!$C$3:$N$34,9,FALSE)","v":{"$error":"#N/A"}},{"$f":"VLOOKUP(C269,Abbey!$C$3:$L$48,7,FALSE)","v":{"$error":"#N/A"}},{"$f":"VLOOKUP(C269,Chevin!$C$3:$L$50,7,FALSE)","v":{"$error":"#N/A"}},null,0,0,0,0,0,0,0,0,0,0,0,0,null,0,0,0,0,0,0,0,0,0]
[null,null,"Sebastian Wojciechowski","1983-12-19",33,{"$f":"IFERROR(VLOOKUP(C270,'Division Lookup'!$A$2:$D$251,4,FALSE),\"Second\")","v":"Second"},{"$f":"VLOOKUP(C270,Dewsbury!$C$3:$L$46,7,FALSE)","v":{"$error":"#N/A"}},{"$f":"VLOOKUP($C270,Bradford!$C$3:$L$66,7,FALSE)","v":{"$error":"#N/A"}},{"$f":"VLOOKUP($C270,Keighley!$C$3:$N$42,9,FALSE)","v":{"$error":"#N/A"}},{"$f":"VLOOKUP($C270,'Bunny '!$C$3:$N$20,9,FALSE)","v":{"$error":"#N/A"}},{"$f":"VLOOKUP($C270,Liverpool!$C$3:$N$59,9,FALSE)","v":{"$error":"#N/A"}},{"$f":"VLOOKUP(C270,'VoY 10m'!$C$3:$N$40,9,FALSE)","v":{"$error":"#N/A"}},{"$f":"VLOOKUP(C270,Guisley!$C$3:$N$49,9,FALSE)","v":{"$error":"#N/A"}},{"$f":"VLOOKUP(C270,Odda!$C$3:$N$42,9,FALSE)","v":{"$error":"#N/A"}},{"$f":"VLOOKUP(C270,'Leeds half'!$C$4:$N$31,9,FALSE)","v":{"$error":"#N/A"}},{"$f":"VLOOKUP(C270,Ilkley!$C$3:$L$46,7,FALSE)","v":{"$error":"#N/A"}},{"$f":"VLOOKUP(C270,Otley!$C$3:$L$46,9,FALSE)","v":{"$error":"#N/A"}},{"$f":"VLOOKUP(C270,Solstice!$C$3:$L$48,7,FALSE)","v":{"$error":"#N/A"}},null,null,{"$f":"VLOOKUP(C270,Shakerr!$C$3:$L$46,7,FALSE)","v":{"$error":"#N/A"}},{"$f":"VLOOKUP(C270,VoY!$C$3:$L$46,9,FALSE)","v":{"$error":"#N/A"}},{"$f":"VLOOKUP(C270,Kirkstall!$C$3:$L$46,9,FALSE)","v":{"$error":"#N/A"}},{"$f":"VLOOKUP($C270,City!$C$3:$L$69,9,FALSE)","v":{"$error":"#N/A"}},{"$f":"VLOOKUP(C270,'Guy Fawkes'!$C$3:$N$34,9,FALSE)","v":{"$error":"#N/A"}},{"$f":"VLOOKUP(C270,Abbey!$C$3:$L$48,7,FALSE)","v":{"$error":"#N/A"}},{"$f":"VLOOKUP(C270,Chevin!$C$3:$L$50,7,FALSE)","v":{"$error":"#N/A"}},null,0,0,0,0,0,0,0,0,0,0,0,0,null,0,0,0,0,0,0,0,0,0]
[null,null,"Kerry Wood","1975-05-29",41,{"$f":"IFERROR(VLOOKUP(C271,'Division Lookup'!$A$2:$D$251,4,FALSE),\"Second\")","v":"Second"},{"$f":"VLOOKUP(C271,Dewsbury!$C$3:$L$46,7,FALSE)","v":{"$error":"#N/A"}},{"$f":"VLOOKUP($C271,Bradford!$C$3:$L$66,7,FALSE)","v":{"$error":"#N/A"}},{"$f":"VLOOKUP($C271,Keighley!$C$3:$N$42,9,FALSE)","v":{"$error":"#N/A"}},{"$f":"VLOOKUP($C271,'Bunny '!$C$3:$N$20,9,FALSE)","v":{"$error":"#N/A"}},{"$f":"VLOOKUP($C271,Liverpool!$C$3:$N$59,9,FALSE)","v":0.57910321489001682},{"$f":"VLOOKUP(C271,'VoY 10m'!$C$3:$N$40,9,FALSE)","v":{"$error":"#N/A"}},{"$f":"VLOOKUP(C271,Guisley!$C$3:$N$49,9,FALSE)","v":{"$error":"#N/A"}},{"$f":"VLOOKUP(C271,Odda!$C$3:$N$42,9,FALSE)","v":{"$error":"#N/A"}},{"$f":"VLOOKUP(C271,'Leeds half'!$C$4:$N$31,9,FALSE)","v":{"$error":"#N/A"}},{"$f":"VLOOKUP(C271,Ilkley!$C$3:$L$46,7,FALSE)","v":{"$error":"#N/A"}},{"$f":"VLOOKUP(C271,Otley!$C$3:$L$46,9,FALSE)","v":{"$error":"#N/A"}},{"$f":"VLOOKUP(C271,Solstice!$C$3:$L$48,7,FALSE)","v":0.52231061916291943},null,null,{"$f":"VLOOKUP(C271,Shakerr!$C$3:$L$46,7,FALSE)","v":{"$error":"#N/A"}},{"$f":"VLOOKUP(C271,VoY!$C$3:$L$46,9,FALSE)","v":{"$error":"#N/A"}},{"$f":"VLOOKUP(C271,Kirkstall!$C$3:$L$46,9,FALSE)","v":{"$error":"#N/A"}},{"$f":"VLOOKUP($C271,City!$C$3:$L$69,9,FALSE)","v":{"$error":"#N/A"}},{"$f":"VLOOKUP(C271,'Guy Fawkes'!$C$3:$N$34,9,FALSE)","v":{"$error":"#N/A"}},{"$f":"VLOOKUP(C271,Abbey!$C$3:$L$48,7,FALSE)","v":{"$error":"#N/A"}},{"$f":"VLOOKUP(C271,Chevin!$C$3:$L$50,7,FALSE)","v":{"$error":"#N/A"}},null,0,0,0,0,8,0,0,0,0,0,0,6,null,0,0,0,0,0,0,0,0,2]
[null,null,"Charlotte Woollard","1979-02-08",37,{"$f":"IFERROR(VLOOKUP(C272,'Division Lookup'!$A$2:$D$251,4,FALSE),\"Second\")","v":"Second"},{"$f":"VLOOKUP(C272,Dewsbury!$C$3:$L$46,7,FALSE)","v":{"$error":"#N/A"}},{"$f":"VLOOKUP($C272,Bradford!$C$3:$L$66,7,FALSE)","v":{"$error":"#N/A"}},{"$f":"VLOOKUP($C272,Keighley!$C$3:$N$42,9,FALSE)","v":{"$error":"#N/A"}},{"$f":"VLOOKUP($C272,'Bunny '!$C$3:$N$20,9,FALSE)","v":{"$error":"#N/A"}},{"$f":"VLOOKUP($C272,Liverpool!$C$3:$N$59,9,FALSE)","v":{"$error":"#N/A"}},{"$f":"VLOOKUP(C272,'VoY 10m'!$C$3:$N$40,9,FALSE)","v":{"$error":"#N/A"}},{"$f":"VLOOKUP(C272,Guisley!$C$3:$N$49,9,FALSE)","v":{"$error":"#N/A"}},{"$f":"VLOOKUP(C272,Odda!$C$3:$N$42,9,FALSE)","v":{"$error":"#N/A"}},{"$f":"VLOOKUP(C272,'Leeds half'!$C$4:$N$31,9,FALSE)","v":{"$error":"#N/A"}},{"$f":"VLOOKUP(C272,Ilkley!$C$3:$L$46,7,FALSE)","v":{"$error":"#N/A"}},{"$f":"VLOOKUP(C272,Otley!$C$3:$L$46,9,FALSE)","v":{"$error":"#N/A"}},{"$f":"VLOOKUP(C272,Solstice!$C$3:$L$48,7,FALSE)","v":{"$error":"#N/A"}},null,null,{"$f":"VLOOKUP(C272,Shakerr!$C$3:$L$46,7,FALSE)","v":{"$error":"#N/A"}},{"$f":"VLOOKUP(C272,VoY!$C$3:$L$46,9,FALSE)","v":{"$error":"#N/A"}},{"$f":"VLOOKUP(C272,Kirkstall!$C$3:$L$46,9,FALSE)","v":{"$error":"#N/A"}},{"$f":"VLOOKUP($C272,City!$C$3:$L$69,9,FALSE)","v":{"$error":"#N/A"}},{"$f":"VLOOKUP(C272,'Guy Fawkes'!$C$3:$N$34,9,FALSE)","v":{"$error":"#N/A"}},{"$f":"VLOOKUP(C272,Abbey!$C$3:$L$48,7,FALSE)","v":{"$error":"#N/A"}},{"$f":"VLOOKUP(C272,Chevin!$C$3:$L$50,7,FALSE)","v":{"$error":"#N/A"}},null,0,0,0,0,0,0,0,0,0,0,0,0,null,0,0,0,0,0,0,0,0,0]
[null,null,"Jeremy Wright",null,117,{"$f":"IFERROR(VLOOKUP(C273,'Division Lookup'!$A$2:$D$251,4,FALSE),\"Second\")","v":"First"},{"$f":"VLOOKUP(C273,Dewsbury!$C$3:$L$46,7,FALSE)","v":{"$error":"#N/A"}},{"$f":"VLOOKUP($C273,Bradford!$C$3:$L$66,7,FALSE)","v":{"$error":"#N/A"}},{"$f":"VLOOKUP($C273,Keighley!$C$3:$N$42,9,FALSE)","v":{"$error":"#N/A"}},{"$f":"VLOOKUP($C273,'Bunny '!$C$3:$N$20,9,FALSE)","v":{"$error":"#N/A"}},{"$f":"VLOOKUP($C273,Liverpool!$C$3:$N$59,9,FALSE)","v":{"$error":"#N/A"}},{"$f":"VLOOKUP(C273,'VoY 10m'!$C$3:$N$40,9,FALSE)","v":{"$error":"#N/A"}},{"$f":"VLOOKUP(C273,Guisley!$C$3:$N$49,9,FALSE)","v":{"$error":"#N/A"}},{"$f":"VLOOKUP(C273,Odda!$C$3:$N$42,9,FALSE)","v":{"$error":"#N/A"}},{"$f":"VLOOKUP(C273,'Leeds half'!$C$4:$N$31,9,FALSE)","v":{"$error":"#N/A"}},{"$f":"VLOOKUP(C273,Ilkley!$C$3:$L$46,7,FALSE)","v":{"$error":"#N/A"}},{"$f":"VLOOKUP(C273,Otley!$C$3:$L$46,9,FALSE)","v":{"$error":"#N/A"}},{"$f":"VLOOKUP(C273,Solstice!$C$3:$L$48,7,FALSE)","v":{"$error":"#N/A"}},null,null,{"$f":"VLOOKUP(C273,Shakerr!$C$3:$L$46,7,FALSE)","v":0.50584795321637421},{"$f":"VLOOKUP(C273,VoY!$C$3:$L$46,9,FALSE)","v":{"$error":"#N/A"}},{"$f":"VLOOKUP(C273,Kirkstall!$C$3:$L$46,9,FALSE)","v":{"$error":"#N/A"}},{"$f":"VLOOKUP($C273,City!$C$3:$L$69,9,FALSE)","v":{"$error":"#N/A"}},{"$f":"VLOOKUP(C273,'Guy Fawkes'!$C$3:$N$34,9,FALSE)","v":{"$error":"#N/A"}},{"$f":"VLOOKUP(C273,Abbey!$C$3:$L$48,7,FALSE)","v":{"$error":"#N/A"}},{"$f":"VLOOKUP(C273,Chevin!$C$3:$L$50,7,FALSE)","v":{"$error":"#N/A"}},null,0,0,0,0,0,0,0,0,0,0,0,0,null,0,2,0,0,0,0,0,0,1]
[null,null,"Kamil Zakowski","1989-07-25",27,{"$f":"IFERROR(VLOOKUP(C274,'Division Lookup'!$A$2:$D$251,4,FALSE),\"Second\")","v":"First"},{"$f":"VLOOKUP(C274,Dewsbury!$C$3:$L$46,7,FALSE)","v":{"$error":"#N/A"}},{"$f":"VLOOKUP($C274,Bradford!$C$3:$L$66,7,FALSE)","v":0.54444068942210211},{"$f":"VLOOKUP($C274,Keighley!$C$3:$N$42,9,FALSE)","v":{"$error":"#N/A"}},{"$f":"VLOOKUP($C274,'Bunny '!$C$3:$N$20,9,FALSE)","v":{"$error":"#N/A"}},{"$f":"VLOOKUP($C274,Liverpool!$C$3:$N$59,9,FALSE)","v":{"$error":"#N/A"}},{"$f":"VLOOKUP(C274,'VoY 10m'!$C$3:$N$40,9,FALSE)","v":{"$error":"#N/A"}},{"$f":"VLOOKUP(C274,Guisley!$C$3:$N$49,9,FALSE)","v":{"$error":"#N/A"}},{"$f":"VLOOKUP(C274,Odda!$C$3:$N$42,9,FALSE)","v":{"$error":"#N/A"}},{"$f":"VLOOKUP(C274,'Leeds half'!$C$4:$N$31,9,FALSE)","v":{"$error":"#N/A"}},{"$f":"VLOOKUP(C274,Ilkley!$C$3:$L$46,7,FALSE)","v":{"$error":"#N/A"}},{"$f":"VLOOKUP(C274,Otley!$C$3:$L$46,9,FALSE)","v":{"$error":"#N/A"}},{"$f":"VLOOKUP(C274,Solstice!$C$3:$L$48,7,FALSE)","v":{"$error":"#N/A"}},null,null,{"$f":"VLOOKUP(C274,Shakerr!$C$3:$L$46,7,FALSE)","v":{"$error":"#N/A"}},{"$f":"VLOOKUP(C274,VoY!$C$3:$L$46,9,FALSE)","v":0.50786163522012584},{"$f":"VLOOKUP(C274,Kirkstall!$C$3:$L$46,9,FALSE)","v":{"$error":"#N/A"}},{"$f":"VLOOKUP($C274,City!$C$3:$L$69,9,FALSE)","v":{"$error":"#N/A"}},{"$f":"VLOOKUP(C274,'Guy Fawkes'!$C$3:$N$34,9,FALSE)","v":{"$error":"#N/A"}},{"$f":"VLOOKUP(C274,Abbey!$C$3:$L$48,7,FALSE)","v":{"$error":"#N/A"}},{"$f":"VLOOKUP(C274,Chevin!$C$3:$L$50,7,FALSE)","v":{"$error":"#N/A"}},null,0,11,0,0,0,0,0,0,0,0,0,0,null,0,0,4,0,0,0,0,0,2]
[null,null,{"$f":"A275&\" \"&B275","v":" "},null,null,null,{"$f":"VLOOKUP(C275,Dewsbury!$C$3:$L$46,7,FALSE)","v":{"$error":"#N/A"}},{"$f":"VLOOKUP($C275,Bradford!$C$3:$L$66,7,FALSE)","v":{"$error":"#N/A"}},{"$f":"VLOOKUP($C275,Keighley!$C$3:$N$42,9,FALSE)","v":{"$error":"#N/A"}},{"$f":"VLOOKUP($C275,'Bunny '!$C$3:$N$20,9,FALSE)","v":{"$error":"#N/A"}},{"$f":"VLOOKUP($C275,Liverpool!$C$3:$N$59,9,FALSE)","v":{"$error":"#N/A"}},{"$f":"VLOOKUP(C275,'VoY 10m'!$C$3:$N$40,9,FALSE)","v":{"$error":"#N/A"}},{"$f":"VLOOKUP(C275,Guisley!$C$3:$N$49,9,FALSE)","v":{"$error":"#N/A"}},{"$f":"VLOOKUP(C275,Odda!$C$3:$N$42,9,FALSE)","v":{"$error":"#N/A"}},{"$f":"VLOOKUP(C275,'Leeds half'!$C$4:$N$31,9,FALSE)","v":{"$error":"#N/A"}},{"$f":"VLOOKUP(C275,Ilkley!$C$3:$L$46,7,FALSE)","v":{"$error":"#N/A"}},{"$f":"VLOOKUP(C275,Otley!$C$3:$L$46,9,FALSE)","v":{"$error":"#N/A"}},{"$f":"VLOOKUP(C275,Solstice!$C$3:$L$48,7,FALSE)","v":{"$error":"#N/A"}},null,null,{"$f":"VLOOKUP(C275,Shakerr!$C$3:$L$46,7,FALSE)","v":{"$error":"#N/A"}},{"$f":"VLOOKUP(C275,VoY!$C$3:$L$46,9,FALSE)","v":{"$error":"#N/A"}},{"$f":"VLOOKUP(C275,Kirkstall!$C$3:$L$46,9,FALSE)","v":{"$error":"#N/A"}},{"$f":"VLOOKUP($C275,City!$C$3:$L$69,9,FALSE)","v":{"$error":"#N/A"}},{"$f":"VLOOKUP(C275,'Guy Fawkes'!$C$3:$N$34,9,FALSE)","v":{"$error":"#N/A"}},{"$f":"VLOOKUP(C275,Abbey!$C$3:$L$48,7,FALSE)","v":{"$error":"#N/A"}},{"$f":"VLOOKUP(C275,Chevin!$C$3:$L$50,7,FALSE)","v":{"$error":"#N/A"}},null,0,0,0,0,0,0,0,0,0,0,0,0,null,0,0,0,0,0,0,0,0,0]
[null,null," ",null,null,null,{"$f":"VLOOKUP(C276,Dewsbury!$C$3:$L$46,7,FALSE)","v":{"$error":"#N/A"}},{"$f":"VLOOKUP($C276,Bradford!$C$3:$L$66,7,FALSE)","v":{"$error":"#N/A"}},{"$f":"VLOOKUP($C276,Keighley!$C$3:$N$42,9,FALSE)","v":{"$error":"#N/A"}},{"$f":"VLOOKUP($C276,'Bunny '!$C$3:$N$20,9,FALSE)","v":{"$error":"#N/A"}},{"$f":"VLOOKUP($C276,Liverpool!$C$3:$N$59,9,FALSE)","v":{"$error":"#N/A"}},{"$f":"VLOOKUP(C276,'VoY 10m'!$C$3:$N$40,9,FALSE)","v":{"$error":"#N/A"}},{"$f":"VLOOKUP(C276,Guisley!$C$3:$N$49,9,FALSE)","v":{"$error":"#N/A"}},{"$f":"VLOOKUP(C276,Odda!$C$3:$N$42,9,FALSE)","v":{"$error":"#N/A"}},{"$f":"VLOOKUP(C276,'Leeds half'!$C$4:$N$31,9,FALSE)","v":{"$error":"#N/A"}},{"$f":"VLOOKUP(C276,Ilkley!$C$3:$L$46,7,FALSE)","v":{"$error":"#N/A"}},{"$f":"VLOOKUP(C276,Otley!$C$3:$L$46,9,FALSE)","v":{"$error":"#N/A"}},{"$f":"VLOOKUP(C276,Solstice!$C$3:$L$48,7,FALSE)","v":{"$error":"#N/A"}},null,null,{"$f":"VLOOKUP(C276,Shakerr!$C$3:$L$46,7,FALSE)","v":{"$error":"#N/A"}},{"$f":"VLOOKUP(C276,VoY!$C$3:$L$46,9,FALSE)","v":{"$error":"#N/A"}},{"$f":"VLOOKUP(C276,Kirkstall!$C$3:$L$46,9,FALSE)","v":{"$error":"#N/A"}},{"$f":"VLOOKUP($C276,City!$C$3:$L$69,9,FALSE)","v":{"$error":"#N/A"}},{"$f":"VLOOKUP(C276,'Guy Fawkes'!$C$3:$N$34,9,FALSE)","v":{"$error":"#N/A"}},{"$f":"VLOOKUP(C276,Abbey!$C$3:$L$48,7,FALSE)","v":{"$error":"#N/A"}},{"$f":"VLOOKUP(C276,Chevin!$C$3:$L$50,7,FALSE)","v":{"$error":"#N/A"}},null,0,0,0,0,0,0,0,0,0,0,0,0,null,0,0,0,0,0,0,0,0,0]
[null,null," ",null,null,null,{"$f":"VLOOKUP(C277,Dewsbury!$C$3:$L$46,7,FALSE)","v":{"$error":"#N/A"}},{"$f":"VLOOKUP($C277,Bradford!$C$3:$L$66,7,FALSE)","v":{"$error":"#N/A"}},{"$f":"VLOOKUP($C277,Keighley!$C$3:$N$42,9,FALSE)","v":{"$error":"#N/A"}},{"$f":"VLOOKUP($C277,'Bunny '!$C$3:$N$20,9,FALSE)","v":{"$error":"#N/A"}},{"$f":"VLOOKUP($C277,Liverpool!$C$3:$N$59,9,FALSE)","v":{"$error":"#N/A"}},{"$f":"VLOOKUP(C277,'VoY 10m'!$C$3:$N$40,9,FALSE)","v":{"$error":"#N/A"}},{"$f":"VLOOKUP(C277,Guisley!$C$3:$N$49,9,FALSE)","v":{"$error":"#N/A"}},{"$f":"VLOOKUP(C277,Odda!$C$3:$N$42,9,FALSE)","v":{"$error":"#N/A"}},{"$f":"VLOOKUP(C277,'Leeds half'!$C$4:$N$31,9,FALSE)","v":{"$error":"#N/A"}},{"$f":"VLOOKUP(C277,Ilkley!$C$3:$L$46,7,FALSE)","v":{"$error":"#N/A"}},{"$f":"VLOOKUP(C277,Otley!$C$3:$L$46,9,FALSE)","v":{"$error":"#N/A"}},{"$f":"VLOOKUP(C277,Solstice!$C$3:$L$48,7,FALSE)","v":{"$error":"#N/A"}},null,null,{"$f":"VLOOKUP(C277,Shakerr!$C$3:$L$46,7,FALSE)","v":{"$error":"#N/A"}},{"$f":"VLOOKUP(C277,VoY!$C$3:$L$46,9,FALSE)","v":{"$error":"#N/A"}},{"$f":"VLOOKUP(C277,Kirkstall!$C$3:$L$46,9,FALSE)","v":{"$error":"#N/A"}},{"$f":"VLOOKUP($C277,City!$C$3:$L$69,9,FALSE)","v":{"$error":"#N/A"}},{"$f":"VLOOKUP(C277,'Guy Fawkes'!$C$3:$N$34,9,FALSE)","v":{"$error":"#N/A"}},{"$f":"VLOOKUP(C277,Abbey!$C$3:$L$48,7,FALSE)","v":{"$error":"#N/A"}},{"$f":"VLOOKUP(C277,Chevin!$C$3:$L$50,7,FALSE)","v":{"$error":"#N/A"}},null,0,0,0,0,0,0,0,0,0,0,0,0,null,0,0,0,0,0,0,0,0,0]
[null,null," ",null,null,null,{"$f":"VLOOKUP(C278,Dewsbury!$C$3:$L$46,7,FALSE)","v":{"$error":"#N/A"}},{"$f":"VLOOKUP($C278,Bradford!$C$3:$L$66,7,FALSE)","v":{"$error":"#N/A"}},{"$f":"VLOOKUP($C278,Keighley!$C$3:$N$42,9,FALSE)","v":{"$error":"#N/A"}},{"$f":"VLOOKUP($C278,'Bunny '!$C$3:$N$20,9,FALSE)","v":{"$error":"#N/A"}},{"$f":"VLOOKUP($C278,Liverpool!$C$3:$N$59,9,FALSE)","v":{"$error":"#N/A"}},{"$f":"VLOOKUP(C278,'VoY 10m'!$C$3:$N$40,9,FALSE)","v":{"$error":"#N/A"}},{"$f":"VLOOKUP(C278,Guisley!$C$3:$N$49,9,FALSE)","v":{"$error":"#N/A"}},{"$f":"VLOOKUP(C278,Odda!$C$3:$N$42,9,FALSE)","v":{"$error":"#N/A"}},{"$f":"VLOOKUP(C278,'Leeds half'!$C$4:$N$31,9,FALSE)","v":{"$error":"#N/A"}},{"$f":"VLOOKUP(C278,Ilkley!$C$3:$L$46,7,FALSE)","v":{"$error":"#N/A"}},{"$f":"VLOOKUP(C278,Otley!$C$3:$L$46,9,FALSE)","v":{"$error":"#N/A"}},{"$f":"VLOOKUP(C278,Solstice!$C$3:$L$48,7,FALSE)","v":{"$error":"#N/A"}},null,null,{"$f":"VLOOKUP(C278,Shakerr!$C$3:$L$46,7,FALSE)","v":{"$error":"#N/A"}},{"$f":"VLOOKUP(C278,VoY!$C$3:$L$46,9,FALSE)","v":{"$error":"#N/A"}},{"$f":"VLOOKUP(C278,Kirkstall!$C$3:$L$46,9,FALSE)","v":{"$error":"#N/A"}},{"$f":"VLOOKUP($C278,City!$C$3:$L$69,9,FALSE)","v":{"$error":"#N/A"}},{"$f":"VLOOKUP(C278,'Guy Fawkes'!$C$3:$N$34,9,FALSE)","v":{"$error":"#N/A"}},{"$f":"VLOOKUP(C278,Abbey!$C$3:$L$48,7,FALSE)","v":{"$error":"#N/A"}},{"$f":"VLOOKUP(C278,Chevin!$C$3:$L$50,7,FALSE)","v":{"$error":"#N/A"}},null,0,0,0,0,0,0,0,0,0,0,0,0,null,0,0,0,0,0,0,0,0,0]
[null,null," ",null,null,null,{"$f":"VLOOKUP(C279,Dewsbury!$C$3:$L$46,7,FALSE)","v":{"$error":"#N/A"}},{"$f":"VLOOKUP($C279,Bradford!$C$3:$L$66,7,FALSE)","v":{"$error":"#N/A"}},{"$f":"VLOOKUP($C279,Keighley!$C$3:$N$42,9,FALSE)","v":{"$error":"#N/A"}},{"$f":"VLOOKUP($C279,'Bunny '!$C$3:$N$20,9,FALSE)","v":{"$error":"#N/A"}},{"$f":"VLOOKUP($C279,Liverpool!$C$3:$N$59,9,FALSE)","v":{"$error":"#N/A"}},{"$f":"VLOOKUP(C279,'VoY 10m'!$C$3:$N$40,9,FALSE)","v":{"$error":"#N/A"}},{"$f":"VLOOKUP(C279,Guisley!$C$3:$N$49,9,FALSE)","v":{"$error":"#N/A"}},{"$f":"VLOOKUP(C279,Odda!$C$3:$N$42,9,FALSE)","v":{"$error":"#N/A"}},{"$f":"VLOOKUP(C279,'Leeds half'!$C$4:$N$31,9,FALSE)","v":{"$error":"#N/A"}},{"$f":"VLOOKUP(C279,Ilkley!$C$3:$L$46,7,FALSE)","v":{"$error":"#N/A"}},{"$f":"VLOOKUP(C279,Otley!$C$3:$L$46,9,FALSE)","v":{"$error":"#N/A"}},{"$f":"VLOOKUP(C279,Solstice!$C$3:$L$48,7,FALSE)","v":{"$error":"#N/A"}},null,null,{"$f":"VLOOKUP(C279,Shakerr!$C$3:$L$46,7,FALSE)","v":{"$error":"#N/A"}},{"$f":"VLOOKUP(C279,VoY!$C$3:$L$46,9,FALSE)","v":{"$error":"#N/A"}},{"$f":"VLOOKUP(C279,Kirkstall!$C$3:$L$46,9,FALSE)","v":{"$error":"#N/A"}},{"$f":"VLOOKUP($C279,City!$C$3:$L$69,9,FALSE)","v":{"$error":"#N/A"}},{"$f":"VLOOKUP(C279,'Guy Fawkes'!$C$3:$N$34,9,FALSE)","v":{"$error":"#N/A"}},{"$f":"VLOOKUP(C279,Abbey!$C$3:$L$48,7,FALSE)","v":{"$error":"#N/A"}},{"$f":"VLOOKUP(C279,Chevin!$C$3:$L$50,7,FALSE)","v":{"$error":"#N/A"}},null,0,0,0,0,0,0,0,0,0,0,0,0,null,0,0,0,0,0,0,0,0,0]
[null,null," ",null,null,null,{"$f":"VLOOKUP(C280,Dewsbury!$C$3:$L$46,7,FALSE)","v":{"$error":"#N/A"}},{"$f":"VLOOKUP($C280,Bradford!$C$3:$L$66,7,FALSE)","v":{"$error":"#N/A"}},{"$f":"VLOOKUP($C280,Keighley!$C$3:$N$42,9,FALSE)","v":{"$error":"#N/A"}},{"$f":"VLOOKUP($C280,'Bunny '!$C$3:$N$20,9,FALSE)","v":{"$error":"#N/A"}},{"$f":"VLOOKUP($C280,Liverpool!$C$3:$N$59,9,FALSE)","v":{"$error":"#N/A"}},{"$f":"VLOOKUP(C280,'VoY 10m'!$C$3:$N$40,9,FALSE)","v":{"$error":"#N/A"}},{"$f":"VLOOKUP(C280,Guisley!$C$3:$N$49,9,FALSE)","v":{"$error":"#N/A"}},{"$f":"VLOOKUP(C280,Odda!$C$3:$N$42,9,FALSE)","v":{"$error":"#N/A"}},{"$f":"VLOOKUP(C280,'Leeds half'!$C$4:$N$31,9,FALSE)","v":{"$error":"#N/A"}},{"$f":"VLOOKUP(C280,Ilkley!$C$3:$L$46,7,FALSE)","v":{"$error":"#N/A"}},{"$f":"VLOOKUP(C280,Otley!$C$3:$L$46,9,FALSE)","v":{"$error":"#N/A"}},{"$f":"VLOOKUP(C280,Solstice!$C$3:$L$48,7,FALSE)","v":{"$error":"#N/A"}},null,null,{"$f":"VLOOKUP(C280,Shakerr!$C$3:$L$46,7,FALSE)","v":{"$error":"#N/A"}},{"$f":"VLOOKUP(C280,VoY!$C$3:$L$46,9,FALSE)","v":{"$error":"#N/A"}},{"$f":"VLOOKUP(C280,Kirkstall!$C$3:$L$46,9,FALSE)","v":{"$error":"#N/A"}},{"$f":"VLOOKUP($C280,City!$C$3:$L$69,9,FALSE)","v":{"$error":"#N/A"}},{"$f":"VLOOKUP(C280,'Guy Fawkes'!$C$3:$N$34,9,FALSE)","v":{"$error":"#N/A"}},{"$f":"VLOOKUP(C280,Abbey!$C$3:$L$48,7,FALSE)","v":{"$error":"#N/A"}},{"$f":"VLOOKUP(C280,Chevin!$C$3:$L$50,7,FALSE)","v":{"$error":"#N/A"}},null,0,0,0,0,0,0,0,0,0,0,0,0,null,0,0,0,0,0,0,0,0,0]
[null,null,{"$f":"A281&\" \"&B281","v":" "},null,null,null,{"$f":"VLOOKUP(C281,Dewsbury!$C$3:$L$46,7,FALSE)","v":{"$error":"#N/A"}},{"$f":"VLOOKUP($C281,Bradford!$C$3:$L$66,7,FALSE)","v":{"$error":"#N/A"}},{"$f":"VLOOKUP($C281,Keighley!$C$3:$N$42,9,FALSE)","v":{"$error":"#N/A"}},{"$f":"VLOOKUP($C281,'Bunny '!$C$3:$N$20,9,FALSE)","v":{"$error":"#N/A"}},{"$f":"VLOOKUP($C281,Liverpool!$C$3:$N$59,9,FALSE)","v":{"$error":"#N/A"}},{"$f":"VLOOKUP(C281,'VoY 10m'!$C$3:$N$40,9,FALSE)","v":{"$error":"#N/A"}},{"$f":"VLOOKUP(C281,Guisley!$C$3:$N$49,9,FALSE)","v":{"$error":"#N/A"}},{"$f":"VLOOKUP(C281,Odda!$C$3:$N$42,9,FALSE)","v":{"$error":"#N/A"}},{"$f":"VLOOKUP(C281,'Leeds half'!$C$4:$N$31,9,FALSE)","v":{"$error":"#N/A"}},{"$f":"VLOOKUP(C281,Ilkley!$C$3:$L$46,7,FALSE)","v":{"$error":"#N/A"}},{"$f":"VLOOKUP(C281,Otley!$C$3:$L$46,9,FALSE)","v":{"$error":"#N/A"}},{"$f":"VLOOKUP(C281,Solstice!$C$3:$L$48,7,FALSE)","v":{"$error":"#N/A"}},null,null,{"$f":"VLOOKUP(C281,Shakerr!$C$3:$L$46,7,FALSE)","v":{"$error":"#N/A"}},{"$f":"VLOOKUP(C281,VoY!$C$3:$L$46,9,FALSE)","v":{"$error":"#N/A"}},{"$f":"VLOOKUP(C281,Kirkstall!$C$3:$L$46,9,FALSE)","v":{"$error":"#N/A"}},{"$f":"VLOOKUP($C281,City!$C$3:$L$69,9,FALSE)","v":{"$error":"#N/A"}},{"$f":"VLOOKUP(C281,'Guy Fawkes'!$C$3:$N$34,9,FALSE)","v":{"$error":"#N/A"}},{"$f":"VLOOKUP(C281,Abbey!$C$3:$L$48,7,FALSE)","v":{"$error":"#N/A"}},{"$f":"VLOOKUP(C281,Chevin!$C$3:$L$50,7,FALSE)","v":{"$error":"#N/A"}},null,0,0,0,0,0,0,0,0,0,0,0,0,null,0,0,0,0,0,0,0,0,0]
[null,null," ",null,null,null,{"$f":"VLOOKUP(C282,Dewsbury!$C$3:$L$46,7,FALSE)","v":{"$error":"#N/A"}},{"$f":"VLOOKUP($C282,Bradford!$C$3:$L$66,7,FALSE)","v":{"$error":"#N/A"}},{"$f":"VLOOKUP($C282,Keighley!$C$3:$N$42,9,FALSE)","v":{"$error":"#N/A"}},{"$f":"VLOOKUP($C282,'Bunny '!$C$3:$N$20,9,FALSE)","v":{"$error":"#N/A"}},{"$f":"VLOOKUP($C282,Liverpool!$C$3:$N$59,9,FALSE)","v":{"$error":"#N/A"}},{"$f":"VLOOKUP(C282,'VoY 10m'!$C$3:$N$40,9,FALSE)","v":{"$error":"#N/A"}},{"$f":"VLOOKUP(C282,Guisley!$C$3:$N$49,9,FALSE)","v":{"$error":"#N/A"}},{"$f":"VLOOKUP(C282,Odda!$C$3:$N$42,9,FALSE)","v":{"$error":"#N/A"}},{"$f":"VLOOKUP(C282,'Leeds half'!$C$4:$N$31,9,FALSE)","v":{"$error":"#N/A"}},{"$f":"VLOOKUP(C282,Ilkley!$C$3:$L$46,7,FALSE)","v":{"$error":"#N/A"}},{"$f":"VLOOKUP(C282,Otley!$C$3:$L$46,9,FALSE)","v":{"$error":"#N/A"}},{"$f":"VLOOKUP(C282,Solstice!$C$3:$L$48,7,FALSE)","v":{"$error":"#N/A"}},null,null,{"$f":"VLOOKUP(C282,Shakerr!$C$3:$L$46,7,FALSE)","v":{"$error":"#N/A"}},{"$f":"VLOOKUP(C282,VoY!$C$3:$L$46,9,FALSE)","v":{"$error":"#N/A"}},{"$f":"VLOOKUP(C282,Kirkstall!$C$3:$L$46,9,FALSE)","v":{"$error":"#N/A"}},{"$f":"VLOOKUP($C282,City!$C$3:$L$69,9,FALSE)","v":{"$error":"#N/A"}},{"$f":"VLOOKUP(C282,'Guy Fawkes'!$C$3:$N$34,9,FALSE)","v":{"$error":"#N/A"}},{"$f":"VLOOKUP(C282,Abbey!$C$3:$L$48,7,FALSE)","v":{"$error":"#N/A"}},{"$f":"VLOOKUP(C282,Chevin!$C$3:$L$50,7,FALSE)","v":{"$error":"#N/A"}},null,0,0,0,0,0,0,0,0,0,0,0,0,null,0,0,0,0,0,0,0,0,0]
[null,null," ",null,null,null,{"$f":"VLOOKUP(C283,Dewsbury!$C$3:$L$46,7,FALSE)","v":{"$error":"#N/A"}},{"$f":"VLOOKUP($C283,Bradford!$C$3:$L$66,7,FALSE)","v":{"$error":"#N/A"}},{"$f":"VLOOKUP($C283,Keighley!$C$3:$N$42,9,FALSE)","v":{"$error":"#N/A"}},{"$f":"VLOOKUP($C283,'Bunny '!$C$3:$N$20,9,FALSE)","v":{"$error":"#N/A"}},{"$f":"VLOOKUP($C283,Liverpool!$C$3:$N$59,9,FALSE)","v":{"$error":"#N/A"}},{"$f":"VLOOKUP(C283,'VoY 10m'!$C$3:$N$40,9,FALSE)","v":{"$error":"#N/A"}},{"$f":"VLOOKUP(C283,Guisley!$C$3:$N$49,9,FALSE)","v":{"$error":"#N/A"}},{"$f":"VLOOKUP(C283,Odda!$C$3:$N$42,9,FALSE)","v":{"$error":"#N/A"}},{"$f":"VLOOKUP(C283,'Leeds half'!$C$4:$N$31,9,FALSE)","v":{"$error":"#N/A"}},{"$f":"VLOOKUP(C283,Ilkley!$C$3:$L$46,7,FALSE)","v":{"$error":"#N/A"}},{"$f":"VLOOKUP(C283,Otley!$C$3:$L$46,9,FALSE)","v":{"$error":"#N/A"}},{"$f":"VLOOKUP(C283,Solstice!$C$3:$L$48,7,FALSE)","v":{"$error":"#N/A"}},null,null,{"$f":"VLOOKUP(C283,Shakerr!$C$3:$L$46,7,FALSE)","v":{"$error":"#N/A"}},{"$f":"VLOOKUP(C283,VoY!$C$3:$L$46,9,FALSE)","v":{"$error":"#N/A"}},{"$f":"VLOOKUP(C283,Kirkstall!$C$3:$L$46,9,FALSE)","v":{"$error":"#N/A"}},{"$f":"VLOOKUP($C283,City!$C$3:$L$69,9,FALSE)","v":{"$error":"#N/A"}},{"$f":"VLOOKUP(C283,'Guy Fawkes'!$C$3:$N$34,9,FALSE)","v":{"$error":"#N/A"}},{"$f":"VLOOKUP(C283,Abbey!$C$3:$L$48,7,FALSE)","v":{"$error":"#N/A"}},{"$f":"VLOOKUP(C283,Chevin!$C$3:$L$50,7,FALSE)","v":{"$error":"#N/A"}},null,0,0,0,0,0,0,0,0,0,0,0,0,null,0,0,0,0,0,0,0,0,0]
[null,null," ",null,null,null,{"$f":"VLOOKUP(C284,Dewsbury!$C$3:$L$46,7,FALSE)","v":{"$error":"#N/A"}},{"$f":"VLOOKUP($C284,Bradford!$C$3:$L$66,7,FALSE)","v":{"$error":"#N/A"}},{"$f":"VLOOKUP($C284,Keighley!$C$3:$N$42,9,FALSE)","v":{"$error":"#N/A"}},{"$f":"VLOOKUP($C284,'Bunny '!$C$3:$N$20,9,FALSE)","v":{"$error":"#N/A"}},{"$f":"VLOOKUP($C284,Liverpool!$C$3:$N$59,9,FALSE)","v":{"$error":"#N/A"}},{"$f":"VLOOKUP(C284,'VoY 10m'!$C$3:$N$40,9,FALSE)","v":{"$error":"#N/A"}},{"$f":"VLOOKUP(C284,Guisley!$C$3:$N$49,9,FALSE)","v":{"$error":"#N/A"}},{"$f":"VLOOKUP(C284,Odda!$C$3:$N$42,9,FALSE)","v":{"$error":"#N/A"}},{"$f":"VLOOKUP(C284,'Leeds half'!$C$4:$N$31,9,FALSE)","v":{"$error":"#N/A"}},{"$f":"VLOOKUP(C284,Ilkley!$C$3:$L$46,7,FALSE)","v":{"$error":"#N/A"}},{"$f":"VLOOKUP(C284,Otley!$C$3:$L$46,9,FALSE)","v":{"$error":"#N/A"}},{"$f":"VLOOKUP(C284,Solstice!$C$3:$L$48,7,FALSE)","v":{"$error":"#N/A"}},null,null,{"$f":"VLOOKUP(C284,Shakerr!$C$3:$L$46,7,FALSE)","v":{"$error":"#N/A"}},{"$f":"VLOOKUP(C284,VoY!$C$3:$L$46,9,FALSE)","v":{"$error":"#N/A"}},{"$f":"VLOOKUP(C284,Kirkstall!$C$3:$L$46,9,FALSE)","v":{"$error":"#N/A"}},{"$f":"VLOOKUP($C284,City!$C$3:$L$69,9,FALSE)","v":{"$error":"#N/A"}},{"$f":"VLOOKUP(C284,'Guy Fawkes'!$C$3:$N$34,9,FALSE)","v":{"$error":"#N/A"}},{"$f":"VLOOKUP(C284,Abbey!$C$3:$L$48,7,FALSE)","v":{"$error":"#N/A"}},{"$f":"VLOOKUP(C284,Chevin!$C$3:$L$50,7,FALSE)","v":{"$error":"#N/A"}},null,0,0,0,0,0,0,0,0,0,0,0,0,null,0,0,0,0,0,0,0,0,0]
[null,null," ",null,null,null,{"$f":"VLOOKUP(C285,Dewsbury!$C$3:$L$46,7,FALSE)","v":{"$error":"#N/A"}},{"$f":"VLOOKUP($C285,Bradford!$C$3:$L$66,7,FALSE)","v":{"$error":"#N/A"}},{"$f":"VLOOKUP($C285,Keighley!$C$3:$N$42,9,FALSE)","v":{"$error":"#N/A"}},{"$f":"VLOOKUP($C285,'Bunny '!$C$3:$N$20,9,FALSE)","v":{"$error":"#N/A"}},{"$f":"VLOOKUP($C285,Liverpool!$C$3:$N$59,9,FALSE)","v":{"$error":"#N/A"}},{"$f":"VLOOKUP(C285,'VoY 10m'!$C$3:$N$40,9,FALSE)","v":{"$error":"#N/A"}},{"$f":"VLOOKUP(C285,Guisley!$C$3:$N$49,9,FALSE)","v":{"$error":"#N/A"}},{"$f":"VLOOKUP(C285,Odda!$C$3:$N$42,9,FALSE)","v":{"$error":"#N/A"}},{"$f":"VLOOKUP(C285,'Leeds half'!$C$4:$N$31,9,FALSE)","v":{"$error":"#N/A"}},{"$f":"VLOOKUP(C285,Ilkley!$C$3:$L$46,7,FALSE)","v":{"$error":"#N/A"}},{"$f":"VLOOKUP(C285,Otley!$C$3:$L$46,9,FALSE)","v":{"$error":"#N/A"}},{"$f":"VLOOKUP(C285,Solstice!$C$3:$L$48,7,FALSE)","v":{"$error":"#N/A"}},null,null,{"$f":"VLOOKUP(C285,Shakerr!$C$3:$L$46,7,FALSE)","v":{"$error":"#N/A"}},{"$f":"VLOOKUP(C285,VoY!$C$3:$L$46,9,FALSE)","v":{"$error":"#N/A"}},{"$f":"VLOOKUP(C285,Kirkstall!$C$3:$L$46,9,FALSE)","v":{"$error":"#N/A"}},{"$f":"VLOOKUP($C285,City!$C$3:$L$69,9,FALSE)","v":{"$error":"#N/A"}},{"$f":"VLOOKUP(C285,'Guy Fawkes'!$C$3:$N$34,9,FALSE)","v":{"$error":"#N/A"}},{"$f":"VLOOKUP(C285,Abbey!$C$3:$L$48,7,FALSE)","v":{"$error":"#N/A"}},{"$f":"VLOOKUP(C285,Chevin!$C$3:$L$50,7,FALSE)","v":{"$error":"#N/A"}},null,0,0,0,0,0,0,0,0,0,0,0,0,null,0,0,0,0,0,0,0,0,0]
[null,null," ",null,null,null,{"$f":"VLOOKUP(C286,Dewsbury!$C$3:$L$46,7,FALSE)","v":{"$error":"#N/A"}},{"$f":"VLOOKUP($C286,Bradford!$C$3:$L$66,7,FALSE)","v":{"$error":"#N/A"}},{"$f":"VLOOKUP($C286,Keighley!$C$3:$N$42,9,FALSE)","v":{"$error":"#N/A"}},{"$f":"VLOOKUP($C286,'Bunny '!$C$3:$N$20,9,FALSE)","v":{"$error":"#N/A"}},{"$f":"VLOOKUP($C286,Liverpool!$C$3:$N$59,9,FALSE)","v":{"$error":"#N/A"}},{"$f":"VLOOKUP(C286,'VoY 10m'!$C$3:$N$40,9,FALSE)","v":{"$error":"#N/A"}},{"$f":"VLOOKUP(C286,Guisley!$C$3:$N$49,9,FALSE)","v":{"$error":"#N/A"}},{"$f":"VLOOKUP(C286,Odda!$C$3:$N$42,9,FALSE)","v":{"$error":"#N/A"}},{"$f":"VLOOKUP(C286,'Leeds half'!$C$4:$N$31,9,FALSE)","v":{"$error":"#N/A"}},{"$f":"VLOOKUP(C286,Ilkley!$C$3:$L$46,7,FALSE)","v":{"$error":"#N/A"}},{"$f":"VLOOKUP(C286,Otley!$C$3:$L$46,9,FALSE)","v":{"$error":"#N/A"}},{"$f":"VLOOKUP(C286,Solstice!$C$3:$L$48,7,FALSE)","v":{"$error":"#N/A"}},null,null,{"$f":"VLOOKUP(C286,Shakerr!$C$3:$L$46,7,FALSE)","v":{"$error":"#N/A"}},{"$f":"VLOOKUP(C286,VoY!$C$3:$L$46,9,FALSE)","v":{"$error":"#N/A"}},{"$f":"VLOOKUP(C286,Kirkstall!$C$3:$L$46,9,FALSE)","v":{"$error":"#N/A"}},{"$f":"VLOOKUP($C286,City!$C$3:$L$69,9,FALSE)","v":{"$error":"#N/A"}},{"$f":"VLOOKUP(C286,'Guy Fawkes'!$C$3:$N$34,9,FALSE)","v":{"$error":"#N/A"}},{"$f":"VLOOKUP(C286,Abbey!$C$3:$L$48,7,FALSE)","v":{"$error":"#N/A"}},{"$f":"VLOOKUP(C286,Chevin!$C$3:$L$50,7,FALSE)","v":{"$error":"#N/A"}},null,0,0,0,0,0,0,0,0,0,0,0,0,null,0,0,0,0,0,0,0,0,0]
[null,null," ",null,null,null,{"$f":"VLOOKUP(C287,Dewsbury!$C$3:$L$46,7,FALSE)","v":{"$error":"#N/A"}},{"$f":"VLOOKUP($C287,Bradford!$C$3:$L$66,7,FALSE)","v":{"$error":"#N/A"}},{"$f":"VLOOKUP($C287,Keighley!$C$3:$N$42,9,FALSE)","v":{"$error":"#N/A"}},{"$f":"VLOOKUP($C287,'Bunny '!$C$3:$N$20,9,FALSE)","v":{"$error":"#N/A"}},{"$f":"VLOOKUP($C287,Liverpool!$C$3:$N$59,9,FALSE)","v":{"$error":"#N/A"}},{"$f":"VLOOKUP(C287,'VoY 10m'!$C$3:$N$40,9,FALSE)","v":{"$error":"#N/A"}},{"$f":"VLOOKUP(C287,Guisley!$C$3:$N$49,9,FALSE)","v":{"$error":"#N/A"}},{"$f":"VLOOKUP(C287,Odda!$C$3:$N$42,9,FALSE)","v":{"$error":"#N/A"}},{"$f":"VLOOKUP(C287,'Leeds half'!$C$4:$N$31,9,FALSE)","v":{"$error":"#N/A"}},{"$f":"VLOOKUP(C287,Ilkley!$C$3:$L$46,7,FALSE)","v":{"$error":"#N/A"}},{"$f":"VLOOKUP(C287,Otley!$C$3:$L$46,9,FALSE)","v":{"$error":"#N/A"}},{"$f":"VLOOKUP(C287,Solstice!$C$3:$L$48,7,FALSE)","v":{"$error":"#N/A"}},null,null,{"$f":"VLOOKUP(C287,Shakerr!$C$3:$L$46,7,FALSE)","v":{"$error":"#N/A"}},{"$f":"VLOOKUP(C287,VoY!$C$3:$L$46,9,FALSE)","v":{"$error":"#N/A"}},{"$f":"VLOOKUP(C287,Kirkstall!$C$3:$L$46,9,FALSE)","v":{"$error":"#N/A"}},{"$f":"VLOOKUP($C287,City!$C$3:$L$69,9,FALSE)","v":{"$error":"#N/A"}},{"$f":"VLOOKUP(C287,'Guy Fawkes'!$C$3:$N$34,9,FALSE)","v":{"$error":"#N/A"}},{"$f":"VLOOKUP(C287,Abbey!$C$3:$L$48,7,FALSE)","v":{"$error":"#N/A"}},{"$f":"VLOOKUP(C287,Chevin!$C$3:$L$50,7,FALSE)","v":{"$error":"#N/A"}},null,0,0,0,0,0,0,0,0,0,0,0,0,null,0,0,0,0,0,0,0,0,0]
[null,null," ",null,null,null,{"$f":"VLOOKUP(C288,Dewsbury!$C$3:$L$46,7,FALSE)","v":{"$error":"#N/A"}},{"$f":"VLOOKUP($C288,Bradford!$C$3:$L$66,7,FALSE)","v":{"$error":"#N/A"}},{"$f":"VLOOKUP($C288,Keighley!$C$3:$N$42,9,FALSE)","v":{"$error":"#N/A"}},{"$f":"VLOOKUP($C288,'Bunny '!$C$3:$N$20,9,FALSE)","v":{"$error":"#N/A"}},{"$f":"VLOOKUP($C288,Liverpool!$C$3:$N$59,9,FALSE)","v":{"$error":"#N/A"}},{"$f":"VLOOKUP(C288,'VoY 10m'!$C$3:$N$40,9,FALSE)","v":{"$error":"#N/A"}},{"$f":"VLOOKUP(C288,Guisley!$C$3:$N$49,9,FALSE)","v":{"$error":"#N/A"}},{"$f":"VLOOKUP(C288,Odda!$C$3:$N$42,9,FALSE)","v":{"$error":"#N/A"}},{"$f":"VLOOKUP(C288,'Leeds half'!$C$4:$N$31,9,FALSE)","v":{"$error":"#N/A"}},{"$f":"VLOOKUP(C288,Ilkley!$C$3:$L$46,7,FALSE)","v":{"$error":"#N/A"}},{"$f":"VLOOKUP(C288,Otley!$C$3:$L$46,9,FALSE)","v":{"$error":"#N/A"}},{"$f":"VLOOKUP(C288,Solstice!$C$3:$L$48,7,FALSE)","v":{"$error":"#N/A"}},null,null,{"$f":"VLOOKUP(C288,Shakerr!$C$3:$L$46,7,FALSE)","v":{"$error":"#N/A"}},{"$f":"VLOOKUP(C288,VoY!$C$3:$L$46,9,FALSE)","v":{"$error":"#N/A"}},{"$f":"VLOOKUP(C288,Kirkstall!$C$3:$L$46,9,FALSE)","v":{"$error":"#N/A"}},{"$f":"VLOOKUP($C288,City!$C$3:$L$69,9,FALSE)","v":{"$error":"#N/A"}},{"$f":"VLOOKUP(C288,'Guy Fawkes'!$C$3:$N$34,9,FALSE)","v":{"$error":"#N/A"}},{"$f":"VLOOKUP(C288,Abbey!$C$3:$L$48,7,FALSE)","v":{"$error":"#N/A"}},{"$f":"VLOOKUP(C288,Chevin!$C$3:$L$50,7,FALSE)","v":{"$error":"#N/A"}},null,0,0,0,0,0,0,0,0,0,0,0,0,null,0,0,0,0,0,0,0,0,0]
[null,null," ",null,null,null,{"$f":"VLOOKUP(C289,Dewsbury!$C$3:$L$46,7,FALSE)","v":{"$error":"#N/A"}},{"$f":"VLOOKUP($C289,Bradford!$C$3:$L$66,7,FALSE)","v":{"$error":"#N/A"}},{"$f":"VLOOKUP($C289,Keighley!$C$3:$N$42,9,FALSE)","v":{"$error":"#N/A"}},{"$f":"VLOOKUP($C289,'Bunny '!$C$3:$N$20,9,FALSE)","v":{"$error":"#N/A"}},{"$f":"VLOOKUP($C289,Liverpool!$C$3:$N$59,9,FALSE)","v":{"$error":"#N/A"}},{"$f":"VLOOKUP(C289,'VoY 10m'!$C$3:$N$40,9,FALSE)","v":{"$error":"#N/A"}},{"$f":"VLOOKUP(C289,Guisley!$C$3:$N$49,9,FALSE)","v":{"$error":"#N/A"}},{"$f":"VLOOKUP(C289,Odda!$C$3:$N$42,9,FALSE)","v":{"$error":"#N/A"}},{"$f":"VLOOKUP(C289,'Leeds half'!$C$4:$N$31,9,FALSE)","v":{"$error":"#N/A"}},{"$f":"VLOOKUP(C289,Ilkley!$C$3:$L$46,7,FALSE)","v":{"$error":"#N/A"}},{"$f":"VLOOKUP(C289,Otley!$C$3:$L$46,9,FALSE)","v":{"$error":"#N/A"}},{"$f":"VLOOKUP(C289,Solstice!$C$3:$L$48,7,FALSE)","v":{"$error":"#N/A"}},null,null,{"$f":"VLOOKUP(C289,Shakerr!$C$3:$L$46,7,FALSE)","v":{"$error":"#N/A"}},{"$f":"VLOOKUP(C289,VoY!$C$3:$L$46,9,FALSE)","v":{"$error":"#N/A"}},{"$f":"VLOOKUP(C289,Kirkstall!$C$3:$L$46,9,FALSE)","v":{"$error":"#N/A"}},{"$f":"VLOOKUP($C289,City!$C$3:$L$69,9,FALSE)","v":{"$error":"#N/A"}},{"$f":"VLOOKUP(C289,'Guy Fawkes'!$C$3:$N$34,9,FALSE)","v":{"$error":"#N/A"}},{"$f":"VLOOKUP(C289,Abbey!$C$3:$L$48,7,FALSE)","v":{"$error":"#N/A"}},{"$f":"VLOOKUP(C289,Chevin!$C$3:$L$50,7,FALSE)","v":{"$error":"#N/A"}},null,0,0,0,0,0,0,0,0,0,0,0,0,null,0,0,0,0,0,0,0,0,0]
[null,null," ",null,null,null,{"$f":"VLOOKUP(C290,Dewsbury!$C$3:$L$46,7,FALSE)","v":{"$error":"#N/A"}},{"$f":"VLOOKUP($C290,Bradford!$C$3:$L$66,7,FALSE)","v":{"$error":"#N/A"}},{"$f":"VLOOKUP($C290,Keighley!$C$3:$N$42,9,FALSE)","v":{"$error":"#N/A"}},{"$f":"VLOOKUP($C290,'Bunny '!$C$3:$N$20,9,FALSE)","v":{"$error":"#N/A"}},{"$f":"VLOOKUP($C290,Liverpool!$C$3:$N$59,9,FALSE)","v":{"$error":"#N/A"}},{"$f":"VLOOKUP(C290,'VoY 10m'!$C$3:$N$40,9,FALSE)","v":{"$error":"#N/A"}},{"$f":"VLOOKUP(C290,Guisley!$C$3:$N$49,9,FALSE)","v":{"$error":"#N/A"}},{"$f":"VLOOKUP(C290,Odda!$C$3:$N$42,9,FALSE)","v":{"$error":"#N/A"}},{"$f":"VLOOKUP(C290,'Leeds half'!$C$4:$N$31,9,FALSE)","v":{"$error":"#N/A"}},{"$f":"VLOOKUP(C290,Ilkley!$C$3:$L$46,7,FALSE)","v":{"$error":"#N/A"}},{"$f":"VLOOKUP(C290,Otley!$C$3:$L$46,9,FALSE)","v":{"$error":"#N/A"}},{"$f":"VLOOKUP(C290,Solstice!$C$3:$L$48,7,FALSE)","v":{"$error":"#N/A"}},null,null,{"$f":"VLOOKUP(C290,Shakerr!$C$3:$L$46,7,FALSE)","v":{"$error":"#N/A"}},{"$f":"VLOOKUP(C290,VoY!$C$3:$L$46,9,FALSE)","v":{"$error":"#N/A"}},{"$f":"VLOOKUP(C290,Kirkstall!$C$3:$L$46,9,FALSE)","v":{"$error":"#N/A"}},{"$f":"VLOOKUP($C290,City!$C$3:$L$69,9,FALSE)","v":{"$error":"#N/A"}},{"$f":"VLOOKUP(C290,'Guy Fawkes'!$C$3:$N$34,9,FALSE)","v":{"$error":"#N/A"}},{"$f":"VLOOKUP(C290,Abbey!$C$3:$L$48,7,FALSE)","v":{"$error":"#N/A"}},{"$f":"VLOOKUP(C290,Chevin!$C$3:$L$50,7,FALSE)","v":{"$error":"#N/A"}},null,0,0,0,0,0,0,0,0,0,0,0,0,null,0,0,0,0,0,0,0,0,0]
[null,null," ",null,null,null,{"$f":"VLOOKUP(C291,Dewsbury!$C$3:$L$46,7,FALSE)","v":{"$error":"#N/A"}},{"$f":"VLOOKUP($C291,Bradford!$C$3:$L$66,7,FALSE)","v":{"$error":"#N/A"}},{"$f":"VLOOKUP($C291,Keighley!$C$3:$N$42,9,FALSE)","v":{"$error":"#N/A"}},{"$f":"VLOOKUP($C291,'Bunny '!$C$3:$N$20,9,FALSE)","v":{"$error":"#N/A"}},{"$f":"VLOOKUP($C291,Liverpool!$C$3:$N$59,9,FALSE)","v":{"$error":"#N/A"}},{"$f":"VLOOKUP(C291,'VoY 10m'!$C$3:$N$40,9,FALSE)","v":{"$error":"#N/A"}},{"$f":"VLOOKUP(C291,Guisley!$C$3:$N$49,9,FALSE)","v":{"$error":"#N/A"}},{"$f":"VLOOKUP(C291,Odda!$C$3:$N$42,9,FALSE)","v":{"$error":"#N/A"}},{"$f":"VLOOKUP(C291,'Leeds half'!$C$4:$N$31,9,FALSE)","v":{"$error":"#N/A"}},{"$f":"VLOOKUP(C291,Ilkley!$C$3:$L$46,7,FALSE)","v":{"$error":"#N/A"}},{"$f":"VLOOKUP(C291,Otley!$C$3:$L$46,9,FALSE)","v":{"$error":"#N/A"}},{"$f":"VLOOKUP(C291,Solstice!$C$3:$L$48,7,FALSE)","v":{"$error":"#N/A"}},null,null,{"$f":"VLOOKUP(C291,Shakerr!$C$3:$L$46,7,FALSE)","v":{"$error":"#N/A"}},{"$f":"VLOOKUP(C291,VoY!$C$3:$L$46,9,FALSE)","v":{"$error":"#N/A"}},{"$f":"VLOOKUP(C291,Kirkstall!$C$3:$L$46,9,FALSE)","v":{"$error":"#N/A"}},{"$f":"VLOOKUP($C291,City!$C$3:$L$69,9,FALSE)","v":{"$error":"#N/A"}},{"$f":"VLOOKUP(C291,'Guy Fawkes'!$C$3:$N$34,9,FALSE)","v":{"$error":"#N/A"}},{"$f":"VLOOKUP(C291,Abbey!$C$3:$L$48,7,FALSE)","v":{"$error":"#N/A"}},{"$f":"VLOOKUP(C291,Chevin!$C$3:$L$50,7,FALSE)","v":{"$error":"#N/A"}},null,0,0,0,0,0,0,0,0,0,0,0,0,null,0,0,0,0,0,0,0,0,0]
[null,null," ",null,null,null,{"$f":"VLOOKUP(C292,Dewsbury!$C$3:$L$46,7,FALSE)","v":{"$error":"#N/A"}},{"$f":"VLOOKUP($C292,Bradford!$C$3:$L$66,7,FALSE)","v":{"$error":"#N/A"}},{"$f":"VLOOKUP($C292,Keighley!$C$3:$N$42,9,FALSE)","v":{"$error":"#N/A"}},{"$f":"VLOOKUP($C292,'Bunny '!$C$3:$N$20,9,FALSE)","v":{"$error":"#N/A"}},{"$f":"VLOOKUP($C292,Liverpool!$C$3:$N$59,9,FALSE)","v":{"$error":"#N/A"}},{"$f":"VLOOKUP(C292,'VoY 10m'!$C$3:$N$40,9,FALSE)","v":{"$error":"#N/A"}},{"$f":"VLOOKUP(C292,Guisley!$C$3:$N$49,9,FALSE)","v":{"$error":"#N/A"}},{"$f":"VLOOKUP(C292,Odda!$C$3:$N$42,9,FALSE)","v":{"$error":"#N/A"}},{"$f":"VLOOKUP(C292,'Leeds half'!$C$4:$N$31,9,FALSE)","v":{"$error":"#N/A"}},{"$f":"VLOOKUP(C292,Ilkley!$C$3:$L$46,7,FALSE)","v":{"$error":"#N/A"}},{"$f":"VLOOKUP(C292,Otley!$C$3:$L$46,9,FALSE)","v":{"$error":"#N/A"}},{"$f":"VLOOKUP(C292,Solstice!$C$3:$L$48,7,FALSE)","v":{"$error":"#N/A"}},null,null,{"$f":"VLOOKUP(C292,Shakerr!$C$3:$L$46,7,FALSE)","v":{"$error":"#N/A"}},{"$f":"VLOOKUP(C292,VoY!$C$3:$L$46,9,FALSE)","v":{"$error":"#N/A"}},{"$f":"VLOOKUP(C292,Kirkstall!$C$3:$L$46,9,FALSE)","v":{"$error":"#N/A"}},{"$f":"VLOOKUP($C292,City!$C$3:$L$69,9,FALSE)","v":{"$error":"#N/A"}},{"$f":"VLOOKUP(C292,'Guy Fawkes'!$C$3:$N$34,9,FALSE)","v":{"$error":"#N/A"}},{"$f":"VLOOKUP(C292,Abbey!$C$3:$L$48,7,FALSE)","v":{"$error":"#N/A"}},{"$f":"VLOOKUP(C292,Chevin!$C$3:$L$50,7,FALSE)","v":{"$error":"#N/A"}},null,0,0,0,0,0,0,0,0,0,0,0,0,null,0,0,0,0,0,0,0,0,0]
[null,null," ",null,null,null,{"$f":"VLOOKUP(C293,Dewsbury!$C$3:$L$46,7,FALSE)","v":{"$error":"#N/A"}},{"$f":"VLOOKUP($C293,Bradford!$C$3:$L$66,7,FALSE)","v":{"$error":"#N/A"}},{"$f":"VLOOKUP($C293,Keighley!$C$3:$N$42,9,FALSE)","v":{"$error":"#N/A"}},{"$f":"VLOOKUP($C293,'Bunny '!$C$3:$N$20,9,FALSE)","v":{"$error":"#N/A"}},{"$f":"VLOOKUP($C293,Liverpool!$C$3:$N$59,9,FALSE)","v":{"$error":"#N/A"}},{"$f":"VLOOKUP(C293,'VoY 10m'!$C$3:$N$40,9,FALSE)","v":{"$error":"#N/A"}},{"$f":"VLOOKUP(C293,Guisley!$C$3:$N$49,9,FALSE)","v":{"$error":"#N/A"}},{"$f":"VLOOKUP(C293,Odda!$C$3:$N$42,9,FALSE)","v":{"$error":"#N/A"}},{"$f":"VLOOKUP(C293,'Leeds half'!$C$4:$N$31,9,FALSE)","v":{"$error":"#N/A"}},{"$f":"VLOOKUP(C293,Ilkley!$C$3:$L$46,7,FALSE)","v":{"$error":"#N/A"}},{"$f":"VLOOKUP(C293,Otley!$C$3:$L$46,9,FALSE)","v":{"$error":"#N/A"}},{"$f":"VLOOKUP(C293,Solstice!$C$3:$L$48,7,FALSE)","v":{"$error":"#N/A"}},null,null,{"$f":"VLOOKUP(C293,Shakerr!$C$3:$L$46,7,FALSE)","v":{"$error":"#N/A"}},{"$f":"VLOOKUP(C293,VoY!$C$3:$L$46,9,FALSE)","v":{"$error":"#N/A"}},{"$f":"VLOOKUP(C293,Kirkstall!$C$3:$L$46,9,FALSE)","v":{"$error":"#N/A"}},{"$f":"VLOOKUP($C293,City!$C$3:$L$69,9,FALSE)","v":{"$error":"#N/A"}},{"$f":"VLOOKUP(C293,'Guy Fawkes'!$C$3:$N$34,9,FALSE)","v":{"$error":"#N/A"}},{"$f":"VLOOKUP(C293,Abbey!$C$3:$L$48,7,FALSE)","v":{"$error":"#N/A"}},{"$f":"VLOOKUP(C293,Chevin!$C$3:$L$50,7,FALSE)","v":{"$error":"#N/A"}},null,0,0,0,0,0,0,0,0,0,0,0,0,null,0,0,0,0,0,0,0,0,0]
[null,null," ",null,null,null,{"$f":"VLOOKUP(C294,Dewsbury!$C$3:$L$46,7,FALSE)","v":{"$error":"#N/A"}},{"$f":"VLOOKUP($C294,Bradford!$C$3:$L$66,7,FALSE)","v":{"$error":"#N/A"}},{"$f":"VLOOKUP($C294,Keighley!$C$3:$N$42,9,FALSE)","v":{"$error":"#N/A"}},{"$f":"VLOOKUP($C294,'Bunny '!$C$3:$N$20,9,FALSE)","v":{"$error":"#N/A"}},{"$f":"VLOOKUP($C294,Liverpool!$C$3:$N$59,9,FALSE)","v":{"$error":"#N/A"}},{"$f":"VLOOKUP(C294,'VoY 10m'!$C$3:$N$40,9,FALSE)","v":{"$error":"#N/A"}},{"$f":"VLOOKUP(C294,Guisley!$C$3:$N$49,9,FALSE)","v":{"$error":"#N/A"}},{"$f":"VLOOKUP(C294,Odda!$C$3:$N$42,9,FALSE)","v":{"$error":"#N/A"}},{"$f":"VLOOKUP(C294,'Leeds half'!$C$4:$N$31,9,FALSE)","v":{"$error":"#N/A"}},{"$f":"VLOOKUP(C294,Ilkley!$C$3:$L$46,7,FALSE)","v":{"$error":"#N/A"}},{"$f":"VLOOKUP(C294,Otley!$C$3:$L$46,9,FALSE)","v":{"$error":"#N/A"}},{"$f":"VLOOKUP(C294,Solstice!$C$3:$L$48,7,FALSE)","v":{"$error":"#N/A"}},null,null,{"$f":"VLOOKUP(C294,Shakerr!$C$3:$L$46,7,FALSE)","v":{"$error":"#N/A"}},{"$f":"VLOOKUP(C294,VoY!$C$3:$L$46,9,FALSE)","v":{"$error":"#N/A"}},{"$f":"VLOOKUP(C294,Kirkstall!$C$3:$L$46,9,FALSE)","v":{"$error":"#N/A"}},{"$f":"VLOOKUP($C294,City!$C$3:$L$69,9,FALSE)","v":{"$error":"#N/A"}},{"$f":"VLOOKUP(C294,'Guy Fawkes'!$C$3:$N$34,9,FALSE)","v":{"$error":"#N/A"}},{"$f":"VLOOKUP(C294,Abbey!$C$3:$L$48,7,FALSE)","v":{"$error":"#N/A"}},{"$f":"VLOOKUP(C294,Chevin!$C$3:$L$50,7,FALSE)","v":{"$error":"#N/A"}},null,0,0,0,0,0,0,0,0,0,0,0,0,null,0,0,0,0,0,0,0,0,0]
[null,null," ",null,null,null,{"$f":"VLOOKUP(C295,Dewsbury!$C$3:$L$46,7,FALSE)","v":{"$error":"#N/A"}},{"$f":"VLOOKUP($C295,Bradford!$C$3:$L$66,7,FALSE)","v":{"$error":"#N/A"}},{"$f":"VLOOKUP($C295,Keighley!$C$3:$N$42,9,FALSE)","v":{"$error":"#N/A"}},{"$f":"VLOOKUP($C295,'Bunny '!$C$3:$N$20,9,FALSE)","v":{"$error":"#N/A"}},{"$f":"VLOOKUP($C295,Liverpool!$C$3:$N$59,9,FALSE)","v":{"$error":"#N/A"}},{"$f":"VLOOKUP(C295,'VoY 10m'!$C$3:$N$40,9,FALSE)","v":{"$error":"#N/A"}},{"$f":"VLOOKUP(C295,Guisley!$C$3:$N$49,9,FALSE)","v":{"$error":"#N/A"}},{"$f":"VLOOKUP(C295,Odda!$C$3:$N$42,9,FALSE)","v":{"$error":"#N/A"}},{"$f":"VLOOKUP(C295,'Leeds half'!$C$4:$N$31,9,FALSE)","v":{"$error":"#N/A"}},{"$f":"VLOOKUP(C295,Ilkley!$C$3:$L$46,7,FALSE)","v":{"$error":"#N/A"}},{"$f":"VLOOKUP(C295,Otley!$C$3:$L$46,9,FALSE)","v":{"$error":"#N/A"}},{"$f":"VLOOKUP(C295,Solstice!$C$3:$L$48,7,FALSE)","v":{"$error":"#N/A"}},null,null,{"$f":"VLOOKUP(C295,Shakerr!$C$3:$L$46,7,FALSE)","v":{"$error":"#N/A"}},{"$f":"VLOOKUP(C295,VoY!$C$3:$L$46,9,FALSE)","v":{"$error":"#N/A"}},{"$f":"VLOOKUP(C295,Kirkstall!$C$3:$L$46,9,FALSE)","v":{"$error":"#N/A"}},{"$f":"VLOOKUP($C295,City!$C$3:$L$69,9,FALSE)","v":{"$error":"#N/A"}},{"$f":"VLOOKUP(C295,'Guy Fawkes'!$C$3:$N$34,9,FALSE)","v":{"$error":"#N/A"}},{"$f":"VLOOKUP(C295,Abbey!$C$3:$L$48,7,FALSE)","v":{"$error":"#N/A"}},{"$f":"VLOOKUP(C295,Chevin!$C$3:$L$50,7,FALSE)","v":{"$error":"#N/A"}},null,0,0,0,0,0,0,0,0,0,0,0,0,null,0,0,0,0,0,0,0,0,0]
[null,null," ",null,null,null,{"$f":"VLOOKUP(C296,Dewsbury!$C$3:$L$46,7,FALSE)","v":{"$error":"#N/A"}},{"$f":"VLOOKUP($C296,Bradford!$C$3:$L$66,7,FALSE)","v":{"$error":"#N/A"}},{"$f":"VLOOKUP($C296,Keighley!$C$3:$N$42,9,FALSE)","v":{"$error":"#N/A"}},{"$f":"VLOOKUP($C296,'Bunny '!$C$3:$N$20,9,FALSE)","v":{"$error":"#N/A"}},{"$f":"VLOOKUP($C296,Liverpool!$C$3:$N$59,9,FALSE)","v":{"$error":"#N/A"}},{"$f":"VLOOKUP(C296,'VoY 10m'!$C$3:$N$40,9,FALSE)","v":{"$error":"#N/A"}},{"$f":"VLOOKUP(C296,Guisley!$C$3:$N$49,9,FALSE)","v":{"$error":"#N/A"}},{"$f":"VLOOKUP(C296,Odda!$C$3:$N$42,9,FALSE)","v":{"$error":"#N/A"}},{"$f":"VLOOKUP(C296,'Leeds half'!$C$4:$N$31,9,FALSE)","v":{"$error":"#N/A"}},{"$f":"VLOOKUP(C296,Ilkley!$C$3:$L$46,7,FALSE)","v":{"$error":"#N/A"}},{"$f":"VLOOKUP(C296,Otley!$C$3:$L$46,9,FALSE)","v":{"$error":"#N/A"}},{"$f":"VLOOKUP(C296,Solstice!$C$3:$L$48,7,FALSE)","v":{"$error":"#N/A"}},null,null,{"$f":"VLOOKUP(C296,Shakerr!$C$3:$L$46,7,FALSE)","v":{"$error":"#N/A"}},{"$f":"VLOOKUP(C296,VoY!$C$3:$L$46,9,FALSE)","v":{"$error":"#N/A"}},{"$f":"VLOOKUP(C296,Kirkstall!$C$3:$L$46,9,FALSE)","v":{"$error":"#N/A"}},{"$f":"VLOOKUP($C296,City!$C$3:$L$69,9,FALSE)","v":{"$error":"#N/A"}},{"$f":"VLOOKUP(C296,'Guy Fawkes'!$C$3:$N$34,9,FALSE)","v":{"$error":"#N/A"}},{"$f":"VLOOKUP(C296,Abbey!$C$3:$L$48,7,FALSE)","v":{"$error":"#N/A"}},{"$f":"VLOOKUP(C296,Chevin!$C$3:$L$50,7,FALSE)","v":{"$error":"#N/A"}},null,0,0,0,0,0,0,0,0,0,0,0,0,null,0,0,0,0,0,0,0,0,0]
[null,null," ",null,null,null,{"$f":"VLOOKUP(C297,Dewsbury!$C$3:$L$46,7,FALSE)","v":{"$error":"#N/A"}},{"$f":"VLOOKUP($C297,Bradford!$C$3:$L$66,7,FALSE)","v":{"$error":"#N/A"}},{"$f":"VLOOKUP($C297,Keighley!$C$3:$N$42,9,FALSE)","v":{"$error":"#N/A"}},{"$f":"VLOOKUP($C297,'Bunny '!$C$3:$N$20,9,FALSE)","v":{"$error":"#N/A"}},{"$f":"VLOOKUP($C297,Liverpool!$C$3:$N$59,9,FALSE)","v":{"$error":"#N/A"}},{"$f":"VLOOKUP(C297,'VoY 10m'!$C$3:$N$40,9,FALSE)","v":{"$error":"#N/A"}},{"$f":"VLOOKUP(C297,Guisley!$C$3:$N$49,9,FALSE)","v":{"$error":"#N/A"}},{"$f":"VLOOKUP(C297,Odda!$C$3:$N$42,9,FALSE)","v":{"$error":"#N/A"}},{"$f":"VLOOKUP(C297,'Leeds half'!$C$4:$N$31,9,FALSE)","v":{"$error":"#N/A"}},{"$f":"VLOOKUP(C297,Ilkley!$C$3:$L$46,7,FALSE)","v":{"$error":"#N/A"}},{"$f":"VLOOKUP(C297,Otley!$C$3:$L$46,9,FALSE)","v":{"$error":"#N/A"}},{"$f":"VLOOKUP(C297,Solstice!$C$3:$L$48,7,FALSE)","v":{"$error":"#N/A"}},null,null,{"$f":"VLOOKUP(C297,Shakerr!$C$3:$L$46,7,FALSE)","v":{"$error":"#N/A"}},{"$f":"VLOOKUP(C297,VoY!$C$3:$L$46,9,FALSE)","v":{"$error":"#N/A"}},{"$f":"VLOOKUP(C297,Kirkstall!$C$3:$L$46,9,FALSE)","v":{"$error":"#N/A"}},{"$f":"VLOOKUP($C297,City!$C$3:$L$69,9,FALSE)","v":{"$error":"#N/A"}},{"$f":"VLOOKUP(C297,'Guy Fawkes'!$C$3:$N$34,9,FALSE)","v":{"$error":"#N/A"}},{"$f":"VLOOKUP(C297,Abbey!$C$3:$L$48,7,FALSE)","v":{"$error":"#N/A"}},{"$f":"VLOOKUP(C297,Chevin!$C$3:$L$50,7,FALSE)","v":{"$error":"#N/A"}},null,0,0,0,0,0,0,0,0,0,0,0,0,null,0,0,0,0,0,0,0,0,0]
[null,null," ",null,null,null,{"$f":"VLOOKUP(C298,Dewsbury!$C$3:$L$46,7,FALSE)","v":{"$error":"#N/A"}},{"$f":"VLOOKUP($C298,Bradford!$C$3:$L$66,7,FALSE)","v":{"$error":"#N/A"}},{"$f":"VLOOKUP($C298,Keighley!$C$3:$N$42,9,FALSE)","v":{"$error":"#N/A"}},{"$f":"VLOOKUP($C298,'Bunny '!$C$3:$N$20,9,FALSE)","v":{"$error":"#N/A"}},{"$f":"VLOOKUP($C298,Liverpool!$C$3:$N$59,9,FALSE)","v":{"$error":"#N/A"}},{"$f":"VLOOKUP(C298,'VoY 10m'!$C$3:$N$40,9,FALSE)","v":{"$error":"#N/A"}},{"$f":"VLOOKUP(C298,Guisley!$C$3:$N$49,9,FALSE)","v":{"$error":"#N/A"}},{"$f":"VLOOKUP(C298,Odda!$C$3:$N$42,9,FALSE)","v":{"$error":"#N/A"}},{"$f":"VLOOKUP(C298,'Leeds half'!$C$4:$N$31,9,FALSE)","v":{"$error":"#N/A"}},{"$f":"VLOOKUP(C298,Ilkley!$C$3:$L$46,7,FALSE)","v":{"$error":"#N/A"}},{"$f":"VLOOKUP(C298,Otley!$C$3:$L$46,9,FALSE)","v":{"$error":"#N/A"}},{"$f":"VLOOKUP(C298,Solstice!$C$3:$L$48,7,FALSE)","v":{"$error":"#N/A"}},null,null,{"$f":"VLOOKUP(C298,Shakerr!$C$3:$L$46,7,FALSE)","v":{"$error":"#N/A"}},{"$f":"VLOOKUP(C298,VoY!$C$3:$L$46,9,FALSE)","v":{"$error":"#N/A"}},{"$f":"VLOOKUP(C298,Kirkstall!$C$3:$L$46,9,FALSE)","v":{"$error":"#N/A"}},{"$f":"VLOOKUP($C298,City!$C$3:$L$69,9,FALSE)","v":{"$error":"#N/A"}},{"$f":"VLOOKUP(C298,'Guy Fawkes'!$C$3:$N$34,9,FALSE)","v":{"$error":"#N/A"}},{"$f":"VLOOKUP(C298,Abbey!$C$3:$L$48,7,FALSE)","v":{"$error":"#N/A"}},{"$f":"VLOOKUP(C298,Chevin!$C$3:$L$50,7,FALSE)","v":{"$error":"#N/A"}},null,0,0,0,0,0,0,0,0,0,0,0,0,null,0,0,0,0,0,0,0,0,0]
[null,null," ",null,null,null,{"$f":"VLOOKUP(C299,Dewsbury!$C$3:$L$46,7,FALSE)","v":{"$error":"#N/A"}},{"$f":"VLOOKUP($C299,Bradford!$C$3:$L$66,7,FALSE)","v":{"$error":"#N/A"}},{"$f":"VLOOKUP($C299,Keighley!$C$3:$N$42,9,FALSE)","v":{"$error":"#N/A"}},{"$f":"VLOOKUP($C299,'Bunny '!$C$3:$N$20,9,FALSE)","v":{"$error":"#N/A"}},{"$f":"VLOOKUP($C299,Liverpool!$C$3:$N$59,9,FALSE)","v":{"$error":"#N/A"}},{"$f":"VLOOKUP(C299,'VoY 10m'!$C$3:$N$40,9,FALSE)","v":{"$error":"#N/A"}},{"$f":"VLOOKUP(C299,Guisley!$C$3:$N$49,9,FALSE)","v":{"$error":"#N/A"}},{"$f":"VLOOKUP(C299,Odda!$C$3:$N$42,9,FALSE)","v":{"$error":"#N/A"}},{"$f":"VLOOKUP(C299,'Leeds half'!$C$4:$N$31,9,FALSE)","v":{"$error":"#N/A"}},{"$f":"VLOOKUP(C299,Ilkley!$C$3:$L$46,7,FALSE)","v":{"$error":"#N/A"}},{"$f":"VLOOKUP(C299,Otley!$C$3:$L$46,9,FALSE)","v":{"$error":"#N/A"}},{"$f":"VLOOKUP(C299,Solstice!$C$3:$L$48,7,FALSE)","v":{"$error":"#N/A"}},null,null,{"$f":"VLOOKUP(C299,Shakerr!$C$3:$L$46,7,FALSE)","v":{"$error":"#N/A"}},{"$f":"VLOOKUP(C299,VoY!$C$3:$L$46,9,FALSE)","v":{"$error":"#N/A"}},{"$f":"VLOOKUP(C299,Kirkstall!$C$3:$L$46,9,FALSE)","v":{"$error":"#N/A"}},{"$f":"VLOOKUP($C299,City!$C$3:$L$69,9,FALSE)","v":{"$error":"#N/A"}},{"$f":"VLOOKUP(C299,'Guy Fawkes'!$C$3:$N$34,9,FALSE)","v":{"$error":"#N/A"}},{"$f":"VLOOKUP(C299,Abbey!$C$3:$L$48,7,FALSE)","v":{"$error":"#N/A"}},{"$f":"VLOOKUP(C299,Chevin!$C$3:$L$50,7,FALSE)","v":{"$error":"#N/A"}},null,0,0,0,0,0,0,0,0,0,0,0,0,null,0,0,0,0,0,0,0,0,0]
[1,2,3,4,5,6,7,8,9,10,11,12,13,14,15,16,17,18,19,20,21,22,23,24,25,26,27,28,29,30,31,32,33,34,35,36,37,38,39,40,41,42,43,44,45,46,47,48,49,50]
[null,null," "]
[null,null," "]
[null,null," "]
[null,null," "]
[null,null," "]
[null,null," "]
[null,null," "]
[null,null," "]
[null,null," "]
[null,null," "]
[null,null," "]
[null,null," "]
[null,null,{"$f":"A313&\" \"&B313","v":" "}]
[null,null," "]
[null,null," "]
[null,null," "]
[null,null," "]
[null,null," "]
[null,null," "]
[null,null," "]
[null,null," "]
[null,null," "]
[null,null," "]
[null,null," "]
[null,null," "]
[null,null," "]
[null,null," "]
[null,null," "]
[null,null," "]
[null,null," "]
[null,null," "]
[null,null," "]
[null,null," "]
[null,null," "]
[null,null," "]
[null,null," "]
[null,null," "]
[null,null," "]
[null,null," "]
[null,null," "]
[null,null," "]
[null,null," "]
[null,null," "]
[null,null," "]
[null,null,{"$f":"A345&\" \"&B345","v":" "}]
[null,null," "]
[null,null," "]
[null,null," "]
[null,null," "]
[null,null," "]
[null,null," "]
[null,null," "]
[null,null," "]
[null,null," "]
[null,null," "]
[null,null," "]
[null,null," "]
[null,null," "]
[null,null," "]
[null,null," "]
[null,null," "]
[null,null," "]
[null,null," "]
[null,null," "]
[null,null," "]
[null,null," "]
[null,null," "]
[null,null," "]
[null,null," "]
[null,null," "]
[null,null," "]
[null,null," "]
[null,null," "]
[null,null," "]
[null,null," "]
[null,null," "]

{"sheet":"LeaderPivot","index":1,"n_rows":193,"n_cols":8,"rows_kept":193,"cut":false,"hidden":false,"merged":[]}
["Division","Premier",null,"Division","First",null,"Division","Second"]
[]
["Name","Score",null,"Name","Score",null,"Name","Score"]
["Stuart Dunbar",400,null,"Sylvia Ross",399,null,"Philippa Bird",380]
["Will Kerr",398,null,"Ian Jenkins",395,null,"John Singh",379]
["Martin Fillingham",391,null,"Ewan Gibb",385,null,"Sarah Sherratt",333]
["Helen Love",388,null,"Richard Smith",383,null,"Bernie Bowden",297]
["Gary Western",375,null,"Carolyn Rix",382,null,"Ann Upton",257]
["Alan Douglas",369,null,"Gavin Hamilton",184,null,"Nick Breare",232]
["Tracy Foy",363,null,"Stephen Hetherington",148,null,"Craig Elliott",228]
["Alun Griffiths",360,null,"John Walton",140,null,"Josephine Briggs",224]
["Mohanlal Mistry",353,null,"Liz Hamilton",133,null,"Jadine Smith",217]
["Mel Akeroyd",320,null,"Clair Fitzpatrick",128,null,"Esther Silva",198]
["Helen Brant",304,null,"Richard Stone",100,null,"Adam Willoughby",194]
["Martin Love",281,null,"Duane Craven",98,null,"Guy Richardson",189]
["Barney Lerner",281,null,"Loris Dell'Amico",95,null,"Heather Bayliss",182]
["Louise Nash",275,null,"Laura Richardson",91,null,"Alexandra Ayling",165]
["Urmila Mistry",272,null,"Kamil Zakowski",87,null,"Rachel Boyd",150]
["Noel Fitzpatrick",257,null,"Gareth Ward",86,null,"Kath Stone",143]
["Rachel Parker",246,null,"Jenny Colwell",84,null,"James Gardner",139]
["Simon Frazer",241,null,"Ian Dickinson",83,null,"Pawel Tryc",137]
["Tim Mosedale",232,null,"Alistair Nash",50,null,"Judith Nunn",115]
["Denise Davis",231,null,"Vicki Johnston",49,null,"Jeremy Rix",99]
["Gary Pennington",229,null,"Jeremy Wright",49,null,"Tim Baldwin",99]
["Claire Thaper",228,null,"Peter Huby",48,null,"Hannah Elliott",98]
["Helen Western",212,null,"Sam White",48,null,"Craig  Beza",98]
["Frank Beecroft",205,null,"John Colwell",47,null,"Tom Lee",98]
["Fiona Farquhar",201,null,"Mervyn Silva",47,null,"Steven Maude",96]
["Suzanne Hague",195,null,"Tamsin Treasure-Jones",46,null,"James Goodall",96]
["Jack Verity",187,null,"Kelly Smith",46,null,"Benjamin Pearson",95]
["Frank Masley",177,null,"Tony Hart",0,null,"Malcolm Foy",94]
["Louise Dell'Amico",155,null,"Emma Cartledge",0,null,"Claire Burrill",92]
["Gillian Hyde",154,null,"Simon Rose",0,null,"Adam Camp",91]
["Stewart Spink",143,null,"Reza Abdi",0,null,"Sheila Pepper",90]
["Matthew Richardson",142,null,"Robert Hague",0,null,"Kerry Wood",88]
["Mark Walker",125,null,"Nicola Pickard",0,null,"Lucy Johnston",86]
["Dairine Nethercott",119,null,"Marcin Soszka",0,null,"Simon Furlong",85]
["Darren Longhorn",91,null,"Bernadette Cook",0,null,"jennifer bartlett",83]
["Simon Kingsnorth",87,null,"Jane Hart",0,null,"Julia Beaumont",81]
["Graham Corbett",50,null,"Igs Robun",0,null,"Ambrose Griffiths",78]
["Chris Stott",42,null,null,null,null,"Harriet Fletcher",78]
["Ben Marchant",41,null,null,null,null,"Megan Paul",71]
["Chris Reynier",0,null,null,null,null,"charlotte martin",71]
["Chris Jones",0,null,null,null,null,"Anne Mason",71]
["Paul Disney",0,null,null,null,null,"Shiela Bugg",69]
["Julie Firth",0,null,null,null,null,"Liz Dearden",67]
["Lorna Nixon",0,null,null,null,null,"Amanda Race",63]
["Richard Nixon",0,null,null,null,null,"Matt Nowell",50]
[null,null,null,null,null,null,"Peter Hopson",50]
[null,null,null,null,null,null,"Robert Burrell Donkin",50]
[null,null,null,null,null,null,"Steven Fowler",50]
[null,null,null,null,null,null,"Carl Kernick",50]
[null,null,null,null,null,null,"Andy Brown",50]
[null,null,null,null,null,null,"Timothy Forster",49]
[null,null,null,null,null,null,"Andrew Hutchinson",49]
[null,null,null,null,null,null,"Laura Marchant",49]
[null,null,null,null,null,null,"David Scrivener",47]
[null,null,null,null,null,null,"Wendy Hey",47]
[null,null,null,null,null,null,"Therese Sheehan",47]
[null,null,null,null,null,null,"Graham Terry",47]
[null,null,null,null,null,null,"Laura Ryall",46]
[null,null,null,null,null,null,"Gemma Bell",46]
[null,null,null,null,null,null,"tim bellwood",46]
[null,null,null,null,null,null,"Amanda  Bellwood",45]
[null,null,null,null,null,null,"Frances  Guy",45]
[null,null,null,null,null,null,"Tom Ratcliffe",44]
[null,null,null,null,null,null,"Kirstie Holmes",44]
[null,null,null,null,null,null,"Elaine Frazer",40]
[null,null,null,null,null,null,"Nina Rogers",39]
[null,null,null,null,null,null,"Ellie Hughes",38]
[null,null,null,null,null,null,"Natalie Ellis",37]
[null,null,null,null,null,null,"Keith Jump",37]
[null,null,null,null,null,null,"Cristina Pacchiarini",37]
[null,null,null,null,null,null,"Craig Barrow",36]
[null,null,null,null,null,null,"Sarah Miller",34]
[null,null,null,null,null,null,"Emma Barrow",34]
[null,null,null,null,null,null,"Sikander Khan",34]
[null,null,null,null,null,null,"Anne Forster",33]
[null,null,null,null,null,null,"Catherine Berry",31]
[null,null,null,null,null,null,"Jessica Alred",30]
[null,null,null,null,null,null,"Kanwaldeep Kaur",27]
[null,null,null,null,null,null,"Nicola Willoughby",26]
[null,null,null,null,null,null,"Camille Kendall",0]
[null,null,null,null,null,null,"Sarah Bruckshaw",0]
[null,null,null,null,null,null,"Roy Bradshaw",0]
[null,null,null,null,null,null,"Rita Jordan",0]
[null,null,null,null,null,null,"Louise  Hawksworth",0]
[null,null,null,null,null,null,"Tina Martiny",0]
[null,null,null,null,null,null,"sandie lewis",0]
[null,null,null,null,null,null,"Carole Raistrick",0]
[null,null,null,null,null,null,"Gary Mckee",0]
[null,null,null,null,null,null,"Paula Cutter",0]
[null,null,null,null,null,null,"julie Cowan-Clark",0]
[null,null,null,null,null,null,"Victoria Baker",0]
[null,null,null,null,null,null,"lynsey hardiman",0]
[null,null,null,null,null,null,"Mick Brearley",0]
[null,null,null,null,null,null,"Jen  Murgatroyd",0]
[null,null,null,null,null,null,"Olivia Gregory",0]
[null,null,null,null,null,null,"Patricia Craven",0]
[null,null,null,null,null,null,"Rahul Mehra",0]
[null,null,null,null,null,null,"Dalvinder Hellawell",0]
[null,null,null,null,null,null,"Donna Line",0]
[null,null,null,null,null,null,"Tracey Thomas-Marshall",0]
[null,null,null,null,null,null,"Jonathan Nixon",0]
[null,null,null,null,null,null,"Keith Abson",0]
[null,null,null,null,null,null,"Lesley Watson",0]
[null,null,null,null,null,null,"Claire Cockcroft",0]
[null,null,null,null,null,null,"Imogen Ambler",0]
[null,null,null,null,null,null,"rifat bashir",0]
[null,null,null,null,null,null,"Rhiannon Barrow",0]
[null,null,null,null,null,null,"Rifut rehman",0]
[null,null,null,null,null,null,"David Blanchard",0]
[null,null,null,null,null,null,"Matt Small",0]
[null,null,null,null,null,null,"Rebecca Carden",0]
[null,null,null,null,null,null,"Mark Davis",0]
[null,null,null,null,null,null,"Helen Pennington",0]
[null,null,null,null,null,null,"Paul Purcell",0]
[null,null,null,null,null,null,"Kevin Armstrong",0]
[null,null,null,null,null,null,"Claire Horton",0]
[null,null,null,null,null,null,"Ellen Rutter",0]
[null,null,null,null,null,null,"Justin Ions",0]
[null,null,null,null,null,null,"Michael Moss",0]
[null,null,null,null,null,null,"Ian Ogden",0]
[null,null,null,null,null,null,"Liz Halfpenny",0]
[null,null,null,null,null,null,"Mick Jones",0]
[null,null,null,null,null,null,"Abby Hanson",0]
[null,null,null,null,null,null,"elizabeth prosser",0]
[null,null,null,null,null,null,"Charlotte Woollard",0]
[null,null,null,null,null,null,"Hannah Oldroyd",0]
[null,null,null,null,null,null,"Chris Upton",0]
[null,null,null,null,null,null,"joshua rose",0]
[null,null,null,null,null,null,"Catherine Bruckner",0]
[null,null,null,null,null,null,"Laura Parkin",0]
[null,null,null,null,null,null,"John Hunt",0]
[null,null,null,null,null,null,"Lizzy Pix",0]
[null,null,null,null,null,null,"Simon Pass",0]
[null,null,null,null,null,null,"Shirley Quarmby",0]
[null,null,null,null,null,null,"Matthew Lawson",0]
[null,null,null,null,null,null,"Michelle Eyres",0]
[null,null,null,null,null,null,"helen leetham",0]
[null,null,null,null,null,null,"Theresa Rose",0]
[null,null,null,null,null,null,"Joanne O'Dwyer",0]
[null,null,null,null,null,null,"peter stringer",0]
[null,null,null,null,null,null,"Hannah Partner",0]
[null,null,null,null,null,null,"Jen Willingham",0]
[null,null,null,null,null,null,"Rachel Pickles",0]
[null,null,null,null,null,null,"David Wilson",0]
[null,null,null,null,null,null,"Joshua Rowe",0]
[null,null,null,null,null,null,"Joe Bainborough",0]
[null,null,null,null,null,null,"Sara Atkinson",0]
[null,null,null,null,null,null,"Amy Barker",0]
[null,null,null,null,null,null,"Charlotte Martin 1",0]
[null,null,null,null,null,null,"Tim Spencer",0]
[null,null,null,null,null,null,"Caroline Bagdonavicius",0]
[null,null,null,null,null,null,"Victoria Foster",0]
[null,null,null,null,null,null,"Anna Harding",0]
[null,null,null,null,null,null,"Claire Bond",0]
[null,null,null,null,null,null,"Greg  Hull",0]
[null,null,null,null,null,null,"Andrew Bruce",0]
[null,null,null,null,null,null,"Simon Latimer",0]
[null,null,null,null,null,null,"Richard Carden",0]
[null,null,null,null,null,null,"Joseph Broadbent",0]
[null,null,null,null,null,null,"Lee  East",0]
[null,null,null,null,null,null,"Diane Collett",0]
[null,null,null,null,null,null,"Rowan Grant",0]
[null,null,null,null,null,null,"Dave Armstrong",0]
[null,null,null,null,null,null,"Emma Hall",0]
[null,null,null,null,null,null,"William Collinson",0]
[null,null,null,null,null,null,"Zanna Dennis",0]
[null,null,null,null,null,null,"heidi bagdonavicius",0]
[null,null,null,null,null,null,"Paul Keeling",0]
[null,null,null,null,null,null,"David Seaward",0]
[null,null,null,null,null,null,"Laura Goodyear",0]
[null,null,null,null,null,null,"Paul Rhodes",0]
[null,null,null,null,null,null,"Patricia Mayes",0]
[null,null,null,null,null,null,"Lynne Perris",0]
[null,null,null,null,null,null,"Darren Parker",0]
[null,null,null,null,null,null,"Rachel Herar",0]
[null,null,null,null,null,null,"Anthea Pickard",0]
[null,null,null,null,null,null,"cathryn Smith",0]
[null,null,null,null,null,null,"Kate Reed",0]
[null,null,null,null,null,null,"Jonathan Smith",0]
[null,null,null,null,null,null,"Tim Shea",0]
[null,null,null,null,null,null,"Zack Whitehead",0]
[null,null,null,null,null,null,"Kate Williams",0]
[null,null,null,null,null,null,"simon themistocleous",0]
[null,null,null,null,null,null,"Mick Chambers",0]
[null,null,null,null,null,null,"Martin Wilkins",0]
[null,null,null,null,null,null,"Lindsey Pearson",0]
[null,null,null,null,null,null,"Sebastian Wojciechowski",0]
[null,null,null,null,null,null,"James Anderson",0]
[null,null,null,null,null,null,"Stuart James",0]
[null,null,null,null,null,null,"Louise McGechaen",0]

{"sheet":"Leaderboard","index":2,"n_rows":302,"n_cols":12,"rows_kept":302,"cut":false,"hidden":false,"merged":[[0,0,0,2],[0,4,0,6],[0,8,0,10]]}
["Premier Division",null,null,null,"First Division",null,null,null,"Second Division"]
["Rank","Name","Score","Races","Rank","Name","Score","Races","Rank","Name","Score","Races"]
[1,{"$f":"IF(ISBLANK(LeaderPivot!A4),\"\",LeaderPivot!A4)","v":"Stuart Dunbar"},{"$f":"IF(ISBLANK(LeaderPivot!B4),\"\",LeaderPivot!B4)","v":400},{"$f":"VLOOKUP(B3,WAVA!$C$3:$AX$299,48,FALSE)","v":9},1,{"$f":"IF(ISBLANK(LeaderPivot!D4),\"\",LeaderPivot!D4)","v":"Sylvia Ross"},{"$f":"IF(ISBLANK(LeaderPivot!E4),\"\",LeaderPivot!E4)","v":399},{"$f":"VLOOKUP(F3,WAVA!$C$3:$AX$299,48,FALSE)","v":10},1,{"$f":"IF(ISBLANK(LeaderPivot!G4),\"\",LeaderPivot!G4)","v":"Philippa Bird"},{"$f":"IF(ISBLANK(LeaderPivot!H4),\"\",LeaderPivot!H4)","v":380},{"$f":"VLOOKUP(J3,WAVA!$C$3:$AX$299,48,FALSE)","v":9}]
[{"$f":"IF(B4=\"\",\"\",A3+1)","v":2},{"$f":"IF(ISBLANK(LeaderPivot!A5),\"\",LeaderPivot!A5)","v":"Will Kerr"},{"$f":"IF(ISBLANK(LeaderPivot!B5),\"\",LeaderPivot!B5)","v":398},{"$f":"VLOOKUP(B4,WAVA!$C$3:$AX$299,48,FALSE)","v":10},{"$f":"IF(F4=\"\",\"\",E3+1)","v":2},{"$f":"IF(ISBLANK(LeaderPivot!D5),\"\",LeaderPivot!D5)","v":"Ian Jenkins"},{"$f":"IF(ISBLANK(LeaderPivot!E5),\"\",LeaderPivot!E5)","v":395},{"$f":"VLOOKUP(F4,WAVA!$C$3:$AX$299,48,FALSE)","v":10},{"$f":"IF(J4=\"\",\"\",I3+1)","v":2},{"$f":"IF(ISBLANK(LeaderPivot!G5),\"\",LeaderPivot!G5)","v":"John Singh"},{"$f":"IF(ISBLANK(LeaderPivot!H5),\"\",LeaderPivot!H5)","v":379},{"$f":"VLOOKUP(J4,WAVA!$C$3:$AX$299,48,FALSE)","v":8}]
[{"$f":"IF(B5=\"\",\"\",A4+1)","v":3},{"$f":"IF(ISBLANK(LeaderPivot!A6),\"\",LeaderPivot!A6)","v":"Martin Fillingham"},{"$f":"IF(ISBLANK(LeaderPivot!B6),\"\",LeaderPivot!B6)","v":391},{"$f":"VLOOKUP(B5,WAVA!$C$3:$AX$299,48,FALSE)","v":8},{"$f":"IF(F5=\"\",\"\",E4+1)","v":3},{"$f":"IF(ISBLANK(LeaderPivot!D6),\"\",LeaderPivot!D6)","v":"Ewan Gibb"},{"$f":"IF(ISBLANK(LeaderPivot!E6),\"\",LeaderPivot!E6)","v":385},{"$f":"VLOOKUP(F5,WAVA!$C$3:$AX$299,48,FALSE)","v":8},{"$f":"IF(J5=\"\",\"\",I4+1)","v":3},{"$f":"IF(ISBLANK(LeaderPivot!G6),\"\",LeaderPivot!G6)","v":"Sarah Sherratt"},{"$f":"IF(ISBLANK(LeaderPivot!H6),\"\",LeaderPivot!H6)","v":333},{"$f":"VLOOKUP(J5,WAVA!$C$3:$AX$299,48,FALSE)","v":8}]
[4,{"$f":"IF(ISBLANK(LeaderPivot!A7),\"\",LeaderPivot!A7)","v":"Helen Love"},{"$f":"IF(ISBLANK(LeaderPivot!B7),\"\",LeaderPivot!B7)","v":388},{"$f":"VLOOKUP(B6,WAVA!$C$3:$AX$299,48,FALSE)","v":12},4,{"$f":"IF(ISBLANK(LeaderPivot!D7),\"\",LeaderPivot!D7)","v":"Richard Smith"},{"$f":"IF(ISBLANK(LeaderPivot!E7),\"\",LeaderPivot!E7)","v":383},{"$f":"VLOOKUP(F6,WAVA!$C$3:$AX$299,48,FALSE)","v":11},4,{"$f":"IF(ISBLANK(LeaderPivot!G7),\"\",LeaderPivot!G7)","v":"Bernie Bowden"},{"$f":"IF(ISBLANK(LeaderPivot!H7),\"\",LeaderPivot!H7)","v":297},{"$f":"VLOOKUP(J6,WAVA!$C$3:$AX$299,48,FALSE)","v":6}]
[5,{"$f":"IF(ISBLANK(LeaderPivot!A8),\"\",LeaderPivot!A8)","v":"Gary Western"},{"$f":"IF(ISBLANK(LeaderPivot!B8),\"\",LeaderPivot!B8)","v":375},{"$f":"VLOOKUP(B7,WAVA!$C$3:$AX$299,48,FALSE)","v":8},5,{"$f":"IF(ISBLANK(LeaderPivot!D8),\"\",LeaderPivot!D8)","v":"Carolyn Rix"},{"$f":"IF(ISBLANK(LeaderPivot!E8),\"\",LeaderPivot!E8)","v":382},{"$f":"VLOOKUP(F7,WAVA!$C$3:$AX$299,48,FALSE)","v":8},5,{"$f":"IF(ISBLANK(LeaderPivot!G8),\"\",LeaderPivot!G8)","v":"Ann Upton"},{"$f":"IF(ISBLANK(LeaderPivot!H8),\"\",LeaderPivot!H8)","v":257},{"$f":"VLOOKUP(J7,WAVA!$C$3:$AX$299,48,FALSE)","v":6}]
[6,{"$f":"IF(ISBLANK(LeaderPivot!A9),\"\",LeaderPivot!A9)","v":"Alan Douglas"},{"$f":"IF(ISBLANK(LeaderPivot!B9),\"\",LeaderPivot!B9)","v":369},{"$f":"VLOOKUP(B8,WAVA!$C$3:$AX$299,48,FALSE)","v":12},6,{"$f":"IF(ISBLANK(LeaderPivot!D9),\"\",LeaderPivot!D9)","v":"Gavin Hamilton"},{"$f":"IF(ISBLANK(LeaderPivot!E9),\"\",LeaderPivot!E9)","v":184},{"$f":"VLOOKUP(F8,WAVA!$C$3:$AX$299,48,FALSE)","v":4},6,{"$f":"IF(ISBLANK(LeaderPivot!G9),\"\",LeaderPivot!G9)","v":"Nick Breare"},{"$f":"IF(ISBLANK(LeaderPivot!H9),\"\",LeaderPivot!H9)","v":232},{"$f":"VLOOKUP(J8,WAVA!$C$3:$AX$299,48,FALSE)","v":5}]
[7,{"$f":"IF(ISBLANK(LeaderPivot!A10),\"\",LeaderPivot!A10)","v":"Tracy Foy"},{"$f":"IF(ISBLANK(LeaderPivot!B10),\"\",LeaderPivot!B10)","v":363},{"$f":"VLOOKUP(B9,WAVA!$C$3:$AX$299,48,FALSE)","v":9},7,{"$f":"IF(ISBLANK(LeaderPivot!D10),\"\",LeaderPivot!D10)","v":"Stephen Hetherington"},{"$f":"IF(ISBLANK(LeaderPivot!E10),\"\",LeaderPivot!E10)","v":148},{"$f":"VLOOKUP(F9,WAVA!$C$3:$AX$299,48,FALSE)","v":3},7,{"$f":"IF(ISBLANK(LeaderPivot!G10),\"\",LeaderPivot!G10)","v":"Craig Elliott"},{"$f":"IF(ISBLANK(LeaderPivot!H10),\"\",LeaderPivot!H10)","v":228},{"$f":"VLOOKUP(J9,WAVA!$C$3:$AX$299,48,FALSE)","v":5}]
[8,{"$f":"IF(ISBLANK(LeaderPivot!A11),\"\",LeaderPivot!A11)","v":"Alun Griffiths"},{"$f":"IF(ISBLANK(LeaderPivot!B11),\"\",LeaderPivot!B11)","v":360},{"$f":"VLOOKUP(B10,WAVA!$C$3:$AX$299,48,FALSE)","v":8},8,{"$f":"IF(ISBLANK(LeaderPivot!D11),\"\",LeaderPivot!D11)","v":"John Walton"},{"$f":"IF(ISBLANK(LeaderPivot!E11),\"\",LeaderPivot!E11)","v":140},{"$f":"VLOOKUP(F10,WAVA!$C$3:$AX$299,48,FALSE)","v":3},8,{"$f":"IF(ISBLANK(LeaderPivot!G11),\"\",LeaderPivot!G11)","v":"Josephine Briggs"},{"$f":"IF(ISBLANK(LeaderPivot!H11),\"\",LeaderPivot!H11)","v":224},{"$f":"VLOOKUP(J10,WAVA!$C$3:$AX$299,48,FALSE)","v":5}]
[9,{"$f":"IF(ISBLANK(LeaderPivot!A12),\"\",LeaderPivot!A12)","v":"Mohanlal Mistry"},{"$f":"IF(ISBLANK(LeaderPivot!B12),\"\",LeaderPivot!B12)","v":353},{"$f":"VLOOKUP(B11,WAVA!$C$3:$AX$299,48,FALSE)","v":11},9,{"$f":"IF(ISBLANK(LeaderPivot!D12),\"\",LeaderPivot!D12)","v":"Liz Hamilton"},{"$f":"IF(ISBLANK(LeaderPivot!E12),\"\",LeaderPivot!E12)","v":133},{"$f":"VLOOKUP(F11,WAVA!$C$3:$AX$299,48,FALSE)","v":3},9,{"$f":"IF(ISBLANK(LeaderPivot!G12),\"\",LeaderPivot!G12)","v":"Jadine Smith"},{"$f":"IF(ISBLANK(LeaderPivot!H12),\"\",LeaderPivot!H12)","v":217},{"$f":"VLOOKUP(J11,WAVA!$C$3:$AX$299,48,FALSE)","v":5}]
[10,{"$f":"IF(ISBLANK(LeaderPivot!A13),\"\",LeaderPivot!A13)","v":"Mel Akeroyd"},{"$f":"IF(ISBLANK(LeaderPivot!B13),\"\",LeaderPivot!B13)","v":320},{"$f":"VLOOKUP(B12,WAVA!$C$3:$AX$299,48,FALSE)","v":9},10,{"$f":"IF(ISBLANK(LeaderPivot!D13),\"\",LeaderPivot!D13)","v":"Clair Fitzpatrick"},{"$f":"IF(ISBLANK(LeaderPivot!E13),\"\",LeaderPivot!E13)","v":128},{"$f":"VLOOKUP(F12,WAVA!$C$3:$AX$299,48,FALSE)","v":3},10,{"$f":"IF(ISBLANK(LeaderPivot!G13),\"\",LeaderPivot!G13)","v":"Esther Silva"},{"$f":"IF(ISBLANK(LeaderPivot!H13),\"\",LeaderPivot!H13)","v":198},{"$f":"VLOOKUP(J12,WAVA!$C$3:$AX$299,48,FALSE)","v":5}]
[11,{"$f":"IF(ISBLANK(LeaderPivot!A14),\"\",LeaderPivot!A14)","v":"Helen Brant"},{"$f":"IF(ISBLANK(LeaderPivot!B14),\"\",LeaderPivot!B14)","v":304},{"$f":"VLOOKUP(B13,WAVA!$C$3:$AX$299,48,FALSE)","v":8},11,{"$f":"IF(ISBLANK(LeaderPivot!D14),\"\",LeaderPivot!D14)","v":"Richard Stone"},{"$f":"IF(ISBLANK(LeaderPivot!E14),\"\",LeaderPivot!E14)","v":100},{"$f":"VLOOKUP(F13,WAVA!$C$3:$AX$299,48,FALSE)","v":2},11,{"$f":"IF(ISBLANK(LeaderPivot!G14),\"\",LeaderPivot!G14)","v":"Adam Willoughby"},{"$f":"IF(ISBLANK(LeaderPivot!H14),\"\",LeaderPivot!H14)","v":194},{"$f":"VLOOKUP(J13,WAVA!$C$3:$AX$299,48,FALSE)","v":4}]
[12,{"$f":"IF(ISBLANK(LeaderPivot!A15),\"\",LeaderPivot!A15)","v":"Martin Love"},{"$f":"IF(ISBLANK(LeaderPivot!B15),\"\",LeaderPivot!B15)","v":281},{"$f":"VLOOKUP(B14,WAVA!$C$3:$AX$299,48,FALSE)","v":6},12,{"$f":"IF(ISBLANK(LeaderPivot!D15),\"\",LeaderPivot!D15)","v":"Duane Craven"},{"$f":"IF(ISBLANK(LeaderPivot!E15),\"\",LeaderPivot!E15)","v":98},{"$f":"VLOOKUP(F14,WAVA!$C$3:$AX$299,48,FALSE)","v":2},12,{"$f":"IF(ISBLANK(LeaderPivot!G15),\"\",LeaderPivot!G15)","v":"Guy Richardson"},{"$f":"IF(ISBLANK(LeaderPivot!H15),\"\",LeaderPivot!H15)","v":189},{"$f":"VLOOKUP(J14,WAVA!$C$3:$AX$299,48,FALSE)","v":4}]
[13,{"$f":"IF(ISBLANK(LeaderPivot!A16),\"\",LeaderPivot!A16)","v":"Barney Lerner"},{"$f":"IF(ISBLANK(LeaderPivot!B16),\"\",LeaderPivot!B16)","v":281},{"$f":"VLOOKUP(B15,WAVA!$C$3:$AX$299,48,FALSE)","v":6},13,{"$f":"IF(ISBLANK(LeaderPivot!D16),\"\",LeaderPivot!D16)","v":"Loris Dell'Amico"},{"$f":"IF(ISBLANK(LeaderPivot!E16),\"\",LeaderPivot!E16)","v":95},{"$f":"VLOOKUP(F15,WAVA!$C$3:$AX$299,48,FALSE)","v":2},13,{"$f":"IF(ISBLANK(LeaderPivot!G16),\"\",LeaderPivot!G16)","v":"Heather Bayliss"},{"$f":"IF(ISBLANK(LeaderPivot!H16),\"\",LeaderPivot!H16)","v":182},{"$f":"VLOOKUP(J15,WAVA!$C$3:$AX$299,48,FALSE)","v":5}]
[14,{"$f":"IF(ISBLANK(LeaderPivot!A17),\"\",LeaderPivot!A17)","v":"Louise Nash"},{"$f":"IF(ISBLANK(LeaderPivot!B17),\"\",LeaderPivot!B17)","v":275},{"$f":"VLOOKUP(B16,WAVA!$C$3:$AX$299,48,FALSE)","v":6},14,{"$f":"IF(ISBLANK(LeaderPivot!D17),\"\",LeaderPivot!D17)","v":"Laura Richardson"},{"$f":"IF(ISBLANK(LeaderPivot!E17),\"\",LeaderPivot!E17)","v":91},{"$f":"VLOOKUP(F16,WAVA!$C$3:$AX$299,48,FALSE)","v":2},14,{"$f":"IF(ISBLANK(LeaderPivot!G17),\"\",LeaderPivot!G17)","v":"Alexandra Ayling"},{"$f":"IF(ISBLANK(LeaderPivot!H17),\"\",LeaderPivot!H17)","v":165},{"$f":"VLOOKUP(J16,WAVA!$C$3:$AX$299,48,FALSE)","v":4}]
[15,{"$f":"IF(ISBLANK(LeaderPivot!A18),\"\",LeaderPivot!A18)","v":"Urmila Mistry"},{"$f":"IF(ISBLANK(LeaderPivot!B18),\"\",LeaderPivot!B18)","v":272},{"$f":"VLOOKUP(B17,WAVA!$C$3:$AX$299,48,FALSE)","v":7},15,{"$f":"IF(ISBLANK(LeaderPivot!D18),\"\",LeaderPivot!D18)","v":"Kamil Zakowski"},{"$f":"IF(ISBLANK(LeaderPivot!E18),\"\",LeaderPivot!E18)","v":87},{"$f":"VLOOKUP(F17,WAVA!$C$3:$AX$299,48,FALSE)","v":2},15,{"$f":"IF(ISBLANK(LeaderPivot!G18),\"\",LeaderPivot!G18)","v":"Rachel Boyd"},{"$f":"IF(ISBLANK(LeaderPivot!H18),\"\",LeaderPivot!H18)","v":150},{"$f":"VLOOKUP(J17,WAVA!$C$3:$AX$299,48,FALSE)","v":3}]
[16,{"$f":"IF(ISBLANK(LeaderPivot!A19),\"\",LeaderPivot!A19)","v":"Noel Fitzpatrick"},{"$f":"IF(ISBLANK(LeaderPivot!B19),\"\",LeaderPivot!B19)","v":257},{"$f":"VLOOKUP(B18,WAVA!$C$3:$AX$299,48,FALSE)","v":6},16,{"$f":"IF(ISBLANK(LeaderPivot!D19),\"\",LeaderPivot!D19)","v":"Gareth Ward"},{"$f":"IF(ISBLANK(LeaderPivot!E19),\"\",LeaderPivot!E19)","v":86},{"$f":"VLOOKUP(F18,WAVA!$C$3:$AX$299,48,FALSE)","v":2},16,{"$f":"IF(ISBLANK(LeaderPivot!G19),\"\",LeaderPivot!G19)","v":"Kath Stone"},{"$f":"IF(ISBLANK(LeaderPivot!H19),\"\",LeaderPivot!H19)","v":143},{"$f":"VLOOKUP(J18,WAVA!$C$3:$AX$299,48,FALSE)","v":3}]
[17,{"$f":"IF(ISBLANK(LeaderPivot!A20),\"\",LeaderPivot!A20)","v":"Rachel Parker"},{"$f":"IF(ISBLANK(LeaderPivot!B20),\"\",LeaderPivot!B20)","v":246},{"$f":"VLOOKUP(B19,WAVA!$C$3:$AX$299,48,FALSE)","v":6},17,{"$f":"IF(ISBLANK(LeaderPivot!D20),\"\",LeaderPivot!D20)","v":"Jenny Colwell"},{"$f":"IF(ISBLANK(LeaderPivot!E20),\"\",LeaderPivot!E20)","v":84},{"$f":"VLOOKUP(F19,WAVA!$C$3:$AX$299,48,FALSE)","v":2},17,{"$f":"IF(ISBLANK(LeaderPivot!G20),\"\",LeaderPivot!G20)","v":"James Gardner"},{"$f":"IF(ISBLANK(LeaderPivot!H20),\"\",LeaderPivot!H20)","v":139},{"$f":"VLOOKUP(J19,WAVA!$C$3:$AX$299,48,FALSE)","v":3}]
[18,{"$f":"IF(ISBLANK(LeaderPivot!A21),\"\",LeaderPivot!A21)","v":"Simon Frazer"},{"$f":"IF(ISBLANK(LeaderPivot!B21),\"\",LeaderPivot!B21)","v":241},{"$f":"VLOOKUP(B20,WAVA!$C$3:$AX$299,48,FALSE)","v":5},18,{"$f":"IF(ISBLANK(LeaderPivot!D21),\"\",LeaderPivot!D21)","v":"Ian Dickinson"},{"$f":"IF(ISBLANK(LeaderPivot!E21),\"\",LeaderPivot!E21)","v":83},{"$f":"VLOOKUP(F20,WAVA!$C$3:$AX$299,48,FALSE)","v":2},18,{"$f":"IF(ISBLANK(LeaderPivot!G21),\"\",LeaderPivot!G21)","v":"Pawel Tryc"},{"$f":"IF(ISBLANK(LeaderPivot!H21),\"\",LeaderPivot!H21)","v":137},{"$f":"VLOOKUP(J20,WAVA!$C$3:$AX$299,48,FALSE)","v":3}]
[19,{"$f":"IF(ISBLANK(LeaderPivot!A22),\"\",LeaderPivot!A22)","v":"Tim Mosedale"},{"$f":"IF(ISBLANK(LeaderPivot!B22),\"\",LeaderPivot!B22)","v":232},{"$f":"VLOOKUP(B21,WAVA!$C$3:$AX$299,48,FALSE)","v":6},19,{"$f":"IF(ISBLANK(LeaderPivot!D22),\"\",LeaderPivot!D22)","v":"Alistair Nash"},{"$f":"IF(ISBLANK(LeaderPivot!E22),\"\",LeaderPivot!E22)","v":50},{"$f":"VLOOKUP(F21,WAVA!$C$3:$AX$299,48,FALSE)","v":1},19,{"$f":"IF(ISBLANK(LeaderPivot!G22),\"\",LeaderPivot!G22)","v":"Judith Nunn"},{"$f":"IF(ISBLANK(LeaderPivot!H22),\"\",LeaderPivot!H22)","v":115},{"$f":"VLOOKUP(J21,WAVA!$C$3:$AX$299,48,FALSE)","v":3}]
[20,{"$f":"IF(ISBLANK(LeaderPivot!A23),\"\",LeaderPivot!A23)","v":"Denise Davis"},{"$f":"IF(ISBLANK(LeaderPivot!B23),\"\",LeaderPivot!B23)","v":231},{"$f":"VLOOKUP(B22,WAVA!$C$3:$AX$299,48,FALSE)","v":6},20,{"$f":"IF(ISBLANK(LeaderPivot!D23),\"\",LeaderPivot!D23)","v":"Vicki Johnston"},{"$f":"IF(ISBLANK(LeaderPivot!E23),\"\",LeaderPivot!E23)","v":49},{"$f":"VLOOKUP(F22,WAVA!$C$3:$AX$299,48,FALSE)","v":1},20,{"$f":"IF(ISBLANK(LeaderPivot!G23),\"\",LeaderPivot!G23)","v":"Jeremy Rix"},{"$f":"IF(ISBLANK(LeaderPivot!H23),\"\",LeaderPivot!H23)","v":99},{"$f":"VLOOKUP(J22,WAVA!$C$3:$AX$299,48,FALSE)","v":2}]
[21,{"$f":"IF(ISBLANK(LeaderPivot!A24),\"\",LeaderPivot!A24)","v":"Gary Pennington"},{"$f":"IF(ISBLANK(LeaderPivot!B24),\"\",LeaderPivot!B24)","v":229},{"$f":"VLOOKUP(B23,WAVA!$C$3:$AX$299,48,FALSE)","v":5},21,{"$f":"IF(ISBLANK(LeaderPivot!D24),\"\",LeaderPivot!D24)","v":"Jeremy Wright"},{"$f":"IF(ISBLANK(LeaderPivot!E24),\"\",LeaderPivot!E24)","v":49},{"$f":"VLOOKUP(F23,WAVA!$C$3:$AX$299,48,FALSE)","v":1},21,{"$f":"IF(ISBLANK(LeaderPivot!G24),\"\",LeaderPivot!G24)","v":"Tim Baldwin"},{"$f":"IF(ISBLANK(LeaderPivot!H24),\"\",LeaderPivot!H24)","v":99},{"$f":"VLOOKUP(J23,WAVA!$C$3:$AX$299,48,FALSE)","v":2}]
[22,{"$f":"IF(ISBLANK(LeaderPivot!A25),\"\",LeaderPivot!A25)","v":"Claire Thaper"},{"$f":"IF(ISBLANK(LeaderPivot!B25),\"\",LeaderPivot!B25)","v":228},{"$f":"VLOOKUP(B24,WAVA!$C$3:$AX$299,48,FALSE)","v":6},22,{"$f":"IF(ISBLANK(LeaderPivot!D25),\"\",LeaderPivot!D25)","v":"Peter Huby"},{"$f":"IF(ISBLANK(LeaderPivot!E25),\"\",LeaderPivot!E25)","v":48},{"$f":"VLOOKUP(F24,WAVA!$C$3:$AX$299,48,FALSE)","v":1},22,{"$f":"IF(ISBLANK(LeaderPivot!G25),\"\",LeaderPivot!G25)","v":"Hannah Elliott"},{"$f":"IF(ISBLANK(LeaderPivot!H25),\"\",LeaderPivot!H25)","v":98},{"$f":"VLOOKUP(J24,WAVA!$C$3:$AX$299,48,FALSE)","v":2}]
[23,{"$f":"IF(ISBLANK(LeaderPivot!A26),\"\",LeaderPivot!A26)","v":"Helen Western"},{"$f":"IF(ISBLANK(LeaderPivot!B26),\"\",LeaderPivot!B26)","v":212},{"$f":"VLOOKUP(B25,WAVA!$C$3:$AX$299,48,FALSE)","v":5},23,{"$f":"IF(ISBLANK(LeaderPivot!D26),\"\",LeaderPivot!D26)","v":"Sam White"},{"$f":"IF(ISBLANK(LeaderPivot!E26),\"\",LeaderPivot!E26)","v":48},{"$f":"VLOOKUP(F25,WAVA!$C$3:$AX$299,48,FALSE)","v":1},23,{"$f":"IF(ISBLANK(LeaderPivot!G26),\"\",LeaderPivot!G26)","v":"Craig  Beza"},{"$f":"IF(ISBLANK(LeaderPivot!H26),\"\",LeaderPivot!H26)","v":98},{"$f":"VLOOKUP(J25,WAVA!$C$3:$AX$299,48,FALSE)","v":2}]
[24,{"$f":"IF(ISBLANK(LeaderPivot!A27),\"\",LeaderPivot!A27)","v":"Frank Beecroft"},{"$f":"IF(ISBLANK(LeaderPivot!B27),\"\",LeaderPivot!B27)","v":205},{"$f":"VLOOKUP(B26,WAVA!$C$3:$AX$299,48,FALSE)","v":5},24,{"$f":"IF(ISBLANK(LeaderPivot!D27),\"\",LeaderPivot!D27)","v":"John Colwell"},{"$f":"IF(ISBLANK(LeaderPivot!E27),\"\",LeaderPivot!E27)","v":47},{"$f":"VLOOKUP(F26,WAVA!$C$3:$AX$299,48,FALSE)","v":1},24,{"$f":"IF(ISBLANK(LeaderPivot!G27),\"\",LeaderPivot!G27)","v":"Tom Lee"},{"$f":"IF(ISBLANK(LeaderPivot!H27),\"\",LeaderPivot!H27)","v":98},{"$f":"VLOOKUP(J26,WAVA!$C$3:$AX$299,48,FALSE)","v":2}]
[25,{"$f":"IF(ISBLANK(LeaderPivot!A28),\"\",LeaderPivot!A28)","v":"Fiona Farquhar"},{"$f":"IF(ISBLANK(LeaderPivot!B28),\"\",LeaderPivot!B28)","v":201},{"$f":"VLOOKUP(B27,WAVA!$C$3:$AX$299,48,FALSE)","v":5},25,{"$f":"IF(ISBLANK(LeaderPivot!D28),\"\",LeaderPivot!D28)","v":"Mervyn Silva"},{"$f":"IF(ISBLANK(LeaderPivot!E28),\"\",LeaderPivot!E28)","v":47},{"$f":"VLOOKUP(F27,WAVA!$C$3:$AX$299,48,FALSE)","v":1},25,{"$f":"IF(ISBLANK(LeaderPivot!G28),\"\",LeaderPivot!G28)","v":"Steven Maude"},{"$f":"IF(ISBLANK(LeaderPivot!H28),\"\",LeaderPivot!H28)","v":96},{"$f":"VLOOKUP(J27,WAVA!$C$3:$AX$299,48,FALSE)","v":2}]
[26,{"$f":"IF(ISBLANK(LeaderPivot!A29),\"\",LeaderPivot!A29)","v":"Suzanne Hague"},{"$f":"IF(ISBLANK(LeaderPivot!B29),\"\",LeaderPivot!B29)","v":195},{"$f":"VLOOKUP(B28,WAVA!$C$3:$AX$299,48,FALSE)","v":5},26,{"$f":"IF(ISBLANK(LeaderPivot!D29),\"\",LeaderPivot!D29)","v":"Tamsin Treasure-Jones"},{"$f":"IF(ISBLANK(LeaderPivot!E29),\"\",LeaderPivot!E29)","v":46},{"$f":"VLOOKUP(F28,WAVA!$C$3:$AX$299,48,FALSE)","v":1},26,{"$f":"IF(ISBLANK(LeaderPivot!G29),\"\",LeaderPivot!G29)","v":"James Goodall"},{"$f":"IF(ISBLANK(LeaderPivot!H29),\"\",LeaderPivot!H29)","v":96},{"$f":"VLOOKUP(J28,WAVA!$C$3:$AX$299,48,FALSE)","v":2}]
[27,{"$f":"IF(ISBLANK(LeaderPivot!A30),\"\",LeaderPivot!A30)","v":"Jack Verity"},{"$f":"IF(ISBLANK(LeaderPivot!B30),\"\",LeaderPivot!B30)","v":187},{"$f":"VLOOKUP(B29,WAVA!$C$3:$AX$299,48,FALSE)","v":4},27,{"$f":"IF(ISBLANK(LeaderPivot!D30),\"\",LeaderPivot!D30)","v":"Kelly Smith"},{"$f":"IF(ISBLANK(LeaderPivot!E30),\"\",LeaderPivot!E30)","v":46},{"$f":"VLOOKUP(F29,WAVA!$C$3:$AX$299,48,FALSE)","v":1},27,{"$f":"IF(ISBLANK(LeaderPivot!G30),\"\",LeaderPivot!G30)","v":"Benjamin Pearson"},{"$f":"IF(ISBLANK(LeaderPivot!H30),\"\",LeaderPivot!H30)","v":95},{"$f":"VLOOKUP(J29,WAVA!$C$3:$AX$299,48,FALSE)","v":2}]
[28,{"$f":"IF(ISBLANK(LeaderPivot!A31),\"\",LeaderPivot!A31)","v":"Frank Masley"},{"$f":"IF(ISBLANK(LeaderPivot!B31),\"\",LeaderPivot!B31)","v":177},{"$f":"VLOOKUP(B30,WAVA!$C$3:$AX$299,48,FALSE)","v":4},28,{"$f":"IF(ISBLANK(LeaderPivot!D31),\"\",LeaderPivot!D31)","v":"Tony Hart"},{"$f":"IF(ISBLANK(LeaderPivot!E31),\"\",LeaderPivot!E31)","v":0},{"$f":"VLOOKUP(F30,WAVA!$C$3:$AX$299,48,FALSE)","v":0},28,{"$f":"IF(ISBLANK(LeaderPivot!G31),\"\",LeaderPivot!G31)","v":"Malcolm Foy"},{"$f":"IF(ISBLANK(LeaderPivot!H31),\"\",LeaderPivot!H31)","v":94},{"$f":"VLOOKUP(J30,WAVA!$C$3:$AX$299,48,FALSE)","v":2}]
[29,{"$f":"IF(ISBLANK(LeaderPivot!A32),\"\",LeaderPivot!A32)","v":"Louise Dell'Amico"},{"$f":"IF(ISBLANK(LeaderPivot!B32),\"\",LeaderPivot!B32)","v":155},{"$f":"VLOOKUP(B31,WAVA!$C$3:$AX$299,48,FALSE)","v":4},29,{"$f":"IF(ISBLANK(LeaderPivot!D32),\"\",LeaderPivot!D32)","v":"Emma Cartledge"},{"$f":"IF(ISBLANK(LeaderPivot!E32),\"\",LeaderPivot!E32)","v":0},{"$f":"VLOOKUP(F31,WAVA!$C$3:$AX$299,48,FALSE)","v":0},29,{"$f":"IF(ISBLANK(LeaderPivot!G32),\"\",LeaderPivot!G32)","v":"Claire Burrill"},{"$f":"IF(ISBLANK(LeaderPivot!H32),\"\",LeaderPivot!H32)","v":92},{"$f":"VLOOKUP(J31,WAVA!$C$3:$AX$299,48,FALSE)","v":2}]
[30,{"$f":"IF(ISBLANK(LeaderPivot!A33),\"\",LeaderPivot!A33)","v":"Gillian Hyde"},{"$f":"IF(ISBLANK(LeaderPivot!B33),\"\",LeaderPivot!B33)","v":154},{"$f":"VLOOKUP(B32,WAVA!$C$3:$AX$299,48,FALSE)","v":4},30,{"$f":"IF(ISBLANK(LeaderPivot!D33),\"\",LeaderPivot!D33)","v":"Simon Rose"},{"$f":"IF(ISBLANK(LeaderPivot!E33),\"\",LeaderPivot!E33)","v":0},{"$f":"VLOOKUP(F32,WAVA!$C$3:$AX$299,48,FALSE)","v":0},30,{"$f":"IF(ISBLANK(LeaderPivot!G33),\"\",LeaderPivot!G33)","v":"Adam Camp"},{"$f":"IF(ISBLANK(LeaderPivot!H33),\"\",LeaderPivot!H33)","v":91},{"$f":"VLOOKUP(J32,WAVA!$C$3:$AX$299,48,FALSE)","v":2}]
[31,{"$f":"IF(ISBLANK(LeaderPivot!A34),\"\",LeaderPivot!A34)","v":"Stewart Spink"},{"$f":"IF(ISBLANK(LeaderPivot!B34),\"\",LeaderPivot!B34)","v":143},{"$f":"VLOOKUP(B33,WAVA!$C$3:$AX$299,48,FALSE)","v":3},31,{"$f":"IF(ISBLANK(LeaderPivot!D34),\"\",LeaderPivot!D34)","v":"Reza Abdi"},{"$f":"IF(ISBLANK(LeaderPivot!E34),\"\",LeaderPivot!E34)","v":0},{"$f":"VLOOKUP(F33,WAVA!$C$3:$AX$299,48,FALSE)","v":0},31,{"$f":"IF(ISBLANK(LeaderPivot!G34),\"\",LeaderPivot!G34)","v":"Sheila Pepper"},{"$f":"IF(ISBLANK(LeaderPivot!H34),\"\",LeaderPivot!H34)","v":90},{"$f":"VLOOKUP(J33,WAVA!$C$3:$AX$299,48,FALSE)","v":2}]
[32,{"$f":"IF(ISBLANK(LeaderPivot!A35),\"\",LeaderPivot!A35)","v":"Matthew Richardson"},{"$f":"IF(ISBLANK(LeaderPivot!B35),\"\",LeaderPivot!B35)","v":142},{"$f":"VLOOKUP(B34,WAVA!$C$3:$AX$299,48,FALSE)","v":3},32,{"$f":"IF(ISBLANK(LeaderPivot!D35),\"\",LeaderPivot!D35)","v":"Robert Hague"},{"$f":"IF(ISBLANK(LeaderPivot!E35),\"\",LeaderPivot!E35)","v":0},{"$f":"VLOOKUP(F34,WAVA!$C$3:$AX$299,48,FALSE)","v":0},32,{"$f":"IF(ISBLANK(LeaderPivot!G35),\"\",LeaderPivot!G35)","v":"Kerry Wood"},{"$f":"IF(ISBLANK(LeaderPivot!H35),\"\",LeaderPivot!H35)","v":88},{"$f":"VLOOKUP(J34,WAVA!$C$3:$AX$299,48,FALSE)","v":2}]
[33,{"$f":"IF(ISBLANK(LeaderPivot!A36),\"\",LeaderPivot!A36)","v":"Mark Walker"},{"$f":"IF(ISBLANK(LeaderPivot!B36),\"\",LeaderPivot!B36)","v":125},{"$f":"VLOOKUP(B35,WAVA!$C$3:$AX$299,48,FALSE)","v":3},33,{"$f":"IF(ISBLANK(LeaderPivot!D36),\"\",LeaderPivot!D36)","v":"Nicola Pickard"},{"$f":"IF(ISBLANK(LeaderPivot!E36),\"\",LeaderPivot!E36)","v":0},{"$f":"VLOOKUP(F35,WAVA!$C$3:$AX$299,48,FALSE)","v":0},33,{"$f":"IF(ISBLANK(LeaderPivot!G36),\"\",LeaderPivot!G36)","v":"Lucy Johnston"},{"$f":"IF(ISBLANK(LeaderPivot!H36),\"\",LeaderPivot!H36)","v":86},{"$f":"VLOOKUP(J35,WAVA!$C$3:$AX$299,48,FALSE)","v":2}]
[34,{"$f":"IF(ISBLANK(LeaderPivot!A37),\"\",LeaderPivot!A37)","v":"Dairine Nethercott"},{"$f":"IF(ISBLANK(LeaderPivot!B37),\"\",LeaderPivot!B37)","v":119},{"$f":"VLOOKUP(B36,WAVA!$C$3:$AX$299,48,FALSE)","v":3},34,{"$f":"IF(ISBLANK(LeaderPivot!D37),\"\",LeaderPivot!D37)","v":"Marcin Soszka"},{"$f":"IF(ISBLANK(LeaderPivot!E37),\"\",LeaderPivot!E37)","v":0},{"$f":"VLOOKUP(F36,WAVA!$C$3:$AX$299,48,FALSE)","v":0},34,{"$f":"IF(ISBLANK(LeaderPivot!G37),\"\",LeaderPivot!G37)","v":"Simon Furlong"},{"$f":"IF(ISBLANK(LeaderPivot!H37),\"\",LeaderPivot!H37)","v":85},{"$f":"VLOOKUP(J36,WAVA!$C$3:$AX$299,48,FALSE)","v":2}]
[35,{"$f":"IF(ISBLANK(LeaderPivot!A38),\"\",LeaderPivot!A38)","v":"Darren Longhorn"},{"$f":"IF(ISBLANK(LeaderPivot!B38),\"\",LeaderPivot!B38)","v":91},{"$f":"VLOOKUP(B37,WAVA!$C$3:$AX$299,48,FALSE)","v":2},35,{"$f":"IF(ISBLANK(LeaderPivot!D38),\"\",LeaderPivot!D38)","v":"Bernadette Cook"},{"$f":"IF(ISBLANK(LeaderPivot!E38),\"\",LeaderPivot!E38)","v":0},{"$f":"VLOOKUP(F37,WAVA!$C$3:$AX$299,48,FALSE)","v":0},35,{"$f":"IF(ISBLANK(LeaderPivot!G38),\"\",LeaderPivot!G38)","v":"jennifer bartlett"},{"$f":"IF(ISBLANK(LeaderPivot!H38),\"\",LeaderPivot!H38)","v":83},{"$f":"VLOOKUP(J37,WAVA!$C$3:$AX$299,48,FALSE)","v":2}]
[36,{"$f":"IF(ISBLANK(LeaderPivot!A39),\"\",LeaderPivot!A39)","v":"Simon Kingsnorth"},{"$f":"IF(ISBLANK(LeaderPivot!B39),\"\",LeaderPivot!B39)","v":87},{"$f":"VLOOKUP(B38,WAVA!$C$3:$AX$299,48,FALSE)","v":2},36,{"$f":"IF(ISBLANK(LeaderPivot!D39),\"\",LeaderPivot!D39)","v":"Jane Hart"},{"$f":"IF(ISBLANK(LeaderPivot!E39),\"\",LeaderPivot!E39)","v":0},{"$f":"VLOOKUP(F38,WAVA!$C$3:$AX$299,48,FALSE)","v":0},36,{"$f":"IF(ISBLANK(LeaderPivot!G39),\"\",LeaderPivot!G39)","v":"Julia Beaumont"},{"$f":"IF(ISBLANK(LeaderPivot!H39),\"\",LeaderPivot!H39)","v":81},{"$f":"VLOOKUP(J38,WAVA!$C$3:$AX$299,48,FALSE)","v":2}]
[37,{"$f":"IF(ISBLANK(LeaderPivot!A40),\"\",LeaderPivot!A40)","v":"Graham Corbett"},{"$f":"IF(ISBLANK(LeaderPivot!B40),\"\",LeaderPivot!B40)","v":50},{"$f":"VLOOKUP(B39,WAVA!$C$3:$AX$299,48,FALSE)","v":1},37,{"$f":"IF(ISBLANK(LeaderPivot!D40),\"\",LeaderPivot!D40)","v":"Igs Robun"},{"$f":"IF(ISBLANK(LeaderPivot!E40),\"\",LeaderPivot!E40)","v":0},{"$f":"VLOOKUP(F39,WAVA!$C$3:$AX$299,48,FALSE)","v":0},37,{"$f":"IF(ISBLANK(LeaderPivot!G40),\"\",LeaderPivot!G40)","v":"Ambrose Griffiths"},{"$f":"IF(ISBLANK(LeaderPivot!H40),\"\",LeaderPivot!H40)","v":78},{"$f":"VLOOKUP(J39,WAVA!$C$3:$AX$299,48,FALSE)","v":2}]
[38,{"$f":"IF(ISBLANK(LeaderPivot!A41),\"\",LeaderPivot!A41)","v":"Chris Stott"},{"$f":"IF(ISBLANK(LeaderPivot!B41),\"\",LeaderPivot!B41)","v":42},{"$f":"VLOOKUP(B40,WAVA!$C$3:$AX$299,48,FALSE)","v":1},"",{"$f":"IF(ISBLANK(LeaderPivot!D41),\"\",LeaderPivot!D41)","v":""},{"$f":"IF(ISBLANK(LeaderPivot!E41),\"\",LeaderPivot!E41)","v":""},null,38,{"$f":"IF(ISBLANK(LeaderPivot!G41),\"\",LeaderPivot!G41)","v":"Harriet Fletcher"},{"$f":"IF(ISBLANK(LeaderPivot!H41),\"\",LeaderPivot!H41)","v":78},{"$f":"VLOOKUP(J40,WAVA!$C$3:$AX$299,48,FALSE)","v":2}]
[39,{"$f":"IF(ISBLANK(LeaderPivot!A42),\"\",LeaderPivot!A42)","v":"Ben Marchant"},{"$f":"IF(ISBLANK(LeaderPivot!B42),\"\",LeaderPivot!B42)","v":41},{"$f":"VLOOKUP(B41,WAVA!$C$3:$AX$299,48,FALSE)","v":1},"",{"$f":"IF(ISBLANK(LeaderPivot!D42),\"\",LeaderPivot!D42)","v":""},{"$f":"IF(ISBLANK(LeaderPivot!E42),\"\",LeaderPivot!E42)","v":""},null,39,{"$f":"IF(ISBLANK(LeaderPivot!G42),\"\",LeaderPivot!G42)","v":"Megan Paul"},{"$f":"IF(ISBLANK(LeaderPivot!H42),\"\",LeaderPivot!H42)","v":71},{"$f":"VLOOKUP(J41,WAVA!$C$3:$AX$299,48,FALSE)","v":2}]
[40,{"$f":"IF(ISBLANK(LeaderPivot!A43),\"\",LeaderPivot!A43)","v":"Chris Reynier"},{"$f":"IF(ISBLANK(LeaderPivot!B43),\"\",LeaderPivot!B43)","v":0},{"$f":"VLOOKUP(B42,WAVA!$C$3:$AX$299,48,FALSE)","v":0},"",{"$f":"IF(ISBLANK(LeaderPivot!D43),\"\",LeaderPivot!D43)","v":""},{"$f":"IF(ISBLANK(LeaderPivot!E43),\"\",LeaderPivot!E43)","v":""},null,40,{"$f":"IF(ISBLANK(LeaderPivot!G43),\"\",LeaderPivot!G43)","v":"charlotte martin"},{"$f":"IF(ISBLANK(LeaderPivot!H43),\"\",LeaderPivot!H43)","v":71},{"$f":"VLOOKUP(J42,WAVA!$C$3:$AX$299,48,FALSE)","v":2}]
[41,{"$f":"IF(ISBLANK(LeaderPivot!A44),\"\",LeaderPivot!A44)","v":"Chris Jones"},{"$f":"IF(ISBLANK(LeaderPivot!B44),\"\",LeaderPivot!B44)","v":0},{"$f":"VLOOKUP(B43,WAVA!$C$3:$AX$299,48,FALSE)","v":0},"",{"$f":"IF(ISBLANK(LeaderPivot!D44),\"\",LeaderPivot!D44)","v":""},{"$f":"IF(ISBLANK(LeaderPivot!E44),\"\",LeaderPivot!E44)","v":""},null,41,{"$f":"IF(ISBLANK(LeaderPivot!G44),\"\",LeaderPivot!G44)","v":"Anne Mason"},{"$f":"IF(ISBLANK(LeaderPivot!H44),\"\",LeaderPivot!H44)","v":71},{"$f":"VLOOKUP(J43,WAVA!$C$3:$AX$299,48,FALSE)","v":2}]
[42,{"$f":"IF(ISBLANK(LeaderPivot!A45),\"\",LeaderPivot!A45)","v":"Paul Disney"},{"$f":"IF(ISBLANK(LeaderPivot!B45),\"\",LeaderPivot!B45)","v":0},{"$f":"VLOOKUP(B44,WAVA!$C$3:$AX$299,48,FALSE)","v":0},{"$f":"IF(F44=\"\",\"\",E43+1)","v":""},{"$f":"IF(ISBLANK(LeaderPivot!D45),\"\",LeaderPivot!D45)","v":""},{"$f":"IF(ISBLANK(LeaderPivot!E45),\"\",LeaderPivot!E45)","v":""},null,42,{"$f":"IF(ISBLANK(LeaderPivot!G45),\"\",LeaderPivot!G45)","v":"Shiela Bugg"},{"$f":"IF(ISBLANK(LeaderPivot!H45),\"\",LeaderPivot!H45)","v":69},{"$f":"VLOOKUP(J44,WAVA!$C$3:$AX$299,48,FALSE)","v":2}]
[43,{"$f":"IF(ISBLANK(LeaderPivot!A46),\"\",LeaderPivot!A46)","v":"Julie Firth"},{"$f":"IF(ISBLANK(LeaderPivot!B46),\"\",LeaderPivot!B46)","v":0},{"$f":"VLOOKUP(B45,WAVA!$C$3:$AX$299,48,FALSE)","v":0},"",{"$f":"IF(ISBLANK(LeaderPivot!D46),\"\",LeaderPivot!D46)","v":""},{"$f":"IF(ISBLANK(LeaderPivot!E46),\"\",LeaderPivot!E46)","v":""},null,43,{"$f":"IF(ISBLANK(LeaderPivot!G46),\"\",LeaderPivot!G46)","v":"Liz Dearden"},{"$f":"IF(ISBLANK(LeaderPivot!H46),\"\",LeaderPivot!H46)","v":67},{"$f":"VLOOKUP(J45,WAVA!$C$3:$AX$299,48,FALSE)","v":2}]
[44,{"$f":"IF(ISBLANK(LeaderPivot!A47),\"\",LeaderPivot!A47)","v":"Lorna Nixon"},{"$f":"IF(ISBLANK(LeaderPivot!B47),\"\",LeaderPivot!B47)","v":0},{"$f":"VLOOKUP(B46,WAVA!$C$3:$AX$299,48,FALSE)","v":0},"",{"$f":"IF(ISBLANK(LeaderPivot!D47),\"\",LeaderPivot!D47)","v":""},{"$f":"IF(ISBLANK(LeaderPivot!E47),\"\",LeaderPivot!E47)","v":""},null,44,{"$f":"IF(ISBLANK(LeaderPivot!G47),\"\",LeaderPivot!G47)","v":"Amanda Race"},{"$f":"IF(ISBLANK(LeaderPivot!H47),\"\",LeaderPivot!H47)","v":63},{"$f":"VLOOKUP(J46,WAVA!$C$3:$AX$299,48,FALSE)","v":2}]
[45,{"$f":"IF(ISBLANK(LeaderPivot!A48),\"\",LeaderPivot!A48)","v":"Richard Nixon"},{"$f":"IF(ISBLANK(LeaderPivot!B48),\"\",LeaderPivot!B48)","v":0},{"$f":"VLOOKUP(B47,WAVA!$C$3:$AX$299,48,FALSE)","v":0},{"$f":"IF(F47=\"\",\"\",E46+1)","v":""},{"$f":"IF(ISBLANK(LeaderPivot!D48),\"\",LeaderPivot!D48)","v":""},{"$f":"IF(ISBLANK(LeaderPivot!E48),\"\",LeaderPivot!E48)","v":""},null,45,{"$f":"IF(ISBLANK(LeaderPivot!G48),\"\",LeaderPivot!G48)","v":"Matt Nowell"},{"$f":"IF(ISBLANK(LeaderPivot!H48),\"\",LeaderPivot!H48)","v":50},{"$f":"VLOOKUP(J47,WAVA!$C$3:$AX$299,48,FALSE)","v":1}]
["",{"$f":"IF(ISBLANK(LeaderPivot!A49),\"\",LeaderPivot!A49)","v":""},{"$f":"IF(ISBLANK(LeaderPivot!B49),\"\",LeaderPivot!B49)","v":""},null,"",{"$f":"IF(ISBLANK(LeaderPivot!D49),\"\",LeaderPivot!D49)","v":""},{"$f":"IF(ISBLANK(LeaderPivot!E49),\"\",LeaderPivot!E49)","v":""},null,46,{"$f":"IF(ISBLANK(LeaderPivot!G49),\"\",LeaderPivot!G49)","v":"Peter Hopson"},{"$f":"IF(ISBLANK(LeaderPivot!H49),\"\",LeaderPivot!H49)","v":50},{"$f":"VLOOKUP(J48,WAVA!$C$3:$AX$299,48,FALSE)","v":1}]
["",{"$f":"IF(ISBLANK(LeaderPivot!A50),\"\",LeaderPivot!A50)","v":""},"",null,"",{"$f":"IF(ISBLANK(LeaderPivot!D50),\"\",LeaderPivot!D50)","v":""},{"$f":"IF(ISBLANK(LeaderPivot!E50),\"\",LeaderPivot!E50)","v":""},null,47,{"$f":"IF(ISBLANK(LeaderPivot!G50),\"\",LeaderPivot!G50)","v":"Robert Burrell Donkin"},{"$f":"IF(ISBLANK(LeaderPivot!H50),\"\",LeaderPivot!H50)","v":50},{"$f":"VLOOKUP(J49,WAVA!$C$3:$AX$299,48,FALSE)","v":1}]
["",{"$f":"IF(ISBLANK(LeaderPivot!A51),\"\",LeaderPivot!A51)","v":""},"",null,"",{"$f":"IF(ISBLANK(LeaderPivot!D51),\"\",LeaderPivot!D51)","v":""},{"$f":"IF(ISBLANK(LeaderPivot!E51),\"\",LeaderPivot!E51)","v":""},null,48,{"$f":"IF(ISBLANK(LeaderPivot!G51),\"\",LeaderPivot!G51)","v":"Steven Fowler"},{"$f":"IF(ISBLANK(LeaderPivot!H51),\"\",LeaderPivot!H51)","v":50},{"$f":"VLOOKUP(J50,WAVA!$C$3:$AX$299,48,FALSE)","v":1}]
[{"$f":"IF(B51=\"\",\"\",A50+1)","v":""},{"$f":"IF(ISBLANK(LeaderPivot!A52),\"\",LeaderPivot!A52)","v":""},"",null,{"$f":"IF(F51=\"\",\"\",E50+1)","v":""},"","",null,49,{"$f":"IF(ISBLANK(LeaderPivot!G52),\"\",LeaderPivot!G52)","v":"Carl Kernick"},{"$f":"IF(ISBLANK(LeaderPivot!H52),\"\",LeaderPivot!H52)","v":50},{"$f":"VLOOKUP(J51,WAVA!$C$3:$AX$299,48,FALSE)","v":1}]
["",{"$f":"IF(ISBLANK(LeaderPivot!A53),\"\",LeaderPivot!A53)","v":""},"",null,"","","",null,50,{"$f":"IF(ISBLANK(LeaderPivot!G53),\"\",LeaderPivot!G53)","v":"Andy Brown"},{"$f":"IF(ISBLANK(LeaderPivot!H53),\"\",LeaderPivot!H53)","v":50},{"$f":"VLOOKUP(J52,WAVA!$C$3:$AX$299,48,FALSE)","v":1}]
["",{"$f":"IF(ISBLANK(LeaderPivot!A54),\"\",LeaderPivot!A54)","v":""},"",null,"","","",null,51,{"$f":"IF(ISBLANK(LeaderPivot!G54),\"\",LeaderPivot!G54)","v":"Timothy Forster"},{"$f":"IF(ISBLANK(LeaderPivot!H54),\"\",LeaderPivot!H54)","v":49},{"$f":"VLOOKUP(J53,WAVA!$C$3:$AX$299,48,FALSE)","v":1}]
["",{"$f":"IF(ISBLANK(LeaderPivot!A55),\"\",LeaderPivot!A55)","v":""},"",null,"","","",null,52,{"$f":"IF(ISBLANK(LeaderPivot!G55),\"\",LeaderPivot!G55)","v":"Andrew Hutchinson"},{"$f":"IF(ISBLANK(LeaderPivot!H55),\"\",LeaderPivot!H55)","v":49},{"$f":"VLOOKUP(J54,WAVA!$C$3:$AX$299,48,FALSE)","v":1}]
["",{"$f":"IF(ISBLANK(LeaderPivot!A56),\"\",LeaderPivot!A56)","v":""},"",null,"","","",null,53,{"$f":"IF(ISBLANK(LeaderPivot!G56),\"\",LeaderPivot!G56)","v":"Laura Marchant"},{"$f":"IF(ISBLANK(LeaderPivot!H56),\"\",LeaderPivot!H56)","v":49},{"$f":"VLOOKUP(J55,WAVA!$C$3:$AX$299,48,FALSE)","v":1}]
["",{"$f":"IF(ISBLANK(LeaderPivot!A57),\"\",LeaderPivot!A57)","v":""},"",null,"","","",null,54,{"$f":"IF(ISBLANK(LeaderPivot!G57),\"\",LeaderPivot!G57)","v":"David Scrivener"},{"$f":"IF(ISBLANK(LeaderPivot!H57),\"\",LeaderPivot!H57)","v":47},{"$f":"VLOOKUP(J56,WAVA!$C$3:$AX$299,48,FALSE)","v":1}]
["",{"$f":"IF(ISBLANK(LeaderPivot!A58),\"\",LeaderPivot!A58)","v":""},"",null,"","","",null,55,{"$f":"IF(ISBLANK(LeaderPivot!G58),\"\",LeaderPivot!G58)","v":"Wendy Hey"},{"$f":"IF(ISBLANK(LeaderPivot!H58),\"\",LeaderPivot!H58)","v":47},{"$f":"VLOOKUP(J57,WAVA!$C$3:$AX$299,48,FALSE)","v":1}]
["",{"$f":"IF(ISBLANK(LeaderPivot!A59),\"\",LeaderPivot!A59)","v":""},"",null,"","","",null,56,{"$f":"IF(ISBLANK(LeaderPivot!G59),\"\",LeaderPivot!G59)","v":"Therese Sheehan"},{"$f":"IF(ISBLANK(LeaderPivot!H59),\"\",LeaderPivot!H59)","v":47},{"$f":"VLOOKUP(J58,WAVA!$C$3:$AX$299,48,FALSE)","v":1}]
["","","",null,"","","",null,57,{"$f":"IF(ISBLANK(LeaderPivot!G60),\"\",LeaderPivot!G60)","v":"Graham Terry"},{"$f":"IF(ISBLANK(LeaderPivot!H60),\"\",LeaderPivot!H60)","v":47},{"$f":"VLOOKUP(J59,WAVA!$C$3:$AX$299,48,FALSE)","v":1}]
["","","",null,"","","",null,58,{"$f":"IF(ISBLANK(LeaderPivot!G61),\"\",LeaderPivot!G61)","v":"Laura Ryall"},{"$f":"IF(ISBLANK(LeaderPivot!H61),\"\",LeaderPivot!H61)","v":46},{"$f":"VLOOKUP(J60,WAVA!$C$3:$AX$299,48,FALSE)","v":1}]
["","","",null,"","","",null,59,{"$f":"IF(ISBLANK(LeaderPivot!G62),\"\",LeaderPivot!G62)","v":"Gemma Bell"},{"$f":"IF(ISBLANK(LeaderPivot!H62),\"\",LeaderPivot!H62)","v":46},{"$f":"VLOOKUP(J61,WAVA!$C$3:$AX$299,48,FALSE)","v":1}]
["","","",null,"","","",null,60,{"$f":"IF(ISBLANK(LeaderPivot!G63),\"\",LeaderPivot!G63)","v":"tim bellwood"},{"$f":"IF(ISBLANK(LeaderPivot!H63),\"\",LeaderPivot!H63)","v":46},{"$f":"VLOOKUP(J62,WAVA!$C$3:$AX$299,48,FALSE)","v":1}]
["","","",null,"","","",null,61,{"$f":"IF(ISBLANK(LeaderPivot!G64),\"\",LeaderPivot!G64)","v":"Amanda  Bellwood"},{"$f":"IF(ISBLANK(LeaderPivot!H64),\"\",LeaderPivot!H64)","v":45},{"$f":"VLOOKUP(J63,WAVA!$C$3:$AX$299,48,FALSE)","v":1}]
["","","",null,"","","",null,62,{"$f":"IF(ISBLANK(LeaderPivot!G65),\"\",LeaderPivot!G65)","v":"Frances  Guy"},{"$f":"IF(ISBLANK(LeaderPivot!H65),\"\",LeaderPivot!H65)","v":45},{"$f":"VLOOKUP(J64,WAVA!$C$3:$AX$299,48,FALSE)","v":1}]
["","","",null,"","","",null,63,{"$f":"IF(ISBLANK(LeaderPivot!G66),\"\",LeaderPivot!G66)","v":"Tom Ratcliffe"},{"$f":"IF(ISBLANK(LeaderPivot!H66),\"\",LeaderPivot!H66)","v":44},{"$f":"VLOOKUP(J65,WAVA!$C$3:$AX$299,48,FALSE)","v":1}]
["","","",null,"","","",null,64,{"$f":"IF(ISBLANK(LeaderPivot!G67),\"\",LeaderPivot!G67)","v":"Kirstie Holmes"},{"$f":"IF(ISBLANK(LeaderPivot!H67),\"\",LeaderPivot!H67)","v":44},{"$f":"VLOOKUP(J66,WAVA!$C$3:$AX$299,48,FALSE)","v":1}]
["","","",null,"","","",null,65,{"$f":"IF(ISBLANK(LeaderPivot!G68),\"\",LeaderPivot!G68)","v":"Elaine Frazer"},{"$f":"IF(ISBLANK(LeaderPivot!H68),\"\",LeaderPivot!H68)","v":40},{"$f":"VLOOKUP(J67,WAVA!$C$3:$AX$299,48,FALSE)","v":1}]
["","","",null,"","","",null,66,{"$f":"IF(ISBLANK(LeaderPivot!G69),\"\",LeaderPivot!G69)","v":"Nina Rogers"},{"$f":"IF(ISBLANK(LeaderPivot!H69),\"\",LeaderPivot!H69)","v":39},{"$f":"VLOOKUP(J68,WAVA!$C$3:$AX$299,48,FALSE)","v":1}]
[{"$f":"IF(B69=\"\",\"\",A68+1)","v":""},"","",null,{"$f":"IF(F69=\"\",\"\",E68+1)","v":""},"","",null,{"$f":"IF(J69=\"\",\"\",I68+1)","v":67},{"$f":"IF(ISBLANK(LeaderPivot!G70),\"\",LeaderPivot!G70)","v":"Ellie Hughes"},{"$f":"IF(ISBLANK(LeaderPivot!H70),\"\",LeaderPivot!H70)","v":38},{"$f":"VLOOKUP(J69,WAVA!$C$3:$AX$299,48,FALSE)","v":1}]
["","","",null,"","","",null,68,{"$f":"IF(ISBLANK(LeaderPivot!G71),\"\",LeaderPivot!G71)","v":"Natalie Ellis"},{"$f":"IF(ISBLANK(LeaderPivot!H71),\"\",LeaderPivot!H71)","v":37},{"$f":"VLOOKUP(J70,WAVA!$C$3:$AX$299,48,FALSE)","v":1}]
["","","",null,"","","",null,69,{"$f":"IF(ISBLANK(LeaderPivot!G72),\"\",LeaderPivot!G72)","v":"Keith Jump"},{"$f":"IF(ISBLANK(LeaderPivot!H72),\"\",LeaderPivot!H72)","v":37},{"$f":"VLOOKUP(J71,WAVA!$C$3:$AX$299,48,FALSE)","v":1}]
["","","",null,"","","",null,70,{"$f":"IF(ISBLANK(LeaderPivot!G73),\"\",LeaderPivot!G73)","v":"Cristina Pacchiarini"},{"$f":"IF(ISBLANK(LeaderPivot!H73),\"\",LeaderPivot!H73)","v":37},{"$f":"VLOOKUP(J72,WAVA!$C$3:$AX$299,48,FALSE)","v":1}]
["","","",null,"","","",null,71,{"$f":"IF(ISBLANK(LeaderPivot!G74),\"\",LeaderPivot!G74)","v":"Craig Barrow"},{"$f":"IF(ISBLANK(LeaderPivot!H74),\"\",LeaderPivot!H74)","v":36},{"$f":"VLOOKUP(J73,WAVA!$C$3:$AX$299,48,FALSE)","v":1}]
["","","",null,"","","",null,72,{"$f":"IF(ISBLANK(LeaderPivot!G75),\"\",LeaderPivot!G75)","v":"Sarah Miller"},{"$f":"IF(ISBLANK(LeaderPivot!H75),\"\",LeaderPivot!H75)","v":34},{"$f":"VLOOKUP(J74,WAVA!$C$3:$AX$299,48,FALSE)","v":1}]
["","","",null,"","","",null,73,{"$f":"IF(ISBLANK(LeaderPivot!G76),\"\",LeaderPivot!G76)","v":"Emma Barrow"},{"$f":"IF(ISBLANK(LeaderPivot!H76),\"\",LeaderPivot!H76)","v":34},{"$f":"VLOOKUP(J75,WAVA!$C$3:$AX$299,48,FALSE)","v":1}]
["","","",null,"","","",null,74,{"$f":"IF(ISBLANK(LeaderPivot!G77),\"\",LeaderPivot!G77)","v":"Sikander Khan"},{"$f":"IF(ISBLANK(LeaderPivot!H77),\"\",LeaderPivot!H77)","v":34},{"$f":"VLOOKUP(J76,WAVA!$C$3:$AX$299,48,FALSE)","v":1}]
["","","",null,"","","",null,75,{"$f":"IF(ISBLANK(LeaderPivot!G78),\"\",LeaderPivot!G78)","v":"Anne Forster"},{"$f":"IF(ISBLANK(LeaderPivot!H78),\"\",LeaderPivot!H78)","v":33},{"$f":"VLOOKUP(J77,WAVA!$C$3:$AX$299,48,FALSE)","v":1}]
["","","",null,"","","",null,76,{"$f":"IF(ISBLANK(LeaderPivot!G79),\"\",LeaderPivot!G79)","v":"Catherine Berry"},{"$f":"IF(ISBLANK(LeaderPivot!H79),\"\",LeaderPivot!H79)","v":31},{"$f":"VLOOKUP(J78,WAVA!$C$3:$AX$299,48,FALSE)","v":1}]
["","","",null,"","","",null,77,{"$f":"IF(ISBLANK(LeaderPivot!G80),\"\",LeaderPivot!G80)","v":"Jessica Alred"},{"$f":"IF(ISBLANK(LeaderPivot!H80),\"\",LeaderPivot!H80)","v":30},{"$f":"VLOOKUP(J79,WAVA!$C$3:$AX$299,48,FALSE)","v":1}]
["","","",null,"","","",null,78,{"$f":"IF(ISBLANK(LeaderPivot!G81),\"\",LeaderPivot!G81)","v":"Kanwaldeep Kaur"},{"$f":"IF(ISBLANK(LeaderPivot!H81),\"\",LeaderPivot!H81)","v":27},{"$f":"VLOOKUP(J80,WAVA!$C$3:$AX$299,48,FALSE)","v":1}]
["","","",null,"","","",null,79,{"$f":"IF(ISBLANK(LeaderPivot!G82),\"\",LeaderPivot!G82)","v":"Nicola Willoughby"},{"$f":"IF(ISBLANK(LeaderPivot!H82),\"\",LeaderPivot!H82)","v":26},{"$f":"VLOOKUP(J81,WAVA!$C$3:$AX$299,48,FALSE)","v":1}]
["","","",null,"","","",null,80,{"$f":"IF(ISBLANK(LeaderPivot!G83),\"\",LeaderPivot!G83)","v":"Camille Kendall"},{"$f":"IF(ISBLANK(LeaderPivot!H83),\"\",LeaderPivot!H83)","v":0},{"$f":"VLOOKUP(J82,WAVA!$C$3:$AX$299,48,FALSE)","v":0}]
["","","",null,"","","",null,81,{"$f":"IF(ISBLANK(LeaderPivot!G84),\"\",LeaderPivot!G84)","v":"Sarah Bruckshaw"},{"$f":"IF(ISBLANK(LeaderPivot!H84),\"\",LeaderPivot!H84)","v":0},{"$f":"VLOOKUP(J83,WAVA!$C$3:$AX$299,48,FALSE)","v":0}]
["","","",null,"","","",null,{"$f":"IF(J84=\"\",\"\",I83+1)","v":82},{"$f":"IF(ISBLANK(LeaderPivot!G85),\"\",LeaderPivot!G85)","v":"Roy Bradshaw"},{"$f":"IF(ISBLANK(LeaderPivot!H85),\"\",LeaderPivot!H85)","v":0},{"$f":"VLOOKUP(J84,WAVA!$C$3:$AX$299,48,FALSE)","v":0}]
["","","",null,"","","",null,83,{"$f":"IF(ISBLANK(LeaderPivot!G86),\"\",LeaderPivot!G86)","v":"Rita Jordan"},{"$f":"IF(ISBLANK(LeaderPivot!H86),\"\",LeaderPivot!H86)","v":0},{"$f":"VLOOKUP(J85,WAVA!$C$3:$AX$299,48,FALSE)","v":0}]
["","","",null,"","","",null,84,{"$f":"IF(ISBLANK(LeaderPivot!G87),\"\",LeaderPivot!G87)","v":"Louise  Hawksworth"},{"$f":"IF(ISBLANK(LeaderPivot!H87),\"\",LeaderPivot!H87)","v":0},{"$f":"VLOOKUP(J86,WAVA!$C$3:$AX$299,48,FALSE)","v":0}]
["","","",null,"","","",null,85,{"$f":"IF(ISBLANK(LeaderPivot!G88),\"\",LeaderPivot!G88)","v":"Tina Martiny"},{"$f":"IF(ISBLANK(LeaderPivot!H88),\"\",LeaderPivot!H88)","v":0},{"$f":"VLOOKUP(J87,WAVA!$C$3:$AX$299,48,FALSE)","v":0}]
["","","",null,"","","",null,{"$f":"IF(J88=\"\",\"\",I87+1)","v":86},{"$f":"IF(ISBLANK(LeaderPivot!G89),\"\",LeaderPivot!G89)","v":"sandie lewis"},{"$f":"IF(ISBLANK(LeaderPivot!H89),\"\",LeaderPivot!H89)","v":0},{"$f":"VLOOKUP(J88,WAVA!$C$3:$AX$299,48,FALSE)","v":0}]
["","","",null,"","","",null,87,{"$f":"IF(ISBLANK(LeaderPivot!G90),\"\",LeaderPivot!G90)","v":"Carole Raistrick"},{"$f":"IF(ISBLANK(LeaderPivot!H90),\"\",LeaderPivot!H90)","v":0},{"$f":"VLOOKUP(J89,WAVA!$C$3:$AX$299,48,FALSE)","v":0}]
["","","",null,"","","",null,88,{"$f":"IF(ISBLANK(LeaderPivot!G91),\"\",LeaderPivot!G91)","v":"Gary Mckee"},{"$f":"IF(ISBLANK(LeaderPivot!H91),\"\",LeaderPivot!H91)","v":0},{"$f":"VLOOKUP(J90,WAVA!$C$3:$AX$299,48,FALSE)","v":0}]
["","","",null,"","","",null,89,{"$f":"IF(ISBLANK(LeaderPivot!G92),\"\",LeaderPivot!G92)","v":"Paula Cutter"},{"$f":"IF(ISBLANK(LeaderPivot!H92),\"\",LeaderPivot!H92)","v":0},{"$f":"VLOOKUP(J91,WAVA!$C$3:$AX$299,48,FALSE)","v":0}]
["","","",null,"","","",null,90,{"$f":"IF(ISBLANK(LeaderPivot!G93),\"\",LeaderPivot!G93)","v":"julie Cowan-Clark"},{"$f":"IF(ISBLANK(LeaderPivot!H93),\"\",LeaderPivot!H93)","v":0},{"$f":"VLOOKUP(J92,WAVA!$C$3:$AX$299,48,FALSE)","v":0}]
["","","",null,"","","",null,91,{"$f":"IF(ISBLANK(LeaderPivot!G94),\"\",LeaderPivot!G94)","v":"Victoria Baker"},{"$f":"IF(ISBLANK(LeaderPivot!H94),\"\",LeaderPivot!H94)","v":0},{"$f":"VLOOKUP(J93,WAVA!$C$3:$AX$299,48,FALSE)","v":0}]
["","","",null,"","","",null,92,{"$f":"IF(ISBLANK(LeaderPivot!G95),\"\",LeaderPivot!G95)","v":"lynsey hardiman"},{"$f":"IF(ISBLANK(LeaderPivot!H95),\"\",LeaderPivot!H95)","v":0},{"$f":"VLOOKUP(J94,WAVA!$C$3:$AX$299,48,FALSE)","v":0}]
["","","",null,"","","",null,93,{"$f":"IF(ISBLANK(LeaderPivot!G96),\"\",LeaderPivot!G96)","v":"Mick Brearley"},{"$f":"IF(ISBLANK(LeaderPivot!H96),\"\",LeaderPivot!H96)","v":0},{"$f":"VLOOKUP(J95,WAVA!$C$3:$AX$299,48,FALSE)","v":0}]
["","","",null,"","","",null,94,{"$f":"IF(ISBLANK(LeaderPivot!G97),\"\",LeaderPivot!G97)","v":"Jen  Murgatroyd"},{"$f":"IF(ISBLANK(LeaderPivot!H97),\"\",LeaderPivot!H97)","v":0},{"$f":"VLOOKUP(J96,WAVA!$C$3:$AX$299,48,FALSE)","v":0}]
["","","",null,"","","",null,95,{"$f":"IF(ISBLANK(LeaderPivot!G98),\"\",LeaderPivot!G98)","v":"Olivia Gregory"},{"$f":"IF(ISBLANK(LeaderPivot!H98),\"\",LeaderPivot!H98)","v":0},{"$f":"VLOOKUP(J97,WAVA!$C$3:$AX$299,48,FALSE)","v":0}]
["","","",null,"","","",null,96,{"$f":"IF(ISBLANK(LeaderPivot!G99),\"\",LeaderPivot!G99)","v":"Patricia Craven"},{"$f":"IF(ISBLANK(LeaderPivot!H99),\"\",LeaderPivot!H99)","v":0},{"$f":"VLOOKUP(J98,WAVA!$C$3:$AX$299,48,FALSE)","v":0}]
["","","",null,"","","",null,97,{"$f":"IF(ISBLANK(LeaderPivot!G100),\"\",LeaderPivot!G100)","v":"Rahul Mehra"},{"$f":"IF(ISBLANK(LeaderPivot!H100),\"\",LeaderPivot!H100)","v":0},{"$f":"VLOOKUP(J99,WAVA!$C$3:$AX$299,48,FALSE)","v":0}]
["","","",null,"","","",null,98,{"$f":"IF(ISBLANK(LeaderPivot!G101),\"\",LeaderPivot!G101)","v":"Dalvinder Hellawell"},{"$f":"IF(ISBLANK(LeaderPivot!H101),\"\",LeaderPivot!H101)","v":0},{"$f":"VLOOKUP(J100,WAVA!$C$3:$AX$299,48,FALSE)","v":0}]
["","","",null,"","","",null,99,{"$f":"IF(ISBLANK(LeaderPivot!G102),\"\",LeaderPivot!G102)","v":"Donna Line"},{"$f":"IF(ISBLANK(LeaderPivot!H102),\"\",LeaderPivot!H102)","v":0},{"$f":"VLOOKUP(J101,WAVA!$C$3:$AX$299,48,FALSE)","v":0}]
["","","",null,"","","",null,100,{"$f":"IF(ISBLANK(LeaderPivot!G103),\"\",LeaderPivot!G103)","v":"Tracey Thomas-Marshall"},{"$f":"IF(ISBLANK(LeaderPivot!H103),\"\",LeaderPivot!H103)","v":0},{"$f":"VLOOKUP(J102,WAVA!$C$3:$AX$299,48,FALSE)","v":0}]
["","","",null,"","","",null,101,{"$f":"IF(ISBLANK(LeaderPivot!G104),\"\",LeaderPivot!G104)","v":"Jonathan Nixon"},{"$f":"IF(ISBLANK(LeaderPivot!H104),\"\",LeaderPivot!H104)","v":0},{"$f":"VLOOKUP(J103,WAVA!$C$3:$AX$299,48,FALSE)","v":0}]
["","","",null,"","","",null,102,{"$f":"IF(ISBLANK(LeaderPivot!G105),\"\",LeaderPivot!G105)","v":"Keith Abson"},{"$f":"IF(ISBLANK(LeaderPivot!H105),\"\",LeaderPivot!H105)","v":0},{"$f":"VLOOKUP(J104,WAVA!$C$3:$AX$299,48,FALSE)","v":0}]
["","","",null,"","","",null,103,{"$f":"IF(ISBLANK(LeaderPivot!G106),\"\",LeaderPivot!G106)","v":"Lesley Watson"},{"$f":"IF(ISBLANK(LeaderPivot!H106),\"\",LeaderPivot!H106)","v":0},{"$f":"VLOOKUP(J105,WAVA!$C$3:$AX$299,48,FALSE)","v":0}]
["","","",null,"","","",null,104,{"$f":"IF(ISBLANK(LeaderPivot!G107),\"\",LeaderPivot!G107)","v":"Claire Cockcroft"},{"$f":"IF(ISBLANK(LeaderPivot!H107),\"\",LeaderPivot!H107)","v":0},{"$f":"VLOOKUP(J106,WAVA!$C$3:$AX$299,48,FALSE)","v":0}]
["","","",null,"","","",null,105,{"$f":"IF(ISBLANK(LeaderPivot!G108),\"\",LeaderPivot!G108)","v":"Imogen Ambler"},{"$f":"IF(ISBLANK(LeaderPivot!H108),\"\",LeaderPivot!H108)","v":0},{"$f":"VLOOKUP(J107,WAVA!$C$3:$AX$299,48,FALSE)","v":0}]
["","","",null,"","","",null,106,{"$f":"IF(ISBLANK(LeaderPivot!G109),\"\",LeaderPivot!G109)","v":"rifat bashir"},{"$f":"IF(ISBLANK(LeaderPivot!H109),\"\",LeaderPivot!H109)","v":0},{"$f":"VLOOKUP(J108,WAVA!$C$3:$AX$299,48,FALSE)","v":0}]
["","","",null,"","","",null,{"$f":"IF(J109=\"\",\"\",I108+1)","v":107},{"$f":"IF(ISBLANK(LeaderPivot!G110),\"\",LeaderPivot!G110)","v":"Rhiannon Barrow"},{"$f":"IF(ISBLANK(LeaderPivot!H110),\"\",LeaderPivot!H110)","v":0},{"$f":"VLOOKUP(J109,WAVA!$C$3:$AX$299,48,FALSE)","v":0}]
["","","",null,"","","",null,108,{"$f":"IF(ISBLANK(LeaderPivot!G111),\"\",LeaderPivot!G111)","v":"Rifut rehman"},{"$f":"IF(ISBLANK(LeaderPivot!H111),\"\",LeaderPivot!H111)","v":0},{"$f":"VLOOKUP(J110,WAVA!$C$3:$AX$299,48,FALSE)","v":0}]
["","","",null,"","","",null,109,{"$f":"IF(ISBLANK(LeaderPivot!G112),\"\",LeaderPivot!G112)","v":"David Blanchard"},{"$f":"IF(ISBLANK(LeaderPivot!H112),\"\",LeaderPivot!H112)","v":0},{"$f":"VLOOKUP(J111,WAVA!$C$3:$AX$299,48,FALSE)","v":0}]
["","",null,null,"","","",null,110,{"$f":"IF(ISBLANK(LeaderPivot!G113),\"\",LeaderPivot!G113)","v":"Matt Small"},{"$f":"IF(ISBLANK(LeaderPivot!H113),\"\",LeaderPivot!H113)","v":0},{"$f":"VLOOKUP(J112,WAVA!$C$3:$AX$299,48,FALSE)","v":0}]
["","",null,null,"","","",null,111,{"$f":"IF(ISBLANK(LeaderPivot!G114),\"\",LeaderPivot!G114)","v":"Rebecca Carden"},{"$f":"IF(ISBLANK(LeaderPivot!H114),\"\",LeaderPivot!H114)","v":0},{"$f":"VLOOKUP(J113,WAVA!$C$3:$AX$299,48,FALSE)","v":0}]
["","",null,null,"","","",null,112,{"$f":"IF(ISBLANK(LeaderPivot!G115),\"\",LeaderPivot!G115)","v":"Mark Davis"},{"$f":"IF(ISBLANK(LeaderPivot!H115),\"\",LeaderPivot!H115)","v":0},{"$f":"VLOOKUP(J114,WAVA!$C$3:$AX$299,48,FALSE)","v":0}]
["","",null,null,"","","",null,113,{"$f":"IF(ISBLANK(LeaderPivot!G116),\"\",LeaderPivot!G116)","v":"Helen Pennington"},{"$f":"IF(ISBLANK(LeaderPivot!H116),\"\",LeaderPivot!H116)","v":0},{"$f":"VLOOKUP(J115,WAVA!$C$3:$AX$299,48,FALSE)","v":0}]
["","",null,null,"","","",null,114,{"$f":"IF(ISBLANK(LeaderPivot!G117),\"\",LeaderPivot!G117)","v":"Paul Purcell"},{"$f":"IF(ISBLANK(LeaderPivot!H117),\"\",LeaderPivot!H117)","v":0},{"$f":"VLOOKUP(J116,WAVA!$C$3:$AX$299,48,FALSE)","v":0}]
["","",null,null,"","","",null,115,{"$f":"IF(ISBLANK(LeaderPivot!G118),\"\",LeaderPivot!G118)","v":"Kevin Armstrong"},{"$f":"IF(ISBLANK(LeaderPivot!H118),\"\",LeaderPivot!H118)","v":0},{"$f":"VLOOKUP(J117,WAVA!$C$3:$AX$299,48,FALSE)","v":0}]
["","",null,null,"","","",null,116,{"$f":"IF(ISBLANK(LeaderPivot!G119),\"\",LeaderPivot!G119)","v":"Claire Horton"},{"$f":"IF(ISBLANK(LeaderPivot!H119),\"\",LeaderPivot!H119)","v":0},{"$f":"VLOOKUP(J118,WAVA!$C$3:$AX$299,48,FALSE)","v":0}]
["","",null,null,"","","",null,117,{"$f":"IF(ISBLANK(LeaderPivot!G120),\"\",LeaderPivot!G120)","v":"Ellen Rutter"},{"$f":"IF(ISBLANK(LeaderPivot!H120),\"\",LeaderPivot!H120)","v":0},{"$f":"VLOOKUP(J119,WAVA!$C$3:$AX$299,48,FALSE)","v":0}]
["","",null,null,"","","",null,118,{"$f":"IF(ISBLANK(LeaderPivot!G121),\"\",LeaderPivot!G121)","v":"Justin Ions"},{"$f":"IF(ISBLANK(LeaderPivot!H121),\"\",LeaderPivot!H121)","v":0},{"$f":"VLOOKUP(J120,WAVA!$C$3:$AX$299,48,FALSE)","v":0}]
["","",null,null,"","","",null,119,{"$f":"IF(ISBLANK(LeaderPivot!G122),\"\",LeaderPivot!G122)","v":"Michael Moss"},{"$f":"IF(ISBLANK(LeaderPivot!H122),\"\",LeaderPivot!H122)","v":0},{"$f":"VLOOKUP(J121,WAVA!$C$3:$AX$299,48,FALSE)","v":0}]
["","",null,null,"","","",null,120,{"$f":"IF(ISBLANK(LeaderPivot!G123),\"\",LeaderPivot!G123)","v":"Ian Ogden"},{"$f":"IF(ISBLANK(LeaderPivot!H123),\"\",LeaderPivot!H123)","v":0},{"$f":"VLOOKUP(J122,WAVA!$C$3:$AX$299,48,FALSE)","v":0}]
["","",null,null,"","","",null,121,{"$f":"IF(ISBLANK(LeaderPivot!G124),\"\",LeaderPivot!G124)","v":"Liz Halfpenny"},{"$f":"IF(ISBLANK(LeaderPivot!H124),\"\",LeaderPivot!H124)","v":0},{"$f":"VLOOKUP(J123,WAVA!$C$3:$AX$299,48,FALSE)","v":0}]
["","",null,null,"","","",null,122,{"$f":"IF(ISBLANK(LeaderPivot!G125),\"\",LeaderPivot!G125)","v":"Mick Jones"},{"$f":"IF(ISBLANK(LeaderPivot!H125),\"\",LeaderPivot!H125)","v":0},{"$f":"VLOOKUP(J124,WAVA!$C$3:$AX$299,48,FALSE)","v":0}]
["","",null,null,"","","",null,123,{"$f":"IF(ISBLANK(LeaderPivot!G126),\"\",LeaderPivot!G126)","v":"Abby Hanson"},{"$f":"IF(ISBLANK(LeaderPivot!H126),\"\",LeaderPivot!H126)","v":0},{"$f":"VLOOKUP(J125,WAVA!$C$3:$AX$299,48,FALSE)","v":0}]
["","",null,null,"","","",null,124,{"$f":"IF(ISBLANK(LeaderPivot!G127),\"\",LeaderPivot!G127)","v":"elizabeth prosser"},{"$f":"IF(ISBLANK(LeaderPivot!H127),\"\",LeaderPivot!H127)","v":0},{"$f":"VLOOKUP(J126,WAVA!$C$3:$AX$299,48,FALSE)","v":0}]
["","",null,null,"","","",null,125,{"$f":"IF(ISBLANK(LeaderPivot!G128),\"\",LeaderPivot!G128)","v":"Charlotte Woollard"},{"$f":"IF(ISBLANK(LeaderPivot!H128),\"\",LeaderPivot!H128)","v":0},{"$f":"VLOOKUP(J127,WAVA!$C$3:$AX$299,48,FALSE)","v":0}]
["","",null,null,"","","",null,126,{"$f":"IF(ISBLANK(LeaderPivot!G129),\"\",LeaderPivot!G129)","v":"Hannah Oldroyd"},{"$f":"IF(ISBLANK(LeaderPivot!H129),\"\",LeaderPivot!H129)","v":0},{"$f":"VLOOKUP(J128,WAVA!$C$3:$AX$299,48,FALSE)","v":0}]
["","",null,null,"","","",null,127,{"$f":"IF(ISBLANK(LeaderPivot!G130),\"\",LeaderPivot!G130)","v":"Chris Upton"},{"$f":"IF(ISBLANK(LeaderPivot!H130),\"\",LeaderPivot!H130)","v":0},{"$f":"VLOOKUP(J129,WAVA!$C$3:$AX$299,48,FALSE)","v":0}]
["","",null,null,"","","",null,128,{"$f":"IF(ISBLANK(LeaderPivot!G131),\"\",LeaderPivot!G131)","v":"joshua rose"},{"$f":"IF(ISBLANK(LeaderPivot!H131),\"\",LeaderPivot!H131)","v":0},{"$f":"VLOOKUP(J130,WAVA!$C$3:$AX$299,48,FALSE)","v":0}]
["","",null,null,"","","",null,129,{"$f":"IF(ISBLANK(LeaderPivot!G132),\"\",LeaderPivot!G132)","v":"Catherine Bruckner"},{"$f":"IF(ISBLANK(LeaderPivot!H132),\"\",LeaderPivot!H132)","v":0},{"$f":"VLOOKUP(J131,WAVA!$C$3:$AX$299,48,FALSE)","v":0}]
["","",null,null,"","","",null,130,{"$f":"IF(ISBLANK(LeaderPivot!G133),\"\",LeaderPivot!G133)","v":"Laura Parkin"},{"$f":"IF(ISBLANK(LeaderPivot!H133),\"\",LeaderPivot!H133)","v":0},{"$f":"VLOOKUP(J132,WAVA!$C$3:$AX$299,48,FALSE)","v":0}]
[{"$f":"IF(B133=\"\",\"\",A132+1)","v":""},"",null,null,{"$f":"IF(F133=\"\",\"\",E132+1)","v":""},"","",null,{"$f":"IF(J133=\"\",\"\",I132+1)","v":131},{"$f":"IF(ISBLANK(LeaderPivot!G134),\"\",LeaderPivot!G134)","v":"John Hunt"},{"$f":"IF(ISBLANK(LeaderPivot!H134),\"\",LeaderPivot!H134)","v":0},{"$f":"VLOOKUP(J133,WAVA!$C$3:$AX$299,48,FALSE)","v":0}]
["","",null,null,"","","",null,132,{"$f":"IF(ISBLANK(LeaderPivot!G135),\"\",LeaderPivot!G135)","v":"Lizzy Pix"},{"$f":"IF(ISBLANK(LeaderPivot!H135),\"\",LeaderPivot!H135)","v":0},{"$f":"VLOOKUP(J134,WAVA!$C$3:$AX$299,48,FALSE)","v":0}]
["","",null,null,"","","",null,133,{"$f":"IF(ISBLANK(LeaderPivot!G136),\"\",LeaderPivot!G136)","v":"Simon Pass"},{"$f":"IF(ISBLANK(LeaderPivot!H136),\"\",LeaderPivot!H136)","v":0},{"$f":"VLOOKUP(J135,WAVA!$C$3:$AX$299,48,FALSE)","v":0}]
["","",null,null,"","","",null,134,{"$f":"IF(ISBLANK(LeaderPivot!G137),\"\",LeaderPivot!G137)","v":"Shirley Quarmby"},{"$f":"IF(ISBLANK(LeaderPivot!H137),\"\",LeaderPivot!H137)","v":0},{"$f":"VLOOKUP(J136,WAVA!$C$3:$AX$299,48,FALSE)","v":0}]
["","",null,null,"","","",null,135,{"$f":"IF(ISBLANK(LeaderPivot!G138),\"\",LeaderPivot!G138)","v":"Matthew Lawson"},{"$f":"IF(ISBLANK(LeaderPivot!H138),\"\",LeaderPivot!H138)","v":0},{"$f":"VLOOKUP(J137,WAVA!$C$3:$AX$299,48,FALSE)","v":0}]
["","",null,null,"","","",null,136,{"$f":"IF(ISBLANK(LeaderPivot!G139),\"\",LeaderPivot!G139)","v":"Michelle Eyres"},{"$f":"IF(ISBLANK(LeaderPivot!H139),\"\",LeaderPivot!H139)","v":0},{"$f":"VLOOKUP(J138,WAVA!$C$3:$AX$299,48,FALSE)","v":0}]
["","",null,null,"","","",null,137,{"$f":"IF(ISBLANK(LeaderPivot!G140),\"\",LeaderPivot!G140)","v":"helen leetham"},{"$f":"IF(ISBLANK(LeaderPivot!H140),\"\",LeaderPivot!H140)","v":0},{"$f":"VLOOKUP(J139,WAVA!$C$3:$AX$299,48,FALSE)","v":0}]
["","",null,null,"","","",null,138,{"$f":"IF(ISBLANK(LeaderPivot!G141),\"\",LeaderPivot!G141)","v":"Theresa Rose"},{"$f":"IF(ISBLANK(LeaderPivot!H141),\"\",LeaderPivot!H141)","v":0},{"$f":"VLOOKUP(J140,WAVA!$C$3:$AX$299,48,FALSE)","v":0}]
["","",null,null,"","","",null,139,{"$f":"IF(ISBLANK(LeaderPivot!G142),\"\",LeaderPivot!G142)","v":"Joanne O'Dwyer"},{"$f":"IF(ISBLANK(LeaderPivot!H142),\"\",LeaderPivot!H142)","v":0},{"$f":"VLOOKUP(J141,WAVA!$C$3:$AX$299,48,FALSE)","v":0}]
["","",null,null,"","","",null,140,{"$f":"IF(ISBLANK(LeaderPivot!G143),\"\",LeaderPivot!G143)","v":"peter stringer"},{"$f":"IF(ISBLANK(LeaderPivot!H143),\"\",LeaderPivot!H143)","v":0},{"$f":"VLOOKUP(J142,WAVA!$C$3:$AX$299,48,FALSE)","v":0}]
["","",null,null,"","","",null,{"$f":"IF(J143=\"\",\"\",I142+1)","v":141},{"$f":"IF(ISBLANK(LeaderPivot!G144),\"\",LeaderPivot!G144)","v":"Hannah Partner"},{"$f":"IF(ISBLANK(LeaderPivot!H144),\"\",LeaderPivot!H144)","v":0},{"$f":"VLOOKUP(J143,WAVA!$C$3:$AX$299,48,FALSE)","v":0}]
["","",null,null,"","","",null,142,{"$f":"IF(ISBLANK(LeaderPivot!G145),\"\",LeaderPivot!G145)","v":"Jen Willingham"},{"$f":"IF(ISBLANK(LeaderPivot!H145),\"\",LeaderPivot!H145)","v":0},{"$f":"VLOOKUP(J144,WAVA!$C$3:$AX$299,48,FALSE)","v":0}]
["","",null,null,"","","",null,143,{"$f":"IF(ISBLANK(LeaderPivot!G146),\"\",LeaderPivot!G146)","v":"Rachel Pickles"},{"$f":"IF(ISBLANK(LeaderPivot!H146),\"\",LeaderPivot!H146)","v":0},{"$f":"VLOOKUP(J145,WAVA!$C$3:$AX$299,48,FALSE)","v":0}]
["","",null,null,"","","",null,144,{"$f":"IF(ISBLANK(LeaderPivot!G147),\"\",LeaderPivot!G147)","v":"David Wilson"},{"$f":"IF(ISBLANK(LeaderPivot!H147),\"\",LeaderPivot!H147)","v":0},{"$f":"VLOOKUP(J146,WAVA!$C$3:$AX$299,48,FALSE)","v":0}]
["","",null,null,"","","",null,145,{"$f":"IF(ISBLANK(LeaderPivot!G148),\"\",LeaderPivot!G148)","v":"Joshua Rowe"},{"$f":"IF(ISBLANK(LeaderPivot!H148),\"\",LeaderPivot!H148)","v":0},{"$f":"VLOOKUP(J147,WAVA!$C$3:$AX$299,48,FALSE)","v":0}]
["","",null,null,"","","",null,146,{"$f":"IF(ISBLANK(LeaderPivot!G149),\"\",LeaderPivot!G149)","v":"Joe Bainborough"},{"$f":"IF(ISBLANK(LeaderPivot!H149),\"\",LeaderPivot!H149)","v":0},{"$f":"VLOOKUP(J148,WAVA!$C$3:$AX$299,48,FALSE)","v":0}]
["","",null,null,"","","",null,147,{"$f":"IF(ISBLANK(LeaderPivot!G150),\"\",LeaderPivot!G150)","v":"Sara Atkinson"},{"$f":"IF(ISBLANK(LeaderPivot!H150),\"\",LeaderPivot!H150)","v":0},{"$f":"VLOOKUP(J149,WAVA!$C$3:$AX$299,48,FALSE)","v":0}]
["","",null,null,"","","",null,148,{"$f":"IF(ISBLANK(LeaderPivot!G151),\"\",LeaderPivot!G151)","v":"Amy Barker"},{"$f":"IF(ISBLANK(LeaderPivot!H151),\"\",LeaderPivot!H151)","v":0},{"$f":"VLOOKUP(J150,WAVA!$C$3:$AX$299,48,FALSE)","v":0}]
["","",null,null,"","","",null,{"$f":"IF(J151=\"\",\"\",I150+1)","v":149},{"$f":"IF(ISBLANK(LeaderPivot!G152),\"\",LeaderPivot!G152)","v":"Charlotte Martin 1"},{"$f":"IF(ISBLANK(LeaderPivot!H152),\"\",LeaderPivot!H152)","v":0},{"$f":"VLOOKUP(J151,WAVA!$C$3:$AX$299,48,FALSE)","v":0}]
["","",null,null,"","","",null,150,{"$f":"IF(ISBLANK(LeaderPivot!G153),\"\",LeaderPivot!G153)","v":"Tim Spencer"},{"$f":"IF(ISBLANK(LeaderPivot!H153),\"\",LeaderPivot!H153)","v":0},{"$f":"VLOOKUP(J152,WAVA!$C$3:$AX$299,48,FALSE)","v":0}]
["","",null,null,"","","",null,151,{"$f":"IF(ISBLANK(LeaderPivot!G154),\"\",LeaderPivot!G154)","v":"Caroline Bagdonavicius"},{"$f":"IF(ISBLANK(LeaderPivot!H154),\"\",LeaderPivot!H154)","v":0},{"$f":"VLOOKUP(J153,WAVA!$C$3:$AX$299,48,FALSE)","v":0}]
["","",null,null,"","","",null,152,{"$f":"IF(ISBLANK(LeaderPivot!G155),\"\",LeaderPivot!G155)","v":"Victoria Foster"},{"$f":"IF(ISBLANK(LeaderPivot!H155),\"\",LeaderPivot!H155)","v":0},{"$f":"VLOOKUP(J154,WAVA!$C$3:$AX$299,48,FALSE)","v":0}]
["","",null,null,"","","",null,153,{"$f":"IF(ISBLANK(LeaderPivot!G156),\"\",LeaderPivot!G156)","v":"Anna Harding"},{"$f":"IF(ISBLANK(LeaderPivot!H156),\"\",LeaderPivot!H156)","v":0},{"$f":"VLOOKUP(J155,WAVA!$C$3:$AX$299,48,FALSE)","v":0}]
["","",null,null,"","","",null,154,{"$f":"IF(ISBLANK(LeaderPivot!G157),\"\",LeaderPivot!G157)","v":"Claire Bond"},{"$f":"IF(ISBLANK(LeaderPivot!H157),\"\",LeaderPivot!H157)","v":0},{"$f":"VLOOKUP(J156,WAVA!$C$3:$AX$299,48,FALSE)","v":0}]
["","",null,null,"","","",null,155,{"$f":"IF(ISBLANK(LeaderPivot!G158),\"\",LeaderPivot!G158)","v":"Greg  Hull"},{"$f":"IF(ISBLANK(LeaderPivot!H158),\"\",LeaderPivot!H158)","v":0},{"$f":"VLOOKUP(J157,WAVA!$C$3:$AX$299,48,FALSE)","v":0}]
["","",null,null,"","","",null,156,{"$f":"IF(ISBLANK(LeaderPivot!G159),\"\",LeaderPivot!G159)","v":"Andrew Bruce"},{"$f":"IF(ISBLANK(LeaderPivot!H159),\"\",LeaderPivot!H159)","v":0},{"$f":"VLOOKUP(J158,WAVA!$C$3:$AX$299,48,FALSE)","v":0}]
["","",null,null,"","","",null,157,{"$f":"IF(ISBLANK(LeaderPivot!G160),\"\",LeaderPivot!G160)","v":"Simon Latimer"},{"$f":"IF(ISBLANK(LeaderPivot!H160),\"\",LeaderPivot!H160)","v":0},{"$f":"VLOOKUP(J159,WAVA!$C$3:$AX$299,48,FALSE)","v":0}]
["","",null,null,"","","",null,158,{"$f":"IF(ISBLANK(LeaderPivot!G161),\"\",LeaderPivot!G161)","v":"Richard Carden"},{"$f":"IF(ISBLANK(LeaderPivot!H161),\"\",LeaderPivot!H161)","v":0},{"$f":"VLOOKUP(J160,WAVA!$C$3:$AX$299,48,FALSE)","v":0}]
["","",null,null,"","","",null,159,{"$f":"IF(ISBLANK(LeaderPivot!G162),\"\",LeaderPivot!G162)","v":"Joseph Broadbent"},{"$f":"IF(ISBLANK(LeaderPivot!H162),\"\",LeaderPivot!H162)","v":0},{"$f":"VLOOKUP(J161,WAVA!$C$3:$AX$299,48,FALSE)","v":0}]
["","",null,null,"","","",null,160,{"$f":"IF(ISBLANK(LeaderPivot!G163),\"\",LeaderPivot!G163)","v":"Lee  East"},{"$f":"IF(ISBLANK(LeaderPivot!H163),\"\",LeaderPivot!H163)","v":0},{"$f":"VLOOKUP(J162,WAVA!$C$3:$AX$299,48,FALSE)","v":0}]
["","",null,null,"","","",null,161,{"$f":"IF(ISBLANK(LeaderPivot!G164),\"\",LeaderPivot!G164)","v":"Diane Collett"},{"$f":"IF(ISBLANK(LeaderPivot!H164),\"\",LeaderPivot!H164)","v":0},{"$f":"VLOOKUP(J163,WAVA!$C$3:$AX$299,48,FALSE)","v":0}]
["","",null,null,"","","",null,162,{"$f":"IF(ISBLANK(LeaderPivot!G165),\"\",LeaderPivot!G165)","v":"Rowan Grant"},{"$f":"IF(ISBLANK(LeaderPivot!H165),\"\",LeaderPivot!H165)","v":0},{"$f":"VLOOKUP(J164,WAVA!$C$3:$AX$299,48,FALSE)","v":0}]
["","",null,null,"","","",null,{"$f":"IF(J165=\"\",\"\",I164+1)","v":""},"",""]
["","",null,null,"","","",null,"","",""]
["","",null,null,"","","",null,"","",""]
["","",null,null,"","","",null,"","",""]
["","",null,null,"","","",null,"","",""]
["","",null,null,"","","",null,"","",""]
["","",null,null,"","","",null,"","",""]
["","",null,null,"","","",null,"","",""]
["","",null,null,"","","",null,"","",""]
["","",null,null,"","","",null,"","",""]
["","",null,null,"","","",null,"","",""]
["","",null,null,"","","",null,"","",""]
["","",null,null,"","","",null,"","",""]
["","",null,null,"","","",null,"","",""]
["","",null,null,"","","",null,"","",""]
["","",null,null,"","","",null,"","",""]
["","",null,null,"","","",null,"","",""]
["","",null,null,"","","",null,"","",""]
["","",null,null,"","","",null,"","",""]
["","",null,null,"","","",null,"","",""]
["","",null,null,"","","",null,"","",""]
["","",null,null,"","","",null,"","",""]
["","",null,null,"","","",null,"","",""]
["","",null,null,"","","",null,"","",""]
["","",null,null,"","","",null,"","",""]
["","",null,null,"","","",null,"","",""]
["","",null,null,"","","",null,"","",""]
["","",null,null,"","","",null,"","",""]
["","",null,null,"","","",null,"","",""]
["","",null,null,"","","",null,"","",""]
["","",null,null,"","","",null,"","",""]
["","",null,null,"","","",null,"","",""]
[{"$f":"IF(B197=\"\",\"\",A196+1)","v":""},"",null,null,{"$f":"IF(F197=\"\",\"\",E196+1)","v":""},"","",null,{"$f":"IF(J197=\"\",\"\",I196+1)","v":""},"",""]
["","",null,null,"","","",null,"","",""]
["","",null,null,"","","",null,"","",""]
["","",null,null,"","","",null,"","",""]
["","",null,null,"","","",null,"","",""]
["","",null,null,"","","",null,"","",""]
["","",null,null,"","","",null,"","",""]
["","",null,null,"","","",null,"","",""]
["","",null,null,"","","",null,"","",""]
["","",null,null,"","","",null,"","",""]
["","",null,null,"","","",null,"","",""]
["","",null,null,"","","",null,"","",""]
["","",null,null,"","","",null,"","",""]
["","",null,null,"","","",null,"","",""]
["","",null,null,"","","",null,"","",""]
["","",null,null,"","","",null,"","",""]
["","",null,null,"","","",null,"","",""]
["","",null,null,"","","",null,"","",""]
["","",null,null,"","","",null,"","",""]
["","",null,null,"","","",null,"","",""]
["","",null,null,"","","",null,"","",""]
["","",null,null,"","","",null,"","",""]
["","",null,null,"","","",null,"","",""]
["","",null,null,"","","",null,"","",""]
["","",null,null,"","","",null,"","",""]
["","",null,null,"","","",null,"","",""]
["","",null,null,"","","",null,"","",""]
["","",null,null,"","","",null,"","",""]
["","",null,null,"","","",null,"","",""]
["","",null,null,"","","",null,"","",""]
["","",null,null,"","","",null,"","",""]
["","",null,null,"","","",null,"","",""]
["","",null,null,"","","",null,"","",""]
["","",null,null,"","","",null,"","",""]
["","",null,null,"","","",null,"","",""]
["","",null,null,"","","",null,"","",""]
["","",null,null,"","","",null,"","",""]
["","",null,null,"","","",null,"","",""]
["","",null,null,"","","",null,"","",""]
["","",null,null,"","","",null,"","",""]
["","",null,null,"","","",null,"","",""]
["","",null,null,"","","",null,"","",""]
["","",null,null,"","","",null,"","",""]
["","",null,null,"","","",null,"","",""]
["","",null,null,"","","",null,"","",""]
["","",null,null,"","","",null,"","",""]
["","",null,null,"","","",null,"","",""]
["","",null,null,"","","",null,"","",""]
["","",null,null,"","","",null,"","",""]
["","",null,null,"","","",null,"","",""]
["","",null,null,"","","",null,"","",""]
["","",null,null,"","","",null,"","",""]
["","",null,null,"","","",null,"","",""]
["","",null,null,"","","",null,"","",""]
["","",null,null,"","","",null,"","",""]
["","",null,null,"","","",null,"","",""]
["","",null,null,"","","",null,"","",""]
["","",null,null,"","","",null,"","",""]
["","",null,null,"","","",null,"","",""]
["","",null,null,"","","",null,"","",""]
["","",null,null,"","","",null,"","",""]
["","",null,null,"","","",null,"","",""]
["","",null,null,"","","",null,"","",""]
["","",null,null,"","","",null,"","",""]
[{"$f":"IF(B261=\"\",\"\",A260+1)","v":""},"",null,null,{"$f":"IF(F261=\"\",\"\",E260+1)","v":""},"","",null,{"$f":"IF(J261=\"\",\"\",I260+1)","v":""},"",""]
["","",null,null,"","","",null,"","",""]
["","",null,null,"","","",null,"","",""]
["","",null,null,"","","",null,"","",""]
["","",null,null,"","","",null,"","",""]
["","",null,null,"","","",null,"","",""]
["","",null,null,"","","",null,"","",""]
["","",null,null,"","","",null,"","",""]
["","",null,null,"","","",null,"","",""]
["","",null,null,"","","",null,"","",""]
["","",null,null,"","","",null,"","",""]
["","",null,null,"","","",null,"","",""]
["","",null,null,"","","",null,"","",""]
["","",null,null,"","","",null,"","",""]
["","",null,null,"","","",null,"","",""]
["","",null,null,"","","",null,"","",""]
["","",null,null,"","","",null,"","",""]
["","",null,null,"","","",null,"","",""]
["","",null,null,"","","",null,"","",""]
["","",null,null,"","","",null,"","",""]
["","",null,null,"","","",null,"","",""]
["","",null,null,"","","",null,"","",""]
["","",null,null,"","","",null,"","",""]
["","",null,null,"","","",null,"","",""]
["","",null,null,"","","",null,"","",""]
["","",null,null,"","","",null,"","",""]
["","",null,null,"","","",null,"","",""]
["","",null,null,"","","",null,"","",""]
["","",null,null,"","","",null,"","",""]
["","",null,null,"","","",null,"","",""]
["","",null,null,"","","",null,"","",""]
["","",null,null,"","","",null,"","",""]
["","",null,null,"","","",null,"","",""]
["","",null,null,"","","",null,"","",""]
["","",null,null,"","","",null,"","",""]
["","",null,null,"","","",null,"","",""]
["","",null,null,"","","",null,"","",""]
["","",null,null,"","","",null,"","",""]
["","",null,null,"","","",null,"","",""]
["","",null,null,"","","",null,"","",""]
["","",null,null,"","","",null,"","",""]
[""]

{"sheet":"Summary Sheet","index":3,"n_rows":273,"n_cols":34,"rows_kept":273,"cut":false,"hidden":false,"merged":[]}
["Rank","Name","Division","Points Total",{"$f":"WAVA!G2","v":"Dewsbury 10k"},{"$f":"WAVA!H2","v":"Epilepsy Action 10k"},{"$f":"WAVA!I2","v":"Keighley BIG 10k"},{"$f":"WAVA!J2","v":"Bunny Run 1"},{"$f":"WAVA!K2","v":"Liverpool 10m/Half"},{"$f":"WAVA!L2","v":"VoY 10m"},{"$f":"WAVA!M2","v":"Guiseley Gallop"},{"$f":"WAVA!N2","v":"Over the Odda"},{"$f":"WAVA!O2","v":"Leeds half"},{"$f":"WAVA!P2","v":"Ilkley Trail"},{"$f":"WAVA!Q2","v":"Otley 10"},{"$f":"WAVA!R2","v":"Solstice Saunter"},{"$f":"WAVA!S2","v":"Eccup 10"},{"$f":"WAVA!T2","v":"Lister Parkrun"},{"$f":"WAVA!U2","v":"Aurthur Shakerr"},{"$f":"WAVA!V2","v":"Vale of York Half"},{"$f":"WAVA!W2","v":"Kirkstall Abbey 10"},{"$f":"WAVA!X2","v":"Bradford city Runs"},{"$f":"WAVA!Y2","v":"Guy Fawkes"},{"$f":"WAVA!Z2","v":"Abbey Dash"},{"$f":"WAVA!AA2","v":"Chevin Chase"},null,1,2,3,4,5,6,7,8]
[{"$f":"RANK(D2,D$2:D$215,)","v":113},{"$f":"WAVA!C3","v":"Reza Abdi"},{"$f":"IF(ISBLANK(WAVA!F3),\"\",WAVA!F3)","v":"First"},{"$f":"SUM(AA2:AH2)","v":0},{"$f":"VLOOKUP(WAVA!AC3,'Points Lookup'!$A:$B,2,FALSE)","v":0},{"$f":"VLOOKUP(WAVA!AD3,'Points Lookup'!$A:$B,2,FALSE)","v":0},{"$f":"VLOOKUP(WAVA!AE3,'Points Lookup'!$A:$B,2,FALSE)","v":0},{"$f":"VLOOKUP(WAVA!AF3,'Points Lookup'!$A:$B,2,FALSE)","v":0},{"$f":"VLOOKUP(WAVA!AG3,'Points Lookup'!$A:$B,2,FALSE)","v":0},{"$f":"VLOOKUP(WAVA!AH3,'Points Lookup'!$A:$B,2,FALSE)","v":0},{"$f":"VLOOKUP(WAVA!AI3,'Points Lookup'!$A:$B,2,FALSE)","v":0},{"$f":"VLOOKUP(WAVA!AJ3,'Points Lookup'!$A:$B,2,FALSE)","v":0},{"$f":"VLOOKUP(WAVA!AK3,'Points Lookup'!$A:$B,2,FALSE)","v":0},{"$f":"VLOOKUP(WAVA!AL3,'Points Lookup'!$A:$B,2,FALSE)","v":0},{"$f":"VLOOKUP(WAVA!AM3,'Points Lookup'!$A:$B,2,FALSE)","v":0},{"$f":"VLOOKUP(WAVA!AN3,'Points Lookup'!$A:$B,2,FALSE)","v":0},{"$f":"VLOOKUP(WAVA!AO3,'Points Lookup'!$A:$B,2,FALSE)","v":0},{"$f":"VLOOKUP(WAVA!AP3,'Points Lookup'!$A:$B,2,FALSE)","v":0},{"$f":"VLOOKUP(WAVA!AQ3,'Points Lookup'!$A:$B,2,FALSE)","v":0},{"$f":"VLOOKUP(WAVA!AR3,'Points Lookup'!$A:$B,2,FALSE)","v":0},{"$f":"VLOOKUP(WAVA!AS3,'Points Lookup'!$A:$B,2,FALSE)","v":0},{"$f":"VLOOKUP(WAVA!AT3,'Points Lookup'!$A:$B,2,FALSE)","v":0},{"$f":"VLOOKUP(WAVA!AU3,'Points Lookup'!$A:$B,2,FALSE)","v":0},{"$f":"VLOOKUP(WAVA!AV3,'Points Lookup'!$A:$B,2,FALSE)","v":0},{"$f":"VLOOKUP(WAVA!AW3,'Points Lookup'!$A:$B,2,FALSE)","v":0},null,{"$f":"LARGE($E2:$Y2,AA$1)","v":0},0,0,0,0,0,0,0]
[113,{"$f":"WAVA!C4","v":"Keith Abson"},{"$f":"IF(ISBLANK(WAVA!F4),\"\",WAVA!F4)","v":"Second"},{"$f":"SUM(AA3:AH3)","v":0},{"$f":"VLOOKUP(WAVA!AC4,'Points Lookup'!$A:$B,2,FALSE)","v":0},{"$f":"VLOOKUP(WAVA!AD4,'Points Lookup'!$A:$B,2,FALSE)","v":0},{"$f":"VLOOKUP(WAVA!AE4,'Points Lookup'!$A:$B,2,FALSE)","v":0},{"$f":"VLOOKUP(WAVA!AF4,'Points Lookup'!$A:$B,2,FALSE)","v":0},{"$f":"VLOOKUP(WAVA!AG4,'Points Lookup'!$A:$B,2,FALSE)","v":0},{"$f":"VLOOKUP(WAVA!AH4,'Points Lookup'!$A:$B,2,FALSE)","v":0},{"$f":"VLOOKUP(WAVA!AI4,'Points Lookup'!$A:$B,2,FALSE)","v":0},{"$f":"VLOOKUP(WAVA!AJ4,'Points Lookup'!$A:$B,2,FALSE)","v":0},{"$f":"VLOOKUP(WAVA!AK4,'Points Lookup'!$A:$B,2,FALSE)","v":0},{"$f":"VLOOKUP(WAVA!AL4,'Points Lookup'!$A:$B,2,FALSE)","v":0},{"$f":"VLOOKUP(WAVA!AM4,'Points Lookup'!$A:$B,2,FALSE)","v":0},{"$f":"VLOOKUP(WAVA!AN4,'Points Lookup'!$A:$B,2,FALSE)","v":0},{"$f":"VLOOKUP(WAVA!AO4,'Points Lookup'!$A:$B,2,FALSE)","v":0},{"$f":"VLOOKUP(WAVA!AP4,'Points Lookup'!$A:$B,2,FALSE)","v":0},{"$f":"VLOOKUP(WAVA!AQ4,'Points Lookup'!$A:$B,2,FALSE)","v":0},{"$f":"VLOOKUP(WAVA!AR4,'Points Lookup'!$A:$B,2,FALSE)","v":0},{"$f":"VLOOKUP(WAVA!AS4,'Points Lookup'!$A:$B,2,FALSE)","v":0},{"$f":"VLOOKUP(WAVA!AT4,'Points Lookup'!$A:$B,2,FALSE)","v":0},{"$f":"VLOOKUP(WAVA!AU4,'Points Lookup'!$A:$B,2,FALSE)","v":0},{"$f":"VLOOKUP(WAVA!AV4,'Points Lookup'!$A:$B,2,FALSE)","v":0},{"$f":"VLOOKUP(WAVA!AW4,'Points Lookup'!$A:$B,2,FALSE)","v":0},null,0,0,0,0,0,0,0,0]
[13,{"$f":"WAVA!C5","v":"Mel Akeroyd"},{"$f":"IF(ISBLANK(WAVA!F5),\"\",WAVA!F5)","v":"Premier"},320,{"$f":"VLOOKUP(WAVA!AC5,'Points Lookup'!$A:$B,2,FALSE)","v":37},{"$f":"VLOOKUP(WAVA!AD5,'Points Lookup'!$A:$B,2,FALSE)","v":39},{"$f":"VLOOKUP(WAVA!AE5,'Points Lookup'!$A:$B,2,FALSE)","v":0},{"$f":"VLOOKUP(WAVA!AF5,'Points Lookup'!$A:$B,2,FALSE)","v":40},{"$f":"VLOOKUP(WAVA!AG5,'Points Lookup'!$A:$B,2,FALSE)","v":37},{"$f":"VLOOKUP(WAVA!AH5,'Points Lookup'!$A:$B,2,FALSE)","v":0},{"$f":"VLOOKUP(WAVA!AI5,'Points Lookup'!$A:$B,2,FALSE)","v":0},{"$f":"VLOOKUP(WAVA!AJ5,'Points Lookup'!$A:$B,2,FALSE)","v":44},{"$f":"VLOOKUP(WAVA!AK5,'Points Lookup'!$A:$B,2,FALSE)","v":47},{"$f":"VLOOKUP(WAVA!AL5,'Points Lookup'!$A:$B,2,FALSE)","v":0},{"$f":"VLOOKUP(WAVA!AM5,'Points Lookup'!$A:$B,2,FALSE)","v":0},{"$f":"VLOOKUP(WAVA!AN5,'Points Lookup'!$A:$B,2,FALSE)","v":36},{"$f":"VLOOKUP(WAVA!AO5,'Points Lookup'!$A:$B,2,FALSE)","v":0},{"$f":"VLOOKUP(WAVA!AP5,'Points Lookup'!$A:$B,2,FALSE)","v":0},{"$f":"VLOOKUP(WAVA!AQ5,'Points Lookup'!$A:$B,2,FALSE)","v":40},{"$f":"VLOOKUP(WAVA!AR5,'Points Lookup'!$A:$B,2,FALSE)","v":0},{"$f":"VLOOKUP(WAVA!AS5,'Points Lookup'!$A:$B,2,FALSE)","v":0},{"$f":"VLOOKUP(WAVA!AT5,'Points Lookup'!$A:$B,2,FALSE)","v":0},{"$f":"VLOOKUP(WAVA!AU5,'Points Lookup'!$A:$B,2,FALSE)","v":35},{"$f":"VLOOKUP(WAVA!AV5,'Points Lookup'!$A:$B,2,FALSE)","v":0},{"$f":"VLOOKUP(WAVA!AW5,'Points Lookup'!$A:$B,2,FALSE)","v":0},null,47,44,40,40,39,37,37,36]
[111,{"$f":"WAVA!C6","v":"Jessica Alred"},{"$f":"IF(ISBLANK(WAVA!F6),\"\",WAVA!F6)","v":"Second"},30,{"$f":"VLOOKUP(WAVA!AC6,'Points Lookup'!$A:$B,2,FALSE)","v":0},{"$f":"VLOOKUP(WAVA!AD6,'Points Lookup'!$A:$B,2,FALSE)","v":0},{"$f":"VLOOKUP(WAVA!AE6,'Points Lookup'!$A:$B,2,FALSE)","v":0},{"$f":"VLOOKUP(WAVA!AF6,'Points Lookup'!$A:$B,2,FALSE)","v":0},{"$f":"VLOOKUP(WAVA!AG6,'Points Lookup'!$A:$B,2,FALSE)","v":0},{"$f":"VLOOKUP(WAVA!AH6,'Points Lookup'!$A:$B,2,FALSE)","v":0},{"$f":"VLOOKUP(WAVA!AI6,'Points Lookup'!$A:$B,2,FALSE)","v":0},{"$f":"VLOOKUP(WAVA!AJ6,'Points Lookup'!$A:$B,2,FALSE)","v":0},{"$f":"VLOOKUP(WAVA!AK6,'Points Lookup'!$A:$B,2,FALSE)","v":0},{"$f":"VLOOKUP(WAVA!AL6,'Points Lookup'!$A:$B,2,FALSE)","v":0},{"$f":"VLOOKUP(WAVA!AM6,'Points Lookup'!$A:$B,2,FALSE)","v":0},{"$f":"VLOOKUP(WAVA!AN6,'Points Lookup'!$A:$B,2,FALSE)","v":0},{"$f":"VLOOKUP(WAVA!AO6,'Points Lookup'!$A:$B,2,FALSE)","v":0},{"$f":"VLOOKUP(WAVA!AP6,'Points Lookup'!$A:$B,2,FALSE)","v":0},{"$f":"VLOOKUP(WAVA!AQ6,'Points Lookup'!$A:$B,2,FALSE)","v":0},{"$f":"VLOOKUP(WAVA!AR6,'Points Lookup'!$A:$B,2,FALSE)","v":0},{"$f":"VLOOKUP(WAVA!AS6,'Points Lookup'!$A:$B,2,FALSE)","v":0},{"$f":"VLOOKUP(WAVA!AT6,'Points Lookup'!$A:$B,2,FALSE)","v":0},{"$f":"VLOOKUP(WAVA!AU6,'Points Lookup'!$A:$B,2,FALSE)","v":0},{"$f":"VLOOKUP(WAVA!AV6,'Points Lookup'!$A:$B,2,FALSE)","v":30},{"$f":"VLOOKUP(WAVA!AW6,'Points Lookup'!$A:$B,2,FALSE)","v":0},null,30,0,0,0,0,0,0,0]
[113,{"$f":"WAVA!C7","v":"Imogen Ambler"},{"$f":"IF(ISBLANK(WAVA!F7),\"\",WAVA!F7)","v":"Second"},0,{"$f":"VLOOKUP(WAVA!AC7,'Points Lookup'!$A:$B,2,FALSE)","v":0},{"$f":"VLOOKUP(WAVA!AD7,'Points Lookup'!$A:$B,2,FALSE)","v":0},{"$f":"VLOOKUP(WAVA!AE7,'Points Lookup'!$A:$B,2,FALSE)","v":0},{"$f":"VLOOKUP(WAVA!AF7,'Points Lookup'!$A:$B,2,FALSE)","v":0},{"$f":"VLOOKUP(WAVA!AG7,'Points Lookup'!$A:$B,2,FALSE)","v":0},{"$f":"VLOOKUP(WAVA!AH7,'Points Lookup'!$A:$B,2,FALSE)","v":0},{"$f":"VLOOKUP(WAVA!AI7,'Points Lookup'!$A:$B,2,FALSE)","v":0},{"$f":"VLOOKUP(WAVA!AJ7,'Points Lookup'!$A:$B,2,FALSE)","v":0},{"$f":"VLOOKUP(WAVA!AK7,'Points Lookup'!$A:$B,2,FALSE)","v":0},{"$f":"VLOOKUP(WAVA!AL7,'Points Lookup'!$A:$B,2,FALSE)","v":0},{"$f":"VLOOKUP(WAVA!AM7,'Points Lookup'!$A:$B,2,FALSE)","v":0},{"$f":"VLOOKUP(WAVA!AN7,'Points Lookup'!$A:$B,2,FALSE)","v":0},{"$f":"VLOOKUP(WAVA!AO7,'Points Lookup'!$A:$B,2,FALSE)","v":0},{"$f":"VLOOKUP(WAVA!AP7,'Points Lookup'!$A:$B,2,FALSE)","v":0},{"$f":"VLOOKUP(WAVA!AQ7,'Points Lookup'!$A:$B,2,FALSE)","v":0},{"$f":"VLOOKUP(WAVA!AR7,'Points Lookup'!$A:$B,2,FALSE)","v":0},{"$f":"VLOOKUP(WAVA!AS7,'Points Lookup'!$A:$B,2,FALSE)","v":0},{"$f":"VLOOKUP(WAVA!AT7,'Points Lookup'!$A:$B,2,FALSE)","v":0},{"$f":"VLOOKUP(WAVA!AU7,'Points Lookup'!$A:$B,2,FALSE)","v":0},{"$f":"VLOOKUP(WAVA!AV7,'Points Lookup'!$A:$B,2,FALSE)","v":0},{"$f":"VLOOKUP(WAVA!AW7,'Points Lookup'!$A:$B,2,FALSE)","v":0},null,0,0,0,0,0,0,0,0]
[113,{"$f":"WAVA!C8","v":"James Anderson"},{"$f":"IF(ISBLANK(WAVA!F8),\"\",WAVA!F8)","v":"Second"},0,{"$f":"VLOOKUP(WAVA!AC8,'Points Lookup'!$A:$B,2,FALSE)","v":0},{"$f":"VLOOKUP(WAVA!AD8,'Points Lookup'!$A:$B,2,FALSE)","v":0},{"$f":"VLOOKUP(WAVA!AE8,'Points Lookup'!$A:$B,2,FALSE)","v":0},{"$f":"VLOOKUP(WAVA!AF8,'Points Lookup'!$A:$B,2,FALSE)","v":0},{"$f":"VLOOKUP(WAVA!AG8,'Points Lookup'!$A:$B,2,FALSE)","v":0},{"$f":"VLOOKUP(WAVA!AH8,'Points Lookup'!$A:$B,2,FALSE)","v":0},{"$f":"VLOOKUP(WAVA!AI8,'Points Lookup'!$A:$B,2,FALSE)","v":0},{"$f":"VLOOKUP(WAVA!AJ8,'Points Lookup'!$A:$B,2,FALSE)","v":0},{"$f":"VLOOKUP(WAVA!AK8,'Points Lookup'!$A:$B,2,FALSE)","v":0},{"$f":"VLOOKUP(WAVA!AL8,'Points Lookup'!$A:$B,2,FALSE)","v":0},{"$f":"VLOOKUP(WAVA!AM8,'Points Lookup'!$A:$B,2,FALSE)","v":0},{"$f":"VLOOKUP(WAVA!AN8,'Points Lookup'!$A:$B,2,FALSE)","v":0},{"$f":"VLOOKUP(WAVA!AO8,'Points Lookup'!$A:$B,2,FALSE)","v":0},{"$f":"VLOOKUP(WAVA!AP8,'Points Lookup'!$A:$B,2,FALSE)","v":0},{"$f":"VLOOKUP(WAVA!AQ8,'Points Lookup'!$A:$B,2,FALSE)","v":0},{"$f":"VLOOKUP(WAVA!AR8,'Points Lookup'!$A:$B,2,FALSE)","v":0},{"$f":"VLOOKUP(WAVA!AS8,'Points Lookup'!$A:$B,2,FALSE)","v":0},{"$f":"VLOOKUP(WAVA!AT8,'Points Lookup'!$A:$B,2,FALSE)","v":0},{"$f":"VLOOKUP(WAVA!AU8,'Points Lookup'!$A:$B,2,FALSE)","v":0},{"$f":"VLOOKUP(WAVA!AV8,'Points Lookup'!$A:$B,2,FALSE)","v":0},{"$f":"VLOOKUP(WAVA!AW8,'Points Lookup'!$A:$B,2,FALSE)","v":0},null,0,0,0,0,0,0,0,0]
[113,{"$f":"WAVA!C9","v":"Dave Armstrong"},{"$f":"IF(ISBLANK(WAVA!F9),\"\",WAVA!F9)","v":"Second"},0,{"$f":"VLOOKUP(WAVA!AC9,'Points Lookup'!$A:$B,2,FALSE)","v":0},{"$f":"VLOOKUP(WAVA!AD9,'Points Lookup'!$A:$B,2,FALSE)","v":0},{"$f":"VLOOKUP(WAVA!AE9,'Points Lookup'!$A:$B,2,FALSE)","v":0},{"$f":"VLOOKUP(WAVA!AF9,'Points Lookup'!$A:$B,2,FALSE)","v":0},{"$f":"VLOOKUP(WAVA!AG9,'Points Lookup'!$A:$B,2,FALSE)","v":0},{"$f":"VLOOKUP(WAVA!AH9,'Points Lookup'!$A:$B,2,FALSE)","v":0},{"$f":"VLOOKUP(WAVA!AI9,'Points Lookup'!$A:$B,2,FALSE)","v":0},{"$f":"VLOOKUP(WAVA!AJ9,'Points Lookup'!$A:$B,2,FALSE)","v":0},{"$f":"VLOOKUP(WAVA!AK9,'Points Lookup'!$A:$B,2,FALSE)","v":0},{"$f":"VLOOKUP(WAVA!AL9,'Points Lookup'!$A:$B,2,FALSE)","v":0},{"$f":"VLOOKUP(WAVA!AM9,'Points Lookup'!$A:$B,2,FALSE)","v":0},{"$f":"VLOOKUP(WAVA!AN9,'Points Lookup'!$A:$B,2,FALSE)","v":0},{"$f":"VLOOKUP(WAVA!AO9,'Points Lookup'!$A:$B,2,FALSE)","v":0},{"$f":"VLOOKUP(WAVA!AP9,'Points Lookup'!$A:$B,2,FALSE)","v":0},{"$f":"VLOOKUP(WAVA!AQ9,'Points Lookup'!$A:$B,2,FALSE)","v":0},{"$f":"VLOOKUP(WAVA!AR9,'Points Lookup'!$A:$B,2,FALSE)","v":0},{"$f":"VLOOKUP(WAVA!AS9,'Points Lookup'!$A:$B,2,FALSE)","v":0},{"$f":"VLOOKUP(WAVA!AT9,'Points Lookup'!$A:$B,2,FALSE)","v":0},{"$f":"VLOOKUP(WAVA!AU9,'Points Lookup'!$A:$B,2,FALSE)","v":0},{"$f":"VLOOKUP(WAVA!AV9,'Points Lookup'!$A:$B,2,FALSE)","v":0},{"$f":"VLOOKUP(WAVA!AW9,'Points Lookup'!$A:$B,2,FALSE)","v":0},null,0,0,0,0,0,0,0,0]
[113,{"$f":"WAVA!C10","v":"Kevin Armstrong"},{"$f":"IF(ISBLANK(WAVA!F10),\"\",WAVA!F10)","v":"Second"},0,{"$f":"VLOOKUP(WAVA!AC10,'Points Lookup'!$A:$B,2,FALSE)","v":0},{"$f":"VLOOKUP(WAVA!AD10,'Points Lookup'!$A:$B,2,FALSE)","v":0},{"$f":"VLOOKUP(WAVA!AE10,'Points Lookup'!$A:$B,2,FALSE)","v":0},{"$f":"VLOOKUP(WAVA!AF10,'Points Lookup'!$A:$B,2,FALSE)","v":0},{"$f":"VLOOKUP(WAVA!AG10,'Points Lookup'!$A:$B,2,FALSE)","v":0},{"$f":"VLOOKUP(WAVA!AH10,'Points Lookup'!$A:$B,2,FALSE)","v":0},{"$f":"VLOOKUP(WAVA!AI10,'Points Lookup'!$A:$B,2,FALSE)","v":0},{"$f":"VLOOKUP(WAVA!AJ10,'Points Lookup'!$A:$B,2,FALSE)","v":0},{"$f":"VLOOKUP(WAVA!AK10,'Points Lookup'!$A:$B,2,FALSE)","v":0},{"$f":"VLOOKUP(WAVA!AL10,'Points Lookup'!$A:$B,2,FALSE)","v":0},{"$f":"VLOOKUP(WAVA!AM10,'Points Lookup'!$A:$B,2,FALSE)","v":0},{"$f":"VLOOKUP(WAVA!AN10,'Points Lookup'!$A:$B,2,FALSE)","v":0},{"$f":"VLOOKUP(WAVA!AO10,'Points Lookup'!$A:$B,2,FALSE)","v":0},{"$f":"VLOOKUP(WAVA!AP10,'Points Lookup'!$A:$B,2,FALSE)","v":0},{"$f":"VLOOKUP(WAVA!AQ10,'Points Lookup'!$A:$B,2,FALSE)","v":0},{"$f":"VLOOKUP(WAVA!AR10,'Points Lookup'!$A:$B,2,FALSE)","v":0},{"$f":"VLOOKUP(WAVA!AS10,'Points Lookup'!$A:$B,2,FALSE)","v":0},{"$f":"VLOOKUP(WAVA!AT10,'Points Lookup'!$A:$B,2,FALSE)","v":0},{"$f":"VLOOKUP(WAVA!AU10,'Points Lookup'!$A:$B,2,FALSE)","v":0},{"$f":"VLOOKUP(WAVA!AV10,'Points Lookup'!$A:$B,2,FALSE)","v":0},{"$f":"VLOOKUP(WAVA!AW10,'Points Lookup'!$A:$B,2,FALSE)","v":0},null,0,0,0,0,0,0,0,0]
[113,{"$f":"WAVA!C11","v":"Sara Atkinson"},{"$f":"IF(ISBLANK(WAVA!F11),\"\",WAVA!F11)","v":"Second"},0,{"$f":"VLOOKUP(WAVA!AC11,'Points Lookup'!$A:$B,2,FALSE)","v":0},{"$f":"VLOOKUP(WAVA!AD11,'Points Lookup'!$A:$B,2,FALSE)","v":0},{"$f":"VLOOKUP(WAVA!AE11,'Points Lookup'!$A:$B,2,FALSE)","v":0},{"$f":"VLOOKUP(WAVA!AF11,'Points Lookup'!$A:$B,2,FALSE)","v":0},{"$f":"VLOOKUP(WAVA!AG11,'Points Lookup'!$A:$B,2,FALSE)","v":0},{"$f":"VLOOKUP(WAVA!AH11,'Points Lookup'!$A:$B,2,FALSE)","v":0},{"$f":"VLOOKUP(WAVA!AI11,'Points Lookup'!$A:$B,2,FALSE)","v":0},{"$f":"VLOOKUP(WAVA!AJ11,'Points Lookup'!$A:$B,2,FALSE)","v":0},{"$f":"VLOOKUP(WAVA!AK11,'Points Lookup'!$A:$B,2,FALSE)","v":0},{"$f":"VLOOKUP(WAVA!AL11,'Points Lookup'!$A:$B,2,FALSE)","v":0},{"$f":"VLOOKUP(WAVA!AM11,'Points Lookup'!$A:$B,2,FALSE)","v":0},{"$f":"VLOOKUP(WAVA!AN11,'Points Lookup'!$A:$B,2,FALSE)","v":0},{"$f":"VLOOKUP(WAVA!AO11,'Points Lookup'!$A:$B,2,FALSE)","v":0},{"$f":"VLOOKUP(WAVA!AP11,'Points Lookup'!$A:$B,2,FALSE)","v":0},{"$f":"VLOOKUP(WAVA!AQ11,'Points Lookup'!$A:$B,2,FALSE)","v":0},{"$f":"VLOOKUP(WAVA!AR11,'Points Lookup'!$A:$B,2,FALSE)","v":0},{"$f":"VLOOKUP(WAVA!AS11,'Points Lookup'!$A:$B,2,FALSE)","v":0},{"$f":"VLOOKUP(WAVA!AT11,'Points Lookup'!$A:$B,2,FALSE)","v":0},{"$f":"VLOOKUP(WAVA!AU11,'Points Lookup'!$A:$B,2,FALSE)","v":0},{"$f":"VLOOKUP(WAVA!AV11,'Points Lookup'!$A:$B,2,FALSE)","v":0},{"$f":"VLOOKUP(WAVA!AW11,'Points Lookup'!$A:$B,2,FALSE)","v":0},null,0,0,0,0,0,0,0,0]
[36,{"$f":"WAVA!C12","v":"Alexandra Ayling"},{"$f":"IF(ISBLANK(WAVA!F12),\"\",WAVA!F12)","v":"Second"},165,{"$f":"VLOOKUP(WAVA!AC12,'Points Lookup'!$A:$B,2,FALSE)","v":46},{"$f":"VLOOKUP(WAVA!AD12,'Points Lookup'!$A:$B,2,FALSE)","v":36},{"$f":"VLOOKUP(WAVA!AE12,'Points Lookup'!$A:$B,2,FALSE)","v":0},{"$f":"VLOOKUP(WAVA!AF12,'Points Lookup'!$A:$B,2,FALSE)","v":0},{"$f":"VLOOKUP(WAVA!AG12,'Points Lookup'!$A:$B,2,FALSE)","v":0},{"$f":"VLOOKUP(WAVA!AH12,'Points Lookup'!$A:$B,2,FALSE)","v":0},{"$f":"VLOOKUP(WAVA!AI12,'Points Lookup'!$A:$B,2,FALSE)","v":0},{"$f":"VLOOKUP(WAVA!AJ12,'Points Lookup'!$A:$B,2,FALSE)","v":0},{"$f":"VLOOKUP(WAVA!AK12,'Points Lookup'!$A:$B,2,FALSE)","v":0},{"$f":"VLOOKUP(WAVA!AL12,'Points Lookup'!$A:$B,2,FALSE)","v":0},{"$f":"VLOOKUP(WAVA!AM12,'Points Lookup'!$A:$B,2,FALSE)","v":0},{"$f":"VLOOKUP(WAVA!AN12,'Points Lookup'!$A:$B,2,FALSE)","v":39},{"$f":"VLOOKUP(WAVA!AO12,'Points Lookup'!$A:$B,2,FALSE)","v":0},{"$f":"VLOOKUP(WAVA!AP12,'Points Lookup'!$A:$B,2,FALSE)","v":0},{"$f":"VLOOKUP(WAVA!AQ12,'Points Lookup'!$A:$B,2,FALSE)","v":0},{"$f":"VLOOKUP(WAVA!AR12,'Points Lookup'!$A:$B,2,FALSE)","v":0},{"$f":"VLOOKUP(WAVA!AS12,'Points Lookup'!$A:$B,2,FALSE)","v":0},{"$f":"VLOOKUP(WAVA!AT12,'Points Lookup'!$A:$B,2,FALSE)","v":0},{"$f":"VLOOKUP(WAVA!AU12,'Points Lookup'!$A:$B,2,FALSE)","v":44},{"$f":"VLOOKUP(WAVA!AV12,'Points Lookup'!$A:$B,2,FALSE)","v":0},{"$f":"VLOOKUP(WAVA!AW12,'Points Lookup'!$A:$B,2,FALSE)","v":0},null,46,44,39,36,0,0,0,0]
[113,{"$f":"WAVA!C13","v":"Caroline Bagdonavicius"},{"$f":"IF(ISBLANK(WAVA!F13),\"\",WAVA!F13)","v":"Second"},0,{"$f":"VLOOKUP(WAVA!AC13,'Points Lookup'!$A:$B,2,FALSE)","v":0},{"$f":"VLOOKUP(WAVA!AD13,'Points Lookup'!$A:$B,2,FALSE)","v":0},{"$f":"VLOOKUP(WAVA!AE13,'Points Lookup'!$A:$B,2,FALSE)","v":0},{"$f":"VLOOKUP(WAVA!AF13,'Points Lookup'!$A:$B,2,FALSE)","v":0},{"$f":"VLOOKUP(WAVA!AG13,'Points Lookup'!$A:$B,2,FALSE)","v":0},{"$f":"VLOOKUP(WAVA!AH13,'Points Lookup'!$A:$B,2,FALSE)","v":0},{"$f":"VLOOKUP(WAVA!AI13,'Points Lookup'!$A:$B,2,FALSE)","v":0},{"$f":"VLOOKUP(WAVA!AJ13,'Points Lookup'!$A:$B,2,FALSE)","v":0},{"$f":"VLOOKUP(WAVA!AK13,'Points Lookup'!$A:$B,2,FALSE)","v":0},{"$f":"VLOOKUP(WAVA!AL13,'Points Lookup'!$A:$B,2,FALSE)","v":0},{"$f":"VLOOKUP(WAVA!AM13,'Points Lookup'!$A:$B,2,FALSE)","v":0},{"$f":"VLOOKUP(WAVA!AN13,'Points Lookup'!$A:$B,2,FALSE)","v":0},{"$f":"VLOOKUP(WAVA!AO13,'Points Lookup'!$A:$B,2,FALSE)","v":0},{"$f":"VLOOKUP(WAVA!AP13,'Points Lookup'!$A:$B,2,FALSE)","v":0},{"$f":"VLOOKUP(WAVA!AQ13,'Points Lookup'!$A:$B,2,FALSE)","v":0},{"$f":"VLOOKUP(WAVA!AR13,'Points Lookup'!$A:$B,2,FALSE)","v":0},{"$f":"VLOOKUP(WAVA!AS13,'Points Lookup'!$A:$B,2,FALSE)","v":0},{"$f":"VLOOKUP(WAVA!AT13,'Points Lookup'!$A:$B,2,FALSE)","v":0},{"$f":"VLOOKUP(WAVA!AU13,'Points Lookup'!$A:$B,2,FALSE)","v":0},{"$f":"VLOOKUP(WAVA!AV13,'Points Lookup'!$A:$B,2,FALSE)","v":0},{"$f":"VLOOKUP(WAVA!AW13,'Points Lookup'!$A:$B,2,FALSE)","v":0},null,{"$f":"LARGE($E12:$Y12,AA$1)","v":0},0,0,0,0,0,0,0]
[113,{"$f":"WAVA!C14","v":"heidi bagdonavicius"},{"$f":"IF(ISBLANK(WAVA!F14),\"\",WAVA!F14)","v":"Second"},0,{"$f":"VLOOKUP(WAVA!AC14,'Points Lookup'!$A:$B,2,FALSE)","v":0},{"$f":"VLOOKUP(WAVA!AD14,'Points Lookup'!$A:$B,2,FALSE)","v":0},{"$f":"VLOOKUP(WAVA!AE14,'Points Lookup'!$A:$B,2,FALSE)","v":0},{"$f":"VLOOKUP(WAVA!AF14,'Points Lookup'!$A:$B,2,FALSE)","v":0},{"$f":"VLOOKUP(WAVA!AG14,'Points Lookup'!$A:$B,2,FALSE)","v":0},{"$f":"VLOOKUP(WAVA!AH14,'Points Lookup'!$A:$B,2,FALSE)","v":0},{"$f":"VLOOKUP(WAVA!AI14,'Points Lookup'!$A:$B,2,FALSE)","v":0},{"$f":"VLOOKUP(WAVA!AJ14,'Points Lookup'!$A:$B,2,FALSE)","v":0},{"$f":"VLOOKUP(WAVA!AK14,'Points Lookup'!$A:$B,2,FALSE)","v":0},{"$f":"VLOOKUP(WAVA!AL14,'Points Lookup'!$A:$B,2,FALSE)","v":0},{"$f":"VLOOKUP(WAVA!AM14,'Points Lookup'!$A:$B,2,FALSE)","v":0},{"$f":"VLOOKUP(WAVA!AN14,'Points Lookup'!$A:$B,2,FALSE)","v":0},{"$f":"VLOOKUP(WAVA!AO14,'Points Lookup'!$A:$B,2,FALSE)","v":0},{"$f":"VLOOKUP(WAVA!AP14,'Points Lookup'!$A:$B,2,FALSE)","v":0},{"$f":"VLOOKUP(WAVA!AQ14,'Points Lookup'!$A:$B,2,FALSE)","v":0},{"$f":"VLOOKUP(WAVA!AR14,'Points Lookup'!$A:$B,2,FALSE)","v":0},{"$f":"VLOOKUP(WAVA!AS14,'Points Lookup'!$A:$B,2,FALSE)","v":0},{"$f":"VLOOKUP(WAVA!AT14,'Points Lookup'!$A:$B,2,FALSE)","v":0},{"$f":"VLOOKUP(WAVA!AU14,'Points Lookup'!$A:$B,2,FALSE)","v":0},{"$f":"VLOOKUP(WAVA!AV14,'Points Lookup'!$A:$B,2,FALSE)","v":0},{"$f":"VLOOKUP(WAVA!AW14,'Points Lookup'!$A:$B,2,FALSE)","v":0},null,0,0,0,0,0,0,0,0]
[113,{"$f":"WAVA!C15","v":"Joe Bainborough"},{"$f":"IF(ISBLANK(WAVA!F15),\"\",WAVA!F15)","v":"Second"},0,{"$f":"VLOOKUP(WAVA!AC15,'Points Lookup'!$A:$B,2,FALSE)","v":0},{"$f":"VLOOKUP(WAVA!AD15,'Points Lookup'!$A:$B,2,FALSE)","v":0},{"$f":"VLOOKUP(WAVA!AE15,'Points Lookup'!$A:$B,2,FALSE)","v":0},{"$f":"VLOOKUP(WAVA!AF15,'Points Lookup'!$A:$B,2,FALSE)","v":0},{"$f":"VLOOKUP(WAVA!AG15,'Points Lookup'!$A:$B,2,FALSE)","v":0},{"$f":"VLOOKUP(WAVA!AH15,'Points Lookup'!$A:$B,2,FALSE)","v":0},{"$f":"VLOOKUP(WAVA!AI15,'Points Lookup'!$A:$B,2,FALSE)","v":0},{"$f":"VLOOKUP(WAVA!AJ15,'Points Lookup'!$A:$B,2,FALSE)","v":0},{"$f":"VLOOKUP(WAVA!AK15,'Points Lookup'!$A:$B,2,FALSE)","v":0},{"$f":"VLOOKUP(WAVA!AL15,'Points Lookup'!$A:$B,2,FALSE)","v":0},{"$f":"VLOOKUP(WAVA!AM15,'Points Lookup'!$A:$B,2,FALSE)","v":0},{"$f":"VLOOKUP(WAVA!AN15,'Points Lookup'!$A:$B,2,FALSE)","v":0},{"$f":"VLOOKUP(WAVA!AO15,'Points Lookup'!$A:$B,2,FALSE)","v":0},{"$f":"VLOOKUP(WAVA!AP15,'Points Lookup'!$A:$B,2,FALSE)","v":0},{"$f":"VLOOKUP(WAVA!AQ15,'Points Lookup'!$A:$B,2,FALSE)","v":0},{"$f":"VLOOKUP(WAVA!AR15,'Points Lookup'!$A:$B,2,FALSE)","v":0},{"$f":"VLOOKUP(WAVA!AS15,'Points Lookup'!$A:$B,2,FALSE)","v":0},{"$f":"VLOOKUP(WAVA!AT15,'Points Lookup'!$A:$B,2,FALSE)","v":0},{"$f":"VLOOKUP(WAVA!AU15,'Points Lookup'!$A:$B,2,FALSE)","v":0},{"$f":"VLOOKUP(WAVA!AV15,'Points Lookup'!$A:$B,2,FALSE)","v":0},{"$f":"VLOOKUP(WAVA!AW15,'Points Lookup'!$A:$B,2,FALSE)","v":0},null,0,0,0,0,0,0,0,0]
[113,{"$f":"WAVA!C16","v":"Victoria Baker"},{"$f":"IF(ISBLANK(WAVA!F16),\"\",WAVA!F16)","v":"Second"},0,{"$f":"VLOOKUP(WAVA!AC16,'Points Lookup'!$A:$B,2,FALSE)","v":0},{"$f":"VLOOKUP(WAVA!AD16,'Points Lookup'!$A:$B,2,FALSE)","v":0},{"$f":"VLOOKUP(WAVA!AE16,'Points Lookup'!$A:$B,2,FALSE)","v":0},{"$f":"VLOOKUP(WAVA!AF16,'Points Lookup'!$A:$B,2,FALSE)","v":0},{"$f":"VLOOKUP(WAVA!AG16,'Points Lookup'!$A:$B,2,FALSE)","v":0},{"$f":"VLOOKUP(WAVA!AH16,'Points Lookup'!$A:$B,2,FALSE)","v":0},{"$f":"VLOOKUP(WAVA!AI16,'Points Lookup'!$A:$B,2,FALSE)","v":0},{"$f":"VLOOKUP(WAVA!AJ16,'Points Lookup'!$A:$B,2,FALSE)","v":0},{"$f":"VLOOKUP(WAVA!AK16,'Points Lookup'!$A:$B,2,FALSE)","v":0},{"$f":"VLOOKUP(WAVA!AL16,'Points Lookup'!$A:$B,2,FALSE)","v":0},{"$f":"VLOOKUP(WAVA!AM16,'Points Lookup'!$A:$B,2,FALSE)","v":0},{"$f":"VLOOKUP(WAVA!AN16,'Points Lookup'!$A:$B,2,FALSE)","v":0},{"$f":"VLOOKUP(WAVA!AO16,'Points Lookup'!$A:$B,2,FALSE)","v":0},{"$f":"VLOOKUP(WAVA!AP16,'Points Lookup'!$A:$B,2,FALSE)","v":0},{"$f":"VLOOKUP(WAVA!AQ16,'Points Lookup'!$A:$B,2,FALSE)","v":0},{"$f":"VLOOKUP(WAVA!AR16,'Points Lookup'!$A:$B,2,FALSE)","v":0},{"$f":"VLOOKUP(WAVA!AS16,'Points Lookup'!$A:$B,2,FALSE)","v":0},{"$f":"VLOOKUP(WAVA!AT16,'Points Lookup'!$A:$B,2,FALSE)","v":0},{"$f":"VLOOKUP(WAVA!AU16,'Points Lookup'!$A:$B,2,FALSE)","v":0},{"$f":"VLOOKUP(WAVA!AV16,'Points Lookup'!$A:$B,2,FALSE)","v":0},{"$f":"VLOOKUP(WAVA!AW16,'Points Lookup'!$A:$B,2,FALSE)","v":0},null,0,0,0,0,0,0,0,0]
[47,{"$f":"WAVA!C17","v":"Tim Baldwin"},{"$f":"IF(ISBLANK(WAVA!F17),\"\",WAVA!F17)","v":"Second"},99,{"$f":"VLOOKUP(WAVA!AC17,'Points Lookup'!$A:$B,2,FALSE)","v":0},{"$f":"VLOOKUP(WAVA!AD17,'Points Lookup'!$A:$B,2,FALSE)","v":0},{"$f":"VLOOKUP(WAVA!AE17,'Points Lookup'!$A:$B,2,FALSE)","v":0},{"$f":"VLOOKUP(WAVA!AF17,'Points Lookup'!$A:$B,2,FALSE)","v":0},{"$f":"VLOOKUP(WAVA!AG17,'Points Lookup'!$A:$B,2,FALSE)","v":0},{"$f":"VLOOKUP(WAVA!AH17,'Points Lookup'!$A:$B,2,FALSE)","v":0},{"$f":"VLOOKUP(WAVA!AI17,'Points Lookup'!$A:$B,2,FALSE)","v":0},{"$f":"VLOOKUP(WAVA!AJ17,'Points Lookup'!$A:$B,2,FALSE)","v":0},{"$f":"VLOOKUP(WAVA!AK17,'Points Lookup'!$A:$B,2,FALSE)","v":50},{"$f":"VLOOKUP(WAVA!AL17,'Points Lookup'!$A:$B,2,FALSE)","v":0},{"$f":"VLOOKUP(WAVA!AM17,'Points Lookup'!$A:$B,2,FALSE)","v":0},{"$f":"VLOOKUP(WAVA!AN17,'Points Lookup'!$A:$B,2,FALSE)","v":0},{"$f":"VLOOKUP(WAVA!AO17,'Points Lookup'!$A:$B,2,FALSE)","v":0},{"$f":"VLOOKUP(WAVA!AP17,'Points Lookup'!$A:$B,2,FALSE)","v":0},{"$f":"VLOOKUP(WAVA!AQ17,'Points Lookup'!$A:$B,2,FALSE)","v":0},{"$f":"VLOOKUP(WAVA!AR17,'Points Lookup'!$A:$B,2,FALSE)","v":0},{"$f":"VLOOKUP(WAVA!AS17,'Points Lookup'!$A:$B,2,FALSE)","v":0},{"$f":"VLOOKUP(WAVA!AT17,'Points Lookup'!$A:$B,2,FALSE)","v":0},{"$f":"VLOOKUP(WAVA!AU17,'Points Lookup'!$A:$B,2,FALSE)","v":0},{"$f":"VLOOKUP(WAVA!AV17,'Points Lookup'!$A:$B,2,FALSE)","v":49},{"$f":"VLOOKUP(WAVA!AW17,'Points Lookup'!$A:$B,2,FALSE)","v":0},null,50,49,0,0,0,0,0,0]
[113,{"$f":"WAVA!C18","v":"Amy Barker"},{"$f":"IF(ISBLANK(WAVA!F18),\"\",WAVA!F18)","v":"Second"},0,{"$f":"VLOOKUP(WAVA!AC18,'Points Lookup'!$A:$B,2,FALSE)","v":0},{"$f":"VLOOKUP(WAVA!AD18,'Points Lookup'!$A:$B,2,FALSE)","v":0},{"$f":"VLOOKUP(WAVA!AE18,'Points Lookup'!$A:$B,2,FALSE)","v":0},{"$f":"VLOOKUP(WAVA!AF18,'Points Lookup'!$A:$B,2,FALSE)","v":0},{"$f":"VLOOKUP(WAVA!AG18,'Points Lookup'!$A:$B,2,FALSE)","v":0},{"$f":"VLOOKUP(WAVA!AH18,'Points Lookup'!$A:$B,2,FALSE)","v":0},{"$f":"VLOOKUP(WAVA!AI18,'Points Lookup'!$A:$B,2,FALSE)","v":0},{"$f":"VLOOKUP(WAVA!AJ18,'Points Lookup'!$A:$B,2,FALSE)","v":0},{"$f":"VLOOKUP(WAVA!AK18,'Points Lookup'!$A:$B,2,FALSE)","v":0},{"$f":"VLOOKUP(WAVA!AL18,'Points Lookup'!$A:$B,2,FALSE)","v":0},{"$f":"VLOOKUP(WAVA!AM18,'Points Lookup'!$A:$B,2,FALSE)","v":0},{"$f":"VLOOKUP(WAVA!AN18,'Points Lookup'!$A:$B,2,FALSE)","v":0},{"$f":"VLOOKUP(WAVA!AO18,'Points Lookup'!$A:$B,2,FALSE)","v":0},{"$f":"VLOOKUP(WAVA!AP18,'Points Lookup'!$A:$B,2,FALSE)","v":0},{"$f":"VLOOKUP(WAVA!AQ18,'Points Lookup'!$A:$B,2,FALSE)","v":0},{"$f":"VLOOKUP(WAVA!AR18,'Points Lookup'!$A:$B,2,FALSE)","v":0},{"$f":"VLOOKUP(WAVA!AS18,'Points Lookup'!$A:$B,2,FALSE)","v":0},{"$f":"VLOOKUP(WAVA!AT18,'Points Lookup'!$A:$B,2,FALSE)","v":0},{"$f":"VLOOKUP(WAVA!AU18,'Points Lookup'!$A:$B,2,FALSE)","v":0},{"$f":"VLOOKUP(WAVA!AV18,'Points Lookup'!$A:$B,2,FALSE)","v":0},{"$f":"VLOOKUP(WAVA!AW18,'Points Lookup'!$A:$B,2,FALSE)","v":0},null,0,0,0,0,0,0,0,0]
[105,{"$f":"WAVA!C19","v":"Craig Barrow"},{"$f":"IF(ISBLANK(WAVA!F19),\"\",WAVA!F19)","v":"Second"},36,{"$f":"VLOOKUP(WAVA!AC19,'Points Lookup'!$A:$B,2,FALSE)","v":0},{"$f":"VLOOKUP(WAVA!AD19,'Points Lookup'!$A:$B,2,FALSE)","v":0},{"$f":"VLOOKUP(WAVA!AE19,'Points Lookup'!$A:$B,2,FALSE)","v":0},{"$f":"VLOOKUP(WAVA!AF19,'Points Lookup'!$A:$B,2,FALSE)","v":0},{"$f":"VLOOKUP(WAVA!AG19,'Points Lookup'!$A:$B,2,FALSE)","v":0},{"$f":"VLOOKUP(WAVA!AH19,'Points Lookup'!$A:$B,2,FALSE)","v":0},{"$f":"VLOOKUP(WAVA!AI19,'Points Lookup'!$A:$B,2,FALSE)","v":0},{"$f":"VLOOKUP(WAVA!AJ19,'Points Lookup'!$A:$B,2,FALSE)","v":0},{"$f":"VLOOKUP(WAVA!AK19,'Points Lookup'!$A:$B,2,FALSE)","v":0},{"$f":"VLOOKUP(WAVA!AL19,'Points Lookup'!$A:$B,2,FALSE)","v":0},{"$f":"VLOOKUP(WAVA!AM19,'Points Lookup'!$A:$B,2,FALSE)","v":0},{"$f":"VLOOKUP(WAVA!AN19,'Points Lookup'!$A:$B,2,FALSE)","v":36},{"$f":"VLOOKUP(WAVA!AO19,'Points Lookup'!$A:$B,2,FALSE)","v":0},{"$f":"VLOOKUP(WAVA!AP19,'Points Lookup'!$A:$B,2,FALSE)","v":0},{"$f":"VLOOKUP(WAVA!AQ19,'Points Lookup'!$A:$B,2,FALSE)","v":0},{"$f":"VLOOKUP(WAVA!AR19,'Points Lookup'!$A:$B,2,FALSE)","v":0},{"$f":"VLOOKUP(WAVA!AS19,'Points Lookup'!$A:$B,2,FALSE)","v":0},{"$f":"VLOOKUP(WAVA!AT19,'Points Lookup'!$A:$B,2,FALSE)","v":0},{"$f":"VLOOKUP(WAVA!AU19,'Points Lookup'!$A:$B,2,FALSE)","v":0},{"$f":"VLOOKUP(WAVA!AV19,'Points Lookup'!$A:$B,2,FALSE)","v":0},{"$f":"VLOOKUP(WAVA!AW19,'Points Lookup'!$A:$B,2,FALSE)","v":0},null,36,0,0,0,0,0,0,0]
[106,{"$f":"WAVA!C20","v":"Emma Barrow"},{"$f":"IF(ISBLANK(WAVA!F20),\"\",WAVA!F20)","v":"Second"},34,{"$f":"VLOOKUP(WAVA!AC20,'Points Lookup'!$A:$B,2,FALSE)","v":0},{"$f":"VLOOKUP(WAVA!AD20,'Points Lookup'!$A:$B,2,FALSE)","v":0},{"$f":"VLOOKUP(WAVA!AE20,'Points Lookup'!$A:$B,2,FALSE)","v":0},{"$f":"VLOOKUP(WAVA!AF20,'Points Lookup'!$A:$B,2,FALSE)","v":0},{"$f":"VLOOKUP(WAVA!AG20,'Points Lookup'!$A:$B,2,FALSE)","v":0},{"$f":"VLOOKUP(WAVA!AH20,'Points Lookup'!$A:$B,2,FALSE)","v":0},{"$f":"VLOOKUP(WAVA!AI20,'Points Lookup'!$A:$B,2,FALSE)","v":0},{"$f":"VLOOKUP(WAVA!AJ20,'Points Lookup'!$A:$B,2,FALSE)","v":0},{"$f":"VLOOKUP(WAVA!AK20,'Points Lookup'!$A:$B,2,FALSE)","v":0},{"$f":"VLOOKUP(WAVA!AL20,'Points Lookup'!$A:$B,2,FALSE)","v":0},{"$f":"VLOOKUP(WAVA!AM20,'Points Lookup'!$A:$B,2,FALSE)","v":0},{"$f":"VLOOKUP(WAVA!AN20,'Points Lookup'!$A:$B,2,FALSE)","v":34},{"$f":"VLOOKUP(WAVA!AO20,'Points Lookup'!$A:$B,2,FALSE)","v":0},{"$f":"VLOOKUP(WAVA!AP20,'Points Lookup'!$A:$B,2,FALSE)","v":0},{"$f":"VLOOKUP(WAVA!AQ20,'Points Lookup'!$A:$B,2,FALSE)","v":0},{"$f":"VLOOKUP(WAVA!AR20,'Points Lookup'!$A:$B,2,FALSE)","v":0},{"$f":"VLOOKUP(WAVA!AS20,'Points Lookup'!$A:$B,2,FALSE)","v":0},{"$f":"VLOOKUP(WAVA!AT20,'Points Lookup'!$A:$B,2,FALSE)","v":0},{"$f":"VLOOKUP(WAVA!AU20,'Points Lookup'!$A:$B,2,FALSE)","v":0},{"$f":"VLOOKUP(WAVA!AV20,'Points Lookup'!$A:$B,2,FALSE)","v":0},{"$f":"VLOOKUP(WAVA!AW20,'Points Lookup'!$A:$B,2,FALSE)","v":0},null,34,0,0,0,0,0,0,0]
[113,{"$f":"WAVA!C21","v":"Rhiannon Barrow"},{"$f":"IF(ISBLANK(WAVA!F21),\"\",WAVA!F21)","v":"Second"},0,{"$f":"VLOOKUP(WAVA!AC21,'Points Lookup'!$A:$B,2,FALSE)","v":0},{"$f":"VLOOKUP(WAVA!AD21,'Points Lookup'!$A:$B,2,FALSE)","v":0},{"$f":"VLOOKUP(WAVA!AE21,'Points Lookup'!$A:$B,2,FALSE)","v":0},{"$f":"VLOOKUP(WAVA!AF21,'Points Lookup'!$A:$B,2,FALSE)","v":0},{"$f":"VLOOKUP(WAVA!AG21,'Points Lookup'!$A:$B,2,FALSE)","v":0},{"$f":"VLOOKUP(WAVA!AH21,'Points Lookup'!$A:$B,2,FALSE)","v":0},{"$f":"VLOOKUP(WAVA!AI21,'Points Lookup'!$A:$B,2,FALSE)","v":0},{"$f":"VLOOKUP(WAVA!AJ21,'Points Lookup'!$A:$B,2,FALSE)","v":0},{"$f":"VLOOKUP(WAVA!AK21,'Points Lookup'!$A:$B,2,FALSE)","v":0},{"$f":"VLOOKUP(WAVA!AL21,'Points Lookup'!$A:$B,2,FALSE)","v":0},{"$f":"VLOOKUP(WAVA!AM21,'Points Lookup'!$A:$B,2,FALSE)","v":0},{"$f":"VLOOKUP(WAVA!AN21,'Points Lookup'!$A:$B,2,FALSE)","v":0},{"$f":"VLOOKUP(WAVA!AO21,'Points Lookup'!$A:$B,2,FALSE)","v":0},{"$f":"VLOOKUP(WAVA!AP21,'Points Lookup'!$A:$B,2,FALSE)","v":0},{"$f":"VLOOKUP(WAVA!AQ21,'Points Lookup'!$A:$B,2,FALSE)","v":0},{"$f":"VLOOKUP(WAVA!AR21,'Points Lookup'!$A:$B,2,FALSE)","v":0},{"$f":"VLOOKUP(WAVA!AS21,'Points Lookup'!$A:$B,2,FALSE)","v":0},{"$f":"VLOOKUP(WAVA!AT21,'Points Lookup'!$A:$B,2,FALSE)","v":0},{"$f":"VLOOKUP(WAVA!AU21,'Points Lookup'!$A:$B,2,FALSE)","v":0},{"$f":"VLOOKUP(WAVA!AV21,'Points Lookup'!$A:$B,2,FALSE)","v":0},{"$f":"VLOOKUP(WAVA!AW21,'Points Lookup'!$A:$B,2,FALSE)","v":0},null,0,0,0,0,0,0,0,0]
[67,{"$f":"WAVA!C22","v":"jennifer bartlett"},{"$f":"IF(ISBLANK(WAVA!F22),\"\",WAVA!F22)","v":"Second"},83,{"$f":"VLOOKUP(WAVA!AC22,'Points Lookup'!$A:$B,2,FALSE)","v":0},{"$f":"VLOOKUP(WAVA!AD22,'Points Lookup'!$A:$B,2,FALSE)","v":0},{"$f":"VLOOKUP(WAVA!AE22,'Points Lookup'!$A:$B,2,FALSE)","v":0},{"$f":"VLOOKUP(WAVA!AF22,'Points Lookup'!$A:$B,2,FALSE)","v":0},{"$f":"VLOOKUP(WAVA!AG22,'Points Lookup'!$A:$B,2,FALSE)","v":0},{"$f":"VLOOKUP(WAVA!AH22,'Points Lookup'!$A:$B,2,FALSE)","v":0},{"$f":"VLOOKUP(WAVA!AI22,'Points Lookup'!$A:$B,2,FALSE)","v":0},{"$f":"VLOOKUP(WAVA!AJ22,'Points Lookup'!$A:$B,2,FALSE)","v":0},{"$f":"VLOOKUP(WAVA!AK22,'Points Lookup'!$A:$B,2,FALSE)","v":0},{"$f":"VLOOKUP(WAVA!AL22,'Points Lookup'!$A:$B,2,FALSE)","v":0},{"$f":"VLOOKUP(WAVA!AM22,'Points Lookup'!$A:$B,2,FALSE)","v":0},{"$f":"VLOOKUP(WAVA!AN22,'Points Lookup'!$A:$B,2,FALSE)","v":41},{"$f":"VLOOKUP(WAVA!AO22,'Points Lookup'!$A:$B,2,FALSE)","v":0},{"$f":"VLOOKUP(WAVA!AP22,'Points Lookup'!$A:$B,2,FALSE)","v":0},{"$f":"VLOOKUP(WAVA!AQ22,'Points Lookup'!$A:$B,2,FALSE)","v":0},{"$f":"VLOOKUP(WAVA!AR22,'Points Lookup'!$A:$B,2,FALSE)","v":0},{"$f":"VLOOKUP(WAVA!AS22,'Points Lookup'!$A:$B,2,FALSE)","v":0},{"$f":"VLOOKUP(WAVA!AT22,'Points Lookup'!$A:$B,2,FALSE)","v":0},{"$f":"VLOOKUP(WAVA!AU22,'Points Lookup'!$A:$B,2,FALSE)","v":0},{"$f":"VLOOKUP(WAVA!AV22,'Points Lookup'!$A:$B,2,FALSE)","v":42},{"$f":"VLOOKUP(WAVA!AW22,'Points Lookup'!$A:$B,2,FALSE)","v":0},null,42,41,0,0,0,0,0,0]
[113,{"$f":"WAVA!C23","v":"rifat bashir"},{"$f":"IF(ISBLANK(WAVA!F23),\"\",WAVA!F23)","v":"Second"},0,{"$f":"VLOOKUP(WAVA!AC23,'Points Lookup'!$A:$B,2,FALSE)","v":0},{"$f":"VLOOKUP(WAVA!AD23,'Points Lookup'!$A:$B,2,FALSE)","v":0},{"$f":"VLOOKUP(WAVA!AE23,'Points Lookup'!$A:$B,2,FALSE)","v":0},{"$f":"VLOOKUP(WAVA!AF23,'Points Lookup'!$A:$B,2,FALSE)","v":0},{"$f":"VLOOKUP(WAVA!AG23,'Points Lookup'!$A:$B,2,FALSE)","v":0},{"$f":"VLOOKUP(WAVA!AH23,'Points Lookup'!$A:$B,2,FALSE)","v":0},{"$f":"VLOOKUP(WAVA!AI23,'Points Lookup'!$A:$B,2,FALSE)","v":0},{"$f":"VLOOKUP(WAVA!AJ23,'Points Lookup'!$A:$B,2,FALSE)","v":0},{"$f":"VLOOKUP(WAVA!AK23,'Points Lookup'!$A:$B,2,FALSE)","v":0},{"$f":"VLOOKUP(WAVA!AL23,'Points Lookup'!$A:$B,2,FALSE)","v":0},{"$f":"VLOOKUP(WAVA!AM23,'Points Lookup'!$A:$B,2,FALSE)","v":0},{"$f":"VLOOKUP(WAVA!AN23,'Points Lookup'!$A:$B,2,FALSE)","v":0},{"$f":"VLOOKUP(WAVA!AO23,'Points Lookup'!$A:$B,2,FALSE)","v":0},{"$f":"VLOOKUP(WAVA!AP23,'Points Lookup'!$A:$B,2,FALSE)","v":0},{"$f":"VLOOKUP(WAVA!AQ23,'Points Lookup'!$A:$B,2,FALSE)","v":0},{"$f":"VLOOKUP(WAVA!AR23,'Points Lookup'!$A:$B,2,FALSE)","v":0},{"$f":"VLOOKUP(WAVA!AS23,'Points Lookup'!$A:$B,2,FALSE)","v":0},{"$f":"VLOOKUP(WAVA!AT23,'Points Lookup'!$A:$B,2,FALSE)","v":0},{"$f":"VLOOKUP(WAVA!AU23,'Points Lookup'!$A:$B,2,FALSE)","v":0},{"$f":"VLOOKUP(WAVA!AV23,'Points Lookup'!$A:$B,2,FALSE)","v":0},{"$f":"VLOOKUP(WAVA!AW23,'Points Lookup'!$A:$B,2,FALSE)","v":0},null,{"$f":"LARGE($E22:$Y22,AA$1)","v":0},0,0,0,0,0,0,0]
[34,{"$f":"WAVA!C24","v":"Heather Bayliss"},{"$f":"IF(ISBLANK(WAVA!F24),\"\",WAVA!F24)","v":"Second"},182,{"$f":"VLOOKUP(WAVA!AC24,'Points Lookup'!$A:$B,2,FALSE)","v":0},{"$f":"VLOOKUP(WAVA!AD24,'Points Lookup'!$A:$B,2,FALSE)","v":28},{"$f":"VLOOKUP(WAVA!AE24,'Points Lookup'!$A:$B,2,FALSE)","v":42},{"$f":"VLOOKUP(WAVA!AF24,'Points Lookup'!$A:$B,2,FALSE)","v":0},{"$f":"VLOOKUP(WAVA!AG24,'Points Lookup'!$A:$B,2,FALSE)","v":0},{"$f":"VLOOKUP(WAVA!AH24,'Points Lookup'!$A:$B,2,FALSE)","v":0},{"$f":"VLOOKUP(WAVA!AI24,'Points Lookup'!$A:$B,2,FALSE)","v":0},{"$f":"VLOOKUP(WAVA!AJ24,'Points Lookup'!$A:$B,2,FALSE)","v":0},{"$f":"VLOOKUP(WAVA!AK24,'Points Lookup'!$A:$B,2,FALSE)","v":0},{"$f":"VLOOKUP(WAVA!AL24,'Points Lookup'!$A:$B,2,FALSE)","v":0},{"$f":"VLOOKUP(WAVA!AM24,'Points Lookup'!$A:$B,2,FALSE)","v":0},{"$f":"VLOOKUP(WAVA!AN24,'Points Lookup'!$A:$B,2,FALSE)","v":38},{"$f":"VLOOKUP(WAVA!AO24,'Points Lookup'!$A:$B,2,FALSE)","v":0},{"$f":"VLOOKUP(WAVA!AP24,'Points Lookup'!$A:$B,2,FALSE)","v":0},{"$f":"VLOOKUP(WAVA!AQ24,'Points Lookup'!$A:$B,2,FALSE)","v":37},{"$f":"VLOOKUP(WAVA!AR24,'Points Lookup'!$A:$B,2,FALSE)","v":0},{"$f":"VLOOKUP(WAVA!AS24,'Points Lookup'!$A:$B,2,FALSE)","v":0},{"$f":"VLOOKUP(WAVA!AT24,'Points Lookup'!$A:$B,2,FALSE)","v":37},{"$f":"VLOOKUP(WAVA!AU24,'Points Lookup'!$A:$B,2,FALSE)","v":0},{"$f":"VLOOKUP(WAVA!AV24,'Points Lookup'!$A:$B,2,FALSE)","v":0},{"$f":"VLOOKUP(WAVA!AW24,'Points Lookup'!$A:$B,2,FALSE)","v":0},null,42,38,37,37,28,0,0,0]
[69,{"$f":"WAVA!C25","v":"Julia Beaumont"},{"$f":"IF(ISBLANK(WAVA!F25),\"\",WAVA!F25)","v":"Second"},81,{"$f":"VLOOKUP(WAVA!AC25,'Points Lookup'!$A:$B,2,FALSE)","v":0},{"$f":"VLOOKUP(WAVA!AD25,'Points Lookup'!$A:$B,2,FALSE)","v":38},{"$f":"VLOOKUP(WAVA!AE25,'Points Lookup'!$A:$B,2,FALSE)","v":43},{"$f":"VLOOKUP(WAVA!AF25,'Points Lookup'!$A:$B,2,FALSE)","v":0},{"$f":"VLOOKUP(WAVA!AG25,'Points Lookup'!$A:$B,2,FALSE)","v":0},{"$f":"VLOOKUP(WAVA!AH25,'Points Lookup'!$A:$B,2,FALSE)","v":0},{"$f":"VLOOKUP(WAVA!AI25,'Points Lookup'!$A:$B,2,FALSE)","v":0},{"$f":"VLOOKUP(WAVA!AJ25,'Points Lookup'!$A:$B,2,FALSE)","v":0},{"$f":"VLOOKUP(WAVA!AK25,'Points Lookup'!$A:$B,2,FALSE)","v":0},{"$f":"VLOOKUP(WAVA!AL25,'Points Lookup'!$A:$B,2,FALSE)","v":0},{"$f":"VLOOKUP(WAVA!AM25,'Points Lookup'!$A:$B,2,FALSE)","v":0},{"$f":"VLOOKUP(WAVA!AN25,'Points Lookup'!$A:$B,2,FALSE)","v":0},{"$f":"VLOOKUP(WAVA!AO25,'Points Lookup'!$A:$B,2,FALSE)","v":0},{"$f":"VLOOKUP(WAVA!AP25,'Points Lookup'!$A:$B,2,FALSE)","v":0},{"$f":"VLOOKUP(WAVA!AQ25,'Points Lookup'!$A:$B,2,FALSE)","v":0},{"$f":"VLOOKUP(WAVA!AR25,'Points Lookup'!$A:$B,2,FALSE)","v":0},{"$f":"VLOOKUP(WAVA!AS25,'Points Lookup'!$A:$B,2,FALSE)","v":0},{"$f":"VLOOKUP(WAVA!AT25,'Points Lookup'!$A:$B,2,FALSE)","v":0},{"$f":"VLOOKUP(WAVA!AU25,'Points Lookup'!$A:$B,2,FALSE)","v":0},{"$f":"VLOOKUP(WAVA!AV25,'Points Lookup'!$A:$B,2,FALSE)","v":0},{"$f":"VLOOKUP(WAVA!AW25,'Points Lookup'!$A:$B,2,FALSE)","v":0},null,43,38,0,0,0,0,0,0]
[29,{"$f":"WAVA!C26","v":"Frank Beecroft"},{"$f":"IF(ISBLANK(WAVA!F26),\"\",WAVA!F26)","v":"Premier"},205,{"$f":"VLOOKUP(WAVA!AC26,'Points Lookup'!$A:$B,2,FALSE)","v":0},{"$f":"VLOOKUP(WAVA!AD26,'Points Lookup'!$A:$B,2,FALSE)","v":35},{"$f":"VLOOKUP(WAVA!AE26,'Points Lookup'!$A:$B,2,FALSE)","v":0},{"$f":"VLOOKUP(WAVA!AF26,'Points Lookup'!$A:$B,2,FALSE)","v":0},{"$f":"VLOOKUP(WAVA!AG26,'Points Lookup'!$A:$B,2,FALSE)","v":39},{"$f":"VLOOKUP(WAVA!AH26,'Points Lookup'!$A:$B,2,FALSE)","v":0},{"$f":"VLOOKUP(WAVA!AI26,'Points Lookup'!$A:$B,2,FALSE)","v":0},{"$f":"VLOOKUP(WAVA!AJ26,'Points Lookup'!$A:$B,2,FALSE)","v":0},{"$f":"VLOOKUP(WAVA!AK26,'Points Lookup'!$A:$B,2,FALSE)","v":46},{"$f":"VLOOKUP(WAVA!AL26,'Points Lookup'!$A:$B,2,FALSE)","v":0},{"$f":"VLOOKUP(WAVA!AM26,'Points Lookup'!$A:$B,2,FALSE)","v":0},{"$f":"VLOOKUP(WAVA!AN26,'Points Lookup'!$A:$B,2,FALSE)","v":0},{"$f":"VLOOKUP(WAVA!AO26,'Points Lookup'!$A:$B,2,FALSE)","v":0},{"$f":"VLOOKUP(WAVA!AP26,'Points Lookup'!$A:$B,2,FALSE)","v":0},{"$f":"VLOOKUP(WAVA!AQ26,'Points Lookup'!$A:$B,2,FALSE)","v":0},{"$f":"VLOOKUP(WAVA!AR26,'Points Lookup'!$A:$B,2,FALSE)","v":0},{"$f":"VLOOKUP(WAVA!AS26,'Points Lookup'!$A:$B,2,FALSE)","v":0},{"$f":"VLOOKUP(WAVA!AT26,'Points Lookup'!$A:$B,2,FALSE)","v":38},{"$f":"VLOOKUP(WAVA!AU26,'Points Lookup'!$A:$B,2,FALSE)","v":0},{"$f":"VLOOKUP(WAVA!AV26,'Points Lookup'!$A:$B,2,FALSE)","v":47},{"$f":"VLOOKUP(WAVA!AW26,'Points Lookup'!$A:$B,2,FALSE)","v":0},null,47,46,39,38,35,0,0,0]
[93,{"$f":"WAVA!C27","v":"Gemma Bell"},{"$f":"IF(ISBLANK(WAVA!F27),\"\",WAVA!F27)","v":"Second"},46,{"$f":"VLOOKUP(WAVA!AC27,'Points Lookup'!$A:$B,2,FALSE)","v":0},{"$f":"VLOOKUP(WAVA!AD27,'Points Lookup'!$A:$B,2,FALSE)","v":0},{"$f":"VLOOKUP(WAVA!AE27,'Points Lookup'!$A:$B,2,FALSE)","v":0},{"$f":"VLOOKUP(WAVA!AF27,'Points Lookup'!$A:$B,2,FALSE)","v":0},{"$f":"VLOOKUP(WAVA!AG27,'Points Lookup'!$A:$B,2,FALSE)","v":0},{"$f":"VLOOKUP(WAVA!AH27,'Points Lookup'!$A:$B,2,FALSE)","v":0},{"$f":"VLOOKUP(WAVA!AI27,'Points Lookup'!$A:$B,2,FALSE)","v":0},{"$f":"VLOOKUP(WAVA!AJ27,'Points Lookup'!$A:$B,2,FALSE)","v":0},{"$f":"VLOOKUP(WAVA!AK27,'Points Lookup'!$A:$B,2,FALSE)","v":0},{"$f":"VLOOKUP(WAVA!AL27,'Points Lookup'!$A:$B,2,FALSE)","v":0},{"$f":"VLOOKUP(WAVA!AM27,'Points Lookup'!$A:$B,2,FALSE)","v":0},{"$f":"VLOOKUP(WAVA!AN27,'Points Lookup'!$A:$B,2,FALSE)","v":46},{"$f":"VLOOKUP(WAVA!AO27,'Points Lookup'!$A:$B,2,FALSE)","v":0},{"$f":"VLOOKUP(WAVA!AP27,'Points Lookup'!$A:$B,2,FALSE)","v":0},{"$f":"VLOOKUP(WAVA!AQ27,'Points Lookup'!$A:$B,2,FALSE)","v":0},{"$f":"VLOOKUP(WAVA!AR27,'Points Lookup'!$A:$B,2,FALSE)","v":0},{"$f":"VLOOKUP(WAVA!AS27,'Points Lookup'!$A:$B,2,FALSE)","v":0},{"$f":"VLOOKUP(WAVA!AT27,'Points Lookup'!$A:$B,2,FALSE)","v":0},{"$f":"VLOOKUP(WAVA!AU27,'Points Lookup'!$A:$B,2,FALSE)","v":0},{"$f":"VLOOKUP(WAVA!AV27,'Points Lookup'!$A:$B,2,FALSE)","v":0},{"$f":"VLOOKUP(WAVA!AW27,'Points Lookup'!$A:$B,2,FALSE)","v":0},null,46,0,0,0,0,0,0,0]
[95,{"$f":"WAVA!C28","v":"Amanda  Bellwood"},{"$f":"IF(ISBLANK(WAVA!F28),\"\",WAVA!F28)","v":"Second"},45,{"$f":"VLOOKUP(WAVA!AC28,'Points Lookup'!$A:$B,2,FALSE)","v":0},{"$f":"VLOOKUP(WAVA!AD28,'Points Lookup'!$A:$B,2,FALSE)","v":0},{"$f":"VLOOKUP(WAVA!AE28,'Points Lookup'!$A:$B,2,FALSE)","v":0},{"$f":"VLOOKUP(WAVA!AF28,'Points Lookup'!$A:$B,2,FALSE)","v":0},{"$f":"VLOOKUP(WAVA!AG28,'Points Lookup'!$A:$B,2,FALSE)","v":0},{"$f":"VLOOKUP(WAVA!AH28,'Points Lookup'!$A:$B,2,FALSE)","v":0},{"$f":"VLOOKUP(WAVA!AI28,'Points Lookup'!$A:$B,2,FALSE)","v":45},{"$f":"VLOOKUP(WAVA!AJ28,'Points Lookup'!$A:$B,2,FALSE)","v":0},{"$f":"VLOOKUP(WAVA!AK28,'Points Lookup'!$A:$B,2,FALSE)","v":0},{"$f":"VLOOKUP(WAVA!AL28,'Points Lookup'!$A:$B,2,FALSE)","v":0},{"$f":"VLOOKUP(WAVA!AM28,'Points Lookup'!$A:$B,2,FALSE)","v":0},{"$f":"VLOOKUP(WAVA!AN28,'Points Lookup'!$A:$B,2,FALSE)","v":0},{"$f":"VLOOKUP(WAVA!AO28,'Points Lookup'!$A:$B,2,FALSE)","v":0},{"$f":"VLOOKUP(WAVA!AP28,'Points Lookup'!$A:$B,2,FALSE)","v":0},{"$f":"VLOOKUP(WAVA!AQ28,'Points Lookup'!$A:$B,2,FALSE)","v":0},{"$f":"VLOOKUP(WAVA!AR28,'Points Lookup'!$A:$B,2,FALSE)","v":0},{"$f":"VLOOKUP(WAVA!AS28,'Points Lookup'!$A:$B,2,FALSE)","v":0},{"$f":"VLOOKUP(WAVA!AT28,'Points Lookup'!$A:$B,2,FALSE)","v":0},{"$f":"VLOOKUP(WAVA!AU28,'Points Lookup'!$A:$B,2,FALSE)","v":0},{"$f":"VLOOKUP(WAVA!AV28,'Points Lookup'!$A:$B,2,FALSE)","v":0},{"$f":"VLOOKUP(WAVA!AW28,'Points Lookup'!$A:$B,2,FALSE)","v":0},null,45,0,0,0,0,0,0,0]
[93,{"$f":"WAVA!C29","v":"tim bellwood"},{"$f":"IF(ISBLANK(WAVA!F29),\"\",WAVA!F29)","v":"Second"},46,{"$f":"VLOOKUP(WAVA!AC29,'Points Lookup'!$A:$B,2,FALSE)","v":0},{"$f":"VLOOKUP(WAVA!AD29,'Points Lookup'!$A:$B,2,FALSE)","v":0},{"$f":"VLOOKUP(WAVA!AE29,'Points Lookup'!$A:$B,2,FALSE)","v":0},{"$f":"VLOOKUP(WAVA!AF29,'Points Lookup'!$A:$B,2,FALSE)","v":0},{"$f":"VLOOKUP(WAVA!AG29,'Points Lookup'!$A:$B,2,FALSE)","v":0},{"$f":"VLOOKUP(WAVA!AH29,'Points Lookup'!$A:$B,2,FALSE)","v":0},{"$f":"VLOOKUP(WAVA!AI29,'Points Lookup'!$A:$B,2,FALSE)","v":46},{"$f":"VLOOKUP(WAVA!AJ29,'Points Lookup'!$A:$B,2,FALSE)","v":0},{"$f":"VLOOKUP(WAVA!AK29,'Points Lookup'!$A:$B,2,FALSE)","v":0},{"$f":"VLOOKUP(WAVA!AL29,'Points Lookup'!$A:$B,2,FALSE)","v":0},{"$f":"VLOOKUP(WAVA!AM29,'Points Lookup'!$A:$B,2,FALSE)","v":0},{"$f":"VLOOKUP(WAVA!AN29,'Points Lookup'!$A:$B,2,FALSE)","v":0},{"$f":"VLOOKUP(WAVA!AO29,'Points Lookup'!$A:$B,2,FALSE)","v":0},{"$f":"VLOOKUP(WAVA!AP29,'Points Lookup'!$A:$B,2,FALSE)","v":0},{"$f":"VLOOKUP(WAVA!AQ29,'Points Lookup'!$A:$B,2,FALSE)","v":0},{"$f":"VLOOKUP(WAVA!AR29,'Points Lookup'!$A:$B,2,FALSE)","v":0},{"$f":"VLOOKUP(WAVA!AS29,'Points Lookup'!$A:$B,2,FALSE)","v":0},{"$f":"VLOOKUP(WAVA!AT29,'Points Lookup'!$A:$B,2,FALSE)","v":0},{"$f":"VLOOKUP(WAVA!AU29,'Points Lookup'!$A:$B,2,FALSE)","v":0},{"$f":"VLOOKUP(WAVA!AV29,'Points Lookup'!$A:$B,2,FALSE)","v":0},{"$f":"VLOOKUP(WAVA!AW29,'Points Lookup'!$A:$B,2,FALSE)","v":0},null,46,0,0,0,0,0,0,0]
[110,{"$f":"WAVA!C30","v":"Catherine Berry"},{"$f":"IF(ISBLANK(WAVA!F30),\"\",WAVA!F30)","v":"Second"},31,{"$f":"VLOOKUP(WAVA!AC30,'Points Lookup'!$A:$B,2,FALSE)","v":0},{"$f":"VLOOKUP(WAVA!AD30,'Points Lookup'!$A:$B,2,FALSE)","v":0},{"$f":"VLOOKUP(WAVA!AE30,'Points Lookup'!$A:$B,2,FALSE)","v":0},{"$f":"VLOOKUP(WAVA!AF30,'Points Lookup'!$A:$B,2,FALSE)","v":0},{"$f":"VLOOKUP(WAVA!AG30,'Points Lookup'!$A:$B,2,FALSE)","v":0},{"$f":"VLOOKUP(WAVA!AH30,'Points Lookup'!$A:$B,2,FALSE)","v":0},{"$f":"VLOOKUP(WAVA!AI30,'Points Lookup'!$A:$B,2,FALSE)","v":0},{"$f":"VLOOKUP(WAVA!AJ30,'Points Lookup'!$A:$B,2,FALSE)","v":0},{"$f":"VLOOKUP(WAVA!AK30,'Points Lookup'!$A:$B,2,FALSE)","v":0},{"$f":"VLOOKUP(WAVA!AL30,'Points Lookup'!$A:$B,2,FALSE)","v":0},{"$f":"VLOOKUP(WAVA!AM30,'Points Lookup'!$A:$B,2,FALSE)","v":0},{"$f":"VLOOKUP(WAVA!AN30,'Points Lookup'!$A:$B,2,FALSE)","v":0},{"$f":"VLOOKUP(WAVA!AO30,'Points Lookup'!$A:$B,2,FALSE)","v":0},{"$f":"VLOOKUP(WAVA!AP30,'Points Lookup'!$A:$B,2,FALSE)","v":0},{"$f":"VLOOKUP(WAVA!AQ30,'Points Lookup'!$A:$B,2,FALSE)","v":0},{"$f":"VLOOKUP(WAVA!AR30,'Points Lookup'!$A:$B,2,FALSE)","v":0},{"$f":"VLOOKUP(WAVA!AS30,'Points Lookup'!$A:$B,2,FALSE)","v":0},{"$f":"VLOOKUP(WAVA!AT30,'Points Lookup'!$A:$B,2,FALSE)","v":0},{"$f":"VLOOKUP(WAVA!AU30,'Points Lookup'!$A:$B,2,FALSE)","v":0},{"$f":"VLOOKUP(WAVA!AV30,'Points Lookup'!$A:$B,2,FALSE)","v":31},{"$f":"VLOOKUP(WAVA!AW30,'Points Lookup'!$A:$B,2,FALSE)","v":0},null,31,0,0,0,0,0,0,0]
[49,{"$f":"WAVA!C31","v":"Craig  Beza"},{"$f":"IF(ISBLANK(WAVA!F31),\"\",WAVA!F31)","v":"Second"},98,{"$f":"VLOOKUP(WAVA!AC31,'Points Lookup'!$A:$B,2,FALSE)","v":0},{"$f":"VLOOKUP(WAVA!AD31,'Points Lookup'!$A:$B,2,FALSE)","v":0},{"$f":"VLOOKUP(WAVA!AE31,'Points Lookup'!$A:$B,2,FALSE)","v":0},{"$f":"VLOOKUP(WAVA!AF31,'Points Lookup'!$A:$B,2,FALSE)","v":0},{"$f":"VLOOKUP(WAVA!AG31,'Points Lookup'!$A:$B,2,FALSE)","v":0},{"$f":"VLOOKUP(WAVA!AH31,'Points Lookup'!$A:$B,2,FALSE)","v":0},{"$f":"VLOOKUP(WAVA!AI31,'Points Lookup'!$A:$B,2,FALSE)","v":0},{"$f":"VLOOKUP(WAVA!AJ31,'Points Lookup'!$A:$B,2,FALSE)","v":0},{"$f":"VLOOKUP(WAVA!AK31,'Points Lookup'!$A:$B,2,FALSE)","v":0},{"$f":"VLOOKUP(WAVA!AL31,'Points Lookup'!$A:$B,2,FALSE)","v":0},{"$f":"VLOOKUP(WAVA!AM31,'Points Lookup'!$A:$B,2,FALSE)","v":0},{"$f":"VLOOKUP(WAVA!AN31,'Points Lookup'!$A:$B,2,FALSE)","v":0},{"$f":"VLOOKUP(WAVA!AO31,'Points Lookup'!$A:$B,2,FALSE)","v":0},{"$f":"VLOOKUP(WAVA!AP31,'Points Lookup'!$A:$B,2,FALSE)","v":0},{"$f":"VLOOKUP(WAVA!AQ31,'Points Lookup'!$A:$B,2,FALSE)","v":0},{"$f":"VLOOKUP(WAVA!AR31,'Points Lookup'!$A:$B,2,FALSE)","v":49},{"$f":"VLOOKUP(WAVA!AS31,'Points Lookup'!$A:$B,2,FALSE)","v":0},{"$f":"VLOOKUP(WAVA!AT31,'Points Lookup'!$A:$B,2,FALSE)","v":49},{"$f":"VLOOKUP(WAVA!AU31,'Points Lookup'!$A:$B,2,FALSE)","v":0},{"$f":"VLOOKUP(WAVA!AV31,'Points Lookup'!$A:$B,2,FALSE)","v":0},{"$f":"VLOOKUP(WAVA!AW31,'Points Lookup'!$A:$B,2,FALSE)","v":0},null,49,49,0,0,0,0,0,0]
[8,{"$f":"WAVA!C32","v":"Philippa Bird"},{"$f":"IF(ISBLANK(WAVA!F32),\"\",WAVA!F32)","v":"Second"},380,{"$f":"VLOOKUP(WAVA!AC32,'Points Lookup'!$A:$B,2,FALSE)","v":0},{"$f":"VLOOKUP(WAVA!AD32,'Points Lookup'!$A:$B,2,FALSE)","v":0},{"$f":"VLOOKUP(WAVA!AE32,'Points Lookup'!$A:$B,2,FALSE)","v":45},{"$f":"VLOOKUP(WAVA!AF32,'Points Lookup'!$A:$B,2,FALSE)","v":49},{"$f":"VLOOKUP(WAVA!AG32,'Points Lookup'!$A:$B,2,FALSE)","v":0},{"$f":"VLOOKUP(WAVA!AH32,'Points Lookup'!$A:$B,2,FALSE)","v":0},{"$f":"VLOOKUP(WAVA!AI32,'Points Lookup'!$A:$B,2,FALSE)","v":0},{"$f":"VLOOKUP(WAVA!AJ32,'Points Lookup'!$A:$B,2,FALSE)","v":0},{"$f":"VLOOKUP(WAVA!AK32,'Points Lookup'!$A:$B,2,FALSE)","v":45},{"$f":"VLOOKUP(WAVA!AL32,'Points Lookup'!$A:$B,2,FALSE)","v":48},{"$f":"VLOOKUP(WAVA!AM32,'Points Lookup'!$A:$B,2,FALSE)","v":48},{"$f":"VLOOKUP(WAVA!AN32,'Points Lookup'!$A:$B,2,FALSE)","v":0},{"$f":"VLOOKUP(WAVA!AO32,'Points Lookup'!$A:$B,2,FALSE)","v":48},{"$f":"VLOOKUP(WAVA!AP32,'Points Lookup'!$A:$B,2,FALSE)","v":0},{"$f":"VLOOKUP(WAVA!AQ32,'Points Lookup'!$A:$B,2,FALSE)","v":0},{"$f":"VLOOKUP(WAVA!AR32,'Points Lookup'!$A:$B,2,FALSE)","v":0},{"$f":"VLOOKUP(WAVA!AS32,'Points Lookup'!$A:$B,2,FALSE)","v":49},{"$f":"VLOOKUP(WAVA!AT32,'Points Lookup'!$A:$B,2,FALSE)","v":47},{"$f":"VLOOKUP(WAVA!AU32,'Points Lookup'!$A:$B,2,FALSE)","v":46},{"$f":"VLOOKUP(WAVA!AV32,'Points Lookup'!$A:$B,2,FALSE)","v":0},{"$f":"VLOOKUP(WAVA!AW32,'Points Lookup'!$A:$B,2,FALSE)","v":0},null,49,49,48,48,48,47,46,45]
[113,{"$f":"WAVA!C33","v":"David Blanchard"},{"$f":"IF(ISBLANK(WAVA!F33),\"\",WAVA!F33)","v":"Second"},0,{"$f":"VLOOKUP(WAVA!AC33,'Points Lookup'!$A:$B,2,FALSE)","v":0},{"$f":"VLOOKUP(WAVA!AD33,'Points Lookup'!$A:$B,2,FALSE)","v":0},{"$f":"VLOOKUP(WAVA!AE33,'Points Lookup'!$A:$B,2,FALSE)","v":0},{"$f":"VLOOKUP(WAVA!AF33,'Points Lookup'!$A:$B,2,FALSE)","v":0},{"$f":"VLOOKUP(WAVA!AG33,'Points Lookup'!$A:$B,2,FALSE)","v":0},{"$f":"VLOOKUP(WAVA!AH33,'Points Lookup'!$A:$B,2,FALSE)","v":0},{"$f":"VLOOKUP(WAVA!AI33,'Points Lookup'!$A:$B,2,FALSE)","v":0},{"$f":"VLOOKUP(WAVA!AJ33,'Points Lookup'!$A:$B,2,FALSE)","v":0},{"$f":"VLOOKUP(WAVA!AK33,'Points Lookup'!$A:$B,2,FALSE)","v":0},{"$f":"VLOOKUP(WAVA!AL33,'Points Lookup'!$A:$B,2,FALSE)","v":0},{"$f":"VLOOKUP(WAVA!AM33,'Points Lookup'!$A:$B,2,FALSE)","v":0},{"$f":"VLOOKUP(WAVA!AN33,'Points Lookup'!$A:$B,2,FALSE)","v":0},{"$f":"VLOOKUP(WAVA!AO33,'Points Lookup'!$A:$B,2,FALSE)","v":0},{"$f":"VLOOKUP(WAVA!AP33,'Points Lookup'!$A:$B,2,FALSE)","v":0},{"$f":"VLOOKUP(WAVA!AQ33,'Points Lookup'!$A:$B,2,FALSE)","v":0},{"$f":"VLOOKUP(WAVA!AR33,'Points Lookup'!$A:$B,2,FALSE)","v":0},{"$f":"VLOOKUP(WAVA!AS33,'Points Lookup'!$A:$B,2,FALSE)","v":0},{"$f":"VLOOKUP(WAVA!AT33,'Points Lookup'!$A:$B,2,FALSE)","v":0},{"$f":"VLOOKUP(WAVA!AU33,'Points Lookup'!$A:$B,2,FALSE)","v":0},{"$f":"VLOOKUP(WAVA!AV33,'Points Lookup'!$A:$B,2,FALSE)","v":0},{"$f":"VLOOKUP(WAVA!AW33,'Points Lookup'!$A:$B,2,FALSE)","v":0},null,{"$f":"LARGE($E32:$Y32,AA$1)","v":0},0,0,0,0,0,0,0]
[113,{"$f":"WAVA!C34","v":"Claire Bond"},{"$f":"IF(ISBLANK(WAVA!F34),\"\",WAVA!F34)","v":"Second"},0,{"$f":"VLOOKUP(WAVA!AC34,'Points Lookup'!$A:$B,2,FALSE)","v":0},{"$f":"VLOOKUP(WAVA!AD34,'Points Lookup'!$A:$B,2,FALSE)","v":0},{"$f":"VLOOKUP(WAVA!AE34,'Points Lookup'!$A:$B,2,FALSE)","v":0},{"$f":"VLOOKUP(WAVA!AF34,'Points Lookup'!$A:$B,2,FALSE)","v":0},{"$f":"VLOOKUP(WAVA!AG34,'Points Lookup'!$A:$B,2,FALSE)","v":0},{"$f":"VLOOKUP(WAVA!AH34,'Points Lookup'!$A:$B,2,FALSE)","v":0},{"$f":"VLOOKUP(WAVA!AI34,'Points Lookup'!$A:$B,2,FALSE)","v":0},{"$f":"VLOOKUP(WAVA!AJ34,'Points Lookup'!$A:$B,2,FALSE)","v":0},{"$f":"VLOOKUP(WAVA!AK34,'Points Lookup'!$A:$B,2,FALSE)","v":0},{"$f":"VLOOKUP(WAVA!AL34,'Points Lookup'!$A:$B,2,FALSE)","v":0},{"$f":"VLOOKUP(WAVA!AM34,'Points Lookup'!$A:$B,2,FALSE)","v":0},{"$f":"VLOOKUP(WAVA!AN34,'Points Lookup'!$A:$B,2,FALSE)","v":0},{"$f":"VLOOKUP(WAVA!AO34,'Points Lookup'!$A:$B,2,FALSE)","v":0},{"$f":"VLOOKUP(WAVA!AP34,'Points Lookup'!$A:$B,2,FALSE)","v":0},{"$f":"VLOOKUP(WAVA!AQ34,'Points Lookup'!$A:$B,2,FALSE)","v":0},{"$f":"VLOOKUP(WAVA!AR34,'Points Lookup'!$A:$B,2,FALSE)","v":0},{"$f":"VLOOKUP(WAVA!AS34,'Points Lookup'!$A:$B,2,FALSE)","v":0},{"$f":"VLOOKUP(WAVA!AT34,'Points Lookup'!$A:$B,2,FALSE)","v":0},{"$f":"VLOOKUP(WAVA!AU34,'Points Lookup'!$A:$B,2,FALSE)","v":0},{"$f":"VLOOKUP(WAVA!AV34,'Points Lookup'!$A:$B,2,FALSE)","v":0},{"$f":"VLOOKUP(WAVA!AW34,'Points Lookup'!$A:$B,2,FALSE)","v":0},null,0,0,0,0,0,0,0,0]
[15,{"$f":"WAVA!C35","v":"Bernie Bowden"},{"$f":"IF(ISBLANK(WAVA!F35),\"\",WAVA!F35)","v":"Second"},297,{"$f":"VLOOKUP(WAVA!AC35,'Points Lookup'!$A:$B,2,FALSE)","v":49},{"$f":"VLOOKUP(WAVA!AD35,'Points Lookup'!$A:$B,2,FALSE)","v":49},{"$f":"VLOOKUP(WAVA!AE35,'Points Lookup'!$A:$B,2,FALSE)","v":0},{"$f":"VLOOKUP(WAVA!AF35,'Points Lookup'!$A:$B,2,FALSE)","v":0},{"$f":"VLOOKUP(WAVA!AG35,'Points Lookup'!$A:$B,2,FALSE)","v":0},{"$f":"VLOOKUP(WAVA!AH35,'Points Lookup'!$A:$B,2,FALSE)","v":0},{"$f":"VLOOKUP(WAVA!AI35,'Points Lookup'!$A:$B,2,FALSE)","v":0},{"$f":"VLOOKUP(WAVA!AJ35,'Points Lookup'!$A:$B,2,FALSE)","v":0},{"$f":"VLOOKUP(WAVA!AK35,'Points Lookup'!$A:$B,2,FALSE)","v":0},{"$f":"VLOOKUP(WAVA!AL35,'Points Lookup'!$A:$B,2,FALSE)","v":50},{"$f":"VLOOKUP(WAVA!AM35,'Points Lookup'!$A:$B,2,FALSE)","v":0},{"$f":"VLOOKUP(WAVA!AN35,'Points Lookup'!$A:$B,2,FALSE)","v":50},{"$f":"VLOOKUP(WAVA!AO35,'Points Lookup'!$A:$B,2,FALSE)","v":0},{"$f":"VLOOKUP(WAVA!AP35,'Points Lookup'!$A:$B,2,FALSE)","v":0},{"$f":"VLOOKUP(WAVA!AQ35,'Points Lookup'!$A:$B,2,FALSE)","v":49},{"$f":"VLOOKUP(WAVA!AR35,'Points Lookup'!$A:$B,2,FALSE)","v":0},{"$f":"VLOOKUP(WAVA!AS35,'Points Lookup'!$A:$B,2,FALSE)","v":50},{"$f":"VLOOKUP(WAVA!AT35,'Points Lookup'!$A:$B,2,FALSE)","v":0},{"$f":"VLOOKUP(WAVA!AU35,'Points Lookup'!$A:$B,2,FALSE)","v":0},{"$f":"VLOOKUP(WAVA!AV35,'Points Lookup'!$A:$B,2,FALSE)","v":0},{"$f":"VLOOKUP(WAVA!AW35,'Points Lookup'!$A:$B,2,FALSE)","v":0},null,50,50,50,49,49,49,0,0]
[39,{"$f":"WAVA!C36","v":"Rachel Boyd"},{"$f":"IF(ISBLANK(WAVA!F36),\"\",WAVA!F36)","v":"Second"},150,{"$f":"VLOOKUP(WAVA!AC36,'Points Lookup'!$A:$B,2,FALSE)","v":50},{"$f":"VLOOKUP(WAVA!AD36,'Points Lookup'!$A:$B,2,FALSE)","v":50},{"$f":"VLOOKUP(WAVA!AE36,'Points Lookup'!$A:$B,2,FALSE)","v":0},{"$f":"VLOOKUP(WAVA!AF36,'Points Lookup'!$A:$B,2,FALSE)","v":0},{"$f":"VLOOKUP(WAVA!AG36,'Points Lookup'!$A:$B,2,FALSE)","v":50},{"$f":"VLOOKUP(WAVA!AH36,'Points Lookup'!$A:$B,2,FALSE)","v":0},{"$f":"VLOOKUP(WAVA!AI36,'Points Lookup'!$A:$B,2,FALSE)","v":0},{"$f":"VLOOKUP(WAVA!AJ36,'Points Lookup'!$A:$B,2,FALSE)","v":0},{"$f":"VLOOKUP(WAVA!AK36,'Points Lookup'!$A:$B,2,FALSE)","v":0},{"$f":"VLOOKUP(WAVA!AL36,'Points Lookup'!$A:$B,2,FALSE)","v":0},{"$f":"VLOOKUP(WAVA!AM36,'Points Lookup'!$A:$B,2,FALSE)","v":0},{"$f":"VLOOKUP(WAVA!AN36,'Points Lookup'!$A:$B,2,FALSE)","v":0},{"$f":"VLOOKUP(WAVA!AO36,'Points Lookup'!$A:$B,2,FALSE)","v":0},{"$f":"VLOOKUP(WAVA!AP36,'Points Lookup'!$A:$B,2,FALSE)","v":0},{"$f":"VLOOKUP(WAVA!AQ36,'Points Lookup'!$A:$B,2,FALSE)","v":0},{"$f":"VLOOKUP(WAVA!AR36,'Points Lookup'!$A:$B,2,FALSE)","v":0},{"$f":"VLOOKUP(WAVA!AS36,'Points Lookup'!$A:$B,2,FALSE)","v":0},{"$f":"VLOOKUP(WAVA!AT36,'Points Lookup'!$A:$B,2,FALSE)","v":0},{"$f":"VLOOKUP(WAVA!AU36,'Points Lookup'!$A:$B,2,FALSE)","v":0},{"$f":"VLOOKUP(WAVA!AV36,'Points Lookup'!$A:$B,2,FALSE)","v":0},{"$f":"VLOOKUP(WAVA!AW36,'Points Lookup'!$A:$B,2,FALSE)","v":0},null,50,50,50,0,0,0,0,0]
[113,{"$f":"WAVA!C37","v":"Roy Bradshaw"},{"$f":"IF(ISBLANK(WAVA!F37),\"\",WAVA!F37)","v":"Second"},0,{"$f":"VLOOKUP(WAVA!AC37,'Points Lookup'!$A:$B,2,FALSE)","v":0},{"$f":"VLOOKUP(WAVA!AD37,'Points Lookup'!$A:$B,2,FALSE)","v":0},{"$f":"VLOOKUP(WAVA!AE37,'Points Lookup'!$A:$B,2,FALSE)","v":0},{"$f":"VLOOKUP(WAVA!AF37,'Points Lookup'!$A:$B,2,FALSE)","v":0},{"$f":"VLOOKUP(WAVA!AG37,'Points Lookup'!$A:$B,2,FALSE)","v":0},{"$f":"VLOOKUP(WAVA!AH37,'Points Lookup'!$A:$B,2,FALSE)","v":0},{"$f":"VLOOKUP(WAVA!AI37,'Points Lookup'!$A:$B,2,FALSE)","v":0},{"$f":"VLOOKUP(WAVA!AJ37,'Points Lookup'!$A:$B,2,FALSE)","v":0},{"$f":"VLOOKUP(WAVA!AK37,'Points Lookup'!$A:$B,2,FALSE)","v":0},{"$f":"VLOOKUP(WAVA!AL37,'Points Lookup'!$A:$B,2,FALSE)","v":0},{"$f":"VLOOKUP(WAVA!AM37,'Points Lookup'!$A:$B,2,FALSE)","v":0},{"$f":"VLOOKUP(WAVA!AN37,'Points Lookup'!$A:$B,2,FALSE)","v":0},{"$f":"VLOOKUP(WAVA!AO37,'Points Lookup'!$A:$B,2,FALSE)","v":0},{"$f":"VLOOKUP(WAVA!AP37,'Points Lookup'!$A:$B,2,FALSE)","v":0},{"$f":"VLOOKUP(WAVA!AQ37,'Points Lookup'!$A:$B,2,FALSE)","v":0},{"$f":"VLOOKUP(WAVA!AR37,'Points Lookup'!$A:$B,2,FALSE)","v":0},{"$f":"VLOOKUP(WAVA!AS37,'Points Lookup'!$A:$B,2,FALSE)","v":0},{"$f":"VLOOKUP(WAVA!AT37,'Points Lookup'!$A:$B,2,FALSE)","v":0},{"$f":"VLOOKUP(WAVA!AU37,'Points Lookup'!$A:$B,2,FALSE)","v":0},{"$f":"VLOOKUP(WAVA!AV37,'Points Lookup'!$A:$B,2,FALSE)","v":0},{"$f":"VLOOKUP(WAVA!AW37,'Points Lookup'!$A:$B,2,FALSE)","v":0},null,0,0,0,0,0,0,0,0]
[14,{"$f":"WAVA!C38","v":"Helen Brant"},{"$f":"IF(ISBLANK(WAVA!F38),\"\",WAVA!F38)","v":"Premier"},304,{"$f":"VLOOKUP(WAVA!AC38,'Points Lookup'!$A:$B,2,FALSE)","v":35},{"$f":"VLOOKUP(WAVA!AD38,'Points Lookup'!$A:$B,2,FALSE)","v":38},{"$f":"VLOOKUP(WAVA!AE38,'Points Lookup'!$A:$B,2,FALSE)","v":0},{"$f":"VLOOKUP(WAVA!AF38,'Points Lookup'!$A:$B,2,FALSE)","v":0},{"$f":"VLOOKUP(WAVA!AG38,'Points Lookup'!$A:$B,2,FALSE)","v":0},{"$f":"VLOOKUP(WAVA!AH38,'Points Lookup'!$A:$B,2,FALSE)","v":0},{"$f":"VLOOKUP(WAVA!AI38,'Points Lookup'!$A:$B,2,FALSE)","v":41},{"$f":"VLOOKUP(WAVA!AJ38,'Points Lookup'!$A:$B,2,FALSE)","v":41},{"$f":"VLOOKUP(WAVA!AK38,'Points Lookup'!$A:$B,2,FALSE)","v":0},{"$f":"VLOOKUP(WAVA!AL38,'Points Lookup'!$A:$B,2,FALSE)","v":0},{"$f":"VLOOKUP(WAVA!AM38,'Points Lookup'!$A:$B,2,FALSE)","v":0},{"$f":"VLOOKUP(WAVA!AN38,'Points Lookup'!$A:$B,2,FALSE)","v":40},{"$f":"VLOOKUP(WAVA!AO38,'Points Lookup'!$A:$B,2,FALSE)","v":0},{"$f":"VLOOKUP(WAVA!AP38,'Points Lookup'!$A:$B,2,FALSE)","v":0},{"$f":"VLOOKUP(WAVA!AQ38,'Points Lookup'!$A:$B,2,FALSE)","v":41},{"$f":"VLOOKUP(WAVA!AR38,'Points Lookup'!$A:$B,2,FALSE)","v":0},{"$f":"VLOOKUP(WAVA!AS38,'Points Lookup'!$A:$B,2,FALSE)","v":0},{"$f":"VLOOKUP(WAVA!AT38,'Points Lookup'!$A:$B,2,FALSE)","v":35},{"$f":"VLOOKUP(WAVA!AU38,'Points Lookup'!$A:$B,2,FALSE)","v":33},{"$f":"VLOOKUP(WAVA!AV38,'Points Lookup'!$A:$B,2,FALSE)","v":0},{"$f":"VLOOKUP(WAVA!AW38,'Points Lookup'!$A:$B,2,FALSE)","v":0},null,41,41,41,40,38,35,35,33]
[23,{"$f":"WAVA!C39","v":"Nick Breare"},{"$f":"IF(ISBLANK(WAVA!F39),\"\",WAVA!F39)","v":"Second"},232,{"$f":"VLOOKUP(WAVA!AC39,'Points Lookup'!$A:$B,2,FALSE)","v":0},{"$f":"VLOOKUP(WAVA!AD39,'Points Lookup'!$A:$B,2,FALSE)","v":45},{"$f":"VLOOKUP(WAVA!AE39,'Points Lookup'!$A:$B,2,FALSE)","v":50},{"$f":"VLOOKUP(WAVA!AF39,'Points Lookup'!$A:$B,2,FALSE)","v":0},{"$f":"VLOOKUP(WAVA!AG39,'Points Lookup'!$A:$B,2,FALSE)","v":0},{"$f":"VLOOKUP(WAVA!AH39,'Points Lookup'!$A:$B,2,FALSE)","v":0},{"$f":"VLOOKUP(WAVA!AI39,'Points Lookup'!$A:$B,2,FALSE)","v":43},{"$f":"VLOOKUP(WAVA!AJ39,'Points Lookup'!$A:$B,2,FALSE)","v":0},{"$f":"VLOOKUP(WAVA!AK39,'Points Lookup'!$A:$B,2,FALSE)","v":0},{"$f":"VLOOKUP(WAVA!AL39,'Points Lookup'!$A:$B,2,FALSE)","v":0},{"$f":"VLOOKUP(WAVA!AM39,'Points Lookup'!$A:$B,2,FALSE)","v":0},{"$f":"VLOOKUP(WAVA!AN39,'Points Lookup'!$A:$B,2,FALSE)","v":0},{"$f":"VLOOKUP(WAVA!AO39,'Points Lookup'!$A:$B,2,FALSE)","v":50},{"$f":"VLOOKUP(WAVA!AP39,'Points Lookup'!$A:$B,2,FALSE)","v":0},{"$f":"VLOOKUP(WAVA!AQ39,'Points Lookup'!$A:$B,2,FALSE)","v":44},{"$f":"VLOOKUP(WAVA!AR39,'Points Lookup'!$A:$B,2,FALSE)","v":0},{"$f":"VLOOKUP(WAVA!AS39,'Points Lookup'!$A:$B,2,FALSE)","v":0},{"$f":"VLOOKUP(WAVA!AT39,'Points Lookup'!$A:$B,2,FALSE)","v":0},{"$f":"VLOOKUP(WAVA!AU39,'Points Lookup'!$A:$B,2,FALSE)","v":0},{"$f":"VLOOKUP(WAVA!AV39,'Points Lookup'!$A:$B,2,FALSE)","v":0},{"$f":"VLOOKUP(WAVA!AW39,'Points Lookup'!$A:$B,2,FALSE)","v":0},null,50,50,45,44,43,0,0,0]
[113,{"$f":"WAVA!C40","v":"Mick Brearley"},{"$f":"IF(ISBLANK(WAVA!F40),\"\",WAVA!F40)","v":"Second"},0,{"$f":"VLOOKUP(WAVA!AC40,'Points Lookup'!$A:$B,2,FALSE)","v":0},{"$f":"VLOOKUP(WAVA!AD40,'Points Lookup'!$A:$B,2,FALSE)","v":0},{"$f":"VLOOKUP(WAVA!AE40,'Points Lookup'!$A:$B,2,FALSE)","v":0},{"$f":"VLOOKUP(WAVA!AF40,'Points Lookup'!$A:$B,2,FALSE)","v":0},{"$f":"VLOOKUP(WAVA!AG40,'Points Lookup'!$A:$B,2,FALSE)","v":0},{"$f":"VLOOKUP(WAVA!AH40,'Points Lookup'!$A:$B,2,FALSE)","v":0},{"$f":"VLOOKUP(WAVA!AI40,'Points Lookup'!$A:$B,2,FALSE)","v":0},{"$f":"VLOOKUP(WAVA!AJ40,'Points Lookup'!$A:$B,2,FALSE)","v":0},{"$f":"VLOOKUP(WAVA!AK40,'Points Lookup'!$A:$B,2,FALSE)","v":0},{"$f":"VLOOKUP(WAVA!AL40,'Points Lookup'!$A:$B,2,FALSE)","v":0},{"$f":"VLOOKUP(WAVA!AM40,'Points Lookup'!$A:$B,2,FALSE)","v":0},{"$f":"VLOOKUP(WAVA!AN40,'Points Lookup'!$A:$B,2,FALSE)","v":0},{"$f":"VLOOKUP(WAVA!AO40,'Points Lookup'!$A:$B,2,FALSE)","v":0},{"$f":"VLOOKUP(WAVA!AP40,'Points Lookup'!$A:$B,2,FALSE)","v":0},{"$f":"VLOOKUP(WAVA!AQ40,'Points Lookup'!$A:$B,2,FALSE)","v":0},{"$f":"VLOOKUP(WAVA!AR40,'Points Lookup'!$A:$B,2,FALSE)","v":0},{"$f":"VLOOKUP(WAVA!AS40,'Points Lookup'!$A:$B,2,FALSE)","v":0},{"$f":"VLOOKUP(WAVA!AT40,'Points Lookup'!$A:$B,2,FALSE)","v":0},{"$f":"VLOOKUP(WAVA!AU40,'Points Lookup'!$A:$B,2,FALSE)","v":0},{"$f":"VLOOKUP(WAVA!AV40,'Points Lookup'!$A:$B,2,FALSE)","v":0},{"$f":"VLOOKUP(WAVA!AW40,'Points Lookup'!$A:$B,2,FALSE)","v":0},null,0,0,0,0,0,0,0,0]
[28,{"$f":"WAVA!C41","v":"Josephine Briggs"},{"$f":"IF(ISBLANK(WAVA!F41),\"\",WAVA!F41)","v":"Second"},224,{"$f":"VLOOKUP(WAVA!AC41,'Points Lookup'!$A:$B,2,FALSE)","v":47},{"$f":"VLOOKUP(WAVA!AD41,'Points Lookup'!$A:$B,2,FALSE)","v":0},{"$f":"VLOOKUP(WAVA!AE41,'Points Lookup'!$A:$B,2,FALSE)","v":46},{"$f":"VLOOKUP(WAVA!AF41,'Points Lookup'!$A:$B,2,FALSE)","v":0},{"$f":"VLOOKUP(WAVA!AG41,'Points Lookup'!$A:$B,2,FALSE)","v":46},{"$f":"VLOOKUP(WAVA!AH41,'Points Lookup'!$A:$B,2,FALSE)","v":0},{"$f":"VLOOKUP(WAVA!AI41,'Points Lookup'!$A:$B,2,FALSE)","v":0},{"$f":"VLOOKUP(WAVA!AJ41,'Points Lookup'!$A:$B,2,FALSE)","v":0},{"$f":"VLOOKUP(WAVA!AK41,'Points Lookup'!$A:$B,2,FALSE)","v":0},{"$f":"VLOOKUP(WAVA!AL41,'Points Lookup'!$A:$B,2,FALSE)","v":0},{"$f":"VLOOKUP(WAVA!AM41,'Points Lookup'!$A:$B,2,FALSE)","v":0},{"$f":"VLOOKUP(WAVA!AN41,'Points Lookup'!$A:$B,2,FALSE)","v":0},{"$f":"VLOOKUP(WAVA!AO41,'Points Lookup'!$A:$B,2,FALSE)","v":0},{"$f":"VLOOKUP(WAVA!AP41,'Points Lookup'!$A:$B,2,FALSE)","v":0},{"$f":"VLOOKUP(WAVA!AQ41,'Points Lookup'!$A:$B,2,FALSE)","v":0},{"$f":"VLOOKUP(WAVA!AR41,'Points Lookup'!$A:$B,2,FALSE)","v":0},{"$f":"VLOOKUP(WAVA!AS41,'Points Lookup'!$A:$B,2,FALSE)","v":0},{"$f":"VLOOKUP(WAVA!AT41,'Points Lookup'!$A:$B,2,FALSE)","v":48},{"$f":"VLOOKUP(WAVA!AU41,'Points Lookup'!$A:$B,2,FALSE)","v":0},{"$f":"VLOOKUP(WAVA!AV41,'Points Lookup'!$A:$B,2,FALSE)","v":37},{"$f":"VLOOKUP(WAVA!AW41,'Points Lookup'!$A:$B,2,FALSE)","v":0},null,48,47,46,46,37,0,0,0]
[113,{"$f":"WAVA!C42","v":"Joseph Broadbent"},{"$f":"IF(ISBLANK(WAVA!F42),\"\",WAVA!F42)","v":"Second"},0,{"$f":"VLOOKUP(WAVA!AC42,'Points Lookup'!$A:$B,2,FALSE)","v":0},{"$f":"VLOOKUP(WAVA!AD42,'Points Lookup'!$A:$B,2,FALSE)","v":0},{"$f":"VLOOKUP(WAVA!AE42,'Points Lookup'!$A:$B,2,FALSE)","v":0},{"$f":"VLOOKUP(WAVA!AF42,'Points Lookup'!$A:$B,2,FALSE)","v":0},{"$f":"VLOOKUP(WAVA!AG42,'Points Lookup'!$A:$B,2,FALSE)","v":0},{"$f":"VLOOKUP(WAVA!AH42,'Points Lookup'!$A:$B,2,FALSE)","v":0},{"$f":"VLOOKUP(WAVA!AI42,'Points Lookup'!$A:$B,2,FALSE)","v":0},{"$f":"VLOOKUP(WAVA!AJ42,'Points Lookup'!$A:$B,2,FALSE)","v":0},{"$f":"VLOOKUP(WAVA!AK42,'Points Lookup'!$A:$B,2,FALSE)","v":0},{"$f":"VLOOKUP(WAVA!AL42,'Points Lookup'!$A:$B,2,FALSE)","v":0},{"$f":"VLOOKUP(WAVA!AM42,'Points Lookup'!$A:$B,2,FALSE)","v":0},{"$f":"VLOOKUP(WAVA!AN42,'Points Lookup'!$A:$B,2,FALSE)","v":0},{"$f":"VLOOKUP(WAVA!AO42,'Points Lookup'!$A:$B,2,FALSE)","v":0},{"$f":"VLOOKUP(WAVA!AP42,'Points Lookup'!$A:$B,2,FALSE)","v":0},{"$f":"VLOOKUP(WAVA!AQ42,'Points Lookup'!$A:$B,2,FALSE)","v":0},{"$f":"VLOOKUP(WAVA!AR42,'Points Lookup'!$A:$B,2,FALSE)","v":0},{"$f":"VLOOKUP(WAVA!AS42,'Points Lookup'!$A:$B,2,FALSE)","v":0},{"$f":"VLOOKUP(WAVA!AT42,'Points Lookup'!$A:$B,2,FALSE)","v":0},{"$f":"VLOOKUP(WAVA!AU42,'Points Lookup'!$A:$B,2,FALSE)","v":0},{"$f":"VLOOKUP(WAVA!AV42,'Points Lookup'!$A:$B,2,FALSE)","v":0},{"$f":"VLOOKUP(WAVA!AW42,'Points Lookup'!$A:$B,2,FALSE)","v":0},null,0,0,0,0,0,0,0,0]
[78,{"$f":"WAVA!C43","v":"Andy Brown"},{"$f":"IF(ISBLANK(WAVA!F43),\"\",WAVA!F43)","v":"Second"},50,{"$f":"VLOOKUP(WAVA!AC43,'Points Lookup'!$A:$B,2,FALSE)","v":0},{"$f":"VLOOKUP(WAVA!AD43,'Points Lookup'!$A:$B,2,FALSE)","v":0},{"$f":"VLOOKUP(WAVA!AE43,'Points Lookup'!$A:$B,2,FALSE)","v":0},{"$f":"VLOOKUP(WAVA!AF43,'Points Lookup'!$A:$B,2,FALSE)","v":0},{"$f":"VLOOKUP(WAVA!AG43,'Points Lookup'!$A:$B,2,FALSE)","v":0},{"$f":"VLOOKUP(WAVA!AH43,'Points Lookup'!$A:$B,2,FALSE)","v":0},{"$f":"VLOOKUP(WAVA!AI43,'Points Lookup'!$A:$B,2,FALSE)","v":50},{"$f":"VLOOKUP(WAVA!AJ43,'Points Lookup'!$A:$B,2,FALSE)","v":0},{"$f":"VLOOKUP(WAVA!AK43,'Points Lookup'!$A:$B,2,FALSE)","v":0},{"$f":"VLOOKUP(WAVA!AL43,'Points Lookup'!$A:$B,2,FALSE)","v":0},{"$f":"VLOOKUP(WAVA!AM43,'Points Lookup'!$A:$B,2,FALSE)","v":0},{"$f":"VLOOKUP(WAVA!AN43,'Points Lookup'!$A:$B,2,FALSE)","v":0},{"$f":"VLOOKUP(WAVA!AO43,'Points Lookup'!$A:$B,2,FALSE)","v":0},{"$f":"VLOOKUP(WAVA!AP43,'Points Lookup'!$A:$B,2,FALSE)","v":0},{"$f":"VLOOKUP(WAVA!AQ43,'Points Lookup'!$A:$B,2,FALSE)","v":0},{"$f":"VLOOKUP(WAVA!AR43,'Points Lookup'!$A:$B,2,FALSE)","v":0},{"$f":"VLOOKUP(WAVA!AS43,'Points Lookup'!$A:$B,2,FALSE)","v":0},{"$f":"VLOOKUP(WAVA!AT43,'Points Lookup'!$A:$B,2,FALSE)","v":0},{"$f":"VLOOKUP(WAVA!AU43,'Points Lookup'!$A:$B,2,FALSE)","v":0},{"$f":"VLOOKUP(WAVA!AV43,'Points Lookup'!$A:$B,2,FALSE)","v":0},{"$f":"VLOOKUP(WAVA!AW43,'Points Lookup'!$A:$B,2,FALSE)","v":0},null,{"$f":"LARGE($E42:$Y42,AA$1)","v":50},0,0,0,0,0,0,0]
[113,{"$f":"WAVA!C44","v":"Andrew Bruce"},{"$f":"IF(ISBLANK(WAVA!F44),\"\",WAVA!F44)","v":"Second"},0,{"$f":"VLOOKUP(WAVA!AC44,'Points Lookup'!$A:$B,2,FALSE)","v":0},{"$f":"VLOOKUP(WAVA!AD44,'Points Lookup'!$A:$B,2,FALSE)","v":0},{"$f":"VLOOKUP(WAVA!AE44,'Points Lookup'!$A:$B,2,FALSE)","v":0},{"$f":"VLOOKUP(WAVA!AF44,'Points Lookup'!$A:$B,2,FALSE)","v":0},{"$f":"VLOOKUP(WAVA!AG44,'Points Lookup'!$A:$B,2,FALSE)","v":0},{"$f":"VLOOKUP(WAVA!AH44,'Points Lookup'!$A:$B,2,FALSE)","v":0},{"$f":"VLOOKUP(WAVA!AI44,'Points Lookup'!$A:$B,2,FALSE)","v":0},{"$f":"VLOOKUP(WAVA!AJ44,'Points Lookup'!$A:$B,2,FALSE)","v":0},{"$f":"VLOOKUP(WAVA!AK44,'Points Lookup'!$A:$B,2,FALSE)","v":0},{"$f":"VLOOKUP(WAVA!AL44,'Points Lookup'!$A:$B,2,FALSE)","v":0},{"$f":"VLOOKUP(WAVA!AM44,'Points Lookup'!$A:$B,2,FALSE)","v":0},{"$f":"VLOOKUP(WAVA!AN44,'Points Lookup'!$A:$B,2,FALSE)","v":0},{"$f":"VLOOKUP(WAVA!AO44,'Points Lookup'!$A:$B,2,FALSE)","v":0},{"$f":"VLOOKUP(WAVA!AP44,'Points Lookup'!$A:$B,2,FALSE)","v":0},{"$f":"VLOOKUP(WAVA!AQ44,'Points Lookup'!$A:$B,2,FALSE)","v":0},{"$f":"VLOOKUP(WAVA!AR44,'Points Lookup'!$A:$B,2,FALSE)","v":0},{"$f":"VLOOKUP(WAVA!AS44,'Points Lookup'!$A:$B,2,FALSE)","v":0},{"$f":"VLOOKUP(WAVA!AT44,'Points Lookup'!$A:$B,2,FALSE)","v":0},{"$f":"VLOOKUP(WAVA!AU44,'Points Lookup'!$A:$B,2,FALSE)","v":0},{"$f":"VLOOKUP(WAVA!AV44,'Points Lookup'!$A:$B,2,FALSE)","v":0},{"$f":"VLOOKUP(WAVA!AW44,'Points Lookup'!$A:$B,2,FALSE)","v":0},null,0,0,0,0,0,0,0,0]
[113,{"$f":"WAVA!C45","v":"Catherine Bruckner"},{"$f":"IF(ISBLANK(WAVA!F45),\"\",WAVA!F45)","v":"Second"},0,{"$f":"VLOOKUP(WAVA!AC45,'Points Lookup'!$A:$B,2,FALSE)","v":0},{"$f":"VLOOKUP(WAVA!AD45,'Points Lookup'!$A:$B,2,FALSE)","v":0},{"$f":"VLOOKUP(WAVA!AE45,'Points Lookup'!$A:$B,2,FALSE)","v":0},{"$f":"VLOOKUP(WAVA!AF45,'Points Lookup'!$A:$B,2,FALSE)","v":0},{"$f":"VLOOKUP(WAVA!AG45,'Points Lookup'!$A:$B,2,FALSE)","v":0},{"$f":"VLOOKUP(WAVA!AH45,'Points Lookup'!$A:$B,2,FALSE)","v":0},{"$f":"VLOOKUP(WAVA!AI45,'Points Lookup'!$A:$B,2,FALSE)","v":0},{"$f":"VLOOKUP(WAVA!AJ45,'Points Lookup'!$A:$B,2,FALSE)","v":0},{"$f":"VLOOKUP(WAVA!AK45,'Points Lookup'!$A:$B,2,FALSE)","v":0},{"$f":"VLOOKUP(WAVA!AL45,'Points Lookup'!$A:$B,2,FALSE)","v":0},{"$f":"VLOOKUP(WAVA!AM45,'Points Lookup'!$A:$B,2,FALSE)","v":0},{"$f":"VLOOKUP(WAVA!AN45,'Points Lookup'!$A:$B,2,FALSE)","v":0},{"$f":"VLOOKUP(WAVA!AO45,'Points Lookup'!$A:$B,2,FALSE)","v":0},{"$f":"VLOOKUP(WAVA!AP45,'Points Lookup'!$A:$B,2,FALSE)","v":0},{"$f":"VLOOKUP(WAVA!AQ45,'Points Lookup'!$A:$B,2,FALSE)","v":0},{"$f":"VLOOKUP(WAVA!AR45,'Points Lookup'!$A:$B,2,FALSE)","v":0},{"$f":"VLOOKUP(WAVA!AS45,'Points Lookup'!$A:$B,2,FALSE)","v":0},{"$f":"VLOOKUP(WAVA!AT45,'Points Lookup'!$A:$B,2,FALSE)","v":0},{"$f":"VLOOKUP(WAVA!AU45,'Points Lookup'!$A:$B,2,FALSE)","v":0},{"$f":"VLOOKUP(WAVA!AV45,'Points Lookup'!$A:$B,2,FALSE)","v":0},{"$f":"VLOOKUP(WAVA!AW45,'Points Lookup'!$A:$B,2,FALSE)","v":0},null,0,0,0,0,0,0,0,0]
[113,{"$f":"WAVA!C46","v":"Sarah Bruckshaw"},{"$f":"IF(ISBLANK(WAVA!F46),\"\",WAVA!F46)","v":"Second"},0,{"$f":"VLOOKUP(WAVA!AC46,'Points Lookup'!$A:$B,2,FALSE)","v":0},{"$f":"VLOOKUP(WAVA!AD46,'Points Lookup'!$A:$B,2,FALSE)","v":0},{"$f":"VLOOKUP(WAVA!AE46,'Points Lookup'!$A:$B,2,FALSE)","v":0},{"$f":"VLOOKUP(WAVA!AF46,'Points Lookup'!$A:$B,2,FALSE)","v":0},{"$f":"VLOOKUP(WAVA!AG46,'Points Lookup'!$A:$B,2,FALSE)","v":0},{"$f":"VLOOKUP(WAVA!AH46,'Points Lookup'!$A:$B,2,FALSE)","v":0},{"$f":"VLOOKUP(WAVA!AI46,'Points Lookup'!$A:$B,2,FALSE)","v":0},{"$f":"VLOOKUP(WAVA!AJ46,'Points Lookup'!$A:$B,2,FALSE)","v":0},{"$f":"VLOOKUP(WAVA!AK46,'Points Lookup'!$A:$B,2,FALSE)","v":0},{"$f":"VLOOKUP(WAVA!AL46,'Points Lookup'!$A:$B,2,FALSE)","v":0},{"$f":"VLOOKUP(WAVA!AM46,'Points Lookup'!$A:$B,2,FALSE)","v":0},{"$f":"VLOOKUP(WAVA!AN46,'Points Lookup'!$A:$B,2,FALSE)","v":0},{"$f":"VLOOKUP(WAVA!AO46,'Points Lookup'!$A:$B,2,FALSE)","v":0},{"$f":"VLOOKUP(WAVA!AP46,'Points Lookup'!$A:$B,2,FALSE)","v":0},{"$f":"VLOOKUP(WAVA!AQ46,'Points Lookup'!$A:$B,2,FALSE)","v":0},{"$f":"VLOOKUP(WAVA!AR46,'Points Lookup'!$A:$B,2,FALSE)","v":0},{"$f":"VLOOKUP(WAVA!AS46,'Points Lookup'!$A:$B,2,FALSE)","v":0},{"$f":"VLOOKUP(WAVA!AT46,'Points Lookup'!$A:$B,2,FALSE)","v":0},{"$f":"VLOOKUP(WAVA!AU46,'Points Lookup'!$A:$B,2,FALSE)","v":0},{"$f":"VLOOKUP(WAVA!AV46,'Points Lookup'!$A:$B,2,FALSE)","v":0},{"$f":"VLOOKUP(WAVA!AW46,'Points Lookup'!$A:$B,2,FALSE)","v":0},null,0,0,0,0,0,0,0,0]
[75,{"$f":"WAVA!C47","v":"Shiela Bugg"},{"$f":"IF(ISBLANK(WAVA!F47),\"\",WAVA!F47)","v":"Second"},69,{"$f":"VLOOKUP(WAVA!AC47,'Points Lookup'!$A:$B,2,FALSE)","v":0},{"$f":"VLOOKUP(WAVA!AD47,'Points Lookup'!$A:$B,2,FALSE)","v":29},{"$f":"VLOOKUP(WAVA!AE47,'Points Lookup'!$A:$B,2,FALSE)","v":0},{"$f":"VLOOKUP(WAVA!AF47,'Points Lookup'!$A:$B,2,FALSE)","v":0},{"$f":"VLOOKUP(WAVA!AG47,'Points Lookup'!$A:$B,2,FALSE)","v":0},{"$f":"VLOOKUP(WAVA!AH47,'Points Lookup'!$A:$B,2,FALSE)","v":0},{"$f":"VLOOKUP(WAVA!AI47,'Points Lookup'!$A:$B,2,FALSE)","v":0},{"$f":"VLOOKUP(WAVA!AJ47,'Points Lookup'!$A:$B,2,FALSE)","v":0},{"$f":"VLOOKUP(WAVA!AK47,'Points Lookup'!$A:$B,2,FALSE)","v":0},{"$f":"VLOOKUP(WAVA!AL47,'Points Lookup'!$A:$B,2,FALSE)","v":0},{"$f":"VLOOKUP(WAVA!AM47,'Points Lookup'!$A:$B,2,FALSE)","v":0},{"$f":"VLOOKUP(WAVA!AN47,'Points Lookup'!$A:$B,2,FALSE)","v":40},{"$f":"VLOOKUP(WAVA!AO47,'Points Lookup'!$A:$B,2,FALSE)","v":0},{"$f":"VLOOKUP(WAVA!AP47,'Points Lookup'!$A:$B,2,FALSE)","v":0},{"$f":"VLOOKUP(WAVA!AQ47,'Points Lookup'!$A:$B,2,FALSE)","v":0},{"$f":"VLOOKUP(WAVA!AR47,'Points Lookup'!$A:$B,2,FALSE)","v":0},{"$f":"VLOOKUP(WAVA!AS47,'Points Lookup'!$A:$B,2,FALSE)","v":0},{"$f":"VLOOKUP(WAVA!AT47,'Points Lookup'!$A:$B,2,FALSE)","v":0},{"$f":"VLOOKUP(WAVA!AU47,'Points Lookup'!$A:$B,2,FALSE)","v":0},{"$f":"VLOOKUP(WAVA!AV47,'Points Lookup'!$A:$B,2,FALSE)","v":0},{"$f":"VLOOKUP(WAVA!AW47,'Points Lookup'!$A:$B,2,FALSE)","v":0},null,40,29,0,0,0,0,0,0]
[58,{"$f":"WAVA!C48","v":"Claire Burrill"},{"$f":"IF(ISBLANK(WAVA!F48),\"\",WAVA!F48)","v":"Second"},92,{"$f":"VLOOKUP(WAVA!AC48,'Points Lookup'!$A:$B,2,FALSE)","v":0},{"$f":"VLOOKUP(WAVA!AD48,'Points Lookup'!$A:$B,2,FALSE)","v":0},{"$f":"VLOOKUP(WAVA!AE48,'Points Lookup'!$A:$B,2,FALSE)","v":0},{"$f":"VLOOKUP(WAVA!AF48,'Points Lookup'!$A:$B,2,FALSE)","v":0},{"$f":"VLOOKUP(WAVA!AG48,'Points Lookup'!$A:$B,2,FALSE)","v":45},{"$f":"VLOOKUP(WAVA!AH48,'Points Lookup'!$A:$B,2,FALSE)","v":0},{"$f":"VLOOKUP(WAVA!AI48,'Points Lookup'!$A:$B,2,FALSE)","v":0},{"$f":"VLOOKUP(WAVA!AJ48,'Points Lookup'!$A:$B,2,FALSE)","v":0},{"$f":"VLOOKUP(WAVA!AK48,'Points Lookup'!$A:$B,2,FALSE)","v":0},{"$f":"VLOOKUP(WAVA!AL48,'Points Lookup'!$A:$B,2,FALSE)","v":0},{"$f":"VLOOKUP(WAVA!AM48,'Points Lookup'!$A:$B,2,FALSE)","v":0},{"$f":"VLOOKUP(WAVA!AN48,'Points Lookup'!$A:$B,2,FALSE)","v":47},{"$f":"VLOOKUP(WAVA!AO48,'Points Lookup'!$A:$B,2,FALSE)","v":0},{"$f":"VLOOKUP(WAVA!AP48,'Points Lookup'!$A:$B,2,FALSE)","v":0},{"$f":"VLOOKUP(WAVA!AQ48,'Points Lookup'!$A:$B,2,FALSE)","v":0},{"$f":"VLOOKUP(WAVA!AR48,'Points Lookup'!$A:$B,2,FALSE)","v":0},{"$f":"VLOOKUP(WAVA!AS48,'Points Lookup'!$A:$B,2,FALSE)","v":0},{"$f":"VLOOKUP(WAVA!AT48,'Points Lookup'!$A:$B,2,FALSE)","v":0},{"$f":"VLOOKUP(WAVA!AU48,'Points Lookup'!$A:$B,2,FALSE)","v":0},{"$f":"VLOOKUP(WAVA!AV48,'Points Lookup'!$A:$B,2,FALSE)","v":0},{"$f":"VLOOKUP(WAVA!AW48,'Points Lookup'!$A:$B,2,FALSE)","v":0},null,47,45,0,0,0,0,0,0]
[59,{"$f":"WAVA!C49","v":"Adam Camp"},{"$f":"IF(ISBLANK(WAVA!F49),\"\",WAVA!F49)","v":"Second"},91,{"$f":"VLOOKUP(WAVA!AC49,'Points Lookup'!$A:$B,2,FALSE)","v":0},{"$f":"VLOOKUP(WAVA!AD49,'Points Lookup'!$A:$B,2,FALSE)","v":0},{"$f":"VLOOKUP(WAVA!AE49,'Points Lookup'!$A:$B,2,FALSE)","v":0},{"$f":"VLOOKUP(WAVA!AF49,'Points Lookup'!$A:$B,2,FALSE)","v":0},{"$f":"VLOOKUP(WAVA!AG49,'Points Lookup'!$A:$B,2,FALSE)","v":0},{"$f":"VLOOKUP(WAVA!AH49,'Points Lookup'!$A:$B,2,FALSE)","v":0},{"$f":"VLOOKUP(WAVA!AI49,'Points Lookup'!$A:$B,2,FALSE)","v":0},{"$f":"VLOOKUP(WAVA!AJ49,'Points Lookup'!$A:$B,2,FALSE)","v":0},{"$f":"VLOOKUP(WAVA!AK49,'Points Lookup'!$A:$B,2,FALSE)","v":0},{"$f":"VLOOKUP(WAVA!AL49,'Points Lookup'!$A:$B,2,FALSE)","v":0},{"$f":"VLOOKUP(WAVA!AM49,'Points Lookup'!$A:$B,2,FALSE)","v":0},{"$f":"VLOOKUP(WAVA!AN49,'Points Lookup'!$A:$B,2,FALSE)","v":0},{"$f":"VLOOKUP(WAVA!AO49,'Points Lookup'!$A:$B,2,FALSE)","v":0},{"$f":"VLOOKUP(WAVA!AP49,'Points Lookup'!$A:$B,2,FALSE)","v":0},{"$f":"VLOOKUP(WAVA!AQ49,'Points Lookup'!$A:$B,2,FALSE)","v":46},{"$f":"VLOOKUP(WAVA!AR49,'Points Lookup'!$A:$B,2,FALSE)","v":0},{"$f":"VLOOKUP(WAVA!AS49,'Points Lookup'!$A:$B,2,FALSE)","v":0},{"$f":"VLOOKUP(WAVA!AT49,'Points Lookup'!$A:$B,2,FALSE)","v":0},{"$f":"VLOOKUP(WAVA!AU49,'Points Lookup'!$A:$B,2,FALSE)","v":0},{"$f":"VLOOKUP(WAVA!AV49,'Points Lookup'!$A:$B,2,FALSE)","v":45},{"$f":"VLOOKUP(WAVA!AW49,'Points Lookup'!$A:$B,2,FALSE)","v":0},null,46,45,0,0,0,0,0,0]
[113,{"$f":"WAVA!C50","v":"Rebecca Carden"},{"$f":"IF(ISBLANK(WAVA!F50),\"\",WAVA!F50)","v":"Second"},0,{"$f":"VLOOKUP(WAVA!AC50,'Points Lookup'!$A:$B,2,FALSE)","v":0},{"$f":"VLOOKUP(WAVA!AD50,'Points Lookup'!$A:$B,2,FALSE)","v":0},{"$f":"VLOOKUP(WAVA!AE50,'Points Lookup'!$A:$B,2,FALSE)","v":0},{"$f":"VLOOKUP(WAVA!AF50,'Points Lookup'!$A:$B,2,FALSE)","v":0},{"$f":"VLOOKUP(WAVA!AG50,'Points Lookup'!$A:$B,2,FALSE)","v":0},{"$f":"VLOOKUP(WAVA!AH50,'Points Lookup'!$A:$B,2,FALSE)","v":0},{"$f":"VLOOKUP(WAVA!AI50,'Points Lookup'!$A:$B,2,FALSE)","v":0},{"$f":"VLOOKUP(WAVA!AJ50,'Points Lookup'!$A:$B,2,FALSE)","v":0},{"$f":"VLOOKUP(WAVA!AK50,'Points Lookup'!$A:$B,2,FALSE)","v":0},{"$f":"VLOOKUP(WAVA!AL50,'Points Lookup'!$A:$B,2,FALSE)","v":0},{"$f":"VLOOKUP(WAVA!AM50,'Points Lookup'!$A:$B,2,FALSE)","v":0},{"$f":"VLOOKUP(WAVA!AN50,'Points Lookup'!$A:$B,2,FALSE)","v":0},{"$f":"VLOOKUP(WAVA!AO50,'Points Lookup'!$A:$B,2,FALSE)","v":0},{"$f":"VLOOKUP(WAVA!AP50,'Points Lookup'!$A:$B,2,FALSE)","v":0},{"$f":"VLOOKUP(WAVA!AQ50,'Points Lookup'!$A:$B,2,FALSE)","v":0},{"$f":"VLOOKUP(WAVA!AR50,'Points Lookup'!$A:$B,2,FALSE)","v":0},{"$f":"VLOOKUP(WAVA!AS50,'Points Lookup'!$A:$B,2,FALSE)","v":0},{"$f":"VLOOKUP(WAVA!AT50,'Points Lookup'!$A:$B,2,FALSE)","v":0},{"$f":"VLOOKUP(WAVA!AU50,'Points Lookup'!$A:$B,2,FALSE)","v":0},{"$f":"VLOOKUP(WAVA!AV50,'Points Lookup'!$A:$B,2,FALSE)","v":0},{"$f":"VLOOKUP(WAVA!AW50,'Points Lookup'!$A:$B,2,FALSE)","v":0},null,0,0,0,0,0,0,0,0]
[113,{"$f":"WAVA!C51","v":"Richard Carden"},{"$f":"IF(ISBLANK(WAVA!F51),\"\",WAVA!F51)","v":"Second"},0,{"$f":"VLOOKUP(WAVA!AC51,'Points Lookup'!$A:$B,2,FALSE)","v":0},{"$f":"VLOOKUP(WAVA!AD51,'Points Lookup'!$A:$B,2,FALSE)","v":0},{"$f":"VLOOKUP(WAVA!AE51,'Points Lookup'!$A:$B,2,FALSE)","v":0},{"$f":"VLOOKUP(WAVA!AF51,'Points Lookup'!$A:$B,2,FALSE)","v":0},{"$f":"VLOOKUP(WAVA!AG51,'Points Lookup'!$A:$B,2,FALSE)","v":0},{"$f":"VLOOKUP(WAVA!AH51,'Points Lookup'!$A:$B,2,FALSE)","v":0},{"$f":"VLOOKUP(WAVA!AI51,'Points Lookup'!$A:$B,2,FALSE)","v":0},{"$f":"VLOOKUP(WAVA!AJ51,'Points Lookup'!$A:$B,2,FALSE)","v":0},{"$f":"VLOOKUP(WAVA!AK51,'Points Lookup'!$A:$B,2,FALSE)","v":0},{"$f":"VLOOKUP(WAVA!AL51,'Points Lookup'!$A:$B,2,FALSE)","v":0},{"$f":"VLOOKUP(WAVA!AM51,'Points Lookup'!$A:$B,2,FALSE)","v":0},{"$f":"VLOOKUP(WAVA!AN51,'Points Lookup'!$A:$B,2,FALSE)","v":0},{"$f":"VLOOKUP(WAVA!AO51,'Points Lookup'!$A:$B,2,FALSE)","v":0},{"$f":"VLOOKUP(WAVA!AP51,'Points Lookup'!$A:$B,2,FALSE)","v":0},{"$f":"VLOOKUP(WAVA!AQ51,'Points Lookup'!$A:$B,2,FALSE)","v":0},{"$f":"VLOOKUP(WAVA!AR51,'Points Lookup'!$A:$B,2,FALSE)","v":0},{"$f":"VLOOKUP(WAVA!AS51,'Points Lookup'!$A:$B,2,FALSE)","v":0},{"$f":"VLOOKUP(WAVA!AT51,'Points Lookup'!$A:$B,2,FALSE)","v":0},{"$f":"VLOOKUP(WAVA!AU51,'Points Lookup'!$A:$B,2,FALSE)","v":0},{"$f":"VLOOKUP(WAVA!AV51,'Points Lookup'!$A:$B,2,FALSE)","v":0},{"$f":"VLOOKUP(WAVA!AW51,'Points Lookup'!$A:$B,2,FALSE)","v":0},null,0,0,0,0,0,0,0,0]
[113,{"$f":"WAVA!C52","v":"Emma Cartledge"},{"$f":"IF(ISBLANK(WAVA!F52),\"\",WAVA!F52)","v":"First"},0,{"$f":"VLOOKUP(WAVA!AC52,'Points Lookup'!$A:$B,2,FALSE)","v":0},{"$f":"VLOOKUP(WAVA!AD52,'Points Lookup'!$A:$B,2,FALSE)","v":0},{"$f":"VLOOKUP(WAVA!AE52,'Points Lookup'!$A:$B,2,FALSE)","v":0},{"$f":"VLOOKUP(WAVA!AF52,'Points Lookup'!$A:$B,2,FALSE)","v":0},{"$f":"VLOOKUP(WAVA!AG52,'Points Lookup'!$A:$B,2,FALSE)","v":0},{"$f":"VLOOKUP(WAVA!AH52,'Points Lookup'!$A:$B,2,FALSE)","v":0},{"$f":"VLOOKUP(WAVA!AI52,'Points Lookup'!$A:$B,2,FALSE)","v":0},{"$f":"VLOOKUP(WAVA!AJ52,'Points Lookup'!$A:$B,2,FALSE)","v":0},{"$f":"VLOOKUP(WAVA!AK52,'Points Lookup'!$A:$B,2,FALSE)","v":0},{"$f":"VLOOKUP(WAVA!AL52,'Points Lookup'!$A:$B,2,FALSE)","v":0},{"$f":"VLOOKUP(WAVA!AM52,'Points Lookup'!$A:$B,2,FALSE)","v":0},{"$f":"VLOOKUP(WAVA!AN52,'Points Lookup'!$A:$B,2,FALSE)","v":0},{"$f":"VLOOKUP(WAVA!AO52,'Points Lookup'!$A:$B,2,FALSE)","v":0},{"$f":"VLOOKUP(WAVA!AP52,'Points Lookup'!$A:$B,2,FALSE)","v":0},{"$f":"VLOOKUP(WAVA!AQ52,'Points Lookup'!$A:$B,2,FALSE)","v":0},{"$f":"VLOOKUP(WAVA!AR52,'Points Lookup'!$A:$B,2,FALSE)","v":0},{"$f":"VLOOKUP(WAVA!AS52,'Points Lookup'!$A:$B,2,FALSE)","v":0},{"$f":"VLOOKUP(WAVA!AT52,'Points Lookup'!$A:$B,2,FALSE)","v":0},{"$f":"VLOOKUP(WAVA!AU52,'Points Lookup'!$A:$B,2,FALSE)","v":0},{"$f":"VLOOKUP(WAVA!AV52,'Points Lookup'!$A:$B,2,FALSE)","v":0},{"$f":"VLOOKUP(WAVA!AW52,'Points Lookup'!$A:$B,2,FALSE)","v":0},null,0,0,0,0,0,0,0,0]
[113,{"$f":"WAVA!C53","v":"Mick Chambers"},{"$f":"IF(ISBLANK(WAVA!F53),\"\",WAVA!F53)","v":"Second"},0,{"$f":"VLOOKUP(WAVA!AC53,'Points Lookup'!$A:$B,2,FALSE)","v":0},{"$f":"VLOOKUP(WAVA!AD53,'Points Lookup'!$A:$B,2,FALSE)","v":0},{"$f":"VLOOKUP(WAVA!AE53,'Points Lookup'!$A:$B,2,FALSE)","v":0},{"$f":"VLOOKUP(WAVA!AF53,'Points Lookup'!$A:$B,2,FALSE)","v":0},{"$f":"VLOOKUP(WAVA!AG53,'Points Lookup'!$A:$B,2,FALSE)","v":0},{"$f":"VLOOKUP(WAVA!AH53,'Points Lookup'!$A:$B,2,FALSE)","v":0},{"$f":"VLOOKUP(WAVA!AI53,'Points Lookup'!$A:$B,2,FALSE)","v":0},{"$f":"VLOOKUP(WAVA!AJ53,'Points Lookup'!$A:$B,2,FALSE)","v":0},{"$f":"VLOOKUP(WAVA!AK53,'Points Lookup'!$A:$B,2,FALSE)","v":0},{"$f":"VLOOKUP(WAVA!AL53,'Points Lookup'!$A:$B,2,FALSE)","v":0},{"$f":"VLOOKUP(WAVA!AM53,'Points Lookup'!$A:$B,2,FALSE)","v":0},{"$f":"VLOOKUP(WAVA!AN53,'Points Lookup'!$A:$B,2,FALSE)","v":0},{"$f":"VLOOKUP(WAVA!AO53,'Points Lookup'!$A:$B,2,FALSE)","v":0},{"$f":"VLOOKUP(WAVA!AP53,'Points Lookup'!$A:$B,2,FALSE)","v":0},{"$f":"VLOOKUP(WAVA!AQ53,'Points Lookup'!$A:$B,2,FALSE)","v":0},{"$f":"VLOOKUP(WAVA!AR53,'Points Lookup'!$A:$B,2,FALSE)","v":0},{"$f":"VLOOKUP(WAVA!AS53,'Points Lookup'!$A:$B,2,FALSE)","v":0},{"$f":"VLOOKUP(WAVA!AT53,'Points Lookup'!$A:$B,2,FALSE)","v":0},{"$f":"VLOOKUP(WAVA!AU53,'Points Lookup'!$A:$B,2,FALSE)","v":0},{"$f":"VLOOKUP(WAVA!AV53,'Points Lookup'!$A:$B,2,FALSE)","v":0},{"$f":"VLOOKUP(WAVA!AW53,'Points Lookup'!$A:$B,2,FALSE)","v":0},null,{"$f":"LARGE($E52:$Y52,AA$1)","v":0},0,0,0,0,0,0,0]
[113,{"$f":"WAVA!C54","v":"Claire Cockcroft"},{"$f":"IF(ISBLANK(WAVA!F54),\"\",WAVA!F54)","v":"Second"},0,{"$f":"VLOOKUP(WAVA!AC54,'Points Lookup'!$A:$B,2,FALSE)","v":0},{"$f":"VLOOKUP(WAVA!AD54,'Points Lookup'!$A:$B,2,FALSE)","v":0},{"$f":"VLOOKUP(WAVA!AE54,'Points Lookup'!$A:$B,2,FALSE)","v":0},{"$f":"VLOOKUP(WAVA!AF54,'Points Lookup'!$A:$B,2,FALSE)","v":0},{"$f":"VLOOKUP(WAVA!AG54,'Points Lookup'!$A:$B,2,FALSE)","v":0},{"$f":"VLOOKUP(WAVA!AH54,'Points Lookup'!$A:$B,2,FALSE)","v":0},{"$f":"VLOOKUP(WAVA!AI54,'Points Lookup'!$A:$B,2,FALSE)","v":0},{"$f":"VLOOKUP(WAVA!AJ54,'Points Lookup'!$A:$B,2,FALSE)","v":0},{"$f":"VLOOKUP(WAVA!AK54,'Points Lookup'!$A:$B,2,FALSE)","v":0},{"$f":"VLOOKUP(WAVA!AL54,'Points Lookup'!$A:$B,2,FALSE)","v":0},{"$f":"VLOOKUP(WAVA!AM54,'Points Lookup'!$A:$B,2,FALSE)","v":0},{"$f":"VLOOKUP(WAVA!AN54,'Points Lookup'!$A:$B,2,FALSE)","v":0},{"$f":"VLOOKUP(WAVA!AO54,'Points Lookup'!$A:$B,2,FALSE)","v":0},{"$f":"VLOOKUP(WAVA!AP54,'Points Lookup'!$A:$B,2,FALSE)","v":0},{"$f":"VLOOKUP(WAVA!AQ54,'Points Lookup'!$A:$B,2,FALSE)","v":0},{"$f":"VLOOKUP(WAVA!AR54,'Points Lookup'!$A:$B,2,FALSE)","v":0},{"$f":"VLOOKUP(WAVA!AS54,'Points Lookup'!$A:$B,2,FALSE)","v":0},{"$f":"VLOOKUP(WAVA!AT54,'Points Lookup'!$A:$B,2,FALSE)","v":0},{"$f":"VLOOKUP(WAVA!AU54,'Points Lookup'!$A:$B,2,FALSE)","v":0},{"$f":"VLOOKUP(WAVA!AV54,'Points Lookup'!$A:$B,2,FALSE)","v":0},{"$f":"VLOOKUP(WAVA!AW54,'Points Lookup'!$A:$B,2,FALSE)","v":0},null,0,0,0,0,0,0,0,0]
[113,{"$f":"WAVA!C55","v":"Diane Collett"},{"$f":"IF(ISBLANK(WAVA!F55),\"\",WAVA!F55)","v":"Second"},0,{"$f":"VLOOKUP(WAVA!AC55,'Points Lookup'!$A:$B,2,FALSE)","v":0},{"$f":"VLOOKUP(WAVA!AD55,'Points Lookup'!$A:$B,2,FALSE)","v":0},{"$f":"VLOOKUP(WAVA!AE55,'Points Lookup'!$A:$B,2,FALSE)","v":0},{"$f":"VLOOKUP(WAVA!AF55,'Points Lookup'!$A:$B,2,FALSE)","v":0},{"$f":"VLOOKUP(WAVA!AG55,'Points Lookup'!$A:$B,2,FALSE)","v":0},{"$f":"VLOOKUP(WAVA!AH55,'Points Lookup'!$A:$B,2,FALSE)","v":0},{"$f":"VLOOKUP(WAVA!AI55,'Points Lookup'!$A:$B,2,FALSE)","v":0},{"$f":"VLOOKUP(WAVA!AJ55,'Points Lookup'!$A:$B,2,FALSE)","v":0},{"$f":"VLOOKUP(WAVA!AK55,'Points Lookup'!$A:$B,2,FALSE)","v":0},{"$f":"VLOOKUP(WAVA!AL55,'Points Lookup'!$A:$B,2,FALSE)","v":0},{"$f":"VLOOKUP(WAVA!AM55,'Points Lookup'!$A:$B,2,FALSE)","v":0},{"$f":"VLOOKUP(WAVA!AN55,'Points Lookup'!$A:$B,2,FALSE)","v":0},{"$f":"VLOOKUP(WAVA!AO55,'Points Lookup'!$A:$B,2,FALSE)","v":0},{"$f":"VLOOKUP(WAVA!AP55,'Points Lookup'!$A:$B,2,FALSE)","v":0},{"$f":"VLOOKUP(WAVA!AQ55,'Points Lookup'!$A:$B,2,FALSE)","v":0},{"$f":"VLOOKUP(WAVA!AR55,'Points Lookup'!$A:$B,2,FALSE)","v":0},{"$f":"VLOOKUP(WAVA!AS55,'Points Lookup'!$A:$B,2,FALSE)","v":0},{"$f":"VLOOKUP(WAVA!AT55,'Points Lookup'!$A:$B,2,FALSE)","v":0},{"$f":"VLOOKUP(WAVA!AU55,'Points Lookup'!$A:$B,2,FALSE)","v":0},{"$f":"VLOOKUP(WAVA!AV55,'Points Lookup'!$A:$B,2,FALSE)","v":0},{"$f":"VLOOKUP(WAVA!AW55,'Points Lookup'!$A:$B,2,FALSE)","v":0},null,0,0,0,0,0,0,0,0]
[113,{"$f":"WAVA!C56","v":"William Collinson"},{"$f":"IF(ISBLANK(WAVA!F56),\"\",WAVA!F56)","v":"Second"},0,{"$f":"VLOOKUP(WAVA!AC56,'Points Lookup'!$A:$B,2,FALSE)","v":0},{"$f":"VLOOKUP(WAVA!AD56,'Points Lookup'!$A:$B,2,FALSE)","v":0},{"$f":"VLOOKUP(WAVA!AE56,'Points Lookup'!$A:$B,2,FALSE)","v":0},{"$f":"VLOOKUP(WAVA!AF56,'Points Lookup'!$A:$B,2,FALSE)","v":0},{"$f":"VLOOKUP(WAVA!AG56,'Points Lookup'!$A:$B,2,FALSE)","v":0},{"$f":"VLOOKUP(WAVA!AH56,'Points Lookup'!$A:$B,2,FALSE)","v":0},{"$f":"VLOOKUP(WAVA!AI56,'Points Lookup'!$A:$B,2,FALSE)","v":0},{"$f":"VLOOKUP(WAVA!AJ56,'Points Lookup'!$A:$B,2,FALSE)","v":0},{"$f":"VLOOKUP(WAVA!AK56,'Points Lookup'!$A:$B,2,FALSE)","v":0},{"$f":"VLOOKUP(WAVA!AL56,'Points Lookup'!$A:$B,2,FALSE)","v":0},{"$f":"VLOOKUP(WAVA!AM56,'Points Lookup'!$A:$B,2,FALSE)","v":0},{"$f":"VLOOKUP(WAVA!AN56,'Points Lookup'!$A:$B,2,FALSE)","v":0},{"$f":"VLOOKUP(WAVA!AO56,'Points Lookup'!$A:$B,2,FALSE)","v":0},{"$f":"VLOOKUP(WAVA!AP56,'Points Lookup'!$A:$B,2,FALSE)","v":0},{"$f":"VLOOKUP(WAVA!AQ56,'Points Lookup'!$A:$B,2,FALSE)","v":0},{"$f":"VLOOKUP(WAVA!AR56,'Points Lookup'!$A:$B,2,FALSE)","v":0},{"$f":"VLOOKUP(WAVA!AS56,'Points Lookup'!$A:$B,2,FALSE)","v":0},{"$f":"VLOOKUP(WAVA!AT56,'Points Lookup'!$A:$B,2,FALSE)","v":0},{"$f":"VLOOKUP(WAVA!AU56,'Points Lookup'!$A:$B,2,FALSE)","v":0},{"$f":"VLOOKUP(WAVA!AV56,'Points Lookup'!$A:$B,2,FALSE)","v":0},{"$f":"VLOOKUP(WAVA!AW56,'Points Lookup'!$A:$B,2,FALSE)","v":0},null,0,0,0,0,0,0,0,0]
[66,{"$f":"WAVA!C57","v":"Jenny Colwell"},{"$f":"IF(ISBLANK(WAVA!F57),\"\",WAVA!F57)","v":"First"},84,{"$f":"VLOOKUP(WAVA!AC57,'Points Lookup'!$A:$B,2,FALSE)","v":0},{"$f":"VLOOKUP(WAVA!AD57,'Points Lookup'!$A:$B,2,FALSE)","v":38},{"$f":"VLOOKUP(WAVA!AE57,'Points Lookup'!$A:$B,2,FALSE)","v":0},{"$f":"VLOOKUP(WAVA!AF57,'Points Lookup'!$A:$B,2,FALSE)","v":0},{"$f":"VLOOKUP(WAVA!AG57,'Points Lookup'!$A:$B,2,FALSE)","v":0},{"$f":"VLOOKUP(WAVA!AH57,'Points Lookup'!$A:$B,2,FALSE)","v":0},{"$f":"VLOOKUP(WAVA!AI57,'Points Lookup'!$A:$B,2,FALSE)","v":0},{"$f":"VLOOKUP(WAVA!AJ57,'Points Lookup'!$A:$B,2,FALSE)","v":0},{"$f":"VLOOKUP(WAVA!AK57,'Points Lookup'!$A:$B,2,FALSE)","v":0},{"$f":"VLOOKUP(WAVA!AL57,'Points Lookup'!$A:$B,2,FALSE)","v":0},{"$f":"VLOOKUP(WAVA!AM57,'Points Lookup'!$A:$B,2,FALSE)","v":0},{"$f":"VLOOKUP(WAVA!AN57,'Points Lookup'!$A:$B,2,FALSE)","v":46},{"$f":"VLOOKUP(WAVA!AO57,'Points Lookup'!$A:$B,2,FALSE)","v":0},{"$f":"VLOOKUP(WAVA!AP57,'Points Lookup'!$A:$B,2,FALSE)","v":0},{"$f":"VLOOKUP(WAVA!AQ57,'Points Lookup'!$A:$B,2,FALSE)","v":0},{"$f":"VLOOKUP(WAVA!AR57,'Points Lookup'!$A:$B,2,FALSE)","v":0},{"$f":"VLOOKUP(WAVA!AS57,'Points Lookup'!$A:$B,2,FALSE)","v":0},{"$f":"VLOOKUP(WAVA!AT57,'Points Lookup'!$A:$B,2,FALSE)","v":0},{"$f":"VLOOKUP(WAVA!AU57,'Points Lookup'!$A:$B,2,FALSE)","v":0},{"$f":"VLOOKUP(WAVA!AV57,'Points Lookup'!$A:$B,2,FALSE)","v":0},{"$f":"VLOOKUP(WAVA!AW57,'Points Lookup'!$A:$B,2,FALSE)","v":0},null,46,38,0,0,0,0,0,0]
[91,{"$f":"WAVA!C58","v":"John Colwell"},{"$f":"IF(ISBLANK(WAVA!F58),\"\",WAVA!F58)","v":"First"},47,{"$f":"VLOOKUP(WAVA!AC58,'Points Lookup'!$A:$B,2,FALSE)","v":0},{"$f":"VLOOKUP(WAVA!AD58,'Points Lookup'!$A:$B,2,FALSE)","v":0},{"$f":"VLOOKUP(WAVA!AE58,'Points Lookup'!$A:$B,2,FALSE)","v":0},{"$f":"VLOOKUP(WAVA!AF58,'Points Lookup'!$A:$B,2,FALSE)","v":0},{"$f":"VLOOKUP(WAVA!AG58,'Points Lookup'!$A:$B,2,FALSE)","v":0},{"$f":"VLOOKUP(WAVA!AH58,'Points Lookup'!$A:$B,2,FALSE)","v":0},{"$f":"VLOOKUP(WAVA!AI58,'Points Lookup'!$A:$B,2,FALSE)","v":0},{"$f":"VLOOKUP(WAVA!AJ58,'Points Lookup'!$A:$B,2,FALSE)","v":0},{"$f":"VLOOKUP(WAVA!AK58,'Points Lookup'!$A:$B,2,FALSE)","v":0},{"$f":"VLOOKUP(WAVA!AL58,'Points Lookup'!$A:$B,2,FALSE)","v":0},{"$f":"VLOOKUP(WAVA!AM58,'Points Lookup'!$A:$B,2,FALSE)","v":0},{"$f":"VLOOKUP(WAVA!AN58,'Points Lookup'!$A:$B,2,FALSE)","v":47},{"$f":"VLOOKUP(WAVA!AO58,'Points Lookup'!$A:$B,2,FALSE)","v":0},{"$f":"VLOOKUP(WAVA!AP58,'Points Lookup'!$A:$B,2,FALSE)","v":0},{"$f":"VLOOKUP(WAVA!AQ58,'Points Lookup'!$A:$B,2,FALSE)","v":0},{"$f":"VLOOKUP(WAVA!AR58,'Points Lookup'!$A:$B,2,FALSE)","v":0},{"$f":"VLOOKUP(WAVA!AS58,'Points Lookup'!$A:$B,2,FALSE)","v":0},{"$f":"VLOOKUP(WAVA!AT58,'Points Lookup'!$A:$B,2,FALSE)","v":0},{"$f":"VLOOKUP(WAVA!AU58,'Points Lookup'!$A:$B,2,FALSE)","v":0},{"$f":"VLOOKUP(WAVA!AV58,'Points Lookup'!$A:$B,2,FALSE)","v":0},{"$f":"VLOOKUP(WAVA!AW58,'Points Lookup'!$A:$B,2,FALSE)","v":0},null,47,0,0,0,0,0,0,0]
[113,{"$f":"WAVA!C59","v":"Bernadette Cook"},{"$f":"IF(ISBLANK(WAVA!F59),\"\",WAVA!F59)","v":"First"},0,{"$f":"VLOOKUP(WAVA!AC59,'Points Lookup'!$A:$B,2,FALSE)","v":0},{"$f":"VLOOKUP(WAVA!AD59,'Points Lookup'!$A:$B,2,FALSE)","v":0},{"$f":"VLOOKUP(WAVA!AE59,'Points Lookup'!$A:$B,2,FALSE)","v":0},{"$f":"VLOOKUP(WAVA!AF59,'Points Lookup'!$A:$B,2,FALSE)","v":0},{"$f":"VLOOKUP(WAVA!AG59,'Points Lookup'!$A:$B,2,FALSE)","v":0},{"$f":"VLOOKUP(WAVA!AH59,'Points Lookup'!$A:$B,2,FALSE)","v":0},{"$f":"VLOOKUP(WAVA!AI59,'Points Lookup'!$A:$B,2,FALSE)","v":0},{"$f":"VLOOKUP(WAVA!AJ59,'Points Lookup'!$A:$B,2,FALSE)","v":0},{"$f":"VLOOKUP(WAVA!AK59,'Points Lookup'!$A:$B,2,FALSE)","v":0},{"$f":"VLOOKUP(WAVA!AL59,'Points Lookup'!$A:$B,2,FALSE)","v":0},{"$f":"VLOOKUP(WAVA!AM59,'Points Lookup'!$A:$B,2,FALSE)","v":0},{"$f":"VLOOKUP(WAVA!AN59,'Points Lookup'!$A:$B,2,FALSE)","v":0},{"$f":"VLOOKUP(WAVA!AO59,'Points Lookup'!$A:$B,2,FALSE)","v":0},{"$f":"VLOOKUP(WAVA!AP59,'Points Lookup'!$A:$B,2,FALSE)","v":0},{"$f":"VLOOKUP(WAVA!AQ59,'Points Lookup'!$A:$B,2,FALSE)","v":0},{"$f":"VLOOKUP(WAVA!AR59,'Points Lookup'!$A:$B,2,FALSE)","v":0},{"$f":"VLOOKUP(WAVA!AS59,'Points Lookup'!$A:$B,2,FALSE)","v":0},{"$f":"VLOOKUP(WAVA!AT59,'Points Lookup'!$A:$B,2,FALSE)","v":0},{"$f":"VLOOKUP(WAVA!AU59,'Points Lookup'!$A:$B,2,FALSE)","v":0},{"$f":"VLOOKUP(WAVA!AV59,'Points Lookup'!$A:$B,2,FALSE)","v":0},{"$f":"VLOOKUP(WAVA!AW59,'Points Lookup'!$A:$B,2,FALSE)","v":0},null,0,0,0,0,0,0,0,0]
[78,{"$f":"WAVA!C60","v":"Graham Corbett"},{"$f":"IF(ISBLANK(WAVA!F60),\"\",WAVA!F60)","v":"Premier"},50,{"$f":"VLOOKUP(WAVA!AC60,'Points Lookup'!$A:$B,2,FALSE)","v":50},{"$f":"VLOOKUP(WAVA!AD60,'Points Lookup'!$A:$B,2,FALSE)","v":0},{"$f":"VLOOKUP(WAVA!AE60,'Points Lookup'!$A:$B,2,FALSE)","v":0},{"$f":"VLOOKUP(WAVA!AF60,'Points Lookup'!$A:$B,2,FALSE)","v":0},{"$f":"VLOOKUP(WAVA!AG60,'Points Lookup'!$A:$B,2,FALSE)","v":0},{"$f":"VLOOKUP(WAVA!AH60,'Points Lookup'!$A:$B,2,FALSE)","v":0},{"$f":"VLOOKUP(WAVA!AI60,'Points Lookup'!$A:$B,2,FALSE)","v":0},{"$f":"VLOOKUP(WAVA!AJ60,'Points Lookup'!$A:$B,2,FALSE)","v":0},{"$f":"VLOOKUP(WAVA!AK60,'Points Lookup'!$A:$B,2,FALSE)","v":0},{"$f":"VLOOKUP(WAVA!AL60,'Points Lookup'!$A:$B,2,FALSE)","v":0},{"$f":"VLOOKUP(WAVA!AM60,'Points Lookup'!$A:$B,2,FALSE)","v":0},{"$f":"VLOOKUP(WAVA!AN60,'Points Lookup'!$A:$B,2,FALSE)","v":0},{"$f":"VLOOKUP(WAVA!AO60,'Points Lookup'!$A:$B,2,FALSE)","v":0},{"$f":"VLOOKUP(WAVA!AP60,'Points Lookup'!$A:$B,2,FALSE)","v":0},{"$f":"VLOOKUP(WAVA!AQ60,'Points Lookup'!$A:$B,2,FALSE)","v":0},{"$f":"VLOOKUP(WAVA!AR60,'Points Lookup'!$A:$B,2,FALSE)","v":0},{"$f":"VLOOKUP(WAVA!AS60,'Points Lookup'!$A:$B,2,FALSE)","v":0},{"$f":"VLOOKUP(WAVA!AT60,'Points Lookup'!$A:$B,2,FALSE)","v":0},{"$f":"VLOOKUP(WAVA!AU60,'Points Lookup'!$A:$B,2,FALSE)","v":0},{"$f":"VLOOKUP(WAVA!AV60,'Points Lookup'!$A:$B,2,FALSE)","v":0},{"$f":"VLOOKUP(WAVA!AW60,'Points Lookup'!$A:$B,2,FALSE)","v":0},null,50,0,0,0,0,0,0,0]
[113,{"$f":"WAVA!C61","v":"julie Cowan-Clark"},{"$f":"IF(ISBLANK(WAVA!F61),\"\",WAVA!F61)","v":"Second"},0,{"$f":"VLOOKUP(WAVA!AC61,'Points Lookup'!$A:$B,2,FALSE)","v":0},{"$f":"VLOOKUP(WAVA!AD61,'Points Lookup'!$A:$B,2,FALSE)","v":0},{"$f":"VLOOKUP(WAVA!AE61,'Points Lookup'!$A:$B,2,FALSE)","v":0},{"$f":"VLOOKUP(WAVA!AF61,'Points Lookup'!$A:$B,2,FALSE)","v":0},{"$f":"VLOOKUP(WAVA!AG61,'Points Lookup'!$A:$B,2,FALSE)","v":0},{"$f":"VLOOKUP(WAVA!AH61,'Points Lookup'!$A:$B,2,FALSE)","v":0},{"$f":"VLOOKUP(WAVA!AI61,'Points Lookup'!$A:$B,2,FALSE)","v":0},{"$f":"VLOOKUP(WAVA!AJ61,'Points Lookup'!$A:$B,2,FALSE)","v":0},{"$f":"VLOOKUP(WAVA!AK61,'Points Lookup'!$A:$B,2,FALSE)","v":0},{"$f":"VLOOKUP(WAVA!AL61,'Points Lookup'!$A:$B,2,FALSE)","v":0},{"$f":"VLOOKUP(WAVA!AM61,'Points Lookup'!$A:$B,2,FALSE)","v":0},{"$f":"VLOOKUP(WAVA!AN61,'Points Lookup'!$A:$B,2,FALSE)","v":0},{"$f":"VLOOKUP(WAVA!AO61,'Points Lookup'!$A:$B,2,FALSE)","v":0},{"$f":"VLOOKUP(WAVA!AP61,'Points Lookup'!$A:$B,2,FALSE)","v":0},{"$f":"VLOOKUP(WAVA!AQ61,'Points Lookup'!$A:$B,2,FALSE)","v":0},{"$f":"VLOOKUP(WAVA!AR61,'Points Lookup'!$A:$B,2,FALSE)","v":0},{"$f":"VLOOKUP(WAVA!AS61,'Points Lookup'!$A:$B,2,FALSE)","v":0},{"$f":"VLOOKUP(WAVA!AT61,'Points Lookup'!$A:$B,2,FALSE)","v":0},{"$f":"VLOOKUP(WAVA!AU61,'Points Lookup'!$A:$B,2,FALSE)","v":0},{"$f":"VLOOKUP(WAVA!AV61,'Points Lookup'!$A:$B,2,FALSE)","v":0},{"$f":"VLOOKUP(WAVA!AW61,'Points Lookup'!$A:$B,2,FALSE)","v":0},null,0,0,0,0,0,0,0,0]
[49,{"$f":"WAVA!C62","v":"Duane Craven"},{"$f":"IF(ISBLANK(WAVA!F62),\"\",WAVA!F62)","v":"First"},98,{"$f":"VLOOKUP(WAVA!AC62,'Points Lookup'!$A:$B,2,FALSE)","v":0},{"$f":"VLOOKUP(WAVA!AD62,'Points Lookup'!$A:$B,2,FALSE)","v":48},{"$f":"VLOOKUP(WAVA!AE62,'Points Lookup'!$A:$B,2,FALSE)","v":0},{"$f":"VLOOKUP(WAVA!AF62,'Points Lookup'!$A:$B,2,FALSE)","v":0},{"$f":"VLOOKUP(WAVA!AG62,'Points Lookup'!$A:$B,2,FALSE)","v":0},{"$f":"VLOOKUP(WAVA!AH62,'Points Lookup'!$A:$B,2,FALSE)","v":0},{"$f":"VLOOKUP(WAVA!AI62,'Points Lookup'!$A:$B,2,FALSE)","v":0},{"$f":"VLOOKUP(WAVA!AJ62,'Points Lookup'!$A:$B,2,FALSE)","v":0},{"$f":"VLOOKUP(WAVA!AK62,'Points Lookup'!$A:$B,2,FALSE)","v":50},{"$f":"VLOOKUP(WAVA!AL62,'Points Lookup'!$A:$B,2,FALSE)","v":0},{"$f":"VLOOKUP(WAVA!AM62,'Points Lookup'!$A:$B,2,FALSE)","v":0},{"$f":"VLOOKUP(WAVA!AN62,'Points Lookup'!$A:$B,2,FALSE)","v":0},{"$f":"VLOOKUP(WAVA!AO62,'Points Lookup'!$A:$B,2,FALSE)","v":0},{"$f":"VLOOKUP(WAVA!AP62,'Points Lookup'!$A:$B,2,FALSE)","v":0},{"$f":"VLOOKUP(WAVA!AQ62,'Points Lookup'!$A:$B,2,FALSE)","v":0},{"$f":"VLOOKUP(WAVA!AR62,'Points Lookup'!$A:$B,2,FALSE)","v":0},{"$f":"VLOOKUP(WAVA!AS62,'Points Lookup'!$A:$B,2,FALSE)","v":0},{"$f":"VLOOKUP(WAVA!AT62,'Points Lookup'!$A:$B,2,FALSE)","v":0},{"$f":"VLOOKUP(WAVA!AU62,'Points Lookup'!$A:$B,2,FALSE)","v":0},{"$f":"VLOOKUP(WAVA!AV62,'Points Lookup'!$A:$B,2,FALSE)","v":0},{"$f":"VLOOKUP(WAVA!AW62,'Points Lookup'!$A:$B,2,FALSE)","v":0},null,50,48,0,0,0,0,0,0]
[113,{"$f":"WAVA!C63","v":"Patricia Craven"},{"$f":"IF(ISBLANK(WAVA!F63),\"\",WAVA!F63)","v":"Second"},0,{"$f":"VLOOKUP(WAVA!AC63,'Points Lookup'!$A:$B,2,FALSE)","v":0},{"$f":"VLOOKUP(WAVA!AD63,'Points Lookup'!$A:$B,2,FALSE)","v":0},{"$f":"VLOOKUP(WAVA!AE63,'Points Lookup'!$A:$B,2,FALSE)","v":0},{"$f":"VLOOKUP(WAVA!AF63,'Points Lookup'!$A:$B,2,FALSE)","v":0},{"$f":"VLOOKUP(WAVA!AG63,'Points Lookup'!$A:$B,2,FALSE)","v":0},{"$f":"VLOOKUP(WAVA!AH63,'Points Lookup'!$A:$B,2,FALSE)","v":0},{"$f":"VLOOKUP(WAVA!AI63,'Points Lookup'!$A:$B,2,FALSE)","v":0},{"$f":"VLOOKUP(WAVA!AJ63,'Points Lookup'!$A:$B,2,FALSE)","v":0},{"$f":"VLOOKUP(WAVA!AK63,'Points Lookup'!$A:$B,2,FALSE)","v":0},{"$f":"VLOOKUP(WAVA!AL63,'Points Lookup'!$A:$B,2,FALSE)","v":0},{"$f":"VLOOKUP(WAVA!AM63,'Points Lookup'!$A:$B,2,FALSE)","v":0},{"$f":"VLOOKUP(WAVA!AN63,'Points Lookup'!$A:$B,2,FALSE)","v":0},{"$f":"VLOOKUP(WAVA!AO63,'Points Lookup'!$A:$B,2,FALSE)","v":0},{"$f":"VLOOKUP(WAVA!AP63,'Points Lookup'!$A:$B,2,FALSE)","v":0},{"$f":"VLOOKUP(WAVA!AQ63,'Points Lookup'!$A:$B,2,FALSE)","v":0},{"$f":"VLOOKUP(WAVA!AR63,'Points Lookup'!$A:$B,2,FALSE)","v":0},{"$f":"VLOOKUP(WAVA!AS63,'Points Lookup'!$A:$B,2,FALSE)","v":0},{"$f":"VLOOKUP(WAVA!AT63,'Points Lookup'!$A:$B,2,FALSE)","v":0},{"$f":"VLOOKUP(WAVA!AU63,'Points Lookup'!$A:$B,2,FALSE)","v":0},{"$f":"VLOOKUP(WAVA!AV63,'Points Lookup'!$A:$B,2,FALSE)","v":0},{"$f":"VLOOKUP(WAVA!AW63,'Points Lookup'!$A:$B,2,FALSE)","v":0},null,{"$f":"LARGE($E62:$Y62,AA$1)","v":0},0,0,0,0,0,0,0]
[113,{"$f":"WAVA!C64","v":"Paula Cutter"},{"$f":"IF(ISBLANK(WAVA!F64),\"\",WAVA!F64)","v":"Second"},0,{"$f":"VLOOKUP(WAVA!AC64,'Points Lookup'!$A:$B,2,FALSE)","v":0},{"$f":"VLOOKUP(WAVA!AD64,'Points Lookup'!$A:$B,2,FALSE)","v":0},{"$f":"VLOOKUP(WAVA!AE64,'Points Lookup'!$A:$B,2,FALSE)","v":0},{"$f":"VLOOKUP(WAVA!AF64,'Points Lookup'!$A:$B,2,FALSE)","v":0},{"$f":"VLOOKUP(WAVA!AG64,'Points Lookup'!$A:$B,2,FALSE)","v":0},{"$f":"VLOOKUP(WAVA!AH64,'Points Lookup'!$A:$B,2,FALSE)","v":0},{"$f":"VLOOKUP(WAVA!AI64,'Points Lookup'!$A:$B,2,FALSE)","v":0},{"$f":"VLOOKUP(WAVA!AJ64,'Points Lookup'!$A:$B,2,FALSE)","v":0},{"$f":"VLOOKUP(WAVA!AK64,'Points Lookup'!$A:$B,2,FALSE)","v":0},{"$f":"VLOOKUP(WAVA!AL64,'Points Lookup'!$A:$B,2,FALSE)","v":0},{"$f":"VLOOKUP(WAVA!AM64,'Points Lookup'!$A:$B,2,FALSE)","v":0},{"$f":"VLOOKUP(WAVA!AN64,'Points Lookup'!$A:$B,2,FALSE)","v":0},{"$f":"VLOOKUP(WAVA!AO64,'Points Lookup'!$A:$B,2,FALSE)","v":0},{"$f":"VLOOKUP(WAVA!AP64,'Points Lookup'!$A:$B,2,FALSE)","v":0},{"$f":"VLOOKUP(WAVA!AQ64,'Points Lookup'!$A:$B,2,FALSE)","v":0},{"$f":"VLOOKUP(WAVA!AR64,'Points Lookup'!$A:$B,2,FALSE)","v":0},{"$f":"VLOOKUP(WAVA!AS64,'Points Lookup'!$A:$B,2,FALSE)","v":0},{"$f":"VLOOKUP(WAVA!AT64,'Points Lookup'!$A:$B,2,FALSE)","v":0},{"$f":"VLOOKUP(WAVA!AU64,'Points Lookup'!$A:$B,2,FALSE)","v":0},{"$f":"VLOOKUP(WAVA!AV64,'Points Lookup'!$A:$B,2,FALSE)","v":0},{"$f":"VLOOKUP(WAVA!AW64,'Points Lookup'!$A:$B,2,FALSE)","v":0},null,0,0,0,0,0,0,0,0]
[25,{"$f":"WAVA!C65","v":"Denise Davis"},{"$f":"IF(ISBLANK(WAVA!F65),\"\",WAVA!F65)","v":"Premier"},231,{"$f":"VLOOKUP(WAVA!AC65,'Points Lookup'!$A:$B,2,FALSE)","v":38},{"$f":"VLOOKUP(WAVA!AD65,'Points Lookup'!$A:$B,2,FALSE)","v":0},{"$f":"VLOOKUP(WAVA!AE65,'Points Lookup'!$A:$B,2,FALSE)","v":43},{"$f":"VLOOKUP(WAVA!AF65,'Points Lookup'!$A:$B,2,FALSE)","v":0},{"$f":"VLOOKUP(WAVA!AG65,'Points Lookup'!$A:$B,2,FALSE)","v":34},{"$f":"VLOOKUP(WAVA!AH65,'Points Lookup'!$A:$B,2,FALSE)","v":0},{"$f":"VLOOKUP(WAVA!AI65,'Points Lookup'!$A:$B,2,FALSE)","v":0},{"$f":"VLOOKUP(WAVA!AJ65,'Points Lookup'!$A:$B,2,FALSE)","v":43},{"$f":"VLOOKUP(WAVA!AK65,'Points Lookup'!$A:$B,2,FALSE)","v":0},{"$f":"VLOOKUP(WAVA!AL65,'Points Lookup'!$A:$B,2,FALSE)","v":0},{"$f":"VLOOKUP(WAVA!AM65,'Points Lookup'!$A:$B,2,FALSE)","v":0},{"$f":"VLOOKUP(WAVA!AN65,'Points Lookup'!$A:$B,2,FALSE)","v":37},{"$f":"VLOOKUP(WAVA!AO65,'Points Lookup'!$A:$B,2,FALSE)","v":0},{"$f":"VLOOKUP(WAVA!AP65,'Points Lookup'!$A:$B,2,FALSE)","v":0},{"$f":"VLOOKUP(WAVA!AQ65,'Points Lookup'!$A:$B,2,FALSE)","v":0},{"$f":"VLOOKUP(WAVA!AR65,'Points Lookup'!$A:$B,2,FALSE)","v":0},{"$f":"VLOOKUP(WAVA!AS65,'Points Lookup'!$A:$B,2,FALSE)","v":0},{"$f":"VLOOKUP(WAVA!AT65,'Points Lookup'!$A:$B,2,FALSE)","v":0},{"$f":"VLOOKUP(WAVA!AU65,'Points Lookup'!$A:$B,2,FALSE)","v":36},{"$f":"VLOOKUP(WAVA!AV65,'Points Lookup'!$A:$B,2,FALSE)","v":0},{"$f":"VLOOKUP(WAVA!AW65,'Points Lookup'!$A:$B,2,FALSE)","v":0},null,43,43,38,37,36,34,0,0]
[113,{"$f":"WAVA!C66","v":"Mark Davis"},{"$f":"IF(ISBLANK(WAVA!F66),\"\",WAVA!F66)","v":"Second"},0,{"$f":"VLOOKUP(WAVA!AC66,'Points Lookup'!$A:$B,2,FALSE)","v":0},{"$f":"VLOOKUP(WAVA!AD66,'Points Lookup'!$A:$B,2,FALSE)","v":0},{"$f":"VLOOKUP(WAVA!AE66,'Points Lookup'!$A:$B,2,FALSE)","v":0},{"$f":"VLOOKUP(WAVA!AF66,'Points Lookup'!$A:$B,2,FALSE)","v":0},{"$f":"VLOOKUP(WAVA!AG66,'Points Lookup'!$A:$B,2,FALSE)","v":0},{"$f":"VLOOKUP(WAVA!AH66,'Points Lookup'!$A:$B,2,FALSE)","v":0},{"$f":"VLOOKUP(WAVA!AI66,'Points Lookup'!$A:$B,2,FALSE)","v":0},{"$f":"VLOOKUP(WAVA!AJ66,'Points Lookup'!$A:$B,2,FALSE)","v":0},{"$f":"VLOOKUP(WAVA!AK66,'Points Lookup'!$A:$B,2,FALSE)","v":0},{"$f":"VLOOKUP(WAVA!AL66,'Points Lookup'!$A:$B,2,FALSE)","v":0},{"$f":"VLOOKUP(WAVA!AM66,'Points Lookup'!$A:$B,2,FALSE)","v":0},{"$f":"VLOOKUP(WAVA!AN66,'Points Lookup'!$A:$B,2,FALSE)","v":0},{"$f":"VLOOKUP(WAVA!AO66,'Points Lookup'!$A:$B,2,FALSE)","v":0},{"$f":"VLOOKUP(WAVA!AP66,'Points Lookup'!$A:$B,2,FALSE)","v":0},{"$f":"VLOOKUP(WAVA!AQ66,'Points Lookup'!$A:$B,2,FALSE)","v":0},{"$f":"VLOOKUP(WAVA!AR66,'Points Lookup'!$A:$B,2,FALSE)","v":0},{"$f":"VLOOKUP(WAVA!AS66,'Points Lookup'!$A:$B,2,FALSE)","v":0},{"$f":"VLOOKUP(WAVA!AT66,'Points Lookup'!$A:$B,2,FALSE)","v":0},{"$f":"VLOOKUP(WAVA!AU66,'Points Lookup'!$A:$B,2,FALSE)","v":0},{"$f":"VLOOKUP(WAVA!AV66,'Points Lookup'!$A:$B,2,FALSE)","v":0},{"$f":"VLOOKUP(WAVA!AW66,'Points Lookup'!$A:$B,2,FALSE)","v":0},null,0,0,0,0,0,0,0,0]
[{"$f":"RANK(D66,D$2:D$215,)","v":76},{"$f":"WAVA!C67","v":"Liz Dearden"},{"$f":"IF(ISBLANK(WAVA!F67),\"\",WAVA!F67)","v":"Second"},67,{"$f":"VLOOKUP(WAVA!AC67,'Points Lookup'!$A:$B,2,FALSE)","v":0},{"$f":"VLOOKUP(WAVA!AD67,'Points Lookup'!$A:$B,2,FALSE)","v":32},{"$f":"VLOOKUP(WAVA!AE67,'Points Lookup'!$A:$B,2,FALSE)","v":0},{"$f":"VLOOKUP(WAVA!AF67,'Points Lookup'!$A:$B,2,FALSE)","v":0},{"$f":"VLOOKUP(WAVA!AG67,'Points Lookup'!$A:$B,2,FALSE)","v":0},{"$f":"VLOOKUP(WAVA!AH67,'Points Lookup'!$A:$B,2,FALSE)","v":0},{"$f":"VLOOKUP(WAVA!AI67,'Points Lookup'!$A:$B,2,FALSE)","v":0},{"$f":"VLOOKUP(WAVA!AJ67,'Points Lookup'!$A:$B,2,FALSE)","v":0},{"$f":"VLOOKUP(WAVA!AK67,'Points Lookup'!$A:$B,2,FALSE)","v":0},{"$f":"VLOOKUP(WAVA!AL67,'Points Lookup'!$A:$B,2,FALSE)","v":0},{"$f":"VLOOKUP(WAVA!AM67,'Points Lookup'!$A:$B,2,FALSE)","v":0},{"$f":"VLOOKUP(WAVA!AN67,'Points Lookup'!$A:$B,2,FALSE)","v":0},{"$f":"VLOOKUP(WAVA!AO67,'Points Lookup'!$A:$B,2,FALSE)","v":0},{"$f":"VLOOKUP(WAVA!AP67,'Points Lookup'!$A:$B,2,FALSE)","v":0},{"$f":"VLOOKUP(WAVA!AQ67,'Points Lookup'!$A:$B,2,FALSE)","v":0},{"$f":"VLOOKUP(WAVA!AR67,'Points Lookup'!$A:$B,2,FALSE)","v":0},{"$f":"VLOOKUP(WAVA!AS67,'Points Lookup'!$A:$B,2,FALSE)","v":0},{"$f":"VLOOKUP(WAVA!AT67,'Points Lookup'!$A:$B,2,FALSE)","v":0},{"$f":"VLOOKUP(WAVA!AU67,'Points Lookup'!$A:$B,2,FALSE)","v":0},{"$f":"VLOOKUP(WAVA!AV67,'Points Lookup'!$A:$B,2,FALSE)","v":35},{"$f":"VLOOKUP(WAVA!AW67,'Points Lookup'!$A:$B,2,FALSE)","v":0},null,35,32,0,0,0,0,0,0]
[55,{"$f":"WAVA!C68","v":"Loris Dell'Amico"},{"$f":"IF(ISBLANK(WAVA!F68),\"\",WAVA!F68)","v":"First"},{"$f":"SUM(AA67:AH67)","v":95},{"$f":"VLOOKUP(WAVA!AC68,'Points Lookup'!$A:$B,2,FALSE)","v":0},{"$f":"VLOOKUP(WAVA!AD68,'Points Lookup'!$A:$B,2,FALSE)","v":0},{"$f":"VLOOKUP(WAVA!AE68,'Points Lookup'!$A:$B,2,FALSE)","v":0},{"$f":"VLOOKUP(WAVA!AF68,'Points Lookup'!$A:$B,2,FALSE)","v":0},{"$f":"VLOOKUP(WAVA!AG68,'Points Lookup'!$A:$B,2,FALSE)","v":0},{"$f":"VLOOKUP(WAVA!AH68,'Points Lookup'!$A:$B,2,FALSE)","v":0},{"$f":"VLOOKUP(WAVA!AI68,'Points Lookup'!$A:$B,2,FALSE)","v":0},{"$f":"VLOOKUP(WAVA!AJ68,'Points Lookup'!$A:$B,2,FALSE)","v":0},{"$f":"VLOOKUP(WAVA!AK68,'Points Lookup'!$A:$B,2,FALSE)","v":0},{"$f":"VLOOKUP(WAVA!AL68,'Points Lookup'!$A:$B,2,FALSE)","v":0},{"$f":"VLOOKUP(WAVA!AM68,'Points Lookup'!$A:$B,2,FALSE)","v":0},{"$f":"VLOOKUP(WAVA!AN68,'Points Lookup'!$A:$B,2,FALSE)","v":0},{"$f":"VLOOKUP(WAVA!AO68,'Points Lookup'!$A:$B,2,FALSE)","v":0},{"$f":"VLOOKUP(WAVA!AP68,'Points Lookup'!$A:$B,2,FALSE)","v":0},{"$f":"VLOOKUP(WAVA!AQ68,'Points Lookup'!$A:$B,2,FALSE)","v":45},{"$f":"VLOOKUP(WAVA!AR68,'Points Lookup'!$A:$B,2,FALSE)","v":0},{"$f":"VLOOKUP(WAVA!AS68,'Points Lookup'!$A:$B,2,FALSE)","v":0},{"$f":"VLOOKUP(WAVA!AT68,'Points Lookup'!$A:$B,2,FALSE)","v":0},{"$f":"VLOOKUP(WAVA!AU68,'Points Lookup'!$A:$B,2,FALSE)","v":50},{"$f":"VLOOKUP(WAVA!AV68,'Points Lookup'!$A:$B,2,FALSE)","v":0},{"$f":"VLOOKUP(WAVA!AW68,'Points Lookup'!$A:$B,2,FALSE)","v":0},null,50,45,0,0,0,0,0,0]
[37,{"$f":"WAVA!C69","v":"Louise Dell'Amico"},{"$f":"IF(ISBLANK(WAVA!F69),\"\",WAVA!F69)","v":"Premier"},155,{"$f":"VLOOKUP(WAVA!AC69,'Points Lookup'!$A:$B,2,FALSE)","v":0},{"$f":"VLOOKUP(WAVA!AD69,'Points Lookup'!$A:$B,2,FALSE)","v":0},{"$f":"VLOOKUP(WAVA!AE69,'Points Lookup'!$A:$B,2,FALSE)","v":40},{"$f":"VLOOKUP(WAVA!AF69,'Points Lookup'!$A:$B,2,FALSE)","v":0},{"$f":"VLOOKUP(WAVA!AG69,'Points Lookup'!$A:$B,2,FALSE)","v":33},{"$f":"VLOOKUP(WAVA!AH69,'Points Lookup'!$A:$B,2,FALSE)","v":0},{"$f":"VLOOKUP(WAVA!AI69,'Points Lookup'!$A:$B,2,FALSE)","v":0},{"$f":"VLOOKUP(WAVA!AJ69,'Points Lookup'!$A:$B,2,FALSE)","v":0},{"$f":"VLOOKUP(WAVA!AK69,'Points Lookup'!$A:$B,2,FALSE)","v":45},{"$f":"VLOOKUP(WAVA!AL69,'Points Lookup'!$A:$B,2,FALSE)","v":0},{"$f":"VLOOKUP(WAVA!AM69,'Points Lookup'!$A:$B,2,FALSE)","v":0},{"$f":"VLOOKUP(WAVA!AN69,'Points Lookup'!$A:$B,2,FALSE)","v":0},{"$f":"VLOOKUP(WAVA!AO69,'Points Lookup'!$A:$B,2,FALSE)","v":0},{"$f":"VLOOKUP(WAVA!AP69,'Points Lookup'!$A:$B,2,FALSE)","v":0},{"$f":"VLOOKUP(WAVA!AQ69,'Points Lookup'!$A:$B,2,FALSE)","v":37},{"$f":"VLOOKUP(WAVA!AR69,'Points Lookup'!$A:$B,2,FALSE)","v":0},{"$f":"VLOOKUP(WAVA!AS69,'Points Lookup'!$A:$B,2,FALSE)","v":0},{"$f":"VLOOKUP(WAVA!AT69,'Points Lookup'!$A:$B,2,FALSE)","v":0},{"$f":"VLOOKUP(WAVA!AU69,'Points Lookup'!$A:$B,2,FALSE)","v":0},{"$f":"VLOOKUP(WAVA!AV69,'Points Lookup'!$A:$B,2,FALSE)","v":0},{"$f":"VLOOKUP(WAVA!AW69,'Points Lookup'!$A:$B,2,FALSE)","v":0},null,45,40,37,33,0,0,0,0]
[113,{"$f":"WAVA!C70","v":"Zanna Dennis"},{"$f":"IF(ISBLANK(WAVA!F70),\"\",WAVA!F70)","v":"Second"},0,{"$f":"VLOOKUP(WAVA!AC70,'Points Lookup'!$A:$B,2,FALSE)","v":0},{"$f":"VLOOKUP(WAVA!AD70,'Points Lookup'!$A:$B,2,FALSE)","v":0},{"$f":"VLOOKUP(WAVA!AE70,'Points Lookup'!$A:$B,2,FALSE)","v":0},{"$f":"VLOOKUP(WAVA!AF70,'Points Lookup'!$A:$B,2,FALSE)","v":0},{"$f":"VLOOKUP(WAVA!AG70,'Points Lookup'!$A:$B,2,FALSE)","v":0},{"$f":"VLOOKUP(WAVA!AH70,'Points Lookup'!$A:$B,2,FALSE)","v":0},{"$f":"VLOOKUP(WAVA!AI70,'Points Lookup'!$A:$B,2,FALSE)","v":0},{"$f":"VLOOKUP(WAVA!AJ70,'Points Lookup'!$A:$B,2,FALSE)","v":0},{"$f":"VLOOKUP(WAVA!AK70,'Points Lookup'!$A:$B,2,FALSE)","v":0},{"$f":"VLOOKUP(WAVA!AL70,'Points Lookup'!$A:$B,2,FALSE)","v":0},{"$f":"VLOOKUP(WAVA!AM70,'Points Lookup'!$A:$B,2,FALSE)","v":0},{"$f":"VLOOKUP(WAVA!AN70,'Points Lookup'!$A:$B,2,FALSE)","v":0},{"$f":"VLOOKUP(WAVA!AO70,'Points Lookup'!$A:$B,2,FALSE)","v":0},{"$f":"VLOOKUP(WAVA!AP70,'Points Lookup'!$A:$B,2,FALSE)","v":0},{"$f":"VLOOKUP(WAVA!AQ70,'Points Lookup'!$A:$B,2,FALSE)","v":0},{"$f":"VLOOKUP(WAVA!AR70,'Points Lookup'!$A:$B,2,FALSE)","v":0},{"$f":"VLOOKUP(WAVA!AS70,'Points Lookup'!$A:$B,2,FALSE)","v":0},{"$f":"VLOOKUP(WAVA!AT70,'Points Lookup'!$A:$B,2,FALSE)","v":0},{"$f":"VLOOKUP(WAVA!AU70,'Points Lookup'!$A:$B,2,FALSE)","v":0},{"$f":"VLOOKUP(WAVA!AV70,'Points Lookup'!$A:$B,2,FALSE)","v":0},{"$f":"VLOOKUP(WAVA!AW70,'Points Lookup'!$A:$B,2,FALSE)","v":0},null,0,0,0,0,0,0,0,0]
[67,{"$f":"WAVA!C71","v":"Ian Dickinson"},{"$f":"IF(ISBLANK(WAVA!F71),\"\",WAVA!F71)","v":"First"},83,{"$f":"VLOOKUP(WAVA!AC71,'Points Lookup'!$A:$B,2,FALSE)","v":0},{"$f":"VLOOKUP(WAVA!AD71,'Points Lookup'!$A:$B,2,FALSE)","v":37},{"$f":"VLOOKUP(WAVA!AE71,'Points Lookup'!$A:$B,2,FALSE)","v":0},{"$f":"VLOOKUP(WAVA!AF71,'Points Lookup'!$A:$B,2,FALSE)","v":0},{"$f":"VLOOKUP(WAVA!AG71,'Points Lookup'!$A:$B,2,FALSE)","v":0},{"$f":"VLOOKUP(WAVA!AH71,'Points Lookup'!$A:$B,2,FALSE)","v":0},{"$f":"VLOOKUP(WAVA!AI71,'Points Lookup'!$A:$B,2,FALSE)","v":0},{"$f":"VLOOKUP(WAVA!AJ71,'Points Lookup'!$A:$B,2,FALSE)","v":0},{"$f":"VLOOKUP(WAVA!AK71,'Points Lookup'!$A:$B,2,FALSE)","v":0},{"$f":"VLOOKUP(WAVA!AL71,'Points Lookup'!$A:$B,2,FALSE)","v":0},{"$f":"VLOOKUP(WAVA!AM71,'Points Lookup'!$A:$B,2,FALSE)","v":0},{"$f":"VLOOKUP(WAVA!AN71,'Points Lookup'!$A:$B,2,FALSE)","v":0},{"$f":"VLOOKUP(WAVA!AO71,'Points Lookup'!$A:$B,2,FALSE)","v":0},{"$f":"VLOOKUP(WAVA!AP71,'Points Lookup'!$A:$B,2,FALSE)","v":0},{"$f":"VLOOKUP(WAVA!AQ71,'Points Lookup'!$A:$B,2,FALSE)","v":0},{"$f":"VLOOKUP(WAVA!AR71,'Points Lookup'!$A:$B,2,FALSE)","v":0},{"$f":"VLOOKUP(WAVA!AS71,'Points Lookup'!$A:$B,2,FALSE)","v":0},{"$f":"VLOOKUP(WAVA!AT71,'Points Lookup'!$A:$B,2,FALSE)","v":46},{"$f":"VLOOKUP(WAVA!AU71,'Points Lookup'!$A:$B,2,FALSE)","v":0},{"$f":"VLOOKUP(WAVA!AV71,'Points Lookup'!$A:$B,2,FALSE)","v":0},{"$f":"VLOOKUP(WAVA!AW71,'Points Lookup'!$A:$B,2,FALSE)","v":0},null,46,37,0,0,0,0,0,0]
[113,{"$f":"WAVA!C72","v":"Paul Disney"},{"$f":"IF(ISBLANK(WAVA!F72),\"\",WAVA!F72)","v":"Premier"},0,{"$f":"VLOOKUP(WAVA!AC72,'Points Lookup'!$A:$B,2,FALSE)","v":0},{"$f":"VLOOKUP(WAVA!AD72,'Points Lookup'!$A:$B,2,FALSE)","v":0},{"$f":"VLOOKUP(WAVA!AE72,'Points Lookup'!$A:$B,2,FALSE)","v":0},{"$f":"VLOOKUP(WAVA!AF72,'Points Lookup'!$A:$B,2,FALSE)","v":0},{"$f":"VLOOKUP(WAVA!AG72,'Points Lookup'!$A:$B,2,FALSE)","v":0},{"$f":"VLOOKUP(WAVA!AH72,'Points Lookup'!$A:$B,2,FALSE)","v":0},{"$f":"VLOOKUP(WAVA!AI72,'Points Lookup'!$A:$B,2,FALSE)","v":0},{"$f":"VLOOKUP(WAVA!AJ72,'Points Lookup'!$A:$B,2,FALSE)","v":0},{"$f":"VLOOKUP(WAVA!AK72,'Points Lookup'!$A:$B,2,FALSE)","v":0},{"$f":"VLOOKUP(WAVA!AL72,'Points Lookup'!$A:$B,2,FALSE)","v":0},{"$f":"VLOOKUP(WAVA!AM72,'Points Lookup'!$A:$B,2,FALSE)","v":0},{"$f":"VLOOKUP(WAVA!AN72,'Points Lookup'!$A:$B,2,FALSE)","v":0},{"$f":"VLOOKUP(WAVA!AO72,'Points Lookup'!$A:$B,2,FALSE)","v":0},{"$f":"VLOOKUP(WAVA!AP72,'Points Lookup'!$A:$B,2,FALSE)","v":0},{"$f":"VLOOKUP(WAVA!AQ72,'Points Lookup'!$A:$B,2,FALSE)","v":0},{"$f":"VLOOKUP(WAVA!AR72,'Points Lookup'!$A:$B,2,FALSE)","v":0},{"$f":"VLOOKUP(WAVA!AS72,'Points Lookup'!$A:$B,2,FALSE)","v":0},{"$f":"VLOOKUP(WAVA!AT72,'Points Lookup'!$A:$B,2,FALSE)","v":0},{"$f":"VLOOKUP(WAVA!AU72,'Points Lookup'!$A:$B,2,FALSE)","v":0},{"$f":"VLOOKUP(WAVA!AV72,'Points Lookup'!$A:$B,2,FALSE)","v":0},{"$f":"VLOOKUP(WAVA!AW72,'Points Lookup'!$A:$B,2,FALSE)","v":0},null,0,0,0,0,0,0,0,0]
[78,{"$f":"WAVA!C73","v":"Robert Burrell Donkin"},{"$f":"IF(ISBLANK(WAVA!F73),\"\",WAVA!F73)","v":"Second"},50,{"$f":"VLOOKUP(WAVA!AC73,'Points Lookup'!$A:$B,2,FALSE)","v":0},{"$f":"VLOOKUP(WAVA!AD73,'Points Lookup'!$A:$B,2,FALSE)","v":0},{"$f":"VLOOKUP(WAVA!AE73,'Points Lookup'!$A:$B,2,FALSE)","v":0},{"$f":"VLOOKUP(WAVA!AF73,'Points Lookup'!$A:$B,2,FALSE)","v":0},{"$f":"VLOOKUP(WAVA!AG73,'Points Lookup'!$A:$B,2,FALSE)","v":0},{"$f":"VLOOKUP(WAVA!AH73,'Points Lookup'!$A:$B,2,FALSE)","v":0},{"$f":"VLOOKUP(WAVA!AI73,'Points Lookup'!$A:$B,2,FALSE)","v":0},{"$f":"VLOOKUP(WAVA!AJ73,'Points Lookup'!$A:$B,2,FALSE)","v":50},{"$f":"VLOOKUP(WAVA!AK73,'Points Lookup'!$A:$B,2,FALSE)","v":0},{"$f":"VLOOKUP(WAVA!AL73,'Points Lookup'!$A:$B,2,FALSE)","v":0},{"$f":"VLOOKUP(WAVA!AM73,'Points Lookup'!$A:$B,2,FALSE)","v":0},{"$f":"VLOOKUP(WAVA!AN73,'Points Lookup'!$A:$B,2,FALSE)","v":0},{"$f":"VLOOKUP(WAVA!AO73,'Points Lookup'!$A:$B,2,FALSE)","v":0},{"$f":"VLOOKUP(WAVA!AP73,'Points Lookup'!$A:$B,2,FALSE)","v":0},{"$f":"VLOOKUP(WAVA!AQ73,'Points Lookup'!$A:$B,2,FALSE)","v":0},{"$f":"VLOOKUP(WAVA!AR73,'Points Lookup'!$A:$B,2,FALSE)","v":0},{"$f":"VLOOKUP(WAVA!AS73,'Points Lookup'!$A:$B,2,FALSE)","v":0},{"$f":"VLOOKUP(WAVA!AT73,'Points Lookup'!$A:$B,2,FALSE)","v":0},{"$f":"VLOOKUP(WAVA!AU73,'Points Lookup'!$A:$B,2,FALSE)","v":0},{"$f":"VLOOKUP(WAVA!AV73,'Points Lookup'!$A:$B,2,FALSE)","v":0},{"$f":"VLOOKUP(WAVA!AW73,'Points Lookup'!$A:$B,2,FALSE)","v":0},null,{"$f":"LARGE($E72:$Y72,AA$1)","v":50},0,0,0,0,0,0,0]
[9,{"$f":"WAVA!C74","v":"Alan Douglas"},{"$f":"IF(ISBLANK(WAVA!F74),\"\",WAVA!F74)","v":"Premier"},369,{"$f":"VLOOKUP(WAVA!AC74,'Points Lookup'!$A:$B,2,FALSE)","v":0},{"$f":"VLOOKUP(WAVA!AD74,'Points Lookup'!$A:$B,2,FALSE)","v":44},{"$f":"VLOOKUP(WAVA!AE74,'Points Lookup'!$A:$B,2,FALSE)","v":0},{"$f":"VLOOKUP(WAVA!AF74,'Points Lookup'!$A:$B,2,FALSE)","v":0},{"$f":"VLOOKUP(WAVA!AG74,'Points Lookup'!$A:$B,2,FALSE)","v":0},{"$f":"VLOOKUP(WAVA!AH74,'Points Lookup'!$A:$B,2,FALSE)","v":0},{"$f":"VLOOKUP(WAVA!AI74,'Points Lookup'!$A:$B,2,FALSE)","v":46},{"$f":"VLOOKUP(WAVA!AJ74,'Points Lookup'!$A:$B,2,FALSE)","v":0},{"$f":"VLOOKUP(WAVA!AK74,'Points Lookup'!$A:$B,2,FALSE)","v":0},{"$f":"VLOOKUP(WAVA!AL74,'Points Lookup'!$A:$B,2,FALSE)","v":46},{"$f":"VLOOKUP(WAVA!AM74,'Points Lookup'!$A:$B,2,FALSE)","v":43},{"$f":"VLOOKUP(WAVA!AN74,'Points Lookup'!$A:$B,2,FALSE)","v":43},{"$f":"VLOOKUP(WAVA!AO74,'Points Lookup'!$A:$B,2,FALSE)","v":48},{"$f":"VLOOKUP(WAVA!AP74,'Points Lookup'!$A:$B,2,FALSE)","v":0},{"$f":"VLOOKUP(WAVA!AQ74,'Points Lookup'!$A:$B,2,FALSE)","v":44},{"$f":"VLOOKUP(WAVA!AR74,'Points Lookup'!$A:$B,2,FALSE)","v":47},{"$f":"VLOOKUP(WAVA!AS74,'Points Lookup'!$A:$B,2,FALSE)","v":47},{"$f":"VLOOKUP(WAVA!AT74,'Points Lookup'!$A:$B,2,FALSE)","v":39},{"$f":"VLOOKUP(WAVA!AU74,'Points Lookup'!$A:$B,2,FALSE)","v":43},{"$f":"VLOOKUP(WAVA!AV74,'Points Lookup'!$A:$B,2,FALSE)","v":0},{"$f":"VLOOKUP(WAVA!AW74,'Points Lookup'!$A:$B,2,FALSE)","v":47},null,48,47,47,47,46,46,44,44]
[1,{"$f":"WAVA!C75","v":"Stuart Dunbar"},{"$f":"IF(ISBLANK(WAVA!F75),\"\",WAVA!F75)","v":"Premier"},400,{"$f":"VLOOKUP(WAVA!AC75,'Points Lookup'!$A:$B,2,FALSE)","v":0},{"$f":"VLOOKUP(WAVA!AD75,'Points Lookup'!$A:$B,2,FALSE)","v":50},{"$f":"VLOOKUP(WAVA!AE75,'Points Lookup'!$A:$B,2,FALSE)","v":0},{"$f":"VLOOKUP(WAVA!AF75,'Points Lookup'!$A:$B,2,FALSE)","v":49},{"$f":"VLOOKUP(WAVA!AG75,'Points Lookup'!$A:$B,2,FALSE)","v":0},{"$f":"VLOOKUP(WAVA!AH75,'Points Lookup'!$A:$B,2,FALSE)","v":0},{"$f":"VLOOKUP(WAVA!AI75,'Points Lookup'!$A:$B,2,FALSE)","v":50},{"$f":"VLOOKUP(WAVA!AJ75,'Points Lookup'!$A:$B,2,FALSE)","v":0},{"$f":"VLOOKUP(WAVA!AK75,'Points Lookup'!$A:$B,2,FALSE)","v":0},{"$f":"VLOOKUP(WAVA!AL75,'Points Lookup'!$A:$B,2,FALSE)","v":50},{"$f":"VLOOKUP(WAVA!AM75,'Points Lookup'!$A:$B,2,FALSE)","v":50},{"$f":"VLOOKUP(WAVA!AN75,'Points Lookup'!$A:$B,2,FALSE)","v":50},{"$f":"VLOOKUP(WAVA!AO75,'Points Lookup'!$A:$B,2,FALSE)","v":0},{"$f":"VLOOKUP(WAVA!AP75,'Points Lookup'!$A:$B,2,FALSE)","v":0},{"$f":"VLOOKUP(WAVA!AQ75,'Points Lookup'!$A:$B,2,FALSE)","v":0},{"$f":"VLOOKUP(WAVA!AR75,'Points Lookup'!$A:$B,2,FALSE)","v":50},{"$f":"VLOOKUP(WAVA!AS75,'Points Lookup'!$A:$B,2,FALSE)","v":0},{"$f":"VLOOKUP(WAVA!AT75,'Points Lookup'!$A:$B,2,FALSE)","v":50},{"$f":"VLOOKUP(WAVA!AU75,'Points Lookup'!$A:$B,2,FALSE)","v":50},{"$f":"VLOOKUP(WAVA!AV75,'Points Lookup'!$A:$B,2,FALSE)","v":0},{"$f":"VLOOKUP(WAVA!AW75,'Points Lookup'!$A:$B,2,FALSE)","v":0},null,50,50,50,50,50,50,50,50]
[113,{"$f":"WAVA!C76","v":"Lee  East"},{"$f":"IF(ISBLANK(WAVA!F76),\"\",WAVA!F76)","v":"Second"},0,{"$f":"VLOOKUP(WAVA!AC76,'Points Lookup'!$A:$B,2,FALSE)","v":0},{"$f":"VLOOKUP(WAVA!AD76,'Points Lookup'!$A:$B,2,FALSE)","v":0},{"$f":"VLOOKUP(WAVA!AE76,'Points Lookup'!$A:$B,2,FALSE)","v":0},{"$f":"VLOOKUP(WAVA!AF76,'Points Lookup'!$A:$B,2,FALSE)","v":0},{"$f":"VLOOKUP(WAVA!AG76,'Points Lookup'!$A:$B,2,FALSE)","v":0},{"$f":"VLOOKUP(WAVA!AH76,'Points Lookup'!$A:$B,2,FALSE)","v":0},{"$f":"VLOOKUP(WAVA!AI76,'Points Lookup'!$A:$B,2,FALSE)","v":0},{"$f":"VLOOKUP(WAVA!AJ76,'Points Lookup'!$A:$B,2,FALSE)","v":0},{"$f":"VLOOKUP(WAVA!AK76,'Points Lookup'!$A:$B,2,FALSE)","v":0},{"$f":"VLOOKUP(WAVA!AL76,'Points Lookup'!$A:$B,2,FALSE)","v":0},{"$f":"VLOOKUP(WAVA!AM76,'Points Lookup'!$A:$B,2,FALSE)","v":0},{"$f":"VLOOKUP(WAVA!AN76,'Points Lookup'!$A:$B,2,FALSE)","v":0},{"$f":"VLOOKUP(WAVA!AO76,'Points Lookup'!$A:$B,2,FALSE)","v":0},{"$f":"VLOOKUP(WAVA!AP76,'Points Lookup'!$A:$B,2,FALSE)","v":0},{"$f":"VLOOKUP(WAVA!AQ76,'Points Lookup'!$A:$B,2,FALSE)","v":0},{"$f":"VLOOKUP(WAVA!AR76,'Points Lookup'!$A:$B,2,FALSE)","v":0},{"$f":"VLOOKUP(WAVA!AS76,'Points Lookup'!$A:$B,2,FALSE)","v":0},{"$f":"VLOOKUP(WAVA!AT76,'Points Lookup'!$A:$B,2,FALSE)","v":0},{"$f":"VLOOKUP(WAVA!AU76,'Points Lookup'!$A:$B,2,FALSE)","v":0},{"$f":"VLOOKUP(WAVA!AV76,'Points Lookup'!$A:$B,2,FALSE)","v":0},{"$f":"VLOOKUP(WAVA!AW76,'Points Lookup'!$A:$B,2,FALSE)","v":0},null,0,0,0,0,0,0,0,0]
[27,{"$f":"WAVA!C77","v":"Craig Elliott"},{"$f":"IF(ISBLANK(WAVA!F77),\"\",WAVA!F77)","v":"Second"},228,{"$f":"VLOOKUP(WAVA!AC77,'Points Lookup'!$A:$B,2,FALSE)","v":0},{"$f":"VLOOKUP(WAVA!AD77,'Points Lookup'!$A:$B,2,FALSE)","v":42},{"$f":"VLOOKUP(WAVA!AE77,'Points Lookup'!$A:$B,2,FALSE)","v":0},{"$f":"VLOOKUP(WAVA!AF77,'Points Lookup'!$A:$B,2,FALSE)","v":0},{"$f":"VLOOKUP(WAVA!AG77,'Points Lookup'!$A:$B,2,FALSE)","v":0},{"$f":"VLOOKUP(WAVA!AH77,'Points Lookup'!$A:$B,2,FALSE)","v":0},{"$f":"VLOOKUP(WAVA!AI77,'Points Lookup'!$A:$B,2,FALSE)","v":0},{"$f":"VLOOKUP(WAVA!AJ77,'Points Lookup'!$A:$B,2,FALSE)","v":0},{"$f":"VLOOKUP(WAVA!AK77,'Points Lookup'!$A:$B,2,FALSE)","v":46},{"$f":"VLOOKUP(WAVA!AL77,'Points Lookup'!$A:$B,2,FALSE)","v":0},{"$f":"VLOOKUP(WAVA!AM77,'Points Lookup'!$A:$B,2,FALSE)","v":49},{"$f":"VLOOKUP(WAVA!AN77,'Points Lookup'!$A:$B,2,FALSE)","v":0},{"$f":"VLOOKUP(WAVA!AO77,'Points Lookup'!$A:$B,2,FALSE)","v":0},{"$f":"VLOOKUP(WAVA!AP77,'Points Lookup'!$A:$B,2,FALSE)","v":0},{"$f":"VLOOKUP(WAVA!AQ77,'Points Lookup'!$A:$B,2,FALSE)","v":45},{"$f":"VLOOKUP(WAVA!AR77,'Points Lookup'!$A:$B,2,FALSE)","v":0},{"$f":"VLOOKUP(WAVA!AS77,'Points Lookup'!$A:$B,2,FALSE)","v":0},{"$f":"VLOOKUP(WAVA!AT77,'Points Lookup'!$A:$B,2,FALSE)","v":0},{"$f":"VLOOKUP(WAVA!AU77,'Points Lookup'!$A:$B,2,FALSE)","v":0},{"$f":"VLOOKUP(WAVA!AV77,'Points Lookup'!$A:$B,2,FALSE)","v":0},{"$f":"VLOOKUP(WAVA!AW77,'Points Lookup'!$A:$B,2,FALSE)","v":46},null,49,46,46,45,42,0,0,0]
[49,{"$f":"WAVA!C78","v":"Hannah Elliott"},{"$f":"IF(ISBLANK(WAVA!F78),\"\",WAVA!F78)","v":"Second"},98,{"$f":"VLOOKUP(WAVA!AC78,'Points Lookup'!$A:$B,2,FALSE)","v":0},{"$f":"VLOOKUP(WAVA!AD78,'Points Lookup'!$A:$B,2,FALSE)","v":0},{"$f":"VLOOKUP(WAVA!AE78,'Points Lookup'!$A:$B,2,FALSE)","v":0},{"$f":"VLOOKUP(WAVA!AF78,'Points Lookup'!$A:$B,2,FALSE)","v":0},{"$f":"VLOOKUP(WAVA!AG78,'Points Lookup'!$A:$B,2,FALSE)","v":49},{"$f":"VLOOKUP(WAVA!AH78,'Points Lookup'!$A:$B,2,FALSE)","v":49},{"$f":"VLOOKUP(WAVA!AI78,'Points Lookup'!$A:$B,2,FALSE)","v":0},{"$f":"VLOOKUP(WAVA!AJ78,'Points Lookup'!$A:$B,2,FALSE)","v":0},{"$f":"VLOOKUP(WAVA!AK78,'Points Lookup'!$A:$B,2,FALSE)","v":0},{"$f":"VLOOKUP(WAVA!AL78,'Points Lookup'!$A:$B,2,FALSE)","v":0},{"$f":"VLOOKUP(WAVA!AM78,'Points Lookup'!$A:$B,2,FALSE)","v":0},{"$f":"VLOOKUP(WAVA!AN78,'Points Lookup'!$A:$B,2,FALSE)","v":0},{"$f":"VLOOKUP(WAVA!AO78,'Points Lookup'!$A:$B,2,FALSE)","v":0},{"$f":"VLOOKUP(WAVA!AP78,'Points Lookup'!$A:$B,2,FALSE)","v":0},{"$f":"VLOOKUP(WAVA!AQ78,'Points Lookup'!$A:$B,2,FALSE)","v":0},{"$f":"VLOOKUP(WAVA!AR78,'Points Lookup'!$A:$B,2,FALSE)","v":0},{"$f":"VLOOKUP(WAVA!AS78,'Points Lookup'!$A:$B,2,FALSE)","v":0},{"$f":"VLOOKUP(WAVA!AT78,'Points Lookup'!$A:$B,2,FALSE)","v":0},{"$f":"VLOOKUP(WAVA!AU78,'Points Lookup'!$A:$B,2,FALSE)","v":0},{"$f":"VLOOKUP(WAVA!AV78,'Points Lookup'!$A:$B,2,FALSE)","v":0},{"$f":"VLOOKUP(WAVA!AW78,'Points Lookup'!$A:$B,2,FALSE)","v":0},null,49,49,0,0,0,0,0,0]
[102,{"$f":"WAVA!C79","v":"Natalie Ellis"},{"$f":"IF(ISBLANK(WAVA!F79),\"\",WAVA!F79)","v":"Second"},37,{"$f":"VLOOKUP(WAVA!AC79,'Points Lookup'!$A:$B,2,FALSE)","v":0},{"$f":"VLOOKUP(WAVA!AD79,'Points Lookup'!$A:$B,2,FALSE)","v":0},{"$f":"VLOOKUP(WAVA!AE79,'Points Lookup'!$A:$B,2,FALSE)","v":0},{"$f":"VLOOKUP(WAVA!AF79,'Points Lookup'!$A:$B,2,FALSE)","v":0},{"$f":"VLOOKUP(WAVA!AG79,'Points Lookup'!$A:$B,2,FALSE)","v":0},{"$f":"VLOOKUP(WAVA!AH79,'Points Lookup'!$A:$B,2,FALSE)","v":0},{"$f":"VLOOKUP(WAVA!AI79,'Points Lookup'!$A:$B,2,FALSE)","v":0},{"$f":"VLOOKUP(WAVA!AJ79,'Points Lookup'!$A:$B,2,FALSE)","v":0},{"$f":"VLOOKUP(WAVA!AK79,'Points Lookup'!$A:$B,2,FALSE)","v":0},{"$f":"VLOOKUP(WAVA!AL79,'Points Lookup'!$A:$B,2,FALSE)","v":0},{"$f":"VLOOKUP(WAVA!AM79,'Points Lookup'!$A:$B,2,FALSE)","v":0},{"$f":"VLOOKUP(WAVA!AN79,'Points Lookup'!$A:$B,2,FALSE)","v":37},{"$f":"VLOOKUP(WAVA!AO79,'Points Lookup'!$A:$B,2,FALSE)","v":0},{"$f":"VLOOKUP(WAVA!AP79,'Points Lookup'!$A:$B,2,FALSE)","v":0},{"$f":"VLOOKUP(WAVA!AQ79,'Points Lookup'!$A:$B,2,FALSE)","v":0},{"$f":"VLOOKUP(WAVA!AR79,'Points Lookup'!$A:$B,2,FALSE)","v":0},{"$f":"VLOOKUP(WAVA!AS79,'Points Lookup'!$A:$B,2,FALSE)","v":0},{"$f":"VLOOKUP(WAVA!AT79,'Points Lookup'!$A:$B,2,FALSE)","v":0},{"$f":"VLOOKUP(WAVA!AU79,'Points Lookup'!$A:$B,2,FALSE)","v":0},{"$f":"VLOOKUP(WAVA!AV79,'Points Lookup'!$A:$B,2,FALSE)","v":0},{"$f":"VLOOKUP(WAVA!AW79,'Points Lookup'!$A:$B,2,FALSE)","v":0},null,37,0,0,0,0,0,0,0]
[113,{"$f":"WAVA!C80","v":"Michelle Eyres"},{"$f":"IF(ISBLANK(WAVA!F80),\"\",WAVA!F80)","v":"Second"},0,{"$f":"VLOOKUP(WAVA!AC80,'Points Lookup'!$A:$B,2,FALSE)","v":0},{"$f":"VLOOKUP(WAVA!AD80,'Points Lookup'!$A:$B,2,FALSE)","v":0},{"$f":"VLOOKUP(WAVA!AE80,'Points Lookup'!$A:$B,2,FALSE)","v":0},{"$f":"VLOOKUP(WAVA!AF80,'Points Lookup'!$A:$B,2,FALSE)","v":0},{"$f":"VLOOKUP(WAVA!AG80,'Points Lookup'!$A:$B,2,FALSE)","v":0},{"$f":"VLOOKUP(WAVA!AH80,'Points Lookup'!$A:$B,2,FALSE)","v":0},{"$f":"VLOOKUP(WAVA!AI80,'Points Lookup'!$A:$B,2,FALSE)","v":0},{"$f":"VLOOKUP(WAVA!AJ80,'Points Lookup'!$A:$B,2,FALSE)","v":0},{"$f":"VLOOKUP(WAVA!AK80,'Points Lookup'!$A:$B,2,FALSE)","v":0},{"$f":"VLOOKUP(WAVA!AL80,'Points Lookup'!$A:$B,2,FALSE)","v":0},{"$f":"VLOOKUP(WAVA!AM80,'Points Lookup'!$A:$B,2,FALSE)","v":0},{"$f":"VLOOKUP(WAVA!AN80,'Points Lookup'!$A:$B,2,FALSE)","v":0},{"$f":"VLOOKUP(WAVA!AO80,'Points Lookup'!$A:$B,2,FALSE)","v":0},{"$f":"VLOOKUP(WAVA!AP80,'Points Lookup'!$A:$B,2,FALSE)","v":0},{"$f":"VLOOKUP(WAVA!AQ80,'Points Lookup'!$A:$B,2,FALSE)","v":0},{"$f":"VLOOKUP(WAVA!AR80,'Points Lookup'!$A:$B,2,FALSE)","v":0},{"$f":"VLOOKUP(WAVA!AS80,'Points Lookup'!$A:$B,2,FALSE)","v":0},{"$f":"VLOOKUP(WAVA!AT80,'Points Lookup'!$A:$B,2,FALSE)","v":0},{"$f":"VLOOKUP(WAVA!AU80,'Points Lookup'!$A:$B,2,FALSE)","v":0},{"$f":"VLOOKUP(WAVA!AV80,'Points Lookup'!$A:$B,2,FALSE)","v":0},{"$f":"VLOOKUP(WAVA!AW80,'Points Lookup'!$A:$B,2,FALSE)","v":0},null,0,0,0,0,0,0,0,0]
[30,{"$f":"WAVA!C81","v":"Fiona Farquhar"},{"$f":"IF(ISBLANK(WAVA!F81),\"\",WAVA!F81)","v":"Premier"},201,{"$f":"VLOOKUP(WAVA!AC81,'Points Lookup'!$A:$B,2,FALSE)","v":34},{"$f":"VLOOKUP(WAVA!AD81,'Points Lookup'!$A:$B,2,FALSE)","v":0},{"$f":"VLOOKUP(WAVA!AE81,'Points Lookup'!$A:$B,2,FALSE)","v":46},{"$f":"VLOOKUP(WAVA!AF81,'Points Lookup'!$A:$B,2,FALSE)","v":0},{"$f":"VLOOKUP(WAVA!AG81,'Points Lookup'!$A:$B,2,FALSE)","v":0},{"$f":"VLOOKUP(WAVA!AH81,'Points Lookup'!$A:$B,2,FALSE)","v":0},{"$f":"VLOOKUP(WAVA!AI81,'Points Lookup'!$A:$B,2,FALSE)","v":0},{"$f":"VLOOKUP(WAVA!AJ81,'Points Lookup'!$A:$B,2,FALSE)","v":42},{"$f":"VLOOKUP(WAVA!AK81,'Points Lookup'!$A:$B,2,FALSE)","v":44},{"$f":"VLOOKUP(WAVA!AL81,'Points Lookup'!$A:$B,2,FALSE)","v":0},{"$f":"VLOOKUP(WAVA!AM81,'Points Lookup'!$A:$B,2,FALSE)","v":0},{"$f":"VLOOKUP(WAVA!AN81,'Points Lookup'!$A:$B,2,FALSE)","v":35},{"$f":"VLOOKUP(WAVA!AO81,'Points Lookup'!$A:$B,2,FALSE)","v":0},{"$f":"VLOOKUP(WAVA!AP81,'Points Lookup'!$A:$B,2,FALSE)","v":0},{"$f":"VLOOKUP(WAVA!AQ81,'Points Lookup'!$A:$B,2,FALSE)","v":0},{"$f":"VLOOKUP(WAVA!AR81,'Points Lookup'!$A:$B,2,FALSE)","v":0},{"$f":"VLOOKUP(WAVA!AS81,'Points Lookup'!$A:$B,2,FALSE)","v":0},{"$f":"VLOOKUP(WAVA!AT81,'Points Lookup'!$A:$B,2,FALSE)","v":0},{"$f":"VLOOKUP(WAVA!AU81,'Points Lookup'!$A:$B,2,FALSE)","v":0},{"$f":"VLOOKUP(WAVA!AV81,'Points Lookup'!$A:$B,2,FALSE)","v":0},{"$f":"VLOOKUP(WAVA!AW81,'Points Lookup'!$A:$B,2,FALSE)","v":0},null,46,44,42,35,34,0,0,0]
[4,{"$f":"WAVA!C82","v":"Martin Fillingham"},{"$f":"IF(ISBLANK(WAVA!F82),\"\",WAVA!F82)","v":"Premier"},391,{"$f":"VLOOKUP(WAVA!AC82,'Points Lookup'!$A:$B,2,FALSE)","v":0},{"$f":"VLOOKUP(WAVA!AD82,'Points Lookup'!$A:$B,2,FALSE)","v":48},{"$f":"VLOOKUP(WAVA!AE82,'Points Lookup'!$A:$B,2,FALSE)","v":50},{"$f":"VLOOKUP(WAVA!AF82,'Points Lookup'!$A:$B,2,FALSE)","v":48},{"$f":"VLOOKUP(WAVA!AG82,'Points Lookup'!$A:$B,2,FALSE)","v":49},{"$f":"VLOOKUP(WAVA!AH82,'Points Lookup'!$A:$B,2,FALSE)","v":0},{"$f":"VLOOKUP(WAVA!AI82,'Points Lookup'!$A:$B,2,FALSE)","v":0},{"$f":"VLOOKUP(WAVA!AJ82,'Points Lookup'!$A:$B,2,FALSE)","v":0},{"$f":"VLOOKUP(WAVA!AK82,'Points Lookup'!$A:$B,2,FALSE)","v":0},{"$f":"VLOOKUP(WAVA!AL82,'Points Lookup'!$A:$B,2,FALSE)","v":0},{"$f":"VLOOKUP(WAVA!AM82,'Points Lookup'!$A:$B,2,FALSE)","v":0},{"$f":"VLOOKUP(WAVA!AN82,'Points Lookup'!$A:$B,2,FALSE)","v":48},{"$f":"VLOOKUP(WAVA!AO82,'Points Lookup'!$A:$B,2,FALSE)","v":0},{"$f":"VLOOKUP(WAVA!AP82,'Points Lookup'!$A:$B,2,FALSE)","v":0},{"$f":"VLOOKUP(WAVA!AQ82,'Points Lookup'!$A:$B,2,FALSE)","v":49},{"$f":"VLOOKUP(WAVA!AR82,'Points Lookup'!$A:$B,2,FALSE)","v":0},{"$f":"VLOOKUP(WAVA!AS82,'Points Lookup'!$A:$B,2,FALSE)","v":0},{"$f":"VLOOKUP(WAVA!AT82,'Points Lookup'!$A:$B,2,FALSE)","v":49},{"$f":"VLOOKUP(WAVA!AU82,'Points Lookup'!$A:$B,2,FALSE)","v":0},{"$f":"VLOOKUP(WAVA!AV82,'Points Lookup'!$A:$B,2,FALSE)","v":50},{"$f":"VLOOKUP(WAVA!AW82,'Points Lookup'!$A:$B,2,FALSE)","v":0},null,50,50,49,49,49,48,48,48]
[113,{"$f":"WAVA!C83","v":"Julie Firth"},{"$f":"IF(ISBLANK(WAVA!F83),\"\",WAVA!F83)","v":"Premier"},0,{"$f":"VLOOKUP(WAVA!AC83,'Points Lookup'!$A:$B,2,FALSE)","v":0},{"$f":"VLOOKUP(WAVA!AD83,'Points Lookup'!$A:$B,2,FALSE)","v":0},{"$f":"VLOOKUP(WAVA!AE83,'Points Lookup'!$A:$B,2,FALSE)","v":0},{"$f":"VLOOKUP(WAVA!AF83,'Points Lookup'!$A:$B,2,FALSE)","v":0},{"$f":"VLOOKUP(WAVA!AG83,'Points Lookup'!$A:$B,2,FALSE)","v":0},{"$f":"VLOOKUP(WAVA!AH83,'Points Lookup'!$A:$B,2,FALSE)","v":0},{"$f":"VLOOKUP(WAVA!AI83,'Points Lookup'!$A:$B,2,FALSE)","v":0},{"$f":"VLOOKUP(WAVA!AJ83,'Points Lookup'!$A:$B,2,FALSE)","v":0},{"$f":"VLOOKUP(WAVA!AK83,'Points Lookup'!$A:$B,2,FALSE)","v":0},{"$f":"VLOOKUP(WAVA!AL83,'Points Lookup'!$A:$B,2,FALSE)","v":0},{"$f":"VLOOKUP(WAVA!AM83,'Points Lookup'!$A:$B,2,FALSE)","v":0},{"$f":"VLOOKUP(WAVA!AN83,'Points Lookup'!$A:$B,2,FALSE)","v":0},{"$f":"VLOOKUP(WAVA!AO83,'Points Lookup'!$A:$B,2,FALSE)","v":0},{"$f":"VLOOKUP(WAVA!AP83,'Points Lookup'!$A:$B,2,FALSE)","v":0},{"$f":"VLOOKUP(WAVA!AQ83,'Points Lookup'!$A:$B,2,FALSE)","v":0},{"$f":"VLOOKUP(WAVA!AR83,'Points Lookup'!$A:$B,2,FALSE)","v":0},{"$f":"VLOOKUP(WAVA!AS83,'Points Lookup'!$A:$B,2,FALSE)","v":0},{"$f":"VLOOKUP(WAVA!AT83,'Points Lookup'!$A:$B,2,FALSE)","v":0},{"$f":"VLOOKUP(WAVA!AU83,'Points Lookup'!$A:$B,2,FALSE)","v":0},{"$f":"VLOOKUP(WAVA!AV83,'Points Lookup'!$A:$B,2,FALSE)","v":0},{"$f":"VLOOKUP(WAVA!AW83,'Points Lookup'!$A:$B,2,FALSE)","v":0},null,{"$f":"LARGE($E82:$Y82,AA$1)","v":0},0,0,0,0,0,0,0]
[44,{"$f":"WAVA!C84","v":"Clair Fitzpatrick"},{"$f":"IF(ISBLANK(WAVA!F84),\"\",WAVA!F84)","v":"First"},128,{"$f":"VLOOKUP(WAVA!AC84,'Points Lookup'!$A:$B,2,FALSE)","v":0},{"$f":"VLOOKUP(WAVA!AD84,'Points Lookup'!$A:$B,2,FALSE)","v":36},{"$f":"VLOOKUP(WAVA!AE84,'Points Lookup'!$A:$B,2,FALSE)","v":0},{"$f":"VLOOKUP(WAVA!AF84,'Points Lookup'!$A:$B,2,FALSE)","v":0},{"$f":"VLOOKUP(WAVA!AG84,'Points Lookup'!$A:$B,2,FALSE)","v":44},{"$f":"VLOOKUP(WAVA!AH84,'Points Lookup'!$A:$B,2,FALSE)","v":0},{"$f":"VLOOKUP(WAVA!AI84,'Points Lookup'!$A:$B,2,FALSE)","v":0},{"$f":"VLOOKUP(WAVA!AJ84,'Points Lookup'!$A:$B,2,FALSE)","v":0},{"$f":"VLOOKUP(WAVA!AK84,'Points Lookup'!$A:$B,2,FALSE)","v":0},{"$f":"VLOOKUP(WAVA!AL84,'Points Lookup'!$A:$B,2,FALSE)","v":0},{"$f":"VLOOKUP(WAVA!AM84,'Points Lookup'!$A:$B,2,FALSE)","v":0},{"$f":"VLOOKUP(WAVA!AN84,'Points Lookup'!$A:$B,2,FALSE)","v":0},{"$f":"VLOOKUP(WAVA!AO84,'Points Lookup'!$A:$B,2,FALSE)","v":0},{"$f":"VLOOKUP(WAVA!AP84,'Points Lookup'!$A:$B,2,FALSE)","v":0},{"$f":"VLOOKUP(WAVA!AQ84,'Points Lookup'!$A:$B,2,FALSE)","v":0},{"$f":"VLOOKUP(WAVA!AR84,'Points Lookup'!$A:$B,2,FALSE)","v":0},{"$f":"VLOOKUP(WAVA!AS84,'Points Lookup'!$A:$B,2,FALSE)","v":0},{"$f":"VLOOKUP(WAVA!AT84,'Points Lookup'!$A:$B,2,FALSE)","v":0},{"$f":"VLOOKUP(WAVA!AU84,'Points Lookup'!$A:$B,2,FALSE)","v":0},{"$f":"VLOOKUP(WAVA!AV84,'Points Lookup'!$A:$B,2,FALSE)","v":48},{"$f":"VLOOKUP(WAVA!AW84,'Points Lookup'!$A:$B,2,FALSE)","v":0},null,48,44,36,0,0,0,0,0]
[20,{"$f":"WAVA!C85","v":"Noel Fitzpatrick"},{"$f":"IF(ISBLANK(WAVA!F85),\"\",WAVA!F85)","v":"Premier"},257,{"$f":"VLOOKUP(WAVA!AC85,'Points Lookup'!$A:$B,2,FALSE)","v":0},{"$f":"VLOOKUP(WAVA!AD85,'Points Lookup'!$A:$B,2,FALSE)","v":41},{"$f":"VLOOKUP(WAVA!AE85,'Points Lookup'!$A:$B,2,FALSE)","v":0},{"$f":"VLOOKUP(WAVA!AF85,'Points Lookup'!$A:$B,2,FALSE)","v":0},{"$f":"VLOOKUP(WAVA!AG85,'Points Lookup'!$A:$B,2,FALSE)","v":40},{"$f":"VLOOKUP(WAVA!AH85,'Points Lookup'!$A:$B,2,FALSE)","v":0},{"$f":"VLOOKUP(WAVA!AI85,'Points Lookup'!$A:$B,2,FALSE)","v":0},{"$f":"VLOOKUP(WAVA!AJ85,'Points Lookup'!$A:$B,2,FALSE)","v":0},{"$f":"VLOOKUP(WAVA!AK85,'Points Lookup'!$A:$B,2,FALSE)","v":48},{"$f":"VLOOKUP(WAVA!AL85,'Points Lookup'!$A:$B,2,FALSE)","v":0},{"$f":"VLOOKUP(WAVA!AM85,'Points Lookup'!$A:$B,2,FALSE)","v":0},{"$f":"VLOOKUP(WAVA!AN85,'Points Lookup'!$A:$B,2,FALSE)","v":38},{"$f":"VLOOKUP(WAVA!AO85,'Points Lookup'!$A:$B,2,FALSE)","v":0},{"$f":"VLOOKUP(WAVA!AP85,'Points Lookup'!$A:$B,2,FALSE)","v":0},{"$f":"VLOOKUP(WAVA!AQ85,'Points Lookup'!$A:$B,2,FALSE)","v":0},{"$f":"VLOOKUP(WAVA!AR85,'Points Lookup'!$A:$B,2,FALSE)","v":0},{"$f":"VLOOKUP(WAVA!AS85,'Points Lookup'!$A:$B,2,FALSE)","v":0},{"$f":"VLOOKUP(WAVA!AT85,'Points Lookup'!$A:$B,2,FALSE)","v":42},{"$f":"VLOOKUP(WAVA!AU85,'Points Lookup'!$A:$B,2,FALSE)","v":0},{"$f":"VLOOKUP(WAVA!AV85,'Points Lookup'!$A:$B,2,FALSE)","v":48},{"$f":"VLOOKUP(WAVA!AW85,'Points Lookup'!$A:$B,2,FALSE)","v":0},null,48,48,42,41,40,38,0,0]
[70,{"$f":"WAVA!C86","v":"Harriet Fletcher"},{"$f":"IF(ISBLANK(WAVA!F86),\"\",WAVA!F86)","v":"Second"},78,{"$f":"VLOOKUP(WAVA!AC86,'Points Lookup'!$A:$B,2,FALSE)","v":0},{"$f":"VLOOKUP(WAVA!AD86,'Points Lookup'!$A:$B,2,FALSE)","v":0},{"$f":"VLOOKUP(WAVA!AE86,'Points Lookup'!$A:$B,2,FALSE)","v":0},{"$f":"VLOOKUP(WAVA!AF86,'Points Lookup'!$A:$B,2,FALSE)","v":0},{"$f":"VLOOKUP(WAVA!AG86,'Points Lookup'!$A:$B,2,FALSE)","v":0},{"$f":"VLOOKUP(WAVA!AH86,'Points Lookup'!$A:$B,2,FALSE)","v":0},{"$f":"VLOOKUP(WAVA!AI86,'Points Lookup'!$A:$B,2,FALSE)","v":0},{"$f":"VLOOKUP(WAVA!AJ86,'Points Lookup'!$A:$B,2,FALSE)","v":0},{"$f":"VLOOKUP(WAVA!AK86,'Points Lookup'!$A:$B,2,FALSE)","v":0},{"$f":"VLOOKUP(WAVA!AL86,'Points Lookup'!$A:$B,2,FALSE)","v":0},{"$f":"VLOOKUP(WAVA!AM86,'Points Lookup'!$A:$B,2,FALSE)","v":0},{"$f":"VLOOKUP(WAVA!AN86,'Points Lookup'!$A:$B,2,FALSE)","v":0},{"$f":"VLOOKUP(WAVA!AO86,'Points Lookup'!$A:$B,2,FALSE)","v":0},{"$f":"VLOOKUP(WAVA!AP86,'Points Lookup'!$A:$B,2,FALSE)","v":0},{"$f":"VLOOKUP(WAVA!AQ86,'Points Lookup'!$A:$B,2,FALSE)","v":42},{"$f":"VLOOKUP(WAVA!AR86,'Points Lookup'!$A:$B,2,FALSE)","v":0},{"$f":"VLOOKUP(WAVA!AS86,'Points Lookup'!$A:$B,2,FALSE)","v":0},{"$f":"VLOOKUP(WAVA!AT86,'Points Lookup'!$A:$B,2,FALSE)","v":0},{"$f":"VLOOKUP(WAVA!AU86,'Points Lookup'!$A:$B,2,FALSE)","v":0},{"$f":"VLOOKUP(WAVA!AV86,'Points Lookup'!$A:$B,2,FALSE)","v":36},{"$f":"VLOOKUP(WAVA!AW86,'Points Lookup'!$A:$B,2,FALSE)","v":0},null,42,36,0,0,0,0,0,0]
[109,{"$f":"WAVA!C87","v":"Anne Forster"},{"$f":"IF(ISBLANK(WAVA!F87),\"\",WAVA!F87)","v":"Second"},33,{"$f":"VLOOKUP(WAVA!AC87,'Points Lookup'!$A:$B,2,FALSE)","v":0},{"$f":"VLOOKUP(WAVA!AD87,'Points Lookup'!$A:$B,2,FALSE)","v":0},{"$f":"VLOOKUP(WAVA!AE87,'Points Lookup'!$A:$B,2,FALSE)","v":0},{"$f":"VLOOKUP(WAVA!AF87,'Points Lookup'!$A:$B,2,FALSE)","v":0},{"$f":"VLOOKUP(WAVA!AG87,'Points Lookup'!$A:$B,2,FALSE)","v":0},{"$f":"VLOOKUP(WAVA!AH87,'Points Lookup'!$A:$B,2,FALSE)","v":0},{"$f":"VLOOKUP(WAVA!AI87,'Points Lookup'!$A:$B,2,FALSE)","v":0},{"$f":"VLOOKUP(WAVA!AJ87,'Points Lookup'!$A:$B,2,FALSE)","v":0},{"$f":"VLOOKUP(WAVA!AK87,'Points Lookup'!$A:$B,2,FALSE)","v":0},{"$f":"VLOOKUP(WAVA!AL87,'Points Lookup'!$A:$B,2,FALSE)","v":0},{"$f":"VLOOKUP(WAVA!AM87,'Points Lookup'!$A:$B,2,FALSE)","v":0},{"$f":"VLOOKUP(WAVA!AN87,'Points Lookup'!$A:$B,2,FALSE)","v":0},{"$f":"VLOOKUP(WAVA!AO87,'Points Lookup'!$A:$B,2,FALSE)","v":0},{"$f":"VLOOKUP(WAVA!AP87,'Points Lookup'!$A:$B,2,FALSE)","v":0},{"$f":"VLOOKUP(WAVA!AQ87,'Points Lookup'!$A:$B,2,FALSE)","v":0},{"$f":"VLOOKUP(WAVA!AR87,'Points Lookup'!$A:$B,2,FALSE)","v":0},{"$f":"VLOOKUP(WAVA!AS87,'Points Lookup'!$A:$B,2,FALSE)","v":0},{"$f":"VLOOKUP(WAVA!AT87,'Points Lookup'!$A:$B,2,FALSE)","v":0},{"$f":"VLOOKUP(WAVA!AU87,'Points Lookup'!$A:$B,2,FALSE)","v":0},{"$f":"VLOOKUP(WAVA!AV87,'Points Lookup'!$A:$B,2,FALSE)","v":33},{"$f":"VLOOKUP(WAVA!AW87,'Points Lookup'!$A:$B,2,FALSE)","v":0},null,33,0,0,0,0,0,0,0]
[86,{"$f":"WAVA!C88","v":"Timothy Forster"},{"$f":"IF(ISBLANK(WAVA!F88),\"\",WAVA!F88)","v":"Second"},49,{"$f":"VLOOKUP(WAVA!AC88,'Points Lookup'!$A:$B,2,FALSE)","v":0},{"$f":"VLOOKUP(WAVA!AD88,'Points Lookup'!$A:$B,2,FALSE)","v":0},{"$f":"VLOOKUP(WAVA!AE88,'Points Lookup'!$A:$B,2,FALSE)","v":0},{"$f":"VLOOKUP(WAVA!AF88,'Points Lookup'!$A:$B,2,FALSE)","v":0},{"$f":"VLOOKUP(WAVA!AG88,'Points Lookup'!$A:$B,2,FALSE)","v":0},{"$f":"VLOOKUP(WAVA!AH88,'Points Lookup'!$A:$B,2,FALSE)","v":0},{"$f":"VLOOKUP(WAVA!AI88,'Points Lookup'!$A:$B,2,FALSE)","v":0},{"$f":"VLOOKUP(WAVA!AJ88,'Points Lookup'!$A:$B,2,FALSE)","v":0},{"$f":"VLOOKUP(WAVA!AK88,'Points Lookup'!$A:$B,2,FALSE)","v":0},{"$f":"VLOOKUP(WAVA!AL88,'Points Lookup'!$A:$B,2,FALSE)","v":0},{"$f":"VLOOKUP(WAVA!AM88,'Points Lookup'!$A:$B,2,FALSE)","v":0},{"$f":"VLOOKUP(WAVA!AN88,'Points Lookup'!$A:$B,2,FALSE)","v":0},{"$f":"VLOOKUP(WAVA!AO88,'Points Lookup'!$A:$B,2,FALSE)","v":0},{"$f":"VLOOKUP(WAVA!AP88,'Points Lookup'!$A:$B,2,FALSE)","v":0},{"$f":"VLOOKUP(WAVA!AQ88,'Points Lookup'!$A:$B,2,FALSE)","v":0},{"$f":"VLOOKUP(WAVA!AR88,'Points Lookup'!$A:$B,2,FALSE)","v":0},{"$f":"VLOOKUP(WAVA!AS88,'Points Lookup'!$A:$B,2,FALSE)","v":0},{"$f":"VLOOKUP(WAVA!AT88,'Points Lookup'!$A:$B,2,FALSE)","v":0},{"$f":"VLOOKUP(WAVA!AU88,'Points Lookup'!$A:$B,2,FALSE)","v":0},{"$f":"VLOOKUP(WAVA!AV88,'Points Lookup'!$A:$B,2,FALSE)","v":0},{"$f":"VLOOKUP(WAVA!AW88,'Points Lookup'!$A:$B,2,FALSE)","v":49},null,49,0,0,0,0,0,0,0]
[113,{"$f":"WAVA!C89","v":"Victoria Foster"},{"$f":"IF(ISBLANK(WAVA!F89),\"\",WAVA!F89)","v":"Second"},0,{"$f":"VLOOKUP(WAVA!AC89,'Points Lookup'!$A:$B,2,FALSE)","v":0},{"$f":"VLOOKUP(WAVA!AD89,'Points Lookup'!$A:$B,2,FALSE)","v":0},{"$f":"VLOOKUP(WAVA!AE89,'Points Lookup'!$A:$B,2,FALSE)","v":0},{"$f":"VLOOKUP(WAVA!AF89,'Points Lookup'!$A:$B,2,FALSE)","v":0},{"$f":"VLOOKUP(WAVA!AG89,'Points Lookup'!$A:$B,2,FALSE)","v":0},{"$f":"VLOOKUP(WAVA!AH89,'Points Lookup'!$A:$B,2,FALSE)","v":0},{"$f":"VLOOKUP(WAVA!AI89,'Points Lookup'!$A:$B,2,FALSE)","v":0},{"$f":"VLOOKUP(WAVA!AJ89,'Points Lookup'!$A:$B,2,FALSE)","v":0},{"$f":"VLOOKUP(WAVA!AK89,'Points Lookup'!$A:$B,2,FALSE)","v":0},{"$f":"VLOOKUP(WAVA!AL89,'Points Lookup'!$A:$B,2,FALSE)","v":0},{"$f":"VLOOKUP(WAVA!AM89,'Points Lookup'!$A:$B,2,FALSE)","v":0},{"$f":"VLOOKUP(WAVA!AN89,'Points Lookup'!$A:$B,2,FALSE)","v":0},{"$f":"VLOOKUP(WAVA!AO89,'Points Lookup'!$A:$B,2,FALSE)","v":0},{"$f":"VLOOKUP(WAVA!AP89,'Points Lookup'!$A:$B,2,FALSE)","v":0},{"$f":"VLOOKUP(WAVA!AQ89,'Points Lookup'!$A:$B,2,FALSE)","v":0},{"$f":"VLOOKUP(WAVA!AR89,'Points Lookup'!$A:$B,2,FALSE)","v":0},{"$f":"VLOOKUP(WAVA!AS89,'Points Lookup'!$A:$B,2,FALSE)","v":0},{"$f":"VLOOKUP(WAVA!AT89,'Points Lookup'!$A:$B,2,FALSE)","v":0},{"$f":"VLOOKUP(WAVA!AU89,'Points Lookup'!$A:$B,2,FALSE)","v":0},{"$f":"VLOOKUP(WAVA!AV89,'Points Lookup'!$A:$B,2,FALSE)","v":0},{"$f":"VLOOKUP(WAVA!AW89,'Points Lookup'!$A:$B,2,FALSE)","v":0},null,0,0,0,0,0,0,0,0]
[78,{"$f":"WAVA!C90","v":"Steven Fowler"},{"$f":"IF(ISBLANK(WAVA!F90),\"\",WAVA!F90)","v":"Second"},50,{"$f":"VLOOKUP(WAVA!AC90,'Points Lookup'!$A:$B,2,FALSE)","v":0},{"$f":"VLOOKUP(WAVA!AD90,'Points Lookup'!$A:$B,2,FALSE)","v":0},{"$f":"VLOOKUP(WAVA!AE90,'Points Lookup'!$A:$B,2,FALSE)","v":0},{"$f":"VLOOKUP(WAVA!AF90,'Points Lookup'!$A:$B,2,FALSE)","v":0},{"$f":"VLOOKUP(WAVA!AG90,'Points Lookup'!$A:$B,2,FALSE)","v":0},{"$f":"VLOOKUP(WAVA!AH90,'Points Lookup'!$A:$B,2,FALSE)","v":0},{"$f":"VLOOKUP(WAVA!AI90,'Points Lookup'!$A:$B,2,FALSE)","v":0},{"$f":"VLOOKUP(WAVA!AJ90,'Points Lookup'!$A:$B,2,FALSE)","v":0},{"$f":"VLOOKUP(WAVA!AK90,'Points Lookup'!$A:$B,2,FALSE)","v":0},{"$f":"VLOOKUP(WAVA!AL90,'Points Lookup'!$A:$B,2,FALSE)","v":0},{"$f":"VLOOKUP(WAVA!AM90,'Points Lookup'!$A:$B,2,FALSE)","v":0},{"$f":"VLOOKUP(WAVA!AN90,'Points Lookup'!$A:$B,2,FALSE)","v":0},{"$f":"VLOOKUP(WAVA!AO90,'Points Lookup'!$A:$B,2,FALSE)","v":0},{"$f":"VLOOKUP(WAVA!AP90,'Points Lookup'!$A:$B,2,FALSE)","v":0},{"$f":"VLOOKUP(WAVA!AQ90,'Points Lookup'!$A:$B,2,FALSE)","v":50},{"$f":"VLOOKUP(WAVA!AR90,'Points Lookup'!$A:$B,2,FALSE)","v":0},{"$f":"VLOOKUP(WAVA!AS90,'Points Lookup'!$A:$B,2,FALSE)","v":0},{"$f":"VLOOKUP(WAVA!AT90,'Points Lookup'!$A:$B,2,FALSE)","v":0},{"$f":"VLOOKUP(WAVA!AU90,'Points Lookup'!$A:$B,2,FALSE)","v":0},{"$f":"VLOOKUP(WAVA!AV90,'Points Lookup'!$A:$B,2,FALSE)","v":0},{"$f":"VLOOKUP(WAVA!AW90,'Points Lookup'!$A:$B,2,FALSE)","v":0},null,50,0,0,0,0,0,0,0]
[57,{"$f":"WAVA!C91","v":"Malcolm Foy"},{"$f":"IF(ISBLANK(WAVA!F91),\"\",WAVA!F91)","v":"Second"},94,{"$f":"VLOOKUP(WAVA!AC91,'Points Lookup'!$A:$B,2,FALSE)","v":0},{"$f":"VLOOKUP(WAVA!AD91,'Points Lookup'!$A:$B,2,FALSE)","v":0},{"$f":"VLOOKUP(WAVA!AE91,'Points Lookup'!$A:$B,2,FALSE)","v":0},{"$f":"VLOOKUP(WAVA!AF91,'Points Lookup'!$A:$B,2,FALSE)","v":0},{"$f":"VLOOKUP(WAVA!AG91,'Points Lookup'!$A:$B,2,FALSE)","v":0},{"$f":"VLOOKUP(WAVA!AH91,'Points Lookup'!$A:$B,2,FALSE)","v":0},{"$f":"VLOOKUP(WAVA!AI91,'Points Lookup'!$A:$B,2,FALSE)","v":47},{"$f":"VLOOKUP(WAVA!AJ91,'Points Lookup'!$A:$B,2,FALSE)","v":47},{"$f":"VLOOKUP(WAVA!AK91,'Points Lookup'!$A:$B,2,FALSE)","v":0},{"$f":"VLOOKUP(WAVA!AL91,'Points Lookup'!$A:$B,2,FALSE)","v":0},{"$f":"VLOOKUP(WAVA!AM91,'Points Lookup'!$A:$B,2,FALSE)","v":0},{"$f":"VLOOKUP(WAVA!AN91,'Points Lookup'!$A:$B,2,FALSE)","v":0},{"$f":"VLOOKUP(WAVA!AO91,'Points Lookup'!$A:$B,2,FALSE)","v":0},{"$f":"VLOOKUP(WAVA!AP91,'Points Lookup'!$A:$B,2,FALSE)","v":0},{"$f":"VLOOKUP(WAVA!AQ91,'Points Lookup'!$A:$B,2,FALSE)","v":0},{"$f":"VLOOKUP(WAVA!AR91,'Points Lookup'!$A:$B,2,FALSE)","v":0},{"$f":"VLOOKUP(WAVA!AS91,'Points Lookup'!$A:$B,2,FALSE)","v":0},{"$f":"VLOOKUP(WAVA!AT91,'Points Lookup'!$A:$B,2,FALSE)","v":0},{"$f":"VLOOKUP(WAVA!AU91,'Points Lookup'!$A:$B,2,FALSE)","v":0},{"$f":"VLOOKUP(WAVA!AV91,'Points Lookup'!$A:$B,2,FALSE)","v":0},{"$f":"VLOOKUP(WAVA!AW91,'Points Lookup'!$A:$B,2,FALSE)","v":0},null,47,47,0,0,0,0,0,0]
[10,{"$f":"WAVA!C92","v":"Tracy Foy"},{"$f":"IF(ISBLANK(WAVA!F92),\"\",WAVA!F92)","v":"Premier"},363,{"$f":"VLOOKUP(WAVA!AC92,'Points Lookup'!$A:$B,2,FALSE)","v":45},{"$f":"VLOOKUP(WAVA!AD92,'Points Lookup'!$A:$B,2,FALSE)","v":0},{"$f":"VLOOKUP(WAVA!AE92,'Points Lookup'!$A:$B,2,FALSE)","v":47},{"$f":"VLOOKUP(WAVA!AF92,'Points Lookup'!$A:$B,2,FALSE)","v":44},{"$f":"VLOOKUP(WAVA!AG92,'Points Lookup'!$A:$B,2,FALSE)","v":43},{"$f":"VLOOKUP(WAVA!AH92,'Points Lookup'!$A:$B,2,FALSE)","v":0},{"$f":"VLOOKUP(WAVA!AI92,'Points Lookup'!$A:$B,2,FALSE)","v":45},{"$f":"VLOOKUP(WAVA!AJ92,'Points Lookup'!$A:$B,2,FALSE)","v":46},{"$f":"VLOOKUP(WAVA!AK92,'Points Lookup'!$A:$B,2,FALSE)","v":49},{"$f":"VLOOKUP(WAVA!AL92,'Points Lookup'!$A:$B,2,FALSE)","v":0},{"$f":"VLOOKUP(WAVA!AM92,'Points Lookup'!$A:$B,2,FALSE)","v":0},{"$f":"VLOOKUP(WAVA!AN92,'Points Lookup'!$A:$B,2,FALSE)","v":44},{"$f":"VLOOKUP(WAVA!AO92,'Points Lookup'!$A:$B,2,FALSE)","v":0},{"$f":"VLOOKUP(WAVA!AP92,'Points Lookup'!$A:$B,2,FALSE)","v":0},{"$f":"VLOOKUP(WAVA!AQ92,'Points Lookup'!$A:$B,2,FALSE)","v":0},{"$f":"VLOOKUP(WAVA!AR92,'Points Lookup'!$A:$B,2,FALSE)","v":0},{"$f":"VLOOKUP(WAVA!AS92,'Points Lookup'!$A:$B,2,FALSE)","v":0},{"$f":"VLOOKUP(WAVA!AT92,'Points Lookup'!$A:$B,2,FALSE)","v":0},{"$f":"VLOOKUP(WAVA!AU92,'Points Lookup'!$A:$B,2,FALSE)","v":42},{"$f":"VLOOKUP(WAVA!AV92,'Points Lookup'!$A:$B,2,FALSE)","v":0},{"$f":"VLOOKUP(WAVA!AW92,'Points Lookup'!$A:$B,2,FALSE)","v":0},null,49,47,46,45,45,44,44,43]
[100,{"$f":"WAVA!C93","v":"Elaine Frazer"},{"$f":"IF(ISBLANK(WAVA!F93),\"\",WAVA!F93)","v":"Second"},40,{"$f":"VLOOKUP(WAVA!AC93,'Points Lookup'!$A:$B,2,FALSE)","v":0},{"$f":"VLOOKUP(WAVA!AD93,'Points Lookup'!$A:$B,2,FALSE)","v":0},{"$f":"VLOOKUP(WAVA!AE93,'Points Lookup'!$A:$B,2,FALSE)","v":0},{"$f":"VLOOKUP(WAVA!AF93,'Points Lookup'!$A:$B,2,FALSE)","v":0},{"$f":"VLOOKUP(WAVA!AG93,'Points Lookup'!$A:$B,2,FALSE)","v":40},{"$f":"VLOOKUP(WAVA!AH93,'Points Lookup'!$A:$B,2,FALSE)","v":0},{"$f":"VLOOKUP(WAVA!AI93,'Points Lookup'!$A:$B,2,FALSE)","v":0},{"$f":"VLOOKUP(WAVA!AJ93,'Points Lookup'!$A:$B,2,FALSE)","v":0},{"$f":"VLOOKUP(WAVA!AK93,'Points Lookup'!$A:$B,2,FALSE)","v":0},{"$f":"VLOOKUP(WAVA!AL93,'Points Lookup'!$A:$B,2,FALSE)","v":0},{"$f":"VLOOKUP(WAVA!AM93,'Points Lookup'!$A:$B,2,FALSE)","v":0},{"$f":"VLOOKUP(WAVA!AN93,'Points Lookup'!$A:$B,2,FALSE)","v":0},{"$f":"VLOOKUP(WAVA!AO93,'Points Lookup'!$A:$B,2,FALSE)","v":0},{"$f":"VLOOKUP(WAVA!AP93,'Points Lookup'!$A:$B,2,FALSE)","v":0},{"$f":"VLOOKUP(WAVA!AQ93,'Points Lookup'!$A:$B,2,FALSE)","v":0},{"$f":"VLOOKUP(WAVA!AR93,'Points Lookup'!$A:$B,2,FALSE)","v":0},{"$f":"VLOOKUP(WAVA!AS93,'Points Lookup'!$A:$B,2,FALSE)","v":0},{"$f":"VLOOKUP(WAVA!AT93,'Points Lookup'!$A:$B,2,FALSE)","v":0},{"$f":"VLOOKUP(WAVA!AU93,'Points Lookup'!$A:$B,2,FALSE)","v":0},{"$f":"VLOOKUP(WAVA!AV93,'Points Lookup'!$A:$B,2,FALSE)","v":0},{"$f":"VLOOKUP(WAVA!AW93,'Points Lookup'!$A:$B,2,FALSE)","v":0},null,{"$f":"LARGE($E92:$Y92,AA$1)","v":40},0,0,0,0,0,0,0]
[22,{"$f":"WAVA!C94","v":"Simon Frazer"},{"$f":"IF(ISBLANK(WAVA!F94),\"\",WAVA!F94)","v":"Premier"},241,{"$f":"VLOOKUP(WAVA!AC94,'Points Lookup'!$A:$B,2,FALSE)","v":0},{"$f":"VLOOKUP(WAVA!AD94,'Points Lookup'!$A:$B,2,FALSE)","v":47},{"$f":"VLOOKUP(WAVA!AE94,'Points Lookup'!$A:$B,2,FALSE)","v":0},{"$f":"VLOOKUP(WAVA!AF94,'Points Lookup'!$A:$B,2,FALSE)","v":0},{"$f":"VLOOKUP(WAVA!AG94,'Points Lookup'!$A:$B,2,FALSE)","v":46},{"$f":"VLOOKUP(WAVA!AH94,'Points Lookup'!$A:$B,2,FALSE)","v":0},{"$f":"VLOOKUP(WAVA!AI94,'Points Lookup'!$A:$B,2,FALSE)","v":0},{"$f":"VLOOKUP(WAVA!AJ94,'Points Lookup'!$A:$B,2,FALSE)","v":48},{"$f":"VLOOKUP(WAVA!AK94,'Points Lookup'!$A:$B,2,FALSE)","v":50},{"$f":"VLOOKUP(WAVA!AL94,'Points Lookup'!$A:$B,2,FALSE)","v":0},{"$f":"VLOOKUP(WAVA!AM94,'Points Lookup'!$A:$B,2,FALSE)","v":0},{"$f":"VLOOKUP(WAVA!AN94,'Points Lookup'!$A:$B,2,FALSE)","v":0},{"$f":"VLOOKUP(WAVA!AO94,'Points Lookup'!$A:$B,2,FALSE)","v":50},{"$f":"VLOOKUP(WAVA!AP94,'Points Lookup'!$A:$B,2,FALSE)","v":0},{"$f":"VLOOKUP(WAVA!AQ94,'Points Lookup'!$A:$B,2,FALSE)","v":0},{"$f":"VLOOKUP(WAVA!AR94,'Points Lookup'!$A:$B,2,FALSE)","v":0},{"$f":"VLOOKUP(WAVA!AS94,'Points Lookup'!$A:$B,2,FALSE)","v":0},{"$f":"VLOOKUP(WAVA!AT94,'Points Lookup'!$A:$B,2,FALSE)","v":0},{"$f":"VLOOKUP(WAVA!AU94,'Points Lookup'!$A:$B,2,FALSE)","v":0},{"$f":"VLOOKUP(WAVA!AV94,'Points Lookup'!$A:$B,2,FALSE)","v":0},{"$f":"VLOOKUP(WAVA!AW94,'Points Lookup'!$A:$B,2,FALSE)","v":0},null,50,50,48,47,46,0,0,0]
[65,{"$f":"WAVA!C95","v":"Simon Furlong"},{"$f":"IF(ISBLANK(WAVA!F95),\"\",WAVA!F95)","v":"Second"},85,{"$f":"VLOOKUP(WAVA!AC95,'Points Lookup'!$A:$B,2,FALSE)","v":0},{"$f":"VLOOKUP(WAVA!AD95,'Points Lookup'!$A:$B,2,FALSE)","v":44},{"$f":"VLOOKUP(WAVA!AE95,'Points Lookup'!$A:$B,2,FALSE)","v":0},{"$f":"VLOOKUP(WAVA!AF95,'Points Lookup'!$A:$B,2,FALSE)","v":0},{"$f":"VLOOKUP(WAVA!AG95,'Points Lookup'!$A:$B,2,FALSE)","v":41},{"$f":"VLOOKUP(WAVA!AH95,'Points Lookup'!$A:$B,2,FALSE)","v":0},{"$f":"VLOOKUP(WAVA!AI95,'Points Lookup'!$A:$B,2,FALSE)","v":0},{"$f":"VLOOKUP(WAVA!AJ95,'Points Lookup'!$A:$B,2,FALSE)","v":0},{"$f":"VLOOKUP(WAVA!AK95,'Points Lookup'!$A:$B,2,FALSE)","v":0},{"$f":"VLOOKUP(WAVA!AL95,'Points Lookup'!$A:$B,2,FALSE)","v":0},{"$f":"VLOOKUP(WAVA!AM95,'Points Lookup'!$A:$B,2,FALSE)","v":0},{"$f":"VLOOKUP(WAVA!AN95,'Points Lookup'!$A:$B,2,FALSE)","v":0},{"$f":"VLOOKUP(WAVA!AO95,'Points Lookup'!$A:$B,2,FALSE)","v":0},{"$f":"VLOOKUP(WAVA!AP95,'Points Lookup'!$A:$B,2,FALSE)","v":0},{"$f":"VLOOKUP(WAVA!AQ95,'Points Lookup'!$A:$B,2,FALSE)","v":0},{"$f":"VLOOKUP(WAVA!AR95,'Points Lookup'!$A:$B,2,FALSE)","v":0},{"$f":"VLOOKUP(WAVA!AS95,'Points Lookup'!$A:$B,2,FALSE)","v":0},{"$f":"VLOOKUP(WAVA!AT95,'Points Lookup'!$A:$B,2,FALSE)","v":0},{"$f":"VLOOKUP(WAVA!AU95,'Points Lookup'!$A:$B,2,FALSE)","v":0},{"$f":"VLOOKUP(WAVA!AV95,'Points Lookup'!$A:$B,2,FALSE)","v":0},{"$f":"VLOOKUP(WAVA!AW95,'Points Lookup'!$A:$B,2,FALSE)","v":0},null,44,41,0,0,0,0,0,0]
[42,{"$f":"WAVA!C96","v":"James Gardner"},{"$f":"IF(ISBLANK(WAVA!F96),\"\",WAVA!F96)","v":"Second"},139,{"$f":"VLOOKUP(WAVA!AC96,'Points Lookup'!$A:$B,2,FALSE)","v":0},{"$f":"VLOOKUP(WAVA!AD96,'Points Lookup'!$A:$B,2,FALSE)","v":0},{"$f":"VLOOKUP(WAVA!AE96,'Points Lookup'!$A:$B,2,FALSE)","v":48},{"$f":"VLOOKUP(WAVA!AF96,'Points Lookup'!$A:$B,2,FALSE)","v":0},{"$f":"VLOOKUP(WAVA!AG96,'Points Lookup'!$A:$B,2,FALSE)","v":0},{"$f":"VLOOKUP(WAVA!AH96,'Points Lookup'!$A:$B,2,FALSE)","v":0},{"$f":"VLOOKUP(WAVA!AI96,'Points Lookup'!$A:$B,2,FALSE)","v":0},{"$f":"VLOOKUP(WAVA!AJ96,'Points Lookup'!$A:$B,2,FALSE)","v":0},{"$f":"VLOOKUP(WAVA!AK96,'Points Lookup'!$A:$B,2,FALSE)","v":48},{"$f":"VLOOKUP(WAVA!AL96,'Points Lookup'!$A:$B,2,FALSE)","v":0},{"$f":"VLOOKUP(WAVA!AM96,'Points Lookup'!$A:$B,2,FALSE)","v":0},{"$f":"VLOOKUP(WAVA!AN96,'Points Lookup'!$A:$B,2,FALSE)","v":0},{"$f":"VLOOKUP(WAVA!AO96,'Points Lookup'!$A:$B,2,FALSE)","v":0},{"$f":"VLOOKUP(WAVA!AP96,'Points Lookup'!$A:$B,2,FALSE)","v":0},{"$f":"VLOOKUP(WAVA!AQ96,'Points Lookup'!$A:$B,2,FALSE)","v":43},{"$f":"VLOOKUP(WAVA!AR96,'Points Lookup'!$A:$B,2,FALSE)","v":0},{"$f":"VLOOKUP(WAVA!AS96,'Points Lookup'!$A:$B,2,FALSE)","v":0},{"$f":"VLOOKUP(WAVA!AT96,'Points Lookup'!$A:$B,2,FALSE)","v":0},{"$f":"VLOOKUP(WAVA!AU96,'Points Lookup'!$A:$B,2,FALSE)","v":0},{"$f":"VLOOKUP(WAVA!AV96,'Points Lookup'!$A:$B,2,FALSE)","v":0},{"$f":"VLOOKUP(WAVA!AW96,'Points Lookup'!$A:$B,2,FALSE)","v":0},null,48,48,43,0,0,0,0,0]
[6,{"$f":"WAVA!C97","v":"Ewan Gibb"},{"$f":"IF(ISBLANK(WAVA!F97),\"\",WAVA!F97)","v":"First"},385,{"$f":"VLOOKUP(WAVA!AC97,'Points Lookup'!$A:$B,2,FALSE)","v":48},{"$f":"VLOOKUP(WAVA!AD97,'Points Lookup'!$A:$B,2,FALSE)","v":46},{"$f":"VLOOKUP(WAVA!AE97,'Points Lookup'!$A:$B,2,FALSE)","v":0},{"$f":"VLOOKUP(WAVA!AF97,'Points Lookup'!$A:$B,2,FALSE)","v":0},{"$f":"VLOOKUP(WAVA!AG97,'Points Lookup'!$A:$B,2,FALSE)","v":49},{"$f":"VLOOKUP(WAVA!AH97,'Points Lookup'!$A:$B,2,FALSE)","v":0},{"$f":"VLOOKUP(WAVA!AI97,'Points Lookup'!$A:$B,2,FALSE)","v":0},{"$f":"VLOOKUP(WAVA!AJ97,'Points Lookup'!$A:$B,2,FALSE)","v":0},{"$f":"VLOOKUP(WAVA!AK97,'Points Lookup'!$A:$B,2,FALSE)","v":49},{"$f":"VLOOKUP(WAVA!AL97,'Points Lookup'!$A:$B,2,FALSE)","v":0},{"$f":"VLOOKUP(WAVA!AM97,'Points Lookup'!$A:$B,2,FALSE)","v":0},{"$f":"VLOOKUP(WAVA!AN97,'Points Lookup'!$A:$B,2,FALSE)","v":49},{"$f":"VLOOKUP(WAVA!AO97,'Points Lookup'!$A:$B,2,FALSE)","v":0},{"$f":"VLOOKUP(WAVA!AP97,'Points Lookup'!$A:$B,2,FALSE)","v":0},{"$f":"VLOOKUP(WAVA!AQ97,'Points Lookup'!$A:$B,2,FALSE)","v":47},{"$f":"VLOOKUP(WAVA!AR97,'Points Lookup'!$A:$B,2,FALSE)","v":49},{"$f":"VLOOKUP(WAVA!AS97,'Points Lookup'!$A:$B,2,FALSE)","v":0},{"$f":"VLOOKUP(WAVA!AT97,'Points Lookup'!$A:$B,2,FALSE)","v":48},{"$f":"VLOOKUP(WAVA!AU97,'Points Lookup'!$A:$B,2,FALSE)","v":0},{"$f":"VLOOKUP(WAVA!AV97,'Points Lookup'!$A:$B,2,FALSE)","v":0},{"$f":"VLOOKUP(WAVA!AW97,'Points Lookup'!$A:$B,2,FALSE)","v":0},null,49,49,49,49,48,48,47,46]
[53,{"$f":"WAVA!C98","v":"James Goodall"},{"$f":"IF(ISBLANK(WAVA!F98),\"\",WAVA!F98)","v":"Second"},96,{"$f":"VLOOKUP(WAVA!AC98,'Points Lookup'!$A:$B,2,FALSE)","v":0},{"$f":"VLOOKUP(WAVA!AD98,'Points Lookup'!$A:$B,2,FALSE)","v":0},{"$f":"VLOOKUP(WAVA!AE98,'Points Lookup'!$A:$B,2,FALSE)","v":0},{"$f":"VLOOKUP(WAVA!AF98,'Points Lookup'!$A:$B,2,FALSE)","v":0},{"$f":"VLOOKUP(WAVA!AG98,'Points Lookup'!$A:$B,2,FALSE)","v":48},{"$f":"VLOOKUP(WAVA!AH98,'Points Lookup'!$A:$B,2,FALSE)","v":0},{"$f":"VLOOKUP(WAVA!AI98,'Points Lookup'!$A:$B,2,FALSE)","v":0},{"$f":"VLOOKUP(WAVA!AJ98,'Points Lookup'!$A:$B,2,FALSE)","v":0},{"$f":"VLOOKUP(WAVA!AK98,'Points Lookup'!$A:$B,2,FALSE)","v":0},{"$f":"VLOOKUP(WAVA!AL98,'Points Lookup'!$A:$B,2,FALSE)","v":0},{"$f":"VLOOKUP(WAVA!AM98,'Points Lookup'!$A:$B,2,FALSE)","v":0},{"$f":"VLOOKUP(WAVA!AN98,'Points Lookup'!$A:$B,2,FALSE)","v":0},{"$f":"VLOOKUP(WAVA!AO98,'Points Lookup'!$A:$B,2,FALSE)","v":0},{"$f":"VLOOKUP(WAVA!AP98,'Points Lookup'!$A:$B,2,FALSE)","v":0},{"$f":"VLOOKUP(WAVA!AQ98,'Points Lookup'!$A:$B,2,FALSE)","v":48},{"$f":"VLOOKUP(WAVA!AR98,'Points Lookup'!$A:$B,2,FALSE)","v":0},{"$f":"VLOOKUP(WAVA!AS98,'Points Lookup'!$A:$B,2,FALSE)","v":0},{"$f":"VLOOKUP(WAVA!AT98,'Points Lookup'!$A:$B,2,FALSE)","v":0},{"$f":"VLOOKUP(WAVA!AU98,'Points Lookup'!$A:$B,2,FALSE)","v":0},{"$f":"VLOOKUP(WAVA!AV98,'Points Lookup'!$A:$B,2,FALSE)","v":0},{"$f":"VLOOKUP(WAVA!AW98,'Points Lookup'!$A:$B,2,FALSE)","v":0},null,48,48,0,0,0,0,0,0]
[113,{"$f":"WAVA!C99","v":"Laura Goodyear"},{"$f":"IF(ISBLANK(WAVA!F99),\"\",WAVA!F99)","v":"Second"},0,{"$f":"VLOOKUP(WAVA!AC99,'Points Lookup'!$A:$B,2,FALSE)","v":0},{"$f":"VLOOKUP(WAVA!AD99,'Points Lookup'!$A:$B,2,FALSE)","v":0},{"$f":"VLOOKUP(WAVA!AE99,'Points Lookup'!$A:$B,2,FALSE)","v":0},{"$f":"VLOOKUP(WAVA!AF99,'Points Lookup'!$A:$B,2,FALSE)","v":0},{"$f":"VLOOKUP(WAVA!AG99,'Points Lookup'!$A:$B,2,FALSE)","v":0},{"$f":"VLOOKUP(WAVA!AH99,'Points Lookup'!$A:$B,2,FALSE)","v":0},{"$f":"VLOOKUP(WAVA!AI99,'Points Lookup'!$A:$B,2,FALSE)","v":0},{"$f":"VLOOKUP(WAVA!AJ99,'Points Lookup'!$A:$B,2,FALSE)","v":0},{"$f":"VLOOKUP(WAVA!AK99,'Points Lookup'!$A:$B,2,FALSE)","v":0},{"$f":"VLOOKUP(WAVA!AL99,'Points Lookup'!$A:$B,2,FALSE)","v":0},{"$f":"VLOOKUP(WAVA!AM99,'Points Lookup'!$A:$B,2,FALSE)","v":0},{"$f":"VLOOKUP(WAVA!AN99,'Points Lookup'!$A:$B,2,FALSE)","v":0},{"$f":"VLOOKUP(WAVA!AO99,'Points Lookup'!$A:$B,2,FALSE)","v":0},{"$f":"VLOOKUP(WAVA!AP99,'Points Lookup'!$A:$B,2,FALSE)","v":0},{"$f":"VLOOKUP(WAVA!AQ99,'Points Lookup'!$A:$B,2,FALSE)","v":0},{"$f":"VLOOKUP(WAVA!AR99,'Points Lookup'!$A:$B,2,FALSE)","v":0},{"$f":"VLOOKUP(WAVA!AS99,'Points Lookup'!$A:$B,2,FALSE)","v":0},{"$f":"VLOOKUP(WAVA!AT99,'Points Lookup'!$A:$B,2,FALSE)","v":0},{"$f":"VLOOKUP(WAVA!AU99,'Points Lookup'!$A:$B,2,FALSE)","v":0},{"$f":"VLOOKUP(WAVA!AV99,'Points Lookup'!$A:$B,2,FALSE)","v":0},{"$f":"VLOOKUP(WAVA!AW99,'Points Lookup'!$A:$B,2,FALSE)","v":0},null,0,0,0,0,0,0,0,0]
[113,{"$f":"WAVA!C100","v":"Rowan Grant"},{"$f":"IF(ISBLANK(WAVA!F100),\"\",WAVA!F100)","v":"Second"},0,{"$f":"VLOOKUP(WAVA!AC100,'Points Lookup'!$A:$B,2,FALSE)","v":0},{"$f":"VLOOKUP(WAVA!AD100,'Points Lookup'!$A:$B,2,FALSE)","v":0},{"$f":"VLOOKUP(WAVA!AE100,'Points Lookup'!$A:$B,2,FALSE)","v":0},{"$f":"VLOOKUP(WAVA!AF100,'Points Lookup'!$A:$B,2,FALSE)","v":0},{"$f":"VLOOKUP(WAVA!AG100,'Points Lookup'!$A:$B,2,FALSE)","v":0},{"$f":"VLOOKUP(WAVA!AH100,'Points Lookup'!$A:$B,2,FALSE)","v":0},{"$f":"VLOOKUP(WAVA!AI100,'Points Lookup'!$A:$B,2,FALSE)","v":0},{"$f":"VLOOKUP(WAVA!AJ100,'Points Lookup'!$A:$B,2,FALSE)","v":0},{"$f":"VLOOKUP(WAVA!AK100,'Points Lookup'!$A:$B,2,FALSE)","v":0},{"$f":"VLOOKUP(WAVA!AL100,'Points Lookup'!$A:$B,2,FALSE)","v":0},{"$f":"VLOOKUP(WAVA!AM100,'Points Lookup'!$A:$B,2,FALSE)","v":0},{"$f":"VLOOKUP(WAVA!AN100,'Points Lookup'!$A:$B,2,FALSE)","v":0},{"$f":"VLOOKUP(WAVA!AO100,'Points Lookup'!$A:$B,2,FALSE)","v":0},{"$f":"VLOOKUP(WAVA!AP100,'Points Lookup'!$A:$B,2,FALSE)","v":0},{"$f":"VLOOKUP(WAVA!AQ100,'Points Lookup'!$A:$B,2,FALSE)","v":0},{"$f":"VLOOKUP(WAVA!AR100,'Points Lookup'!$A:$B,2,FALSE)","v":0},{"$f":"VLOOKUP(WAVA!AS100,'Points Lookup'!$A:$B,2,FALSE)","v":0},{"$f":"VLOOKUP(WAVA!AT100,'Points Lookup'!$A:$B,2,FALSE)","v":0},{"$f":"VLOOKUP(WAVA!AU100,'Points Lookup'!$A:$B,2,FALSE)","v":0},{"$f":"VLOOKUP(WAVA!AV100,'Points Lookup'!$A:$B,2,FALSE)","v":0},{"$f":"VLOOKUP(WAVA!AW100,'Points Lookup'!$A:$B,2,FALSE)","v":0},null,0,0,0,0,0,0,0,0]
[113,{"$f":"WAVA!C101","v":"Olivia Gregory"},{"$f":"IF(ISBLANK(WAVA!F101),\"\",WAVA!F101)","v":"Second"},0,{"$f":"VLOOKUP(WAVA!AC101,'Points Lookup'!$A:$B,2,FALSE)","v":0},{"$f":"VLOOKUP(WAVA!AD101,'Points Lookup'!$A:$B,2,FALSE)","v":0},{"$f":"VLOOKUP(WAVA!AE101,'Points Lookup'!$A:$B,2,FALSE)","v":0},{"$f":"VLOOKUP(WAVA!AF101,'Points Lookup'!$A:$B,2,FALSE)","v":0},{"$f":"VLOOKUP(WAVA!AG101,'Points Lookup'!$A:$B,2,FALSE)","v":0},{"$f":"VLOOKUP(WAVA!AH101,'Points Lookup'!$A:$B,2,FALSE)","v":0},{"$f":"VLOOKUP(WAVA!AI101,'Points Lookup'!$A:$B,2,FALSE)","v":0},{"$f":"VLOOKUP(WAVA!AJ101,'Points Lookup'!$A:$B,2,FALSE)","v":0},{"$f":"VLOOKUP(WAVA!AK101,'Points Lookup'!$A:$B,2,FALSE)","v":0},{"$f":"VLOOKUP(WAVA!AL101,'Points Lookup'!$A:$B,2,FALSE)","v":0},{"$f":"VLOOKUP(WAVA!AM101,'Points Lookup'!$A:$B,2,FALSE)","v":0},{"$f":"VLOOKUP(WAVA!AN101,'Points Lookup'!$A:$B,2,FALSE)","v":0},{"$f":"VLOOKUP(WAVA!AO101,'Points Lookup'!$A:$B,2,FALSE)","v":0},{"$f":"VLOOKUP(WAVA!AP101,'Points Lookup'!$A:$B,2,FALSE)","v":0},{"$f":"VLOOKUP(WAVA!AQ101,'Points Lookup'!$A:$B,2,FALSE)","v":0},{"$f":"VLOOKUP(WAVA!AR101,'Points Lookup'!$A:$B,2,FALSE)","v":0},{"$f":"VLOOKUP(WAVA!AS101,'Points Lookup'!$A:$B,2,FALSE)","v":0},{"$f":"VLOOKUP(WAVA!AT101,'Points Lookup'!$A:$B,2,FALSE)","v":0},{"$f":"VLOOKUP(WAVA!AU101,'Points Lookup'!$A:$B,2,FALSE)","v":0},{"$f":"VLOOKUP(WAVA!AV101,'Points Lookup'!$A:$B,2,FALSE)","v":0},{"$f":"VLOOKUP(WAVA!AW101,'Points Lookup'!$A:$B,2,FALSE)","v":0},null,0,0,0,0,0,0,0,0]
[11,{"$f":"WAVA!C102","v":"Alun Griffiths"},{"$f":"IF(ISBLANK(WAVA!F102),\"\",WAVA!F102)","v":"Premier"},360,{"$f":"VLOOKUP(WAVA!AC102,'Points Lookup'!$A:$B,2,FALSE)","v":44},{"$f":"VLOOKUP(WAVA!AD102,'Points Lookup'!$A:$B,2,FALSE)","v":43},{"$f":"VLOOKUP(WAVA!AE102,'Points Lookup'!$A:$B,2,FALSE)","v":44},{"$f":"VLOOKUP(WAVA!AF102,'Points Lookup'!$A:$B,2,FALSE)","v":46},{"$f":"VLOOKUP(WAVA!AG102,'Points Lookup'!$A:$B,2,FALSE)","v":0},{"$f":"VLOOKUP(WAVA!AH102,'Points Lookup'!$A:$B,2,FALSE)","v":0},{"$f":"VLOOKUP(WAVA!AI102,'Points Lookup'!$A:$B,2,FALSE)","v":0},{"$f":"VLOOKUP(WAVA!AJ102,'Points Lookup'!$A:$B,2,FALSE)","v":0},{"$f":"VLOOKUP(WAVA!AK102,'Points Lookup'!$A:$B,2,FALSE)","v":0},{"$f":"VLOOKUP(WAVA!AL102,'Points Lookup'!$A:$B,2,FALSE)","v":47},{"$f":"VLOOKUP(WAVA!AM102,'Points Lookup'!$A:$B,2,FALSE)","v":0},{"$f":"VLOOKUP(WAVA!AN102,'Points Lookup'!$A:$B,2,FALSE)","v":45},{"$f":"VLOOKUP(WAVA!AO102,'Points Lookup'!$A:$B,2,FALSE)","v":0},{"$f":"VLOOKUP(WAVA!AP102,'Points Lookup'!$A:$B,2,FALSE)","v":0},{"$f":"VLOOKUP(WAVA!AQ102,'Points Lookup'!$A:$B,2,FALSE)","v":0},{"$f":"VLOOKUP(WAVA!AR102,'Points Lookup'!$A:$B,2,FALSE)","v":0},{"$f":"VLOOKUP(WAVA!AS102,'Points Lookup'!$A:$B,2,FALSE)","v":0},{"$f":"VLOOKUP(WAVA!AT102,'Points Lookup'!$A:$B,2,FALSE)","v":44},{"$f":"VLOOKUP(WAVA!AU102,'Points Lookup'!$A:$B,2,FALSE)","v":47},{"$f":"VLOOKUP(WAVA!AV102,'Points Lookup'!$A:$B,2,FALSE)","v":0},{"$f":"VLOOKUP(WAVA!AW102,'Points Lookup'!$A:$B,2,FALSE)","v":0},null,47,47,46,45,44,44,44,43]
[70,{"$f":"WAVA!C103","v":"Ambrose Griffiths"},{"$f":"IF(ISBLANK(WAVA!F103),\"\",WAVA!F103)","v":"Second"},78,{"$f":"VLOOKUP(WAVA!AC103,'Points Lookup'!$A:$B,2,FALSE)","v":0},{"$f":"VLOOKUP(WAVA!AD103,'Points Lookup'!$A:$B,2,FALSE)","v":40},{"$f":"VLOOKUP(WAVA!AE103,'Points Lookup'!$A:$B,2,FALSE)","v":0},{"$f":"VLOOKUP(WAVA!AF103,'Points Lookup'!$A:$B,2,FALSE)","v":0},{"$f":"VLOOKUP(WAVA!AG103,'Points Lookup'!$A:$B,2,FALSE)","v":0},{"$f":"VLOOKUP(WAVA!AH103,'Points Lookup'!$A:$B,2,FALSE)","v":0},{"$f":"VLOOKUP(WAVA!AI103,'Points Lookup'!$A:$B,2,FALSE)","v":0},{"$f":"VLOOKUP(WAVA!AJ103,'Points Lookup'!$A:$B,2,FALSE)","v":0},{"$f":"VLOOKUP(WAVA!AK103,'Points Lookup'!$A:$B,2,FALSE)","v":0},{"$f":"VLOOKUP(WAVA!AL103,'Points Lookup'!$A:$B,2,FALSE)","v":0},{"$f":"VLOOKUP(WAVA!AM103,'Points Lookup'!$A:$B,2,FALSE)","v":0},{"$f":"VLOOKUP(WAVA!AN103,'Points Lookup'!$A:$B,2,FALSE)","v":0},{"$f":"VLOOKUP(WAVA!AO103,'Points Lookup'!$A:$B,2,FALSE)","v":0},{"$f":"VLOOKUP(WAVA!AP103,'Points Lookup'!$A:$B,2,FALSE)","v":0},{"$f":"VLOOKUP(WAVA!AQ103,'Points Lookup'!$A:$B,2,FALSE)","v":38},{"$f":"VLOOKUP(WAVA!AR103,'Points Lookup'!$A:$B,2,FALSE)","v":0},{"$f":"VLOOKUP(WAVA!AS103,'Points Lookup'!$A:$B,2,FALSE)","v":0},{"$f":"VLOOKUP(WAVA!AT103,'Points Lookup'!$A:$B,2,FALSE)","v":0},{"$f":"VLOOKUP(WAVA!AU103,'Points Lookup'!$A:$B,2,FALSE)","v":0},{"$f":"VLOOKUP(WAVA!AV103,'Points Lookup'!$A:$B,2,FALSE)","v":0},{"$f":"VLOOKUP(WAVA!AW103,'Points Lookup'!$A:$B,2,FALSE)","v":0},null,{"$f":"LARGE($E102:$Y102,AA$1)","v":40},38,0,0,0,0,0,0]
[95,{"$f":"WAVA!C104","v":"Frances  Guy"},{"$f":"IF(ISBLANK(WAVA!F104),\"\",WAVA!F104)","v":"Second"},45,{"$f":"VLOOKUP(WAVA!AC104,'Points Lookup'!$A:$B,2,FALSE)","v":0},{"$f":"VLOOKUP(WAVA!AD104,'Points Lookup'!$A:$B,2,FALSE)","v":0},{"$f":"VLOOKUP(WAVA!AE104,'Points Lookup'!$A:$B,2,FALSE)","v":0},{"$f":"VLOOKUP(WAVA!AF104,'Points Lookup'!$A:$B,2,FALSE)","v":0},{"$f":"VLOOKUP(WAVA!AG104,'Points Lookup'!$A:$B,2,FALSE)","v":0},{"$f":"VLOOKUP(WAVA!AH104,'Points Lookup'!$A:$B,2,FALSE)","v":0},{"$f":"VLOOKUP(WAVA!AI104,'Points Lookup'!$A:$B,2,FALSE)","v":0},{"$f":"VLOOKUP(WAVA!AJ104,'Points Lookup'!$A:$B,2,FALSE)","v":0},{"$f":"VLOOKUP(WAVA!AK104,'Points Lookup'!$A:$B,2,FALSE)","v":0},{"$f":"VLOOKUP(WAVA!AL104,'Points Lookup'!$A:$B,2,FALSE)","v":0},{"$f":"VLOOKUP(WAVA!AM104,'Points Lookup'!$A:$B,2,FALSE)","v":0},{"$f":"VLOOKUP(WAVA!AN104,'Points Lookup'!$A:$B,2,FALSE)","v":0},{"$f":"VLOOKUP(WAVA!AO104,'Points Lookup'!$A:$B,2,FALSE)","v":0},{"$f":"VLOOKUP(WAVA!AP104,'Points Lookup'!$A:$B,2,FALSE)","v":0},{"$f":"VLOOKUP(WAVA!AQ104,'Points Lookup'!$A:$B,2,FALSE)","v":0},{"$f":"VLOOKUP(WAVA!AR104,'Points Lookup'!$A:$B,2,FALSE)","v":0},{"$f":"VLOOKUP(WAVA!AS104,'Points Lookup'!$A:$B,2,FALSE)","v":0},{"$f":"VLOOKUP(WAVA!AT104,'Points Lookup'!$A:$B,2,FALSE)","v":45},{"$f":"VLOOKUP(WAVA!AU104,'Points Lookup'!$A:$B,2,FALSE)","v":0},{"$f":"VLOOKUP(WAVA!AV104,'Points Lookup'!$A:$B,2,FALSE)","v":0},{"$f":"VLOOKUP(WAVA!AW104,'Points Lookup'!$A:$B,2,FALSE)","v":0},null,45,0,0,0,0,0,0,0]
[113,{"$f":"WAVA!C105","v":"Robert Hague"},{"$f":"IF(ISBLANK(WAVA!F105),\"\",WAVA!F105)","v":"First"},0,{"$f":"VLOOKUP(WAVA!AC105,'Points Lookup'!$A:$B,2,FALSE)","v":0},{"$f":"VLOOKUP(WAVA!AD105,'Points Lookup'!$A:$B,2,FALSE)","v":0},{"$f":"VLOOKUP(WAVA!AE105,'Points Lookup'!$A:$B,2,FALSE)","v":0},{"$f":"VLOOKUP(WAVA!AF105,'Points Lookup'!$A:$B,2,FALSE)","v":0},{"$f":"VLOOKUP(WAVA!AG105,'Points Lookup'!$A:$B,2,FALSE)","v":0},{"$f":"VLOOKUP(WAVA!AH105,'Points Lookup'!$A:$B,2,FALSE)","v":0},{"$f":"VLOOKUP(WAVA!AI105,'Points Lookup'!$A:$B,2,FALSE)","v":0},{"$f":"VLOOKUP(WAVA!AJ105,'Points Lookup'!$A:$B,2,FALSE)","v":0},{"$f":"VLOOKUP(WAVA!AK105,'Points Lookup'!$A:$B,2,FALSE)","v":0},{"$f":"VLOOKUP(WAVA!AL105,'Points Lookup'!$A:$B,2,FALSE)","v":0},{"$f":"VLOOKUP(WAVA!AM105,'Points Lookup'!$A:$B,2,FALSE)","v":0},{"$f":"VLOOKUP(WAVA!AN105,'Points Lookup'!$A:$B,2,FALSE)","v":0},{"$f":"VLOOKUP(WAVA!AO105,'Points Lookup'!$A:$B,2,FALSE)","v":0},{"$f":"VLOOKUP(WAVA!AP105,'Points Lookup'!$A:$B,2,FALSE)","v":0},{"$f":"VLOOKUP(WAVA!AQ105,'Points Lookup'!$A:$B,2,FALSE)","v":0},{"$f":"VLOOKUP(WAVA!AR105,'Points Lookup'!$A:$B,2,FALSE)","v":0},{"$f":"VLOOKUP(WAVA!AS105,'Points Lookup'!$A:$B,2,FALSE)","v":0},{"$f":"VLOOKUP(WAVA!AT105,'Points Lookup'!$A:$B,2,FALSE)","v":0},{"$f":"VLOOKUP(WAVA!AU105,'Points Lookup'!$A:$B,2,FALSE)","v":0},{"$f":"VLOOKUP(WAVA!AV105,'Points Lookup'!$A:$B,2,FALSE)","v":0},{"$f":"VLOOKUP(WAVA!AW105,'Points Lookup'!$A:$B,2,FALSE)","v":0},null,0,0,0,0,0,0,0,0]
[31,{"$f":"WAVA!C106","v":"Suzanne Hague"},{"$f":"IF(ISBLANK(WAVA!F106),\"\",WAVA!F106)","v":"Premier"},195,{"$f":"VLOOKUP(WAVA!AC106,'Points Lookup'!$A:$B,2,FALSE)","v":39},{"$f":"VLOOKUP(WAVA!AD106,'Points Lookup'!$A:$B,2,FALSE)","v":0},{"$f":"VLOOKUP(WAVA!AE106,'Points Lookup'!$A:$B,2,FALSE)","v":41},{"$f":"VLOOKUP(WAVA!AF106,'Points Lookup'!$A:$B,2,FALSE)","v":0},{"$f":"VLOOKUP(WAVA!AG106,'Points Lookup'!$A:$B,2,FALSE)","v":35},{"$f":"VLOOKUP(WAVA!AH106,'Points Lookup'!$A:$B,2,FALSE)","v":0},{"$f":"VLOOKUP(WAVA!AI106,'Points Lookup'!$A:$B,2,FALSE)","v":0},{"$f":"VLOOKUP(WAVA!AJ106,'Points Lookup'!$A:$B,2,FALSE)","v":0},{"$f":"VLOOKUP(WAVA!AK106,'Points Lookup'!$A:$B,2,FALSE)","v":0},{"$f":"VLOOKUP(WAVA!AL106,'Points Lookup'!$A:$B,2,FALSE)","v":0},{"$f":"VLOOKUP(WAVA!AM106,'Points Lookup'!$A:$B,2,FALSE)","v":0},{"$f":"VLOOKUP(WAVA!AN106,'Points Lookup'!$A:$B,2,FALSE)","v":0},{"$f":"VLOOKUP(WAVA!AO106,'Points Lookup'!$A:$B,2,FALSE)","v":0},{"$f":"VLOOKUP(WAVA!AP106,'Points Lookup'!$A:$B,2,FALSE)","v":0},{"$f":"VLOOKUP(WAVA!AQ106,'Points Lookup'!$A:$B,2,FALSE)","v":0},{"$f":"VLOOKUP(WAVA!AR106,'Points Lookup'!$A:$B,2,FALSE)","v":0},{"$f":"VLOOKUP(WAVA!AS106,'Points Lookup'!$A:$B,2,FALSE)","v":0},{"$f":"VLOOKUP(WAVA!AT106,'Points Lookup'!$A:$B,2,FALSE)","v":36},{"$f":"VLOOKUP(WAVA!AU106,'Points Lookup'!$A:$B,2,FALSE)","v":0},{"$f":"VLOOKUP(WAVA!AV106,'Points Lookup'!$A:$B,2,FALSE)","v":44},{"$f":"VLOOKUP(WAVA!AW106,'Points Lookup'!$A:$B,2,FALSE)","v":0},null,44,41,39,36,35,0,0,0]
[113,{"$f":"WAVA!C107","v":"Liz Halfpenny"},{"$f":"IF(ISBLANK(WAVA!F107),\"\",WAVA!F107)","v":"Second"},0,{"$f":"VLOOKUP(WAVA!AC107,'Points Lookup'!$A:$B,2,FALSE)","v":0},{"$f":"VLOOKUP(WAVA!AD107,'Points Lookup'!$A:$B,2,FALSE)","v":0},{"$f":"VLOOKUP(WAVA!AE107,'Points Lookup'!$A:$B,2,FALSE)","v":0},{"$f":"VLOOKUP(WAVA!AF107,'Points Lookup'!$A:$B,2,FALSE)","v":0},{"$f":"VLOOKUP(WAVA!AG107,'Points Lookup'!$A:$B,2,FALSE)","v":0},{"$f":"VLOOKUP(WAVA!AH107,'Points Lookup'!$A:$B,2,FALSE)","v":0},{"$f":"VLOOKUP(WAVA!AI107,'Points Lookup'!$A:$B,2,FALSE)","v":0},{"$f":"VLOOKUP(WAVA!AJ107,'Points Lookup'!$A:$B,2,FALSE)","v":0},{"$f":"VLOOKUP(WAVA!AK107,'Points Lookup'!$A:$B,2,FALSE)","v":0},{"$f":"VLOOKUP(WAVA!AL107,'Points Lookup'!$A:$B,2,FALSE)","v":0},{"$f":"VLOOKUP(WAVA!AM107,'Points Lookup'!$A:$B,2,FALSE)","v":0},{"$f":"VLOOKUP(WAVA!AN107,'Points Lookup'!$A:$B,2,FALSE)","v":0},{"$f":"VLOOKUP(WAVA!AO107,'Points Lookup'!$A:$B,2,FALSE)","v":0},{"$f":"VLOOKUP(WAVA!AP107,'Points Lookup'!$A:$B,2,FALSE)","v":0},{"$f":"VLOOKUP(WAVA!AQ107,'Points Lookup'!$A:$B,2,FALSE)","v":0},{"$f":"VLOOKUP(WAVA!AR107,'Points Lookup'!$A:$B,2,FALSE)","v":0},{"$f":"VLOOKUP(WAVA!AS107,'Points Lookup'!$A:$B,2,FALSE)","v":0},{"$f":"VLOOKUP(WAVA!AT107,'Points Lookup'!$A:$B,2,FALSE)","v":0},{"$f":"VLOOKUP(WAVA!AU107,'Points Lookup'!$A:$B,2,FALSE)","v":0},{"$f":"VLOOKUP(WAVA!AV107,'Points Lookup'!$A:$B,2,FALSE)","v":0},{"$f":"VLOOKUP(WAVA!AW107,'Points Lookup'!$A:$B,2,FALSE)","v":0},null,0,0,0,0,0,0,0,0]
[113,{"$f":"WAVA!C108","v":"Emma Hall"},{"$f":"IF(ISBLANK(WAVA!F108),\"\",WAVA!F108)","v":"Second"},0,{"$f":"VLOOKUP(WAVA!AC108,'Points Lookup'!$A:$B,2,FALSE)","v":0},{"$f":"VLOOKUP(WAVA!AD108,'Points Lookup'!$A:$B,2,FALSE)","v":0},{"$f":"VLOOKUP(WAVA!AE108,'Points Lookup'!$A:$B,2,FALSE)","v":0},{"$f":"VLOOKUP(WAVA!AF108,'Points Lookup'!$A:$B,2,FALSE)","v":0},{"$f":"VLOOKUP(WAVA!AG108,'Points Lookup'!$A:$B,2,FALSE)","v":0},{"$f":"VLOOKUP(WAVA!AH108,'Points Lookup'!$A:$B,2,FALSE)","v":0},{"$f":"VLOOKUP(WAVA!AI108,'Points Lookup'!$A:$B,2,FALSE)","v":0},{"$f":"VLOOKUP(WAVA!AJ108,'Points Lookup'!$A:$B,2,FALSE)","v":0},{"$f":"VLOOKUP(WAVA!AK108,'Points Lookup'!$A:$B,2,FALSE)","v":0},{"$f":"VLOOKUP(WAVA!AL108,'Points Lookup'!$A:$B,2,FALSE)","v":0},{"$f":"VLOOKUP(WAVA!AM108,'Points Lookup'!$A:$B,2,FALSE)","v":0},{"$f":"VLOOKUP(WAVA!AN108,'Points Lookup'!$A:$B,2,FALSE)","v":0},{"$f":"VLOOKUP(WAVA!AO108,'Points Lookup'!$A:$B,2,FALSE)","v":0},{"$f":"VLOOKUP(WAVA!AP108,'Points Lookup'!$A:$B,2,FALSE)","v":0},{"$f":"VLOOKUP(WAVA!AQ108,'Points Lookup'!$A:$B,2,FALSE)","v":0},{"$f":"VLOOKUP(WAVA!AR108,'Points Lookup'!$A:$B,2,FALSE)","v":0},{"$f":"VLOOKUP(WAVA!AS108,'Points Lookup'!$A:$B,2,FALSE)","v":0},{"$f":"VLOOKUP(WAVA!AT108,'Points Lookup'!$A:$B,2,FALSE)","v":0},{"$f":"VLOOKUP(WAVA!AU108,'Points Lookup'!$A:$B,2,FALSE)","v":0},{"$f":"VLOOKUP(WAVA!AV108,'Points Lookup'!$A:$B,2,FALSE)","v":0},{"$f":"VLOOKUP(WAVA!AW108,'Points Lookup'!$A:$B,2,FALSE)","v":0},null,0,0,0,0,0,0,0,0]
[33,{"$f":"WAVA!C109","v":"Gavin Hamilton"},{"$f":"IF(ISBLANK(WAVA!F109),\"\",WAVA!F109)","v":"First"},184,{"$f":"VLOOKUP(WAVA!AC109,'Points Lookup'!$A:$B,2,FALSE)","v":0},{"$f":"VLOOKUP(WAVA!AD109,'Points Lookup'!$A:$B,2,FALSE)","v":43},{"$f":"VLOOKUP(WAVA!AE109,'Points Lookup'!$A:$B,2,FALSE)","v":0},{"$f":"VLOOKUP(WAVA!AF109,'Points Lookup'!$A:$B,2,FALSE)","v":0},{"$f":"VLOOKUP(WAVA!AG109,'Points Lookup'!$A:$B,2,FALSE)","v":45},{"$f":"VLOOKUP(WAVA!AH109,'Points Lookup'!$A:$B,2,FALSE)","v":0},{"$f":"VLOOKUP(WAVA!AI109,'Points Lookup'!$A:$B,2,FALSE)","v":0},{"$f":"VLOOKUP(WAVA!AJ109,'Points Lookup'!$A:$B,2,FALSE)","v":0},{"$f":"VLOOKUP(WAVA!AK109,'Points Lookup'!$A:$B,2,FALSE)","v":46},{"$f":"VLOOKUP(WAVA!AL109,'Points Lookup'!$A:$B,2,FALSE)","v":0},{"$f":"VLOOKUP(WAVA!AM109,'Points Lookup'!$A:$B,2,FALSE)","v":0},{"$f":"VLOOKUP(WAVA!AN109,'Points Lookup'!$A:$B,2,FALSE)","v":0},{"$f":"VLOOKUP(WAVA!AO109,'Points Lookup'!$A:$B,2,FALSE)","v":50},{"$f":"VLOOKUP(WAVA!AP109,'Points Lookup'!$A:$B,2,FALSE)","v":0},{"$f":"VLOOKUP(WAVA!AQ109,'Points Lookup'!$A:$B,2,FALSE)","v":0},{"$f":"VLOOKUP(WAVA!AR109,'Points Lookup'!$A:$B,2,FALSE)","v":0},{"$f":"VLOOKUP(WAVA!AS109,'Points Lookup'!$A:$B,2,FALSE)","v":0},{"$f":"VLOOKUP(WAVA!AT109,'Points Lookup'!$A:$B,2,FALSE)","v":0},{"$f":"VLOOKUP(WAVA!AU109,'Points Lookup'!$A:$B,2,FALSE)","v":0},{"$f":"VLOOKUP(WAVA!AV109,'Points Lookup'!$A:$B,2,FALSE)","v":0},{"$f":"VLOOKUP(WAVA!AW109,'Points Lookup'!$A:$B,2,FALSE)","v":0},null,50,46,45,43,0,0,0,0]
[43,{"$f":"WAVA!C110","v":"Liz Hamilton"},{"$f":"IF(ISBLANK(WAVA!F110),\"\",WAVA!F110)","v":"First"},133,{"$f":"VLOOKUP(WAVA!AC110,'Points Lookup'!$A:$B,2,FALSE)","v":0},{"$f":"VLOOKUP(WAVA!AD110,'Points Lookup'!$A:$B,2,FALSE)","v":41},{"$f":"VLOOKUP(WAVA!AE110,'Points Lookup'!$A:$B,2,FALSE)","v":0},{"$f":"VLOOKUP(WAVA!AF110,'Points Lookup'!$A:$B,2,FALSE)","v":0},{"$f":"VLOOKUP(WAVA!AG110,'Points Lookup'!$A:$B,2,FALSE)","v":0},{"$f":"VLOOKUP(WAVA!AH110,'Points Lookup'!$A:$B,2,FALSE)","v":0},{"$f":"VLOOKUP(WAVA!AI110,'Points Lookup'!$A:$B,2,FALSE)","v":0},{"$f":"VLOOKUP(WAVA!AJ110,'Points Lookup'!$A:$B,2,FALSE)","v":0},{"$f":"VLOOKUP(WAVA!AK110,'Points Lookup'!$A:$B,2,FALSE)","v":0},{"$f":"VLOOKUP(WAVA!AL110,'Points Lookup'!$A:$B,2,FALSE)","v":0},{"$f":"VLOOKUP(WAVA!AM110,'Points Lookup'!$A:$B,2,FALSE)","v":0},{"$f":"VLOOKUP(WAVA!AN110,'Points Lookup'!$A:$B,2,FALSE)","v":44},{"$f":"VLOOKUP(WAVA!AO110,'Points Lookup'!$A:$B,2,FALSE)","v":0},{"$f":"VLOOKUP(WAVA!AP110,'Points Lookup'!$A:$B,2,FALSE)","v":0},{"$f":"VLOOKUP(WAVA!AQ110,'Points Lookup'!$A:$B,2,FALSE)","v":0},{"$f":"VLOOKUP(WAVA!AR110,'Points Lookup'!$A:$B,2,FALSE)","v":0},{"$f":"VLOOKUP(WAVA!AS110,'Points Lookup'!$A:$B,2,FALSE)","v":0},{"$f":"VLOOKUP(WAVA!AT110,'Points Lookup'!$A:$B,2,FALSE)","v":0},{"$f":"VLOOKUP(WAVA!AU110,'Points Lookup'!$A:$B,2,FALSE)","v":48},{"$f":"VLOOKUP(WAVA!AV110,'Points Lookup'!$A:$B,2,FALSE)","v":0},{"$f":"VLOOKUP(WAVA!AW110,'Points Lookup'!$A:$B,2,FALSE)","v":0},null,48,44,41,0,0,0,0,0]
[113,{"$f":"WAVA!C111","v":"Abby Hanson"},{"$f":"IF(ISBLANK(WAVA!F111),\"\",WAVA!F111)","v":"Second"},0,{"$f":"VLOOKUP(WAVA!AC111,'Points Lookup'!$A:$B,2,FALSE)","v":0},{"$f":"VLOOKUP(WAVA!AD111,'Points Lookup'!$A:$B,2,FALSE)","v":0},{"$f":"VLOOKUP(WAVA!AE111,'Points Lookup'!$A:$B,2,FALSE)","v":0},{"$f":"VLOOKUP(WAVA!AF111,'Points Lookup'!$A:$B,2,FALSE)","v":0},{"$f":"VLOOKUP(WAVA!AG111,'Points Lookup'!$A:$B,2,FALSE)","v":0},{"$f":"VLOOKUP(WAVA!AH111,'Points Lookup'!$A:$B,2,FALSE)","v":0},{"$f":"VLOOKUP(WAVA!AI111,'Points Lookup'!$A:$B,2,FALSE)","v":0},{"$f":"VLOOKUP(WAVA!AJ111,'Points Lookup'!$A:$B,2,FALSE)","v":0},{"$f":"VLOOKUP(WAVA!AK111,'Points Lookup'!$A:$B,2,FALSE)","v":0},{"$f":"VLOOKUP(WAVA!AL111,'Points Lookup'!$A:$B,2,FALSE)","v":0},{"$f":"VLOOKUP(WAVA!AM111,'Points Lookup'!$A:$B,2,FALSE)","v":0},{"$f":"VLOOKUP(WAVA!AN111,'Points Lookup'!$A:$B,2,FALSE)","v":0},{"$f":"VLOOKUP(WAVA!AO111,'Points Lookup'!$A:$B,2,FALSE)","v":0},{"$f":"VLOOKUP(WAVA!AP111,'Points Lookup'!$A:$B,2,FALSE)","v":0},{"$f":"VLOOKUP(WAVA!AQ111,'Points Lookup'!$A:$B,2,FALSE)","v":0},{"$f":"VLOOKUP(WAVA!AR111,'Points Lookup'!$A:$B,2,FALSE)","v":0},{"$f":"VLOOKUP(WAVA!AS111,'Points Lookup'!$A:$B,2,FALSE)","v":0},{"$f":"VLOOKUP(WAVA!AT111,'Points Lookup'!$A:$B,2,FALSE)","v":0},{"$f":"VLOOKUP(WAVA!AU111,'Points Lookup'!$A:$B,2,FALSE)","v":0},{"$f":"VLOOKUP(WAVA!AV111,'Points Lookup'!$A:$B,2,FALSE)","v":0},{"$f":"VLOOKUP(WAVA!AW111,'Points Lookup'!$A:$B,2,FALSE)","v":0},null,0,0,0,0,0,0,0,0]
[113,{"$f":"WAVA!C112","v":"lynsey hardiman"},{"$f":"IF(ISBLANK(WAVA!F112),\"\",WAVA!F112)","v":"Second"},0,{"$f":"VLOOKUP(WAVA!AC112,'Points Lookup'!$A:$B,2,FALSE)","v":0},{"$f":"VLOOKUP(WAVA!AD112,'Points Lookup'!$A:$B,2,FALSE)","v":0},{"$f":"VLOOKUP(WAVA!AE112,'Points Lookup'!$A:$B,2,FALSE)","v":0},{"$f":"VLOOKUP(WAVA!AF112,'Points Lookup'!$A:$B,2,FALSE)","v":0},{"$f":"VLOOKUP(WAVA!AG112,'Points Lookup'!$A:$B,2,FALSE)","v":0},{"$f":"VLOOKUP(WAVA!AH112,'Points Lookup'!$A:$B,2,FALSE)","v":0},{"$f":"VLOOKUP(WAVA!AI112,'Points Lookup'!$A:$B,2,FALSE)","v":0},{"$f":"VLOOKUP(WAVA!AJ112,'Points Lookup'!$A:$B,2,FALSE)","v":0},{"$f":"VLOOKUP(WAVA!AK112,'Points Lookup'!$A:$B,2,FALSE)","v":0},{"$f":"VLOOKUP(WAVA!AL112,'Points Lookup'!$A:$B,2,FALSE)","v":0},{"$f":"VLOOKUP(WAVA!AM112,'Points Lookup'!$A:$B,2,FALSE)","v":0},{"$f":"VLOOKUP(WAVA!AN112,'Points Lookup'!$A:$B,2,FALSE)","v":0},{"$f":"VLOOKUP(WAVA!AO112,'Points Lookup'!$A:$B,2,FALSE)","v":0},{"$f":"VLOOKUP(WAVA!AP112,'Points Lookup'!$A:$B,2,FALSE)","v":0},{"$f":"VLOOKUP(WAVA!AQ112,'Points Lookup'!$A:$B,2,FALSE)","v":0},{"$f":"VLOOKUP(WAVA!AR112,'Points Lookup'!$A:$B,2,FALSE)","v":0},{"$f":"VLOOKUP(WAVA!AS112,'Points Lookup'!$A:$B,2,FALSE)","v":0},{"$f":"VLOOKUP(WAVA!AT112,'Points Lookup'!$A:$B,2,FALSE)","v":0},{"$f":"VLOOKUP(WAVA!AU112,'Points Lookup'!$A:$B,2,FALSE)","v":0},{"$f":"VLOOKUP(WAVA!AV112,'Points Lookup'!$A:$B,2,FALSE)","v":0},{"$f":"VLOOKUP(WAVA!AW112,'Points Lookup'!$A:$B,2,FALSE)","v":0},null,0,0,0,0,0,0,0,0]
[113,{"$f":"WAVA!C113","v":"Anna Harding"},{"$f":"IF(ISBLANK(WAVA!F113),\"\",WAVA!F113)","v":"Second"},0,{"$f":"VLOOKUP(WAVA!AC113,'Points Lookup'!$A:$B,2,FALSE)","v":0},{"$f":"VLOOKUP(WAVA!AD113,'Points Lookup'!$A:$B,2,FALSE)","v":0},{"$f":"VLOOKUP(WAVA!AE113,'Points Lookup'!$A:$B,2,FALSE)","v":0},{"$f":"VLOOKUP(WAVA!AF113,'Points Lookup'!$A:$B,2,FALSE)","v":0},{"$f":"VLOOKUP(WAVA!AG113,'Points Lookup'!$A:$B,2,FALSE)","v":0},{"$f":"VLOOKUP(WAVA!AH113,'Points Lookup'!$A:$B,2,FALSE)","v":0},{"$f":"VLOOKUP(WAVA!AI113,'Points Lookup'!$A:$B,2,FALSE)","v":0},{"$f":"VLOOKUP(WAVA!AJ113,'Points Lookup'!$A:$B,2,FALSE)","v":0},{"$f":"VLOOKUP(WAVA!AK113,'Points Lookup'!$A:$B,2,FALSE)","v":0},{"$f":"VLOOKUP(WAVA!AL113,'Points Lookup'!$A:$B,2,FALSE)","v":0},{"$f":"VLOOKUP(WAVA!AM113,'Points Lookup'!$A:$B,2,FALSE)","v":0},{"$f":"VLOOKUP(WAVA!AN113,'Points Lookup'!$A:$B,2,FALSE)","v":0},{"$f":"VLOOKUP(WAVA!AO113,'Points Lookup'!$A:$B,2,FALSE)","v":0},{"$f":"VLOOKUP(WAVA!AP113,'Points Lookup'!$A:$B,2,FALSE)","v":0},{"$f":"VLOOKUP(WAVA!AQ113,'Points Lookup'!$A:$B,2,FALSE)","v":0},{"$f":"VLOOKUP(WAVA!AR113,'Points Lookup'!$A:$B,2,FALSE)","v":0},{"$f":"VLOOKUP(WAVA!AS113,'Points Lookup'!$A:$B,2,FALSE)","v":0},{"$f":"VLOOKUP(WAVA!AT113,'Points Lookup'!$A:$B,2,FALSE)","v":0},{"$f":"VLOOKUP(WAVA!AU113,'Points Lookup'!$A:$B,2,FALSE)","v":0},{"$f":"VLOOKUP(WAVA!AV113,'Points Lookup'!$A:$B,2,FALSE)","v":0},{"$f":"VLOOKUP(WAVA!AW113,'Points Lookup'!$A:$B,2,FALSE)","v":0},null,{"$f":"LARGE($E112:$Y112,AA$1)","v":0},0,0,0,0,0,0,0]
[113,{"$f":"WAVA!C114","v":"Jane Hart"},{"$f":"IF(ISBLANK(WAVA!F114),\"\",WAVA!F114)","v":"First"},0,{"$f":"VLOOKUP(WAVA!AC114,'Points Lookup'!$A:$B,2,FALSE)","v":0},{"$f":"VLOOKUP(WAVA!AD114,'Points Lookup'!$A:$B,2,FALSE)","v":0},{"$f":"VLOOKUP(WAVA!AE114,'Points Lookup'!$A:$B,2,FALSE)","v":0},{"$f":"VLOOKUP(WAVA!AF114,'Points Lookup'!$A:$B,2,FALSE)","v":0},{"$f":"VLOOKUP(WAVA!AG114,'Points Lookup'!$A:$B,2,FALSE)","v":0},{"$f":"VLOOKUP(WAVA!AH114,'Points Lookup'!$A:$B,2,FALSE)","v":0},{"$f":"VLOOKUP(WAVA!AI114,'Points Lookup'!$A:$B,2,FALSE)","v":0},{"$f":"VLOOKUP(WAVA!AJ114,'Points Lookup'!$A:$B,2,FALSE)","v":0},{"$f":"VLOOKUP(WAVA!AK114,'Points Lookup'!$A:$B,2,FALSE)","v":0},{"$f":"VLOOKUP(WAVA!AL114,'Points Lookup'!$A:$B,2,FALSE)","v":0},{"$f":"VLOOKUP(WAVA!AM114,'Points Lookup'!$A:$B,2,FALSE)","v":0},{"$f":"VLOOKUP(WAVA!AN114,'Points Lookup'!$A:$B,2,FALSE)","v":0},{"$f":"VLOOKUP(WAVA!AO114,'Points Lookup'!$A:$B,2,FALSE)","v":0},{"$f":"VLOOKUP(WAVA!AP114,'Points Lookup'!$A:$B,2,FALSE)","v":0},{"$f":"VLOOKUP(WAVA!AQ114,'Points Lookup'!$A:$B,2,FALSE)","v":0},{"$f":"VLOOKUP(WAVA!AR114,'Points Lookup'!$A:$B,2,FALSE)","v":0},{"$f":"VLOOKUP(WAVA!AS114,'Points Lookup'!$A:$B,2,FALSE)","v":0},{"$f":"VLOOKUP(WAVA!AT114,'Points Lookup'!$A:$B,2,FALSE)","v":0},{"$f":"VLOOKUP(WAVA!AU114,'Points Lookup'!$A:$B,2,FALSE)","v":0},{"$f":"VLOOKUP(WAVA!AV114,'Points Lookup'!$A:$B,2,FALSE)","v":0},{"$f":"VLOOKUP(WAVA!AW114,'Points Lookup'!$A:$B,2,FALSE)","v":0},null,0,0,0,0,0,0,0,0]
[113,{"$f":"WAVA!C115","v":"Tony Hart"},{"$f":"IF(ISBLANK(WAVA!F115),\"\",WAVA!F115)","v":"First"},0,{"$f":"VLOOKUP(WAVA!AC115,'Points Lookup'!$A:$B,2,FALSE)","v":0},{"$f":"VLOOKUP(WAVA!AD115,'Points Lookup'!$A:$B,2,FALSE)","v":0},{"$f":"VLOOKUP(WAVA!AE115,'Points Lookup'!$A:$B,2,FALSE)","v":0},{"$f":"VLOOKUP(WAVA!AF115,'Points Lookup'!$A:$B,2,FALSE)","v":0},{"$f":"VLOOKUP(WAVA!AG115,'Points Lookup'!$A:$B,2,FALSE)","v":0},{"$f":"VLOOKUP(WAVA!AH115,'Points Lookup'!$A:$B,2,FALSE)","v":0},{"$f":"VLOOKUP(WAVA!AI115,'Points Lookup'!$A:$B,2,FALSE)","v":0},{"$f":"VLOOKUP(WAVA!AJ115,'Points Lookup'!$A:$B,2,FALSE)","v":0},{"$f":"VLOOKUP(WAVA!AK115,'Points Lookup'!$A:$B,2,FALSE)","v":0},{"$f":"VLOOKUP(WAVA!AL115,'Points Lookup'!$A:$B,2,FALSE)","v":0},{"$f":"VLOOKUP(WAVA!AM115,'Points Lookup'!$A:$B,2,FALSE)","v":0},{"$f":"VLOOKUP(WAVA!AN115,'Points Lookup'!$A:$B,2,FALSE)","v":0},{"$f":"VLOOKUP(WAVA!AO115,'Points Lookup'!$A:$B,2,FALSE)","v":0},{"$f":"VLOOKUP(WAVA!AP115,'Points Lookup'!$A:$B,2,FALSE)","v":0},{"$f":"VLOOKUP(WAVA!AQ115,'Points Lookup'!$A:$B,2,FALSE)","v":0},{"$f":"VLOOKUP(WAVA!AR115,'Points Lookup'!$A:$B,2,FALSE)","v":0},{"$f":"VLOOKUP(WAVA!AS115,'Points Lookup'!$A:$B,2,FALSE)","v":0},{"$f":"VLOOKUP(WAVA!AT115,'Points Lookup'!$A:$B,2,FALSE)","v":0},{"$f":"VLOOKUP(WAVA!AU115,'Points Lookup'!$A:$B,2,FALSE)","v":0},{"$f":"VLOOKUP(WAVA!AV115,'Points Lookup'!$A:$B,2,FALSE)","v":0},{"$f":"VLOOKUP(WAVA!AW115,'Points Lookup'!$A:$B,2,FALSE)","v":0},null,0,0,0,0,0,0,0,0]
[113,{"$f":"WAVA!C116","v":"Louise  Hawksworth"},{"$f":"IF(ISBLANK(WAVA!F116),\"\",WAVA!F116)","v":"Second"},0,{"$f":"VLOOKUP(WAVA!AC116,'Points Lookup'!$A:$B,2,FALSE)","v":0},{"$f":"VLOOKUP(WAVA!AD116,'Points Lookup'!$A:$B,2,FALSE)","v":0},{"$f":"VLOOKUP(WAVA!AE116,'Points Lookup'!$A:$B,2,FALSE)","v":0},{"$f":"VLOOKUP(WAVA!AF116,'Points Lookup'!$A:$B,2,FALSE)","v":0},{"$f":"VLOOKUP(WAVA!AG116,'Points Lookup'!$A:$B,2,FALSE)","v":0},{"$f":"VLOOKUP(WAVA!AH116,'Points Lookup'!$A:$B,2,FALSE)","v":0},{"$f":"VLOOKUP(WAVA!AI116,'Points Lookup'!$A:$B,2,FALSE)","v":0},{"$f":"VLOOKUP(WAVA!AJ116,'Points Lookup'!$A:$B,2,FALSE)","v":0},{"$f":"VLOOKUP(WAVA!AK116,'Points Lookup'!$A:$B,2,FALSE)","v":0},{"$f":"VLOOKUP(WAVA!AL116,'Points Lookup'!$A:$B,2,FALSE)","v":0},{"$f":"VLOOKUP(WAVA!AM116,'Points Lookup'!$A:$B,2,FALSE)","v":0},{"$f":"VLOOKUP(WAVA!AN116,'Points Lookup'!$A:$B,2,FALSE)","v":0},{"$f":"VLOOKUP(WAVA!AO116,'Points Lookup'!$A:$B,2,FALSE)","v":0},{"$f":"VLOOKUP(WAVA!AP116,'Points Lookup'!$A:$B,2,FALSE)","v":0},{"$f":"VLOOKUP(WAVA!AQ116,'Points Lookup'!$A:$B,2,FALSE)","v":0},{"$f":"VLOOKUP(WAVA!AR116,'Points Lookup'!$A:$B,2,FALSE)","v":0},{"$f":"VLOOKUP(WAVA!AS116,'Points Lookup'!$A:$B,2,FALSE)","v":0},{"$f":"VLOOKUP(WAVA!AT116,'Points Lookup'!$A:$B,2,FALSE)","v":0},{"$f":"VLOOKUP(WAVA!AU116,'Points Lookup'!$A:$B,2,FALSE)","v":0},{"$f":"VLOOKUP(WAVA!AV116,'Points Lookup'!$A:$B,2,FALSE)","v":0},{"$f":"VLOOKUP(WAVA!AW116,'Points Lookup'!$A:$B,2,FALSE)","v":0},null,0,0,0,0,0,0,0,0]
[113,{"$f":"WAVA!C117","v":"Dalvinder Hellawell"},{"$f":"IF(ISBLANK(WAVA!F117),\"\",WAVA!F117)","v":"Second"},0,{"$f":"VLOOKUP(WAVA!AC117,'Points Lookup'!$A:$B,2,FALSE)","v":0},{"$f":"VLOOKUP(WAVA!AD117,'Points Lookup'!$A:$B,2,FALSE)","v":0},{"$f":"VLOOKUP(WAVA!AE117,'Points Lookup'!$A:$B,2,FALSE)","v":0},{"$f":"VLOOKUP(WAVA!AF117,'Points Lookup'!$A:$B,2,FALSE)","v":0},{"$f":"VLOOKUP(WAVA!AG117,'Points Lookup'!$A:$B,2,FALSE)","v":0},{"$f":"VLOOKUP(WAVA!AH117,'Points Lookup'!$A:$B,2,FALSE)","v":0},{"$f":"VLOOKUP(WAVA!AI117,'Points Lookup'!$A:$B,2,FALSE)","v":0},{"$f":"VLOOKUP(WAVA!AJ117,'Points Lookup'!$A:$B,2,FALSE)","v":0},{"$f":"VLOOKUP(WAVA!AK117,'Points Lookup'!$A:$B,2,FALSE)","v":0},{"$f":"VLOOKUP(WAVA!AL117,'Points Lookup'!$A:$B,2,FALSE)","v":0},{"$f":"VLOOKUP(WAVA!AM117,'Points Lookup'!$A:$B,2,FALSE)","v":0},{"$f":"VLOOKUP(WAVA!AN117,'Points Lookup'!$A:$B,2,FALSE)","v":0},{"$f":"VLOOKUP(WAVA!AO117,'Points Lookup'!$A:$B,2,FALSE)","v":0},{"$f":"VLOOKUP(WAVA!AP117,'Points Lookup'!$A:$B,2,FALSE)","v":0},{"$f":"VLOOKUP(WAVA!AQ117,'Points Lookup'!$A:$B,2,FALSE)","v":0},{"$f":"VLOOKUP(WAVA!AR117,'Points Lookup'!$A:$B,2,FALSE)","v":0},{"$f":"VLOOKUP(WAVA!AS117,'Points Lookup'!$A:$B,2,FALSE)","v":0},{"$f":"VLOOKUP(WAVA!AT117,'Points Lookup'!$A:$B,2,FALSE)","v":0},{"$f":"VLOOKUP(WAVA!AU117,'Points Lookup'!$A:$B,2,FALSE)","v":0},{"$f":"VLOOKUP(WAVA!AV117,'Points Lookup'!$A:$B,2,FALSE)","v":0},{"$f":"VLOOKUP(WAVA!AW117,'Points Lookup'!$A:$B,2,FALSE)","v":0},null,0,0,0,0,0,0,0,0]
[113,{"$f":"WAVA!C118","v":"Rachel Herar"},{"$f":"IF(ISBLANK(WAVA!F118),\"\",WAVA!F118)","v":"Second"},0,{"$f":"VLOOKUP(WAVA!AC118,'Points Lookup'!$A:$B,2,FALSE)","v":0},{"$f":"VLOOKUP(WAVA!AD118,'Points Lookup'!$A:$B,2,FALSE)","v":0},{"$f":"VLOOKUP(WAVA!AE118,'Points Lookup'!$A:$B,2,FALSE)","v":0},{"$f":"VLOOKUP(WAVA!AF118,'Points Lookup'!$A:$B,2,FALSE)","v":0},{"$f":"VLOOKUP(WAVA!AG118,'Points Lookup'!$A:$B,2,FALSE)","v":0},{"$f":"VLOOKUP(WAVA!AH118,'Points Lookup'!$A:$B,2,FALSE)","v":0},{"$f":"VLOOKUP(WAVA!AI118,'Points Lookup'!$A:$B,2,FALSE)","v":0},{"$f":"VLOOKUP(WAVA!AJ118,'Points Lookup'!$A:$B,2,FALSE)","v":0},{"$f":"VLOOKUP(WAVA!AK118,'Points Lookup'!$A:$B,2,FALSE)","v":0},{"$f":"VLOOKUP(WAVA!AL118,'Points Lookup'!$A:$B,2,FALSE)","v":0},{"$f":"VLOOKUP(WAVA!AM118,'Points Lookup'!$A:$B,2,FALSE)","v":0},{"$f":"VLOOKUP(WAVA!AN118,'Points Lookup'!$A:$B,2,FALSE)","v":0},{"$f":"VLOOKUP(WAVA!AO118,'Points Lookup'!$A:$B,2,FALSE)","v":0},{"$f":"VLOOKUP(WAVA!AP118,'Points Lookup'!$A:$B,2,FALSE)","v":0},{"$f":"VLOOKUP(WAVA!AQ118,'Points Lookup'!$A:$B,2,FALSE)","v":0},{"$f":"VLOOKUP(WAVA!AR118,'Points Lookup'!$A:$B,2,FALSE)","v":0},{"$f":"VLOOKUP(WAVA!AS118,'Points Lookup'!$A:$B,2,FALSE)","v":0},{"$f":"VLOOKUP(WAVA!AT118,'Points Lookup'!$A:$B,2,FALSE)","v":0},{"$f":"VLOOKUP(WAVA!AU118,'Points Lookup'!$A:$B,2,FALSE)","v":0},{"$f":"VLOOKUP(WAVA!AV118,'Points Lookup'!$A:$B,2,FALSE)","v":0},{"$f":"VLOOKUP(WAVA!AW118,'Points Lookup'!$A:$B,2,FALSE)","v":0},null,0,0,0,0,0,0,0,0]
[40,{"$f":"WAVA!C119","v":"Stephen Hetherington"},{"$f":"IF(ISBLANK(WAVA!F119),\"\",WAVA!F119)","v":"First"},148,{"$f":"VLOOKUP(WAVA!AC119,'Points Lookup'!$A:$B,2,FALSE)","v":0},{"$f":"VLOOKUP(WAVA!AD119,'Points Lookup'!$A:$B,2,FALSE)","v":0},{"$f":"VLOOKUP(WAVA!AE119,'Points Lookup'!$A:$B,2,FALSE)","v":49},{"$f":"VLOOKUP(WAVA!AF119,'Points Lookup'!$A:$B,2,FALSE)","v":0},{"$f":"VLOOKUP(WAVA!AG119,'Points Lookup'!$A:$B,2,FALSE)","v":0},{"$f":"VLOOKUP(WAVA!AH119,'Points Lookup'!$A:$B,2,FALSE)","v":0},{"$f":"VLOOKUP(WAVA!AI119,'Points Lookup'!$A:$B,2,FALSE)","v":0},{"$f":"VLOOKUP(WAVA!AJ119,'Points Lookup'!$A:$B,2,FALSE)","v":0},{"$f":"VLOOKUP(WAVA!AK119,'Points Lookup'!$A:$B,2,FALSE)","v":0},{"$f":"VLOOKUP(WAVA!AL119,'Points Lookup'!$A:$B,2,FALSE)","v":0},{"$f":"VLOOKUP(WAVA!AM119,'Points Lookup'!$A:$B,2,FALSE)","v":50},{"$f":"VLOOKUP(WAVA!AN119,'Points Lookup'!$A:$B,2,FALSE)","v":0},{"$f":"VLOOKUP(WAVA!AO119,'Points Lookup'!$A:$B,2,FALSE)","v":0},{"$f":"VLOOKUP(WAVA!AP119,'Points Lookup'!$A:$B,2,FALSE)","v":0},{"$f":"VLOOKUP(WAVA!AQ119,'Points Lookup'!$A:$B,2,FALSE)","v":0},{"$f":"VLOOKUP(WAVA!AR119,'Points Lookup'!$A:$B,2,FALSE)","v":0},{"$f":"VLOOKUP(WAVA!AS119,'Points Lookup'!$A:$B,2,FALSE)","v":0},{"$f":"VLOOKUP(WAVA!AT119,'Points Lookup'!$A:$B,2,FALSE)","v":49},{"$f":"VLOOKUP(WAVA!AU119,'Points Lookup'!$A:$B,2,FALSE)","v":0},{"$f":"VLOOKUP(WAVA!AV119,'Points Lookup'!$A:$B,2,FALSE)","v":0},{"$f":"VLOOKUP(WAVA!AW119,'Points Lookup'!$A:$B,2,FALSE)","v":0},null,50,49,49,0,0,0,0,0]
[91,{"$f":"WAVA!C120","v":"Wendy Hey"},{"$f":"IF(ISBLANK(WAVA!F120),\"\",WAVA!F120)","v":"Second"},47,{"$f":"VLOOKUP(WAVA!AC120,'Points Lookup'!$A:$B,2,FALSE)","v":0},{"$f":"VLOOKUP(WAVA!AD120,'Points Lookup'!$A:$B,2,FALSE)","v":0},{"$f":"VLOOKUP(WAVA!AE120,'Points Lookup'!$A:$B,2,FALSE)","v":0},{"$f":"VLOOKUP(WAVA!AF120,'Points Lookup'!$A:$B,2,FALSE)","v":0},{"$f":"VLOOKUP(WAVA!AG120,'Points Lookup'!$A:$B,2,FALSE)","v":0},{"$f":"VLOOKUP(WAVA!AH120,'Points Lookup'!$A:$B,2,FALSE)","v":0},{"$f":"VLOOKUP(WAVA!AI120,'Points Lookup'!$A:$B,2,FALSE)","v":0},{"$f":"VLOOKUP(WAVA!AJ120,'Points Lookup'!$A:$B,2,FALSE)","v":0},{"$f":"VLOOKUP(WAVA!AK120,'Points Lookup'!$A:$B,2,FALSE)","v":0},{"$f":"VLOOKUP(WAVA!AL120,'Points Lookup'!$A:$B,2,FALSE)","v":0},{"$f":"VLOOKUP(WAVA!AM120,'Points Lookup'!$A:$B,2,FALSE)","v":0},{"$f":"VLOOKUP(WAVA!AN120,'Points Lookup'!$A:$B,2,FALSE)","v":0},{"$f":"VLOOKUP(WAVA!AO120,'Points Lookup'!$A:$B,2,FALSE)","v":0},{"$f":"VLOOKUP(WAVA!AP120,'Points Lookup'!$A:$B,2,FALSE)","v":0},{"$f":"VLOOKUP(WAVA!AQ120,'Points Lookup'!$A:$B,2,FALSE)","v":47},{"$f":"VLOOKUP(WAVA!AR120,'Points Lookup'!$A:$B,2,FALSE)","v":0},{"$f":"VLOOKUP(WAVA!AS120,'Points Lookup'!$A:$B,2,FALSE)","v":0},{"$f":"VLOOKUP(WAVA!AT120,'Points Lookup'!$A:$B,2,FALSE)","v":0},{"$f":"VLOOKUP(WAVA!AU120,'Points Lookup'!$A:$B,2,FALSE)","v":0},{"$f":"VLOOKUP(WAVA!AV120,'Points Lookup'!$A:$B,2,FALSE)","v":0},{"$f":"VLOOKUP(WAVA!AW120,'Points Lookup'!$A:$B,2,FALSE)","v":0},null,47,0,0,0,0,0,0,0]
[97,{"$f":"WAVA!C121","v":"Kirstie Holmes"},{"$f":"IF(ISBLANK(WAVA!F121),\"\",WAVA!F121)","v":"Second"},44,{"$f":"VLOOKUP(WAVA!AC121,'Points Lookup'!$A:$B,2,FALSE)","v":0},{"$f":"VLOOKUP(WAVA!AD121,'Points Lookup'!$A:$B,2,FALSE)","v":0},{"$f":"VLOOKUP(WAVA!AE121,'Points Lookup'!$A:$B,2,FALSE)","v":0},{"$f":"VLOOKUP(WAVA!AF121,'Points Lookup'!$A:$B,2,FALSE)","v":0},{"$f":"VLOOKUP(WAVA!AG121,'Points Lookup'!$A:$B,2,FALSE)","v":0},{"$f":"VLOOKUP(WAVA!AH121,'Points Lookup'!$A:$B,2,FALSE)","v":0},{"$f":"VLOOKUP(WAVA!AI121,'Points Lookup'!$A:$B,2,FALSE)","v":0},{"$f":"VLOOKUP(WAVA!AJ121,'Points Lookup'!$A:$B,2,FALSE)","v":0},{"$f":"VLOOKUP(WAVA!AK121,'Points Lookup'!$A:$B,2,FALSE)","v":0},{"$f":"VLOOKUP(WAVA!AL121,'Points Lookup'!$A:$B,2,FALSE)","v":0},{"$f":"VLOOKUP(WAVA!AM121,'Points Lookup'!$A:$B,2,FALSE)","v":0},{"$f":"VLOOKUP(WAVA!AN121,'Points Lookup'!$A:$B,2,FALSE)","v":44},{"$f":"VLOOKUP(WAVA!AO121,'Points Lookup'!$A:$B,2,FALSE)","v":0},{"$f":"VLOOKUP(WAVA!AP121,'Points Lookup'!$A:$B,2,FALSE)","v":0},{"$f":"VLOOKUP(WAVA!AQ121,'Points Lookup'!$A:$B,2,FALSE)","v":0},{"$f":"VLOOKUP(WAVA!AR121,'Points Lookup'!$A:$B,2,FALSE)","v":0},{"$f":"VLOOKUP(WAVA!AS121,'Points Lookup'!$A:$B,2,FALSE)","v":0},{"$f":"VLOOKUP(WAVA!AT121,'Points Lookup'!$A:$B,2,FALSE)","v":0},{"$f":"VLOOKUP(WAVA!AU121,'Points Lookup'!$A:$B,2,FALSE)","v":0},{"$f":"VLOOKUP(WAVA!AV121,'Points Lookup'!$A:$B,2,FALSE)","v":0},{"$f":"VLOOKUP(WAVA!AW121,'Points Lookup'!$A:$B,2,FALSE)","v":0},null,44,0,0,0,0,0,0,0]
[78,{"$f":"WAVA!C122","v":"Peter Hopson"},{"$f":"IF(ISBLANK(WAVA!F122),\"\",WAVA!F122)","v":"Second"},50,{"$f":"VLOOKUP(WAVA!AC122,'Points Lookup'!$A:$B,2,FALSE)","v":0},{"$f":"VLOOKUP(WAVA!AD122,'Points Lookup'!$A:$B,2,FALSE)","v":0},{"$f":"VLOOKUP(WAVA!AE122,'Points Lookup'!$A:$B,2,FALSE)","v":0},{"$f":"VLOOKUP(WAVA!AF122,'Points Lookup'!$A:$B,2,FALSE)","v":0},{"$f":"VLOOKUP(WAVA!AG122,'Points Lookup'!$A:$B,2,FALSE)","v":0},{"$f":"VLOOKUP(WAVA!AH122,'Points Lookup'!$A:$B,2,FALSE)","v":0},{"$f":"VLOOKUP(WAVA!AI122,'Points Lookup'!$A:$B,2,FALSE)","v":0},{"$f":"VLOOKUP(WAVA!AJ122,'Points Lookup'!$A:$B,2,FALSE)","v":0},{"$f":"VLOOKUP(WAVA!AK122,'Points Lookup'!$A:$B,2,FALSE)","v":0},{"$f":"VLOOKUP(WAVA!AL122,'Points Lookup'!$A:$B,2,FALSE)","v":0},{"$f":"VLOOKUP(WAVA!AM122,'Points Lookup'!$A:$B,2,FALSE)","v":0},{"$f":"VLOOKUP(WAVA!AN122,'Points Lookup'!$A:$B,2,FALSE)","v":0},{"$f":"VLOOKUP(WAVA!AO122,'Points Lookup'!$A:$B,2,FALSE)","v":0},{"$f":"VLOOKUP(WAVA!AP122,'Points Lookup'!$A:$B,2,FALSE)","v":0},{"$f":"VLOOKUP(WAVA!AQ122,'Points Lookup'!$A:$B,2,FALSE)","v":0},{"$f":"VLOOKUP(WAVA!AR122,'Points Lookup'!$A:$B,2,FALSE)","v":0},{"$f":"VLOOKUP(WAVA!AS122,'Points Lookup'!$A:$B,2,FALSE)","v":0},{"$f":"VLOOKUP(WAVA!AT122,'Points Lookup'!$A:$B,2,FALSE)","v":0},{"$f":"VLOOKUP(WAVA!AU122,'Points Lookup'!$A:$B,2,FALSE)","v":0},{"$f":"VLOOKUP(WAVA!AV122,'Points Lookup'!$A:$B,2,FALSE)","v":50},{"$f":"VLOOKUP(WAVA!AW122,'Points Lookup'!$A:$B,2,FALSE)","v":0},null,50,0,0,0,0,0,0,0]
[113,{"$f":"WAVA!C123","v":"Claire Horton"},{"$f":"IF(ISBLANK(WAVA!F123),\"\",WAVA!F123)","v":"Second"},0,{"$f":"VLOOKUP(WAVA!AC123,'Points Lookup'!$A:$B,2,FALSE)","v":0},{"$f":"VLOOKUP(WAVA!AD123,'Points Lookup'!$A:$B,2,FALSE)","v":0},{"$f":"VLOOKUP(WAVA!AE123,'Points Lookup'!$A:$B,2,FALSE)","v":0},{"$f":"VLOOKUP(WAVA!AF123,'Points Lookup'!$A:$B,2,FALSE)","v":0},{"$f":"VLOOKUP(WAVA!AG123,'Points Lookup'!$A:$B,2,FALSE)","v":0},{"$f":"VLOOKUP(WAVA!AH123,'Points Lookup'!$A:$B,2,FALSE)","v":0},{"$f":"VLOOKUP(WAVA!AI123,'Points Lookup'!$A:$B,2,FALSE)","v":0},{"$f":"VLOOKUP(WAVA!AJ123,'Points Lookup'!$A:$B,2,FALSE)","v":0},{"$f":"VLOOKUP(WAVA!AK123,'Points Lookup'!$A:$B,2,FALSE)","v":0},{"$f":"VLOOKUP(WAVA!AL123,'Points Lookup'!$A:$B,2,FALSE)","v":0},{"$f":"VLOOKUP(WAVA!AM123,'Points Lookup'!$A:$B,2,FALSE)","v":0},{"$f":"VLOOKUP(WAVA!AN123,'Points Lookup'!$A:$B,2,FALSE)","v":0},{"$f":"VLOOKUP(WAVA!AO123,'Points Lookup'!$A:$B,2,FALSE)","v":0},{"$f":"VLOOKUP(WAVA!AP123,'Points Lookup'!$A:$B,2,FALSE)","v":0},{"$f":"VLOOKUP(WAVA!AQ123,'Points Lookup'!$A:$B,2,FALSE)","v":0},{"$f":"VLOOKUP(WAVA!AR123,'Points Lookup'!$A:$B,2,FALSE)","v":0},{"$f":"VLOOKUP(WAVA!AS123,'Points Lookup'!$A:$B,2,FALSE)","v":0},{"$f":"VLOOKUP(WAVA!AT123,'Points Lookup'!$A:$B,2,FALSE)","v":0},{"$f":"VLOOKUP(WAVA!AU123,'Points Lookup'!$A:$B,2,FALSE)","v":0},{"$f":"VLOOKUP(WAVA!AV123,'Points Lookup'!$A:$B,2,FALSE)","v":0},{"$f":"VLOOKUP(WAVA!AW123,'Points Lookup'!$A:$B,2,FALSE)","v":0},null,{"$f":"LARGE($E122:$Y122,AA$1)","v":0},0,0,0,0,0,0,0]
[90,{"$f":"WAVA!C124","v":"Peter Huby"},{"$f":"IF(ISBLANK(WAVA!F124),\"\",WAVA!F124)","v":"First"},48,{"$f":"VLOOKUP(WAVA!AC124,'Points Lookup'!$A:$B,2,FALSE)","v":0},{"$f":"VLOOKUP(WAVA!AD124,'Points Lookup'!$A:$B,2,FALSE)","v":0},{"$f":"VLOOKUP(WAVA!AE124,'Points Lookup'!$A:$B,2,FALSE)","v":0},{"$f":"VLOOKUP(WAVA!AF124,'Points Lookup'!$A:$B,2,FALSE)","v":0},{"$f":"VLOOKUP(WAVA!AG124,'Points Lookup'!$A:$B,2,FALSE)","v":0},{"$f":"VLOOKUP(WAVA!AH124,'Points Lookup'!$A:$B,2,FALSE)","v":0},{"$f":"VLOOKUP(WAVA!AI124,'Points Lookup'!$A:$B,2,FALSE)","v":0},{"$f":"VLOOKUP(WAVA!AJ124,'Points Lookup'!$A:$B,2,FALSE)","v":0},{"$f":"VLOOKUP(WAVA!AK124,'Points Lookup'!$A:$B,2,FALSE)","v":0},{"$f":"VLOOKUP(WAVA!AL124,'Points Lookup'!$A:$B,2,FALSE)","v":0},{"$f":"VLOOKUP(WAVA!AM124,'Points Lookup'!$A:$B,2,FALSE)","v":0},{"$f":"VLOOKUP(WAVA!AN124,'Points Lookup'!$A:$B,2,FALSE)","v":0},{"$f":"VLOOKUP(WAVA!AO124,'Points Lookup'!$A:$B,2,FALSE)","v":0},{"$f":"VLOOKUP(WAVA!AP124,'Points Lookup'!$A:$B,2,FALSE)","v":0},{"$f":"VLOOKUP(WAVA!AQ124,'Points Lookup'!$A:$B,2,FALSE)","v":0},{"$f":"VLOOKUP(WAVA!AR124,'Points Lookup'!$A:$B,2,FALSE)","v":0},{"$f":"VLOOKUP(WAVA!AS124,'Points Lookup'!$A:$B,2,FALSE)","v":48},{"$f":"VLOOKUP(WAVA!AT124,'Points Lookup'!$A:$B,2,FALSE)","v":0},{"$f":"VLOOKUP(WAVA!AU124,'Points Lookup'!$A:$B,2,FALSE)","v":0},{"$f":"VLOOKUP(WAVA!AV124,'Points Lookup'!$A:$B,2,FALSE)","v":0},{"$f":"VLOOKUP(WAVA!AW124,'Points Lookup'!$A:$B,2,FALSE)","v":0},null,48,0,0,0,0,0,0,0]
[101,{"$f":"WAVA!C125","v":"Ellie Hughes"},{"$f":"IF(ISBLANK(WAVA!F125),\"\",WAVA!F125)","v":"Second"},38,{"$f":"VLOOKUP(WAVA!AC125,'Points Lookup'!$A:$B,2,FALSE)","v":0},{"$f":"VLOOKUP(WAVA!AD125,'Points Lookup'!$A:$B,2,FALSE)","v":0},{"$f":"VLOOKUP(WAVA!AE125,'Points Lookup'!$A:$B,2,FALSE)","v":0},{"$f":"VLOOKUP(WAVA!AF125,'Points Lookup'!$A:$B,2,FALSE)","v":0},{"$f":"VLOOKUP(WAVA!AG125,'Points Lookup'!$A:$B,2,FALSE)","v":0},{"$f":"VLOOKUP(WAVA!AH125,'Points Lookup'!$A:$B,2,FALSE)","v":0},{"$f":"VLOOKUP(WAVA!AI125,'Points Lookup'!$A:$B,2,FALSE)","v":0},{"$f":"VLOOKUP(WAVA!AJ125,'Points Lookup'!$A:$B,2,FALSE)","v":0},{"$f":"VLOOKUP(WAVA!AK125,'Points Lookup'!$A:$B,2,FALSE)","v":0},{"$f":"VLOOKUP(WAVA!AL125,'Points Lookup'!$A:$B,2,FALSE)","v":0},{"$f":"VLOOKUP(WAVA!AM125,'Points Lookup'!$A:$B,2,FALSE)","v":0},{"$f":"VLOOKUP(WAVA!AN125,'Points Lookup'!$A:$B,2,FALSE)","v":0},{"$f":"VLOOKUP(WAVA!AO125,'Points Lookup'!$A:$B,2,FALSE)","v":0},{"$f":"VLOOKUP(WAVA!AP125,'Points Lookup'!$A:$B,2,FALSE)","v":0},{"$f":"VLOOKUP(WAVA!AQ125,'Points Lookup'!$A:$B,2,FALSE)","v":0},{"$f":"VLOOKUP(WAVA!AR125,'Points Lookup'!$A:$B,2,FALSE)","v":0},{"$f":"VLOOKUP(WAVA!AS125,'Points Lookup'!$A:$B,2,FALSE)","v":0},{"$f":"VLOOKUP(WAVA!AT125,'Points Lookup'!$A:$B,2,FALSE)","v":38},{"$f":"VLOOKUP(WAVA!AU125,'Points Lookup'!$A:$B,2,FALSE)","v":0},{"$f":"VLOOKUP(WAVA!AV125,'Points Lookup'!$A:$B,2,FALSE)","v":0},{"$f":"VLOOKUP(WAVA!AW125,'Points Lookup'!$A:$B,2,FALSE)","v":0},null,38,0,0,0,0,0,0,0]
[113,{"$f":"WAVA!C126","v":"Greg  Hull"},{"$f":"IF(ISBLANK(WAVA!F126),\"\",WAVA!F126)","v":"Second"},0,{"$f":"VLOOKUP(WAVA!AC126,'Points Lookup'!$A:$B,2,FALSE)","v":0},{"$f":"VLOOKUP(WAVA!AD126,'Points Lookup'!$A:$B,2,FALSE)","v":0},{"$f":"VLOOKUP(WAVA!AE126,'Points Lookup'!$A:$B,2,FALSE)","v":0},{"$f":"VLOOKUP(WAVA!AF126,'Points Lookup'!$A:$B,2,FALSE)","v":0},{"$f":"VLOOKUP(WAVA!AG126,'Points Lookup'!$A:$B,2,FALSE)","v":0},{"$f":"VLOOKUP(WAVA!AH126,'Points Lookup'!$A:$B,2,FALSE)","v":0},{"$f":"VLOOKUP(WAVA!AI126,'Points Lookup'!$A:$B,2,FALSE)","v":0},{"$f":"VLOOKUP(WAVA!AJ126,'Points Lookup'!$A:$B,2,FALSE)","v":0},{"$f":"VLOOKUP(WAVA!AK126,'Points Lookup'!$A:$B,2,FALSE)","v":0},{"$f":"VLOOKUP(WAVA!AL126,'Points Lookup'!$A:$B,2,FALSE)","v":0},{"$f":"VLOOKUP(WAVA!AM126,'Points Lookup'!$A:$B,2,FALSE)","v":0},{"$f":"VLOOKUP(WAVA!AN126,'Points Lookup'!$A:$B,2,FALSE)","v":0},{"$f":"VLOOKUP(WAVA!AO126,'Points Lookup'!$A:$B,2,FALSE)","v":0},{"$f":"VLOOKUP(WAVA!AP126,'Points Lookup'!$A:$B,2,FALSE)","v":0},{"$f":"VLOOKUP(WAVA!AQ126,'Points Lookup'!$A:$B,2,FALSE)","v":0},{"$f":"VLOOKUP(WAVA!AR126,'Points Lookup'!$A:$B,2,FALSE)","v":0},{"$f":"VLOOKUP(WAVA!AS126,'Points Lookup'!$A:$B,2,FALSE)","v":0},{"$f":"VLOOKUP(WAVA!AT126,'Points Lookup'!$A:$B,2,FALSE)","v":0},{"$f":"VLOOKUP(WAVA!AU126,'Points Lookup'!$A:$B,2,FALSE)","v":0},{"$f":"VLOOKUP(WAVA!AV126,'Points Lookup'!$A:$B,2,FALSE)","v":0},{"$f":"VLOOKUP(WAVA!AW126,'Points Lookup'!$A:$B,2,FALSE)","v":0},null,0,0,0,0,0,0,0,0]
[113,{"$f":"WAVA!C127","v":"John Hunt"},{"$f":"IF(ISBLANK(WAVA!F127),\"\",WAVA!F127)","v":"Second"},0,{"$f":"VLOOKUP(WAVA!AC127,'Points Lookup'!$A:$B,2,FALSE)","v":0},{"$f":"VLOOKUP(WAVA!AD127,'Points Lookup'!$A:$B,2,FALSE)","v":0},{"$f":"VLOOKUP(WAVA!AE127,'Points Lookup'!$A:$B,2,FALSE)","v":0},{"$f":"VLOOKUP(WAVA!AF127,'Points Lookup'!$A:$B,2,FALSE)","v":0},{"$f":"VLOOKUP(WAVA!AG127,'Points Lookup'!$A:$B,2,FALSE)","v":0},{"$f":"VLOOKUP(WAVA!AH127,'Points Lookup'!$A:$B,2,FALSE)","v":0},{"$f":"VLOOKUP(WAVA!AI127,'Points Lookup'!$A:$B,2,FALSE)","v":0},{"$f":"VLOOKUP(WAVA!AJ127,'Points Lookup'!$A:$B,2,FALSE)","v":0},{"$f":"VLOOKUP(WAVA!AK127,'Points Lookup'!$A:$B,2,FALSE)","v":0},{"$f":"VLOOKUP(WAVA!AL127,'Points Lookup'!$A:$B,2,FALSE)","v":0},{"$f":"VLOOKUP(WAVA!AM127,'Points Lookup'!$A:$B,2,FALSE)","v":0},{"$f":"VLOOKUP(WAVA!AN127,'Points Lookup'!$A:$B,2,FALSE)","v":0},{"$f":"VLOOKUP(WAVA!AO127,'Points Lookup'!$A:$B,2,FALSE)","v":0},{"$f":"VLOOKUP(WAVA!AP127,'Points Lookup'!$A:$B,2,FALSE)","v":0},{"$f":"VLOOKUP(WAVA!AQ127,'Points Lookup'!$A:$B,2,FALSE)","v":0},{"$f":"VLOOKUP(WAVA!AR127,'Points Lookup'!$A:$B,2,FALSE)","v":0},{"$f":"VLOOKUP(WAVA!AS127,'Points Lookup'!$A:$B,2,FALSE)","v":0},{"$f":"VLOOKUP(WAVA!AT127,'Points Lookup'!$A:$B,2,FALSE)","v":0},{"$f":"VLOOKUP(WAVA!AU127,'Points Lookup'!$A:$B,2,FALSE)","v":0},{"$f":"VLOOKUP(WAVA!AV127,'Points Lookup'!$A:$B,2,FALSE)","v":0},{"$f":"VLOOKUP(WAVA!AW127,'Points Lookup'!$A:$B,2,FALSE)","v":0},null,0,0,0,0,0,0,0,0]
[86,{"$f":"WAVA!C128","v":"Andrew Hutchinson"},{"$f":"IF(ISBLANK(WAVA!F128),\"\",WAVA!F128)","v":"Second"},49,{"$f":"VLOOKUP(WAVA!AC128,'Points Lookup'!$A:$B,2,FALSE)","v":0},{"$f":"VLOOKUP(WAVA!AD128,'Points Lookup'!$A:$B,2,FALSE)","v":0},{"$f":"VLOOKUP(WAVA!AE128,'Points Lookup'!$A:$B,2,FALSE)","v":0},{"$f":"VLOOKUP(WAVA!AF128,'Points Lookup'!$A:$B,2,FALSE)","v":0},{"$f":"VLOOKUP(WAVA!AG128,'Points Lookup'!$A:$B,2,FALSE)","v":0},{"$f":"VLOOKUP(WAVA!AH128,'Points Lookup'!$A:$B,2,FALSE)","v":0},{"$f":"VLOOKUP(WAVA!AI128,'Points Lookup'!$A:$B,2,FALSE)","v":0},{"$f":"VLOOKUP(WAVA!AJ128,'Points Lookup'!$A:$B,2,FALSE)","v":0},{"$f":"VLOOKUP(WAVA!AK128,'Points Lookup'!$A:$B,2,FALSE)","v":49},{"$f":"VLOOKUP(WAVA!AL128,'Points Lookup'!$A:$B,2,FALSE)","v":0},{"$f":"VLOOKUP(WAVA!AM128,'Points Lookup'!$A:$B,2,FALSE)","v":0},{"$f":"VLOOKUP(WAVA!AN128,'Points Lookup'!$A:$B,2,FALSE)","v":0},{"$f":"VLOOKUP(WAVA!AO128,'Points Lookup'!$A:$B,2,FALSE)","v":0},{"$f":"VLOOKUP(WAVA!AP128,'Points Lookup'!$A:$B,2,FALSE)","v":0},{"$f":"VLOOKUP(WAVA!AQ128,'Points Lookup'!$A:$B,2,FALSE)","v":0},{"$f":"VLOOKUP(WAVA!AR128,'Points Lookup'!$A:$B,2,FALSE)","v":0},{"$f":"VLOOKUP(WAVA!AS128,'Points Lookup'!$A:$B,2,FALSE)","v":0},{"$f":"VLOOKUP(WAVA!AT128,'Points Lookup'!$A:$B,2,FALSE)","v":0},{"$f":"VLOOKUP(WAVA!AU128,'Points Lookup'!$A:$B,2,FALSE)","v":0},{"$f":"VLOOKUP(WAVA!AV128,'Points Lookup'!$A:$B,2,FALSE)","v":0},{"$f":"VLOOKUP(WAVA!AW128,'Points Lookup'!$A:$B,2,FALSE)","v":0},null,49,0,0,0,0,0,0,0]
[38,{"$f":"WAVA!C129","v":"Gillian Hyde"},{"$f":"IF(ISBLANK(WAVA!F129),\"\",WAVA!F129)","v":"Premier"},154,{"$f":"VLOOKUP(WAVA!AC129,'Points Lookup'!$A:$B,2,FALSE)","v":40},{"$f":"VLOOKUP(WAVA!AD129,'Points Lookup'!$A:$B,2,FALSE)","v":0},{"$f":"VLOOKUP(WAVA!AE129,'Points Lookup'!$A:$B,2,FALSE)","v":0},{"$f":"VLOOKUP(WAVA!AF129,'Points Lookup'!$A:$B,2,FALSE)","v":42},{"$f":"VLOOKUP(WAVA!AG129,'Points Lookup'!$A:$B,2,FALSE)","v":38},{"$f":"VLOOKUP(WAVA!AH129,'Points Lookup'!$A:$B,2,FALSE)","v":0},{"$f":"VLOOKUP(WAVA!AI129,'Points Lookup'!$A:$B,2,FALSE)","v":0},{"$f":"VLOOKUP(WAVA!AJ129,'Points Lookup'!$A:$B,2,FALSE)","v":0},{"$f":"VLOOKUP(WAVA!AK129,'Points Lookup'!$A:$B,2,FALSE)","v":0},{"$f":"VLOOKUP(WAVA!AL129,'Points Lookup'!$A:$B,2,FALSE)","v":0},{"$f":"VLOOKUP(WAVA!AM129,'Points Lookup'!$A:$B,2,FALSE)","v":0},{"$f":"VLOOKUP(WAVA!AN129,'Points Lookup'!$A:$B,2,FALSE)","v":0},{"$f":"VLOOKUP(WAVA!AO129,'Points Lookup'!$A:$B,2,FALSE)","v":0},{"$f":"VLOOKUP(WAVA!AP129,'Points Lookup'!$A:$B,2,FALSE)","v":0},{"$f":"VLOOKUP(WAVA!AQ129,'Points Lookup'!$A:$B,2,FALSE)","v":0},{"$f":"VLOOKUP(WAVA!AR129,'Points Lookup'!$A:$B,2,FALSE)","v":0},{"$f":"VLOOKUP(WAVA!AS129,'Points Lookup'!$A:$B,2,FALSE)","v":0},{"$f":"VLOOKUP(WAVA!AT129,'Points Lookup'!$A:$B,2,FALSE)","v":0},{"$f":"VLOOKUP(WAVA!AU129,'Points Lookup'!$A:$B,2,FALSE)","v":34},{"$f":"VLOOKUP(WAVA!AV129,'Points Lookup'!$A:$B,2,FALSE)","v":0},{"$f":"VLOOKUP(WAVA!AW129,'Points Lookup'!$A:$B,2,FALSE)","v":0},null,42,40,38,34,0,0,0,0]
[113,{"$f":"WAVA!C130","v":"Justin Ions"},{"$f":"IF(ISBLANK(WAVA!F130),\"\",WAVA!F130)","v":"Second"},0,{"$f":"VLOOKUP(WAVA!AC130,'Points Lookup'!$A:$B,2,FALSE)","v":0},{"$f":"VLOOKUP(WAVA!AD130,'Points Lookup'!$A:$B,2,FALSE)","v":0},{"$f":"VLOOKUP(WAVA!AE130,'Points Lookup'!$A:$B,2,FALSE)","v":0},{"$f":"VLOOKUP(WAVA!AF130,'Points Lookup'!$A:$B,2,FALSE)","v":0},{"$f":"VLOOKUP(WAVA!AG130,'Points Lookup'!$A:$B,2,FALSE)","v":0},{"$f":"VLOOKUP(WAVA!AH130,'Points Lookup'!$A:$B,2,FALSE)","v":0},{"$f":"VLOOKUP(WAVA!AI130,'Points Lookup'!$A:$B,2,FALSE)","v":0},{"$f":"VLOOKUP(WAVA!AJ130,'Points Lookup'!$A:$B,2,FALSE)","v":0},{"$f":"VLOOKUP(WAVA!AK130,'Points Lookup'!$A:$B,2,FALSE)","v":0},{"$f":"VLOOKUP(WAVA!AL130,'Points Lookup'!$A:$B,2,FALSE)","v":0},{"$f":"VLOOKUP(WAVA!AM130,'Points Lookup'!$A:$B,2,FALSE)","v":0},{"$f":"VLOOKUP(WAVA!AN130,'Points Lookup'!$A:$B,2,FALSE)","v":0},{"$f":"VLOOKUP(WAVA!AO130,'Points Lookup'!$A:$B,2,FALSE)","v":0},{"$f":"VLOOKUP(WAVA!AP130,'Points Lookup'!$A:$B,2,FALSE)","v":0},{"$f":"VLOOKUP(WAVA!AQ130,'Points Lookup'!$A:$B,2,FALSE)","v":0},{"$f":"VLOOKUP(WAVA!AR130,'Points Lookup'!$A:$B,2,FALSE)","v":0},{"$f":"VLOOKUP(WAVA!AS130,'Points Lookup'!$A:$B,2,FALSE)","v":0},{"$f":"VLOOKUP(WAVA!AT130,'Points Lookup'!$A:$B,2,FALSE)","v":0},{"$f":"VLOOKUP(WAVA!AU130,'Points Lookup'!$A:$B,2,FALSE)","v":0},{"$f":"VLOOKUP(WAVA!AV130,'Points Lookup'!$A:$B,2,FALSE)","v":0},{"$f":"VLOOKUP(WAVA!AW130,'Points Lookup'!$A:$B,2,FALSE)","v":0},null,0,0,0,0,0,0,0,0]
[{"$f":"RANK(D130,D$2:D$215,)","v":113},{"$f":"WAVA!C131","v":"Stuart James"},{"$f":"IF(ISBLANK(WAVA!F131),\"\",WAVA!F131)","v":"Second"},0,{"$f":"VLOOKUP(WAVA!AC131,'Points Lookup'!$A:$B,2,FALSE)","v":0},{"$f":"VLOOKUP(WAVA!AD131,'Points Lookup'!$A:$B,2,FALSE)","v":0},{"$f":"VLOOKUP(WAVA!AE131,'Points Lookup'!$A:$B,2,FALSE)","v":0},{"$f":"VLOOKUP(WAVA!AF131,'Points Lookup'!$A:$B,2,FALSE)","v":0},{"$f":"VLOOKUP(WAVA!AG131,'Points Lookup'!$A:$B,2,FALSE)","v":0},{"$f":"VLOOKUP(WAVA!AH131,'Points Lookup'!$A:$B,2,FALSE)","v":0},{"$f":"VLOOKUP(WAVA!AI131,'Points Lookup'!$A:$B,2,FALSE)","v":0},{"$f":"VLOOKUP(WAVA!AJ131,'Points Lookup'!$A:$B,2,FALSE)","v":0},{"$f":"VLOOKUP(WAVA!AK131,'Points Lookup'!$A:$B,2,FALSE)","v":0},{"$f":"VLOOKUP(WAVA!AL131,'Points Lookup'!$A:$B,2,FALSE)","v":0},{"$f":"VLOOKUP(WAVA!AM131,'Points Lookup'!$A:$B,2,FALSE)","v":0},{"$f":"VLOOKUP(WAVA!AN131,'Points Lookup'!$A:$B,2,FALSE)","v":0},{"$f":"VLOOKUP(WAVA!AO131,'Points Lookup'!$A:$B,2,FALSE)","v":0},{"$f":"VLOOKUP(WAVA!AP131,'Points Lookup'!$A:$B,2,FALSE)","v":0},{"$f":"VLOOKUP(WAVA!AQ131,'Points Lookup'!$A:$B,2,FALSE)","v":0},{"$f":"VLOOKUP(WAVA!AR131,'Points Lookup'!$A:$B,2,FALSE)","v":0},{"$f":"VLOOKUP(WAVA!AS131,'Points Lookup'!$A:$B,2,FALSE)","v":0},{"$f":"VLOOKUP(WAVA!AT131,'Points Lookup'!$A:$B,2,FALSE)","v":0},{"$f":"VLOOKUP(WAVA!AU131,'Points Lookup'!$A:$B,2,FALSE)","v":0},{"$f":"VLOOKUP(WAVA!AV131,'Points Lookup'!$A:$B,2,FALSE)","v":0},{"$f":"VLOOKUP(WAVA!AW131,'Points Lookup'!$A:$B,2,FALSE)","v":0},null,0,0,0,0,0,0,0,0]
[3,{"$f":"WAVA!C132","v":"Ian Jenkins"},{"$f":"IF(ISBLANK(WAVA!F132),\"\",WAVA!F132)","v":"First"},{"$f":"SUM(AA131:AH131)","v":395},{"$f":"VLOOKUP(WAVA!AC132,'Points Lookup'!$A:$B,2,FALSE)","v":49},{"$f":"VLOOKUP(WAVA!AD132,'Points Lookup'!$A:$B,2,FALSE)","v":49},{"$f":"VLOOKUP(WAVA!AE132,'Points Lookup'!$A:$B,2,FALSE)","v":48},{"$f":"VLOOKUP(WAVA!AF132,'Points Lookup'!$A:$B,2,FALSE)","v":0},{"$f":"VLOOKUP(WAVA!AG132,'Points Lookup'!$A:$B,2,FALSE)","v":0},{"$f":"VLOOKUP(WAVA!AH132,'Points Lookup'!$A:$B,2,FALSE)","v":0},{"$f":"VLOOKUP(WAVA!AI132,'Points Lookup'!$A:$B,2,FALSE)","v":50},{"$f":"VLOOKUP(WAVA!AJ132,'Points Lookup'!$A:$B,2,FALSE)","v":49},{"$f":"VLOOKUP(WAVA!AK132,'Points Lookup'!$A:$B,2,FALSE)","v":0},{"$f":"VLOOKUP(WAVA!AL132,'Points Lookup'!$A:$B,2,FALSE)","v":0},{"$f":"VLOOKUP(WAVA!AM132,'Points Lookup'!$A:$B,2,FALSE)","v":49},{"$f":"VLOOKUP(WAVA!AN132,'Points Lookup'!$A:$B,2,FALSE)","v":0},{"$f":"VLOOKUP(WAVA!AO132,'Points Lookup'!$A:$B,2,FALSE)","v":0},{"$f":"VLOOKUP(WAVA!AP132,'Points Lookup'!$A:$B,2,FALSE)","v":0},{"$f":"VLOOKUP(WAVA!AQ132,'Points Lookup'!$A:$B,2,FALSE)","v":48},{"$f":"VLOOKUP(WAVA!AR132,'Points Lookup'!$A:$B,2,FALSE)","v":50},{"$f":"VLOOKUP(WAVA!AS132,'Points Lookup'!$A:$B,2,FALSE)","v":0},{"$f":"VLOOKUP(WAVA!AT132,'Points Lookup'!$A:$B,2,FALSE)","v":0},{"$f":"VLOOKUP(WAVA!AU132,'Points Lookup'!$A:$B,2,FALSE)","v":0},{"$f":"VLOOKUP(WAVA!AV132,'Points Lookup'!$A:$B,2,FALSE)","v":50},{"$f":"VLOOKUP(WAVA!AW132,'Points Lookup'!$A:$B,2,FALSE)","v":49},null,50,50,50,49,49,49,49,49]
[64,{"$f":"WAVA!C133","v":"Lucy Johnston"},{"$f":"IF(ISBLANK(WAVA!F133),\"\",WAVA!F133)","v":"Second"},86,{"$f":"VLOOKUP(WAVA!AC133,'Points Lookup'!$A:$B,2,FALSE)","v":0},{"$f":"VLOOKUP(WAVA!AD133,'Points Lookup'!$A:$B,2,FALSE)","v":0},{"$f":"VLOOKUP(WAVA!AE133,'Points Lookup'!$A:$B,2,FALSE)","v":0},{"$f":"VLOOKUP(WAVA!AF133,'Points Lookup'!$A:$B,2,FALSE)","v":0},{"$f":"VLOOKUP(WAVA!AG133,'Points Lookup'!$A:$B,2,FALSE)","v":39},{"$f":"VLOOKUP(WAVA!AH133,'Points Lookup'!$A:$B,2,FALSE)","v":0},{"$f":"VLOOKUP(WAVA!AI133,'Points Lookup'!$A:$B,2,FALSE)","v":0},{"$f":"VLOOKUP(WAVA!AJ133,'Points Lookup'!$A:$B,2,FALSE)","v":0},{"$f":"VLOOKUP(WAVA!AK133,'Points Lookup'!$A:$B,2,FALSE)","v":0},{"$f":"VLOOKUP(WAVA!AL133,'Points Lookup'!$A:$B,2,FALSE)","v":0},{"$f":"VLOOKUP(WAVA!AM133,'Points Lookup'!$A:$B,2,FALSE)","v":0},{"$f":"VLOOKUP(WAVA!AN133,'Points Lookup'!$A:$B,2,FALSE)","v":0},{"$f":"VLOOKUP(WAVA!AO133,'Points Lookup'!$A:$B,2,FALSE)","v":47},{"$f":"VLOOKUP(WAVA!AP133,'Points Lookup'!$A:$B,2,FALSE)","v":0},{"$f":"VLOOKUP(WAVA!AQ133,'Points Lookup'!$A:$B,2,FALSE)","v":0},{"$f":"VLOOKUP(WAVA!AR133,'Points Lookup'!$A:$B,2,FALSE)","v":0},{"$f":"VLOOKUP(WAVA!AS133,'Points Lookup'!$A:$B,2,FALSE)","v":0},{"$f":"VLOOKUP(WAVA!AT133,'Points Lookup'!$A:$B,2,FALSE)","v":0},{"$f":"VLOOKUP(WAVA!AU133,'Points Lookup'!$A:$B,2,FALSE)","v":0},{"$f":"VLOOKUP(WAVA!AV133,'Points Lookup'!$A:$B,2,FALSE)","v":0},{"$f":"VLOOKUP(WAVA!AW133,'Points Lookup'!$A:$B,2,FALSE)","v":0},null,{"$f":"LARGE($E132:$Y132,AA$1)","v":47},39,0,0,0,0,0,0]
[86,{"$f":"WAVA!C134","v":"Vicki Johnston"},{"$f":"IF(ISBLANK(WAVA!F134),\"\",WAVA!F134)","v":"First"},49,{"$f":"VLOOKUP(WAVA!AC134,'Points Lookup'!$A:$B,2,FALSE)","v":0},{"$f":"VLOOKUP(WAVA!AD134,'Points Lookup'!$A:$B,2,FALSE)","v":0},{"$f":"VLOOKUP(WAVA!AE134,'Points Lookup'!$A:$B,2,FALSE)","v":0},{"$f":"VLOOKUP(WAVA!AF134,'Points Lookup'!$A:$B,2,FALSE)","v":0},{"$f":"VLOOKUP(WAVA!AG134,'Points Lookup'!$A:$B,2,FALSE)","v":0},{"$f":"VLOOKUP(WAVA!AH134,'Points Lookup'!$A:$B,2,FALSE)","v":0},{"$f":"VLOOKUP(WAVA!AI134,'Points Lookup'!$A:$B,2,FALSE)","v":0},{"$f":"VLOOKUP(WAVA!AJ134,'Points Lookup'!$A:$B,2,FALSE)","v":0},{"$f":"VLOOKUP(WAVA!AK134,'Points Lookup'!$A:$B,2,FALSE)","v":0},{"$f":"VLOOKUP(WAVA!AL134,'Points Lookup'!$A:$B,2,FALSE)","v":0},{"$f":"VLOOKUP(WAVA!AM134,'Points Lookup'!$A:$B,2,FALSE)","v":0},{"$f":"VLOOKUP(WAVA!AN134,'Points Lookup'!$A:$B,2,FALSE)","v":0},{"$f":"VLOOKUP(WAVA!AO134,'Points Lookup'!$A:$B,2,FALSE)","v":49},{"$f":"VLOOKUP(WAVA!AP134,'Points Lookup'!$A:$B,2,FALSE)","v":0},{"$f":"VLOOKUP(WAVA!AQ134,'Points Lookup'!$A:$B,2,FALSE)","v":0},{"$f":"VLOOKUP(WAVA!AR134,'Points Lookup'!$A:$B,2,FALSE)","v":0},{"$f":"VLOOKUP(WAVA!AS134,'Points Lookup'!$A:$B,2,FALSE)","v":0},{"$f":"VLOOKUP(WAVA!AT134,'Points Lookup'!$A:$B,2,FALSE)","v":0},{"$f":"VLOOKUP(WAVA!AU134,'Points Lookup'!$A:$B,2,FALSE)","v":0},{"$f":"VLOOKUP(WAVA!AV134,'Points Lookup'!$A:$B,2,FALSE)","v":0},{"$f":"VLOOKUP(WAVA!AW134,'Points Lookup'!$A:$B,2,FALSE)","v":0},null,49,0,0,0,0,0,0,0]
[113,{"$f":"WAVA!C135","v":"Chris Jones"},{"$f":"IF(ISBLANK(WAVA!F135),\"\",WAVA!F135)","v":"Premier"},0,{"$f":"VLOOKUP(WAVA!AC135,'Points Lookup'!$A:$B,2,FALSE)","v":0},{"$f":"VLOOKUP(WAVA!AD135,'Points Lookup'!$A:$B,2,FALSE)","v":0},{"$f":"VLOOKUP(WAVA!AE135,'Points Lookup'!$A:$B,2,FALSE)","v":0},{"$f":"VLOOKUP(WAVA!AF135,'Points Lookup'!$A:$B,2,FALSE)","v":0},{"$f":"VLOOKUP(WAVA!AG135,'Points Lookup'!$A:$B,2,FALSE)","v":0},{"$f":"VLOOKUP(WAVA!AH135,'Points Lookup'!$A:$B,2,FALSE)","v":0},{"$f":"VLOOKUP(WAVA!AI135,'Points Lookup'!$A:$B,2,FALSE)","v":0},{"$f":"VLOOKUP(WAVA!AJ135,'Points Lookup'!$A:$B,2,FALSE)","v":0},{"$f":"VLOOKUP(WAVA!AK135,'Points Lookup'!$A:$B,2,FALSE)","v":0},{"$f":"VLOOKUP(WAVA!AL135,'Points Lookup'!$A:$B,2,FALSE)","v":0},{"$f":"VLOOKUP(WAVA!AM135,'Points Lookup'!$A:$B,2,FALSE)","v":0},{"$f":"VLOOKUP(WAVA!AN135,'Points Lookup'!$A:$B,2,FALSE)","v":0},{"$f":"VLOOKUP(WAVA!AO135,'Points Lookup'!$A:$B,2,FALSE)","v":0},{"$f":"VLOOKUP(WAVA!AP135,'Points Lookup'!$A:$B,2,FALSE)","v":0},{"$f":"VLOOKUP(WAVA!AQ135,'Points Lookup'!$A:$B,2,FALSE)","v":0},{"$f":"VLOOKUP(WAVA!AR135,'Points Lookup'!$A:$B,2,FALSE)","v":0},{"$f":"VLOOKUP(WAVA!AS135,'Points Lookup'!$A:$B,2,FALSE)","v":0},{"$f":"VLOOKUP(WAVA!AT135,'Points Lookup'!$A:$B,2,FALSE)","v":0},{"$f":"VLOOKUP(WAVA!AU135,'Points Lookup'!$A:$B,2,FALSE)","v":0},{"$f":"VLOOKUP(WAVA!AV135,'Points Lookup'!$A:$B,2,FALSE)","v":0},{"$f":"VLOOKUP(WAVA!AW135,'Points Lookup'!$A:$B,2,FALSE)","v":0},null,0,0,0,0,0,0,0,0]
[113,{"$f":"WAVA!C136","v":"Mick Jones"},{"$f":"IF(ISBLANK(WAVA!F136),\"\",WAVA!F136)","v":"Second"},0,{"$f":"VLOOKUP(WAVA!AC136,'Points Lookup'!$A:$B,2,FALSE)","v":0},{"$f":"VLOOKUP(WAVA!AD136,'Points Lookup'!$A:$B,2,FALSE)","v":0},{"$f":"VLOOKUP(WAVA!AE136,'Points Lookup'!$A:$B,2,FALSE)","v":0},{"$f":"VLOOKUP(WAVA!AF136,'Points Lookup'!$A:$B,2,FALSE)","v":0},{"$f":"VLOOKUP(WAVA!AG136,'Points Lookup'!$A:$B,2,FALSE)","v":0},{"$f":"VLOOKUP(WAVA!AH136,'Points Lookup'!$A:$B,2,FALSE)","v":0},{"$f":"VLOOKUP(WAVA!AI136,'Points Lookup'!$A:$B,2,FALSE)","v":0},{"$f":"VLOOKUP(WAVA!AJ136,'Points Lookup'!$A:$B,2,FALSE)","v":0},{"$f":"VLOOKUP(WAVA!AK136,'Points Lookup'!$A:$B,2,FALSE)","v":0},{"$f":"VLOOKUP(WAVA!AL136,'Points Lookup'!$A:$B,2,FALSE)","v":0},{"$f":"VLOOKUP(WAVA!AM136,'Points Lookup'!$A:$B,2,FALSE)","v":0},{"$f":"VLOOKUP(WAVA!AN136,'Points Lookup'!$A:$B,2,FALSE)","v":0},{"$f":"VLOOKUP(WAVA!AO136,'Points Lookup'!$A:$B,2,FALSE)","v":0},{"$f":"VLOOKUP(WAVA!AP136,'Points Lookup'!$A:$B,2,FALSE)","v":0},{"$f":"VLOOKUP(WAVA!AQ136,'Points Lookup'!$A:$B,2,FALSE)","v":0},{"$f":"VLOOKUP(WAVA!AR136,'Points Lookup'!$A:$B,2,FALSE)","v":0},{"$f":"VLOOKUP(WAVA!AS136,'Points Lookup'!$A:$B,2,FALSE)","v":0},{"$f":"VLOOKUP(WAVA!AT136,'Points Lookup'!$A:$B,2,FALSE)","v":0},{"$f":"VLOOKUP(WAVA!AU136,'Points Lookup'!$A:$B,2,FALSE)","v":0},{"$f":"VLOOKUP(WAVA!AV136,'Points Lookup'!$A:$B,2,FALSE)","v":0},{"$f":"VLOOKUP(WAVA!AW136,'Points Lookup'!$A:$B,2,FALSE)","v":0},null,0,0,0,0,0,0,0,0]
[113,{"$f":"WAVA!C137","v":"Rita Jordan"},{"$f":"IF(ISBLANK(WAVA!F137),\"\",WAVA!F137)","v":"Second"},0,{"$f":"VLOOKUP(WAVA!AC137,'Points Lookup'!$A:$B,2,FALSE)","v":0},{"$f":"VLOOKUP(WAVA!AD137,'Points Lookup'!$A:$B,2,FALSE)","v":0},{"$f":"VLOOKUP(WAVA!AE137,'Points Lookup'!$A:$B,2,FALSE)","v":0},{"$f":"VLOOKUP(WAVA!AF137,'Points Lookup'!$A:$B,2,FALSE)","v":0},{"$f":"VLOOKUP(WAVA!AG137,'Points Lookup'!$A:$B,2,FALSE)","v":0},{"$f":"VLOOKUP(WAVA!AH137,'Points Lookup'!$A:$B,2,FALSE)","v":0},{"$f":"VLOOKUP(WAVA!AI137,'Points Lookup'!$A:$B,2,FALSE)","v":0},{"$f":"VLOOKUP(WAVA!AJ137,'Points Lookup'!$A:$B,2,FALSE)","v":0},{"$f":"VLOOKUP(WAVA!AK137,'Points Lookup'!$A:$B,2,FALSE)","v":0},{"$f":"VLOOKUP(WAVA!AL137,'Points Lookup'!$A:$B,2,FALSE)","v":0},{"$f":"VLOOKUP(WAVA!AM137,'Points Lookup'!$A:$B,2,FALSE)","v":0},{"$f":"VLOOKUP(WAVA!AN137,'Points Lookup'!$A:$B,2,FALSE)","v":0},{"$f":"VLOOKUP(WAVA!AO137,'Points Lookup'!$A:$B,2,FALSE)","v":0},{"$f":"VLOOKUP(WAVA!AP137,'Points Lookup'!$A:$B,2,FALSE)","v":0},{"$f":"VLOOKUP(WAVA!AQ137,'Points Lookup'!$A:$B,2,FALSE)","v":0},{"$f":"VLOOKUP(WAVA!AR137,'Points Lookup'!$A:$B,2,FALSE)","v":0},{"$f":"VLOOKUP(WAVA!AS137,'Points Lookup'!$A:$B,2,FALSE)","v":0},{"$f":"VLOOKUP(WAVA!AT137,'Points Lookup'!$A:$B,2,FALSE)","v":0},{"$f":"VLOOKUP(WAVA!AU137,'Points Lookup'!$A:$B,2,FALSE)","v":0},{"$f":"VLOOKUP(WAVA!AV137,'Points Lookup'!$A:$B,2,FALSE)","v":0},{"$f":"VLOOKUP(WAVA!AW137,'Points Lookup'!$A:$B,2,FALSE)","v":0},null,0,0,0,0,0,0,0,0]
[102,{"$f":"WAVA!C138","v":"Keith Jump"},{"$f":"IF(ISBLANK(WAVA!F138),\"\",WAVA!F138)","v":"Second"},37,{"$f":"VLOOKUP(WAVA!AC138,'Points Lookup'!$A:$B,2,FALSE)","v":0},{"$f":"VLOOKUP(WAVA!AD138,'Points Lookup'!$A:$B,2,FALSE)","v":0},{"$f":"VLOOKUP(WAVA!AE138,'Points Lookup'!$A:$B,2,FALSE)","v":0},{"$f":"VLOOKUP(WAVA!AF138,'Points Lookup'!$A:$B,2,FALSE)","v":0},{"$f":"VLOOKUP(WAVA!AG138,'Points Lookup'!$A:$B,2,FALSE)","v":37},{"$f":"VLOOKUP(WAVA!AH138,'Points Lookup'!$A:$B,2,FALSE)","v":0},{"$f":"VLOOKUP(WAVA!AI138,'Points Lookup'!$A:$B,2,FALSE)","v":0},{"$f":"VLOOKUP(WAVA!AJ138,'Points Lookup'!$A:$B,2,FALSE)","v":0},{"$f":"VLOOKUP(WAVA!AK138,'Points Lookup'!$A:$B,2,FALSE)","v":0},{"$f":"VLOOKUP(WAVA!AL138,'Points Lookup'!$A:$B,2,FALSE)","v":0},{"$f":"VLOOKUP(WAVA!AM138,'Points Lookup'!$A:$B,2,FALSE)","v":0},{"$f":"VLOOKUP(WAVA!AN138,'Points Lookup'!$A:$B,2,FALSE)","v":0},{"$f":"VLOOKUP(WAVA!AO138,'Points Lookup'!$A:$B,2,FALSE)","v":0},{"$f":"VLOOKUP(WAVA!AP138,'Points Lookup'!$A:$B,2,FALSE)","v":0},{"$f":"VLOOKUP(WAVA!AQ138,'Points Lookup'!$A:$B,2,FALSE)","v":0},{"$f":"VLOOKUP(WAVA!AR138,'Points Lookup'!$A:$B,2,FALSE)","v":0},{"$f":"VLOOKUP(WAVA!AS138,'Points Lookup'!$A:$B,2,FALSE)","v":0},{"$f":"VLOOKUP(WAVA!AT138,'Points Lookup'!$A:$B,2,FALSE)","v":0},{"$f":"VLOOKUP(WAVA!AU138,'Points Lookup'!$A:$B,2,FALSE)","v":0},{"$f":"VLOOKUP(WAVA!AV138,'Points Lookup'!$A:$B,2,FALSE)","v":0},{"$f":"VLOOKUP(WAVA!AW138,'Points Lookup'!$A:$B,2,FALSE)","v":0},null,37,0,0,0,0,0,0,0]
[112,{"$f":"WAVA!C139","v":"Kanwaldeep Kaur"},{"$f":"IF(ISBLANK(WAVA!F139),\"\",WAVA!F139)","v":"Second"},27,{"$f":"VLOOKUP(WAVA!AC139,'Points Lookup'!$A:$B,2,FALSE)","v":0},{"$f":"VLOOKUP(WAVA!AD139,'Points Lookup'!$A:$B,2,FALSE)","v":27},{"$f":"VLOOKUP(WAVA!AE139,'Points Lookup'!$A:$B,2,FALSE)","v":0},{"$f":"VLOOKUP(WAVA!AF139,'Points Lookup'!$A:$B,2,FALSE)","v":0},{"$f":"VLOOKUP(WAVA!AG139,'Points Lookup'!$A:$B,2,FALSE)","v":0},{"$f":"VLOOKUP(WAVA!AH139,'Points Lookup'!$A:$B,2,FALSE)","v":0},{"$f":"VLOOKUP(WAVA!AI139,'Points Lookup'!$A:$B,2,FALSE)","v":0},{"$f":"VLOOKUP(WAVA!AJ139,'Points Lookup'!$A:$B,2,FALSE)","v":0},{"$f":"VLOOKUP(WAVA!AK139,'Points Lookup'!$A:$B,2,FALSE)","v":0},{"$f":"VLOOKUP(WAVA!AL139,'Points Lookup'!$A:$B,2,FALSE)","v":0},{"$f":"VLOOKUP(WAVA!AM139,'Points Lookup'!$A:$B,2,FALSE)","v":0},{"$f":"VLOOKUP(WAVA!AN139,'Points Lookup'!$A:$B,2,FALSE)","v":0},{"$f":"VLOOKUP(WAVA!AO139,'Points Lookup'!$A:$B,2,FALSE)","v":0},{"$f":"VLOOKUP(WAVA!AP139,'Points Lookup'!$A:$B,2,FALSE)","v":0},{"$f":"VLOOKUP(WAVA!AQ139,'Points Lookup'!$A:$B,2,FALSE)","v":0},{"$f":"VLOOKUP(WAVA!AR139,'Points Lookup'!$A:$B,2,FALSE)","v":0},{"$f":"VLOOKUP(WAVA!AS139,'Points Lookup'!$A:$B,2,FALSE)","v":0},{"$f":"VLOOKUP(WAVA!AT139,'Points Lookup'!$A:$B,2,FALSE)","v":0},{"$f":"VLOOKUP(WAVA!AU139,'Points Lookup'!$A:$B,2,FALSE)","v":0},{"$f":"VLOOKUP(WAVA!AV139,'Points Lookup'!$A:$B,2,FALSE)","v":0},{"$f":"VLOOKUP(WAVA!AW139,'Points Lookup'!$A:$B,2,FALSE)","v":0},null,27,0,0,0,0,0,0,0]
[113,{"$f":"WAVA!C140","v":"Paul Keeling"},{"$f":"IF(ISBLANK(WAVA!F140),\"\",WAVA!F140)","v":"Second"},0,{"$f":"VLOOKUP(WAVA!AC140,'Points Lookup'!$A:$B,2,FALSE)","v":0},{"$f":"VLOOKUP(WAVA!AD140,'Points Lookup'!$A:$B,2,FALSE)","v":0},{"$f":"VLOOKUP(WAVA!AE140,'Points Lookup'!$A:$B,2,FALSE)","v":0},{"$f":"VLOOKUP(WAVA!AF140,'Points Lookup'!$A:$B,2,FALSE)","v":0},{"$f":"VLOOKUP(WAVA!AG140,'Points Lookup'!$A:$B,2,FALSE)","v":0},{"$f":"VLOOKUP(WAVA!AH140,'Points Lookup'!$A:$B,2,FALSE)","v":0},{"$f":"VLOOKUP(WAVA!AI140,'Points Lookup'!$A:$B,2,FALSE)","v":0},{"$f":"VLOOKUP(WAVA!AJ140,'Points Lookup'!$A:$B,2,FALSE)","v":0},{"$f":"VLOOKUP(WAVA!AK140,'Points Lookup'!$A:$B,2,FALSE)","v":0},{"$f":"VLOOKUP(WAVA!AL140,'Points Lookup'!$A:$B,2,FALSE)","v":0},{"$f":"VLOOKUP(WAVA!AM140,'Points Lookup'!$A:$B,2,FALSE)","v":0},{"$f":"VLOOKUP(WAVA!AN140,'Points Lookup'!$A:$B,2,FALSE)","v":0},{"$f":"VLOOKUP(WAVA!AO140,'Points Lookup'!$A:$B,2,FALSE)","v":0},{"$f":"VLOOKUP(WAVA!AP140,'Points Lookup'!$A:$B,2,FALSE)","v":0},{"$f":"VLOOKUP(WAVA!AQ140,'Points Lookup'!$A:$B,2,FALSE)","v":0},{"$f":"VLOOKUP(WAVA!AR140,'Points Lookup'!$A:$B,2,FALSE)","v":0},{"$f":"VLOOKUP(WAVA!AS140,'Points Lookup'!$A:$B,2,FALSE)","v":0},{"$f":"VLOOKUP(WAVA!AT140,'Points Lookup'!$A:$B,2,FALSE)","v":0},{"$f":"VLOOKUP(WAVA!AU140,'Points Lookup'!$A:$B,2,FALSE)","v":0},{"$f":"VLOOKUP(WAVA!AV140,'Points Lookup'!$A:$B,2,FALSE)","v":0},{"$f":"VLOOKUP(WAVA!AW140,'Points Lookup'!$A:$B,2,FALSE)","v":0},null,0,0,0,0,0,0,0,0]
[113,{"$f":"WAVA!C141","v":"Camille Kendall"},{"$f":"IF(ISBLANK(WAVA!F141),\"\",WAVA!F141)","v":"Second"},0,{"$f":"VLOOKUP(WAVA!AC141,'Points Lookup'!$A:$B,2,FALSE)","v":0},{"$f":"VLOOKUP(WAVA!AD141,'Points Lookup'!$A:$B,2,FALSE)","v":0},{"$f":"VLOOKUP(WAVA!AE141,'Points Lookup'!$A:$B,2,FALSE)","v":0},{"$f":"VLOOKUP(WAVA!AF141,'Points Lookup'!$A:$B,2,FALSE)","v":0},{"$f":"VLOOKUP(WAVA!AG141,'Points Lookup'!$A:$B,2,FALSE)","v":0},{"$f":"VLOOKUP(WAVA!AH141,'Points Lookup'!$A:$B,2,FALSE)","v":0},{"$f":"VLOOKUP(WAVA!AI141,'Points Lookup'!$A:$B,2,FALSE)","v":0},{"$f":"VLOOKUP(WAVA!AJ141,'Points Lookup'!$A:$B,2,FALSE)","v":0},{"$f":"VLOOKUP(WAVA!AK141,'Points Lookup'!$A:$B,2,FALSE)","v":0},{"$f":"VLOOKUP(WAVA!AL141,'Points Lookup'!$A:$B,2,FALSE)","v":0},{"$f":"VLOOKUP(WAVA!AM141,'Points Lookup'!$A:$B,2,FALSE)","v":0},{"$f":"VLOOKUP(WAVA!AN141,'Points Lookup'!$A:$B,2,FALSE)","v":0},{"$f":"VLOOKUP(WAVA!AO141,'Points Lookup'!$A:$B,2,FALSE)","v":0},{"$f":"VLOOKUP(WAVA!AP141,'Points Lookup'!$A:$B,2,FALSE)","v":0},{"$f":"VLOOKUP(WAVA!AQ141,'Points Lookup'!$A:$B,2,FALSE)","v":0},{"$f":"VLOOKUP(WAVA!AR141,'Points Lookup'!$A:$B,2,FALSE)","v":0},{"$f":"VLOOKUP(WAVA!AS141,'Points Lookup'!$A:$B,2,FALSE)","v":0},{"$f":"VLOOKUP(WAVA!AT141,'Points Lookup'!$A:$B,2,FALSE)","v":0},{"$f":"VLOOKUP(WAVA!AU141,'Points Lookup'!$A:$B,2,FALSE)","v":0},{"$f":"VLOOKUP(WAVA!AV141,'Points Lookup'!$A:$B,2,FALSE)","v":0},{"$f":"VLOOKUP(WAVA!AW141,'Points Lookup'!$A:$B,2,FALSE)","v":0},null,0,0,0,0,0,0,0,0]
[78,{"$f":"WAVA!C142","v":"Carl Kernick"},{"$f":"IF(ISBLANK(WAVA!F142),\"\",WAVA!F142)","v":"Second"},50,{"$f":"VLOOKUP(WAVA!AC142,'Points Lookup'!$A:$B,2,FALSE)","v":0},{"$f":"VLOOKUP(WAVA!AD142,'Points Lookup'!$A:$B,2,FALSE)","v":0},{"$f":"VLOOKUP(WAVA!AE142,'Points Lookup'!$A:$B,2,FALSE)","v":0},{"$f":"VLOOKUP(WAVA!AF142,'Points Lookup'!$A:$B,2,FALSE)","v":0},{"$f":"VLOOKUP(WAVA!AG142,'Points Lookup'!$A:$B,2,FALSE)","v":0},{"$f":"VLOOKUP(WAVA!AH142,'Points Lookup'!$A:$B,2,FALSE)","v":0},{"$f":"VLOOKUP(WAVA!AI142,'Points Lookup'!$A:$B,2,FALSE)","v":0},{"$f":"VLOOKUP(WAVA!AJ142,'Points Lookup'!$A:$B,2,FALSE)","v":0},{"$f":"VLOOKUP(WAVA!AK142,'Points Lookup'!$A:$B,2,FALSE)","v":0},{"$f":"VLOOKUP(WAVA!AL142,'Points Lookup'!$A:$B,2,FALSE)","v":0},{"$f":"VLOOKUP(WAVA!AM142,'Points Lookup'!$A:$B,2,FALSE)","v":50},{"$f":"VLOOKUP(WAVA!AN142,'Points Lookup'!$A:$B,2,FALSE)","v":0},{"$f":"VLOOKUP(WAVA!AO142,'Points Lookup'!$A:$B,2,FALSE)","v":0},{"$f":"VLOOKUP(WAVA!AP142,'Points Lookup'!$A:$B,2,FALSE)","v":0},{"$f":"VLOOKUP(WAVA!AQ142,'Points Lookup'!$A:$B,2,FALSE)","v":0},{"$f":"VLOOKUP(WAVA!AR142,'Points Lookup'!$A:$B,2,FALSE)","v":0},{"$f":"VLOOKUP(WAVA!AS142,'Points Lookup'!$A:$B,2,FALSE)","v":0},{"$f":"VLOOKUP(WAVA!AT142,'Points Lookup'!$A:$B,2,FALSE)","v":0},{"$f":"VLOOKUP(WAVA!AU142,'Points Lookup'!$A:$B,2,FALSE)","v":0},{"$f":"VLOOKUP(WAVA!AV142,'Points Lookup'!$A:$B,2,FALSE)","v":0},{"$f":"VLOOKUP(WAVA!AW142,'Points Lookup'!$A:$B,2,FALSE)","v":0},null,50,0,0,0,0,0,0,0]
[2,{"$f":"WAVA!C143","v":"Will Kerr"},{"$f":"IF(ISBLANK(WAVA!F143),\"\",WAVA!F143)","v":"Premier"},398,{"$f":"VLOOKUP(WAVA!AC143,'Points Lookup'!$A:$B,2,FALSE)","v":0},{"$f":"VLOOKUP(WAVA!AD143,'Points Lookup'!$A:$B,2,FALSE)","v":0},{"$f":"VLOOKUP(WAVA!AE143,'Points Lookup'!$A:$B,2,FALSE)","v":0},{"$f":"VLOOKUP(WAVA!AF143,'Points Lookup'!$A:$B,2,FALSE)","v":50},{"$f":"VLOOKUP(WAVA!AG143,'Points Lookup'!$A:$B,2,FALSE)","v":50},{"$f":"VLOOKUP(WAVA!AH143,'Points Lookup'!$A:$B,2,FALSE)","v":50},{"$f":"VLOOKUP(WAVA!AI143,'Points Lookup'!$A:$B,2,FALSE)","v":0},{"$f":"VLOOKUP(WAVA!AJ143,'Points Lookup'!$A:$B,2,FALSE)","v":50},{"$f":"VLOOKUP(WAVA!AK143,'Points Lookup'!$A:$B,2,FALSE)","v":0},{"$f":"VLOOKUP(WAVA!AL143,'Points Lookup'!$A:$B,2,FALSE)","v":0},{"$f":"VLOOKUP(WAVA!AM143,'Points Lookup'!$A:$B,2,FALSE)","v":49},{"$f":"VLOOKUP(WAVA!AN143,'Points Lookup'!$A:$B,2,FALSE)","v":49},{"$f":"VLOOKUP(WAVA!AO143,'Points Lookup'!$A:$B,2,FALSE)","v":0},{"$f":"VLOOKUP(WAVA!AP143,'Points Lookup'!$A:$B,2,FALSE)","v":0},{"$f":"VLOOKUP(WAVA!AQ143,'Points Lookup'!$A:$B,2,FALSE)","v":50},{"$f":"VLOOKUP(WAVA!AR143,'Points Lookup'!$A:$B,2,FALSE)","v":49},{"$f":"VLOOKUP(WAVA!AS143,'Points Lookup'!$A:$B,2,FALSE)","v":0},{"$f":"VLOOKUP(WAVA!AT143,'Points Lookup'!$A:$B,2,FALSE)","v":48},{"$f":"VLOOKUP(WAVA!AU143,'Points Lookup'!$A:$B,2,FALSE)","v":0},{"$f":"VLOOKUP(WAVA!AV143,'Points Lookup'!$A:$B,2,FALSE)","v":0},{"$f":"VLOOKUP(WAVA!AW143,'Points Lookup'!$A:$B,2,FALSE)","v":50},null,{"$f":"LARGE($E142:$Y142,AA$1)","v":50},50,50,50,50,50,49,49]
[106,{"$f":"WAVA!C144","v":"Sikander Khan"},{"$f":"IF(ISBLANK(WAVA!F144),\"\",WAVA!F144)","v":"Second"},34,{"$f":"VLOOKUP(WAVA!AC144,'Points Lookup'!$A:$B,2,FALSE)","v":0},{"$f":"VLOOKUP(WAVA!AD144,'Points Lookup'!$A:$B,2,FALSE)","v":34},{"$f":"VLOOKUP(WAVA!AE144,'Points Lookup'!$A:$B,2,FALSE)","v":0},{"$f":"VLOOKUP(WAVA!AF144,'Points Lookup'!$A:$B,2,FALSE)","v":0},{"$f":"VLOOKUP(WAVA!AG144,'Points Lookup'!$A:$B,2,FALSE)","v":0},{"$f":"VLOOKUP(WAVA!AH144,'Points Lookup'!$A:$B,2,FALSE)","v":0},{"$f":"VLOOKUP(WAVA!AI144,'Points Lookup'!$A:$B,2,FALSE)","v":0},{"$f":"VLOOKUP(WAVA!AJ144,'Points Lookup'!$A:$B,2,FALSE)","v":0},{"$f":"VLOOKUP(WAVA!AK144,'Points Lookup'!$A:$B,2,FALSE)","v":0},{"$f":"VLOOKUP(WAVA!AL144,'Points Lookup'!$A:$B,2,FALSE)","v":0},{"$f":"VLOOKUP(WAVA!AM144,'Points Lookup'!$A:$B,2,FALSE)","v":0},{"$f":"VLOOKUP(WAVA!AN144,'Points Lookup'!$A:$B,2,FALSE)","v":0},{"$f":"VLOOKUP(WAVA!AO144,'Points Lookup'!$A:$B,2,FALSE)","v":0},{"$f":"VLOOKUP(WAVA!AP144,'Points Lookup'!$A:$B,2,FALSE)","v":0},{"$f":"VLOOKUP(WAVA!AQ144,'Points Lookup'!$A:$B,2,FALSE)","v":0},{"$f":"VLOOKUP(WAVA!AR144,'Points Lookup'!$A:$B,2,FALSE)","v":0},{"$f":"VLOOKUP(WAVA!AS144,'Points Lookup'!$A:$B,2,FALSE)","v":0},{"$f":"VLOOKUP(WAVA!AT144,'Points Lookup'!$A:$B,2,FALSE)","v":0},{"$f":"VLOOKUP(WAVA!AU144,'Points Lookup'!$A:$B,2,FALSE)","v":0},{"$f":"VLOOKUP(WAVA!AV144,'Points Lookup'!$A:$B,2,FALSE)","v":0},{"$f":"VLOOKUP(WAVA!AW144,'Points Lookup'!$A:$B,2,FALSE)","v":0},null,34,0,0,0,0,0,0,0]
[63,{"$f":"WAVA!C145","v":"Simon Kingsnorth"},{"$f":"IF(ISBLANK(WAVA!F145),\"\",WAVA!F145)","v":"Premier"},87,{"$f":"VLOOKUP(WAVA!AC145,'Points Lookup'!$A:$B,2,FALSE)","v":0},{"$f":"VLOOKUP(WAVA!AD145,'Points Lookup'!$A:$B,2,FALSE)","v":0},{"$f":"VLOOKUP(WAVA!AE145,'Points Lookup'!$A:$B,2,FALSE)","v":0},{"$f":"VLOOKUP(WAVA!AF145,'Points Lookup'!$A:$B,2,FALSE)","v":0},{"$f":"VLOOKUP(WAVA!AG145,'Points Lookup'!$A:$B,2,FALSE)","v":0},{"$f":"VLOOKUP(WAVA!AH145,'Points Lookup'!$A:$B,2,FALSE)","v":0},{"$f":"VLOOKUP(WAVA!AI145,'Points Lookup'!$A:$B,2,FALSE)","v":0},{"$f":"VLOOKUP(WAVA!AJ145,'Points Lookup'!$A:$B,2,FALSE)","v":0},{"$f":"VLOOKUP(WAVA!AK145,'Points Lookup'!$A:$B,2,FALSE)","v":0},{"$f":"VLOOKUP(WAVA!AL145,'Points Lookup'!$A:$B,2,FALSE)","v":0},{"$f":"VLOOKUP(WAVA!AM145,'Points Lookup'!$A:$B,2,FALSE)","v":0},{"$f":"VLOOKUP(WAVA!AN145,'Points Lookup'!$A:$B,2,FALSE)","v":0},{"$f":"VLOOKUP(WAVA!AO145,'Points Lookup'!$A:$B,2,FALSE)","v":0},{"$f":"VLOOKUP(WAVA!AP145,'Points Lookup'!$A:$B,2,FALSE)","v":0},{"$f":"VLOOKUP(WAVA!AQ145,'Points Lookup'!$A:$B,2,FALSE)","v":0},{"$f":"VLOOKUP(WAVA!AR145,'Points Lookup'!$A:$B,2,FALSE)","v":0},{"$f":"VLOOKUP(WAVA!AS145,'Points Lookup'!$A:$B,2,FALSE)","v":0},{"$f":"VLOOKUP(WAVA!AT145,'Points Lookup'!$A:$B,2,FALSE)","v":0},{"$f":"VLOOKUP(WAVA!AU145,'Points Lookup'!$A:$B,2,FALSE)","v":0},{"$f":"VLOOKUP(WAVA!AV145,'Points Lookup'!$A:$B,2,FALSE)","v":43},{"$f":"VLOOKUP(WAVA!AW145,'Points Lookup'!$A:$B,2,FALSE)","v":44},null,44,43,0,0,0,0,0,0]
[113,{"$f":"WAVA!C146","v":"Simon Latimer"},{"$f":"IF(ISBLANK(WAVA!F146),\"\",WAVA!F146)","v":"Second"},0,{"$f":"VLOOKUP(WAVA!AC146,'Points Lookup'!$A:$B,2,FALSE)","v":0},{"$f":"VLOOKUP(WAVA!AD146,'Points Lookup'!$A:$B,2,FALSE)","v":0},{"$f":"VLOOKUP(WAVA!AE146,'Points Lookup'!$A:$B,2,FALSE)","v":0},{"$f":"VLOOKUP(WAVA!AF146,'Points Lookup'!$A:$B,2,FALSE)","v":0},{"$f":"VLOOKUP(WAVA!AG146,'Points Lookup'!$A:$B,2,FALSE)","v":0},{"$f":"VLOOKUP(WAVA!AH146,'Points Lookup'!$A:$B,2,FALSE)","v":0},{"$f":"VLOOKUP(WAVA!AI146,'Points Lookup'!$A:$B,2,FALSE)","v":0},{"$f":"VLOOKUP(WAVA!AJ146,'Points Lookup'!$A:$B,2,FALSE)","v":0},{"$f":"VLOOKUP(WAVA!AK146,'Points Lookup'!$A:$B,2,FALSE)","v":0},{"$f":"VLOOKUP(WAVA!AL146,'Points Lookup'!$A:$B,2,FALSE)","v":0},{"$f":"VLOOKUP(WAVA!AM146,'Points Lookup'!$A:$B,2,FALSE)","v":0},{"$f":"VLOOKUP(WAVA!AN146,'Points Lookup'!$A:$B,2,FALSE)","v":0},{"$f":"VLOOKUP(WAVA!AO146,'Points Lookup'!$A:$B,2,FALSE)","v":0},{"$f":"VLOOKUP(WAVA!AP146,'Points Lookup'!$A:$B,2,FALSE)","v":0},{"$f":"VLOOKUP(WAVA!AQ146,'Points Lookup'!$A:$B,2,FALSE)","v":0},{"$f":"VLOOKUP(WAVA!AR146,'Points Lookup'!$A:$B,2,FALSE)","v":0},{"$f":"VLOOKUP(WAVA!AS146,'Points Lookup'!$A:$B,2,FALSE)","v":0},{"$f":"VLOOKUP(WAVA!AT146,'Points Lookup'!$A:$B,2,FALSE)","v":0},{"$f":"VLOOKUP(WAVA!AU146,'Points Lookup'!$A:$B,2,FALSE)","v":0},{"$f":"VLOOKUP(WAVA!AV146,'Points Lookup'!$A:$B,2,FALSE)","v":0},{"$f":"VLOOKUP(WAVA!AW146,'Points Lookup'!$A:$B,2,FALSE)","v":0},null,0,0,0,0,0,0,0,0]
[113,{"$f":"WAVA!C147","v":"Matthew Lawson"},{"$f":"IF(ISBLANK(WAVA!F147),\"\",WAVA!F147)","v":"Second"},0,{"$f":"VLOOKUP(WAVA!AC147,'Points Lookup'!$A:$B,2,FALSE)","v":0},{"$f":"VLOOKUP(WAVA!AD147,'Points Lookup'!$A:$B,2,FALSE)","v":0},{"$f":"VLOOKUP(WAVA!AE147,'Points Lookup'!$A:$B,2,FALSE)","v":0},{"$f":"VLOOKUP(WAVA!AF147,'Points Lookup'!$A:$B,2,FALSE)","v":0},{"$f":"VLOOKUP(WAVA!AG147,'Points Lookup'!$A:$B,2,FALSE)","v":0},{"$f":"VLOOKUP(WAVA!AH147,'Points Lookup'!$A:$B,2,FALSE)","v":0},{"$f":"VLOOKUP(WAVA!AI147,'Points Lookup'!$A:$B,2,FALSE)","v":0},{"$f":"VLOOKUP(WAVA!AJ147,'Points Lookup'!$A:$B,2,FALSE)","v":0},{"$f":"VLOOKUP(WAVA!AK147,'Points Lookup'!$A:$B,2,FALSE)","v":0},{"$f":"VLOOKUP(WAVA!AL147,'Points Lookup'!$A:$B,2,FALSE)","v":0},{"$f":"VLOOKUP(WAVA!AM147,'Points Lookup'!$A:$B,2,FALSE)","v":0},{"$f":"VLOOKUP(WAVA!AN147,'Points Lookup'!$A:$B,2,FALSE)","v":0},{"$f":"VLOOKUP(WAVA!AO147,'Points Lookup'!$A:$B,2,FALSE)","v":0},{"$f":"VLOOKUP(WAVA!AP147,'Points Lookup'!$A:$B,2,FALSE)","v":0},{"$f":"VLOOKUP(WAVA!AQ147,'Points Lookup'!$A:$B,2,FALSE)","v":0},{"$f":"VLOOKUP(WAVA!AR147,'Points Lookup'!$A:$B,2,FALSE)","v":0},{"$f":"VLOOKUP(WAVA!AS147,'Points Lookup'!$A:$B,2,FALSE)","v":0},{"$f":"VLOOKUP(WAVA!AT147,'Points Lookup'!$A:$B,2,FALSE)","v":0},{"$f":"VLOOKUP(WAVA!AU147,'Points Lookup'!$A:$B,2,FALSE)","v":0},{"$f":"VLOOKUP(WAVA!AV147,'Points Lookup'!$A:$B,2,FALSE)","v":0},{"$f":"VLOOKUP(WAVA!AW147,'Points Lookup'!$A:$B,2,FALSE)","v":0},null,0,0,0,0,0,0,0,0]
[49,{"$f":"WAVA!C148","v":"Tom Lee"},{"$f":"IF(ISBLANK(WAVA!F148),\"\",WAVA!F148)","v":"Second"},98,{"$f":"VLOOKUP(WAVA!AC148,'Points Lookup'!$A:$B,2,FALSE)","v":0},{"$f":"VLOOKUP(WAVA!AD148,'Points Lookup'!$A:$B,2,FALSE)","v":0},{"$f":"VLOOKUP(WAVA!AE148,'Points Lookup'!$A:$B,2,FALSE)","v":0},{"$f":"VLOOKUP(WAVA!AF148,'Points Lookup'!$A:$B,2,FALSE)","v":0},{"$f":"VLOOKUP(WAVA!AG148,'Points Lookup'!$A:$B,2,FALSE)","v":0},{"$f":"VLOOKUP(WAVA!AH148,'Points Lookup'!$A:$B,2,FALSE)","v":0},{"$f":"VLOOKUP(WAVA!AI148,'Points Lookup'!$A:$B,2,FALSE)","v":0},{"$f":"VLOOKUP(WAVA!AJ148,'Points Lookup'!$A:$B,2,FALSE)","v":0},{"$f":"VLOOKUP(WAVA!AK148,'Points Lookup'!$A:$B,2,FALSE)","v":0},{"$f":"VLOOKUP(WAVA!AL148,'Points Lookup'!$A:$B,2,FALSE)","v":0},{"$f":"VLOOKUP(WAVA!AM148,'Points Lookup'!$A:$B,2,FALSE)","v":0},{"$f":"VLOOKUP(WAVA!AN148,'Points Lookup'!$A:$B,2,FALSE)","v":0},{"$f":"VLOOKUP(WAVA!AO148,'Points Lookup'!$A:$B,2,FALSE)","v":0},{"$f":"VLOOKUP(WAVA!AP148,'Points Lookup'!$A:$B,2,FALSE)","v":0},{"$f":"VLOOKUP(WAVA!AQ148,'Points Lookup'!$A:$B,2,FALSE)","v":0},{"$f":"VLOOKUP(WAVA!AR148,'Points Lookup'!$A:$B,2,FALSE)","v":0},{"$f":"VLOOKUP(WAVA!AS148,'Points Lookup'!$A:$B,2,FALSE)","v":0},{"$f":"VLOOKUP(WAVA!AT148,'Points Lookup'!$A:$B,2,FALSE)","v":0},{"$f":"VLOOKUP(WAVA!AU148,'Points Lookup'!$A:$B,2,FALSE)","v":0},{"$f":"VLOOKUP(WAVA!AV148,'Points Lookup'!$A:$B,2,FALSE)","v":48},{"$f":"VLOOKUP(WAVA!AW148,'Points Lookup'!$A:$B,2,FALSE)","v":50},null,50,48,0,0,0,0,0,0]
[113,{"$f":"WAVA!C149","v":"helen leetham"},{"$f":"IF(ISBLANK(WAVA!F149),\"\",WAVA!F149)","v":"Second"},0,{"$f":"VLOOKUP(WAVA!AC149,'Points Lookup'!$A:$B,2,FALSE)","v":0},{"$f":"VLOOKUP(WAVA!AD149,'Points Lookup'!$A:$B,2,FALSE)","v":0},{"$f":"VLOOKUP(WAVA!AE149,'Points Lookup'!$A:$B,2,FALSE)","v":0},{"$f":"VLOOKUP(WAVA!AF149,'Points Lookup'!$A:$B,2,FALSE)","v":0},{"$f":"VLOOKUP(WAVA!AG149,'Points Lookup'!$A:$B,2,FALSE)","v":0},{"$f":"VLOOKUP(WAVA!AH149,'Points Lookup'!$A:$B,2,FALSE)","v":0},{"$f":"VLOOKUP(WAVA!AI149,'Points Lookup'!$A:$B,2,FALSE)","v":0},{"$f":"VLOOKUP(WAVA!AJ149,'Points Lookup'!$A:$B,2,FALSE)","v":0},{"$f":"VLOOKUP(WAVA!AK149,'Points Lookup'!$A:$B,2,FALSE)","v":0},{"$f":"VLOOKUP(WAVA!AL149,'Points Lookup'!$A:$B,2,FALSE)","v":0},{"$f":"VLOOKUP(WAVA!AM149,'Points Lookup'!$A:$B,2,FALSE)","v":0},{"$f":"VLOOKUP(WAVA!AN149,'Points Lookup'!$A:$B,2,FALSE)","v":0},{"$f":"VLOOKUP(WAVA!AO149,'Points Lookup'!$A:$B,2,FALSE)","v":0},{"$f":"VLOOKUP(WAVA!AP149,'Points Lookup'!$A:$B,2,FALSE)","v":0},{"$f":"VLOOKUP(WAVA!AQ149,'Points Lookup'!$A:$B,2,FALSE)","v":0},{"$f":"VLOOKUP(WAVA!AR149,'Points Lookup'!$A:$B,2,FALSE)","v":0},{"$f":"VLOOKUP(WAVA!AS149,'Points Lookup'!$A:$B,2,FALSE)","v":0},{"$f":"VLOOKUP(WAVA!AT149,'Points Lookup'!$A:$B,2,FALSE)","v":0},{"$f":"VLOOKUP(WAVA!AU149,'Points Lookup'!$A:$B,2,FALSE)","v":0},{"$f":"VLOOKUP(WAVA!AV149,'Points Lookup'!$A:$B,2,FALSE)","v":0},{"$f":"VLOOKUP(WAVA!AW149,'Points Lookup'!$A:$B,2,FALSE)","v":0},null,0,0,0,0,0,0,0,0]
[16,{"$f":"WAVA!C150","v":"Barney Lerner"},{"$f":"IF(ISBLANK(WAVA!F150),\"\",WAVA!F150)","v":"Premier"},281,{"$f":"VLOOKUP(WAVA!AC150,'Points Lookup'!$A:$B,2,FALSE)","v":46},{"$f":"VLOOKUP(WAVA!AD150,'Points Lookup'!$A:$B,2,FALSE)","v":0},{"$f":"VLOOKUP(WAVA!AE150,'Points Lookup'!$A:$B,2,FALSE)","v":0},{"$f":"VLOOKUP(WAVA!AF150,'Points Lookup'!$A:$B,2,FALSE)","v":0},{"$f":"VLOOKUP(WAVA!AG150,'Points Lookup'!$A:$B,2,FALSE)","v":45},{"$f":"VLOOKUP(WAVA!AH150,'Points Lookup'!$A:$B,2,FALSE)","v":0},{"$f":"VLOOKUP(WAVA!AI150,'Points Lookup'!$A:$B,2,FALSE)","v":0},{"$f":"VLOOKUP(WAVA!AJ150,'Points Lookup'!$A:$B,2,FALSE)","v":0},{"$f":"VLOOKUP(WAVA!AK150,'Points Lookup'!$A:$B,2,FALSE)","v":0},{"$f":"VLOOKUP(WAVA!AL150,'Points Lookup'!$A:$B,2,FALSE)","v":0},{"$f":"VLOOKUP(WAVA!AM150,'Points Lookup'!$A:$B,2,FALSE)","v":47},{"$f":"VLOOKUP(WAVA!AN150,'Points Lookup'!$A:$B,2,FALSE)","v":47},{"$f":"VLOOKUP(WAVA!AO150,'Points Lookup'!$A:$B,2,FALSE)","v":0},{"$f":"VLOOKUP(WAVA!AP150,'Points Lookup'!$A:$B,2,FALSE)","v":0},{"$f":"VLOOKUP(WAVA!AQ150,'Points Lookup'!$A:$B,2,FALSE)","v":47},{"$f":"VLOOKUP(WAVA!AR150,'Points Lookup'!$A:$B,2,FALSE)","v":0},{"$f":"VLOOKUP(WAVA!AS150,'Points Lookup'!$A:$B,2,FALSE)","v":0},{"$f":"VLOOKUP(WAVA!AT150,'Points Lookup'!$A:$B,2,FALSE)","v":0},{"$f":"VLOOKUP(WAVA!AU150,'Points Lookup'!$A:$B,2,FALSE)","v":49},{"$f":"VLOOKUP(WAVA!AV150,'Points Lookup'!$A:$B,2,FALSE)","v":0},{"$f":"VLOOKUP(WAVA!AW150,'Points Lookup'!$A:$B,2,FALSE)","v":0},null,49,47,47,47,46,45,0,0]
[113,{"$f":"WAVA!C151","v":"sandie lewis"},{"$f":"IF(ISBLANK(WAVA!F151),\"\",WAVA!F151)","v":"Second"},0,{"$f":"VLOOKUP(WAVA!AC151,'Points Lookup'!$A:$B,2,FALSE)","v":0},{"$f":"VLOOKUP(WAVA!AD151,'Points Lookup'!$A:$B,2,FALSE)","v":0},{"$f":"VLOOKUP(WAVA!AE151,'Points Lookup'!$A:$B,2,FALSE)","v":0},{"$f":"VLOOKUP(WAVA!AF151,'Points Lookup'!$A:$B,2,FALSE)","v":0},{"$f":"VLOOKUP(WAVA!AG151,'Points Lookup'!$A:$B,2,FALSE)","v":0},{"$f":"VLOOKUP(WAVA!AH151,'Points Lookup'!$A:$B,2,FALSE)","v":0},{"$f":"VLOOKUP(WAVA!AI151,'Points Lookup'!$A:$B,2,FALSE)","v":0},{"$f":"VLOOKUP(WAVA!AJ151,'Points Lookup'!$A:$B,2,FALSE)","v":0},{"$f":"VLOOKUP(WAVA!AK151,'Points Lookup'!$A:$B,2,FALSE)","v":0},{"$f":"VLOOKUP(WAVA!AL151,'Points Lookup'!$A:$B,2,FALSE)","v":0},{"$f":"VLOOKUP(WAVA!AM151,'Points Lookup'!$A:$B,2,FALSE)","v":0},{"$f":"VLOOKUP(WAVA!AN151,'Points Lookup'!$A:$B,2,FALSE)","v":0},{"$f":"VLOOKUP(WAVA!AO151,'Points Lookup'!$A:$B,2,FALSE)","v":0},{"$f":"VLOOKUP(WAVA!AP151,'Points Lookup'!$A:$B,2,FALSE)","v":0},{"$f":"VLOOKUP(WAVA!AQ151,'Points Lookup'!$A:$B,2,FALSE)","v":0},{"$f":"VLOOKUP(WAVA!AR151,'Points Lookup'!$A:$B,2,FALSE)","v":0},{"$f":"VLOOKUP(WAVA!AS151,'Points Lookup'!$A:$B,2,FALSE)","v":0},{"$f":"VLOOKUP(WAVA!AT151,'Points Lookup'!$A:$B,2,FALSE)","v":0},{"$f":"VLOOKUP(WAVA!AU151,'Points Lookup'!$A:$B,2,FALSE)","v":0},{"$f":"VLOOKUP(WAVA!AV151,'Points Lookup'!$A:$B,2,FALSE)","v":0},{"$f":"VLOOKUP(WAVA!AW151,'Points Lookup'!$A:$B,2,FALSE)","v":0},null,0,0,0,0,0,0,0,0]
[113,{"$f":"WAVA!C152","v":"Donna Line"},{"$f":"IF(ISBLANK(WAVA!F152),\"\",WAVA!F152)","v":"Second"},0,{"$f":"VLOOKUP(WAVA!AC152,'Points Lookup'!$A:$B,2,FALSE)","v":0},{"$f":"VLOOKUP(WAVA!AD152,'Points Lookup'!$A:$B,2,FALSE)","v":0},{"$f":"VLOOKUP(WAVA!AE152,'Points Lookup'!$A:$B,2,FALSE)","v":0},{"$f":"VLOOKUP(WAVA!AF152,'Points Lookup'!$A:$B,2,FALSE)","v":0},{"$f":"VLOOKUP(WAVA!AG152,'Points Lookup'!$A:$B,2,FALSE)","v":0},{"$f":"VLOOKUP(WAVA!AH152,'Points Lookup'!$A:$B,2,FALSE)","v":0},{"$f":"VLOOKUP(WAVA!AI152,'Points Lookup'!$A:$B,2,FALSE)","v":0},{"$f":"VLOOKUP(WAVA!AJ152,'Points Lookup'!$A:$B,2,FALSE)","v":0},{"$f":"VLOOKUP(WAVA!AK152,'Points Lookup'!$A:$B,2,FALSE)","v":0},{"$f":"VLOOKUP(WAVA!AL152,'Points Lookup'!$A:$B,2,FALSE)","v":0},{"$f":"VLOOKUP(WAVA!AM152,'Points Lookup'!$A:$B,2,FALSE)","v":0},{"$f":"VLOOKUP(WAVA!AN152,'Points Lookup'!$A:$B,2,FALSE)","v":0},{"$f":"VLOOKUP(WAVA!AO152,'Points Lookup'!$A:$B,2,FALSE)","v":0},{"$f":"VLOOKUP(WAVA!AP152,'Points Lookup'!$A:$B,2,FALSE)","v":0},{"$f":"VLOOKUP(WAVA!AQ152,'Points Lookup'!$A:$B,2,FALSE)","v":0},{"$f":"VLOOKUP(WAVA!AR152,'Points Lookup'!$A:$B,2,FALSE)","v":0},{"$f":"VLOOKUP(WAVA!AS152,'Points Lookup'!$A:$B,2,FALSE)","v":0},{"$f":"VLOOKUP(WAVA!AT152,'Points Lookup'!$A:$B,2,FALSE)","v":0},{"$f":"VLOOKUP(WAVA!AU152,'Points Lookup'!$A:$B,2,FALSE)","v":0},{"$f":"VLOOKUP(WAVA!AV152,'Points Lookup'!$A:$B,2,FALSE)","v":0},{"$f":"VLOOKUP(WAVA!AW152,'Points Lookup'!$A:$B,2,FALSE)","v":0},null,0,0,0,0,0,0,0,0]
[59,{"$f":"WAVA!C153","v":"Darren Longhorn"},{"$f":"IF(ISBLANK(WAVA!F153),\"\",WAVA!F153)","v":"Premier"},91,{"$f":"VLOOKUP(WAVA!AC153,'Points Lookup'!$A:$B,2,FALSE)","v":0},{"$f":"VLOOKUP(WAVA!AD153,'Points Lookup'!$A:$B,2,FALSE)","v":0},{"$f":"VLOOKUP(WAVA!AE153,'Points Lookup'!$A:$B,2,FALSE)","v":0},{"$f":"VLOOKUP(WAVA!AF153,'Points Lookup'!$A:$B,2,FALSE)","v":0},{"$f":"VLOOKUP(WAVA!AG153,'Points Lookup'!$A:$B,2,FALSE)","v":0},{"$f":"VLOOKUP(WAVA!AH153,'Points Lookup'!$A:$B,2,FALSE)","v":0},{"$f":"VLOOKUP(WAVA!AI153,'Points Lookup'!$A:$B,2,FALSE)","v":0},{"$f":"VLOOKUP(WAVA!AJ153,'Points Lookup'!$A:$B,2,FALSE)","v":45},{"$f":"VLOOKUP(WAVA!AK153,'Points Lookup'!$A:$B,2,FALSE)","v":0},{"$f":"VLOOKUP(WAVA!AL153,'Points Lookup'!$A:$B,2,FALSE)","v":0},{"$f":"VLOOKUP(WAVA!AM153,'Points Lookup'!$A:$B,2,FALSE)","v":0},{"$f":"VLOOKUP(WAVA!AN153,'Points Lookup'!$A:$B,2,FALSE)","v":0},{"$f":"VLOOKUP(WAVA!AO153,'Points Lookup'!$A:$B,2,FALSE)","v":0},{"$f":"VLOOKUP(WAVA!AP153,'Points Lookup'!$A:$B,2,FALSE)","v":0},{"$f":"VLOOKUP(WAVA!AQ153,'Points Lookup'!$A:$B,2,FALSE)","v":0},{"$f":"VLOOKUP(WAVA!AR153,'Points Lookup'!$A:$B,2,FALSE)","v":0},{"$f":"VLOOKUP(WAVA!AS153,'Points Lookup'!$A:$B,2,FALSE)","v":0},{"$f":"VLOOKUP(WAVA!AT153,'Points Lookup'!$A:$B,2,FALSE)","v":0},{"$f":"VLOOKUP(WAVA!AU153,'Points Lookup'!$A:$B,2,FALSE)","v":0},{"$f":"VLOOKUP(WAVA!AV153,'Points Lookup'!$A:$B,2,FALSE)","v":46},{"$f":"VLOOKUP(WAVA!AW153,'Points Lookup'!$A:$B,2,FALSE)","v":0},null,{"$f":"LARGE($E152:$Y152,AA$1)","v":46},45,0,0,0,0,0,0]
[5,{"$f":"WAVA!C154","v":"Helen Love"},{"$f":"IF(ISBLANK(WAVA!F154),\"\",WAVA!F154)","v":"Premier"},388,{"$f":"VLOOKUP(WAVA!AC154,'Points Lookup'!$A:$B,2,FALSE)","v":49},{"$f":"VLOOKUP(WAVA!AD154,'Points Lookup'!$A:$B,2,FALSE)","v":49},{"$f":"VLOOKUP(WAVA!AE154,'Points Lookup'!$A:$B,2,FALSE)","v":49},{"$f":"VLOOKUP(WAVA!AF154,'Points Lookup'!$A:$B,2,FALSE)","v":47},{"$f":"VLOOKUP(WAVA!AG154,'Points Lookup'!$A:$B,2,FALSE)","v":48},{"$f":"VLOOKUP(WAVA!AH154,'Points Lookup'!$A:$B,2,FALSE)","v":0},{"$f":"VLOOKUP(WAVA!AI154,'Points Lookup'!$A:$B,2,FALSE)","v":47},{"$f":"VLOOKUP(WAVA!AJ154,'Points Lookup'!$A:$B,2,FALSE)","v":49},{"$f":"VLOOKUP(WAVA!AK154,'Points Lookup'!$A:$B,2,FALSE)","v":0},{"$f":"VLOOKUP(WAVA!AL154,'Points Lookup'!$A:$B,2,FALSE)","v":0},{"$f":"VLOOKUP(WAVA!AM154,'Points Lookup'!$A:$B,2,FALSE)","v":45},{"$f":"VLOOKUP(WAVA!AN154,'Points Lookup'!$A:$B,2,FALSE)","v":0},{"$f":"VLOOKUP(WAVA!AO154,'Points Lookup'!$A:$B,2,FALSE)","v":49},{"$f":"VLOOKUP(WAVA!AP154,'Points Lookup'!$A:$B,2,FALSE)","v":0},{"$f":"VLOOKUP(WAVA!AQ154,'Points Lookup'!$A:$B,2,FALSE)","v":48},{"$f":"VLOOKUP(WAVA!AR154,'Points Lookup'!$A:$B,2,FALSE)","v":0},{"$f":"VLOOKUP(WAVA!AS154,'Points Lookup'!$A:$B,2,FALSE)","v":0},{"$f":"VLOOKUP(WAVA!AT154,'Points Lookup'!$A:$B,2,FALSE)","v":47},{"$f":"VLOOKUP(WAVA!AU154,'Points Lookup'!$A:$B,2,FALSE)","v":44},{"$f":"VLOOKUP(WAVA!AV154,'Points Lookup'!$A:$B,2,FALSE)","v":0},{"$f":"VLOOKUP(WAVA!AW154,'Points Lookup'!$A:$B,2,FALSE)","v":0},null,49,49,49,49,49,48,48,47]
[16,{"$f":"WAVA!C155","v":"Martin Love"},{"$f":"IF(ISBLANK(WAVA!F155),\"\",WAVA!F155)","v":"Premier"},281,{"$f":"VLOOKUP(WAVA!AC155,'Points Lookup'!$A:$B,2,FALSE)","v":0},{"$f":"VLOOKUP(WAVA!AD155,'Points Lookup'!$A:$B,2,FALSE)","v":0},{"$f":"VLOOKUP(WAVA!AE155,'Points Lookup'!$A:$B,2,FALSE)","v":0},{"$f":"VLOOKUP(WAVA!AF155,'Points Lookup'!$A:$B,2,FALSE)","v":0},{"$f":"VLOOKUP(WAVA!AG155,'Points Lookup'!$A:$B,2,FALSE)","v":0},{"$f":"VLOOKUP(WAVA!AH155,'Points Lookup'!$A:$B,2,FALSE)","v":0},{"$f":"VLOOKUP(WAVA!AI155,'Points Lookup'!$A:$B,2,FALSE)","v":48},{"$f":"VLOOKUP(WAVA!AJ155,'Points Lookup'!$A:$B,2,FALSE)","v":47},{"$f":"VLOOKUP(WAVA!AK155,'Points Lookup'!$A:$B,2,FALSE)","v":0},{"$f":"VLOOKUP(WAVA!AL155,'Points Lookup'!$A:$B,2,FALSE)","v":49},{"$f":"VLOOKUP(WAVA!AM155,'Points Lookup'!$A:$B,2,FALSE)","v":44},{"$f":"VLOOKUP(WAVA!AN155,'Points Lookup'!$A:$B,2,FALSE)","v":0},{"$f":"VLOOKUP(WAVA!AO155,'Points Lookup'!$A:$B,2,FALSE)","v":0},{"$f":"VLOOKUP(WAVA!AP155,'Points Lookup'!$A:$B,2,FALSE)","v":0},{"$f":"VLOOKUP(WAVA!AQ155,'Points Lookup'!$A:$B,2,FALSE)","v":0},{"$f":"VLOOKUP(WAVA!AR155,'Points Lookup'!$A:$B,2,FALSE)","v":0},{"$f":"VLOOKUP(WAVA!AS155,'Points Lookup'!$A:$B,2,FALSE)","v":0},{"$f":"VLOOKUP(WAVA!AT155,'Points Lookup'!$A:$B,2,FALSE)","v":45},{"$f":"VLOOKUP(WAVA!AU155,'Points Lookup'!$A:$B,2,FALSE)","v":48},{"$f":"VLOOKUP(WAVA!AV155,'Points Lookup'!$A:$B,2,FALSE)","v":0},{"$f":"VLOOKUP(WAVA!AW155,'Points Lookup'!$A:$B,2,FALSE)","v":0},null,49,48,48,47,45,44,0,0]
[99,{"$f":"WAVA!C156","v":"Ben Marchant"},{"$f":"IF(ISBLANK(WAVA!F156),\"\",WAVA!F156)","v":"Premier"},41,{"$f":"VLOOKUP(WAVA!AC156,'Points Lookup'!$A:$B,2,FALSE)","v":0},{"$f":"VLOOKUP(WAVA!AD156,'Points Lookup'!$A:$B,2,FALSE)","v":0},{"$f":"VLOOKUP(WAVA!AE156,'Points Lookup'!$A:$B,2,FALSE)","v":0},{"$f":"VLOOKUP(WAVA!AF156,'Points Lookup'!$A:$B,2,FALSE)","v":0},{"$f":"VLOOKUP(WAVA!AG156,'Points Lookup'!$A:$B,2,FALSE)","v":0},{"$f":"VLOOKUP(WAVA!AH156,'Points Lookup'!$A:$B,2,FALSE)","v":0},{"$f":"VLOOKUP(WAVA!AI156,'Points Lookup'!$A:$B,2,FALSE)","v":0},{"$f":"VLOOKUP(WAVA!AJ156,'Points Lookup'!$A:$B,2,FALSE)","v":0},{"$f":"VLOOKUP(WAVA!AK156,'Points Lookup'!$A:$B,2,FALSE)","v":0},{"$f":"VLOOKUP(WAVA!AL156,'Points Lookup'!$A:$B,2,FALSE)","v":0},{"$f":"VLOOKUP(WAVA!AM156,'Points Lookup'!$A:$B,2,FALSE)","v":0},{"$f":"VLOOKUP(WAVA!AN156,'Points Lookup'!$A:$B,2,FALSE)","v":0},{"$f":"VLOOKUP(WAVA!AO156,'Points Lookup'!$A:$B,2,FALSE)","v":0},{"$f":"VLOOKUP(WAVA!AP156,'Points Lookup'!$A:$B,2,FALSE)","v":0},{"$f":"VLOOKUP(WAVA!AQ156,'Points Lookup'!$A:$B,2,FALSE)","v":0},{"$f":"VLOOKUP(WAVA!AR156,'Points Lookup'!$A:$B,2,FALSE)","v":0},{"$f":"VLOOKUP(WAVA!AS156,'Points Lookup'!$A:$B,2,FALSE)","v":0},{"$f":"VLOOKUP(WAVA!AT156,'Points Lookup'!$A:$B,2,FALSE)","v":0},{"$f":"VLOOKUP(WAVA!AU156,'Points Lookup'!$A:$B,2,FALSE)","v":41},{"$f":"VLOOKUP(WAVA!AV156,'Points Lookup'!$A:$B,2,FALSE)","v":0},{"$f":"VLOOKUP(WAVA!AW156,'Points Lookup'!$A:$B,2,FALSE)","v":0},null,41,0,0,0,0,0,0,0]
[86,{"$f":"WAVA!C157","v":"Laura Marchant"},{"$f":"IF(ISBLANK(WAVA!F157),\"\",WAVA!F157)","v":"Second"},49,{"$f":"VLOOKUP(WAVA!AC157,'Points Lookup'!$A:$B,2,FALSE)","v":0},{"$f":"VLOOKUP(WAVA!AD157,'Points Lookup'!$A:$B,2,FALSE)","v":0},{"$f":"VLOOKUP(WAVA!AE157,'Points Lookup'!$A:$B,2,FALSE)","v":0},{"$f":"VLOOKUP(WAVA!AF157,'Points Lookup'!$A:$B,2,FALSE)","v":0},{"$f":"VLOOKUP(WAVA!AG157,'Points Lookup'!$A:$B,2,FALSE)","v":0},{"$f":"VLOOKUP(WAVA!AH157,'Points Lookup'!$A:$B,2,FALSE)","v":0},{"$f":"VLOOKUP(WAVA!AI157,'Points Lookup'!$A:$B,2,FALSE)","v":0},{"$f":"VLOOKUP(WAVA!AJ157,'Points Lookup'!$A:$B,2,FALSE)","v":0},{"$f":"VLOOKUP(WAVA!AK157,'Points Lookup'!$A:$B,2,FALSE)","v":0},{"$f":"VLOOKUP(WAVA!AL157,'Points Lookup'!$A:$B,2,FALSE)","v":0},{"$f":"VLOOKUP(WAVA!AM157,'Points Lookup'!$A:$B,2,FALSE)","v":0},{"$f":"VLOOKUP(WAVA!AN157,'Points Lookup'!$A:$B,2,FALSE)","v":0},{"$f":"VLOOKUP(WAVA!AO157,'Points Lookup'!$A:$B,2,FALSE)","v":0},{"$f":"VLOOKUP(WAVA!AP157,'Points Lookup'!$A:$B,2,FALSE)","v":0},{"$f":"VLOOKUP(WAVA!AQ157,'Points Lookup'!$A:$B,2,FALSE)","v":0},{"$f":"VLOOKUP(WAVA!AR157,'Points Lookup'!$A:$B,2,FALSE)","v":0},{"$f":"VLOOKUP(WAVA!AS157,'Points Lookup'!$A:$B,2,FALSE)","v":0},{"$f":"VLOOKUP(WAVA!AT157,'Points Lookup'!$A:$B,2,FALSE)","v":0},{"$f":"VLOOKUP(WAVA!AU157,'Points Lookup'!$A:$B,2,FALSE)","v":49},{"$f":"VLOOKUP(WAVA!AV157,'Points Lookup'!$A:$B,2,FALSE)","v":0},{"$f":"VLOOKUP(WAVA!AW157,'Points Lookup'!$A:$B,2,FALSE)","v":0},null,49,0,0,0,0,0,0,0]
[113,{"$f":"WAVA!C158","v":"Charlotte Martin 1"},{"$f":"IF(ISBLANK(WAVA!F158),\"\",WAVA!F158)","v":"Second"},0,{"$f":"VLOOKUP(WAVA!AC158,'Points Lookup'!$A:$B,2,FALSE)","v":0},{"$f":"VLOOKUP(WAVA!AD158,'Points Lookup'!$A:$B,2,FALSE)","v":0},{"$f":"VLOOKUP(WAVA!AE158,'Points Lookup'!$A:$B,2,FALSE)","v":0},{"$f":"VLOOKUP(WAVA!AF158,'Points Lookup'!$A:$B,2,FALSE)","v":0},{"$f":"VLOOKUP(WAVA!AG158,'Points Lookup'!$A:$B,2,FALSE)","v":0},{"$f":"VLOOKUP(WAVA!AH158,'Points Lookup'!$A:$B,2,FALSE)","v":0},{"$f":"VLOOKUP(WAVA!AI158,'Points Lookup'!$A:$B,2,FALSE)","v":0},{"$f":"VLOOKUP(WAVA!AJ158,'Points Lookup'!$A:$B,2,FALSE)","v":0},{"$f":"VLOOKUP(WAVA!AK158,'Points Lookup'!$A:$B,2,FALSE)","v":0},{"$f":"VLOOKUP(WAVA!AL158,'Points Lookup'!$A:$B,2,FALSE)","v":0},{"$f":"VLOOKUP(WAVA!AM158,'Points Lookup'!$A:$B,2,FALSE)","v":0},{"$f":"VLOOKUP(WAVA!AN158,'Points Lookup'!$A:$B,2,FALSE)","v":0},{"$f":"VLOOKUP(WAVA!AO158,'Points Lookup'!$A:$B,2,FALSE)","v":0},{"$f":"VLOOKUP(WAVA!AP158,'Points Lookup'!$A:$B,2,FALSE)","v":0},{"$f":"VLOOKUP(WAVA!AQ158,'Points Lookup'!$A:$B,2,FALSE)","v":0},{"$f":"VLOOKUP(WAVA!AR158,'Points Lookup'!$A:$B,2,FALSE)","v":0},{"$f":"VLOOKUP(WAVA!AS158,'Points Lookup'!$A:$B,2,FALSE)","v":0},{"$f":"VLOOKUP(WAVA!AT158,'Points Lookup'!$A:$B,2,FALSE)","v":0},{"$f":"VLOOKUP(WAVA!AU158,'Points Lookup'!$A:$B,2,FALSE)","v":0},{"$f":"VLOOKUP(WAVA!AV158,'Points Lookup'!$A:$B,2,FALSE)","v":0},{"$f":"VLOOKUP(WAVA!AW158,'Points Lookup'!$A:$B,2,FALSE)","v":0},null,0,0,0,0,0,0,0,0]
[72,{"$f":"WAVA!C159","v":"charlotte martin"},{"$f":"IF(ISBLANK(WAVA!F159),\"\",WAVA!F159)","v":"Second"},71,{"$f":"VLOOKUP(WAVA!AC159,'Points Lookup'!$A:$B,2,FALSE)","v":0},{"$f":"VLOOKUP(WAVA!AD159,'Points Lookup'!$A:$B,2,FALSE)","v":0},{"$f":"VLOOKUP(WAVA!AE159,'Points Lookup'!$A:$B,2,FALSE)","v":0},{"$f":"VLOOKUP(WAVA!AF159,'Points Lookup'!$A:$B,2,FALSE)","v":0},{"$f":"VLOOKUP(WAVA!AG159,'Points Lookup'!$A:$B,2,FALSE)","v":0},{"$f":"VLOOKUP(WAVA!AH159,'Points Lookup'!$A:$B,2,FALSE)","v":0},{"$f":"VLOOKUP(WAVA!AI159,'Points Lookup'!$A:$B,2,FALSE)","v":0},{"$f":"VLOOKUP(WAVA!AJ159,'Points Lookup'!$A:$B,2,FALSE)","v":0},{"$f":"VLOOKUP(WAVA!AK159,'Points Lookup'!$A:$B,2,FALSE)","v":0},{"$f":"VLOOKUP(WAVA!AL159,'Points Lookup'!$A:$B,2,FALSE)","v":0},{"$f":"VLOOKUP(WAVA!AM159,'Points Lookup'!$A:$B,2,FALSE)","v":0},{"$f":"VLOOKUP(WAVA!AN159,'Points Lookup'!$A:$B,2,FALSE)","v":0},{"$f":"VLOOKUP(WAVA!AO159,'Points Lookup'!$A:$B,2,FALSE)","v":0},{"$f":"VLOOKUP(WAVA!AP159,'Points Lookup'!$A:$B,2,FALSE)","v":0},{"$f":"VLOOKUP(WAVA!AQ159,'Points Lookup'!$A:$B,2,FALSE)","v":0},{"$f":"VLOOKUP(WAVA!AR159,'Points Lookup'!$A:$B,2,FALSE)","v":0},{"$f":"VLOOKUP(WAVA!AS159,'Points Lookup'!$A:$B,2,FALSE)","v":0},{"$f":"VLOOKUP(WAVA!AT159,'Points Lookup'!$A:$B,2,FALSE)","v":39},{"$f":"VLOOKUP(WAVA!AU159,'Points Lookup'!$A:$B,2,FALSE)","v":0},{"$f":"VLOOKUP(WAVA!AV159,'Points Lookup'!$A:$B,2,FALSE)","v":32},{"$f":"VLOOKUP(WAVA!AW159,'Points Lookup'!$A:$B,2,FALSE)","v":0},null,39,32,0,0,0,0,0,0]
[113,{"$f":"WAVA!C160","v":"Tina Martiny"},{"$f":"IF(ISBLANK(WAVA!F160),\"\",WAVA!F160)","v":"Second"},0,{"$f":"VLOOKUP(WAVA!AC160,'Points Lookup'!$A:$B,2,FALSE)","v":0},{"$f":"VLOOKUP(WAVA!AD160,'Points Lookup'!$A:$B,2,FALSE)","v":0},{"$f":"VLOOKUP(WAVA!AE160,'Points Lookup'!$A:$B,2,FALSE)","v":0},{"$f":"VLOOKUP(WAVA!AF160,'Points Lookup'!$A:$B,2,FALSE)","v":0},{"$f":"VLOOKUP(WAVA!AG160,'Points Lookup'!$A:$B,2,FALSE)","v":0},{"$f":"VLOOKUP(WAVA!AH160,'Points Lookup'!$A:$B,2,FALSE)","v":0},{"$f":"VLOOKUP(WAVA!AI160,'Points Lookup'!$A:$B,2,FALSE)","v":0},{"$f":"VLOOKUP(WAVA!AJ160,'Points Lookup'!$A:$B,2,FALSE)","v":0},{"$f":"VLOOKUP(WAVA!AK160,'Points Lookup'!$A:$B,2,FALSE)","v":0},{"$f":"VLOOKUP(WAVA!AL160,'Points Lookup'!$A:$B,2,FALSE)","v":0},{"$f":"VLOOKUP(WAVA!AM160,'Points Lookup'!$A:$B,2,FALSE)","v":0},{"$f":"VLOOKUP(WAVA!AN160,'Points Lookup'!$A:$B,2,FALSE)","v":0},{"$f":"VLOOKUP(WAVA!AO160,'Points Lookup'!$A:$B,2,FALSE)","v":0},{"$f":"VLOOKUP(WAVA!AP160,'Points Lookup'!$A:$B,2,FALSE)","v":0},{"$f":"VLOOKUP(WAVA!AQ160,'Points Lookup'!$A:$B,2,FALSE)","v":0},{"$f":"VLOOKUP(WAVA!AR160,'Points Lookup'!$A:$B,2,FALSE)","v":0},{"$f":"VLOOKUP(WAVA!AS160,'Points Lookup'!$A:$B,2,FALSE)","v":0},{"$f":"VLOOKUP(WAVA!AT160,'Points Lookup'!$A:$B,2,FALSE)","v":0},{"$f":"VLOOKUP(WAVA!AU160,'Points Lookup'!$A:$B,2,FALSE)","v":0},{"$f":"VLOOKUP(WAVA!AV160,'Points Lookup'!$A:$B,2,FALSE)","v":0},{"$f":"VLOOKUP(WAVA!AW160,'Points Lookup'!$A:$B,2,FALSE)","v":0},null,0,0,0,0,0,0,0,0]
[35,{"$f":"WAVA!C161","v":"Frank Masley"},{"$f":"IF(ISBLANK(WAVA!F161),\"\",WAVA!F161)","v":"Premier"},177,{"$f":"VLOOKUP(WAVA!AC161,'Points Lookup'!$A:$B,2,FALSE)","v":0},{"$f":"VLOOKUP(WAVA!AD161,'Points Lookup'!$A:$B,2,FALSE)","v":0},{"$f":"VLOOKUP(WAVA!AE161,'Points Lookup'!$A:$B,2,FALSE)","v":42},{"$f":"VLOOKUP(WAVA!AF161,'Points Lookup'!$A:$B,2,FALSE)","v":0},{"$f":"VLOOKUP(WAVA!AG161,'Points Lookup'!$A:$B,2,FALSE)","v":0},{"$f":"VLOOKUP(WAVA!AH161,'Points Lookup'!$A:$B,2,FALSE)","v":0},{"$f":"VLOOKUP(WAVA!AI161,'Points Lookup'!$A:$B,2,FALSE)","v":0},{"$f":"VLOOKUP(WAVA!AJ161,'Points Lookup'!$A:$B,2,FALSE)","v":0},{"$f":"VLOOKUP(WAVA!AK161,'Points Lookup'!$A:$B,2,FALSE)","v":0},{"$f":"VLOOKUP(WAVA!AL161,'Points Lookup'!$A:$B,2,FALSE)","v":0},{"$f":"VLOOKUP(WAVA!AM161,'Points Lookup'!$A:$B,2,FALSE)","v":0},{"$f":"VLOOKUP(WAVA!AN161,'Points Lookup'!$A:$B,2,FALSE)","v":0},{"$f":"VLOOKUP(WAVA!AO161,'Points Lookup'!$A:$B,2,FALSE)","v":0},{"$f":"VLOOKUP(WAVA!AP161,'Points Lookup'!$A:$B,2,FALSE)","v":0},{"$f":"VLOOKUP(WAVA!AQ161,'Points Lookup'!$A:$B,2,FALSE)","v":0},{"$f":"VLOOKUP(WAVA!AR161,'Points Lookup'!$A:$B,2,FALSE)","v":46},{"$f":"VLOOKUP(WAVA!AS161,'Points Lookup'!$A:$B,2,FALSE)","v":48},{"$f":"VLOOKUP(WAVA!AT161,'Points Lookup'!$A:$B,2,FALSE)","v":41},{"$f":"VLOOKUP(WAVA!AU161,'Points Lookup'!$A:$B,2,FALSE)","v":0},{"$f":"VLOOKUP(WAVA!AV161,'Points Lookup'!$A:$B,2,FALSE)","v":0},{"$f":"VLOOKUP(WAVA!AW161,'Points Lookup'!$A:$B,2,FALSE)","v":0},null,48,46,42,41,0,0,0,0]
[72,{"$f":"WAVA!C162","v":"Anne Mason"},{"$f":"IF(ISBLANK(WAVA!F162),\"\",WAVA!F162)","v":"Second"},71,{"$f":"VLOOKUP(WAVA!AC162,'Points Lookup'!$A:$B,2,FALSE)","v":0},{"$f":"VLOOKUP(WAVA!AD162,'Points Lookup'!$A:$B,2,FALSE)","v":30},{"$f":"VLOOKUP(WAVA!AE162,'Points Lookup'!$A:$B,2,FALSE)","v":0},{"$f":"VLOOKUP(WAVA!AF162,'Points Lookup'!$A:$B,2,FALSE)","v":0},{"$f":"VLOOKUP(WAVA!AG162,'Points Lookup'!$A:$B,2,FALSE)","v":0},{"$f":"VLOOKUP(WAVA!AH162,'Points Lookup'!$A:$B,2,FALSE)","v":0},{"$f":"VLOOKUP(WAVA!AI162,'Points Lookup'!$A:$B,2,FALSE)","v":0},{"$f":"VLOOKUP(WAVA!AJ162,'Points Lookup'!$A:$B,2,FALSE)","v":0},{"$f":"VLOOKUP(WAVA!AK162,'Points Lookup'!$A:$B,2,FALSE)","v":0},{"$f":"VLOOKUP(WAVA!AL162,'Points Lookup'!$A:$B,2,FALSE)","v":0},{"$f":"VLOOKUP(WAVA!AM162,'Points Lookup'!$A:$B,2,FALSE)","v":0},{"$f":"VLOOKUP(WAVA!AN162,'Points Lookup'!$A:$B,2,FALSE)","v":0},{"$f":"VLOOKUP(WAVA!AO162,'Points Lookup'!$A:$B,2,FALSE)","v":0},{"$f":"VLOOKUP(WAVA!AP162,'Points Lookup'!$A:$B,2,FALSE)","v":0},{"$f":"VLOOKUP(WAVA!AQ162,'Points Lookup'!$A:$B,2,FALSE)","v":0},{"$f":"VLOOKUP(WAVA!AR162,'Points Lookup'!$A:$B,2,FALSE)","v":0},{"$f":"VLOOKUP(WAVA!AS162,'Points Lookup'!$A:$B,2,FALSE)","v":0},{"$f":"VLOOKUP(WAVA!AT162,'Points Lookup'!$A:$B,2,FALSE)","v":41},{"$f":"VLOOKUP(WAVA!AU162,'Points Lookup'!$A:$B,2,FALSE)","v":0},{"$f":"VLOOKUP(WAVA!AV162,'Points Lookup'!$A:$B,2,FALSE)","v":0},{"$f":"VLOOKUP(WAVA!AW162,'Points Lookup'!$A:$B,2,FALSE)","v":0},null,41,30,0,0,0,0,0,0]
[53,{"$f":"WAVA!C163","v":"Steven Maude"},{"$f":"IF(ISBLANK(WAVA!F163),\"\",WAVA!F163)","v":"Second"},96,{"$f":"VLOOKUP(WAVA!AC163,'Points Lookup'!$A:$B,2,FALSE)","v":0},{"$f":"VLOOKUP(WAVA!AD163,'Points Lookup'!$A:$B,2,FALSE)","v":47},{"$f":"VLOOKUP(WAVA!AE163,'Points Lookup'!$A:$B,2,FALSE)","v":0},{"$f":"VLOOKUP(WAVA!AF163,'Points Lookup'!$A:$B,2,FALSE)","v":0},{"$f":"VLOOKUP(WAVA!AG163,'Points Lookup'!$A:$B,2,FALSE)","v":0},{"$f":"VLOOKUP(WAVA!AH163,'Points Lookup'!$A:$B,2,FALSE)","v":0},{"$f":"VLOOKUP(WAVA!AI163,'Points Lookup'!$A:$B,2,FALSE)","v":49},{"$f":"VLOOKUP(WAVA!AJ163,'Points Lookup'!$A:$B,2,FALSE)","v":0},{"$f":"VLOOKUP(WAVA!AK163,'Points Lookup'!$A:$B,2,FALSE)","v":0},{"$f":"VLOOKUP(WAVA!AL163,'Points Lookup'!$A:$B,2,FALSE)","v":0},{"$f":"VLOOKUP(WAVA!AM163,'Points Lookup'!$A:$B,2,FALSE)","v":0},{"$f":"VLOOKUP(WAVA!AN163,'Points Lookup'!$A:$B,2,FALSE)","v":0},{"$f":"VLOOKUP(WAVA!AO163,'Points Lookup'!$A:$B,2,FALSE)","v":0},{"$f":"VLOOKUP(WAVA!AP163,'Points Lookup'!$A:$B,2,FALSE)","v":0},{"$f":"VLOOKUP(WAVA!AQ163,'Points Lookup'!$A:$B,2,FALSE)","v":0},{"$f":"VLOOKUP(WAVA!AR163,'Points Lookup'!$A:$B,2,FALSE)","v":0},{"$f":"VLOOKUP(WAVA!AS163,'Points Lookup'!$A:$B,2,FALSE)","v":0},{"$f":"VLOOKUP(WAVA!AT163,'Points Lookup'!$A:$B,2,FALSE)","v":0},{"$f":"VLOOKUP(WAVA!AU163,'Points Lookup'!$A:$B,2,FALSE)","v":0},{"$f":"VLOOKUP(WAVA!AV163,'Points Lookup'!$A:$B,2,FALSE)","v":0},{"$f":"VLOOKUP(WAVA!AW163,'Points Lookup'!$A:$B,2,FALSE)","v":0},null,{"$f":"LARGE($E162:$Y162,AA$1)","v":49},47,0,0,0,0,0,0]
[113,{"$f":"WAVA!C164","v":"Patricia Mayes"},{"$f":"IF(ISBLANK(WAVA!F164),\"\",WAVA!F164)","v":"Second"},0,{"$f":"VLOOKUP(WAVA!AC164,'Points Lookup'!$A:$B,2,FALSE)","v":0},{"$f":"VLOOKUP(WAVA!AD164,'Points Lookup'!$A:$B,2,FALSE)","v":0},{"$f":"VLOOKUP(WAVA!AE164,'Points Lookup'!$A:$B,2,FALSE)","v":0},{"$f":"VLOOKUP(WAVA!AF164,'Points Lookup'!$A:$B,2,FALSE)","v":0},{"$f":"VLOOKUP(WAVA!AG164,'Points Lookup'!$A:$B,2,FALSE)","v":0},{"$f":"VLOOKUP(WAVA!AH164,'Points Lookup'!$A:$B,2,FALSE)","v":0},{"$f":"VLOOKUP(WAVA!AI164,'Points Lookup'!$A:$B,2,FALSE)","v":0},{"$f":"VLOOKUP(WAVA!AJ164,'Points Lookup'!$A:$B,2,FALSE)","v":0},{"$f":"VLOOKUP(WAVA!AK164,'Points Lookup'!$A:$B,2,FALSE)","v":0},{"$f":"VLOOKUP(WAVA!AL164,'Points Lookup'!$A:$B,2,FALSE)","v":0},{"$f":"VLOOKUP(WAVA!AM164,'Points Lookup'!$A:$B,2,FALSE)","v":0},{"$f":"VLOOKUP(WAVA!AN164,'Points Lookup'!$A:$B,2,FALSE)","v":0},{"$f":"VLOOKUP(WAVA!AO164,'Points Lookup'!$A:$B,2,FALSE)","v":0},{"$f":"VLOOKUP(WAVA!AP164,'Points Lookup'!$A:$B,2,FALSE)","v":0},{"$f":"VLOOKUP(WAVA!AQ164,'Points Lookup'!$A:$B,2,FALSE)","v":0},{"$f":"VLOOKUP(WAVA!AR164,'Points Lookup'!$A:$B,2,FALSE)","v":0},{"$f":"VLOOKUP(WAVA!AS164,'Points Lookup'!$A:$B,2,FALSE)","v":0},{"$f":"VLOOKUP(WAVA!AT164,'Points Lookup'!$A:$B,2,FALSE)","v":0},{"$f":"VLOOKUP(WAVA!AU164,'Points Lookup'!$A:$B,2,FALSE)","v":0},{"$f":"VLOOKUP(WAVA!AV164,'Points Lookup'!$A:$B,2,FALSE)","v":0},{"$f":"VLOOKUP(WAVA!AW164,'Points Lookup'!$A:$B,2,FALSE)","v":0},null,0,0,0,0,0,0,0,0]
[113,{"$f":"WAVA!C165","v":"Louise McGechaen"},{"$f":"IF(ISBLANK(WAVA!F165),\"\",WAVA!F165)","v":"Second"},0,{"$f":"VLOOKUP(WAVA!AC165,'Points Lookup'!$A:$B,2,FALSE)","v":0},{"$f":"VLOOKUP(WAVA!AD165,'Points Lookup'!$A:$B,2,FALSE)","v":0},{"$f":"VLOOKUP(WAVA!AE165,'Points Lookup'!$A:$B,2,FALSE)","v":0},{"$f":"VLOOKUP(WAVA!AF165,'Points Lookup'!$A:$B,2,FALSE)","v":0},{"$f":"VLOOKUP(WAVA!AG165,'Points Lookup'!$A:$B,2,FALSE)","v":0},{"$f":"VLOOKUP(WAVA!AH165,'Points Lookup'!$A:$B,2,FALSE)","v":0},{"$f":"VLOOKUP(WAVA!AI165,'Points Lookup'!$A:$B,2,FALSE)","v":0},{"$f":"VLOOKUP(WAVA!AJ165,'Points Lookup'!$A:$B,2,FALSE)","v":0},{"$f":"VLOOKUP(WAVA!AK165,'Points Lookup'!$A:$B,2,FALSE)","v":0},{"$f":"VLOOKUP(WAVA!AL165,'Points Lookup'!$A:$B,2,FALSE)","v":0},{"$f":"VLOOKUP(WAVA!AM165,'Points Lookup'!$A:$B,2,FALSE)","v":0},{"$f":"VLOOKUP(WAVA!AN165,'Points Lookup'!$A:$B,2,FALSE)","v":0},{"$f":"VLOOKUP(WAVA!AO165,'Points Lookup'!$A:$B,2,FALSE)","v":0},{"$f":"VLOOKUP(WAVA!AP165,'Points Lookup'!$A:$B,2,FALSE)","v":0},{"$f":"VLOOKUP(WAVA!AQ165,'Points Lookup'!$A:$B,2,FALSE)","v":0},{"$f":"VLOOKUP(WAVA!AR165,'Points Lookup'!$A:$B,2,FALSE)","v":0},{"$f":"VLOOKUP(WAVA!AS165,'Points Lookup'!$A:$B,2,FALSE)","v":0},{"$f":"VLOOKUP(WAVA!AT165,'Points Lookup'!$A:$B,2,FALSE)","v":0},{"$f":"VLOOKUP(WAVA!AU165,'Points Lookup'!$A:$B,2,FALSE)","v":0},{"$f":"VLOOKUP(WAVA!AV165,'Points Lookup'!$A:$B,2,FALSE)","v":0},{"$f":"VLOOKUP(WAVA!AW165,'Points Lookup'!$A:$B,2,FALSE)","v":0},null,0,0,0,0,0,0,0,0]
[113,{"$f":"WAVA!C166","v":"Gary Mckee"},{"$f":"IF(ISBLANK(WAVA!F166),\"\",WAVA!F166)","v":"Second"},0,{"$f":"VLOOKUP(WAVA!AC166,'Points Lookup'!$A:$B,2,FALSE)","v":0},{"$f":"VLOOKUP(WAVA!AD166,'Points Lookup'!$A:$B,2,FALSE)","v":0},{"$f":"VLOOKUP(WAVA!AE166,'Points Lookup'!$A:$B,2,FALSE)","v":0},{"$f":"VLOOKUP(WAVA!AF166,'Points Lookup'!$A:$B,2,FALSE)","v":0},{"$f":"VLOOKUP(WAVA!AG166,'Points Lookup'!$A:$B,2,FALSE)","v":0},{"$f":"VLOOKUP(WAVA!AH166,'Points Lookup'!$A:$B,2,FALSE)","v":0},{"$f":"VLOOKUP(WAVA!AI166,'Points Lookup'!$A:$B,2,FALSE)","v":0},{"$f":"VLOOKUP(WAVA!AJ166,'Points Lookup'!$A:$B,2,FALSE)","v":0},{"$f":"VLOOKUP(WAVA!AK166,'Points Lookup'!$A:$B,2,FALSE)","v":0},{"$f":"VLOOKUP(WAVA!AL166,'Points Lookup'!$A:$B,2,FALSE)","v":0},{"$f":"VLOOKUP(WAVA!AM166,'Points Lookup'!$A:$B,2,FALSE)","v":0},{"$f":"VLOOKUP(WAVA!AN166,'Points Lookup'!$A:$B,2,FALSE)","v":0},{"$f":"VLOOKUP(WAVA!AO166,'Points Lookup'!$A:$B,2,FALSE)","v":0},{"$f":"VLOOKUP(WAVA!AP166,'Points Lookup'!$A:$B,2,FALSE)","v":0},{"$f":"VLOOKUP(WAVA!AQ166,'Points Lookup'!$A:$B,2,FALSE)","v":0},{"$f":"VLOOKUP(WAVA!AR166,'Points Lookup'!$A:$B,2,FALSE)","v":0},{"$f":"VLOOKUP(WAVA!AS166,'Points Lookup'!$A:$B,2,FALSE)","v":0},{"$f":"VLOOKUP(WAVA!AT166,'Points Lookup'!$A:$B,2,FALSE)","v":0},{"$f":"VLOOKUP(WAVA!AU166,'Points Lookup'!$A:$B,2,FALSE)","v":0},{"$f":"VLOOKUP(WAVA!AV166,'Points Lookup'!$A:$B,2,FALSE)","v":0},{"$f":"VLOOKUP(WAVA!AW166,'Points Lookup'!$A:$B,2,FALSE)","v":0},null,0,0,0,0,0,0,0,0]
[113,{"$f":"WAVA!C167","v":"Rahul Mehra"},{"$f":"IF(ISBLANK(WAVA!F167),\"\",WAVA!F167)","v":"Second"},0,{"$f":"VLOOKUP(WAVA!AC167,'Points Lookup'!$A:$B,2,FALSE)","v":0},{"$f":"VLOOKUP(WAVA!AD167,'Points Lookup'!$A:$B,2,FALSE)","v":0},{"$f":"VLOOKUP(WAVA!AE167,'Points Lookup'!$A:$B,2,FALSE)","v":0},{"$f":"VLOOKUP(WAVA!AF167,'Points Lookup'!$A:$B,2,FALSE)","v":0},{"$f":"VLOOKUP(WAVA!AG167,'Points Lookup'!$A:$B,2,FALSE)","v":0},{"$f":"VLOOKUP(WAVA!AH167,'Points Lookup'!$A:$B,2,FALSE)","v":0},{"$f":"VLOOKUP(WAVA!AI167,'Points Lookup'!$A:$B,2,FALSE)","v":0},{"$f":"VLOOKUP(WAVA!AJ167,'Points Lookup'!$A:$B,2,FALSE)","v":0},{"$f":"VLOOKUP(WAVA!AK167,'Points Lookup'!$A:$B,2,FALSE)","v":0},{"$f":"VLOOKUP(WAVA!AL167,'Points Lookup'!$A:$B,2,FALSE)","v":0},{"$f":"VLOOKUP(WAVA!AM167,'Points Lookup'!$A:$B,2,FALSE)","v":0},{"$f":"VLOOKUP(WAVA!AN167,'Points Lookup'!$A:$B,2,FALSE)","v":0},{"$f":"VLOOKUP(WAVA!AO167,'Points Lookup'!$A:$B,2,FALSE)","v":0},{"$f":"VLOOKUP(WAVA!AP167,'Points Lookup'!$A:$B,2,FALSE)","v":0},{"$f":"VLOOKUP(WAVA!AQ167,'Points Lookup'!$A:$B,2,FALSE)","v":0},{"$f":"VLOOKUP(WAVA!AR167,'Points Lookup'!$A:$B,2,FALSE)","v":0},{"$f":"VLOOKUP(WAVA!AS167,'Points Lookup'!$A:$B,2,FALSE)","v":0},{"$f":"VLOOKUP(WAVA!AT167,'Points Lookup'!$A:$B,2,FALSE)","v":0},{"$f":"VLOOKUP(WAVA!AU167,'Points Lookup'!$A:$B,2,FALSE)","v":0},{"$f":"VLOOKUP(WAVA!AV167,'Points Lookup'!$A:$B,2,FALSE)","v":0},{"$f":"VLOOKUP(WAVA!AW167,'Points Lookup'!$A:$B,2,FALSE)","v":0},null,0,0,0,0,0,0,0,0]
[106,{"$f":"WAVA!C168","v":"Sarah Miller"},{"$f":"IF(ISBLANK(WAVA!F168),\"\",WAVA!F168)","v":"Second"},34,{"$f":"VLOOKUP(WAVA!AC168,'Points Lookup'!$A:$B,2,FALSE)","v":0},{"$f":"VLOOKUP(WAVA!AD168,'Points Lookup'!$A:$B,2,FALSE)","v":0},{"$f":"VLOOKUP(WAVA!AE168,'Points Lookup'!$A:$B,2,FALSE)","v":0},{"$f":"VLOOKUP(WAVA!AF168,'Points Lookup'!$A:$B,2,FALSE)","v":0},{"$f":"VLOOKUP(WAVA!AG168,'Points Lookup'!$A:$B,2,FALSE)","v":0},{"$f":"VLOOKUP(WAVA!AH168,'Points Lookup'!$A:$B,2,FALSE)","v":0},{"$f":"VLOOKUP(WAVA!AI168,'Points Lookup'!$A:$B,2,FALSE)","v":0},{"$f":"VLOOKUP(WAVA!AJ168,'Points Lookup'!$A:$B,2,FALSE)","v":0},{"$f":"VLOOKUP(WAVA!AK168,'Points Lookup'!$A:$B,2,FALSE)","v":0},{"$f":"VLOOKUP(WAVA!AL168,'Points Lookup'!$A:$B,2,FALSE)","v":0},{"$f":"VLOOKUP(WAVA!AM168,'Points Lookup'!$A:$B,2,FALSE)","v":0},{"$f":"VLOOKUP(WAVA!AN168,'Points Lookup'!$A:$B,2,FALSE)","v":0},{"$f":"VLOOKUP(WAVA!AO168,'Points Lookup'!$A:$B,2,FALSE)","v":0},{"$f":"VLOOKUP(WAVA!AP168,'Points Lookup'!$A:$B,2,FALSE)","v":0},{"$f":"VLOOKUP(WAVA!AQ168,'Points Lookup'!$A:$B,2,FALSE)","v":0},{"$f":"VLOOKUP(WAVA!AR168,'Points Lookup'!$A:$B,2,FALSE)","v":0},{"$f":"VLOOKUP(WAVA!AS168,'Points Lookup'!$A:$B,2,FALSE)","v":0},{"$f":"VLOOKUP(WAVA!AT168,'Points Lookup'!$A:$B,2,FALSE)","v":0},{"$f":"VLOOKUP(WAVA!AU168,'Points Lookup'!$A:$B,2,FALSE)","v":0},{"$f":"VLOOKUP(WAVA!AV168,'Points Lookup'!$A:$B,2,FALSE)","v":34},{"$f":"VLOOKUP(WAVA!AW168,'Points Lookup'!$A:$B,2,FALSE)","v":0},null,34,0,0,0,0,0,0,0]
[12,{"$f":"WAVA!C169","v":"Mohanlal Mistry"},{"$f":"IF(ISBLANK(WAVA!F169),\"\",WAVA!F169)","v":"Premier"},353,{"$f":"VLOOKUP(WAVA!AC169,'Points Lookup'!$A:$B,2,FALSE)","v":41},{"$f":"VLOOKUP(WAVA!AD169,'Points Lookup'!$A:$B,2,FALSE)","v":42},{"$f":"VLOOKUP(WAVA!AE169,'Points Lookup'!$A:$B,2,FALSE)","v":0},{"$f":"VLOOKUP(WAVA!AF169,'Points Lookup'!$A:$B,2,FALSE)","v":39},{"$f":"VLOOKUP(WAVA!AG169,'Points Lookup'!$A:$B,2,FALSE)","v":0},{"$f":"VLOOKUP(WAVA!AH169,'Points Lookup'!$A:$B,2,FALSE)","v":0},{"$f":"VLOOKUP(WAVA!AI169,'Points Lookup'!$A:$B,2,FALSE)","v":44},{"$f":"VLOOKUP(WAVA!AJ169,'Points Lookup'!$A:$B,2,FALSE)","v":0},{"$f":"VLOOKUP(WAVA!AK169,'Points Lookup'!$A:$B,2,FALSE)","v":0},{"$f":"VLOOKUP(WAVA!AL169,'Points Lookup'!$A:$B,2,FALSE)","v":45},{"$f":"VLOOKUP(WAVA!AM169,'Points Lookup'!$A:$B,2,FALSE)","v":41},{"$f":"VLOOKUP(WAVA!AN169,'Points Lookup'!$A:$B,2,FALSE)","v":0},{"$f":"VLOOKUP(WAVA!AO169,'Points Lookup'!$A:$B,2,FALSE)","v":47},{"$f":"VLOOKUP(WAVA!AP169,'Points Lookup'!$A:$B,2,FALSE)","v":0},{"$f":"VLOOKUP(WAVA!AQ169,'Points Lookup'!$A:$B,2,FALSE)","v":43},{"$f":"VLOOKUP(WAVA!AR169,'Points Lookup'!$A:$B,2,FALSE)","v":45},{"$f":"VLOOKUP(WAVA!AS169,'Points Lookup'!$A:$B,2,FALSE)","v":0},{"$f":"VLOOKUP(WAVA!AT169,'Points Lookup'!$A:$B,2,FALSE)","v":0},{"$f":"VLOOKUP(WAVA!AU169,'Points Lookup'!$A:$B,2,FALSE)","v":39},{"$f":"VLOOKUP(WAVA!AV169,'Points Lookup'!$A:$B,2,FALSE)","v":0},{"$f":"VLOOKUP(WAVA!AW169,'Points Lookup'!$A:$B,2,FALSE)","v":46},null,47,46,45,45,44,43,42,41]
[19,{"$f":"WAVA!C170","v":"Urmila Mistry"},{"$f":"IF(ISBLANK(WAVA!F170),\"\",WAVA!F170)","v":"Premier"},272,{"$f":"VLOOKUP(WAVA!AC170,'Points Lookup'!$A:$B,2,FALSE)","v":33},{"$f":"VLOOKUP(WAVA!AD170,'Points Lookup'!$A:$B,2,FALSE)","v":40},{"$f":"VLOOKUP(WAVA!AE170,'Points Lookup'!$A:$B,2,FALSE)","v":0},{"$f":"VLOOKUP(WAVA!AF170,'Points Lookup'!$A:$B,2,FALSE)","v":0},{"$f":"VLOOKUP(WAVA!AG170,'Points Lookup'!$A:$B,2,FALSE)","v":0},{"$f":"VLOOKUP(WAVA!AH170,'Points Lookup'!$A:$B,2,FALSE)","v":0},{"$f":"VLOOKUP(WAVA!AI170,'Points Lookup'!$A:$B,2,FALSE)","v":0},{"$f":"VLOOKUP(WAVA!AJ170,'Points Lookup'!$A:$B,2,FALSE)","v":0},{"$f":"VLOOKUP(WAVA!AK170,'Points Lookup'!$A:$B,2,FALSE)","v":0},{"$f":"VLOOKUP(WAVA!AL170,'Points Lookup'!$A:$B,2,FALSE)","v":0},{"$f":"VLOOKUP(WAVA!AM170,'Points Lookup'!$A:$B,2,FALSE)","v":38},{"$f":"VLOOKUP(WAVA!AN170,'Points Lookup'!$A:$B,2,FALSE)","v":0},{"$f":"VLOOKUP(WAVA!AO170,'Points Lookup'!$A:$B,2,FALSE)","v":45},{"$f":"VLOOKUP(WAVA!AP170,'Points Lookup'!$A:$B,2,FALSE)","v":0},{"$f":"VLOOKUP(WAVA!AQ170,'Points Lookup'!$A:$B,2,FALSE)","v":39},{"$f":"VLOOKUP(WAVA!AR170,'Points Lookup'!$A:$B,2,FALSE)","v":0},{"$f":"VLOOKUP(WAVA!AS170,'Points Lookup'!$A:$B,2,FALSE)","v":0},{"$f":"VLOOKUP(WAVA!AT170,'Points Lookup'!$A:$B,2,FALSE)","v":0},{"$f":"VLOOKUP(WAVA!AU170,'Points Lookup'!$A:$B,2,FALSE)","v":32},{"$f":"VLOOKUP(WAVA!AV170,'Points Lookup'!$A:$B,2,FALSE)","v":0},{"$f":"VLOOKUP(WAVA!AW170,'Points Lookup'!$A:$B,2,FALSE)","v":45},null,45,45,40,39,38,33,32,0]
[23,{"$f":"WAVA!C171","v":"Tim Mosedale"},{"$f":"IF(ISBLANK(WAVA!F171),\"\",WAVA!F171)","v":"Premier"},232,{"$f":"VLOOKUP(WAVA!AC171,'Points Lookup'!$A:$B,2,FALSE)","v":36},{"$f":"VLOOKUP(WAVA!AD171,'Points Lookup'!$A:$B,2,FALSE)","v":0},{"$f":"VLOOKUP(WAVA!AE171,'Points Lookup'!$A:$B,2,FALSE)","v":0},{"$f":"VLOOKUP(WAVA!AF171,'Points Lookup'!$A:$B,2,FALSE)","v":41},{"$f":"VLOOKUP(WAVA!AG171,'Points Lookup'!$A:$B,2,FALSE)","v":36},{"$f":"VLOOKUP(WAVA!AH171,'Points Lookup'!$A:$B,2,FALSE)","v":0},{"$f":"VLOOKUP(WAVA!AI171,'Points Lookup'!$A:$B,2,FALSE)","v":0},{"$f":"VLOOKUP(WAVA!AJ171,'Points Lookup'!$A:$B,2,FALSE)","v":0},{"$f":"VLOOKUP(WAVA!AK171,'Points Lookup'!$A:$B,2,FALSE)","v":0},{"$f":"VLOOKUP(WAVA!AL171,'Points Lookup'!$A:$B,2,FALSE)","v":0},{"$f":"VLOOKUP(WAVA!AM171,'Points Lookup'!$A:$B,2,FALSE)","v":0},{"$f":"VLOOKUP(WAVA!AN171,'Points Lookup'!$A:$B,2,FALSE)","v":0},{"$f":"VLOOKUP(WAVA!AO171,'Points Lookup'!$A:$B,2,FALSE)","v":0},{"$f":"VLOOKUP(WAVA!AP171,'Points Lookup'!$A:$B,2,FALSE)","v":0},{"$f":"VLOOKUP(WAVA!AQ171,'Points Lookup'!$A:$B,2,FALSE)","v":42},{"$f":"VLOOKUP(WAVA!AR171,'Points Lookup'!$A:$B,2,FALSE)","v":0},{"$f":"VLOOKUP(WAVA!AS171,'Points Lookup'!$A:$B,2,FALSE)","v":0},{"$f":"VLOOKUP(WAVA!AT171,'Points Lookup'!$A:$B,2,FALSE)","v":37},{"$f":"VLOOKUP(WAVA!AU171,'Points Lookup'!$A:$B,2,FALSE)","v":40},{"$f":"VLOOKUP(WAVA!AV171,'Points Lookup'!$A:$B,2,FALSE)","v":0},{"$f":"VLOOKUP(WAVA!AW171,'Points Lookup'!$A:$B,2,FALSE)","v":0},null,42,41,40,37,36,36,0,0]
[113,{"$f":"WAVA!C172","v":"Michael Moss"},{"$f":"IF(ISBLANK(WAVA!F172),\"\",WAVA!F172)","v":"Second"},0,{"$f":"VLOOKUP(WAVA!AC172,'Points Lookup'!$A:$B,2,FALSE)","v":0},{"$f":"VLOOKUP(WAVA!AD172,'Points Lookup'!$A:$B,2,FALSE)","v":0},{"$f":"VLOOKUP(WAVA!AE172,'Points Lookup'!$A:$B,2,FALSE)","v":0},{"$f":"VLOOKUP(WAVA!AF172,'Points Lookup'!$A:$B,2,FALSE)","v":0},{"$f":"VLOOKUP(WAVA!AG172,'Points Lookup'!$A:$B,2,FALSE)","v":0},{"$f":"VLOOKUP(WAVA!AH172,'Points Lookup'!$A:$B,2,FALSE)","v":0},{"$f":"VLOOKUP(WAVA!AI172,'Points Lookup'!$A:$B,2,FALSE)","v":0},{"$f":"VLOOKUP(WAVA!AJ172,'Points Lookup'!$A:$B,2,FALSE)","v":0},{"$f":"VLOOKUP(WAVA!AK172,'Points Lookup'!$A:$B,2,FALSE)","v":0},{"$f":"VLOOKUP(WAVA!AL172,'Points Lookup'!$A:$B,2,FALSE)","v":0},{"$f":"VLOOKUP(WAVA!AM172,'Points Lookup'!$A:$B,2,FALSE)","v":0},{"$f":"VLOOKUP(WAVA!AN172,'Points Lookup'!$A:$B,2,FALSE)","v":0},{"$f":"VLOOKUP(WAVA!AO172,'Points Lookup'!$A:$B,2,FALSE)","v":0},{"$f":"VLOOKUP(WAVA!AP172,'Points Lookup'!$A:$B,2,FALSE)","v":0},{"$f":"VLOOKUP(WAVA!AQ172,'Points Lookup'!$A:$B,2,FALSE)","v":0},{"$f":"VLOOKUP(WAVA!AR172,'Points Lookup'!$A:$B,2,FALSE)","v":0},{"$f":"VLOOKUP(WAVA!AS172,'Points Lookup'!$A:$B,2,FALSE)","v":0},{"$f":"VLOOKUP(WAVA!AT172,'Points Lookup'!$A:$B,2,FALSE)","v":0},{"$f":"VLOOKUP(WAVA!AU172,'Points Lookup'!$A:$B,2,FALSE)","v":0},{"$f":"VLOOKUP(WAVA!AV172,'Points Lookup'!$A:$B,2,FALSE)","v":0},{"$f":"VLOOKUP(WAVA!AW172,'Points Lookup'!$A:$B,2,FALSE)","v":0},null,0,0,0,0,0,0,0,0]
[113,{"$f":"WAVA!C173","v":"Jen  Murgatroyd"},{"$f":"IF(ISBLANK(WAVA!F173),\"\",WAVA!F173)","v":"Second"},0,{"$f":"VLOOKUP(WAVA!AC173,'Points Lookup'!$A:$B,2,FALSE)","v":0},{"$f":"VLOOKUP(WAVA!AD173,'Points Lookup'!$A:$B,2,FALSE)","v":0},{"$f":"VLOOKUP(WAVA!AE173,'Points Lookup'!$A:$B,2,FALSE)","v":0},{"$f":"VLOOKUP(WAVA!AF173,'Points Lookup'!$A:$B,2,FALSE)","v":0},{"$f":"VLOOKUP(WAVA!AG173,'Points Lookup'!$A:$B,2,FALSE)","v":0},{"$f":"VLOOKUP(WAVA!AH173,'Points Lookup'!$A:$B,2,FALSE)","v":0},{"$f":"VLOOKUP(WAVA!AI173,'Points Lookup'!$A:$B,2,FALSE)","v":0},{"$f":"VLOOKUP(WAVA!AJ173,'Points Lookup'!$A:$B,2,FALSE)","v":0},{"$f":"VLOOKUP(WAVA!AK173,'Points Lookup'!$A:$B,2,FALSE)","v":0},{"$f":"VLOOKUP(WAVA!AL173,'Points Lookup'!$A:$B,2,FALSE)","v":0},{"$f":"VLOOKUP(WAVA!AM173,'Points Lookup'!$A:$B,2,FALSE)","v":0},{"$f":"VLOOKUP(WAVA!AN173,'Points Lookup'!$A:$B,2,FALSE)","v":0},{"$f":"VLOOKUP(WAVA!AO173,'Points Lookup'!$A:$B,2,FALSE)","v":0},{"$f":"VLOOKUP(WAVA!AP173,'Points Lookup'!$A:$B,2,FALSE)","v":0},{"$f":"VLOOKUP(WAVA!AQ173,'Points Lookup'!$A:$B,2,FALSE)","v":0},{"$f":"VLOOKUP(WAVA!AR173,'Points Lookup'!$A:$B,2,FALSE)","v":0},{"$f":"VLOOKUP(WAVA!AS173,'Points Lookup'!$A:$B,2,FALSE)","v":0},{"$f":"VLOOKUP(WAVA!AT173,'Points Lookup'!$A:$B,2,FALSE)","v":0},{"$f":"VLOOKUP(WAVA!AU173,'Points Lookup'!$A:$B,2,FALSE)","v":0},{"$f":"VLOOKUP(WAVA!AV173,'Points Lookup'!$A:$B,2,FALSE)","v":0},{"$f":"VLOOKUP(WAVA!AW173,'Points Lookup'!$A:$B,2,FALSE)","v":0},null,{"$f":"LARGE($E172:$Y172,AA$1)","v":0},0,0,0,0,0,0,0]
[78,{"$f":"WAVA!C174","v":"Alistair Nash"},{"$f":"IF(ISBLANK(WAVA!F174),\"\",WAVA!F174)","v":"First"},50,{"$f":"VLOOKUP(WAVA!AC174,'Points Lookup'!$A:$B,2,FALSE)","v":0},{"$f":"VLOOKUP(WAVA!AD174,'Points Lookup'!$A:$B,2,FALSE)","v":0},{"$f":"VLOOKUP(WAVA!AE174,'Points Lookup'!$A:$B,2,FALSE)","v":0},{"$f":"VLOOKUP(WAVA!AF174,'Points Lookup'!$A:$B,2,FALSE)","v":0},{"$f":"VLOOKUP(WAVA!AG174,'Points Lookup'!$A:$B,2,FALSE)","v":0},{"$f":"VLOOKUP(WAVA!AH174,'Points Lookup'!$A:$B,2,FALSE)","v":0},{"$f":"VLOOKUP(WAVA!AI174,'Points Lookup'!$A:$B,2,FALSE)","v":0},{"$f":"VLOOKUP(WAVA!AJ174,'Points Lookup'!$A:$B,2,FALSE)","v":0},{"$f":"VLOOKUP(WAVA!AK174,'Points Lookup'!$A:$B,2,FALSE)","v":0},{"$f":"VLOOKUP(WAVA!AL174,'Points Lookup'!$A:$B,2,FALSE)","v":0},{"$f":"VLOOKUP(WAVA!AM174,'Points Lookup'!$A:$B,2,FALSE)","v":0},{"$f":"VLOOKUP(WAVA!AN174,'Points Lookup'!$A:$B,2,FALSE)","v":0},{"$f":"VLOOKUP(WAVA!AO174,'Points Lookup'!$A:$B,2,FALSE)","v":0},{"$f":"VLOOKUP(WAVA!AP174,'Points Lookup'!$A:$B,2,FALSE)","v":0},{"$f":"VLOOKUP(WAVA!AQ174,'Points Lookup'!$A:$B,2,FALSE)","v":0},{"$f":"VLOOKUP(WAVA!AR174,'Points Lookup'!$A:$B,2,FALSE)","v":0},{"$f":"VLOOKUP(WAVA!AS174,'Points Lookup'!$A:$B,2,FALSE)","v":50},{"$f":"VLOOKUP(WAVA!AT174,'Points Lookup'!$A:$B,2,FALSE)","v":0},{"$f":"VLOOKUP(WAVA!AU174,'Points Lookup'!$A:$B,2,FALSE)","v":0},{"$f":"VLOOKUP(WAVA!AV174,'Points Lookup'!$A:$B,2,FALSE)","v":0},{"$f":"VLOOKUP(WAVA!AW174,'Points Lookup'!$A:$B,2,FALSE)","v":0},null,50,0,0,0,0,0,0,0]
[18,{"$f":"WAVA!C175","v":"Louise Nash"},{"$f":"IF(ISBLANK(WAVA!F175),\"\",WAVA!F175)","v":"Premier"},275,{"$f":"VLOOKUP(WAVA!AC175,'Points Lookup'!$A:$B,2,FALSE)","v":0},{"$f":"VLOOKUP(WAVA!AD175,'Points Lookup'!$A:$B,2,FALSE)","v":0},{"$f":"VLOOKUP(WAVA!AE175,'Points Lookup'!$A:$B,2,FALSE)","v":0},{"$f":"VLOOKUP(WAVA!AF175,'Points Lookup'!$A:$B,2,FALSE)","v":0},{"$f":"VLOOKUP(WAVA!AG175,'Points Lookup'!$A:$B,2,FALSE)","v":0},{"$f":"VLOOKUP(WAVA!AH175,'Points Lookup'!$A:$B,2,FALSE)","v":0},{"$f":"VLOOKUP(WAVA!AI175,'Points Lookup'!$A:$B,2,FALSE)","v":0},{"$f":"VLOOKUP(WAVA!AJ175,'Points Lookup'!$A:$B,2,FALSE)","v":0},{"$f":"VLOOKUP(WAVA!AK175,'Points Lookup'!$A:$B,2,FALSE)","v":0},{"$f":"VLOOKUP(WAVA!AL175,'Points Lookup'!$A:$B,2,FALSE)","v":0},{"$f":"VLOOKUP(WAVA!AM175,'Points Lookup'!$A:$B,2,FALSE)","v":42},{"$f":"VLOOKUP(WAVA!AN175,'Points Lookup'!$A:$B,2,FALSE)","v":0},{"$f":"VLOOKUP(WAVA!AO175,'Points Lookup'!$A:$B,2,FALSE)","v":46},{"$f":"VLOOKUP(WAVA!AP175,'Points Lookup'!$A:$B,2,FALSE)","v":0},{"$f":"VLOOKUP(WAVA!AQ175,'Points Lookup'!$A:$B,2,FALSE)","v":46},{"$f":"VLOOKUP(WAVA!AR175,'Points Lookup'!$A:$B,2,FALSE)","v":0},{"$f":"VLOOKUP(WAVA!AS175,'Points Lookup'!$A:$B,2,FALSE)","v":50},{"$f":"VLOOKUP(WAVA!AT175,'Points Lookup'!$A:$B,2,FALSE)","v":46},{"$f":"VLOOKUP(WAVA!AU175,'Points Lookup'!$A:$B,2,FALSE)","v":45},{"$f":"VLOOKUP(WAVA!AV175,'Points Lookup'!$A:$B,2,FALSE)","v":0},{"$f":"VLOOKUP(WAVA!AW175,'Points Lookup'!$A:$B,2,FALSE)","v":0},null,50,46,46,46,45,42,0,0]
[45,{"$f":"WAVA!C176","v":"Dairine Nethercott"},{"$f":"IF(ISBLANK(WAVA!F176),\"\",WAVA!F176)","v":"Premier"},119,{"$f":"VLOOKUP(WAVA!AC176,'Points Lookup'!$A:$B,2,FALSE)","v":0},{"$f":"VLOOKUP(WAVA!AD176,'Points Lookup'!$A:$B,2,FALSE)","v":0},{"$f":"VLOOKUP(WAVA!AE176,'Points Lookup'!$A:$B,2,FALSE)","v":0},{"$f":"VLOOKUP(WAVA!AF176,'Points Lookup'!$A:$B,2,FALSE)","v":0},{"$f":"VLOOKUP(WAVA!AG176,'Points Lookup'!$A:$B,2,FALSE)","v":41},{"$f":"VLOOKUP(WAVA!AH176,'Points Lookup'!$A:$B,2,FALSE)","v":0},{"$f":"VLOOKUP(WAVA!AI176,'Points Lookup'!$A:$B,2,FALSE)","v":0},{"$f":"VLOOKUP(WAVA!AJ176,'Points Lookup'!$A:$B,2,FALSE)","v":0},{"$f":"VLOOKUP(WAVA!AK176,'Points Lookup'!$A:$B,2,FALSE)","v":0},{"$f":"VLOOKUP(WAVA!AL176,'Points Lookup'!$A:$B,2,FALSE)","v":0},{"$f":"VLOOKUP(WAVA!AM176,'Points Lookup'!$A:$B,2,FALSE)","v":0},{"$f":"VLOOKUP(WAVA!AN176,'Points Lookup'!$A:$B,2,FALSE)","v":41},{"$f":"VLOOKUP(WAVA!AO176,'Points Lookup'!$A:$B,2,FALSE)","v":0},{"$f":"VLOOKUP(WAVA!AP176,'Points Lookup'!$A:$B,2,FALSE)","v":0},{"$f":"VLOOKUP(WAVA!AQ176,'Points Lookup'!$A:$B,2,FALSE)","v":0},{"$f":"VLOOKUP(WAVA!AR176,'Points Lookup'!$A:$B,2,FALSE)","v":0},{"$f":"VLOOKUP(WAVA!AS176,'Points Lookup'!$A:$B,2,FALSE)","v":0},{"$f":"VLOOKUP(WAVA!AT176,'Points Lookup'!$A:$B,2,FALSE)","v":0},{"$f":"VLOOKUP(WAVA!AU176,'Points Lookup'!$A:$B,2,FALSE)","v":37},{"$f":"VLOOKUP(WAVA!AV176,'Points Lookup'!$A:$B,2,FALSE)","v":0},{"$f":"VLOOKUP(WAVA!AW176,'Points Lookup'!$A:$B,2,FALSE)","v":0},null,41,41,37,0,0,0,0,0]
[113,{"$f":"WAVA!C177","v":"Jonathan Nixon"},{"$f":"IF(ISBLANK(WAVA!F177),\"\",WAVA!F177)","v":"Second"},0,{"$f":"VLOOKUP(WAVA!AC177,'Points Lookup'!$A:$B,2,FALSE)","v":0},{"$f":"VLOOKUP(WAVA!AD177,'Points Lookup'!$A:$B,2,FALSE)","v":0},{"$f":"VLOOKUP(WAVA!AE177,'Points Lookup'!$A:$B,2,FALSE)","v":0},{"$f":"VLOOKUP(WAVA!AF177,'Points Lookup'!$A:$B,2,FALSE)","v":0},{"$f":"VLOOKUP(WAVA!AG177,'Points Lookup'!$A:$B,2,FALSE)","v":0},{"$f":"VLOOKUP(WAVA!AH177,'Points Lookup'!$A:$B,2,FALSE)","v":0},{"$f":"VLOOKUP(WAVA!AI177,'Points Lookup'!$A:$B,2,FALSE)","v":0},{"$f":"VLOOKUP(WAVA!AJ177,'Points Lookup'!$A:$B,2,FALSE)","v":0},{"$f":"VLOOKUP(WAVA!AK177,'Points Lookup'!$A:$B,2,FALSE)","v":0},{"$f":"VLOOKUP(WAVA!AL177,'Points Lookup'!$A:$B,2,FALSE)","v":0},{"$f":"VLOOKUP(WAVA!AM177,'Points Lookup'!$A:$B,2,FALSE)","v":0},{"$f":"VLOOKUP(WAVA!AN177,'Points Lookup'!$A:$B,2,FALSE)","v":0},{"$f":"VLOOKUP(WAVA!AO177,'Points Lookup'!$A:$B,2,FALSE)","v":0},{"$f":"VLOOKUP(WAVA!AP177,'Points Lookup'!$A:$B,2,FALSE)","v":0},{"$f":"VLOOKUP(WAVA!AQ177,'Points Lookup'!$A:$B,2,FALSE)","v":0},{"$f":"VLOOKUP(WAVA!AR177,'Points Lookup'!$A:$B,2,FALSE)","v":0},{"$f":"VLOOKUP(WAVA!AS177,'Points Lookup'!$A:$B,2,FALSE)","v":0},{"$f":"VLOOKUP(WAVA!AT177,'Points Lookup'!$A:$B,2,FALSE)","v":0},{"$f":"VLOOKUP(WAVA!AU177,'Points Lookup'!$A:$B,2,FALSE)","v":0},{"$f":"VLOOKUP(WAVA!AV177,'Points Lookup'!$A:$B,2,FALSE)","v":0},{"$f":"VLOOKUP(WAVA!AW177,'Points Lookup'!$A:$B,2,FALSE)","v":0},null,0,0,0,0,0,0,0,0]
[113,{"$f":"WAVA!C178","v":"Lorna Nixon"},{"$f":"IF(ISBLANK(WAVA!F178),\"\",WAVA!F178)","v":"Premier"},0,{"$f":"VLOOKUP(WAVA!AC178,'Points Lookup'!$A:$B,2,FALSE)","v":0},{"$f":"VLOOKUP(WAVA!AD178,'Points Lookup'!$A:$B,2,FALSE)","v":0},{"$f":"VLOOKUP(WAVA!AE178,'Points Lookup'!$A:$B,2,FALSE)","v":0},{"$f":"VLOOKUP(WAVA!AF178,'Points Lookup'!$A:$B,2,FALSE)","v":0},{"$f":"VLOOKUP(WAVA!AG178,'Points Lookup'!$A:$B,2,FALSE)","v":0},{"$f":"VLOOKUP(WAVA!AH178,'Points Lookup'!$A:$B,2,FALSE)","v":0},{"$f":"VLOOKUP(WAVA!AI178,'Points Lookup'!$A:$B,2,FALSE)","v":0},{"$f":"VLOOKUP(WAVA!AJ178,'Points Lookup'!$A:$B,2,FALSE)","v":0},{"$f":"VLOOKUP(WAVA!AK178,'Points Lookup'!$A:$B,2,FALSE)","v":0},{"$f":"VLOOKUP(WAVA!AL178,'Points Lookup'!$A:$B,2,FALSE)","v":0},{"$f":"VLOOKUP(WAVA!AM178,'Points Lookup'!$A:$B,2,FALSE)","v":0},{"$f":"VLOOKUP(WAVA!AN178,'Points Lookup'!$A:$B,2,FALSE)","v":0},{"$f":"VLOOKUP(WAVA!AO178,'Points Lookup'!$A:$B,2,FALSE)","v":0},{"$f":"VLOOKUP(WAVA!AP178,'Points Lookup'!$A:$B,2,FALSE)","v":0},{"$f":"VLOOKUP(WAVA!AQ178,'Points Lookup'!$A:$B,2,FALSE)","v":0},{"$f":"VLOOKUP(WAVA!AR178,'Points Lookup'!$A:$B,2,FALSE)","v":0},{"$f":"VLOOKUP(WAVA!AS178,'Points Lookup'!$A:$B,2,FALSE)","v":0},{"$f":"VLOOKUP(WAVA!AT178,'Points Lookup'!$A:$B,2,FALSE)","v":0},{"$f":"VLOOKUP(WAVA!AU178,'Points Lookup'!$A:$B,2,FALSE)","v":0},{"$f":"VLOOKUP(WAVA!AV178,'Points Lookup'!$A:$B,2,FALSE)","v":0},{"$f":"VLOOKUP(WAVA!AW178,'Points Lookup'!$A:$B,2,FALSE)","v":0},null,0,0,0,0,0,0,0,0]
[113,{"$f":"WAVA!C179","v":"Richard Nixon"},{"$f":"IF(ISBLANK(WAVA!F179),\"\",WAVA!F179)","v":"Premier"},0,{"$f":"VLOOKUP(WAVA!AC179,'Points Lookup'!$A:$B,2,FALSE)","v":0},{"$f":"VLOOKUP(WAVA!AD179,'Points Lookup'!$A:$B,2,FALSE)","v":0},{"$f":"VLOOKUP(WAVA!AE179,'Points Lookup'!$A:$B,2,FALSE)","v":0},{"$f":"VLOOKUP(WAVA!AF179,'Points Lookup'!$A:$B,2,FALSE)","v":0},{"$f":"VLOOKUP(WAVA!AG179,'Points Lookup'!$A:$B,2,FALSE)","v":0},{"$f":"VLOOKUP(WAVA!AH179,'Points Lookup'!$A:$B,2,FALSE)","v":0},{"$f":"VLOOKUP(WAVA!AI179,'Points Lookup'!$A:$B,2,FALSE)","v":0},{"$f":"VLOOKUP(WAVA!AJ179,'Points Lookup'!$A:$B,2,FALSE)","v":0},{"$f":"VLOOKUP(WAVA!AK179,'Points Lookup'!$A:$B,2,FALSE)","v":0},{"$f":"VLOOKUP(WAVA!AL179,'Points Lookup'!$A:$B,2,FALSE)","v":0},{"$f":"VLOOKUP(WAVA!AM179,'Points Lookup'!$A:$B,2,FALSE)","v":0},{"$f":"VLOOKUP(WAVA!AN179,'Points Lookup'!$A:$B,2,FALSE)","v":0},{"$f":"VLOOKUP(WAVA!AO179,'Points Lookup'!$A:$B,2,FALSE)","v":0},{"$f":"VLOOKUP(WAVA!AP179,'Points Lookup'!$A:$B,2,FALSE)","v":0},{"$f":"VLOOKUP(WAVA!AQ179,'Points Lookup'!$A:$B,2,FALSE)","v":0},{"$f":"VLOOKUP(WAVA!AR179,'Points Lookup'!$A:$B,2,FALSE)","v":0},{"$f":"VLOOKUP(WAVA!AS179,'Points Lookup'!$A:$B,2,FALSE)","v":0},{"$f":"VLOOKUP(WAVA!AT179,'Points Lookup'!$A:$B,2,FALSE)","v":0},{"$f":"VLOOKUP(WAVA!AU179,'Points Lookup'!$A:$B,2,FALSE)","v":0},{"$f":"VLOOKUP(WAVA!AV179,'Points Lookup'!$A:$B,2,FALSE)","v":0},{"$f":"VLOOKUP(WAVA!AW179,'Points Lookup'!$A:$B,2,FALSE)","v":0},null,0,0,0,0,0,0,0,0]
[78,{"$f":"WAVA!C180","v":"Matt Nowell"},{"$f":"IF(ISBLANK(WAVA!F180),\"\",WAVA!F180)","v":"Second"},50,{"$f":"VLOOKUP(WAVA!AC180,'Points Lookup'!$A:$B,2,FALSE)","v":0},{"$f":"VLOOKUP(WAVA!AD180,'Points Lookup'!$A:$B,2,FALSE)","v":0},{"$f":"VLOOKUP(WAVA!AE180,'Points Lookup'!$A:$B,2,FALSE)","v":0},{"$f":"VLOOKUP(WAVA!AF180,'Points Lookup'!$A:$B,2,FALSE)","v":0},{"$f":"VLOOKUP(WAVA!AG180,'Points Lookup'!$A:$B,2,FALSE)","v":0},{"$f":"VLOOKUP(WAVA!AH180,'Points Lookup'!$A:$B,2,FALSE)","v":0},{"$f":"VLOOKUP(WAVA!AI180,'Points Lookup'!$A:$B,2,FALSE)","v":0},{"$f":"VLOOKUP(WAVA!AJ180,'Points Lookup'!$A:$B,2,FALSE)","v":0},{"$f":"VLOOKUP(WAVA!AK180,'Points Lookup'!$A:$B,2,FALSE)","v":0},{"$f":"VLOOKUP(WAVA!AL180,'Points Lookup'!$A:$B,2,FALSE)","v":0},{"$f":"VLOOKUP(WAVA!AM180,'Points Lookup'!$A:$B,2,FALSE)","v":0},{"$f":"VLOOKUP(WAVA!AN180,'Points Lookup'!$A:$B,2,FALSE)","v":0},{"$f":"VLOOKUP(WAVA!AO180,'Points Lookup'!$A:$B,2,FALSE)","v":0},{"$f":"VLOOKUP(WAVA!AP180,'Points Lookup'!$A:$B,2,FALSE)","v":0},{"$f":"VLOOKUP(WAVA!AQ180,'Points Lookup'!$A:$B,2,FALSE)","v":0},{"$f":"VLOOKUP(WAVA!AR180,'Points Lookup'!$A:$B,2,FALSE)","v":50},{"$f":"VLOOKUP(WAVA!AS180,'Points Lookup'!$A:$B,2,FALSE)","v":0},{"$f":"VLOOKUP(WAVA!AT180,'Points Lookup'!$A:$B,2,FALSE)","v":0},{"$f":"VLOOKUP(WAVA!AU180,'Points Lookup'!$A:$B,2,FALSE)","v":0},{"$f":"VLOOKUP(WAVA!AV180,'Points Lookup'!$A:$B,2,FALSE)","v":0},{"$f":"VLOOKUP(WAVA!AW180,'Points Lookup'!$A:$B,2,FALSE)","v":0},null,50,0,0,0,0,0,0,0]
[46,{"$f":"WAVA!C181","v":"Judith Nunn"},{"$f":"IF(ISBLANK(WAVA!F181),\"\",WAVA!F181)","v":"Second"},115,{"$f":"VLOOKUP(WAVA!AC181,'Points Lookup'!$A:$B,2,FALSE)","v":0},{"$f":"VLOOKUP(WAVA!AD181,'Points Lookup'!$A:$B,2,FALSE)","v":0},{"$f":"VLOOKUP(WAVA!AE181,'Points Lookup'!$A:$B,2,FALSE)","v":0},{"$f":"VLOOKUP(WAVA!AF181,'Points Lookup'!$A:$B,2,FALSE)","v":0},{"$f":"VLOOKUP(WAVA!AG181,'Points Lookup'!$A:$B,2,FALSE)","v":0},{"$f":"VLOOKUP(WAVA!AH181,'Points Lookup'!$A:$B,2,FALSE)","v":0},{"$f":"VLOOKUP(WAVA!AI181,'Points Lookup'!$A:$B,2,FALSE)","v":0},{"$f":"VLOOKUP(WAVA!AJ181,'Points Lookup'!$A:$B,2,FALSE)","v":0},{"$f":"VLOOKUP(WAVA!AK181,'Points Lookup'!$A:$B,2,FALSE)","v":0},{"$f":"VLOOKUP(WAVA!AL181,'Points Lookup'!$A:$B,2,FALSE)","v":0},{"$f":"VLOOKUP(WAVA!AM181,'Points Lookup'!$A:$B,2,FALSE)","v":0},{"$f":"VLOOKUP(WAVA!AN181,'Points Lookup'!$A:$B,2,FALSE)","v":0},{"$f":"VLOOKUP(WAVA!AO181,'Points Lookup'!$A:$B,2,FALSE)","v":46},{"$f":"VLOOKUP(WAVA!AP181,'Points Lookup'!$A:$B,2,FALSE)","v":0},{"$f":"VLOOKUP(WAVA!AQ181,'Points Lookup'!$A:$B,2,FALSE)","v":0},{"$f":"VLOOKUP(WAVA!AR181,'Points Lookup'!$A:$B,2,FALSE)","v":0},{"$f":"VLOOKUP(WAVA!AS181,'Points Lookup'!$A:$B,2,FALSE)","v":0},{"$f":"VLOOKUP(WAVA!AT181,'Points Lookup'!$A:$B,2,FALSE)","v":40},{"$f":"VLOOKUP(WAVA!AU181,'Points Lookup'!$A:$B,2,FALSE)","v":0},{"$f":"VLOOKUP(WAVA!AV181,'Points Lookup'!$A:$B,2,FALSE)","v":29},{"$f":"VLOOKUP(WAVA!AW181,'Points Lookup'!$A:$B,2,FALSE)","v":0},null,46,40,29,0,0,0,0,0]
[113,{"$f":"WAVA!C182","v":"Joanne O'Dwyer"},{"$f":"IF(ISBLANK(WAVA!F182),\"\",WAVA!F182)","v":"Second"},0,{"$f":"VLOOKUP(WAVA!AC182,'Points Lookup'!$A:$B,2,FALSE)","v":0},{"$f":"VLOOKUP(WAVA!AD182,'Points Lookup'!$A:$B,2,FALSE)","v":0},{"$f":"VLOOKUP(WAVA!AE182,'Points Lookup'!$A:$B,2,FALSE)","v":0},{"$f":"VLOOKUP(WAVA!AF182,'Points Lookup'!$A:$B,2,FALSE)","v":0},{"$f":"VLOOKUP(WAVA!AG182,'Points Lookup'!$A:$B,2,FALSE)","v":0},{"$f":"VLOOKUP(WAVA!AH182,'Points Lookup'!$A:$B,2,FALSE)","v":0},{"$f":"VLOOKUP(WAVA!AI182,'Points Lookup'!$A:$B,2,FALSE)","v":0},{"$f":"VLOOKUP(WAVA!AJ182,'Points Lookup'!$A:$B,2,FALSE)","v":0},{"$f":"VLOOKUP(WAVA!AK182,'Points Lookup'!$A:$B,2,FALSE)","v":0},{"$f":"VLOOKUP(WAVA!AL182,'Points Lookup'!$A:$B,2,FALSE)","v":0},{"$f":"VLOOKUP(WAVA!AM182,'Points Lookup'!$A:$B,2,FALSE)","v":0},{"$f":"VLOOKUP(WAVA!AN182,'Points Lookup'!$A:$B,2,FALSE)","v":0},{"$f":"VLOOKUP(WAVA!AO182,'Points Lookup'!$A:$B,2,FALSE)","v":0},{"$f":"VLOOKUP(WAVA!AP182,'Points Lookup'!$A:$B,2,FALSE)","v":0},{"$f":"VLOOKUP(WAVA!AQ182,'Points Lookup'!$A:$B,2,FALSE)","v":0},{"$f":"VLOOKUP(WAVA!AR182,'Points Lookup'!$A:$B,2,FALSE)","v":0},{"$f":"VLOOKUP(WAVA!AS182,'Points Lookup'!$A:$B,2,FALSE)","v":0},{"$f":"VLOOKUP(WAVA!AT182,'Points Lookup'!$A:$B,2,FALSE)","v":0},{"$f":"VLOOKUP(WAVA!AU182,'Points Lookup'!$A:$B,2,FALSE)","v":0},{"$f":"VLOOKUP(WAVA!AV182,'Points Lookup'!$A:$B,2,FALSE)","v":0},{"$f":"VLOOKUP(WAVA!AW182,'Points Lookup'!$A:$B,2,FALSE)","v":0},null,0,0,0,0,0,0,0,0]
[113,{"$f":"WAVA!C183","v":"Ian Ogden"},{"$f":"IF(ISBLANK(WAVA!F183),\"\",WAVA!F183)","v":"Second"},0,{"$f":"VLOOKUP(WAVA!AC183,'Points Lookup'!$A:$B,2,FALSE)","v":0},{"$f":"VLOOKUP(WAVA!AD183,'Points Lookup'!$A:$B,2,FALSE)","v":0},{"$f":"VLOOKUP(WAVA!AE183,'Points Lookup'!$A:$B,2,FALSE)","v":0},{"$f":"VLOOKUP(WAVA!AF183,'Points Lookup'!$A:$B,2,FALSE)","v":0},{"$f":"VLOOKUP(WAVA!AG183,'Points Lookup'!$A:$B,2,FALSE)","v":0},{"$f":"VLOOKUP(WAVA!AH183,'Points Lookup'!$A:$B,2,FALSE)","v":0},{"$f":"VLOOKUP(WAVA!AI183,'Points Lookup'!$A:$B,2,FALSE)","v":0},{"$f":"VLOOKUP(WAVA!AJ183,'Points Lookup'!$A:$B,2,FALSE)","v":0},{"$f":"VLOOKUP(WAVA!AK183,'Points Lookup'!$A:$B,2,FALSE)","v":0},{"$f":"VLOOKUP(WAVA!AL183,'Points Lookup'!$A:$B,2,FALSE)","v":0},{"$f":"VLOOKUP(WAVA!AM183,'Points Lookup'!$A:$B,2,FALSE)","v":0},{"$f":"VLOOKUP(WAVA!AN183,'Points Lookup'!$A:$B,2,FALSE)","v":0},{"$f":"VLOOKUP(WAVA!AO183,'Points Lookup'!$A:$B,2,FALSE)","v":0},{"$f":"VLOOKUP(WAVA!AP183,'Points Lookup'!$A:$B,2,FALSE)","v":0},{"$f":"VLOOKUP(WAVA!AQ183,'Points Lookup'!$A:$B,2,FALSE)","v":0},{"$f":"VLOOKUP(WAVA!AR183,'Points Lookup'!$A:$B,2,FALSE)","v":0},{"$f":"VLOOKUP(WAVA!AS183,'Points Lookup'!$A:$B,2,FALSE)","v":0},{"$f":"VLOOKUP(WAVA!AT183,'Points Lookup'!$A:$B,2,FALSE)","v":0},{"$f":"VLOOKUP(WAVA!AU183,'Points Lookup'!$A:$B,2,FALSE)","v":0},{"$f":"VLOOKUP(WAVA!AV183,'Points Lookup'!$A:$B,2,FALSE)","v":0},{"$f":"VLOOKUP(WAVA!AW183,'Points Lookup'!$A:$B,2,FALSE)","v":0},null,{"$f":"LARGE($E182:$Y182,AA$1)","v":0},0,0,0,0,0,0,0]
[113,{"$f":"WAVA!C184","v":"Hannah Oldroyd"},{"$f":"IF(ISBLANK(WAVA!F184),\"\",WAVA!F184)","v":"Second"},0,{"$f":"VLOOKUP(WAVA!AC184,'Points Lookup'!$A:$B,2,FALSE)","v":0},{"$f":"VLOOKUP(WAVA!AD184,'Points Lookup'!$A:$B,2,FALSE)","v":0},{"$f":"VLOOKUP(WAVA!AE184,'Points Lookup'!$A:$B,2,FALSE)","v":0},{"$f":"VLOOKUP(WAVA!AF184,'Points Lookup'!$A:$B,2,FALSE)","v":0},{"$f":"VLOOKUP(WAVA!AG184,'Points Lookup'!$A:$B,2,FALSE)","v":0},{"$f":"VLOOKUP(WAVA!AH184,'Points Lookup'!$A:$B,2,FALSE)","v":0},{"$f":"VLOOKUP(WAVA!AI184,'Points Lookup'!$A:$B,2,FALSE)","v":0},{"$f":"VLOOKUP(WAVA!AJ184,'Points Lookup'!$A:$B,2,FALSE)","v":0},{"$f":"VLOOKUP(WAVA!AK184,'Points Lookup'!$A:$B,2,FALSE)","v":0},{"$f":"VLOOKUP(WAVA!AL184,'Points Lookup'!$A:$B,2,FALSE)","v":0},{"$f":"VLOOKUP(WAVA!AM184,'Points Lookup'!$A:$B,2,FALSE)","v":0},{"$f":"VLOOKUP(WAVA!AN184,'Points Lookup'!$A:$B,2,FALSE)","v":0},{"$f":"VLOOKUP(WAVA!AO184,'Points Lookup'!$A:$B,2,FALSE)","v":0},{"$f":"VLOOKUP(WAVA!AP184,'Points Lookup'!$A:$B,2,FALSE)","v":0},{"$f":"VLOOKUP(WAVA!AQ184,'Points Lookup'!$A:$B,2,FALSE)","v":0},{"$f":"VLOOKUP(WAVA!AR184,'Points Lookup'!$A:$B,2,FALSE)","v":0},{"$f":"VLOOKUP(WAVA!AS184,'Points Lookup'!$A:$B,2,FALSE)","v":0},{"$f":"VLOOKUP(WAVA!AT184,'Points Lookup'!$A:$B,2,FALSE)","v":0},{"$f":"VLOOKUP(WAVA!AU184,'Points Lookup'!$A:$B,2,FALSE)","v":0},{"$f":"VLOOKUP(WAVA!AV184,'Points Lookup'!$A:$B,2,FALSE)","v":0},{"$f":"VLOOKUP(WAVA!AW184,'Points Lookup'!$A:$B,2,FALSE)","v":0},null,0,0,0,0,0,0,0,0]
[102,{"$f":"WAVA!C185","v":"Cristina Pacchiarini"},{"$f":"IF(ISBLANK(WAVA!F185),\"\",WAVA!F185)","v":"Second"},37,{"$f":"VLOOKUP(WAVA!AC185,'Points Lookup'!$A:$B,2,FALSE)","v":0},{"$f":"VLOOKUP(WAVA!AD185,'Points Lookup'!$A:$B,2,FALSE)","v":37},{"$f":"VLOOKUP(WAVA!AE185,'Points Lookup'!$A:$B,2,FALSE)","v":0},{"$f":"VLOOKUP(WAVA!AF185,'Points Lookup'!$A:$B,2,FALSE)","v":0},{"$f":"VLOOKUP(WAVA!AG185,'Points Lookup'!$A:$B,2,FALSE)","v":0},{"$f":"VLOOKUP(WAVA!AH185,'Points Lookup'!$A:$B,2,FALSE)","v":0},{"$f":"VLOOKUP(WAVA!AI185,'Points Lookup'!$A:$B,2,FALSE)","v":0},{"$f":"VLOOKUP(WAVA!AJ185,'Points Lookup'!$A:$B,2,FALSE)","v":0},{"$f":"VLOOKUP(WAVA!AK185,'Points Lookup'!$A:$B,2,FALSE)","v":0},{"$f":"VLOOKUP(WAVA!AL185,'Points Lookup'!$A:$B,2,FALSE)","v":0},{"$f":"VLOOKUP(WAVA!AM185,'Points Lookup'!$A:$B,2,FALSE)","v":0},{"$f":"VLOOKUP(WAVA!AN185,'Points Lookup'!$A:$B,2,FALSE)","v":0},{"$f":"VLOOKUP(WAVA!AO185,'Points Lookup'!$A:$B,2,FALSE)","v":0},{"$f":"VLOOKUP(WAVA!AP185,'Points Lookup'!$A:$B,2,FALSE)","v":0},{"$f":"VLOOKUP(WAVA!AQ185,'Points Lookup'!$A:$B,2,FALSE)","v":0},{"$f":"VLOOKUP(WAVA!AR185,'Points Lookup'!$A:$B,2,FALSE)","v":0},{"$f":"VLOOKUP(WAVA!AS185,'Points Lookup'!$A:$B,2,FALSE)","v":0},{"$f":"VLOOKUP(WAVA!AT185,'Points Lookup'!$A:$B,2,FALSE)","v":0},{"$f":"VLOOKUP(WAVA!AU185,'Points Lookup'!$A:$B,2,FALSE)","v":0},{"$f":"VLOOKUP(WAVA!AV185,'Points Lookup'!$A:$B,2,FALSE)","v":0},{"$f":"VLOOKUP(WAVA!AW185,'Points Lookup'!$A:$B,2,FALSE)","v":0},null,37,0,0,0,0,0,0,0]
[113,{"$f":"WAVA!C186","v":"Darren Parker"},{"$f":"IF(ISBLANK(WAVA!F186),\"\",WAVA!F186)","v":"Second"},0,{"$f":"VLOOKUP(WAVA!AC186,'Points Lookup'!$A:$B,2,FALSE)","v":0},{"$f":"VLOOKUP(WAVA!AD186,'Points Lookup'!$A:$B,2,FALSE)","v":0},{"$f":"VLOOKUP(WAVA!AE186,'Points Lookup'!$A:$B,2,FALSE)","v":0},{"$f":"VLOOKUP(WAVA!AF186,'Points Lookup'!$A:$B,2,FALSE)","v":0},{"$f":"VLOOKUP(WAVA!AG186,'Points Lookup'!$A:$B,2,FALSE)","v":0},{"$f":"VLOOKUP(WAVA!AH186,'Points Lookup'!$A:$B,2,FALSE)","v":0},{"$f":"VLOOKUP(WAVA!AI186,'Points Lookup'!$A:$B,2,FALSE)","v":0},{"$f":"VLOOKUP(WAVA!AJ186,'Points Lookup'!$A:$B,2,FALSE)","v":0},{"$f":"VLOOKUP(WAVA!AK186,'Points Lookup'!$A:$B,2,FALSE)","v":0},{"$f":"VLOOKUP(WAVA!AL186,'Points Lookup'!$A:$B,2,FALSE)","v":0},{"$f":"VLOOKUP(WAVA!AM186,'Points Lookup'!$A:$B,2,FALSE)","v":0},{"$f":"VLOOKUP(WAVA!AN186,'Points Lookup'!$A:$B,2,FALSE)","v":0},{"$f":"VLOOKUP(WAVA!AO186,'Points Lookup'!$A:$B,2,FALSE)","v":0},{"$f":"VLOOKUP(WAVA!AP186,'Points Lookup'!$A:$B,2,FALSE)","v":0},{"$f":"VLOOKUP(WAVA!AQ186,'Points Lookup'!$A:$B,2,FALSE)","v":0},{"$f":"VLOOKUP(WAVA!AR186,'Points Lookup'!$A:$B,2,FALSE)","v":0},{"$f":"VLOOKUP(WAVA!AS186,'Points Lookup'!$A:$B,2,FALSE)","v":0},{"$f":"VLOOKUP(WAVA!AT186,'Points Lookup'!$A:$B,2,FALSE)","v":0},{"$f":"VLOOKUP(WAVA!AU186,'Points Lookup'!$A:$B,2,FALSE)","v":0},{"$f":"VLOOKUP(WAVA!AV186,'Points Lookup'!$A:$B,2,FALSE)","v":0},{"$f":"VLOOKUP(WAVA!AW186,'Points Lookup'!$A:$B,2,FALSE)","v":0},null,0,0,0,0,0,0,0,0]
[21,{"$f":"WAVA!C187","v":"Rachel Parker"},{"$f":"IF(ISBLANK(WAVA!F187),\"\",WAVA!F187)","v":"Premier"},246,{"$f":"VLOOKUP(WAVA!AC187,'Points Lookup'!$A:$B,2,FALSE)","v":0},{"$f":"VLOOKUP(WAVA!AD187,'Points Lookup'!$A:$B,2,FALSE)","v":0},{"$f":"VLOOKUP(WAVA!AE187,'Points Lookup'!$A:$B,2,FALSE)","v":0},{"$f":"VLOOKUP(WAVA!AF187,'Points Lookup'!$A:$B,2,FALSE)","v":0},{"$f":"VLOOKUP(WAVA!AG187,'Points Lookup'!$A:$B,2,FALSE)","v":0},{"$f":"VLOOKUP(WAVA!AH187,'Points Lookup'!$A:$B,2,FALSE)","v":48},{"$f":"VLOOKUP(WAVA!AI187,'Points Lookup'!$A:$B,2,FALSE)","v":42},{"$f":"VLOOKUP(WAVA!AJ187,'Points Lookup'!$A:$B,2,FALSE)","v":0},{"$f":"VLOOKUP(WAVA!AK187,'Points Lookup'!$A:$B,2,FALSE)","v":0},{"$f":"VLOOKUP(WAVA!AL187,'Points Lookup'!$A:$B,2,FALSE)","v":0},{"$f":"VLOOKUP(WAVA!AM187,'Points Lookup'!$A:$B,2,FALSE)","v":39},{"$f":"VLOOKUP(WAVA!AN187,'Points Lookup'!$A:$B,2,FALSE)","v":39},{"$f":"VLOOKUP(WAVA!AO187,'Points Lookup'!$A:$B,2,FALSE)","v":0},{"$f":"VLOOKUP(WAVA!AP187,'Points Lookup'!$A:$B,2,FALSE)","v":0},{"$f":"VLOOKUP(WAVA!AQ187,'Points Lookup'!$A:$B,2,FALSE)","v":0},{"$f":"VLOOKUP(WAVA!AR187,'Points Lookup'!$A:$B,2,FALSE)","v":0},{"$f":"VLOOKUP(WAVA!AS187,'Points Lookup'!$A:$B,2,FALSE)","v":0},{"$f":"VLOOKUP(WAVA!AT187,'Points Lookup'!$A:$B,2,FALSE)","v":40},{"$f":"VLOOKUP(WAVA!AU187,'Points Lookup'!$A:$B,2,FALSE)","v":38},{"$f":"VLOOKUP(WAVA!AV187,'Points Lookup'!$A:$B,2,FALSE)","v":0},{"$f":"VLOOKUP(WAVA!AW187,'Points Lookup'!$A:$B,2,FALSE)","v":0},null,48,42,40,39,39,38,0,0]
[113,{"$f":"WAVA!C188","v":"Laura Parkin"},{"$f":"IF(ISBLANK(WAVA!F188),\"\",WAVA!F188)","v":"Second"},0,{"$f":"VLOOKUP(WAVA!AC188,'Points Lookup'!$A:$B,2,FALSE)","v":0},{"$f":"VLOOKUP(WAVA!AD188,'Points Lookup'!$A:$B,2,FALSE)","v":0},{"$f":"VLOOKUP(WAVA!AE188,'Points Lookup'!$A:$B,2,FALSE)","v":0},{"$f":"VLOOKUP(WAVA!AF188,'Points Lookup'!$A:$B,2,FALSE)","v":0},{"$f":"VLOOKUP(WAVA!AG188,'Points Lookup'!$A:$B,2,FALSE)","v":0},{"$f":"VLOOKUP(WAVA!AH188,'Points Lookup'!$A:$B,2,FALSE)","v":0},{"$f":"VLOOKUP(WAVA!AI188,'Points Lookup'!$A:$B,2,FALSE)","v":0},{"$f":"VLOOKUP(WAVA!AJ188,'Points Lookup'!$A:$B,2,FALSE)","v":0},{"$f":"VLOOKUP(WAVA!AK188,'Points Lookup'!$A:$B,2,FALSE)","v":0},{"$f":"VLOOKUP(WAVA!AL188,'Points Lookup'!$A:$B,2,FALSE)","v":0},{"$f":"VLOOKUP(WAVA!AM188,'Points Lookup'!$A:$B,2,FALSE)","v":0},{"$f":"VLOOKUP(WAVA!AN188,'Points Lookup'!$A:$B,2,FALSE)","v":0},{"$f":"VLOOKUP(WAVA!AO188,'Points Lookup'!$A:$B,2,FALSE)","v":0},{"$f":"VLOOKUP(WAVA!AP188,'Points Lookup'!$A:$B,2,FALSE)","v":0},{"$f":"VLOOKUP(WAVA!AQ188,'Points Lookup'!$A:$B,2,FALSE)","v":0},{"$f":"VLOOKUP(WAVA!AR188,'Points Lookup'!$A:$B,2,FALSE)","v":0},{"$f":"VLOOKUP(WAVA!AS188,'Points Lookup'!$A:$B,2,FALSE)","v":0},{"$f":"VLOOKUP(WAVA!AT188,'Points Lookup'!$A:$B,2,FALSE)","v":0},{"$f":"VLOOKUP(WAVA!AU188,'Points Lookup'!$A:$B,2,FALSE)","v":0},{"$f":"VLOOKUP(WAVA!AV188,'Points Lookup'!$A:$B,2,FALSE)","v":0},{"$f":"VLOOKUP(WAVA!AW188,'Points Lookup'!$A:$B,2,FALSE)","v":0},null,0,0,0,0,0,0,0,0]
[113,{"$f":"WAVA!C189","v":"Hannah Partner"},{"$f":"IF(ISBLANK(WAVA!F189),\"\",WAVA!F189)","v":"Second"},0,{"$f":"VLOOKUP(WAVA!AC189,'Points Lookup'!$A:$B,2,FALSE)","v":0},{"$f":"VLOOKUP(WAVA!AD189,'Points Lookup'!$A:$B,2,FALSE)","v":0},{"$f":"VLOOKUP(WAVA!AE189,'Points Lookup'!$A:$B,2,FALSE)","v":0},{"$f":"VLOOKUP(WAVA!AF189,'Points Lookup'!$A:$B,2,FALSE)","v":0},{"$f":"VLOOKUP(WAVA!AG189,'Points Lookup'!$A:$B,2,FALSE)","v":0},{"$f":"VLOOKUP(WAVA!AH189,'Points Lookup'!$A:$B,2,FALSE)","v":0},{"$f":"VLOOKUP(WAVA!AI189,'Points Lookup'!$A:$B,2,FALSE)","v":0},{"$f":"VLOOKUP(WAVA!AJ189,'Points Lookup'!$A:$B,2,FALSE)","v":0},{"$f":"VLOOKUP(WAVA!AK189,'Points Lookup'!$A:$B,2,FALSE)","v":0},{"$f":"VLOOKUP(WAVA!AL189,'Points Lookup'!$A:$B,2,FALSE)","v":0},{"$f":"VLOOKUP(WAVA!AM189,'Points Lookup'!$A:$B,2,FALSE)","v":0},{"$f":"VLOOKUP(WAVA!AN189,'Points Lookup'!$A:$B,2,FALSE)","v":0},{"$f":"VLOOKUP(WAVA!AO189,'Points Lookup'!$A:$B,2,FALSE)","v":0},{"$f":"VLOOKUP(WAVA!AP189,'Points Lookup'!$A:$B,2,FALSE)","v":0},{"$f":"VLOOKUP(WAVA!AQ189,'Points Lookup'!$A:$B,2,FALSE)","v":0},{"$f":"VLOOKUP(WAVA!AR189,'Points Lookup'!$A:$B,2,FALSE)","v":0},{"$f":"VLOOKUP(WAVA!AS189,'Points Lookup'!$A:$B,2,FALSE)","v":0},{"$f":"VLOOKUP(WAVA!AT189,'Points Lookup'!$A:$B,2,FALSE)","v":0},{"$f":"VLOOKUP(WAVA!AU189,'Points Lookup'!$A:$B,2,FALSE)","v":0},{"$f":"VLOOKUP(WAVA!AV189,'Points Lookup'!$A:$B,2,FALSE)","v":0},{"$f":"VLOOKUP(WAVA!AW189,'Points Lookup'!$A:$B,2,FALSE)","v":0},null,0,0,0,0,0,0,0,0]
[113,{"$f":"WAVA!C190","v":"Simon Pass"},{"$f":"IF(ISBLANK(WAVA!F190),\"\",WAVA!F190)","v":"Second"},0,{"$f":"VLOOKUP(WAVA!AC190,'Points Lookup'!$A:$B,2,FALSE)","v":0},{"$f":"VLOOKUP(WAVA!AD190,'Points Lookup'!$A:$B,2,FALSE)","v":0},{"$f":"VLOOKUP(WAVA!AE190,'Points Lookup'!$A:$B,2,FALSE)","v":0},{"$f":"VLOOKUP(WAVA!AF190,'Points Lookup'!$A:$B,2,FALSE)","v":0},{"$f":"VLOOKUP(WAVA!AG190,'Points Lookup'!$A:$B,2,FALSE)","v":0},{"$f":"VLOOKUP(WAVA!AH190,'Points Lookup'!$A:$B,2,FALSE)","v":0},{"$f":"VLOOKUP(WAVA!AI190,'Points Lookup'!$A:$B,2,FALSE)","v":0},{"$f":"VLOOKUP(WAVA!AJ190,'Points Lookup'!$A:$B,2,FALSE)","v":0},{"$f":"VLOOKUP(WAVA!AK190,'Points Lookup'!$A:$B,2,FALSE)","v":0},{"$f":"VLOOKUP(WAVA!AL190,'Points Lookup'!$A:$B,2,FALSE)","v":0},{"$f":"VLOOKUP(WAVA!AM190,'Points Lookup'!$A:$B,2,FALSE)","v":0},{"$f":"VLOOKUP(WAVA!AN190,'Points Lookup'!$A:$B,2,FALSE)","v":0},{"$f":"VLOOKUP(WAVA!AO190,'Points Lookup'!$A:$B,2,FALSE)","v":0},{"$f":"VLOOKUP(WAVA!AP190,'Points Lookup'!$A:$B,2,FALSE)","v":0},{"$f":"VLOOKUP(WAVA!AQ190,'Points Lookup'!$A:$B,2,FALSE)","v":0},{"$f":"VLOOKUP(WAVA!AR190,'Points Lookup'!$A:$B,2,FALSE)","v":0},{"$f":"VLOOKUP(WAVA!AS190,'Points Lookup'!$A:$B,2,FALSE)","v":0},{"$f":"VLOOKUP(WAVA!AT190,'Points Lookup'!$A:$B,2,FALSE)","v":0},{"$f":"VLOOKUP(WAVA!AU190,'Points Lookup'!$A:$B,2,FALSE)","v":0},{"$f":"VLOOKUP(WAVA!AV190,'Points Lookup'!$A:$B,2,FALSE)","v":0},{"$f":"VLOOKUP(WAVA!AW190,'Points Lookup'!$A:$B,2,FALSE)","v":0},null,0,0,0,0,0,0,0,0]
[72,{"$f":"WAVA!C191","v":"Megan Paul"},{"$f":"IF(ISBLANK(WAVA!F191),\"\",WAVA!F191)","v":"Second"},71,{"$f":"VLOOKUP(WAVA!AC191,'Points Lookup'!$A:$B,2,FALSE)","v":0},{"$f":"VLOOKUP(WAVA!AD191,'Points Lookup'!$A:$B,2,FALSE)","v":31},{"$f":"VLOOKUP(WAVA!AE191,'Points Lookup'!$A:$B,2,FALSE)","v":0},{"$f":"VLOOKUP(WAVA!AF191,'Points Lookup'!$A:$B,2,FALSE)","v":0},{"$f":"VLOOKUP(WAVA!AG191,'Points Lookup'!$A:$B,2,FALSE)","v":0},{"$f":"VLOOKUP(WAVA!AH191,'Points Lookup'!$A:$B,2,FALSE)","v":0},{"$f":"VLOOKUP(WAVA!AI191,'Points Lookup'!$A:$B,2,FALSE)","v":0},{"$f":"VLOOKUP(WAVA!AJ191,'Points Lookup'!$A:$B,2,FALSE)","v":0},{"$f":"VLOOKUP(WAVA!AK191,'Points Lookup'!$A:$B,2,FALSE)","v":0},{"$f":"VLOOKUP(WAVA!AL191,'Points Lookup'!$A:$B,2,FALSE)","v":0},{"$f":"VLOOKUP(WAVA!AM191,'Points Lookup'!$A:$B,2,FALSE)","v":0},{"$f":"VLOOKUP(WAVA!AN191,'Points Lookup'!$A:$B,2,FALSE)","v":0},{"$f":"VLOOKUP(WAVA!AO191,'Points Lookup'!$A:$B,2,FALSE)","v":0},{"$f":"VLOOKUP(WAVA!AP191,'Points Lookup'!$A:$B,2,FALSE)","v":0},{"$f":"VLOOKUP(WAVA!AQ191,'Points Lookup'!$A:$B,2,FALSE)","v":0},{"$f":"VLOOKUP(WAVA!AR191,'Points Lookup'!$A:$B,2,FALSE)","v":0},{"$f":"VLOOKUP(WAVA!AS191,'Points Lookup'!$A:$B,2,FALSE)","v":0},{"$f":"VLOOKUP(WAVA!AT191,'Points Lookup'!$A:$B,2,FALSE)","v":0},{"$f":"VLOOKUP(WAVA!AU191,'Points Lookup'!$A:$B,2,FALSE)","v":0},{"$f":"VLOOKUP(WAVA!AV191,'Points Lookup'!$A:$B,2,FALSE)","v":40},{"$f":"VLOOKUP(WAVA!AW191,'Points Lookup'!$A:$B,2,FALSE)","v":0},null,40,31,0,0,0,0,0,0]
[55,{"$f":"WAVA!C192","v":"Benjamin Pearson"},{"$f":"IF(ISBLANK(WAVA!F192),\"\",WAVA!F192)","v":"Second"},95,{"$f":"VLOOKUP(WAVA!AC192,'Points Lookup'!$A:$B,2,FALSE)","v":0},{"$f":"VLOOKUP(WAVA!AD192,'Points Lookup'!$A:$B,2,FALSE)","v":48},{"$f":"VLOOKUP(WAVA!AE192,'Points Lookup'!$A:$B,2,FALSE)","v":0},{"$f":"VLOOKUP(WAVA!AF192,'Points Lookup'!$A:$B,2,FALSE)","v":0},{"$f":"VLOOKUP(WAVA!AG192,'Points Lookup'!$A:$B,2,FALSE)","v":0},{"$f":"VLOOKUP(WAVA!AH192,'Points Lookup'!$A:$B,2,FALSE)","v":0},{"$f":"VLOOKUP(WAVA!AI192,'Points Lookup'!$A:$B,2,FALSE)","v":0},{"$f":"VLOOKUP(WAVA!AJ192,'Points Lookup'!$A:$B,2,FALSE)","v":0},{"$f":"VLOOKUP(WAVA!AK192,'Points Lookup'!$A:$B,2,FALSE)","v":0},{"$f":"VLOOKUP(WAVA!AL192,'Points Lookup'!$A:$B,2,FALSE)","v":0},{"$f":"VLOOKUP(WAVA!AM192,'Points Lookup'!$A:$B,2,FALSE)","v":0},{"$f":"VLOOKUP(WAVA!AN192,'Points Lookup'!$A:$B,2,FALSE)","v":0},{"$f":"VLOOKUP(WAVA!AO192,'Points Lookup'!$A:$B,2,FALSE)","v":0},{"$f":"VLOOKUP(WAVA!AP192,'Points Lookup'!$A:$B,2,FALSE)","v":0},{"$f":"VLOOKUP(WAVA!AQ192,'Points Lookup'!$A:$B,2,FALSE)","v":0},{"$f":"VLOOKUP(WAVA!AR192,'Points Lookup'!$A:$B,2,FALSE)","v":0},{"$f":"VLOOKUP(WAVA!AS192,'Points Lookup'!$A:$B,2,FALSE)","v":0},{"$f":"VLOOKUP(WAVA!AT192,'Points Lookup'!$A:$B,2,FALSE)","v":0},{"$f":"VLOOKUP(WAVA!AU192,'Points Lookup'!$A:$B,2,FALSE)","v":0},{"$f":"VLOOKUP(WAVA!AV192,'Points Lookup'!$A:$B,2,FALSE)","v":0},{"$f":"VLOOKUP(WAVA!AW192,'Points Lookup'!$A:$B,2,FALSE)","v":47},null,48,47,0,0,0,0,0,0]
[113,{"$f":"WAVA!C193","v":"Lindsey Pearson"},{"$f":"IF(ISBLANK(WAVA!F193),\"\",WAVA!F193)","v":"Second"},0,{"$f":"VLOOKUP(WAVA!AC193,'Points Lookup'!$A:$B,2,FALSE)","v":0},{"$f":"VLOOKUP(WAVA!AD193,'Points Lookup'!$A:$B,2,FALSE)","v":0},{"$f":"VLOOKUP(WAVA!AE193,'Points Lookup'!$A:$B,2,FALSE)","v":0},{"$f":"VLOOKUP(WAVA!AF193,'Points Lookup'!$A:$B,2,FALSE)","v":0},{"$f":"VLOOKUP(WAVA!AG193,'Points Lookup'!$A:$B,2,FALSE)","v":0},{"$f":"VLOOKUP(WAVA!AH193,'Points Lookup'!$A:$B,2,FALSE)","v":0},{"$f":"VLOOKUP(WAVA!AI193,'Points Lookup'!$A:$B,2,FALSE)","v":0},{"$f":"VLOOKUP(WAVA!AJ193,'Points Lookup'!$A:$B,2,FALSE)","v":0},{"$f":"VLOOKUP(WAVA!AK193,'Points Lookup'!$A:$B,2,FALSE)","v":0},{"$f":"VLOOKUP(WAVA!AL193,'Points Lookup'!$A:$B,2,FALSE)","v":0},{"$f":"VLOOKUP(WAVA!AM193,'Points Lookup'!$A:$B,2,FALSE)","v":0},{"$f":"VLOOKUP(WAVA!AN193,'Points Lookup'!$A:$B,2,FALSE)","v":0},{"$f":"VLOOKUP(WAVA!AO193,'Points Lookup'!$A:$B,2,FALSE)","v":0},{"$f":"VLOOKUP(WAVA!AP193,'Points Lookup'!$A:$B,2,FALSE)","v":0},{"$f":"VLOOKUP(WAVA!AQ193,'Points Lookup'!$A:$B,2,FALSE)","v":0},{"$f":"VLOOKUP(WAVA!AR193,'Points Lookup'!$A:$B,2,FALSE)","v":0},{"$f":"VLOOKUP(WAVA!AS193,'Points Lookup'!$A:$B,2,FALSE)","v":0},{"$f":"VLOOKUP(WAVA!AT193,'Points Lookup'!$A:$B,2,FALSE)","v":0},{"$f":"VLOOKUP(WAVA!AU193,'Points Lookup'!$A:$B,2,FALSE)","v":0},{"$f":"VLOOKUP(WAVA!AV193,'Points Lookup'!$A:$B,2,FALSE)","v":0},{"$f":"VLOOKUP(WAVA!AW193,'Points Lookup'!$A:$B,2,FALSE)","v":0},null,{"$f":"LARGE($E192:$Y192,AA$1)","v":0},0,0,0,0,0,0,0]
[26,{"$f":"WAVA!C194","v":"Gary Pennington"},{"$f":"IF(ISBLANK(WAVA!F194),\"\",WAVA!F194)","v":"Premier"},229,{"$f":"VLOOKUP(WAVA!AC194,'Points Lookup'!$A:$B,2,FALSE)","v":43},{"$f":"VLOOKUP(WAVA!AD194,'Points Lookup'!$A:$B,2,FALSE)","v":0},{"$f":"VLOOKUP(WAVA!AE194,'Points Lookup'!$A:$B,2,FALSE)","v":0},{"$f":"VLOOKUP(WAVA!AF194,'Points Lookup'!$A:$B,2,FALSE)","v":0},{"$f":"VLOOKUP(WAVA!AG194,'Points Lookup'!$A:$B,2,FALSE)","v":0},{"$f":"VLOOKUP(WAVA!AH194,'Points Lookup'!$A:$B,2,FALSE)","v":0},{"$f":"VLOOKUP(WAVA!AI194,'Points Lookup'!$A:$B,2,FALSE)","v":0},{"$f":"VLOOKUP(WAVA!AJ194,'Points Lookup'!$A:$B,2,FALSE)","v":0},{"$f":"VLOOKUP(WAVA!AK194,'Points Lookup'!$A:$B,2,FALSE)","v":0},{"$f":"VLOOKUP(WAVA!AL194,'Points Lookup'!$A:$B,2,FALSE)","v":0},{"$f":"VLOOKUP(WAVA!AM194,'Points Lookup'!$A:$B,2,FALSE)","v":0},{"$f":"VLOOKUP(WAVA!AN194,'Points Lookup'!$A:$B,2,FALSE)","v":0},{"$f":"VLOOKUP(WAVA!AO194,'Points Lookup'!$A:$B,2,FALSE)","v":0},{"$f":"VLOOKUP(WAVA!AP194,'Points Lookup'!$A:$B,2,FALSE)","v":0},{"$f":"VLOOKUP(WAVA!AQ194,'Points Lookup'!$A:$B,2,FALSE)","v":0},{"$f":"VLOOKUP(WAVA!AR194,'Points Lookup'!$A:$B,2,FALSE)","v":0},{"$f":"VLOOKUP(WAVA!AS194,'Points Lookup'!$A:$B,2,FALSE)","v":49},{"$f":"VLOOKUP(WAVA!AT194,'Points Lookup'!$A:$B,2,FALSE)","v":43},{"$f":"VLOOKUP(WAVA!AU194,'Points Lookup'!$A:$B,2,FALSE)","v":46},{"$f":"VLOOKUP(WAVA!AV194,'Points Lookup'!$A:$B,2,FALSE)","v":0},{"$f":"VLOOKUP(WAVA!AW194,'Points Lookup'!$A:$B,2,FALSE)","v":48},null,49,48,46,43,43,0,0,0]
[{"$f":"RANK(D194,D$2:D$215,)","v":113},{"$f":"WAVA!C195","v":"Helen Pennington"},{"$f":"IF(ISBLANK(WAVA!F195),\"\",WAVA!F195)","v":"Second"},{"$f":"SUM(AA194:AH194)","v":0},{"$f":"VLOOKUP(WAVA!AC195,'Points Lookup'!$A:$B,2,FALSE)","v":0},{"$f":"VLOOKUP(WAVA!AD195,'Points Lookup'!$A:$B,2,FALSE)","v":0},{"$f":"VLOOKUP(WAVA!AE195,'Points Lookup'!$A:$B,2,FALSE)","v":0},{"$f":"VLOOKUP(WAVA!AF195,'Points Lookup'!$A:$B,2,FALSE)","v":0},{"$f":"VLOOKUP(WAVA!AG195,'Points Lookup'!$A:$B,2,FALSE)","v":0},{"$f":"VLOOKUP(WAVA!AH195,'Points Lookup'!$A:$B,2,FALSE)","v":0},{"$f":"VLOOKUP(WAVA!AI195,'Points Lookup'!$A:$B,2,FALSE)","v":0},{"$f":"VLOOKUP(WAVA!AJ195,'Points Lookup'!$A:$B,2,FALSE)","v":0},{"$f":"VLOOKUP(WAVA!AK195,'Points Lookup'!$A:$B,2,FALSE)","v":0},{"$f":"VLOOKUP(WAVA!AL195,'Points Lookup'!$A:$B,2,FALSE)","v":0},{"$f":"VLOOKUP(WAVA!AM195,'Points Lookup'!$A:$B,2,FALSE)","v":0},{"$f":"VLOOKUP(WAVA!AN195,'Points Lookup'!$A:$B,2,FALSE)","v":0},{"$f":"VLOOKUP(WAVA!AO195,'Points Lookup'!$A:$B,2,FALSE)","v":0},{"$f":"VLOOKUP(WAVA!AP195,'Points Lookup'!$A:$B,2,FALSE)","v":0},{"$f":"VLOOKUP(WAVA!AQ195,'Points Lookup'!$A:$B,2,FALSE)","v":0},{"$f":"VLOOKUP(WAVA!AR195,'Points Lookup'!$A:$B,2,FALSE)","v":0},{"$f":"VLOOKUP(WAVA!AS195,'Points Lookup'!$A:$B,2,FALSE)","v":0},{"$f":"VLOOKUP(WAVA!AT195,'Points Lookup'!$A:$B,2,FALSE)","v":0},{"$f":"VLOOKUP(WAVA!AU195,'Points Lookup'!$A:$B,2,FALSE)","v":0},{"$f":"VLOOKUP(WAVA!AV195,'Points Lookup'!$A:$B,2,FALSE)","v":0},{"$f":"VLOOKUP(WAVA!AW195,'Points Lookup'!$A:$B,2,FALSE)","v":0},null,0,0,0,0,0,0,0,0]
[62,{"$f":"WAVA!C196","v":"Sheila Pepper"},{"$f":"IF(ISBLANK(WAVA!F196),\"\",WAVA!F196)","v":"Second"},90,{"$f":"VLOOKUP(WAVA!AC196,'Points Lookup'!$A:$B,2,FALSE)","v":0},{"$f":"VLOOKUP(WAVA!AD196,'Points Lookup'!$A:$B,2,FALSE)","v":0},{"$f":"VLOOKUP(WAVA!AE196,'Points Lookup'!$A:$B,2,FALSE)","v":0},{"$f":"VLOOKUP(WAVA!AF196,'Points Lookup'!$A:$B,2,FALSE)","v":0},{"$f":"VLOOKUP(WAVA!AG196,'Points Lookup'!$A:$B,2,FALSE)","v":0},{"$f":"VLOOKUP(WAVA!AH196,'Points Lookup'!$A:$B,2,FALSE)","v":0},{"$f":"VLOOKUP(WAVA!AI196,'Points Lookup'!$A:$B,2,FALSE)","v":0},{"$f":"VLOOKUP(WAVA!AJ196,'Points Lookup'!$A:$B,2,FALSE)","v":0},{"$f":"VLOOKUP(WAVA!AK196,'Points Lookup'!$A:$B,2,FALSE)","v":0},{"$f":"VLOOKUP(WAVA!AL196,'Points Lookup'!$A:$B,2,FALSE)","v":0},{"$f":"VLOOKUP(WAVA!AM196,'Points Lookup'!$A:$B,2,FALSE)","v":0},{"$f":"VLOOKUP(WAVA!AN196,'Points Lookup'!$A:$B,2,FALSE)","v":43},{"$f":"VLOOKUP(WAVA!AO196,'Points Lookup'!$A:$B,2,FALSE)","v":0},{"$f":"VLOOKUP(WAVA!AP196,'Points Lookup'!$A:$B,2,FALSE)","v":0},{"$f":"VLOOKUP(WAVA!AQ196,'Points Lookup'!$A:$B,2,FALSE)","v":0},{"$f":"VLOOKUP(WAVA!AR196,'Points Lookup'!$A:$B,2,FALSE)","v":47},{"$f":"VLOOKUP(WAVA!AS196,'Points Lookup'!$A:$B,2,FALSE)","v":0},{"$f":"VLOOKUP(WAVA!AT196,'Points Lookup'!$A:$B,2,FALSE)","v":0},{"$f":"VLOOKUP(WAVA!AU196,'Points Lookup'!$A:$B,2,FALSE)","v":0},{"$f":"VLOOKUP(WAVA!AV196,'Points Lookup'!$A:$B,2,FALSE)","v":0},{"$f":"VLOOKUP(WAVA!AW196,'Points Lookup'!$A:$B,2,FALSE)","v":0},null,47,43,0,0,0,0,0,0]
[113,{"$f":"WAVA!C197","v":"Lynne Perris"},{"$f":"IF(ISBLANK(WAVA!F197),\"\",WAVA!F197)","v":"Second"},0,{"$f":"VLOOKUP(WAVA!AC197,'Points Lookup'!$A:$B,2,FALSE)","v":0},{"$f":"VLOOKUP(WAVA!AD197,'Points Lookup'!$A:$B,2,FALSE)","v":0},{"$f":"VLOOKUP(WAVA!AE197,'Points Lookup'!$A:$B,2,FALSE)","v":0},{"$f":"VLOOKUP(WAVA!AF197,'Points Lookup'!$A:$B,2,FALSE)","v":0},{"$f":"VLOOKUP(WAVA!AG197,'Points Lookup'!$A:$B,2,FALSE)","v":0},{"$f":"VLOOKUP(WAVA!AH197,'Points Lookup'!$A:$B,2,FALSE)","v":0},{"$f":"VLOOKUP(WAVA!AI197,'Points Lookup'!$A:$B,2,FALSE)","v":0},{"$f":"VLOOKUP(WAVA!AJ197,'Points Lookup'!$A:$B,2,FALSE)","v":0},{"$f":"VLOOKUP(WAVA!AK197,'Points Lookup'!$A:$B,2,FALSE)","v":0},{"$f":"VLOOKUP(WAVA!AL197,'Points Lookup'!$A:$B,2,FALSE)","v":0},{"$f":"VLOOKUP(WAVA!AM197,'Points Lookup'!$A:$B,2,FALSE)","v":0},{"$f":"VLOOKUP(WAVA!AN197,'Points Lookup'!$A:$B,2,FALSE)","v":0},{"$f":"VLOOKUP(WAVA!AO197,'Points Lookup'!$A:$B,2,FALSE)","v":0},{"$f":"VLOOKUP(WAVA!AP197,'Points Lookup'!$A:$B,2,FALSE)","v":0},{"$f":"VLOOKUP(WAVA!AQ197,'Points Lookup'!$A:$B,2,FALSE)","v":0},{"$f":"VLOOKUP(WAVA!AR197,'Points Lookup'!$A:$B,2,FALSE)","v":0},{"$f":"VLOOKUP(WAVA!AS197,'Points Lookup'!$A:$B,2,FALSE)","v":0},{"$f":"VLOOKUP(WAVA!AT197,'Points Lookup'!$A:$B,2,FALSE)","v":0},{"$f":"VLOOKUP(WAVA!AU197,'Points Lookup'!$A:$B,2,FALSE)","v":0},{"$f":"VLOOKUP(WAVA!AV197,'Points Lookup'!$A:$B,2,FALSE)","v":0},{"$f":"VLOOKUP(WAVA!AW197,'Points Lookup'!$A:$B,2,FALSE)","v":0},null,0,0,0,0,0,0,0,0]
[113,{"$f":"WAVA!C198","v":"Anthea Pickard"},{"$f":"IF(ISBLANK(WAVA!F198),\"\",WAVA!F198)","v":"Second"},0,{"$f":"VLOOKUP(WAVA!AC198,'Points Lookup'!$A:$B,2,FALSE)","v":0},{"$f":"VLOOKUP(WAVA!AD198,'Points Lookup'!$A:$B,2,FALSE)","v":0},{"$f":"VLOOKUP(WAVA!AE198,'Points Lookup'!$A:$B,2,FALSE)","v":0},{"$f":"VLOOKUP(WAVA!AF198,'Points Lookup'!$A:$B,2,FALSE)","v":0},{"$f":"VLOOKUP(WAVA!AG198,'Points Lookup'!$A:$B,2,FALSE)","v":0},{"$f":"VLOOKUP(WAVA!AH198,'Points Lookup'!$A:$B,2,FALSE)","v":0},{"$f":"VLOOKUP(WAVA!AI198,'Points Lookup'!$A:$B,2,FALSE)","v":0},{"$f":"VLOOKUP(WAVA!AJ198,'Points Lookup'!$A:$B,2,FALSE)","v":0},{"$f":"VLOOKUP(WAVA!AK198,'Points Lookup'!$A:$B,2,FALSE)","v":0},{"$f":"VLOOKUP(WAVA!AL198,'Points Lookup'!$A:$B,2,FALSE)","v":0},{"$f":"VLOOKUP(WAVA!AM198,'Points Lookup'!$A:$B,2,FALSE)","v":0},{"$f":"VLOOKUP(WAVA!AN198,'Points Lookup'!$A:$B,2,FALSE)","v":0},{"$f":"VLOOKUP(WAVA!AO198,'Points Lookup'!$A:$B,2,FALSE)","v":0},{"$f":"VLOOKUP(WAVA!AP198,'Points Lookup'!$A:$B,2,FALSE)","v":0},{"$f":"VLOOKUP(WAVA!AQ198,'Points Lookup'!$A:$B,2,FALSE)","v":0},{"$f":"VLOOKUP(WAVA!AR198,'Points Lookup'!$A:$B,2,FALSE)","v":0},{"$f":"VLOOKUP(WAVA!AS198,'Points Lookup'!$A:$B,2,FALSE)","v":0},{"$f":"VLOOKUP(WAVA!AT198,'Points Lookup'!$A:$B,2,FALSE)","v":0},{"$f":"VLOOKUP(WAVA!AU198,'Points Lookup'!$A:$B,2,FALSE)","v":0},{"$f":"VLOOKUP(WAVA!AV198,'Points Lookup'!$A:$B,2,FALSE)","v":0},{"$f":"VLOOKUP(WAVA!AW198,'Points Lookup'!$A:$B,2,FALSE)","v":0},null,0,0,0,0,0,0,0,0]
[113,{"$f":"WAVA!C199","v":"Nicola Pickard"},{"$f":"IF(ISBLANK(WAVA!F199),\"\",WAVA!F199)","v":"First"},0,{"$f":"VLOOKUP(WAVA!AC199,'Points Lookup'!$A:$B,2,FALSE)","v":0},{"$f":"VLOOKUP(WAVA!AD199,'Points Lookup'!$A:$B,2,FALSE)","v":0},{"$f":"VLOOKUP(WAVA!AE199,'Points Lookup'!$A:$B,2,FALSE)","v":0},{"$f":"VLOOKUP(WAVA!AF199,'Points Lookup'!$A:$B,2,FALSE)","v":0},{"$f":"VLOOKUP(WAVA!AG199,'Points Lookup'!$A:$B,2,FALSE)","v":0},{"$f":"VLOOKUP(WAVA!AH199,'Points Lookup'!$A:$B,2,FALSE)","v":0},{"$f":"VLOOKUP(WAVA!AI199,'Points Lookup'!$A:$B,2,FALSE)","v":0},{"$f":"VLOOKUP(WAVA!AJ199,'Points Lookup'!$A:$B,2,FALSE)","v":0},{"$f":"VLOOKUP(WAVA!AK199,'Points Lookup'!$A:$B,2,FALSE)","v":0},{"$f":"VLOOKUP(WAVA!AL199,'Points Lookup'!$A:$B,2,FALSE)","v":0},{"$f":"VLOOKUP(WAVA!AM199,'Points Lookup'!$A:$B,2,FALSE)","v":0},{"$f":"VLOOKUP(WAVA!AN199,'Points Lookup'!$A:$B,2,FALSE)","v":0},{"$f":"VLOOKUP(WAVA!AO199,'Points Lookup'!$A:$B,2,FALSE)","v":0},{"$f":"VLOOKUP(WAVA!AP199,'Points Lookup'!$A:$B,2,FALSE)","v":0},{"$f":"VLOOKUP(WAVA!AQ199,'Points Lookup'!$A:$B,2,FALSE)","v":0},{"$f":"VLOOKUP(WAVA!AR199,'Points Lookup'!$A:$B,2,FALSE)","v":0},{"$f":"VLOOKUP(WAVA!AS199,'Points Lookup'!$A:$B,2,FALSE)","v":0},{"$f":"VLOOKUP(WAVA!AT199,'Points Lookup'!$A:$B,2,FALSE)","v":0},{"$f":"VLOOKUP(WAVA!AU199,'Points Lookup'!$A:$B,2,FALSE)","v":0},{"$f":"VLOOKUP(WAVA!AV199,'Points Lookup'!$A:$B,2,FALSE)","v":0},{"$f":"VLOOKUP(WAVA!AW199,'Points Lookup'!$A:$B,2,FALSE)","v":0},null,0,0,0,0,0,0,0,0]
[113,{"$f":"WAVA!C200","v":"Rachel Pickles"},{"$f":"IF(ISBLANK(WAVA!F200),\"\",WAVA!F200)","v":"Second"},0,{"$f":"VLOOKUP(WAVA!AC200,'Points Lookup'!$A:$B,2,FALSE)","v":0},{"$f":"VLOOKUP(WAVA!AD200,'Points Lookup'!$A:$B,2,FALSE)","v":0},{"$f":"VLOOKUP(WAVA!AE200,'Points Lookup'!$A:$B,2,FALSE)","v":0},{"$f":"VLOOKUP(WAVA!AF200,'Points Lookup'!$A:$B,2,FALSE)","v":0},{"$f":"VLOOKUP(WAVA!AG200,'Points Lookup'!$A:$B,2,FALSE)","v":0},{"$f":"VLOOKUP(WAVA!AH200,'Points Lookup'!$A:$B,2,FALSE)","v":0},{"$f":"VLOOKUP(WAVA!AI200,'Points Lookup'!$A:$B,2,FALSE)","v":0},{"$f":"VLOOKUP(WAVA!AJ200,'Points Lookup'!$A:$B,2,FALSE)","v":0},{"$f":"VLOOKUP(WAVA!AK200,'Points Lookup'!$A:$B,2,FALSE)","v":0},{"$f":"VLOOKUP(WAVA!AL200,'Points Lookup'!$A:$B,2,FALSE)","v":0},{"$f":"VLOOKUP(WAVA!AM200,'Points Lookup'!$A:$B,2,FALSE)","v":0},{"$f":"VLOOKUP(WAVA!AN200,'Points Lookup'!$A:$B,2,FALSE)","v":0},{"$f":"VLOOKUP(WAVA!AO200,'Points Lookup'!$A:$B,2,FALSE)","v":0},{"$f":"VLOOKUP(WAVA!AP200,'Points Lookup'!$A:$B,2,FALSE)","v":0},{"$f":"VLOOKUP(WAVA!AQ200,'Points Lookup'!$A:$B,2,FALSE)","v":0},{"$f":"VLOOKUP(WAVA!AR200,'Points Lookup'!$A:$B,2,FALSE)","v":0},{"$f":"VLOOKUP(WAVA!AS200,'Points Lookup'!$A:$B,2,FALSE)","v":0},{"$f":"VLOOKUP(WAVA!AT200,'Points Lookup'!$A:$B,2,FALSE)","v":0},{"$f":"VLOOKUP(WAVA!AU200,'Points Lookup'!$A:$B,2,FALSE)","v":0},{"$f":"VLOOKUP(WAVA!AV200,'Points Lookup'!$A:$B,2,FALSE)","v":0},{"$f":"VLOOKUP(WAVA!AW200,'Points Lookup'!$A:$B,2,FALSE)","v":0},null,0,0,0,0,0,0,0,0]
[113,{"$f":"WAVA!C201","v":"Lizzy Pix"},{"$f":"IF(ISBLANK(WAVA!F201),\"\",WAVA!F201)","v":"Second"},0,{"$f":"VLOOKUP(WAVA!AC201,'Points Lookup'!$A:$B,2,FALSE)","v":0},{"$f":"VLOOKUP(WAVA!AD201,'Points Lookup'!$A:$B,2,FALSE)","v":0},{"$f":"VLOOKUP(WAVA!AE201,'Points Lookup'!$A:$B,2,FALSE)","v":0},{"$f":"VLOOKUP(WAVA!AF201,'Points Lookup'!$A:$B,2,FALSE)","v":0},{"$f":"VLOOKUP(WAVA!AG201,'Points Lookup'!$A:$B,2,FALSE)","v":0},{"$f":"VLOOKUP(WAVA!AH201,'Points Lookup'!$A:$B,2,FALSE)","v":0},{"$f":"VLOOKUP(WAVA!AI201,'Points Lookup'!$A:$B,2,FALSE)","v":0},{"$f":"VLOOKUP(WAVA!AJ201,'Points Lookup'!$A:$B,2,FALSE)","v":0},{"$f":"VLOOKUP(WAVA!AK201,'Points Lookup'!$A:$B,2,FALSE)","v":0},{"$f":"VLOOKUP(WAVA!AL201,'Points Lookup'!$A:$B,2,FALSE)","v":0},{"$f":"VLOOKUP(WAVA!AM201,'Points Lookup'!$A:$B,2,FALSE)","v":0},{"$f":"VLOOKUP(WAVA!AN201,'Points Lookup'!$A:$B,2,FALSE)","v":0},{"$f":"VLOOKUP(WAVA!AO201,'Points Lookup'!$A:$B,2,FALSE)","v":0},{"$f":"VLOOKUP(WAVA!AP201,'Points Lookup'!$A:$B,2,FALSE)","v":0},{"$f":"VLOOKUP(WAVA!AQ201,'Points Lookup'!$A:$B,2,FALSE)","v":0},{"$f":"VLOOKUP(WAVA!AR201,'Points Lookup'!$A:$B,2,FALSE)","v":0},{"$f":"VLOOKUP(WAVA!AS201,'Points Lookup'!$A:$B,2,FALSE)","v":0},{"$f":"VLOOKUP(WAVA!AT201,'Points Lookup'!$A:$B,2,FALSE)","v":0},{"$f":"VLOOKUP(WAVA!AU201,'Points Lookup'!$A:$B,2,FALSE)","v":0},{"$f":"VLOOKUP(WAVA!AV201,'Points Lookup'!$A:$B,2,FALSE)","v":0},{"$f":"VLOOKUP(WAVA!AW201,'Points Lookup'!$A:$B,2,FALSE)","v":0},null,0,0,0,0,0,0,0,0]
[113,{"$f":"WAVA!C202","v":"elizabeth prosser"},{"$f":"IF(ISBLANK(WAVA!F202),\"\",WAVA!F202)","v":"Second"},0,{"$f":"VLOOKUP(WAVA!AC202,'Points Lookup'!$A:$B,2,FALSE)","v":0},{"$f":"VLOOKUP(WAVA!AD202,'Points Lookup'!$A:$B,2,FALSE)","v":0},{"$f":"VLOOKUP(WAVA!AE202,'Points Lookup'!$A:$B,2,FALSE)","v":0},{"$f":"VLOOKUP(WAVA!AF202,'Points Lookup'!$A:$B,2,FALSE)","v":0},{"$f":"VLOOKUP(WAVA!AG202,'Points Lookup'!$A:$B,2,FALSE)","v":0},{"$f":"VLOOKUP(WAVA!AH202,'Points Lookup'!$A:$B,2,FALSE)","v":0},{"$f":"VLOOKUP(WAVA!AI202,'Points Lookup'!$A:$B,2,FALSE)","v":0},{"$f":"VLOOKUP(WAVA!AJ202,'Points Lookup'!$A:$B,2,FALSE)","v":0},{"$f":"VLOOKUP(WAVA!AK202,'Points Lookup'!$A:$B,2,FALSE)","v":0},{"$f":"VLOOKUP(WAVA!AL202,'Points Lookup'!$A:$B,2,FALSE)","v":0},{"$f":"VLOOKUP(WAVA!AM202,'Points Lookup'!$A:$B,2,FALSE)","v":0},{"$f":"VLOOKUP(WAVA!AN202,'Points Lookup'!$A:$B,2,FALSE)","v":0},{"$f":"VLOOKUP(WAVA!AO202,'Points Lookup'!$A:$B,2,FALSE)","v":0},{"$f":"VLOOKUP(WAVA!AP202,'Points Lookup'!$A:$B,2,FALSE)","v":0},{"$f":"VLOOKUP(WAVA!AQ202,'Points Lookup'!$A:$B,2,FALSE)","v":0},{"$f":"VLOOKUP(WAVA!AR202,'Points Lookup'!$A:$B,2,FALSE)","v":0},{"$f":"VLOOKUP(WAVA!AS202,'Points Lookup'!$A:$B,2,FALSE)","v":0},{"$f":"VLOOKUP(WAVA!AT202,'Points Lookup'!$A:$B,2,FALSE)","v":0},{"$f":"VLOOKUP(WAVA!AU202,'Points Lookup'!$A:$B,2,FALSE)","v":0},{"$f":"VLOOKUP(WAVA!AV202,'Points Lookup'!$A:$B,2,FALSE)","v":0},{"$f":"VLOOKUP(WAVA!AW202,'Points Lookup'!$A:$B,2,FALSE)","v":0},null,0,0,0,0,0,0,0,0]
[113,{"$f":"WAVA!C203","v":"Paul Purcell"},{"$f":"IF(ISBLANK(WAVA!F203),\"\",WAVA!F203)","v":"Second"},0,{"$f":"VLOOKUP(WAVA!AC203,'Points Lookup'!$A:$B,2,FALSE)","v":0},{"$f":"VLOOKUP(WAVA!AD203,'Points Lookup'!$A:$B,2,FALSE)","v":0},{"$f":"VLOOKUP(WAVA!AE203,'Points Lookup'!$A:$B,2,FALSE)","v":0},{"$f":"VLOOKUP(WAVA!AF203,'Points Lookup'!$A:$B,2,FALSE)","v":0},{"$f":"VLOOKUP(WAVA!AG203,'Points Lookup'!$A:$B,2,FALSE)","v":0},{"$f":"VLOOKUP(WAVA!AH203,'Points Lookup'!$A:$B,2,FALSE)","v":0},{"$f":"VLOOKUP(WAVA!AI203,'Points Lookup'!$A:$B,2,FALSE)","v":0},{"$f":"VLOOKUP(WAVA!AJ203,'Points Lookup'!$A:$B,2,FALSE)","v":0},{"$f":"VLOOKUP(WAVA!AK203,'Points Lookup'!$A:$B,2,FALSE)","v":0},{"$f":"VLOOKUP(WAVA!AL203,'Points Lookup'!$A:$B,2,FALSE)","v":0},{"$f":"VLOOKUP(WAVA!AM203,'Points Lookup'!$A:$B,2,FALSE)","v":0},{"$f":"VLOOKUP(WAVA!AN203,'Points Lookup'!$A:$B,2,FALSE)","v":0},{"$f":"VLOOKUP(WAVA!AO203,'Points Lookup'!$A:$B,2,FALSE)","v":0},{"$f":"VLOOKUP(WAVA!AP203,'Points Lookup'!$A:$B,2,FALSE)","v":0},{"$f":"VLOOKUP(WAVA!AQ203,'Points Lookup'!$A:$B,2,FALSE)","v":0},{"$f":"VLOOKUP(WAVA!AR203,'Points Lookup'!$A:$B,2,FALSE)","v":0},{"$f":"VLOOKUP(WAVA!AS203,'Points Lookup'!$A:$B,2,FALSE)","v":0},{"$f":"VLOOKUP(WAVA!AT203,'Points Lookup'!$A:$B,2,FALSE)","v":0},{"$f":"VLOOKUP(WAVA!AU203,'Points Lookup'!$A:$B,2,FALSE)","v":0},{"$f":"VLOOKUP(WAVA!AV203,'Points Lookup'!$A:$B,2,FALSE)","v":0},{"$f":"VLOOKUP(WAVA!AW203,'Points Lookup'!$A:$B,2,FALSE)","v":0},null,{"$f":"LARGE($E202:$Y202,AA$1)","v":0},0,0,0,0,0,0,0]
[113,{"$f":"WAVA!C204","v":"Shirley Quarmby"},{"$f":"IF(ISBLANK(WAVA!F204),\"\",WAVA!F204)","v":"Second"},0,{"$f":"VLOOKUP(WAVA!AC204,'Points Lookup'!$A:$B,2,FALSE)","v":0},{"$f":"VLOOKUP(WAVA!AD204,'Points Lookup'!$A:$B,2,FALSE)","v":0},{"$f":"VLOOKUP(WAVA!AE204,'Points Lookup'!$A:$B,2,FALSE)","v":0},{"$f":"VLOOKUP(WAVA!AF204,'Points Lookup'!$A:$B,2,FALSE)","v":0},{"$f":"VLOOKUP(WAVA!AG204,'Points Lookup'!$A:$B,2,FALSE)","v":0},{"$f":"VLOOKUP(WAVA!AH204,'Points Lookup'!$A:$B,2,FALSE)","v":0},{"$f":"VLOOKUP(WAVA!AI204,'Points Lookup'!$A:$B,2,FALSE)","v":0},{"$f":"VLOOKUP(WAVA!AJ204,'Points Lookup'!$A:$B,2,FALSE)","v":0},{"$f":"VLOOKUP(WAVA!AK204,'Points Lookup'!$A:$B,2,FALSE)","v":0},{"$f":"VLOOKUP(WAVA!AL204,'Points Lookup'!$A:$B,2,FALSE)","v":0},{"$f":"VLOOKUP(WAVA!AM204,'Points Lookup'!$A:$B,2,FALSE)","v":0},{"$f":"VLOOKUP(WAVA!AN204,'Points Lookup'!$A:$B,2,FALSE)","v":0},{"$f":"VLOOKUP(WAVA!AO204,'Points Lookup'!$A:$B,2,FALSE)","v":0},{"$f":"VLOOKUP(WAVA!AP204,'Points Lookup'!$A:$B,2,FALSE)","v":0},{"$f":"VLOOKUP(WAVA!AQ204,'Points Lookup'!$A:$B,2,FALSE)","v":0},{"$f":"VLOOKUP(WAVA!AR204,'Points Lookup'!$A:$B,2,FALSE)","v":0},{"$f":"VLOOKUP(WAVA!AS204,'Points Lookup'!$A:$B,2,FALSE)","v":0},{"$f":"VLOOKUP(WAVA!AT204,'Points Lookup'!$A:$B,2,FALSE)","v":0},{"$f":"VLOOKUP(WAVA!AU204,'Points Lookup'!$A:$B,2,FALSE)","v":0},{"$f":"VLOOKUP(WAVA!AV204,'Points Lookup'!$A:$B,2,FALSE)","v":0},{"$f":"VLOOKUP(WAVA!AW204,'Points Lookup'!$A:$B,2,FALSE)","v":0},null,0,0,0,0,0,0,0,0]
[77,{"$f":"WAVA!C205","v":"Amanda Race"},{"$f":"IF(ISBLANK(WAVA!F205),\"\",WAVA!F205)","v":"Second"},63,{"$f":"VLOOKUP(WAVA!AC205,'Points Lookup'!$A:$B,2,FALSE)","v":0},{"$f":"VLOOKUP(WAVA!AD205,'Points Lookup'!$A:$B,2,FALSE)","v":0},{"$f":"VLOOKUP(WAVA!AE205,'Points Lookup'!$A:$B,2,FALSE)","v":0},{"$f":"VLOOKUP(WAVA!AF205,'Points Lookup'!$A:$B,2,FALSE)","v":0},{"$f":"VLOOKUP(WAVA!AG205,'Points Lookup'!$A:$B,2,FALSE)","v":0},{"$f":"VLOOKUP(WAVA!AH205,'Points Lookup'!$A:$B,2,FALSE)","v":0},{"$f":"VLOOKUP(WAVA!AI205,'Points Lookup'!$A:$B,2,FALSE)","v":0},{"$f":"VLOOKUP(WAVA!AJ205,'Points Lookup'!$A:$B,2,FALSE)","v":0},{"$f":"VLOOKUP(WAVA!AK205,'Points Lookup'!$A:$B,2,FALSE)","v":0},{"$f":"VLOOKUP(WAVA!AL205,'Points Lookup'!$A:$B,2,FALSE)","v":0},{"$f":"VLOOKUP(WAVA!AM205,'Points Lookup'!$A:$B,2,FALSE)","v":0},{"$f":"VLOOKUP(WAVA!AN205,'Points Lookup'!$A:$B,2,FALSE)","v":35},{"$f":"VLOOKUP(WAVA!AO205,'Points Lookup'!$A:$B,2,FALSE)","v":0},{"$f":"VLOOKUP(WAVA!AP205,'Points Lookup'!$A:$B,2,FALSE)","v":0},{"$f":"VLOOKUP(WAVA!AQ205,'Points Lookup'!$A:$B,2,FALSE)","v":0},{"$f":"VLOOKUP(WAVA!AR205,'Points Lookup'!$A:$B,2,FALSE)","v":0},{"$f":"VLOOKUP(WAVA!AS205,'Points Lookup'!$A:$B,2,FALSE)","v":0},{"$f":"VLOOKUP(WAVA!AT205,'Points Lookup'!$A:$B,2,FALSE)","v":0},{"$f":"VLOOKUP(WAVA!AU205,'Points Lookup'!$A:$B,2,FALSE)","v":0},{"$f":"VLOOKUP(WAVA!AV205,'Points Lookup'!$A:$B,2,FALSE)","v":28},{"$f":"VLOOKUP(WAVA!AW205,'Points Lookup'!$A:$B,2,FALSE)","v":0},null,35,28,0,0,0,0,0,0]
[113,{"$f":"WAVA!C206","v":"Carole Raistrick"},{"$f":"IF(ISBLANK(WAVA!F206),\"\",WAVA!F206)","v":"Second"},0,{"$f":"VLOOKUP(WAVA!AC206,'Points Lookup'!$A:$B,2,FALSE)","v":0},{"$f":"VLOOKUP(WAVA!AD206,'Points Lookup'!$A:$B,2,FALSE)","v":0},{"$f":"VLOOKUP(WAVA!AE206,'Points Lookup'!$A:$B,2,FALSE)","v":0},{"$f":"VLOOKUP(WAVA!AF206,'Points Lookup'!$A:$B,2,FALSE)","v":0},{"$f":"VLOOKUP(WAVA!AG206,'Points Lookup'!$A:$B,2,FALSE)","v":0},{"$f":"VLOOKUP(WAVA!AH206,'Points Lookup'!$A:$B,2,FALSE)","v":0},{"$f":"VLOOKUP(WAVA!AI206,'Points Lookup'!$A:$B,2,FALSE)","v":0},{"$f":"VLOOKUP(WAVA!AJ206,'Points Lookup'!$A:$B,2,FALSE)","v":0},{"$f":"VLOOKUP(WAVA!AK206,'Points Lookup'!$A:$B,2,FALSE)","v":0},{"$f":"VLOOKUP(WAVA!AL206,'Points Lookup'!$A:$B,2,FALSE)","v":0},{"$f":"VLOOKUP(WAVA!AM206,'Points Lookup'!$A:$B,2,FALSE)","v":0},{"$f":"VLOOKUP(WAVA!AN206,'Points Lookup'!$A:$B,2,FALSE)","v":0},{"$f":"VLOOKUP(WAVA!AO206,'Points Lookup'!$A:$B,2,FALSE)","v":0},{"$f":"VLOOKUP(WAVA!AP206,'Points Lookup'!$A:$B,2,FALSE)","v":0},{"$f":"VLOOKUP(WAVA!AQ206,'Points Lookup'!$A:$B,2,FALSE)","v":0},{"$f":"VLOOKUP(WAVA!AR206,'Points Lookup'!$A:$B,2,FALSE)","v":0},{"$f":"VLOOKUP(WAVA!AS206,'Points Lookup'!$A:$B,2,FALSE)","v":0},{"$f":"VLOOKUP(WAVA!AT206,'Points Lookup'!$A:$B,2,FALSE)","v":0},{"$f":"VLOOKUP(WAVA!AU206,'Points Lookup'!$A:$B,2,FALSE)","v":0},{"$f":"VLOOKUP(WAVA!AV206,'Points Lookup'!$A:$B,2,FALSE)","v":0},{"$f":"VLOOKUP(WAVA!AW206,'Points Lookup'!$A:$B,2,FALSE)","v":0},null,0,0,0,0,0,0,0,0]
[97,{"$f":"WAVA!C207","v":"Tom Ratcliffe"},{"$f":"IF(ISBLANK(WAVA!F207),\"\",WAVA!F207)","v":"Second"},44,{"$f":"VLOOKUP(WAVA!AC207,'Points Lookup'!$A:$B,2,FALSE)","v":0},{"$f":"VLOOKUP(WAVA!AD207,'Points Lookup'!$A:$B,2,FALSE)","v":0},{"$f":"VLOOKUP(WAVA!AE207,'Points Lookup'!$A:$B,2,FALSE)","v":0},{"$f":"VLOOKUP(WAVA!AF207,'Points Lookup'!$A:$B,2,FALSE)","v":0},{"$f":"VLOOKUP(WAVA!AG207,'Points Lookup'!$A:$B,2,FALSE)","v":0},{"$f":"VLOOKUP(WAVA!AH207,'Points Lookup'!$A:$B,2,FALSE)","v":0},{"$f":"VLOOKUP(WAVA!AI207,'Points Lookup'!$A:$B,2,FALSE)","v":0},{"$f":"VLOOKUP(WAVA!AJ207,'Points Lookup'!$A:$B,2,FALSE)","v":0},{"$f":"VLOOKUP(WAVA!AK207,'Points Lookup'!$A:$B,2,FALSE)","v":0},{"$f":"VLOOKUP(WAVA!AL207,'Points Lookup'!$A:$B,2,FALSE)","v":0},{"$f":"VLOOKUP(WAVA!AM207,'Points Lookup'!$A:$B,2,FALSE)","v":0},{"$f":"VLOOKUP(WAVA!AN207,'Points Lookup'!$A:$B,2,FALSE)","v":0},{"$f":"VLOOKUP(WAVA!AO207,'Points Lookup'!$A:$B,2,FALSE)","v":0},{"$f":"VLOOKUP(WAVA!AP207,'Points Lookup'!$A:$B,2,FALSE)","v":0},{"$f":"VLOOKUP(WAVA!AQ207,'Points Lookup'!$A:$B,2,FALSE)","v":0},{"$f":"VLOOKUP(WAVA!AR207,'Points Lookup'!$A:$B,2,FALSE)","v":0},{"$f":"VLOOKUP(WAVA!AS207,'Points Lookup'!$A:$B,2,FALSE)","v":0},{"$f":"VLOOKUP(WAVA!AT207,'Points Lookup'!$A:$B,2,FALSE)","v":0},{"$f":"VLOOKUP(WAVA!AU207,'Points Lookup'!$A:$B,2,FALSE)","v":0},{"$f":"VLOOKUP(WAVA!AV207,'Points Lookup'!$A:$B,2,FALSE)","v":44},{"$f":"VLOOKUP(WAVA!AW207,'Points Lookup'!$A:$B,2,FALSE)","v":0},null,44,0,0,0,0,0,0,0]
[113,{"$f":"WAVA!C208","v":"Kate Reed"},{"$f":"IF(ISBLANK(WAVA!F208),\"\",WAVA!F208)","v":"Second"},0,{"$f":"VLOOKUP(WAVA!AC208,'Points Lookup'!$A:$B,2,FALSE)","v":0},{"$f":"VLOOKUP(WAVA!AD208,'Points Lookup'!$A:$B,2,FALSE)","v":0},{"$f":"VLOOKUP(WAVA!AE208,'Points Lookup'!$A:$B,2,FALSE)","v":0},{"$f":"VLOOKUP(WAVA!AF208,'Points Lookup'!$A:$B,2,FALSE)","v":0},{"$f":"VLOOKUP(WAVA!AG208,'Points Lookup'!$A:$B,2,FALSE)","v":0},{"$f":"VLOOKUP(WAVA!AH208,'Points Lookup'!$A:$B,2,FALSE)","v":0},{"$f":"VLOOKUP(WAVA!AI208,'Points Lookup'!$A:$B,2,FALSE)","v":0},{"$f":"VLOOKUP(WAVA!AJ208,'Points Lookup'!$A:$B,2,FALSE)","v":0},{"$f":"VLOOKUP(WAVA!AK208,'Points Lookup'!$A:$B,2,FALSE)","v":0},{"$f":"VLOOKUP(WAVA!AL208,'Points Lookup'!$A:$B,2,FALSE)","v":0},{"$f":"VLOOKUP(WAVA!AM208,'Points Lookup'!$A:$B,2,FALSE)","v":0},{"$f":"VLOOKUP(WAVA!AN208,'Points Lookup'!$A:$B,2,FALSE)","v":0},{"$f":"VLOOKUP(WAVA!AO208,'Points Lookup'!$A:$B,2,FALSE)","v":0},{"$f":"VLOOKUP(WAVA!AP208,'Points Lookup'!$A:$B,2,FALSE)","v":0},{"$f":"VLOOKUP(WAVA!AQ208,'Points Lookup'!$A:$B,2,FALSE)","v":0},{"$f":"VLOOKUP(WAVA!AR208,'Points Lookup'!$A:$B,2,FALSE)","v":0},{"$f":"VLOOKUP(WAVA!AS208,'Points Lookup'!$A:$B,2,FALSE)","v":0},{"$f":"VLOOKUP(WAVA!AT208,'Points Lookup'!$A:$B,2,FALSE)","v":0},{"$f":"VLOOKUP(WAVA!AU208,'Points Lookup'!$A:$B,2,FALSE)","v":0},{"$f":"VLOOKUP(WAVA!AV208,'Points Lookup'!$A:$B,2,FALSE)","v":0},{"$f":"VLOOKUP(WAVA!AW208,'Points Lookup'!$A:$B,2,FALSE)","v":0},null,0,0,0,0,0,0,0,0]
[113,{"$f":"WAVA!C209","v":"Rifut rehman"},{"$f":"IF(ISBLANK(WAVA!F209),\"\",WAVA!F209)","v":"Second"},0,{"$f":"VLOOKUP(WAVA!AC209,'Points Lookup'!$A:$B,2,FALSE)","v":0},{"$f":"VLOOKUP(WAVA!AD209,'Points Lookup'!$A:$B,2,FALSE)","v":0},{"$f":"VLOOKUP(WAVA!AE209,'Points Lookup'!$A:$B,2,FALSE)","v":0},{"$f":"VLOOKUP(WAVA!AF209,'Points Lookup'!$A:$B,2,FALSE)","v":0},{"$f":"VLOOKUP(WAVA!AG209,'Points Lookup'!$A:$B,2,FALSE)","v":0},{"$f":"VLOOKUP(WAVA!AH209,'Points Lookup'!$A:$B,2,FALSE)","v":0},{"$f":"VLOOKUP(WAVA!AI209,'Points Lookup'!$A:$B,2,FALSE)","v":0},{"$f":"VLOOKUP(WAVA!AJ209,'Points Lookup'!$A:$B,2,FALSE)","v":0},{"$f":"VLOOKUP(WAVA!AK209,'Points Lookup'!$A:$B,2,FALSE)","v":0},{"$f":"VLOOKUP(WAVA!AL209,'Points Lookup'!$A:$B,2,FALSE)","v":0},{"$f":"VLOOKUP(WAVA!AM209,'Points Lookup'!$A:$B,2,FALSE)","v":0},{"$f":"VLOOKUP(WAVA!AN209,'Points Lookup'!$A:$B,2,FALSE)","v":0},{"$f":"VLOOKUP(WAVA!AO209,'Points Lookup'!$A:$B,2,FALSE)","v":0},{"$f":"VLOOKUP(WAVA!AP209,'Points Lookup'!$A:$B,2,FALSE)","v":0},{"$f":"VLOOKUP(WAVA!AQ209,'Points Lookup'!$A:$B,2,FALSE)","v":0},{"$f":"VLOOKUP(WAVA!AR209,'Points Lookup'!$A:$B,2,FALSE)","v":0},{"$f":"VLOOKUP(WAVA!AS209,'Points Lookup'!$A:$B,2,FALSE)","v":0},{"$f":"VLOOKUP(WAVA!AT209,'Points Lookup'!$A:$B,2,FALSE)","v":0},{"$f":"VLOOKUP(WAVA!AU209,'Points Lookup'!$A:$B,2,FALSE)","v":0},{"$f":"VLOOKUP(WAVA!AV209,'Points Lookup'!$A:$B,2,FALSE)","v":0},{"$f":"VLOOKUP(WAVA!AW209,'Points Lookup'!$A:$B,2,FALSE)","v":0},null,0,0,0,0,0,0,0,0]
[113,{"$f":"WAVA!C210","v":"Chris Reynier"},{"$f":"IF(ISBLANK(WAVA!F210),\"\",WAVA!F210)","v":"Premier"},0,{"$f":"VLOOKUP(WAVA!AC210,'Points Lookup'!$A:$B,2,FALSE)","v":0},{"$f":"VLOOKUP(WAVA!AD210,'Points Lookup'!$A:$B,2,FALSE)","v":0},{"$f":"VLOOKUP(WAVA!AE210,'Points Lookup'!$A:$B,2,FALSE)","v":0},{"$f":"VLOOKUP(WAVA!AF210,'Points Lookup'!$A:$B,2,FALSE)","v":0},{"$f":"VLOOKUP(WAVA!AG210,'Points Lookup'!$A:$B,2,FALSE)","v":0},{"$f":"VLOOKUP(WAVA!AH210,'Points Lookup'!$A:$B,2,FALSE)","v":0},{"$f":"VLOOKUP(WAVA!AI210,'Points Lookup'!$A:$B,2,FALSE)","v":0},{"$f":"VLOOKUP(WAVA!AJ210,'Points Lookup'!$A:$B,2,FALSE)","v":0},{"$f":"VLOOKUP(WAVA!AK210,'Points Lookup'!$A:$B,2,FALSE)","v":0},{"$f":"VLOOKUP(WAVA!AL210,'Points Lookup'!$A:$B,2,FALSE)","v":0},{"$f":"VLOOKUP(WAVA!AM210,'Points Lookup'!$A:$B,2,FALSE)","v":0},{"$f":"VLOOKUP(WAVA!AN210,'Points Lookup'!$A:$B,2,FALSE)","v":0},{"$f":"VLOOKUP(WAVA!AO210,'Points Lookup'!$A:$B,2,FALSE)","v":0},{"$f":"VLOOKUP(WAVA!AP210,'Points Lookup'!$A:$B,2,FALSE)","v":0},{"$f":"VLOOKUP(WAVA!AQ210,'Points Lookup'!$A:$B,2,FALSE)","v":0},{"$f":"VLOOKUP(WAVA!AR210,'Points Lookup'!$A:$B,2,FALSE)","v":0},{"$f":"VLOOKUP(WAVA!AS210,'Points Lookup'!$A:$B,2,FALSE)","v":0},{"$f":"VLOOKUP(WAVA!AT210,'Points Lookup'!$A:$B,2,FALSE)","v":0},{"$f":"VLOOKUP(WAVA!AU210,'Points Lookup'!$A:$B,2,FALSE)","v":0},{"$f":"VLOOKUP(WAVA!AV210,'Points Lookup'!$A:$B,2,FALSE)","v":0},{"$f":"VLOOKUP(WAVA!AW210,'Points Lookup'!$A:$B,2,FALSE)","v":0},null,0,0,0,0,0,0,0,0]
[113,{"$f":"WAVA!C211","v":"Paul Rhodes"},{"$f":"IF(ISBLANK(WAVA!F211),\"\",WAVA!F211)","v":"Second"},0,{"$f":"VLOOKUP(WAVA!AC211,'Points Lookup'!$A:$B,2,FALSE)","v":0},{"$f":"VLOOKUP(WAVA!AD211,'Points Lookup'!$A:$B,2,FALSE)","v":0},{"$f":"VLOOKUP(WAVA!AE211,'Points Lookup'!$A:$B,2,FALSE)","v":0},{"$f":"VLOOKUP(WAVA!AF211,'Points Lookup'!$A:$B,2,FALSE)","v":0},{"$f":"VLOOKUP(WAVA!AG211,'Points Lookup'!$A:$B,2,FALSE)","v":0},{"$f":"VLOOKUP(WAVA!AH211,'Points Lookup'!$A:$B,2,FALSE)","v":0},{"$f":"VLOOKUP(WAVA!AI211,'Points Lookup'!$A:$B,2,FALSE)","v":0},{"$f":"VLOOKUP(WAVA!AJ211,'Points Lookup'!$A:$B,2,FALSE)","v":0},{"$f":"VLOOKUP(WAVA!AK211,'Points Lookup'!$A:$B,2,FALSE)","v":0},{"$f":"VLOOKUP(WAVA!AL211,'Points Lookup'!$A:$B,2,FALSE)","v":0},{"$f":"VLOOKUP(WAVA!AM211,'Points Lookup'!$A:$B,2,FALSE)","v":0},{"$f":"VLOOKUP(WAVA!AN211,'Points Lookup'!$A:$B,2,FALSE)","v":0},{"$f":"VLOOKUP(WAVA!AO211,'Points Lookup'!$A:$B,2,FALSE)","v":0},{"$f":"VLOOKUP(WAVA!AP211,'Points Lookup'!$A:$B,2,FALSE)","v":0},{"$f":"VLOOKUP(WAVA!AQ211,'Points Lookup'!$A:$B,2,FALSE)","v":0},{"$f":"VLOOKUP(WAVA!AR211,'Points Lookup'!$A:$B,2,FALSE)","v":0},{"$f":"VLOOKUP(WAVA!AS211,'Points Lookup'!$A:$B,2,FALSE)","v":0},{"$f":"VLOOKUP(WAVA!AT211,'Points Lookup'!$A:$B,2,FALSE)","v":0},{"$f":"VLOOKUP(WAVA!AU211,'Points Lookup'!$A:$B,2,FALSE)","v":0},{"$f":"VLOOKUP(WAVA!AV211,'Points Lookup'!$A:$B,2,FALSE)","v":0},{"$f":"VLOOKUP(WAVA!AW211,'Points Lookup'!$A:$B,2,FALSE)","v":0},null,0,0,0,0,0,0,0,0]
[32,{"$f":"WAVA!C212","v":"Guy Richardson"},{"$f":"IF(ISBLANK(WAVA!F212),\"\",WAVA!F212)","v":"Second"},189,{"$f":"VLOOKUP(WAVA!AC212,'Points Lookup'!$A:$B,2,FALSE)","v":0},{"$f":"VLOOKUP(WAVA!AD212,'Points Lookup'!$A:$B,2,FALSE)","v":0},{"$f":"VLOOKUP(WAVA!AE212,'Points Lookup'!$A:$B,2,FALSE)","v":47},{"$f":"VLOOKUP(WAVA!AF212,'Points Lookup'!$A:$B,2,FALSE)","v":0},{"$f":"VLOOKUP(WAVA!AG212,'Points Lookup'!$A:$B,2,FALSE)","v":44},{"$f":"VLOOKUP(WAVA!AH212,'Points Lookup'!$A:$B,2,FALSE)","v":50},{"$f":"VLOOKUP(WAVA!AI212,'Points Lookup'!$A:$B,2,FALSE)","v":48},{"$f":"VLOOKUP(WAVA!AJ212,'Points Lookup'!$A:$B,2,FALSE)","v":0},{"$f":"VLOOKUP(WAVA!AK212,'Points Lookup'!$A:$B,2,FALSE)","v":0},{"$f":"VLOOKUP(WAVA!AL212,'Points Lookup'!$A:$B,2,FALSE)","v":0},{"$f":"VLOOKUP(WAVA!AM212,'Points Lookup'!$A:$B,2,FALSE)","v":0},{"$f":"VLOOKUP(WAVA!AN212,'Points Lookup'!$A:$B,2,FALSE)","v":0},{"$f":"VLOOKUP(WAVA!AO212,'Points Lookup'!$A:$B,2,FALSE)","v":0},{"$f":"VLOOKUP(WAVA!AP212,'Points Lookup'!$A:$B,2,FALSE)","v":0},{"$f":"VLOOKUP(WAVA!AQ212,'Points Lookup'!$A:$B,2,FALSE)","v":0},{"$f":"VLOOKUP(WAVA!AR212,'Points Lookup'!$A:$B,2,FALSE)","v":0},{"$f":"VLOOKUP(WAVA!AS212,'Points Lookup'!$A:$B,2,FALSE)","v":0},{"$f":"VLOOKUP(WAVA!AT212,'Points Lookup'!$A:$B,2,FALSE)","v":0},{"$f":"VLOOKUP(WAVA!AU212,'Points Lookup'!$A:$B,2,FALSE)","v":0},{"$f":"VLOOKUP(WAVA!AV212,'Points Lookup'!$A:$B,2,FALSE)","v":0},{"$f":"VLOOKUP(WAVA!AW212,'Points Lookup'!$A:$B,2,FALSE)","v":0},null,50,48,47,44,0,0,0,0]
[59,{"$f":"WAVA!C213","v":"Laura Richardson"},{"$f":"IF(ISBLANK(WAVA!F213),\"\",WAVA!F213)","v":"First"},91,{"$f":"VLOOKUP(WAVA!AC213,'Points Lookup'!$A:$B,2,FALSE)","v":0},{"$f":"VLOOKUP(WAVA!AD213,'Points Lookup'!$A:$B,2,FALSE)","v":44},{"$f":"VLOOKUP(WAVA!AE213,'Points Lookup'!$A:$B,2,FALSE)","v":0},{"$f":"VLOOKUP(WAVA!AF213,'Points Lookup'!$A:$B,2,FALSE)","v":0},{"$f":"VLOOKUP(WAVA!AG213,'Points Lookup'!$A:$B,2,FALSE)","v":0},{"$f":"VLOOKUP(WAVA!AH213,'Points Lookup'!$A:$B,2,FALSE)","v":0},{"$f":"VLOOKUP(WAVA!AI213,'Points Lookup'!$A:$B,2,FALSE)","v":0},{"$f":"VLOOKUP(WAVA!AJ213,'Points Lookup'!$A:$B,2,FALSE)","v":0},{"$f":"VLOOKUP(WAVA!AK213,'Points Lookup'!$A:$B,2,FALSE)","v":0},{"$f":"VLOOKUP(WAVA!AL213,'Points Lookup'!$A:$B,2,FALSE)","v":0},{"$f":"VLOOKUP(WAVA!AM213,'Points Lookup'!$A:$B,2,FALSE)","v":0},{"$f":"VLOOKUP(WAVA!AN213,'Points Lookup'!$A:$B,2,FALSE)","v":0},{"$f":"VLOOKUP(WAVA!AO213,'Points Lookup'!$A:$B,2,FALSE)","v":0},{"$f":"VLOOKUP(WAVA!AP213,'Points Lookup'!$A:$B,2,FALSE)","v":0},{"$f":"VLOOKUP(WAVA!AQ213,'Points Lookup'!$A:$B,2,FALSE)","v":0},{"$f":"VLOOKUP(WAVA!AR213,'Points Lookup'!$A:$B,2,FALSE)","v":0},{"$f":"VLOOKUP(WAVA!AS213,'Points Lookup'!$A:$B,2,FALSE)","v":0},{"$f":"VLOOKUP(WAVA!AT213,'Points Lookup'!$A:$B,2,FALSE)","v":0},{"$f":"VLOOKUP(WAVA!AU213,'Points Lookup'!$A:$B,2,FALSE)","v":0},{"$f":"VLOOKUP(WAVA!AV213,'Points Lookup'!$A:$B,2,FALSE)","v":0},{"$f":"VLOOKUP(WAVA!AW213,'Points Lookup'!$A:$B,2,FALSE)","v":47},null,{"$f":"LARGE($E212:$Y212,AA$1)","v":47},44,0,0,0,0,0,0]
[41,{"$f":"WAVA!C214","v":"Matthew Richardson"},{"$f":"IF(ISBLANK(WAVA!F214),\"\",WAVA!F214)","v":"Premier"},142,{"$f":"VLOOKUP(WAVA!AC214,'Points Lookup'!$A:$B,2,FALSE)","v":0},{"$f":"VLOOKUP(WAVA!AD214,'Points Lookup'!$A:$B,2,FALSE)","v":45},{"$f":"VLOOKUP(WAVA!AE214,'Points Lookup'!$A:$B,2,FALSE)","v":0},{"$f":"VLOOKUP(WAVA!AF214,'Points Lookup'!$A:$B,2,FALSE)","v":0},{"$f":"VLOOKUP(WAVA!AG214,'Points Lookup'!$A:$B,2,FALSE)","v":0},{"$f":"VLOOKUP(WAVA!AH214,'Points Lookup'!$A:$B,2,FALSE)","v":49},{"$f":"VLOOKUP(WAVA!AI214,'Points Lookup'!$A:$B,2,FALSE)","v":0},{"$f":"VLOOKUP(WAVA!AJ214,'Points Lookup'!$A:$B,2,FALSE)","v":0},{"$f":"VLOOKUP(WAVA!AK214,'Points Lookup'!$A:$B,2,FALSE)","v":0},{"$f":"VLOOKUP(WAVA!AL214,'Points Lookup'!$A:$B,2,FALSE)","v":0},{"$f":"VLOOKUP(WAVA!AM214,'Points Lookup'!$A:$B,2,FALSE)","v":0},{"$f":"VLOOKUP(WAVA!AN214,'Points Lookup'!$A:$B,2,FALSE)","v":0},{"$f":"VLOOKUP(WAVA!AO214,'Points Lookup'!$A:$B,2,FALSE)","v":0},{"$f":"VLOOKUP(WAVA!AP214,'Points Lookup'!$A:$B,2,FALSE)","v":0},{"$f":"VLOOKUP(WAVA!AQ214,'Points Lookup'!$A:$B,2,FALSE)","v":0},{"$f":"VLOOKUP(WAVA!AR214,'Points Lookup'!$A:$B,2,FALSE)","v":48},{"$f":"VLOOKUP(WAVA!AS214,'Points Lookup'!$A:$B,2,FALSE)","v":0},{"$f":"VLOOKUP(WAVA!AT214,'Points Lookup'!$A:$B,2,FALSE)","v":0},{"$f":"VLOOKUP(WAVA!AU214,'Points Lookup'!$A:$B,2,FALSE)","v":0},{"$f":"VLOOKUP(WAVA!AV214,'Points Lookup'!$A:$B,2,FALSE)","v":0},{"$f":"VLOOKUP(WAVA!AW214,'Points Lookup'!$A:$B,2,FALSE)","v":0},null,49,48,45,0,0,0,0,0]
[7,{"$f":"WAVA!C215","v":"Carolyn Rix"},{"$f":"IF(ISBLANK(WAVA!F215),\"\",WAVA!F215)","v":"First"},382,{"$f":"VLOOKUP(WAVA!AC215,'Points Lookup'!$A:$B,2,FALSE)","v":0},{"$f":"VLOOKUP(WAVA!AD215,'Points Lookup'!$A:$B,2,FALSE)","v":45},{"$f":"VLOOKUP(WAVA!AE215,'Points Lookup'!$A:$B,2,FALSE)","v":47},{"$f":"VLOOKUP(WAVA!AF215,'Points Lookup'!$A:$B,2,FALSE)","v":0},{"$f":"VLOOKUP(WAVA!AG215,'Points Lookup'!$A:$B,2,FALSE)","v":48},{"$f":"VLOOKUP(WAVA!AH215,'Points Lookup'!$A:$B,2,FALSE)","v":50},{"$f":"VLOOKUP(WAVA!AI215,'Points Lookup'!$A:$B,2,FALSE)","v":0},{"$f":"VLOOKUP(WAVA!AJ215,'Points Lookup'!$A:$B,2,FALSE)","v":0},{"$f":"VLOOKUP(WAVA!AK215,'Points Lookup'!$A:$B,2,FALSE)","v":0},{"$f":"VLOOKUP(WAVA!AL215,'Points Lookup'!$A:$B,2,FALSE)","v":0},{"$f":"VLOOKUP(WAVA!AM215,'Points Lookup'!$A:$B,2,FALSE)","v":0},{"$f":"VLOOKUP(WAVA!AN215,'Points Lookup'!$A:$B,2,FALSE)","v":0},{"$f":"VLOOKUP(WAVA!AO215,'Points Lookup'!$A:$B,2,FALSE)","v":0},{"$f":"VLOOKUP(WAVA!AP215,'Points Lookup'!$A:$B,2,FALSE)","v":0},{"$f":"VLOOKUP(WAVA!AQ215,'Points Lookup'!$A:$B,2,FALSE)","v":0},{"$f":"VLOOKUP(WAVA!AR215,'Points Lookup'!$A:$B,2,FALSE)","v":48},{"$f":"VLOOKUP(WAVA!AS215,'Points Lookup'!$A:$B,2,FALSE)","v":47},{"$f":"VLOOKUP(WAVA!AT215,'Points Lookup'!$A:$B,2,FALSE)","v":0},{"$f":"VLOOKUP(WAVA!AU215,'Points Lookup'!$A:$B,2,FALSE)","v":49},{"$f":"VLOOKUP(WAVA!AV215,'Points Lookup'!$A:$B,2,FALSE)","v":0},{"$f":"VLOOKUP(WAVA!AW215,'Points Lookup'!$A:$B,2,FALSE)","v":48},null,50,49,48,48,48,47,47,45]
[47,{"$f":"WAVA!C216","v":"Jeremy Rix"},{"$f":"IF(ISBLANK(WAVA!F216),\"\",WAVA!F216)","v":"Second"},99,{"$f":"VLOOKUP(WAVA!AC216,'Points Lookup'!$A:$B,2,FALSE)","v":0},{"$f":"VLOOKUP(WAVA!AD216,'Points Lookup'!$A:$B,2,FALSE)","v":0},{"$f":"VLOOKUP(WAVA!AE216,'Points Lookup'!$A:$B,2,FALSE)","v":0},{"$f":"VLOOKUP(WAVA!AF216,'Points Lookup'!$A:$B,2,FALSE)","v":0},{"$f":"VLOOKUP(WAVA!AG216,'Points Lookup'!$A:$B,2,FALSE)","v":0},{"$f":"VLOOKUP(WAVA!AH216,'Points Lookup'!$A:$B,2,FALSE)","v":0},{"$f":"VLOOKUP(WAVA!AI216,'Points Lookup'!$A:$B,2,FALSE)","v":0},{"$f":"VLOOKUP(WAVA!AJ216,'Points Lookup'!$A:$B,2,FALSE)","v":49},{"$f":"VLOOKUP(WAVA!AK216,'Points Lookup'!$A:$B,2,FALSE)","v":0},{"$f":"VLOOKUP(WAVA!AL216,'Points Lookup'!$A:$B,2,FALSE)","v":0},{"$f":"VLOOKUP(WAVA!AM216,'Points Lookup'!$A:$B,2,FALSE)","v":0},{"$f":"VLOOKUP(WAVA!AN216,'Points Lookup'!$A:$B,2,FALSE)","v":0},{"$f":"VLOOKUP(WAVA!AO216,'Points Lookup'!$A:$B,2,FALSE)","v":0},{"$f":"VLOOKUP(WAVA!AP216,'Points Lookup'!$A:$B,2,FALSE)","v":0},{"$f":"VLOOKUP(WAVA!AQ216,'Points Lookup'!$A:$B,2,FALSE)","v":0},{"$f":"VLOOKUP(WAVA!AR216,'Points Lookup'!$A:$B,2,FALSE)","v":0},{"$f":"VLOOKUP(WAVA!AS216,'Points Lookup'!$A:$B,2,FALSE)","v":0},{"$f":"VLOOKUP(WAVA!AT216,'Points Lookup'!$A:$B,2,FALSE)","v":0},{"$f":"VLOOKUP(WAVA!AU216,'Points Lookup'!$A:$B,2,FALSE)","v":50},{"$f":"VLOOKUP(WAVA!AV216,'Points Lookup'!$A:$B,2,FALSE)","v":0},{"$f":"VLOOKUP(WAVA!AW216,'Points Lookup'!$A:$B,2,FALSE)","v":0},null,50,49,0,0,0,0,0,0]
[{"$f":"RANK(D216,D:D)","v":146},{"$f":"WAVA!C217","v":"Igs Robun"},{"$f":"IF(ISBLANK(WAVA!F217),\"\",WAVA!F217)","v":"First"},0,{"$f":"VLOOKUP(WAVA!AC217,'Points Lookup'!$A:$B,2,FALSE)","v":0},{"$f":"VLOOKUP(WAVA!AD217,'Points Lookup'!$A:$B,2,FALSE)","v":0},{"$f":"VLOOKUP(WAVA!AE217,'Points Lookup'!$A:$B,2,FALSE)","v":0},{"$f":"VLOOKUP(WAVA!AF217,'Points Lookup'!$A:$B,2,FALSE)","v":0},{"$f":"VLOOKUP(WAVA!AG217,'Points Lookup'!$A:$B,2,FALSE)","v":0},{"$f":"VLOOKUP(WAVA!AH217,'Points Lookup'!$A:$B,2,FALSE)","v":0},{"$f":"VLOOKUP(WAVA!AI217,'Points Lookup'!$A:$B,2,FALSE)","v":0},{"$f":"VLOOKUP(WAVA!AJ217,'Points Lookup'!$A:$B,2,FALSE)","v":0},{"$f":"VLOOKUP(WAVA!AK217,'Points Lookup'!$A:$B,2,FALSE)","v":0},{"$f":"VLOOKUP(WAVA!AL217,'Points Lookup'!$A:$B,2,FALSE)","v":0},{"$f":"VLOOKUP(WAVA!AM217,'Points Lookup'!$A:$B,2,FALSE)","v":0},{"$f":"VLOOKUP(WAVA!AN217,'Points Lookup'!$A:$B,2,FALSE)","v":0},{"$f":"VLOOKUP(WAVA!AO217,'Points Lookup'!$A:$B,2,FALSE)","v":0},{"$f":"VLOOKUP(WAVA!AP217,'Points Lookup'!$A:$B,2,FALSE)","v":0},{"$f":"VLOOKUP(WAVA!AQ217,'Points Lookup'!$A:$B,2,FALSE)","v":0},{"$f":"VLOOKUP(WAVA!AR217,'Points Lookup'!$A:$B,2,FALSE)","v":0},{"$f":"VLOOKUP(WAVA!AS217,'Points Lookup'!$A:$B,2,FALSE)","v":0},{"$f":"VLOOKUP(WAVA!AT217,'Points Lookup'!$A:$B,2,FALSE)","v":0},{"$f":"VLOOKUP(WAVA!AU217,'Points Lookup'!$A:$B,2,FALSE)","v":0},{"$f":"VLOOKUP(WAVA!AV217,'Points Lookup'!$A:$B,2,FALSE)","v":0},{"$f":"VLOOKUP(WAVA!AW217,'Points Lookup'!$A:$B,2,FALSE)","v":0},null,0,0,0,0,0,0,0,0]
[132,{"$f":"WAVA!C218","v":"Nina Rogers"},{"$f":"IF(ISBLANK(WAVA!F218),\"\",WAVA!F218)","v":"Second"},39,{"$f":"VLOOKUP(WAVA!AC218,'Points Lookup'!$A:$B,2,FALSE)","v":0},{"$f":"VLOOKUP(WAVA!AD218,'Points Lookup'!$A:$B,2,FALSE)","v":39},{"$f":"VLOOKUP(WAVA!AE218,'Points Lookup'!$A:$B,2,FALSE)","v":0},{"$f":"VLOOKUP(WAVA!AF218,'Points Lookup'!$A:$B,2,FALSE)","v":0},{"$f":"VLOOKUP(WAVA!AG218,'Points Lookup'!$A:$B,2,FALSE)","v":0},{"$f":"VLOOKUP(WAVA!AH218,'Points Lookup'!$A:$B,2,FALSE)","v":0},{"$f":"VLOOKUP(WAVA!AI218,'Points Lookup'!$A:$B,2,FALSE)","v":0},{"$f":"VLOOKUP(WAVA!AJ218,'Points Lookup'!$A:$B,2,FALSE)","v":0},{"$f":"VLOOKUP(WAVA!AK218,'Points Lookup'!$A:$B,2,FALSE)","v":0},{"$f":"VLOOKUP(WAVA!AL218,'Points Lookup'!$A:$B,2,FALSE)","v":0},{"$f":"VLOOKUP(WAVA!AM218,'Points Lookup'!$A:$B,2,FALSE)","v":0},{"$f":"VLOOKUP(WAVA!AN218,'Points Lookup'!$A:$B,2,FALSE)","v":0},{"$f":"VLOOKUP(WAVA!AO218,'Points Lookup'!$A:$B,2,FALSE)","v":0},{"$f":"VLOOKUP(WAVA!AP218,'Points Lookup'!$A:$B,2,FALSE)","v":0},{"$f":"VLOOKUP(WAVA!AQ218,'Points Lookup'!$A:$B,2,FALSE)","v":0},{"$f":"VLOOKUP(WAVA!AR218,'Points Lookup'!$A:$B,2,FALSE)","v":0},{"$f":"VLOOKUP(WAVA!AS218,'Points Lookup'!$A:$B,2,FALSE)","v":0},{"$f":"VLOOKUP(WAVA!AT218,'Points Lookup'!$A:$B,2,FALSE)","v":0},{"$f":"VLOOKUP(WAVA!AU218,'Points Lookup'!$A:$B,2,FALSE)","v":0},{"$f":"VLOOKUP(WAVA!AV218,'Points Lookup'!$A:$B,2,FALSE)","v":0},{"$f":"VLOOKUP(WAVA!AW218,'Points Lookup'!$A:$B,2,FALSE)","v":0},null,39,0,0,0,0,0,0,0]
[146,{"$f":"WAVA!C219","v":"joshua rose"},{"$f":"IF(ISBLANK(WAVA!F219),\"\",WAVA!F219)","v":"Second"},0,{"$f":"VLOOKUP(WAVA!AC219,'Points Lookup'!$A:$B,2,FALSE)","v":0},{"$f":"VLOOKUP(WAVA!AD219,'Points Lookup'!$A:$B,2,FALSE)","v":0},{"$f":"VLOOKUP(WAVA!AE219,'Points Lookup'!$A:$B,2,FALSE)","v":0},{"$f":"VLOOKUP(WAVA!AF219,'Points Lookup'!$A:$B,2,FALSE)","v":0},{"$f":"VLOOKUP(WAVA!AG219,'Points Lookup'!$A:$B,2,FALSE)","v":0},{"$f":"VLOOKUP(WAVA!AH219,'Points Lookup'!$A:$B,2,FALSE)","v":0},{"$f":"VLOOKUP(WAVA!AI219,'Points Lookup'!$A:$B,2,FALSE)","v":0},{"$f":"VLOOKUP(WAVA!AJ219,'Points Lookup'!$A:$B,2,FALSE)","v":0},{"$f":"VLOOKUP(WAVA!AK219,'Points Lookup'!$A:$B,2,FALSE)","v":0},{"$f":"VLOOKUP(WAVA!AL219,'Points Lookup'!$A:$B,2,FALSE)","v":0},{"$f":"VLOOKUP(WAVA!AM219,'Points Lookup'!$A:$B,2,FALSE)","v":0},{"$f":"VLOOKUP(WAVA!AN219,'Points Lookup'!$A:$B,2,FALSE)","v":0},{"$f":"VLOOKUP(WAVA!AO219,'Points Lookup'!$A:$B,2,FALSE)","v":0},{"$f":"VLOOKUP(WAVA!AP219,'Points Lookup'!$A:$B,2,FALSE)","v":0},{"$f":"VLOOKUP(WAVA!AQ219,'Points Lookup'!$A:$B,2,FALSE)","v":0},{"$f":"VLOOKUP(WAVA!AR219,'Points Lookup'!$A:$B,2,FALSE)","v":0},{"$f":"VLOOKUP(WAVA!AS219,'Points Lookup'!$A:$B,2,FALSE)","v":0},{"$f":"VLOOKUP(WAVA!AT219,'Points Lookup'!$A:$B,2,FALSE)","v":0},{"$f":"VLOOKUP(WAVA!AU219,'Points Lookup'!$A:$B,2,FALSE)","v":0},{"$f":"VLOOKUP(WAVA!AV219,'Points Lookup'!$A:$B,2,FALSE)","v":0},{"$f":"VLOOKUP(WAVA!AW219,'Points Lookup'!$A:$B,2,FALSE)","v":0},null,0,0,0,0,0,0,0,0]
[146,{"$f":"WAVA!C220","v":"Simon Rose"},{"$f":"IF(ISBLANK(WAVA!F220),\"\",WAVA!F220)","v":"First"},0,{"$f":"VLOOKUP(WAVA!AC220,'Points Lookup'!$A:$B,2,FALSE)","v":0},{"$f":"VLOOKUP(WAVA!AD220,'Points Lookup'!$A:$B,2,FALSE)","v":0},{"$f":"VLOOKUP(WAVA!AE220,'Points Lookup'!$A:$B,2,FALSE)","v":0},{"$f":"VLOOKUP(WAVA!AF220,'Points Lookup'!$A:$B,2,FALSE)","v":0},{"$f":"VLOOKUP(WAVA!AG220,'Points Lookup'!$A:$B,2,FALSE)","v":0},{"$f":"VLOOKUP(WAVA!AH220,'Points Lookup'!$A:$B,2,FALSE)","v":0},{"$f":"VLOOKUP(WAVA!AI220,'Points Lookup'!$A:$B,2,FALSE)","v":0},{"$f":"VLOOKUP(WAVA!AJ220,'Points Lookup'!$A:$B,2,FALSE)","v":0},{"$f":"VLOOKUP(WAVA!AK220,'Points Lookup'!$A:$B,2,FALSE)","v":0},{"$f":"VLOOKUP(WAVA!AL220,'Points Lookup'!$A:$B,2,FALSE)","v":0},{"$f":"VLOOKUP(WAVA!AM220,'Points Lookup'!$A:$B,2,FALSE)","v":0},{"$f":"VLOOKUP(WAVA!AN220,'Points Lookup'!$A:$B,2,FALSE)","v":0},{"$f":"VLOOKUP(WAVA!AO220,'Points Lookup'!$A:$B,2,FALSE)","v":0},{"$f":"VLOOKUP(WAVA!AP220,'Points Lookup'!$A:$B,2,FALSE)","v":0},{"$f":"VLOOKUP(WAVA!AQ220,'Points Lookup'!$A:$B,2,FALSE)","v":0},{"$f":"VLOOKUP(WAVA!AR220,'Points Lookup'!$A:$B,2,FALSE)","v":0},{"$f":"VLOOKUP(WAVA!AS220,'Points Lookup'!$A:$B,2,FALSE)","v":0},{"$f":"VLOOKUP(WAVA!AT220,'Points Lookup'!$A:$B,2,FALSE)","v":0},{"$f":"VLOOKUP(WAVA!AU220,'Points Lookup'!$A:$B,2,FALSE)","v":0},{"$f":"VLOOKUP(WAVA!AV220,'Points Lookup'!$A:$B,2,FALSE)","v":0},{"$f":"VLOOKUP(WAVA!AW220,'Points Lookup'!$A:$B,2,FALSE)","v":0},null,0,0,0,0,0,0,0,0]
[146,{"$f":"WAVA!C221","v":"Theresa Rose"},{"$f":"IF(ISBLANK(WAVA!F221),\"\",WAVA!F221)","v":"Second"},0,{"$f":"VLOOKUP(WAVA!AC221,'Points Lookup'!$A:$B,2,FALSE)","v":0},{"$f":"VLOOKUP(WAVA!AD221,'Points Lookup'!$A:$B,2,FALSE)","v":0},{"$f":"VLOOKUP(WAVA!AE221,'Points Lookup'!$A:$B,2,FALSE)","v":0},{"$f":"VLOOKUP(WAVA!AF221,'Points Lookup'!$A:$B,2,FALSE)","v":0},{"$f":"VLOOKUP(WAVA!AG221,'Points Lookup'!$A:$B,2,FALSE)","v":0},{"$f":"VLOOKUP(WAVA!AH221,'Points Lookup'!$A:$B,2,FALSE)","v":0},{"$f":"VLOOKUP(WAVA!AI221,'Points Lookup'!$A:$B,2,FALSE)","v":0},{"$f":"VLOOKUP(WAVA!AJ221,'Points Lookup'!$A:$B,2,FALSE)","v":0},{"$f":"VLOOKUP(WAVA!AK221,'Points Lookup'!$A:$B,2,FALSE)","v":0},{"$f":"VLOOKUP(WAVA!AL221,'Points Lookup'!$A:$B,2,FALSE)","v":0},{"$f":"VLOOKUP(WAVA!AM221,'Points Lookup'!$A:$B,2,FALSE)","v":0},{"$f":"VLOOKUP(WAVA!AN221,'Points Lookup'!$A:$B,2,FALSE)","v":0},{"$f":"VLOOKUP(WAVA!AO221,'Points Lookup'!$A:$B,2,FALSE)","v":0},{"$f":"VLOOKUP(WAVA!AP221,'Points Lookup'!$A:$B,2,FALSE)","v":0},{"$f":"VLOOKUP(WAVA!AQ221,'Points Lookup'!$A:$B,2,FALSE)","v":0},{"$f":"VLOOKUP(WAVA!AR221,'Points Lookup'!$A:$B,2,FALSE)","v":0},{"$f":"VLOOKUP(WAVA!AS221,'Points Lookup'!$A:$B,2,FALSE)","v":0},{"$f":"VLOOKUP(WAVA!AT221,'Points Lookup'!$A:$B,2,FALSE)","v":0},{"$f":"VLOOKUP(WAVA!AU221,'Points Lookup'!$A:$B,2,FALSE)","v":0},{"$f":"VLOOKUP(WAVA!AV221,'Points Lookup'!$A:$B,2,FALSE)","v":0},{"$f":"VLOOKUP(WAVA!AW221,'Points Lookup'!$A:$B,2,FALSE)","v":0},null,0,0,0,0,0,0,0,0]
[2,{"$f":"WAVA!C222","v":"Sylvia Ross"},{"$f":"IF(ISBLANK(WAVA!F222),\"\",WAVA!F222)","v":"First"},399,{"$f":"VLOOKUP(WAVA!AC222,'Points Lookup'!$A:$B,2,FALSE)","v":50},{"$f":"VLOOKUP(WAVA!AD222,'Points Lookup'!$A:$B,2,FALSE)","v":50},{"$f":"VLOOKUP(WAVA!AE222,'Points Lookup'!$A:$B,2,FALSE)","v":50},{"$f":"VLOOKUP(WAVA!AF222,'Points Lookup'!$A:$B,2,FALSE)","v":0},{"$f":"VLOOKUP(WAVA!AG222,'Points Lookup'!$A:$B,2,FALSE)","v":50},{"$f":"VLOOKUP(WAVA!AH222,'Points Lookup'!$A:$B,2,FALSE)","v":0},{"$f":"VLOOKUP(WAVA!AI222,'Points Lookup'!$A:$B,2,FALSE)","v":0},{"$f":"VLOOKUP(WAVA!AJ222,'Points Lookup'!$A:$B,2,FALSE)","v":0},{"$f":"VLOOKUP(WAVA!AK222,'Points Lookup'!$A:$B,2,FALSE)","v":48},{"$f":"VLOOKUP(WAVA!AL222,'Points Lookup'!$A:$B,2,FALSE)","v":0},{"$f":"VLOOKUP(WAVA!AM222,'Points Lookup'!$A:$B,2,FALSE)","v":0},{"$f":"VLOOKUP(WAVA!AN222,'Points Lookup'!$A:$B,2,FALSE)","v":50},{"$f":"VLOOKUP(WAVA!AO222,'Points Lookup'!$A:$B,2,FALSE)","v":0},{"$f":"VLOOKUP(WAVA!AP222,'Points Lookup'!$A:$B,2,FALSE)","v":0},{"$f":"VLOOKUP(WAVA!AQ222,'Points Lookup'!$A:$B,2,FALSE)","v":50},{"$f":"VLOOKUP(WAVA!AR222,'Points Lookup'!$A:$B,2,FALSE)","v":0},{"$f":"VLOOKUP(WAVA!AS222,'Points Lookup'!$A:$B,2,FALSE)","v":49},{"$f":"VLOOKUP(WAVA!AT222,'Points Lookup'!$A:$B,2,FALSE)","v":50},{"$f":"VLOOKUP(WAVA!AU222,'Points Lookup'!$A:$B,2,FALSE)","v":0},{"$f":"VLOOKUP(WAVA!AV222,'Points Lookup'!$A:$B,2,FALSE)","v":49},{"$f":"VLOOKUP(WAVA!AW222,'Points Lookup'!$A:$B,2,FALSE)","v":0},null,50,50,50,50,50,50,50,49]
[146,{"$f":"WAVA!C223","v":"Joshua Rowe"},{"$f":"IF(ISBLANK(WAVA!F223),\"\",WAVA!F223)","v":"Second"},0,{"$f":"VLOOKUP(WAVA!AC223,'Points Lookup'!$A:$B,2,FALSE)","v":0},{"$f":"VLOOKUP(WAVA!AD223,'Points Lookup'!$A:$B,2,FALSE)","v":0},{"$f":"VLOOKUP(WAVA!AE223,'Points Lookup'!$A:$B,2,FALSE)","v":0},{"$f":"VLOOKUP(WAVA!AF223,'Points Lookup'!$A:$B,2,FALSE)","v":0},{"$f":"VLOOKUP(WAVA!AG223,'Points Lookup'!$A:$B,2,FALSE)","v":0},{"$f":"VLOOKUP(WAVA!AH223,'Points Lookup'!$A:$B,2,FALSE)","v":0},{"$f":"VLOOKUP(WAVA!AI223,'Points Lookup'!$A:$B,2,FALSE)","v":0},{"$f":"VLOOKUP(WAVA!AJ223,'Points Lookup'!$A:$B,2,FALSE)","v":0},{"$f":"VLOOKUP(WAVA!AK223,'Points Lookup'!$A:$B,2,FALSE)","v":0},{"$f":"VLOOKUP(WAVA!AL223,'Points Lookup'!$A:$B,2,FALSE)","v":0},{"$f":"VLOOKUP(WAVA!AM223,'Points Lookup'!$A:$B,2,FALSE)","v":0},{"$f":"VLOOKUP(WAVA!AN223,'Points Lookup'!$A:$B,2,FALSE)","v":0},{"$f":"VLOOKUP(WAVA!AO223,'Points Lookup'!$A:$B,2,FALSE)","v":0},{"$f":"VLOOKUP(WAVA!AP223,'Points Lookup'!$A:$B,2,FALSE)","v":0},{"$f":"VLOOKUP(WAVA!AQ223,'Points Lookup'!$A:$B,2,FALSE)","v":0},{"$f":"VLOOKUP(WAVA!AR223,'Points Lookup'!$A:$B,2,FALSE)","v":0},{"$f":"VLOOKUP(WAVA!AS223,'Points Lookup'!$A:$B,2,FALSE)","v":0},{"$f":"VLOOKUP(WAVA!AT223,'Points Lookup'!$A:$B,2,FALSE)","v":0},{"$f":"VLOOKUP(WAVA!AU223,'Points Lookup'!$A:$B,2,FALSE)","v":0},{"$f":"VLOOKUP(WAVA!AV223,'Points Lookup'!$A:$B,2,FALSE)","v":0},{"$f":"VLOOKUP(WAVA!AW223,'Points Lookup'!$A:$B,2,FALSE)","v":0},null,{"$f":"LARGE($E222:$Y222,AA$1)","v":0},0,0,0,0,0,0,0]
[146,{"$f":"WAVA!C224","v":"Ellen Rutter"},{"$f":"IF(ISBLANK(WAVA!F224),\"\",WAVA!F224)","v":"Second"},0,{"$f":"VLOOKUP(WAVA!AC224,'Points Lookup'!$A:$B,2,FALSE)","v":0},{"$f":"VLOOKUP(WAVA!AD224,'Points Lookup'!$A:$B,2,FALSE)","v":0},{"$f":"VLOOKUP(WAVA!AE224,'Points Lookup'!$A:$B,2,FALSE)","v":0},{"$f":"VLOOKUP(WAVA!AF224,'Points Lookup'!$A:$B,2,FALSE)","v":0},{"$f":"VLOOKUP(WAVA!AG224,'Points Lookup'!$A:$B,2,FALSE)","v":0},{"$f":"VLOOKUP(WAVA!AH224,'Points Lookup'!$A:$B,2,FALSE)","v":0},{"$f":"VLOOKUP(WAVA!AI224,'Points Lookup'!$A:$B,2,FALSE)","v":0},{"$f":"VLOOKUP(WAVA!AJ224,'Points Lookup'!$A:$B,2,FALSE)","v":0},{"$f":"VLOOKUP(WAVA!AK224,'Points Lookup'!$A:$B,2,FALSE)","v":0},{"$f":"VLOOKUP(WAVA!AL224,'Points Lookup'!$A:$B,2,FALSE)","v":0},{"$f":"VLOOKUP(WAVA!AM224,'Points Lookup'!$A:$B,2,FALSE)","v":0},{"$f":"VLOOKUP(WAVA!AN224,'Points Lookup'!$A:$B,2,FALSE)","v":0},{"$f":"VLOOKUP(WAVA!AO224,'Points Lookup'!$A:$B,2,FALSE)","v":0},{"$f":"VLOOKUP(WAVA!AP224,'Points Lookup'!$A:$B,2,FALSE)","v":0},{"$f":"VLOOKUP(WAVA!AQ224,'Points Lookup'!$A:$B,2,FALSE)","v":0},{"$f":"VLOOKUP(WAVA!AR224,'Points Lookup'!$A:$B,2,FALSE)","v":0},{"$f":"VLOOKUP(WAVA!AS224,'Points Lookup'!$A:$B,2,FALSE)","v":0},{"$f":"VLOOKUP(WAVA!AT224,'Points Lookup'!$A:$B,2,FALSE)","v":0},{"$f":"VLOOKUP(WAVA!AU224,'Points Lookup'!$A:$B,2,FALSE)","v":0},{"$f":"VLOOKUP(WAVA!AV224,'Points Lookup'!$A:$B,2,FALSE)","v":0},{"$f":"VLOOKUP(WAVA!AW224,'Points Lookup'!$A:$B,2,FALSE)","v":0},null,0,0,0,0,0,0,0,0]
[120,{"$f":"WAVA!C225","v":"Laura Ryall"},{"$f":"IF(ISBLANK(WAVA!F225),\"\",WAVA!F225)","v":"Second"},46,{"$f":"VLOOKUP(WAVA!AC225,'Points Lookup'!$A:$B,2,FALSE)","v":0},{"$f":"VLOOKUP(WAVA!AD225,'Points Lookup'!$A:$B,2,FALSE)","v":0},{"$f":"VLOOKUP(WAVA!AE225,'Points Lookup'!$A:$B,2,FALSE)","v":0},{"$f":"VLOOKUP(WAVA!AF225,'Points Lookup'!$A:$B,2,FALSE)","v":0},{"$f":"VLOOKUP(WAVA!AG225,'Points Lookup'!$A:$B,2,FALSE)","v":0},{"$f":"VLOOKUP(WAVA!AH225,'Points Lookup'!$A:$B,2,FALSE)","v":0},{"$f":"VLOOKUP(WAVA!AI225,'Points Lookup'!$A:$B,2,FALSE)","v":0},{"$f":"VLOOKUP(WAVA!AJ225,'Points Lookup'!$A:$B,2,FALSE)","v":0},{"$f":"VLOOKUP(WAVA!AK225,'Points Lookup'!$A:$B,2,FALSE)","v":0},{"$f":"VLOOKUP(WAVA!AL225,'Points Lookup'!$A:$B,2,FALSE)","v":0},{"$f":"VLOOKUP(WAVA!AM225,'Points Lookup'!$A:$B,2,FALSE)","v":0},{"$f":"VLOOKUP(WAVA!AN225,'Points Lookup'!$A:$B,2,FALSE)","v":0},{"$f":"VLOOKUP(WAVA!AO225,'Points Lookup'!$A:$B,2,FALSE)","v":0},{"$f":"VLOOKUP(WAVA!AP225,'Points Lookup'!$A:$B,2,FALSE)","v":0},{"$f":"VLOOKUP(WAVA!AQ225,'Points Lookup'!$A:$B,2,FALSE)","v":0},{"$f":"VLOOKUP(WAVA!AR225,'Points Lookup'!$A:$B,2,FALSE)","v":0},{"$f":"VLOOKUP(WAVA!AS225,'Points Lookup'!$A:$B,2,FALSE)","v":0},{"$f":"VLOOKUP(WAVA!AT225,'Points Lookup'!$A:$B,2,FALSE)","v":0},{"$f":"VLOOKUP(WAVA!AU225,'Points Lookup'!$A:$B,2,FALSE)","v":0},{"$f":"VLOOKUP(WAVA!AV225,'Points Lookup'!$A:$B,2,FALSE)","v":46},{"$f":"VLOOKUP(WAVA!AW225,'Points Lookup'!$A:$B,2,FALSE)","v":0},null,46,0,0,0,0,0,0,0]
[114,{"$f":"WAVA!C226","v":"David Scrivener"},{"$f":"IF(ISBLANK(WAVA!F226),\"\",WAVA!F226)","v":"Second"},47,{"$f":"VLOOKUP(WAVA!AC226,'Points Lookup'!$A:$B,2,FALSE)","v":0},{"$f":"VLOOKUP(WAVA!AD226,'Points Lookup'!$A:$B,2,FALSE)","v":0},{"$f":"VLOOKUP(WAVA!AE226,'Points Lookup'!$A:$B,2,FALSE)","v":0},{"$f":"VLOOKUP(WAVA!AF226,'Points Lookup'!$A:$B,2,FALSE)","v":0},{"$f":"VLOOKUP(WAVA!AG226,'Points Lookup'!$A:$B,2,FALSE)","v":0},{"$f":"VLOOKUP(WAVA!AH226,'Points Lookup'!$A:$B,2,FALSE)","v":0},{"$f":"VLOOKUP(WAVA!AI226,'Points Lookup'!$A:$B,2,FALSE)","v":0},{"$f":"VLOOKUP(WAVA!AJ226,'Points Lookup'!$A:$B,2,FALSE)","v":0},{"$f":"VLOOKUP(WAVA!AK226,'Points Lookup'!$A:$B,2,FALSE)","v":47},{"$f":"VLOOKUP(WAVA!AL226,'Points Lookup'!$A:$B,2,FALSE)","v":0},{"$f":"VLOOKUP(WAVA!AM226,'Points Lookup'!$A:$B,2,FALSE)","v":0},{"$f":"VLOOKUP(WAVA!AN226,'Points Lookup'!$A:$B,2,FALSE)","v":0},{"$f":"VLOOKUP(WAVA!AO226,'Points Lookup'!$A:$B,2,FALSE)","v":0},{"$f":"VLOOKUP(WAVA!AP226,'Points Lookup'!$A:$B,2,FALSE)","v":0},{"$f":"VLOOKUP(WAVA!AQ226,'Points Lookup'!$A:$B,2,FALSE)","v":0},{"$f":"VLOOKUP(WAVA!AR226,'Points Lookup'!$A:$B,2,FALSE)","v":0},{"$f":"VLOOKUP(WAVA!AS226,'Points Lookup'!$A:$B,2,FALSE)","v":0},{"$f":"VLOOKUP(WAVA!AT226,'Points Lookup'!$A:$B,2,FALSE)","v":0},{"$f":"VLOOKUP(WAVA!AU226,'Points Lookup'!$A:$B,2,FALSE)","v":0},{"$f":"VLOOKUP(WAVA!AV226,'Points Lookup'!$A:$B,2,FALSE)","v":0},{"$f":"VLOOKUP(WAVA!AW226,'Points Lookup'!$A:$B,2,FALSE)","v":0},null,47,0,0,0,0,0,0,0]
[146,{"$f":"WAVA!C227","v":"David Seaward"},{"$f":"IF(ISBLANK(WAVA!F227),\"\",WAVA!F227)","v":"Second"},0,{"$f":"VLOOKUP(WAVA!AC227,'Points Lookup'!$A:$B,2,FALSE)","v":0},{"$f":"VLOOKUP(WAVA!AD227,'Points Lookup'!$A:$B,2,FALSE)","v":0},{"$f":"VLOOKUP(WAVA!AE227,'Points Lookup'!$A:$B,2,FALSE)","v":0},{"$f":"VLOOKUP(WAVA!AF227,'Points Lookup'!$A:$B,2,FALSE)","v":0},{"$f":"VLOOKUP(WAVA!AG227,'Points Lookup'!$A:$B,2,FALSE)","v":0},{"$f":"VLOOKUP(WAVA!AH227,'Points Lookup'!$A:$B,2,FALSE)","v":0},{"$f":"VLOOKUP(WAVA!AI227,'Points Lookup'!$A:$B,2,FALSE)","v":0},{"$f":"VLOOKUP(WAVA!AJ227,'Points Lookup'!$A:$B,2,FALSE)","v":0},{"$f":"VLOOKUP(WAVA!AK227,'Points Lookup'!$A:$B,2,FALSE)","v":0},{"$f":"VLOOKUP(WAVA!AL227,'Points Lookup'!$A:$B,2,FALSE)","v":0},{"$f":"VLOOKUP(WAVA!AM227,'Points Lookup'!$A:$B,2,FALSE)","v":0},{"$f":"VLOOKUP(WAVA!AN227,'Points Lookup'!$A:$B,2,FALSE)","v":0},{"$f":"VLOOKUP(WAVA!AO227,'Points Lookup'!$A:$B,2,FALSE)","v":0},{"$f":"VLOOKUP(WAVA!AP227,'Points Lookup'!$A:$B,2,FALSE)","v":0},{"$f":"VLOOKUP(WAVA!AQ227,'Points Lookup'!$A:$B,2,FALSE)","v":0},{"$f":"VLOOKUP(WAVA!AR227,'Points Lookup'!$A:$B,2,FALSE)","v":0},{"$f":"VLOOKUP(WAVA!AS227,'Points Lookup'!$A:$B,2,FALSE)","v":0},{"$f":"VLOOKUP(WAVA!AT227,'Points Lookup'!$A:$B,2,FALSE)","v":0},{"$f":"VLOOKUP(WAVA!AU227,'Points Lookup'!$A:$B,2,FALSE)","v":0},{"$f":"VLOOKUP(WAVA!AV227,'Points Lookup'!$A:$B,2,FALSE)","v":0},{"$f":"VLOOKUP(WAVA!AW227,'Points Lookup'!$A:$B,2,FALSE)","v":0},null,0,0,0,0,0,0,0,0]
[146,{"$f":"WAVA!C228","v":"Tim Shea"},{"$f":"IF(ISBLANK(WAVA!F228),\"\",WAVA!F228)","v":"Second"},0,{"$f":"VLOOKUP(WAVA!AC228,'Points Lookup'!$A:$B,2,FALSE)","v":0},{"$f":"VLOOKUP(WAVA!AD228,'Points Lookup'!$A:$B,2,FALSE)","v":0},{"$f":"VLOOKUP(WAVA!AE228,'Points Lookup'!$A:$B,2,FALSE)","v":0},{"$f":"VLOOKUP(WAVA!AF228,'Points Lookup'!$A:$B,2,FALSE)","v":0},{"$f":"VLOOKUP(WAVA!AG228,'Points Lookup'!$A:$B,2,FALSE)","v":0},{"$f":"VLOOKUP(WAVA!AH228,'Points Lookup'!$A:$B,2,FALSE)","v":0},{"$f":"VLOOKUP(WAVA!AI228,'Points Lookup'!$A:$B,2,FALSE)","v":0},{"$f":"VLOOKUP(WAVA!AJ228,'Points Lookup'!$A:$B,2,FALSE)","v":0},{"$f":"VLOOKUP(WAVA!AK228,'Points Lookup'!$A:$B,2,FALSE)","v":0},{"$f":"VLOOKUP(WAVA!AL228,'Points Lookup'!$A:$B,2,FALSE)","v":0},{"$f":"VLOOKUP(WAVA!AM228,'Points Lookup'!$A:$B,2,FALSE)","v":0},{"$f":"VLOOKUP(WAVA!AN228,'Points Lookup'!$A:$B,2,FALSE)","v":0},{"$f":"VLOOKUP(WAVA!AO228,'Points Lookup'!$A:$B,2,FALSE)","v":0},{"$f":"VLOOKUP(WAVA!AP228,'Points Lookup'!$A:$B,2,FALSE)","v":0},{"$f":"VLOOKUP(WAVA!AQ228,'Points Lookup'!$A:$B,2,FALSE)","v":0},{"$f":"VLOOKUP(WAVA!AR228,'Points Lookup'!$A:$B,2,FALSE)","v":0},{"$f":"VLOOKUP(WAVA!AS228,'Points Lookup'!$A:$B,2,FALSE)","v":0},{"$f":"VLOOKUP(WAVA!AT228,'Points Lookup'!$A:$B,2,FALSE)","v":0},{"$f":"VLOOKUP(WAVA!AU228,'Points Lookup'!$A:$B,2,FALSE)","v":0},{"$f":"VLOOKUP(WAVA!AV228,'Points Lookup'!$A:$B,2,FALSE)","v":0},{"$f":"VLOOKUP(WAVA!AW228,'Points Lookup'!$A:$B,2,FALSE)","v":0},null,0,0,0,0,0,0,0,0]
[114,{"$f":"WAVA!C229","v":"Therese Sheehan"},{"$f":"IF(ISBLANK(WAVA!F229),\"\",WAVA!F229)","v":"Second"},47,{"$f":"VLOOKUP(WAVA!AC229,'Points Lookup'!$A:$B,2,FALSE)","v":0},{"$f":"VLOOKUP(WAVA!AD229,'Points Lookup'!$A:$B,2,FALSE)","v":0},{"$f":"VLOOKUP(WAVA!AE229,'Points Lookup'!$A:$B,2,FALSE)","v":0},{"$f":"VLOOKUP(WAVA!AF229,'Points Lookup'!$A:$B,2,FALSE)","v":0},{"$f":"VLOOKUP(WAVA!AG229,'Points Lookup'!$A:$B,2,FALSE)","v":47},{"$f":"VLOOKUP(WAVA!AH229,'Points Lookup'!$A:$B,2,FALSE)","v":0},{"$f":"VLOOKUP(WAVA!AI229,'Points Lookup'!$A:$B,2,FALSE)","v":0},{"$f":"VLOOKUP(WAVA!AJ229,'Points Lookup'!$A:$B,2,FALSE)","v":0},{"$f":"VLOOKUP(WAVA!AK229,'Points Lookup'!$A:$B,2,FALSE)","v":0},{"$f":"VLOOKUP(WAVA!AL229,'Points Lookup'!$A:$B,2,FALSE)","v":0},{"$f":"VLOOKUP(WAVA!AM229,'Points Lookup'!$A:$B,2,FALSE)","v":0},{"$f":"VLOOKUP(WAVA!AN229,'Points Lookup'!$A:$B,2,FALSE)","v":0},{"$f":"VLOOKUP(WAVA!AO229,'Points Lookup'!$A:$B,2,FALSE)","v":0},{"$f":"VLOOKUP(WAVA!AP229,'Points Lookup'!$A:$B,2,FALSE)","v":0},{"$f":"VLOOKUP(WAVA!AQ229,'Points Lookup'!$A:$B,2,FALSE)","v":0},{"$f":"VLOOKUP(WAVA!AR229,'Points Lookup'!$A:$B,2,FALSE)","v":0},{"$f":"VLOOKUP(WAVA!AS229,'Points Lookup'!$A:$B,2,FALSE)","v":0},{"$f":"VLOOKUP(WAVA!AT229,'Points Lookup'!$A:$B,2,FALSE)","v":0},{"$f":"VLOOKUP(WAVA!AU229,'Points Lookup'!$A:$B,2,FALSE)","v":0},{"$f":"VLOOKUP(WAVA!AV229,'Points Lookup'!$A:$B,2,FALSE)","v":0},{"$f":"VLOOKUP(WAVA!AW229,'Points Lookup'!$A:$B,2,FALSE)","v":0},null,47,0,0,0,0,0,0,0]
[17,{"$f":"WAVA!C230","v":"Sarah Sherratt"},{"$f":"IF(ISBLANK(WAVA!F230),\"\",WAVA!F230)","v":"Second"},333,{"$f":"VLOOKUP(WAVA!AC230,'Points Lookup'!$A:$B,2,FALSE)","v":0},{"$f":"VLOOKUP(WAVA!AD230,'Points Lookup'!$A:$B,2,FALSE)","v":35},{"$f":"VLOOKUP(WAVA!AE230,'Points Lookup'!$A:$B,2,FALSE)","v":0},{"$f":"VLOOKUP(WAVA!AF230,'Points Lookup'!$A:$B,2,FALSE)","v":0},{"$f":"VLOOKUP(WAVA!AG230,'Points Lookup'!$A:$B,2,FALSE)","v":38},{"$f":"VLOOKUP(WAVA!AH230,'Points Lookup'!$A:$B,2,FALSE)","v":0},{"$f":"VLOOKUP(WAVA!AI230,'Points Lookup'!$A:$B,2,FALSE)","v":0},{"$f":"VLOOKUP(WAVA!AJ230,'Points Lookup'!$A:$B,2,FALSE)","v":0},{"$f":"VLOOKUP(WAVA!AK230,'Points Lookup'!$A:$B,2,FALSE)","v":44},{"$f":"VLOOKUP(WAVA!AL230,'Points Lookup'!$A:$B,2,FALSE)","v":0},{"$f":"VLOOKUP(WAVA!AM230,'Points Lookup'!$A:$B,2,FALSE)","v":0},{"$f":"VLOOKUP(WAVA!AN230,'Points Lookup'!$A:$B,2,FALSE)","v":0},{"$f":"VLOOKUP(WAVA!AO230,'Points Lookup'!$A:$B,2,FALSE)","v":0},{"$f":"VLOOKUP(WAVA!AP230,'Points Lookup'!$A:$B,2,FALSE)","v":0},{"$f":"VLOOKUP(WAVA!AQ230,'Points Lookup'!$A:$B,2,FALSE)","v":40},{"$f":"VLOOKUP(WAVA!AR230,'Points Lookup'!$A:$B,2,FALSE)","v":46},{"$f":"VLOOKUP(WAVA!AS230,'Points Lookup'!$A:$B,2,FALSE)","v":48},{"$f":"VLOOKUP(WAVA!AT230,'Points Lookup'!$A:$B,2,FALSE)","v":43},{"$f":"VLOOKUP(WAVA!AU230,'Points Lookup'!$A:$B,2,FALSE)","v":0},{"$f":"VLOOKUP(WAVA!AV230,'Points Lookup'!$A:$B,2,FALSE)","v":39},{"$f":"VLOOKUP(WAVA!AW230,'Points Lookup'!$A:$B,2,FALSE)","v":0},null,48,46,44,43,40,39,38,35]
[40,{"$f":"WAVA!C231","v":"Esther Silva"},{"$f":"IF(ISBLANK(WAVA!F231),\"\",WAVA!F231)","v":"Second"},198,{"$f":"VLOOKUP(WAVA!AC231,'Points Lookup'!$A:$B,2,FALSE)","v":0},{"$f":"VLOOKUP(WAVA!AD231,'Points Lookup'!$A:$B,2,FALSE)","v":33},{"$f":"VLOOKUP(WAVA!AE231,'Points Lookup'!$A:$B,2,FALSE)","v":0},{"$f":"VLOOKUP(WAVA!AF231,'Points Lookup'!$A:$B,2,FALSE)","v":0},{"$f":"VLOOKUP(WAVA!AG231,'Points Lookup'!$A:$B,2,FALSE)","v":0},{"$f":"VLOOKUP(WAVA!AH231,'Points Lookup'!$A:$B,2,FALSE)","v":0},{"$f":"VLOOKUP(WAVA!AI231,'Points Lookup'!$A:$B,2,FALSE)","v":0},{"$f":"VLOOKUP(WAVA!AJ231,'Points Lookup'!$A:$B,2,FALSE)","v":0},{"$f":"VLOOKUP(WAVA!AK231,'Points Lookup'!$A:$B,2,FALSE)","v":43},{"$f":"VLOOKUP(WAVA!AL231,'Points Lookup'!$A:$B,2,FALSE)","v":0},{"$f":"VLOOKUP(WAVA!AM231,'Points Lookup'!$A:$B,2,FALSE)","v":0},{"$f":"VLOOKUP(WAVA!AN231,'Points Lookup'!$A:$B,2,FALSE)","v":0},{"$f":"VLOOKUP(WAVA!AO231,'Points Lookup'!$A:$B,2,FALSE)","v":0},{"$f":"VLOOKUP(WAVA!AP231,'Points Lookup'!$A:$B,2,FALSE)","v":0},{"$f":"VLOOKUP(WAVA!AQ231,'Points Lookup'!$A:$B,2,FALSE)","v":39},{"$f":"VLOOKUP(WAVA!AR231,'Points Lookup'!$A:$B,2,FALSE)","v":45},{"$f":"VLOOKUP(WAVA!AS231,'Points Lookup'!$A:$B,2,FALSE)","v":0},{"$f":"VLOOKUP(WAVA!AT231,'Points Lookup'!$A:$B,2,FALSE)","v":0},{"$f":"VLOOKUP(WAVA!AU231,'Points Lookup'!$A:$B,2,FALSE)","v":0},{"$f":"VLOOKUP(WAVA!AV231,'Points Lookup'!$A:$B,2,FALSE)","v":38},{"$f":"VLOOKUP(WAVA!AW231,'Points Lookup'!$A:$B,2,FALSE)","v":0},null,45,43,39,38,33,0,0,0]
[114,{"$f":"WAVA!C232","v":"Mervyn Silva"},{"$f":"IF(ISBLANK(WAVA!F232),\"\",WAVA!F232)","v":"First"},47,{"$f":"VLOOKUP(WAVA!AC232,'Points Lookup'!$A:$B,2,FALSE)","v":0},{"$f":"VLOOKUP(WAVA!AD232,'Points Lookup'!$A:$B,2,FALSE)","v":47},{"$f":"VLOOKUP(WAVA!AE232,'Points Lookup'!$A:$B,2,FALSE)","v":0},{"$f":"VLOOKUP(WAVA!AF232,'Points Lookup'!$A:$B,2,FALSE)","v":0},{"$f":"VLOOKUP(WAVA!AG232,'Points Lookup'!$A:$B,2,FALSE)","v":0},{"$f":"VLOOKUP(WAVA!AH232,'Points Lookup'!$A:$B,2,FALSE)","v":0},{"$f":"VLOOKUP(WAVA!AI232,'Points Lookup'!$A:$B,2,FALSE)","v":0},{"$f":"VLOOKUP(WAVA!AJ232,'Points Lookup'!$A:$B,2,FALSE)","v":0},{"$f":"VLOOKUP(WAVA!AK232,'Points Lookup'!$A:$B,2,FALSE)","v":0},{"$f":"VLOOKUP(WAVA!AL232,'Points Lookup'!$A:$B,2,FALSE)","v":0},{"$f":"VLOOKUP(WAVA!AM232,'Points Lookup'!$A:$B,2,FALSE)","v":0},{"$f":"VLOOKUP(WAVA!AN232,'Points Lookup'!$A:$B,2,FALSE)","v":0},{"$f":"VLOOKUP(WAVA!AO232,'Points Lookup'!$A:$B,2,FALSE)","v":0},{"$f":"VLOOKUP(WAVA!AP232,'Points Lookup'!$A:$B,2,FALSE)","v":0},{"$f":"VLOOKUP(WAVA!AQ232,'Points Lookup'!$A:$B,2,FALSE)","v":0},{"$f":"VLOOKUP(WAVA!AR232,'Points Lookup'!$A:$B,2,FALSE)","v":0},{"$f":"VLOOKUP(WAVA!AS232,'Points Lookup'!$A:$B,2,FALSE)","v":0},{"$f":"VLOOKUP(WAVA!AT232,'Points Lookup'!$A:$B,2,FALSE)","v":0},{"$f":"VLOOKUP(WAVA!AU232,'Points Lookup'!$A:$B,2,FALSE)","v":0},{"$f":"VLOOKUP(WAVA!AV232,'Points Lookup'!$A:$B,2,FALSE)","v":0},{"$f":"VLOOKUP(WAVA!AW232,'Points Lookup'!$A:$B,2,FALSE)","v":0},null,47,0,0,0,0,0,0,0]
[11,{"$f":"WAVA!C233","v":"John Singh"},{"$f":"IF(ISBLANK(WAVA!F233),\"\",WAVA!F233)","v":"Second"},379,{"$f":"VLOOKUP(WAVA!AC233,'Points Lookup'!$A:$B,2,FALSE)","v":48},{"$f":"VLOOKUP(WAVA!AD233,'Points Lookup'!$A:$B,2,FALSE)","v":0},{"$f":"VLOOKUP(WAVA!AE233,'Points Lookup'!$A:$B,2,FALSE)","v":0},{"$f":"VLOOKUP(WAVA!AF233,'Points Lookup'!$A:$B,2,FALSE)","v":50},{"$f":"VLOOKUP(WAVA!AG233,'Points Lookup'!$A:$B,2,FALSE)","v":0},{"$f":"VLOOKUP(WAVA!AH233,'Points Lookup'!$A:$B,2,FALSE)","v":0},{"$f":"VLOOKUP(WAVA!AI233,'Points Lookup'!$A:$B,2,FALSE)","v":44},{"$f":"VLOOKUP(WAVA!AJ233,'Points Lookup'!$A:$B,2,FALSE)","v":0},{"$f":"VLOOKUP(WAVA!AK233,'Points Lookup'!$A:$B,2,FALSE)","v":0},{"$f":"VLOOKUP(WAVA!AL233,'Points Lookup'!$A:$B,2,FALSE)","v":49},{"$f":"VLOOKUP(WAVA!AM233,'Points Lookup'!$A:$B,2,FALSE)","v":0},{"$f":"VLOOKUP(WAVA!AN233,'Points Lookup'!$A:$B,2,FALSE)","v":0},{"$f":"VLOOKUP(WAVA!AO233,'Points Lookup'!$A:$B,2,FALSE)","v":49},{"$f":"VLOOKUP(WAVA!AP233,'Points Lookup'!$A:$B,2,FALSE)","v":0},{"$f":"VLOOKUP(WAVA!AQ233,'Points Lookup'!$A:$B,2,FALSE)","v":0},{"$f":"VLOOKUP(WAVA!AR233,'Points Lookup'!$A:$B,2,FALSE)","v":48},{"$f":"VLOOKUP(WAVA!AS233,'Points Lookup'!$A:$B,2,FALSE)","v":0},{"$f":"VLOOKUP(WAVA!AT233,'Points Lookup'!$A:$B,2,FALSE)","v":0},{"$f":"VLOOKUP(WAVA!AU233,'Points Lookup'!$A:$B,2,FALSE)","v":0},{"$f":"VLOOKUP(WAVA!AV233,'Points Lookup'!$A:$B,2,FALSE)","v":43},{"$f":"VLOOKUP(WAVA!AW233,'Points Lookup'!$A:$B,2,FALSE)","v":48},null,{"$f":"LARGE($E232:$Y232,AA$1)","v":50},49,49,48,48,48,44,43]
[146,{"$f":"WAVA!C234","v":"Matt Small"},{"$f":"IF(ISBLANK(WAVA!F234),\"\",WAVA!F234)","v":"Second"},0,{"$f":"VLOOKUP(WAVA!AC234,'Points Lookup'!$A:$B,2,FALSE)","v":0},{"$f":"VLOOKUP(WAVA!AD234,'Points Lookup'!$A:$B,2,FALSE)","v":0},{"$f":"VLOOKUP(WAVA!AE234,'Points Lookup'!$A:$B,2,FALSE)","v":0},{"$f":"VLOOKUP(WAVA!AF234,'Points Lookup'!$A:$B,2,FALSE)","v":0},{"$f":"VLOOKUP(WAVA!AG234,'Points Lookup'!$A:$B,2,FALSE)","v":0},{"$f":"VLOOKUP(WAVA!AH234,'Points Lookup'!$A:$B,2,FALSE)","v":0},{"$f":"VLOOKUP(WAVA!AI234,'Points Lookup'!$A:$B,2,FALSE)","v":0},{"$f":"VLOOKUP(WAVA!AJ234,'Points Lookup'!$A:$B,2,FALSE)","v":0},{"$f":"VLOOKUP(WAVA!AK234,'Points Lookup'!$A:$B,2,FALSE)","v":0},{"$f":"VLOOKUP(WAVA!AL234,'Points Lookup'!$A:$B,2,FALSE)","v":0},{"$f":"VLOOKUP(WAVA!AM234,'Points Lookup'!$A:$B,2,FALSE)","v":0},{"$f":"VLOOKUP(WAVA!AN234,'Points Lookup'!$A:$B,2,FALSE)","v":0},{"$f":"VLOOKUP(WAVA!AO234,'Points Lookup'!$A:$B,2,FALSE)","v":0},{"$f":"VLOOKUP(WAVA!AP234,'Points Lookup'!$A:$B,2,FALSE)","v":0},{"$f":"VLOOKUP(WAVA!AQ234,'Points Lookup'!$A:$B,2,FALSE)","v":0},{"$f":"VLOOKUP(WAVA!AR234,'Points Lookup'!$A:$B,2,FALSE)","v":0},{"$f":"VLOOKUP(WAVA!AS234,'Points Lookup'!$A:$B,2,FALSE)","v":0},{"$f":"VLOOKUP(WAVA!AT234,'Points Lookup'!$A:$B,2,FALSE)","v":0},{"$f":"VLOOKUP(WAVA!AU234,'Points Lookup'!$A:$B,2,FALSE)","v":0},{"$f":"VLOOKUP(WAVA!AV234,'Points Lookup'!$A:$B,2,FALSE)","v":0},{"$f":"VLOOKUP(WAVA!AW234,'Points Lookup'!$A:$B,2,FALSE)","v":0},null,0,0,0,0,0,0,0,0]
[146,{"$f":"WAVA!C235","v":"cathryn Smith"},{"$f":"IF(ISBLANK(WAVA!F235),\"\",WAVA!F235)","v":"Second"},0,{"$f":"VLOOKUP(WAVA!AC235,'Points Lookup'!$A:$B,2,FALSE)","v":0},{"$f":"VLOOKUP(WAVA!AD235,'Points Lookup'!$A:$B,2,FALSE)","v":0},{"$f":"VLOOKUP(WAVA!AE235,'Points Lookup'!$A:$B,2,FALSE)","v":0},{"$f":"VLOOKUP(WAVA!AF235,'Points Lookup'!$A:$B,2,FALSE)","v":0},{"$f":"VLOOKUP(WAVA!AG235,'Points Lookup'!$A:$B,2,FALSE)","v":0},{"$f":"VLOOKUP(WAVA!AH235,'Points Lookup'!$A:$B,2,FALSE)","v":0},{"$f":"VLOOKUP(WAVA!AI235,'Points Lookup'!$A:$B,2,FALSE)","v":0},{"$f":"VLOOKUP(WAVA!AJ235,'Points Lookup'!$A:$B,2,FALSE)","v":0},{"$f":"VLOOKUP(WAVA!AK235,'Points Lookup'!$A:$B,2,FALSE)","v":0},{"$f":"VLOOKUP(WAVA!AL235,'Points Lookup'!$A:$B,2,FALSE)","v":0},{"$f":"VLOOKUP(WAVA!AM235,'Points Lookup'!$A:$B,2,FALSE)","v":0},{"$f":"VLOOKUP(WAVA!AN235,'Points Lookup'!$A:$B,2,FALSE)","v":0},{"$f":"VLOOKUP(WAVA!AO235,'Points Lookup'!$A:$B,2,FALSE)","v":0},{"$f":"VLOOKUP(WAVA!AP235,'Points Lookup'!$A:$B,2,FALSE)","v":0},{"$f":"VLOOKUP(WAVA!AQ235,'Points Lookup'!$A:$B,2,FALSE)","v":0},{"$f":"VLOOKUP(WAVA!AR235,'Points Lookup'!$A:$B,2,FALSE)","v":0},{"$f":"VLOOKUP(WAVA!AS235,'Points Lookup'!$A:$B,2,FALSE)","v":0},{"$f":"VLOOKUP(WAVA!AT235,'Points Lookup'!$A:$B,2,FALSE)","v":0},{"$f":"VLOOKUP(WAVA!AU235,'Points Lookup'!$A:$B,2,FALSE)","v":0},{"$f":"VLOOKUP(WAVA!AV235,'Points Lookup'!$A:$B,2,FALSE)","v":0},{"$f":"VLOOKUP(WAVA!AW235,'Points Lookup'!$A:$B,2,FALSE)","v":0},null,0,0,0,0,0,0,0,0]
[36,{"$f":"WAVA!C236","v":"Jadine Smith"},{"$f":"IF(ISBLANK(WAVA!F236),\"\",WAVA!F236)","v":"Second"},217,{"$f":"VLOOKUP(WAVA!AC236,'Points Lookup'!$A:$B,2,FALSE)","v":0},{"$f":"VLOOKUP(WAVA!AD236,'Points Lookup'!$A:$B,2,FALSE)","v":43},{"$f":"VLOOKUP(WAVA!AE236,'Points Lookup'!$A:$B,2,FALSE)","v":0},{"$f":"VLOOKUP(WAVA!AF236,'Points Lookup'!$A:$B,2,FALSE)","v":0},{"$f":"VLOOKUP(WAVA!AG236,'Points Lookup'!$A:$B,2,FALSE)","v":42},{"$f":"VLOOKUP(WAVA!AH236,'Points Lookup'!$A:$B,2,FALSE)","v":0},{"$f":"VLOOKUP(WAVA!AI236,'Points Lookup'!$A:$B,2,FALSE)","v":0},{"$f":"VLOOKUP(WAVA!AJ236,'Points Lookup'!$A:$B,2,FALSE)","v":0},{"$f":"VLOOKUP(WAVA!AK236,'Points Lookup'!$A:$B,2,FALSE)","v":42},{"$f":"VLOOKUP(WAVA!AL236,'Points Lookup'!$A:$B,2,FALSE)","v":0},{"$f":"VLOOKUP(WAVA!AM236,'Points Lookup'!$A:$B,2,FALSE)","v":0},{"$f":"VLOOKUP(WAVA!AN236,'Points Lookup'!$A:$B,2,FALSE)","v":0},{"$f":"VLOOKUP(WAVA!AO236,'Points Lookup'!$A:$B,2,FALSE)","v":0},{"$f":"VLOOKUP(WAVA!AP236,'Points Lookup'!$A:$B,2,FALSE)","v":0},{"$f":"VLOOKUP(WAVA!AQ236,'Points Lookup'!$A:$B,2,FALSE)","v":0},{"$f":"VLOOKUP(WAVA!AR236,'Points Lookup'!$A:$B,2,FALSE)","v":0},{"$f":"VLOOKUP(WAVA!AS236,'Points Lookup'!$A:$B,2,FALSE)","v":0},{"$f":"VLOOKUP(WAVA!AT236,'Points Lookup'!$A:$B,2,FALSE)","v":42},{"$f":"VLOOKUP(WAVA!AU236,'Points Lookup'!$A:$B,2,FALSE)","v":48},{"$f":"VLOOKUP(WAVA!AV236,'Points Lookup'!$A:$B,2,FALSE)","v":0},{"$f":"VLOOKUP(WAVA!AW236,'Points Lookup'!$A:$B,2,FALSE)","v":0},null,48,43,42,42,42,0,0,0]
[146,{"$f":"WAVA!C237","v":"Jonathan Smith"},{"$f":"IF(ISBLANK(WAVA!F237),\"\",WAVA!F237)","v":"Second"},0,{"$f":"VLOOKUP(WAVA!AC237,'Points Lookup'!$A:$B,2,FALSE)","v":0},{"$f":"VLOOKUP(WAVA!AD237,'Points Lookup'!$A:$B,2,FALSE)","v":0},{"$f":"VLOOKUP(WAVA!AE237,'Points Lookup'!$A:$B,2,FALSE)","v":0},{"$f":"VLOOKUP(WAVA!AF237,'Points Lookup'!$A:$B,2,FALSE)","v":0},{"$f":"VLOOKUP(WAVA!AG237,'Points Lookup'!$A:$B,2,FALSE)","v":0},{"$f":"VLOOKUP(WAVA!AH237,'Points Lookup'!$A:$B,2,FALSE)","v":0},{"$f":"VLOOKUP(WAVA!AI237,'Points Lookup'!$A:$B,2,FALSE)","v":0},{"$f":"VLOOKUP(WAVA!AJ237,'Points Lookup'!$A:$B,2,FALSE)","v":0},{"$f":"VLOOKUP(WAVA!AK237,'Points Lookup'!$A:$B,2,FALSE)","v":0},{"$f":"VLOOKUP(WAVA!AL237,'Points Lookup'!$A:$B,2,FALSE)","v":0},{"$f":"VLOOKUP(WAVA!AM237,'Points Lookup'!$A:$B,2,FALSE)","v":0},{"$f":"VLOOKUP(WAVA!AN237,'Points Lookup'!$A:$B,2,FALSE)","v":0},{"$f":"VLOOKUP(WAVA!AO237,'Points Lookup'!$A:$B,2,FALSE)","v":0},{"$f":"VLOOKUP(WAVA!AP237,'Points Lookup'!$A:$B,2,FALSE)","v":0},{"$f":"VLOOKUP(WAVA!AQ237,'Points Lookup'!$A:$B,2,FALSE)","v":0},{"$f":"VLOOKUP(WAVA!AR237,'Points Lookup'!$A:$B,2,FALSE)","v":0},{"$f":"VLOOKUP(WAVA!AS237,'Points Lookup'!$A:$B,2,FALSE)","v":0},{"$f":"VLOOKUP(WAVA!AT237,'Points Lookup'!$A:$B,2,FALSE)","v":0},{"$f":"VLOOKUP(WAVA!AU237,'Points Lookup'!$A:$B,2,FALSE)","v":0},{"$f":"VLOOKUP(WAVA!AV237,'Points Lookup'!$A:$B,2,FALSE)","v":0},{"$f":"VLOOKUP(WAVA!AW237,'Points Lookup'!$A:$B,2,FALSE)","v":0},null,0,0,0,0,0,0,0,0]
[120,{"$f":"WAVA!C238","v":"Kelly Smith"},{"$f":"IF(ISBLANK(WAVA!F238),\"\",WAVA!F238)","v":"First"},46,{"$f":"VLOOKUP(WAVA!AC238,'Points Lookup'!$A:$B,2,FALSE)","v":0},{"$f":"VLOOKUP(WAVA!AD238,'Points Lookup'!$A:$B,2,FALSE)","v":0},{"$f":"VLOOKUP(WAVA!AE238,'Points Lookup'!$A:$B,2,FALSE)","v":46},{"$f":"VLOOKUP(WAVA!AF238,'Points Lookup'!$A:$B,2,FALSE)","v":0},{"$f":"VLOOKUP(WAVA!AG238,'Points Lookup'!$A:$B,2,FALSE)","v":0},{"$f":"VLOOKUP(WAVA!AH238,'Points Lookup'!$A:$B,2,FALSE)","v":0},{"$f":"VLOOKUP(WAVA!AI238,'Points Lookup'!$A:$B,2,FALSE)","v":0},{"$f":"VLOOKUP(WAVA!AJ238,'Points Lookup'!$A:$B,2,FALSE)","v":0},{"$f":"VLOOKUP(WAVA!AK238,'Points Lookup'!$A:$B,2,FALSE)","v":0},{"$f":"VLOOKUP(WAVA!AL238,'Points Lookup'!$A:$B,2,FALSE)","v":0},{"$f":"VLOOKUP(WAVA!AM238,'Points Lookup'!$A:$B,2,FALSE)","v":0},{"$f":"VLOOKUP(WAVA!AN238,'Points Lookup'!$A:$B,2,FALSE)","v":0},{"$f":"VLOOKUP(WAVA!AO238,'Points Lookup'!$A:$B,2,FALSE)","v":0},{"$f":"VLOOKUP(WAVA!AP238,'Points Lookup'!$A:$B,2,FALSE)","v":0},{"$f":"VLOOKUP(WAVA!AQ238,'Points Lookup'!$A:$B,2,FALSE)","v":0},{"$f":"VLOOKUP(WAVA!AR238,'Points Lookup'!$A:$B,2,FALSE)","v":0},{"$f":"VLOOKUP(WAVA!AS238,'Points Lookup'!$A:$B,2,FALSE)","v":0},{"$f":"VLOOKUP(WAVA!AT238,'Points Lookup'!$A:$B,2,FALSE)","v":0},{"$f":"VLOOKUP(WAVA!AU238,'Points Lookup'!$A:$B,2,FALSE)","v":0},{"$f":"VLOOKUP(WAVA!AV238,'Points Lookup'!$A:$B,2,FALSE)","v":0},{"$f":"VLOOKUP(WAVA!AW238,'Points Lookup'!$A:$B,2,FALSE)","v":0},null,46,0,0,0,0,0,0,0]
[8,{"$f":"WAVA!C239","v":"Richard Smith"},{"$f":"IF(ISBLANK(WAVA!F239),\"\",WAVA!F239)","v":"First"},383,{"$f":"VLOOKUP(WAVA!AC239,'Points Lookup'!$A:$B,2,FALSE)","v":47},{"$f":"VLOOKUP(WAVA!AD239,'Points Lookup'!$A:$B,2,FALSE)","v":42},{"$f":"VLOOKUP(WAVA!AE239,'Points Lookup'!$A:$B,2,FALSE)","v":45},{"$f":"VLOOKUP(WAVA!AF239,'Points Lookup'!$A:$B,2,FALSE)","v":50},{"$f":"VLOOKUP(WAVA!AG239,'Points Lookup'!$A:$B,2,FALSE)","v":46},{"$f":"VLOOKUP(WAVA!AH239,'Points Lookup'!$A:$B,2,FALSE)","v":49},{"$f":"VLOOKUP(WAVA!AI239,'Points Lookup'!$A:$B,2,FALSE)","v":49},{"$f":"VLOOKUP(WAVA!AJ239,'Points Lookup'!$A:$B,2,FALSE)","v":0},{"$f":"VLOOKUP(WAVA!AK239,'Points Lookup'!$A:$B,2,FALSE)","v":47},{"$f":"VLOOKUP(WAVA!AL239,'Points Lookup'!$A:$B,2,FALSE)","v":0},{"$f":"VLOOKUP(WAVA!AM239,'Points Lookup'!$A:$B,2,FALSE)","v":48},{"$f":"VLOOKUP(WAVA!AN239,'Points Lookup'!$A:$B,2,FALSE)","v":45},{"$f":"VLOOKUP(WAVA!AO239,'Points Lookup'!$A:$B,2,FALSE)","v":0},{"$f":"VLOOKUP(WAVA!AP239,'Points Lookup'!$A:$B,2,FALSE)","v":0},{"$f":"VLOOKUP(WAVA!AQ239,'Points Lookup'!$A:$B,2,FALSE)","v":0},{"$f":"VLOOKUP(WAVA!AR239,'Points Lookup'!$A:$B,2,FALSE)","v":0},{"$f":"VLOOKUP(WAVA!AS239,'Points Lookup'!$A:$B,2,FALSE)","v":0},{"$f":"VLOOKUP(WAVA!AT239,'Points Lookup'!$A:$B,2,FALSE)","v":47},{"$f":"VLOOKUP(WAVA!AU239,'Points Lookup'!$A:$B,2,FALSE)","v":0},{"$f":"VLOOKUP(WAVA!AV239,'Points Lookup'!$A:$B,2,FALSE)","v":0},{"$f":"VLOOKUP(WAVA!AW239,'Points Lookup'!$A:$B,2,FALSE)","v":0},null,50,49,49,48,47,47,47,46]
[146,{"$f":"WAVA!C240","v":"Marcin Soszka"},{"$f":"IF(ISBLANK(WAVA!F240),\"\",WAVA!F240)","v":"First"},0,{"$f":"VLOOKUP(WAVA!AC240,'Points Lookup'!$A:$B,2,FALSE)","v":0},{"$f":"VLOOKUP(WAVA!AD240,'Points Lookup'!$A:$B,2,FALSE)","v":0},{"$f":"VLOOKUP(WAVA!AE240,'Points Lookup'!$A:$B,2,FALSE)","v":0},{"$f":"VLOOKUP(WAVA!AF240,'Points Lookup'!$A:$B,2,FALSE)","v":0},{"$f":"VLOOKUP(WAVA!AG240,'Points Lookup'!$A:$B,2,FALSE)","v":0},{"$f":"VLOOKUP(WAVA!AH240,'Points Lookup'!$A:$B,2,FALSE)","v":0},{"$f":"VLOOKUP(WAVA!AI240,'Points Lookup'!$A:$B,2,FALSE)","v":0},{"$f":"VLOOKUP(WAVA!AJ240,'Points Lookup'!$A:$B,2,FALSE)","v":0},{"$f":"VLOOKUP(WAVA!AK240,'Points Lookup'!$A:$B,2,FALSE)","v":0},{"$f":"VLOOKUP(WAVA!AL240,'Points Lookup'!$A:$B,2,FALSE)","v":0},{"$f":"VLOOKUP(WAVA!AM240,'Points Lookup'!$A:$B,2,FALSE)","v":0},{"$f":"VLOOKUP(WAVA!AN240,'Points Lookup'!$A:$B,2,FALSE)","v":0},{"$f":"VLOOKUP(WAVA!AO240,'Points Lookup'!$A:$B,2,FALSE)","v":0},{"$f":"VLOOKUP(WAVA!AP240,'Points Lookup'!$A:$B,2,FALSE)","v":0},{"$f":"VLOOKUP(WAVA!AQ240,'Points Lookup'!$A:$B,2,FALSE)","v":0},{"$f":"VLOOKUP(WAVA!AR240,'Points Lookup'!$A:$B,2,FALSE)","v":0},{"$f":"VLOOKUP(WAVA!AS240,'Points Lookup'!$A:$B,2,FALSE)","v":0},{"$f":"VLOOKUP(WAVA!AT240,'Points Lookup'!$A:$B,2,FALSE)","v":0},{"$f":"VLOOKUP(WAVA!AU240,'Points Lookup'!$A:$B,2,FALSE)","v":0},{"$f":"VLOOKUP(WAVA!AV240,'Points Lookup'!$A:$B,2,FALSE)","v":0},{"$f":"VLOOKUP(WAVA!AW240,'Points Lookup'!$A:$B,2,FALSE)","v":0},null,0,0,0,0,0,0,0,0]
[146,{"$f":"WAVA!C241","v":"Tim Spencer"},{"$f":"IF(ISBLANK(WAVA!F241),\"\",WAVA!F241)","v":"Second"},0,{"$f":"VLOOKUP(WAVA!AC241,'Points Lookup'!$A:$B,2,FALSE)","v":0},{"$f":"VLOOKUP(WAVA!AD241,'Points Lookup'!$A:$B,2,FALSE)","v":0},{"$f":"VLOOKUP(WAVA!AE241,'Points Lookup'!$A:$B,2,FALSE)","v":0},{"$f":"VLOOKUP(WAVA!AF241,'Points Lookup'!$A:$B,2,FALSE)","v":0},{"$f":"VLOOKUP(WAVA!AG241,'Points Lookup'!$A:$B,2,FALSE)","v":0},{"$f":"VLOOKUP(WAVA!AH241,'Points Lookup'!$A:$B,2,FALSE)","v":0},{"$f":"VLOOKUP(WAVA!AI241,'Points Lookup'!$A:$B,2,FALSE)","v":0},{"$f":"VLOOKUP(WAVA!AJ241,'Points Lookup'!$A:$B,2,FALSE)","v":0},{"$f":"VLOOKUP(WAVA!AK241,'Points Lookup'!$A:$B,2,FALSE)","v":0},{"$f":"VLOOKUP(WAVA!AL241,'Points Lookup'!$A:$B,2,FALSE)","v":0},{"$f":"VLOOKUP(WAVA!AM241,'Points Lookup'!$A:$B,2,FALSE)","v":0},{"$f":"VLOOKUP(WAVA!AN241,'Points Lookup'!$A:$B,2,FALSE)","v":0},{"$f":"VLOOKUP(WAVA!AO241,'Points Lookup'!$A:$B,2,FALSE)","v":0},{"$f":"VLOOKUP(WAVA!AP241,'Points Lookup'!$A:$B,2,FALSE)","v":0},{"$f":"VLOOKUP(WAVA!AQ241,'Points Lookup'!$A:$B,2,FALSE)","v":0},{"$f":"VLOOKUP(WAVA!AR241,'Points Lookup'!$A:$B,2,FALSE)","v":0},{"$f":"VLOOKUP(WAVA!AS241,'Points Lookup'!$A:$B,2,FALSE)","v":0},{"$f":"VLOOKUP(WAVA!AT241,'Points Lookup'!$A:$B,2,FALSE)","v":0},{"$f":"VLOOKUP(WAVA!AU241,'Points Lookup'!$A:$B,2,FALSE)","v":0},{"$f":"VLOOKUP(WAVA!AV241,'Points Lookup'!$A:$B,2,FALSE)","v":0},{"$f":"VLOOKUP(WAVA!AW241,'Points Lookup'!$A:$B,2,FALSE)","v":0},null,0,0,0,0,0,0,0,0]
[53,{"$f":"WAVA!C242","v":"Stewart Spink"},{"$f":"IF(ISBLANK(WAVA!F242),\"\",WAVA!F242)","v":"Premier"},143,{"$f":"VLOOKUP(WAVA!AC242,'Points Lookup'!$A:$B,2,FALSE)","v":48},{"$f":"VLOOKUP(WAVA!AD242,'Points Lookup'!$A:$B,2,FALSE)","v":0},{"$f":"VLOOKUP(WAVA!AE242,'Points Lookup'!$A:$B,2,FALSE)","v":0},{"$f":"VLOOKUP(WAVA!AF242,'Points Lookup'!$A:$B,2,FALSE)","v":0},{"$f":"VLOOKUP(WAVA!AG242,'Points Lookup'!$A:$B,2,FALSE)","v":47},{"$f":"VLOOKUP(WAVA!AH242,'Points Lookup'!$A:$B,2,FALSE)","v":0},{"$f":"VLOOKUP(WAVA!AI242,'Points Lookup'!$A:$B,2,FALSE)","v":0},{"$f":"VLOOKUP(WAVA!AJ242,'Points Lookup'!$A:$B,2,FALSE)","v":0},{"$f":"VLOOKUP(WAVA!AK242,'Points Lookup'!$A:$B,2,FALSE)","v":0},{"$f":"VLOOKUP(WAVA!AL242,'Points Lookup'!$A:$B,2,FALSE)","v":0},{"$f":"VLOOKUP(WAVA!AM242,'Points Lookup'!$A:$B,2,FALSE)","v":48},{"$f":"VLOOKUP(WAVA!AN242,'Points Lookup'!$A:$B,2,FALSE)","v":0},{"$f":"VLOOKUP(WAVA!AO242,'Points Lookup'!$A:$B,2,FALSE)","v":0},{"$f":"VLOOKUP(WAVA!AP242,'Points Lookup'!$A:$B,2,FALSE)","v":0},{"$f":"VLOOKUP(WAVA!AQ242,'Points Lookup'!$A:$B,2,FALSE)","v":0},{"$f":"VLOOKUP(WAVA!AR242,'Points Lookup'!$A:$B,2,FALSE)","v":0},{"$f":"VLOOKUP(WAVA!AS242,'Points Lookup'!$A:$B,2,FALSE)","v":0},{"$f":"VLOOKUP(WAVA!AT242,'Points Lookup'!$A:$B,2,FALSE)","v":0},{"$f":"VLOOKUP(WAVA!AU242,'Points Lookup'!$A:$B,2,FALSE)","v":0},{"$f":"VLOOKUP(WAVA!AV242,'Points Lookup'!$A:$B,2,FALSE)","v":0},{"$f":"VLOOKUP(WAVA!AW242,'Points Lookup'!$A:$B,2,FALSE)","v":0},null,48,48,47,0,0,0,0,0]
[53,{"$f":"WAVA!C243","v":"Kath Stone"},{"$f":"IF(ISBLANK(WAVA!F243),\"\",WAVA!F243)","v":"Second"},143,{"$f":"VLOOKUP(WAVA!AC243,'Points Lookup'!$A:$B,2,FALSE)","v":0},{"$f":"VLOOKUP(WAVA!AD243,'Points Lookup'!$A:$B,2,FALSE)","v":0},{"$f":"VLOOKUP(WAVA!AE243,'Points Lookup'!$A:$B,2,FALSE)","v":0},{"$f":"VLOOKUP(WAVA!AF243,'Points Lookup'!$A:$B,2,FALSE)","v":0},{"$f":"VLOOKUP(WAVA!AG243,'Points Lookup'!$A:$B,2,FALSE)","v":0},{"$f":"VLOOKUP(WAVA!AH243,'Points Lookup'!$A:$B,2,FALSE)","v":0},{"$f":"VLOOKUP(WAVA!AI243,'Points Lookup'!$A:$B,2,FALSE)","v":0},{"$f":"VLOOKUP(WAVA!AJ243,'Points Lookup'!$A:$B,2,FALSE)","v":48},{"$f":"VLOOKUP(WAVA!AK243,'Points Lookup'!$A:$B,2,FALSE)","v":0},{"$f":"VLOOKUP(WAVA!AL243,'Points Lookup'!$A:$B,2,FALSE)","v":0},{"$f":"VLOOKUP(WAVA!AM243,'Points Lookup'!$A:$B,2,FALSE)","v":0},{"$f":"VLOOKUP(WAVA!AN243,'Points Lookup'!$A:$B,2,FALSE)","v":48},{"$f":"VLOOKUP(WAVA!AO243,'Points Lookup'!$A:$B,2,FALSE)","v":0},{"$f":"VLOOKUP(WAVA!AP243,'Points Lookup'!$A:$B,2,FALSE)","v":0},{"$f":"VLOOKUP(WAVA!AQ243,'Points Lookup'!$A:$B,2,FALSE)","v":0},{"$f":"VLOOKUP(WAVA!AR243,'Points Lookup'!$A:$B,2,FALSE)","v":0},{"$f":"VLOOKUP(WAVA!AS243,'Points Lookup'!$A:$B,2,FALSE)","v":0},{"$f":"VLOOKUP(WAVA!AT243,'Points Lookup'!$A:$B,2,FALSE)","v":0},{"$f":"VLOOKUP(WAVA!AU243,'Points Lookup'!$A:$B,2,FALSE)","v":47},{"$f":"VLOOKUP(WAVA!AV243,'Points Lookup'!$A:$B,2,FALSE)","v":0},{"$f":"VLOOKUP(WAVA!AW243,'Points Lookup'!$A:$B,2,FALSE)","v":0},null,{"$f":"LARGE($E242:$Y242,AA$1)","v":48},48,47,0,0,0,0,0]
[64,{"$f":"WAVA!C244","v":"Richard Stone"},{"$f":"IF(ISBLANK(WAVA!F244),\"\",WAVA!F244)","v":"First"},100,{"$f":"VLOOKUP(WAVA!AC244,'Points Lookup'!$A:$B,2,FALSE)","v":0},{"$f":"VLOOKUP(WAVA!AD244,'Points Lookup'!$A:$B,2,FALSE)","v":0},{"$f":"VLOOKUP(WAVA!AE244,'Points Lookup'!$A:$B,2,FALSE)","v":0},{"$f":"VLOOKUP(WAVA!AF244,'Points Lookup'!$A:$B,2,FALSE)","v":0},{"$f":"VLOOKUP(WAVA!AG244,'Points Lookup'!$A:$B,2,FALSE)","v":0},{"$f":"VLOOKUP(WAVA!AH244,'Points Lookup'!$A:$B,2,FALSE)","v":0},{"$f":"VLOOKUP(WAVA!AI244,'Points Lookup'!$A:$B,2,FALSE)","v":0},{"$f":"VLOOKUP(WAVA!AJ244,'Points Lookup'!$A:$B,2,FALSE)","v":50},{"$f":"VLOOKUP(WAVA!AK244,'Points Lookup'!$A:$B,2,FALSE)","v":0},{"$f":"VLOOKUP(WAVA!AL244,'Points Lookup'!$A:$B,2,FALSE)","v":0},{"$f":"VLOOKUP(WAVA!AM244,'Points Lookup'!$A:$B,2,FALSE)","v":0},{"$f":"VLOOKUP(WAVA!AN244,'Points Lookup'!$A:$B,2,FALSE)","v":0},{"$f":"VLOOKUP(WAVA!AO244,'Points Lookup'!$A:$B,2,FALSE)","v":0},{"$f":"VLOOKUP(WAVA!AP244,'Points Lookup'!$A:$B,2,FALSE)","v":0},{"$f":"VLOOKUP(WAVA!AQ244,'Points Lookup'!$A:$B,2,FALSE)","v":0},{"$f":"VLOOKUP(WAVA!AR244,'Points Lookup'!$A:$B,2,FALSE)","v":0},{"$f":"VLOOKUP(WAVA!AS244,'Points Lookup'!$A:$B,2,FALSE)","v":0},{"$f":"VLOOKUP(WAVA!AT244,'Points Lookup'!$A:$B,2,FALSE)","v":0},{"$f":"VLOOKUP(WAVA!AU244,'Points Lookup'!$A:$B,2,FALSE)","v":0},{"$f":"VLOOKUP(WAVA!AV244,'Points Lookup'!$A:$B,2,FALSE)","v":0},{"$f":"VLOOKUP(WAVA!AW244,'Points Lookup'!$A:$B,2,FALSE)","v":50},null,50,50,0,0,0,0,0,0]
[129,{"$f":"WAVA!C245","v":"Chris Stott"},{"$f":"IF(ISBLANK(WAVA!F245),\"\",WAVA!F245)","v":"Premier"},42,{"$f":"VLOOKUP(WAVA!AC245,'Points Lookup'!$A:$B,2,FALSE)","v":42},{"$f":"VLOOKUP(WAVA!AD245,'Points Lookup'!$A:$B,2,FALSE)","v":0},{"$f":"VLOOKUP(WAVA!AE245,'Points Lookup'!$A:$B,2,FALSE)","v":0},{"$f":"VLOOKUP(WAVA!AF245,'Points Lookup'!$A:$B,2,FALSE)","v":0},{"$f":"VLOOKUP(WAVA!AG245,'Points Lookup'!$A:$B,2,FALSE)","v":0},{"$f":"VLOOKUP(WAVA!AH245,'Points Lookup'!$A:$B,2,FALSE)","v":0},{"$f":"VLOOKUP(WAVA!AI245,'Points Lookup'!$A:$B,2,FALSE)","v":0},{"$f":"VLOOKUP(WAVA!AJ245,'Points Lookup'!$A:$B,2,FALSE)","v":0},{"$f":"VLOOKUP(WAVA!AK245,'Points Lookup'!$A:$B,2,FALSE)","v":0},{"$f":"VLOOKUP(WAVA!AL245,'Points Lookup'!$A:$B,2,FALSE)","v":0},{"$f":"VLOOKUP(WAVA!AM245,'Points Lookup'!$A:$B,2,FALSE)","v":0},{"$f":"VLOOKUP(WAVA!AN245,'Points Lookup'!$A:$B,2,FALSE)","v":0},{"$f":"VLOOKUP(WAVA!AO245,'Points Lookup'!$A:$B,2,FALSE)","v":0},{"$f":"VLOOKUP(WAVA!AP245,'Points Lookup'!$A:$B,2,FALSE)","v":0},{"$f":"VLOOKUP(WAVA!AQ245,'Points Lookup'!$A:$B,2,FALSE)","v":0},{"$f":"VLOOKUP(WAVA!AR245,'Points Lookup'!$A:$B,2,FALSE)","v":0},{"$f":"VLOOKUP(WAVA!AS245,'Points Lookup'!$A:$B,2,FALSE)","v":0},{"$f":"VLOOKUP(WAVA!AT245,'Points Lookup'!$A:$B,2,FALSE)","v":0},{"$f":"VLOOKUP(WAVA!AU245,'Points Lookup'!$A:$B,2,FALSE)","v":0},{"$f":"VLOOKUP(WAVA!AV245,'Points Lookup'!$A:$B,2,FALSE)","v":0},{"$f":"VLOOKUP(WAVA!AW245,'Points Lookup'!$A:$B,2,FALSE)","v":0},null,42,0,0,0,0,0,0,0]
[146,{"$f":"WAVA!C246","v":"peter stringer"},{"$f":"IF(ISBLANK(WAVA!F246),\"\",WAVA!F246)","v":"Second"},0,{"$f":"VLOOKUP(WAVA!AC246,'Points Lookup'!$A:$B,2,FALSE)","v":0},{"$f":"VLOOKUP(WAVA!AD246,'Points Lookup'!$A:$B,2,FALSE)","v":0},{"$f":"VLOOKUP(WAVA!AE246,'Points Lookup'!$A:$B,2,FALSE)","v":0},{"$f":"VLOOKUP(WAVA!AF246,'Points Lookup'!$A:$B,2,FALSE)","v":0},{"$f":"VLOOKUP(WAVA!AG246,'Points Lookup'!$A:$B,2,FALSE)","v":0},{"$f":"VLOOKUP(WAVA!AH246,'Points Lookup'!$A:$B,2,FALSE)","v":0},{"$f":"VLOOKUP(WAVA!AI246,'Points Lookup'!$A:$B,2,FALSE)","v":0},{"$f":"VLOOKUP(WAVA!AJ246,'Points Lookup'!$A:$B,2,FALSE)","v":0},{"$f":"VLOOKUP(WAVA!AK246,'Points Lookup'!$A:$B,2,FALSE)","v":0},{"$f":"VLOOKUP(WAVA!AL246,'Points Lookup'!$A:$B,2,FALSE)","v":0},{"$f":"VLOOKUP(WAVA!AM246,'Points Lookup'!$A:$B,2,FALSE)","v":0},{"$f":"VLOOKUP(WAVA!AN246,'Points Lookup'!$A:$B,2,FALSE)","v":0},{"$f":"VLOOKUP(WAVA!AO246,'Points Lookup'!$A:$B,2,FALSE)","v":0},{"$f":"VLOOKUP(WAVA!AP246,'Points Lookup'!$A:$B,2,FALSE)","v":0},{"$f":"VLOOKUP(WAVA!AQ246,'Points Lookup'!$A:$B,2,FALSE)","v":0},{"$f":"VLOOKUP(WAVA!AR246,'Points Lookup'!$A:$B,2,FALSE)","v":0},{"$f":"VLOOKUP(WAVA!AS246,'Points Lookup'!$A:$B,2,FALSE)","v":0},{"$f":"VLOOKUP(WAVA!AT246,'Points Lookup'!$A:$B,2,FALSE)","v":0},{"$f":"VLOOKUP(WAVA!AU246,'Points Lookup'!$A:$B,2,FALSE)","v":0},{"$f":"VLOOKUP(WAVA!AV246,'Points Lookup'!$A:$B,2,FALSE)","v":0},{"$f":"VLOOKUP(WAVA!AW246,'Points Lookup'!$A:$B,2,FALSE)","v":0},null,0,0,0,0,0,0,0,0]
[114,{"$f":"WAVA!C247","v":"Graham Terry"},{"$f":"IF(ISBLANK(WAVA!F247),\"\",WAVA!F247)","v":"Second"},47,{"$f":"VLOOKUP(WAVA!AC247,'Points Lookup'!$A:$B,2,FALSE)","v":0},{"$f":"VLOOKUP(WAVA!AD247,'Points Lookup'!$A:$B,2,FALSE)","v":0},{"$f":"VLOOKUP(WAVA!AE247,'Points Lookup'!$A:$B,2,FALSE)","v":0},{"$f":"VLOOKUP(WAVA!AF247,'Points Lookup'!$A:$B,2,FALSE)","v":0},{"$f":"VLOOKUP(WAVA!AG247,'Points Lookup'!$A:$B,2,FALSE)","v":0},{"$f":"VLOOKUP(WAVA!AH247,'Points Lookup'!$A:$B,2,FALSE)","v":0},{"$f":"VLOOKUP(WAVA!AI247,'Points Lookup'!$A:$B,2,FALSE)","v":0},{"$f":"VLOOKUP(WAVA!AJ247,'Points Lookup'!$A:$B,2,FALSE)","v":0},{"$f":"VLOOKUP(WAVA!AK247,'Points Lookup'!$A:$B,2,FALSE)","v":0},{"$f":"VLOOKUP(WAVA!AL247,'Points Lookup'!$A:$B,2,FALSE)","v":0},{"$f":"VLOOKUP(WAVA!AM247,'Points Lookup'!$A:$B,2,FALSE)","v":0},{"$f":"VLOOKUP(WAVA!AN247,'Points Lookup'!$A:$B,2,FALSE)","v":0},{"$f":"VLOOKUP(WAVA!AO247,'Points Lookup'!$A:$B,2,FALSE)","v":0},{"$f":"VLOOKUP(WAVA!AP247,'Points Lookup'!$A:$B,2,FALSE)","v":0},{"$f":"VLOOKUP(WAVA!AQ247,'Points Lookup'!$A:$B,2,FALSE)","v":0},{"$f":"VLOOKUP(WAVA!AR247,'Points Lookup'!$A:$B,2,FALSE)","v":0},{"$f":"VLOOKUP(WAVA!AS247,'Points Lookup'!$A:$B,2,FALSE)","v":0},{"$f":"VLOOKUP(WAVA!AT247,'Points Lookup'!$A:$B,2,FALSE)","v":0},{"$f":"VLOOKUP(WAVA!AU247,'Points Lookup'!$A:$B,2,FALSE)","v":0},{"$f":"VLOOKUP(WAVA!AV247,'Points Lookup'!$A:$B,2,FALSE)","v":47},{"$f":"VLOOKUP(WAVA!AW247,'Points Lookup'!$A:$B,2,FALSE)","v":0},null,47,0,0,0,0,0,0,0]
[33,{"$f":"WAVA!C248","v":"Claire Thaper"},{"$f":"IF(ISBLANK(WAVA!F248),\"\",WAVA!F248)","v":"Premier"},228,{"$f":"VLOOKUP(WAVA!AC248,'Points Lookup'!$A:$B,2,FALSE)","v":0},{"$f":"VLOOKUP(WAVA!AD248,'Points Lookup'!$A:$B,2,FALSE)","v":36},{"$f":"VLOOKUP(WAVA!AE248,'Points Lookup'!$A:$B,2,FALSE)","v":0},{"$f":"VLOOKUP(WAVA!AF248,'Points Lookup'!$A:$B,2,FALSE)","v":0},{"$f":"VLOOKUP(WAVA!AG248,'Points Lookup'!$A:$B,2,FALSE)","v":0},{"$f":"VLOOKUP(WAVA!AH248,'Points Lookup'!$A:$B,2,FALSE)","v":0},{"$f":"VLOOKUP(WAVA!AI248,'Points Lookup'!$A:$B,2,FALSE)","v":0},{"$f":"VLOOKUP(WAVA!AJ248,'Points Lookup'!$A:$B,2,FALSE)","v":0},{"$f":"VLOOKUP(WAVA!AK248,'Points Lookup'!$A:$B,2,FALSE)","v":43},{"$f":"VLOOKUP(WAVA!AL248,'Points Lookup'!$A:$B,2,FALSE)","v":0},{"$f":"VLOOKUP(WAVA!AM248,'Points Lookup'!$A:$B,2,FALSE)","v":0},{"$f":"VLOOKUP(WAVA!AN248,'Points Lookup'!$A:$B,2,FALSE)","v":34},{"$f":"VLOOKUP(WAVA!AO248,'Points Lookup'!$A:$B,2,FALSE)","v":0},{"$f":"VLOOKUP(WAVA!AP248,'Points Lookup'!$A:$B,2,FALSE)","v":0},{"$f":"VLOOKUP(WAVA!AQ248,'Points Lookup'!$A:$B,2,FALSE)","v":38},{"$f":"VLOOKUP(WAVA!AR248,'Points Lookup'!$A:$B,2,FALSE)","v":0},{"$f":"VLOOKUP(WAVA!AS248,'Points Lookup'!$A:$B,2,FALSE)","v":46},{"$f":"VLOOKUP(WAVA!AT248,'Points Lookup'!$A:$B,2,FALSE)","v":0},{"$f":"VLOOKUP(WAVA!AU248,'Points Lookup'!$A:$B,2,FALSE)","v":31},{"$f":"VLOOKUP(WAVA!AV248,'Points Lookup'!$A:$B,2,FALSE)","v":0},{"$f":"VLOOKUP(WAVA!AW248,'Points Lookup'!$A:$B,2,FALSE)","v":0},null,46,43,38,36,34,31,0,0]
[{"$f":"RANK(D248,D:D)","v":146},{"$f":"WAVA!C249","v":"simon themistocleous"},{"$f":"IF(ISBLANK(WAVA!F249),\"\",WAVA!F249)","v":"Second"},0,{"$f":"VLOOKUP(WAVA!AC249,'Points Lookup'!$A:$B,2,FALSE)","v":0},{"$f":"VLOOKUP(WAVA!AD249,'Points Lookup'!$A:$B,2,FALSE)","v":0},{"$f":"VLOOKUP(WAVA!AE249,'Points Lookup'!$A:$B,2,FALSE)","v":0},{"$f":"VLOOKUP(WAVA!AF249,'Points Lookup'!$A:$B,2,FALSE)","v":0},{"$f":"VLOOKUP(WAVA!AG249,'Points Lookup'!$A:$B,2,FALSE)","v":0},{"$f":"VLOOKUP(WAVA!AH249,'Points Lookup'!$A:$B,2,FALSE)","v":0},{"$f":"VLOOKUP(WAVA!AI249,'Points Lookup'!$A:$B,2,FALSE)","v":0},{"$f":"VLOOKUP(WAVA!AJ249,'Points Lookup'!$A:$B,2,FALSE)","v":0},{"$f":"VLOOKUP(WAVA!AK249,'Points Lookup'!$A:$B,2,FALSE)","v":0},{"$f":"VLOOKUP(WAVA!AL249,'Points Lookup'!$A:$B,2,FALSE)","v":0},{"$f":"VLOOKUP(WAVA!AM249,'Points Lookup'!$A:$B,2,FALSE)","v":0},{"$f":"VLOOKUP(WAVA!AN249,'Points Lookup'!$A:$B,2,FALSE)","v":0},{"$f":"VLOOKUP(WAVA!AO249,'Points Lookup'!$A:$B,2,FALSE)","v":0},{"$f":"VLOOKUP(WAVA!AP249,'Points Lookup'!$A:$B,2,FALSE)","v":0},{"$f":"VLOOKUP(WAVA!AQ249,'Points Lookup'!$A:$B,2,FALSE)","v":0},{"$f":"VLOOKUP(WAVA!AR249,'Points Lookup'!$A:$B,2,FALSE)","v":0},{"$f":"VLOOKUP(WAVA!AS249,'Points Lookup'!$A:$B,2,FALSE)","v":0},{"$f":"VLOOKUP(WAVA!AT249,'Points Lookup'!$A:$B,2,FALSE)","v":0},{"$f":"VLOOKUP(WAVA!AU249,'Points Lookup'!$A:$B,2,FALSE)","v":0},{"$f":"VLOOKUP(WAVA!AV249,'Points Lookup'!$A:$B,2,FALSE)","v":0},{"$f":"VLOOKUP(WAVA!AW249,'Points Lookup'!$A:$B,2,FALSE)","v":0},null,0,0,0,0,0,0,0,0]
[146,{"$f":"WAVA!C250","v":"Tracey Thomas-Marshall"},{"$f":"IF(ISBLANK(WAVA!F250),\"\",WAVA!F250)","v":"Second"},0,{"$f":"VLOOKUP(WAVA!AC250,'Points Lookup'!$A:$B,2,FALSE)","v":0},{"$f":"VLOOKUP(WAVA!AD250,'Points Lookup'!$A:$B,2,FALSE)","v":0},{"$f":"VLOOKUP(WAVA!AE250,'Points Lookup'!$A:$B,2,FALSE)","v":0},{"$f":"VLOOKUP(WAVA!AF250,'Points Lookup'!$A:$B,2,FALSE)","v":0},{"$f":"VLOOKUP(WAVA!AG250,'Points Lookup'!$A:$B,2,FALSE)","v":0},{"$f":"VLOOKUP(WAVA!AH250,'Points Lookup'!$A:$B,2,FALSE)","v":0},{"$f":"VLOOKUP(WAVA!AI250,'Points Lookup'!$A:$B,2,FALSE)","v":0},{"$f":"VLOOKUP(WAVA!AJ250,'Points Lookup'!$A:$B,2,FALSE)","v":0},{"$f":"VLOOKUP(WAVA!AK250,'Points Lookup'!$A:$B,2,FALSE)","v":0},{"$f":"VLOOKUP(WAVA!AL250,'Points Lookup'!$A:$B,2,FALSE)","v":0},{"$f":"VLOOKUP(WAVA!AM250,'Points Lookup'!$A:$B,2,FALSE)","v":0},{"$f":"VLOOKUP(WAVA!AN250,'Points Lookup'!$A:$B,2,FALSE)","v":0},{"$f":"VLOOKUP(WAVA!AO250,'Points Lookup'!$A:$B,2,FALSE)","v":0},{"$f":"VLOOKUP(WAVA!AP250,'Points Lookup'!$A:$B,2,FALSE)","v":0},{"$f":"VLOOKUP(WAVA!AQ250,'Points Lookup'!$A:$B,2,FALSE)","v":0},{"$f":"VLOOKUP(WAVA!AR250,'Points Lookup'!$A:$B,2,FALSE)","v":0},{"$f":"VLOOKUP(WAVA!AS250,'Points Lookup'!$A:$B,2,FALSE)","v":0},{"$f":"VLOOKUP(WAVA!AT250,'Points Lookup'!$A:$B,2,FALSE)","v":0},{"$f":"VLOOKUP(WAVA!AU250,'Points Lookup'!$A:$B,2,FALSE)","v":0},{"$f":"VLOOKUP(WAVA!AV250,'Points Lookup'!$A:$B,2,FALSE)","v":0},{"$f":"VLOOKUP(WAVA!AW250,'Points Lookup'!$A:$B,2,FALSE)","v":0},null,0,0,0,0,0,0,0,0]
[120,{"$f":"WAVA!C251","v":"Tamsin Treasure-Jones"},{"$f":"IF(ISBLANK(WAVA!F251),\"\",WAVA!F251)","v":"First"},46,{"$f":"VLOOKUP(WAVA!AC251,'Points Lookup'!$A:$B,2,FALSE)","v":0},{"$f":"VLOOKUP(WAVA!AD251,'Points Lookup'!$A:$B,2,FALSE)","v":0},{"$f":"VLOOKUP(WAVA!AE251,'Points Lookup'!$A:$B,2,FALSE)","v":0},{"$f":"VLOOKUP(WAVA!AF251,'Points Lookup'!$A:$B,2,FALSE)","v":0},{"$f":"VLOOKUP(WAVA!AG251,'Points Lookup'!$A:$B,2,FALSE)","v":0},{"$f":"VLOOKUP(WAVA!AH251,'Points Lookup'!$A:$B,2,FALSE)","v":0},{"$f":"VLOOKUP(WAVA!AI251,'Points Lookup'!$A:$B,2,FALSE)","v":0},{"$f":"VLOOKUP(WAVA!AJ251,'Points Lookup'!$A:$B,2,FALSE)","v":0},{"$f":"VLOOKUP(WAVA!AK251,'Points Lookup'!$A:$B,2,FALSE)","v":0},{"$f":"VLOOKUP(WAVA!AL251,'Points Lookup'!$A:$B,2,FALSE)","v":0},{"$f":"VLOOKUP(WAVA!AM251,'Points Lookup'!$A:$B,2,FALSE)","v":0},{"$f":"VLOOKUP(WAVA!AN251,'Points Lookup'!$A:$B,2,FALSE)","v":0},{"$f":"VLOOKUP(WAVA!AO251,'Points Lookup'!$A:$B,2,FALSE)","v":0},{"$f":"VLOOKUP(WAVA!AP251,'Points Lookup'!$A:$B,2,FALSE)","v":0},{"$f":"VLOOKUP(WAVA!AQ251,'Points Lookup'!$A:$B,2,FALSE)","v":46},{"$f":"VLOOKUP(WAVA!AR251,'Points Lookup'!$A:$B,2,FALSE)","v":0},{"$f":"VLOOKUP(WAVA!AS251,'Points Lookup'!$A:$B,2,FALSE)","v":0},{"$f":"VLOOKUP(WAVA!AT251,'Points Lookup'!$A:$B,2,FALSE)","v":0},{"$f":"VLOOKUP(WAVA!AU251,'Points Lookup'!$A:$B,2,FALSE)","v":0},{"$f":"VLOOKUP(WAVA!AV251,'Points Lookup'!$A:$B,2,FALSE)","v":0},{"$f":"VLOOKUP(WAVA!AW251,'Points Lookup'!$A:$B,2,FALSE)","v":0},null,46,0,0,0,0,0,0,0]
[58,{"$f":"WAVA!C252","v":"Pawel Tryc"},{"$f":"IF(ISBLANK(WAVA!F252),\"\",WAVA!F252)","v":"Second"},137,{"$f":"VLOOKUP(WAVA!AC252,'Points Lookup'!$A:$B,2,FALSE)","v":0},{"$f":"VLOOKUP(WAVA!AD252,'Points Lookup'!$A:$B,2,FALSE)","v":0},{"$f":"VLOOKUP(WAVA!AE252,'Points Lookup'!$A:$B,2,FALSE)","v":0},{"$f":"VLOOKUP(WAVA!AF252,'Points Lookup'!$A:$B,2,FALSE)","v":0},{"$f":"VLOOKUP(WAVA!AG252,'Points Lookup'!$A:$B,2,FALSE)","v":0},{"$f":"VLOOKUP(WAVA!AH252,'Points Lookup'!$A:$B,2,FALSE)","v":0},{"$f":"VLOOKUP(WAVA!AI252,'Points Lookup'!$A:$B,2,FALSE)","v":0},{"$f":"VLOOKUP(WAVA!AJ252,'Points Lookup'!$A:$B,2,FALSE)","v":0},{"$f":"VLOOKUP(WAVA!AK252,'Points Lookup'!$A:$B,2,FALSE)","v":0},{"$f":"VLOOKUP(WAVA!AL252,'Points Lookup'!$A:$B,2,FALSE)","v":0},{"$f":"VLOOKUP(WAVA!AM252,'Points Lookup'!$A:$B,2,FALSE)","v":0},{"$f":"VLOOKUP(WAVA!AN252,'Points Lookup'!$A:$B,2,FALSE)","v":0},{"$f":"VLOOKUP(WAVA!AO252,'Points Lookup'!$A:$B,2,FALSE)","v":50},{"$f":"VLOOKUP(WAVA!AP252,'Points Lookup'!$A:$B,2,FALSE)","v":0},{"$f":"VLOOKUP(WAVA!AQ252,'Points Lookup'!$A:$B,2,FALSE)","v":0},{"$f":"VLOOKUP(WAVA!AR252,'Points Lookup'!$A:$B,2,FALSE)","v":0},{"$f":"VLOOKUP(WAVA!AS252,'Points Lookup'!$A:$B,2,FALSE)","v":0},{"$f":"VLOOKUP(WAVA!AT252,'Points Lookup'!$A:$B,2,FALSE)","v":46},{"$f":"VLOOKUP(WAVA!AU252,'Points Lookup'!$A:$B,2,FALSE)","v":0},{"$f":"VLOOKUP(WAVA!AV252,'Points Lookup'!$A:$B,2,FALSE)","v":41},{"$f":"VLOOKUP(WAVA!AW252,'Points Lookup'!$A:$B,2,FALSE)","v":0},null,50,46,41,0,0,0,0,0]
[25,{"$f":"WAVA!C253","v":"Ann Upton"},{"$f":"IF(ISBLANK(WAVA!F253),\"\",WAVA!F253)","v":"Second"},257,{"$f":"VLOOKUP(WAVA!AC253,'Points Lookup'!$A:$B,2,FALSE)","v":0},{"$f":"VLOOKUP(WAVA!AD253,'Points Lookup'!$A:$B,2,FALSE)","v":41},{"$f":"VLOOKUP(WAVA!AE253,'Points Lookup'!$A:$B,2,FALSE)","v":44},{"$f":"VLOOKUP(WAVA!AF253,'Points Lookup'!$A:$B,2,FALSE)","v":0},{"$f":"VLOOKUP(WAVA!AG253,'Points Lookup'!$A:$B,2,FALSE)","v":0},{"$f":"VLOOKUP(WAVA!AH253,'Points Lookup'!$A:$B,2,FALSE)","v":0},{"$f":"VLOOKUP(WAVA!AI253,'Points Lookup'!$A:$B,2,FALSE)","v":0},{"$f":"VLOOKUP(WAVA!AJ253,'Points Lookup'!$A:$B,2,FALSE)","v":0},{"$f":"VLOOKUP(WAVA!AK253,'Points Lookup'!$A:$B,2,FALSE)","v":0},{"$f":"VLOOKUP(WAVA!AL253,'Points Lookup'!$A:$B,2,FALSE)","v":0},{"$f":"VLOOKUP(WAVA!AM253,'Points Lookup'!$A:$B,2,FALSE)","v":0},{"$f":"VLOOKUP(WAVA!AN253,'Points Lookup'!$A:$B,2,FALSE)","v":42},{"$f":"VLOOKUP(WAVA!AO253,'Points Lookup'!$A:$B,2,FALSE)","v":0},{"$f":"VLOOKUP(WAVA!AP253,'Points Lookup'!$A:$B,2,FALSE)","v":0},{"$f":"VLOOKUP(WAVA!AQ253,'Points Lookup'!$A:$B,2,FALSE)","v":41},{"$f":"VLOOKUP(WAVA!AR253,'Points Lookup'!$A:$B,2,FALSE)","v":0},{"$f":"VLOOKUP(WAVA!AS253,'Points Lookup'!$A:$B,2,FALSE)","v":0},{"$f":"VLOOKUP(WAVA!AT253,'Points Lookup'!$A:$B,2,FALSE)","v":44},{"$f":"VLOOKUP(WAVA!AU253,'Points Lookup'!$A:$B,2,FALSE)","v":45},{"$f":"VLOOKUP(WAVA!AV253,'Points Lookup'!$A:$B,2,FALSE)","v":0},{"$f":"VLOOKUP(WAVA!AW253,'Points Lookup'!$A:$B,2,FALSE)","v":0},null,{"$f":"LARGE($E252:$Y252,AA$1)","v":45},44,44,42,41,41,0,0]
[146,{"$f":"WAVA!C254","v":"Chris Upton"},{"$f":"IF(ISBLANK(WAVA!F254),\"\",WAVA!F254)","v":"Second"},0,{"$f":"VLOOKUP(WAVA!AC254,'Points Lookup'!$A:$B,2,FALSE)","v":0},{"$f":"VLOOKUP(WAVA!AD254,'Points Lookup'!$A:$B,2,FALSE)","v":0},{"$f":"VLOOKUP(WAVA!AE254,'Points Lookup'!$A:$B,2,FALSE)","v":0},{"$f":"VLOOKUP(WAVA!AF254,'Points Lookup'!$A:$B,2,FALSE)","v":0},{"$f":"VLOOKUP(WAVA!AG254,'Points Lookup'!$A:$B,2,FALSE)","v":0},{"$f":"VLOOKUP(WAVA!AH254,'Points Lookup'!$A:$B,2,FALSE)","v":0},{"$f":"VLOOKUP(WAVA!AI254,'Points Lookup'!$A:$B,2,FALSE)","v":0},{"$f":"VLOOKUP(WAVA!AJ254,'Points Lookup'!$A:$B,2,FALSE)","v":0},{"$f":"VLOOKUP(WAVA!AK254,'Points Lookup'!$A:$B,2,FALSE)","v":0},{"$f":"VLOOKUP(WAVA!AL254,'Points Lookup'!$A:$B,2,FALSE)","v":0},{"$f":"VLOOKUP(WAVA!AM254,'Points Lookup'!$A:$B,2,FALSE)","v":0},{"$f":"VLOOKUP(WAVA!AN254,'Points Lookup'!$A:$B,2,FALSE)","v":0},{"$f":"VLOOKUP(WAVA!AO254,'Points Lookup'!$A:$B,2,FALSE)","v":0},{"$f":"VLOOKUP(WAVA!AP254,'Points Lookup'!$A:$B,2,FALSE)","v":0},{"$f":"VLOOKUP(WAVA!AQ254,'Points Lookup'!$A:$B,2,FALSE)","v":0},{"$f":"VLOOKUP(WAVA!AR254,'Points Lookup'!$A:$B,2,FALSE)","v":0},{"$f":"VLOOKUP(WAVA!AS254,'Points Lookup'!$A:$B,2,FALSE)","v":0},{"$f":"VLOOKUP(WAVA!AT254,'Points Lookup'!$A:$B,2,FALSE)","v":0},{"$f":"VLOOKUP(WAVA!AU254,'Points Lookup'!$A:$B,2,FALSE)","v":0},{"$f":"VLOOKUP(WAVA!AV254,'Points Lookup'!$A:$B,2,FALSE)","v":0},{"$f":"VLOOKUP(WAVA!AW254,'Points Lookup'!$A:$B,2,FALSE)","v":0},null,0,0,0,0,0,0,0,0]
[44,{"$f":"WAVA!C255","v":"Jack Verity"},{"$f":"IF(ISBLANK(WAVA!F255),\"\",WAVA!F255)","v":"Premier"},187,{"$f":"VLOOKUP(WAVA!AC255,'Points Lookup'!$A:$B,2,FALSE)","v":47},{"$f":"VLOOKUP(WAVA!AD255,'Points Lookup'!$A:$B,2,FALSE)","v":46},{"$f":"VLOOKUP(WAVA!AE255,'Points Lookup'!$A:$B,2,FALSE)","v":0},{"$f":"VLOOKUP(WAVA!AF255,'Points Lookup'!$A:$B,2,FALSE)","v":0},{"$f":"VLOOKUP(WAVA!AG255,'Points Lookup'!$A:$B,2,FALSE)","v":0},{"$f":"VLOOKUP(WAVA!AH255,'Points Lookup'!$A:$B,2,FALSE)","v":0},{"$f":"VLOOKUP(WAVA!AI255,'Points Lookup'!$A:$B,2,FALSE)","v":0},{"$f":"VLOOKUP(WAVA!AJ255,'Points Lookup'!$A:$B,2,FALSE)","v":0},{"$f":"VLOOKUP(WAVA!AK255,'Points Lookup'!$A:$B,2,FALSE)","v":0},{"$f":"VLOOKUP(WAVA!AL255,'Points Lookup'!$A:$B,2,FALSE)","v":0},{"$f":"VLOOKUP(WAVA!AM255,'Points Lookup'!$A:$B,2,FALSE)","v":0},{"$f":"VLOOKUP(WAVA!AN255,'Points Lookup'!$A:$B,2,FALSE)","v":0},{"$f":"VLOOKUP(WAVA!AO255,'Points Lookup'!$A:$B,2,FALSE)","v":0},{"$f":"VLOOKUP(WAVA!AP255,'Points Lookup'!$A:$B,2,FALSE)","v":0},{"$f":"VLOOKUP(WAVA!AQ255,'Points Lookup'!$A:$B,2,FALSE)","v":45},{"$f":"VLOOKUP(WAVA!AR255,'Points Lookup'!$A:$B,2,FALSE)","v":0},{"$f":"VLOOKUP(WAVA!AS255,'Points Lookup'!$A:$B,2,FALSE)","v":0},{"$f":"VLOOKUP(WAVA!AT255,'Points Lookup'!$A:$B,2,FALSE)","v":0},{"$f":"VLOOKUP(WAVA!AU255,'Points Lookup'!$A:$B,2,FALSE)","v":0},{"$f":"VLOOKUP(WAVA!AV255,'Points Lookup'!$A:$B,2,FALSE)","v":0},{"$f":"VLOOKUP(WAVA!AW255,'Points Lookup'!$A:$B,2,FALSE)","v":49},null,49,47,46,45,0,0,0,0]
[61,{"$f":"WAVA!C256","v":"Mark Walker"},{"$f":"IF(ISBLANK(WAVA!F256),\"\",WAVA!F256)","v":"Premier"},125,{"$f":"VLOOKUP(WAVA!AC256,'Points Lookup'!$A:$B,2,FALSE)","v":0},{"$f":"VLOOKUP(WAVA!AD256,'Points Lookup'!$A:$B,2,FALSE)","v":37},{"$f":"VLOOKUP(WAVA!AE256,'Points Lookup'!$A:$B,2,FALSE)","v":0},{"$f":"VLOOKUP(WAVA!AF256,'Points Lookup'!$A:$B,2,FALSE)","v":0},{"$f":"VLOOKUP(WAVA!AG256,'Points Lookup'!$A:$B,2,FALSE)","v":0},{"$f":"VLOOKUP(WAVA!AH256,'Points Lookup'!$A:$B,2,FALSE)","v":0},{"$f":"VLOOKUP(WAVA!AI256,'Points Lookup'!$A:$B,2,FALSE)","v":43},{"$f":"VLOOKUP(WAVA!AJ256,'Points Lookup'!$A:$B,2,FALSE)","v":0},{"$f":"VLOOKUP(WAVA!AK256,'Points Lookup'!$A:$B,2,FALSE)","v":0},{"$f":"VLOOKUP(WAVA!AL256,'Points Lookup'!$A:$B,2,FALSE)","v":0},{"$f":"VLOOKUP(WAVA!AM256,'Points Lookup'!$A:$B,2,FALSE)","v":0},{"$f":"VLOOKUP(WAVA!AN256,'Points Lookup'!$A:$B,2,FALSE)","v":0},{"$f":"VLOOKUP(WAVA!AO256,'Points Lookup'!$A:$B,2,FALSE)","v":0},{"$f":"VLOOKUP(WAVA!AP256,'Points Lookup'!$A:$B,2,FALSE)","v":0},{"$f":"VLOOKUP(WAVA!AQ256,'Points Lookup'!$A:$B,2,FALSE)","v":0},{"$f":"VLOOKUP(WAVA!AR256,'Points Lookup'!$A:$B,2,FALSE)","v":0},{"$f":"VLOOKUP(WAVA!AS256,'Points Lookup'!$A:$B,2,FALSE)","v":0},{"$f":"VLOOKUP(WAVA!AT256,'Points Lookup'!$A:$B,2,FALSE)","v":0},{"$f":"VLOOKUP(WAVA!AU256,'Points Lookup'!$A:$B,2,FALSE)","v":0},{"$f":"VLOOKUP(WAVA!AV256,'Points Lookup'!$A:$B,2,FALSE)","v":45},{"$f":"VLOOKUP(WAVA!AW256,'Points Lookup'!$A:$B,2,FALSE)","v":0},null,45,43,37,0,0,0,0,0]
[56,{"$f":"WAVA!C257","v":"John Walton"},{"$f":"IF(ISBLANK(WAVA!F257),\"\",WAVA!F257)","v":"First"},140,{"$f":"VLOOKUP(WAVA!AC257,'Points Lookup'!$A:$B,2,FALSE)","v":0},{"$f":"VLOOKUP(WAVA!AD257,'Points Lookup'!$A:$B,2,FALSE)","v":0},{"$f":"VLOOKUP(WAVA!AE257,'Points Lookup'!$A:$B,2,FALSE)","v":0},{"$f":"VLOOKUP(WAVA!AF257,'Points Lookup'!$A:$B,2,FALSE)","v":0},{"$f":"VLOOKUP(WAVA!AG257,'Points Lookup'!$A:$B,2,FALSE)","v":0},{"$f":"VLOOKUP(WAVA!AH257,'Points Lookup'!$A:$B,2,FALSE)","v":47},{"$f":"VLOOKUP(WAVA!AI257,'Points Lookup'!$A:$B,2,FALSE)","v":0},{"$f":"VLOOKUP(WAVA!AJ257,'Points Lookup'!$A:$B,2,FALSE)","v":0},{"$f":"VLOOKUP(WAVA!AK257,'Points Lookup'!$A:$B,2,FALSE)","v":45},{"$f":"VLOOKUP(WAVA!AL257,'Points Lookup'!$A:$B,2,FALSE)","v":0},{"$f":"VLOOKUP(WAVA!AM257,'Points Lookup'!$A:$B,2,FALSE)","v":0},{"$f":"VLOOKUP(WAVA!AN257,'Points Lookup'!$A:$B,2,FALSE)","v":48},{"$f":"VLOOKUP(WAVA!AO257,'Points Lookup'!$A:$B,2,FALSE)","v":0},{"$f":"VLOOKUP(WAVA!AP257,'Points Lookup'!$A:$B,2,FALSE)","v":0},{"$f":"VLOOKUP(WAVA!AQ257,'Points Lookup'!$A:$B,2,FALSE)","v":0},{"$f":"VLOOKUP(WAVA!AR257,'Points Lookup'!$A:$B,2,FALSE)","v":0},{"$f":"VLOOKUP(WAVA!AS257,'Points Lookup'!$A:$B,2,FALSE)","v":0},{"$f":"VLOOKUP(WAVA!AT257,'Points Lookup'!$A:$B,2,FALSE)","v":0},{"$f":"VLOOKUP(WAVA!AU257,'Points Lookup'!$A:$B,2,FALSE)","v":0},{"$f":"VLOOKUP(WAVA!AV257,'Points Lookup'!$A:$B,2,FALSE)","v":0},{"$f":"VLOOKUP(WAVA!AW257,'Points Lookup'!$A:$B,2,FALSE)","v":0},null,48,47,45,0,0,0,0,0]
[84,{"$f":"WAVA!C258","v":"Gareth Ward"},{"$f":"IF(ISBLANK(WAVA!F258),\"\",WAVA!F258)","v":"First"},86,{"$f":"VLOOKUP(WAVA!AC258,'Points Lookup'!$A:$B,2,FALSE)","v":0},{"$f":"VLOOKUP(WAVA!AD258,'Points Lookup'!$A:$B,2,FALSE)","v":39},{"$f":"VLOOKUP(WAVA!AE258,'Points Lookup'!$A:$B,2,FALSE)","v":0},{"$f":"VLOOKUP(WAVA!AF258,'Points Lookup'!$A:$B,2,FALSE)","v":0},{"$f":"VLOOKUP(WAVA!AG258,'Points Lookup'!$A:$B,2,FALSE)","v":47},{"$f":"VLOOKUP(WAVA!AH258,'Points Lookup'!$A:$B,2,FALSE)","v":0},{"$f":"VLOOKUP(WAVA!AI258,'Points Lookup'!$A:$B,2,FALSE)","v":0},{"$f":"VLOOKUP(WAVA!AJ258,'Points Lookup'!$A:$B,2,FALSE)","v":0},{"$f":"VLOOKUP(WAVA!AK258,'Points Lookup'!$A:$B,2,FALSE)","v":0},{"$f":"VLOOKUP(WAVA!AL258,'Points Lookup'!$A:$B,2,FALSE)","v":0},{"$f":"VLOOKUP(WAVA!AM258,'Points Lookup'!$A:$B,2,FALSE)","v":0},{"$f":"VLOOKUP(WAVA!AN258,'Points Lookup'!$A:$B,2,FALSE)","v":0},{"$f":"VLOOKUP(WAVA!AO258,'Points Lookup'!$A:$B,2,FALSE)","v":0},{"$f":"VLOOKUP(WAVA!AP258,'Points Lookup'!$A:$B,2,FALSE)","v":0},{"$f":"VLOOKUP(WAVA!AQ258,'Points Lookup'!$A:$B,2,FALSE)","v":0},{"$f":"VLOOKUP(WAVA!AR258,'Points Lookup'!$A:$B,2,FALSE)","v":0},{"$f":"VLOOKUP(WAVA!AS258,'Points Lookup'!$A:$B,2,FALSE)","v":0},{"$f":"VLOOKUP(WAVA!AT258,'Points Lookup'!$A:$B,2,FALSE)","v":0},{"$f":"VLOOKUP(WAVA!AU258,'Points Lookup'!$A:$B,2,FALSE)","v":0},{"$f":"VLOOKUP(WAVA!AV258,'Points Lookup'!$A:$B,2,FALSE)","v":0},{"$f":"VLOOKUP(WAVA!AW258,'Points Lookup'!$A:$B,2,FALSE)","v":0},null,47,39,0,0,0,0,0,0]
[146,{"$f":"WAVA!C259","v":"Lesley Watson"},{"$f":"IF(ISBLANK(WAVA!F259),\"\",WAVA!F259)","v":"Second"},{"$f":"SUM(AA258:AH258)","v":0},{"$f":"VLOOKUP(WAVA!AC259,'Points Lookup'!$A:$B,2,FALSE)","v":0},{"$f":"VLOOKUP(WAVA!AD259,'Points Lookup'!$A:$B,2,FALSE)","v":0},{"$f":"VLOOKUP(WAVA!AE259,'Points Lookup'!$A:$B,2,FALSE)","v":0},{"$f":"VLOOKUP(WAVA!AF259,'Points Lookup'!$A:$B,2,FALSE)","v":0},{"$f":"VLOOKUP(WAVA!AG259,'Points Lookup'!$A:$B,2,FALSE)","v":0},{"$f":"VLOOKUP(WAVA!AH259,'Points Lookup'!$A:$B,2,FALSE)","v":0},{"$f":"VLOOKUP(WAVA!AI259,'Points Lookup'!$A:$B,2,FALSE)","v":0},{"$f":"VLOOKUP(WAVA!AJ259,'Points Lookup'!$A:$B,2,FALSE)","v":0},{"$f":"VLOOKUP(WAVA!AK259,'Points Lookup'!$A:$B,2,FALSE)","v":0},{"$f":"VLOOKUP(WAVA!AL259,'Points Lookup'!$A:$B,2,FALSE)","v":0},{"$f":"VLOOKUP(WAVA!AM259,'Points Lookup'!$A:$B,2,FALSE)","v":0},{"$f":"VLOOKUP(WAVA!AN259,'Points Lookup'!$A:$B,2,FALSE)","v":0},{"$f":"VLOOKUP(WAVA!AO259,'Points Lookup'!$A:$B,2,FALSE)","v":0},{"$f":"VLOOKUP(WAVA!AP259,'Points Lookup'!$A:$B,2,FALSE)","v":0},{"$f":"VLOOKUP(WAVA!AQ259,'Points Lookup'!$A:$B,2,FALSE)","v":0},{"$f":"VLOOKUP(WAVA!AR259,'Points Lookup'!$A:$B,2,FALSE)","v":0},{"$f":"VLOOKUP(WAVA!AS259,'Points Lookup'!$A:$B,2,FALSE)","v":0},{"$f":"VLOOKUP(WAVA!AT259,'Points Lookup'!$A:$B,2,FALSE)","v":0},{"$f":"VLOOKUP(WAVA!AU259,'Points Lookup'!$A:$B,2,FALSE)","v":0},{"$f":"VLOOKUP(WAVA!AV259,'Points Lookup'!$A:$B,2,FALSE)","v":0},{"$f":"VLOOKUP(WAVA!AW259,'Points Lookup'!$A:$B,2,FALSE)","v":0},null,0,0,0,0,0,0,0,0]
[12,{"$f":"WAVA!C260","v":"Gary Western"},{"$f":"IF(ISBLANK(WAVA!F260),\"\",WAVA!F260)","v":"Premier"},375,{"$f":"VLOOKUP(WAVA!AC260,'Points Lookup'!$A:$B,2,FALSE)","v":0},{"$f":"VLOOKUP(WAVA!AD260,'Points Lookup'!$A:$B,2,FALSE)","v":0},{"$f":"VLOOKUP(WAVA!AE260,'Points Lookup'!$A:$B,2,FALSE)","v":48},{"$f":"VLOOKUP(WAVA!AF260,'Points Lookup'!$A:$B,2,FALSE)","v":45},{"$f":"VLOOKUP(WAVA!AG260,'Points Lookup'!$A:$B,2,FALSE)","v":44},{"$f":"VLOOKUP(WAVA!AH260,'Points Lookup'!$A:$B,2,FALSE)","v":0},{"$f":"VLOOKUP(WAVA!AI260,'Points Lookup'!$A:$B,2,FALSE)","v":49},{"$f":"VLOOKUP(WAVA!AJ260,'Points Lookup'!$A:$B,2,FALSE)","v":0},{"$f":"VLOOKUP(WAVA!AK260,'Points Lookup'!$A:$B,2,FALSE)","v":0},{"$f":"VLOOKUP(WAVA!AL260,'Points Lookup'!$A:$B,2,FALSE)","v":48},{"$f":"VLOOKUP(WAVA!AM260,'Points Lookup'!$A:$B,2,FALSE)","v":46},{"$f":"VLOOKUP(WAVA!AN260,'Points Lookup'!$A:$B,2,FALSE)","v":46},{"$f":"VLOOKUP(WAVA!AO260,'Points Lookup'!$A:$B,2,FALSE)","v":0},{"$f":"VLOOKUP(WAVA!AP260,'Points Lookup'!$A:$B,2,FALSE)","v":0},{"$f":"VLOOKUP(WAVA!AQ260,'Points Lookup'!$A:$B,2,FALSE)","v":0},{"$f":"VLOOKUP(WAVA!AR260,'Points Lookup'!$A:$B,2,FALSE)","v":0},{"$f":"VLOOKUP(WAVA!AS260,'Points Lookup'!$A:$B,2,FALSE)","v":0},{"$f":"VLOOKUP(WAVA!AT260,'Points Lookup'!$A:$B,2,FALSE)","v":0},{"$f":"VLOOKUP(WAVA!AU260,'Points Lookup'!$A:$B,2,FALSE)","v":0},{"$f":"VLOOKUP(WAVA!AV260,'Points Lookup'!$A:$B,2,FALSE)","v":49},{"$f":"VLOOKUP(WAVA!AW260,'Points Lookup'!$A:$B,2,FALSE)","v":0},null,49,49,48,48,46,46,45,44]
[37,{"$f":"WAVA!C261","v":"Helen Western"},{"$f":"IF(ISBLANK(WAVA!F261),\"\",WAVA!F261)","v":"Premier"},212,{"$f":"VLOOKUP(WAVA!AC261,'Points Lookup'!$A:$B,2,FALSE)","v":0},{"$f":"VLOOKUP(WAVA!AD261,'Points Lookup'!$A:$B,2,FALSE)","v":0},{"$f":"VLOOKUP(WAVA!AE261,'Points Lookup'!$A:$B,2,FALSE)","v":45},{"$f":"VLOOKUP(WAVA!AF261,'Points Lookup'!$A:$B,2,FALSE)","v":43},{"$f":"VLOOKUP(WAVA!AG261,'Points Lookup'!$A:$B,2,FALSE)","v":42},{"$f":"VLOOKUP(WAVA!AH261,'Points Lookup'!$A:$B,2,FALSE)","v":0},{"$f":"VLOOKUP(WAVA!AI261,'Points Lookup'!$A:$B,2,FALSE)","v":0},{"$f":"VLOOKUP(WAVA!AJ261,'Points Lookup'!$A:$B,2,FALSE)","v":0},{"$f":"VLOOKUP(WAVA!AK261,'Points Lookup'!$A:$B,2,FALSE)","v":0},{"$f":"VLOOKUP(WAVA!AL261,'Points Lookup'!$A:$B,2,FALSE)","v":0},{"$f":"VLOOKUP(WAVA!AM261,'Points Lookup'!$A:$B,2,FALSE)","v":40},{"$f":"VLOOKUP(WAVA!AN261,'Points Lookup'!$A:$B,2,FALSE)","v":42},{"$f":"VLOOKUP(WAVA!AO261,'Points Lookup'!$A:$B,2,FALSE)","v":0},{"$f":"VLOOKUP(WAVA!AP261,'Points Lookup'!$A:$B,2,FALSE)","v":0},{"$f":"VLOOKUP(WAVA!AQ261,'Points Lookup'!$A:$B,2,FALSE)","v":0},{"$f":"VLOOKUP(WAVA!AR261,'Points Lookup'!$A:$B,2,FALSE)","v":0},{"$f":"VLOOKUP(WAVA!AS261,'Points Lookup'!$A:$B,2,FALSE)","v":0},{"$f":"VLOOKUP(WAVA!AT261,'Points Lookup'!$A:$B,2,FALSE)","v":0},{"$f":"VLOOKUP(WAVA!AU261,'Points Lookup'!$A:$B,2,FALSE)","v":0},{"$f":"VLOOKUP(WAVA!AV261,'Points Lookup'!$A:$B,2,FALSE)","v":0},{"$f":"VLOOKUP(WAVA!AW261,'Points Lookup'!$A:$B,2,FALSE)","v":0},null,45,43,42,42,40,0,0,0]
[112,{"$f":"WAVA!C262","v":"Sam White"},{"$f":"IF(ISBLANK(WAVA!F262),\"\",WAVA!F262)","v":"First"},48,{"$f":"VLOOKUP(WAVA!AC262,'Points Lookup'!$A:$B,2,FALSE)","v":0},{"$f":"VLOOKUP(WAVA!AD262,'Points Lookup'!$A:$B,2,FALSE)","v":0},{"$f":"VLOOKUP(WAVA!AE262,'Points Lookup'!$A:$B,2,FALSE)","v":0},{"$f":"VLOOKUP(WAVA!AF262,'Points Lookup'!$A:$B,2,FALSE)","v":0},{"$f":"VLOOKUP(WAVA!AG262,'Points Lookup'!$A:$B,2,FALSE)","v":0},{"$f":"VLOOKUP(WAVA!AH262,'Points Lookup'!$A:$B,2,FALSE)","v":48},{"$f":"VLOOKUP(WAVA!AI262,'Points Lookup'!$A:$B,2,FALSE)","v":0},{"$f":"VLOOKUP(WAVA!AJ262,'Points Lookup'!$A:$B,2,FALSE)","v":0},{"$f":"VLOOKUP(WAVA!AK262,'Points Lookup'!$A:$B,2,FALSE)","v":0},{"$f":"VLOOKUP(WAVA!AL262,'Points Lookup'!$A:$B,2,FALSE)","v":0},{"$f":"VLOOKUP(WAVA!AM262,'Points Lookup'!$A:$B,2,FALSE)","v":0},{"$f":"VLOOKUP(WAVA!AN262,'Points Lookup'!$A:$B,2,FALSE)","v":0},{"$f":"VLOOKUP(WAVA!AO262,'Points Lookup'!$A:$B,2,FALSE)","v":0},{"$f":"VLOOKUP(WAVA!AP262,'Points Lookup'!$A:$B,2,FALSE)","v":0},{"$f":"VLOOKUP(WAVA!AQ262,'Points Lookup'!$A:$B,2,FALSE)","v":0},{"$f":"VLOOKUP(WAVA!AR262,'Points Lookup'!$A:$B,2,FALSE)","v":0},{"$f":"VLOOKUP(WAVA!AS262,'Points Lookup'!$A:$B,2,FALSE)","v":0},{"$f":"VLOOKUP(WAVA!AT262,'Points Lookup'!$A:$B,2,FALSE)","v":0},{"$f":"VLOOKUP(WAVA!AU262,'Points Lookup'!$A:$B,2,FALSE)","v":0},{"$f":"VLOOKUP(WAVA!AV262,'Points Lookup'!$A:$B,2,FALSE)","v":0},{"$f":"VLOOKUP(WAVA!AW262,'Points Lookup'!$A:$B,2,FALSE)","v":0},null,48,0,0,0,0,0,0,0]
[146,{"$f":"WAVA!C263","v":"Zack Whitehead"},{"$f":"IF(ISBLANK(WAVA!F263),\"\",WAVA!F263)","v":"Second"},0,{"$f":"VLOOKUP(WAVA!AC263,'Points Lookup'!$A:$B,2,FALSE)","v":0},{"$f":"VLOOKUP(WAVA!AD263,'Points Lookup'!$A:$B,2,FALSE)","v":0},{"$f":"VLOOKUP(WAVA!AE263,'Points Lookup'!$A:$B,2,FALSE)","v":0},{"$f":"VLOOKUP(WAVA!AF263,'Points Lookup'!$A:$B,2,FALSE)","v":0},{"$f":"VLOOKUP(WAVA!AG263,'Points Lookup'!$A:$B,2,FALSE)","v":0},{"$f":"VLOOKUP(WAVA!AH263,'Points Lookup'!$A:$B,2,FALSE)","v":0},{"$f":"VLOOKUP(WAVA!AI263,'Points Lookup'!$A:$B,2,FALSE)","v":0},{"$f":"VLOOKUP(WAVA!AJ263,'Points Lookup'!$A:$B,2,FALSE)","v":0},{"$f":"VLOOKUP(WAVA!AK263,'Points Lookup'!$A:$B,2,FALSE)","v":0},{"$f":"VLOOKUP(WAVA!AL263,'Points Lookup'!$A:$B,2,FALSE)","v":0},{"$f":"VLOOKUP(WAVA!AM263,'Points Lookup'!$A:$B,2,FALSE)","v":0},{"$f":"VLOOKUP(WAVA!AN263,'Points Lookup'!$A:$B,2,FALSE)","v":0},{"$f":"VLOOKUP(WAVA!AO263,'Points Lookup'!$A:$B,2,FALSE)","v":0},{"$f":"VLOOKUP(WAVA!AP263,'Points Lookup'!$A:$B,2,FALSE)","v":0},{"$f":"VLOOKUP(WAVA!AQ263,'Points Lookup'!$A:$B,2,FALSE)","v":0},{"$f":"VLOOKUP(WAVA!AR263,'Points Lookup'!$A:$B,2,FALSE)","v":0},{"$f":"VLOOKUP(WAVA!AS263,'Points Lookup'!$A:$B,2,FALSE)","v":0},{"$f":"VLOOKUP(WAVA!AT263,'Points Lookup'!$A:$B,2,FALSE)","v":0},{"$f":"VLOOKUP(WAVA!AU263,'Points Lookup'!$A:$B,2,FALSE)","v":0},{"$f":"VLOOKUP(WAVA!AV263,'Points Lookup'!$A:$B,2,FALSE)","v":0},{"$f":"VLOOKUP(WAVA!AW263,'Points Lookup'!$A:$B,2,FALSE)","v":0},null,{"$f":"LARGE($E262:$Y262,AA$1)","v":0},0,0,0,0,0,0,0]
[146,{"$f":"WAVA!C264","v":"Martin Wilkins"},{"$f":"IF(ISBLANK(WAVA!F264),\"\",WAVA!F264)","v":"Second"},0,{"$f":"VLOOKUP(WAVA!AC264,'Points Lookup'!$A:$B,2,FALSE)","v":0},{"$f":"VLOOKUP(WAVA!AD264,'Points Lookup'!$A:$B,2,FALSE)","v":0},{"$f":"VLOOKUP(WAVA!AE264,'Points Lookup'!$A:$B,2,FALSE)","v":0},{"$f":"VLOOKUP(WAVA!AF264,'Points Lookup'!$A:$B,2,FALSE)","v":0},{"$f":"VLOOKUP(WAVA!AG264,'Points Lookup'!$A:$B,2,FALSE)","v":0},{"$f":"VLOOKUP(WAVA!AH264,'Points Lookup'!$A:$B,2,FALSE)","v":0},{"$f":"VLOOKUP(WAVA!AI264,'Points Lookup'!$A:$B,2,FALSE)","v":0},{"$f":"VLOOKUP(WAVA!AJ264,'Points Lookup'!$A:$B,2,FALSE)","v":0},{"$f":"VLOOKUP(WAVA!AK264,'Points Lookup'!$A:$B,2,FALSE)","v":0},{"$f":"VLOOKUP(WAVA!AL264,'Points Lookup'!$A:$B,2,FALSE)","v":0},{"$f":"VLOOKUP(WAVA!AM264,'Points Lookup'!$A:$B,2,FALSE)","v":0},{"$f":"VLOOKUP(WAVA!AN264,'Points Lookup'!$A:$B,2,FALSE)","v":0},{"$f":"VLOOKUP(WAVA!AO264,'Points Lookup'!$A:$B,2,FALSE)","v":0},{"$f":"VLOOKUP(WAVA!AP264,'Points Lookup'!$A:$B,2,FALSE)","v":0},{"$f":"VLOOKUP(WAVA!AQ264,'Points Lookup'!$A:$B,2,FALSE)","v":0},{"$f":"VLOOKUP(WAVA!AR264,'Points Lookup'!$A:$B,2,FALSE)","v":0},{"$f":"VLOOKUP(WAVA!AS264,'Points Lookup'!$A:$B,2,FALSE)","v":0},{"$f":"VLOOKUP(WAVA!AT264,'Points Lookup'!$A:$B,2,FALSE)","v":0},{"$f":"VLOOKUP(WAVA!AU264,'Points Lookup'!$A:$B,2,FALSE)","v":0},{"$f":"VLOOKUP(WAVA!AV264,'Points Lookup'!$A:$B,2,FALSE)","v":0},{"$f":"VLOOKUP(WAVA!AW264,'Points Lookup'!$A:$B,2,FALSE)","v":0},null,0,0,0,0,0,0,0,0]
[146,{"$f":"WAVA!C265","v":"Kate Williams"},{"$f":"IF(ISBLANK(WAVA!F265),\"\",WAVA!F265)","v":"Second"},0,{"$f":"VLOOKUP(WAVA!AC265,'Points Lookup'!$A:$B,2,FALSE)","v":0},{"$f":"VLOOKUP(WAVA!AD265,'Points Lookup'!$A:$B,2,FALSE)","v":0},{"$f":"VLOOKUP(WAVA!AE265,'Points Lookup'!$A:$B,2,FALSE)","v":0},{"$f":"VLOOKUP(WAVA!AF265,'Points Lookup'!$A:$B,2,FALSE)","v":0},{"$f":"VLOOKUP(WAVA!AG265,'Points Lookup'!$A:$B,2,FALSE)","v":0},{"$f":"VLOOKUP(WAVA!AH265,'Points Lookup'!$A:$B,2,FALSE)","v":0},{"$f":"VLOOKUP(WAVA!AI265,'Points Lookup'!$A:$B,2,FALSE)","v":0},{"$f":"VLOOKUP(WAVA!AJ265,'Points Lookup'!$A:$B,2,FALSE)","v":0},{"$f":"VLOOKUP(WAVA!AK265,'Points Lookup'!$A:$B,2,FALSE)","v":0},{"$f":"VLOOKUP(WAVA!AL265,'Points Lookup'!$A:$B,2,FALSE)","v":0},{"$f":"VLOOKUP(WAVA!AM265,'Points Lookup'!$A:$B,2,FALSE)","v":0},{"$f":"VLOOKUP(WAVA!AN265,'Points Lookup'!$A:$B,2,FALSE)","v":0},{"$f":"VLOOKUP(WAVA!AO265,'Points Lookup'!$A:$B,2,FALSE)","v":0},{"$f":"VLOOKUP(WAVA!AP265,'Points Lookup'!$A:$B,2,FALSE)","v":0},{"$f":"VLOOKUP(WAVA!AQ265,'Points Lookup'!$A:$B,2,FALSE)","v":0},{"$f":"VLOOKUP(WAVA!AR265,'Points Lookup'!$A:$B,2,FALSE)","v":0},{"$f":"VLOOKUP(WAVA!AS265,'Points Lookup'!$A:$B,2,FALSE)","v":0},{"$f":"VLOOKUP(WAVA!AT265,'Points Lookup'!$A:$B,2,FALSE)","v":0},{"$f":"VLOOKUP(WAVA!AU265,'Points Lookup'!$A:$B,2,FALSE)","v":0},{"$f":"VLOOKUP(WAVA!AV265,'Points Lookup'!$A:$B,2,FALSE)","v":0},{"$f":"VLOOKUP(WAVA!AW265,'Points Lookup'!$A:$B,2,FALSE)","v":0},null,0,0,0,0,0,0,0,0]
[146,{"$f":"WAVA!C266","v":"Jen Willingham"},{"$f":"IF(ISBLANK(WAVA!F266),\"\",WAVA!F266)","v":"Second"},0,{"$f":"VLOOKUP(WAVA!AC266,'Points Lookup'!$A:$B,2,FALSE)","v":0},{"$f":"VLOOKUP(WAVA!AD266,'Points Lookup'!$A:$B,2,FALSE)","v":0},{"$f":"VLOOKUP(WAVA!AE266,'Points Lookup'!$A:$B,2,FALSE)","v":0},{"$f":"VLOOKUP(WAVA!AF266,'Points Lookup'!$A:$B,2,FALSE)","v":0},{"$f":"VLOOKUP(WAVA!AG266,'Points Lookup'!$A:$B,2,FALSE)","v":0},{"$f":"VLOOKUP(WAVA!AH266,'Points Lookup'!$A:$B,2,FALSE)","v":0},{"$f":"VLOOKUP(WAVA!AI266,'Points Lookup'!$A:$B,2,FALSE)","v":0},{"$f":"VLOOKUP(WAVA!AJ266,'Points Lookup'!$A:$B,2,FALSE)","v":0},{"$f":"VLOOKUP(WAVA!AK266,'Points Lookup'!$A:$B,2,FALSE)","v":0},{"$f":"VLOOKUP(WAVA!AL266,'Points Lookup'!$A:$B,2,FALSE)","v":0},{"$f":"VLOOKUP(WAVA!AM266,'Points Lookup'!$A:$B,2,FALSE)","v":0},{"$f":"VLOOKUP(WAVA!AN266,'Points Lookup'!$A:$B,2,FALSE)","v":0},{"$f":"VLOOKUP(WAVA!AO266,'Points Lookup'!$A:$B,2,FALSE)","v":0},{"$f":"VLOOKUP(WAVA!AP266,'Points Lookup'!$A:$B,2,FALSE)","v":0},{"$f":"VLOOKUP(WAVA!AQ266,'Points Lookup'!$A:$B,2,FALSE)","v":0},{"$f":"VLOOKUP(WAVA!AR266,'Points Lookup'!$A:$B,2,FALSE)","v":0},{"$f":"VLOOKUP(WAVA!AS266,'Points Lookup'!$A:$B,2,FALSE)","v":0},{"$f":"VLOOKUP(WAVA!AT266,'Points Lookup'!$A:$B,2,FALSE)","v":0},{"$f":"VLOOKUP(WAVA!AU266,'Points Lookup'!$A:$B,2,FALSE)","v":0},{"$f":"VLOOKUP(WAVA!AV266,'Points Lookup'!$A:$B,2,FALSE)","v":0},{"$f":"VLOOKUP(WAVA!AW266,'Points Lookup'!$A:$B,2,FALSE)","v":0},null,0,0,0,0,0,0,0,0]
[42,{"$f":"WAVA!C267","v":"Adam Willoughby"},{"$f":"IF(ISBLANK(WAVA!F267),\"\",WAVA!F267)","v":"Second"},194,{"$f":"VLOOKUP(WAVA!AC267,'Points Lookup'!$A:$B,2,FALSE)","v":0},{"$f":"VLOOKUP(WAVA!AD267,'Points Lookup'!$A:$B,2,FALSE)","v":46},{"$f":"VLOOKUP(WAVA!AE267,'Points Lookup'!$A:$B,2,FALSE)","v":49},{"$f":"VLOOKUP(WAVA!AF267,'Points Lookup'!$A:$B,2,FALSE)","v":0},{"$f":"VLOOKUP(WAVA!AG267,'Points Lookup'!$A:$B,2,FALSE)","v":0},{"$f":"VLOOKUP(WAVA!AH267,'Points Lookup'!$A:$B,2,FALSE)","v":0},{"$f":"VLOOKUP(WAVA!AI267,'Points Lookup'!$A:$B,2,FALSE)","v":0},{"$f":"VLOOKUP(WAVA!AJ267,'Points Lookup'!$A:$B,2,FALSE)","v":0},{"$f":"VLOOKUP(WAVA!AK267,'Points Lookup'!$A:$B,2,FALSE)","v":0},{"$f":"VLOOKUP(WAVA!AL267,'Points Lookup'!$A:$B,2,FALSE)","v":0},{"$f":"VLOOKUP(WAVA!AM267,'Points Lookup'!$A:$B,2,FALSE)","v":0},{"$f":"VLOOKUP(WAVA!AN267,'Points Lookup'!$A:$B,2,FALSE)","v":49},{"$f":"VLOOKUP(WAVA!AO267,'Points Lookup'!$A:$B,2,FALSE)","v":0},{"$f":"VLOOKUP(WAVA!AP267,'Points Lookup'!$A:$B,2,FALSE)","v":0},{"$f":"VLOOKUP(WAVA!AQ267,'Points Lookup'!$A:$B,2,FALSE)","v":0},{"$f":"VLOOKUP(WAVA!AR267,'Points Lookup'!$A:$B,2,FALSE)","v":0},{"$f":"VLOOKUP(WAVA!AS267,'Points Lookup'!$A:$B,2,FALSE)","v":0},{"$f":"VLOOKUP(WAVA!AT267,'Points Lookup'!$A:$B,2,FALSE)","v":50},{"$f":"VLOOKUP(WAVA!AU267,'Points Lookup'!$A:$B,2,FALSE)","v":0},{"$f":"VLOOKUP(WAVA!AV267,'Points Lookup'!$A:$B,2,FALSE)","v":0},{"$f":"VLOOKUP(WAVA!AW267,'Points Lookup'!$A:$B,2,FALSE)","v":0},null,50,49,49,46,0,0,0,0]
[145,{"$f":"WAVA!C268","v":"Nicola Willoughby"},{"$f":"IF(ISBLANK(WAVA!F268),\"\",WAVA!F268)","v":"Second"},26,{"$f":"VLOOKUP(WAVA!AC268,'Points Lookup'!$A:$B,2,FALSE)","v":0},{"$f":"VLOOKUP(WAVA!AD268,'Points Lookup'!$A:$B,2,FALSE)","v":26},{"$f":"VLOOKUP(WAVA!AE268,'Points Lookup'!$A:$B,2,FALSE)","v":0},{"$f":"VLOOKUP(WAVA!AF268,'Points Lookup'!$A:$B,2,FALSE)","v":0},{"$f":"VLOOKUP(WAVA!AG268,'Points Lookup'!$A:$B,2,FALSE)","v":0},{"$f":"VLOOKUP(WAVA!AH268,'Points Lookup'!$A:$B,2,FALSE)","v":0},{"$f":"VLOOKUP(WAVA!AI268,'Points Lookup'!$A:$B,2,FALSE)","v":0},{"$f":"VLOOKUP(WAVA!AJ268,'Points Lookup'!$A:$B,2,FALSE)","v":0},{"$f":"VLOOKUP(WAVA!AK268,'Points Lookup'!$A:$B,2,FALSE)","v":0},{"$f":"VLOOKUP(WAVA!AL268,'Points Lookup'!$A:$B,2,FALSE)","v":0},{"$f":"VLOOKUP(WAVA!AM268,'Points Lookup'!$A:$B,2,FALSE)","v":0},{"$f":"VLOOKUP(WAVA!AN268,'Points Lookup'!$A:$B,2,FALSE)","v":0},{"$f":"VLOOKUP(WAVA!AO268,'Points Lookup'!$A:$B,2,FALSE)","v":0},{"$f":"VLOOKUP(WAVA!AP268,'Points Lookup'!$A:$B,2,FALSE)","v":0},{"$f":"VLOOKUP(WAVA!AQ268,'Points Lookup'!$A:$B,2,FALSE)","v":0},{"$f":"VLOOKUP(WAVA!AR268,'Points Lookup'!$A:$B,2,FALSE)","v":0},{"$f":"VLOOKUP(WAVA!AS268,'Points Lookup'!$A:$B,2,FALSE)","v":0},{"$f":"VLOOKUP(WAVA!AT268,'Points Lookup'!$A:$B,2,FALSE)","v":0},{"$f":"VLOOKUP(WAVA!AU268,'Points Lookup'!$A:$B,2,FALSE)","v":0},{"$f":"VLOOKUP(WAVA!AV268,'Points Lookup'!$A:$B,2,FALSE)","v":0},{"$f":"VLOOKUP(WAVA!AW268,'Points Lookup'!$A:$B,2,FALSE)","v":0},null,26,0,0,0,0,0,0,0]
[146,{"$f":"WAVA!C269","v":"David Wilson"},{"$f":"IF(ISBLANK(WAVA!F269),\"\",WAVA!F269)","v":"Second"},0,{"$f":"VLOOKUP(WAVA!AC269,'Points Lookup'!$A:$B,2,FALSE)","v":0},{"$f":"VLOOKUP(WAVA!AD269,'Points Lookup'!$A:$B,2,FALSE)","v":0},{"$f":"VLOOKUP(WAVA!AE269,'Points Lookup'!$A:$B,2,FALSE)","v":0},{"$f":"VLOOKUP(WAVA!AF269,'Points Lookup'!$A:$B,2,FALSE)","v":0},{"$f":"VLOOKUP(WAVA!AG269,'Points Lookup'!$A:$B,2,FALSE)","v":0},{"$f":"VLOOKUP(WAVA!AH269,'Points Lookup'!$A:$B,2,FALSE)","v":0},{"$f":"VLOOKUP(WAVA!AI269,'Points Lookup'!$A:$B,2,FALSE)","v":0},{"$f":"VLOOKUP(WAVA!AJ269,'Points Lookup'!$A:$B,2,FALSE)","v":0},{"$f":"VLOOKUP(WAVA!AK269,'Points Lookup'!$A:$B,2,FALSE)","v":0},{"$f":"VLOOKUP(WAVA!AL269,'Points Lookup'!$A:$B,2,FALSE)","v":0},{"$f":"VLOOKUP(WAVA!AM269,'Points Lookup'!$A:$B,2,FALSE)","v":0},{"$f":"VLOOKUP(WAVA!AN269,'Points Lookup'!$A:$B,2,FALSE)","v":0},{"$f":"VLOOKUP(WAVA!AO269,'Points Lookup'!$A:$B,2,FALSE)","v":0},{"$f":"VLOOKUP(WAVA!AP269,'Points Lookup'!$A:$B,2,FALSE)","v":0},{"$f":"VLOOKUP(WAVA!AQ269,'Points Lookup'!$A:$B,2,FALSE)","v":0},{"$f":"VLOOKUP(WAVA!AR269,'Points Lookup'!$A:$B,2,FALSE)","v":0},{"$f":"VLOOKUP(WAVA!AS269,'Points Lookup'!$A:$B,2,FALSE)","v":0},{"$f":"VLOOKUP(WAVA!AT269,'Points Lookup'!$A:$B,2,FALSE)","v":0},{"$f":"VLOOKUP(WAVA!AU269,'Points Lookup'!$A:$B,2,FALSE)","v":0},{"$f":"VLOOKUP(WAVA!AV269,'Points Lookup'!$A:$B,2,FALSE)","v":0},{"$f":"VLOOKUP(WAVA!AW269,'Points Lookup'!$A:$B,2,FALSE)","v":0},null,0,0,0,0,0,0,0,0]
[146,{"$f":"WAVA!C270","v":"Sebastian Wojciechowski"},{"$f":"IF(ISBLANK(WAVA!F270),\"\",WAVA!F270)","v":"Second"},0,{"$f":"VLOOKUP(WAVA!AC270,'Points Lookup'!$A:$B,2,FALSE)","v":0},{"$f":"VLOOKUP(WAVA!AD270,'Points Lookup'!$A:$B,2,FALSE)","v":0},{"$f":"VLOOKUP(WAVA!AE270,'Points Lookup'!$A:$B,2,FALSE)","v":0},{"$f":"VLOOKUP(WAVA!AF270,'Points Lookup'!$A:$B,2,FALSE)","v":0},{"$f":"VLOOKUP(WAVA!AG270,'Points Lookup'!$A:$B,2,FALSE)","v":0},{"$f":"VLOOKUP(WAVA!AH270,'Points Lookup'!$A:$B,2,FALSE)","v":0},{"$f":"VLOOKUP(WAVA!AI270,'Points Lookup'!$A:$B,2,FALSE)","v":0},{"$f":"VLOOKUP(WAVA!AJ270,'Points Lookup'!$A:$B,2,FALSE)","v":0},{"$f":"VLOOKUP(WAVA!AK270,'Points Lookup'!$A:$B,2,FALSE)","v":0},{"$f":"VLOOKUP(WAVA!AL270,'Points Lookup'!$A:$B,2,FALSE)","v":0},{"$f":"VLOOKUP(WAVA!AM270,'Points Lookup'!$A:$B,2,FALSE)","v":0},{"$f":"VLOOKUP(WAVA!AN270,'Points Lookup'!$A:$B,2,FALSE)","v":0},{"$f":"VLOOKUP(WAVA!AO270,'Points Lookup'!$A:$B,2,FALSE)","v":0},{"$f":"VLOOKUP(WAVA!AP270,'Points Lookup'!$A:$B,2,FALSE)","v":0},{"$f":"VLOOKUP(WAVA!AQ270,'Points Lookup'!$A:$B,2,FALSE)","v":0},{"$f":"VLOOKUP(WAVA!AR270,'Points Lookup'!$A:$B,2,FALSE)","v":0},{"$f":"VLOOKUP(WAVA!AS270,'Points Lookup'!$A:$B,2,FALSE)","v":0},{"$f":"VLOOKUP(WAVA!AT270,'Points Lookup'!$A:$B,2,FALSE)","v":0},{"$f":"VLOOKUP(WAVA!AU270,'Points Lookup'!$A:$B,2,FALSE)","v":0},{"$f":"VLOOKUP(WAVA!AV270,'Points Lookup'!$A:$B,2,FALSE)","v":0},{"$f":"VLOOKUP(WAVA!AW270,'Points Lookup'!$A:$B,2,FALSE)","v":0},null,0,0,0,0,0,0,0,0]
[81,{"$f":"WAVA!C271","v":"Kerry Wood"},{"$f":"IF(ISBLANK(WAVA!F271),\"\",WAVA!F271)","v":"Second"},88,{"$f":"VLOOKUP(WAVA!AC271,'Points Lookup'!$A:$B,2,FALSE)","v":0},{"$f":"VLOOKUP(WAVA!AD271,'Points Lookup'!$A:$B,2,FALSE)","v":0},{"$f":"VLOOKUP(WAVA!AE271,'Points Lookup'!$A:$B,2,FALSE)","v":0},{"$f":"VLOOKUP(WAVA!AF271,'Points Lookup'!$A:$B,2,FALSE)","v":0},{"$f":"VLOOKUP(WAVA!AG271,'Points Lookup'!$A:$B,2,FALSE)","v":43},{"$f":"VLOOKUP(WAVA!AH271,'Points Lookup'!$A:$B,2,FALSE)","v":0},{"$f":"VLOOKUP(WAVA!AI271,'Points Lookup'!$A:$B,2,FALSE)","v":0},{"$f":"VLOOKUP(WAVA!AJ271,'Points Lookup'!$A:$B,2,FALSE)","v":0},{"$f":"VLOOKUP(WAVA!AK271,'Points Lookup'!$A:$B,2,FALSE)","v":0},{"$f":"VLOOKUP(WAVA!AL271,'Points Lookup'!$A:$B,2,FALSE)","v":0},{"$f":"VLOOKUP(WAVA!AM271,'Points Lookup'!$A:$B,2,FALSE)","v":0},{"$f":"VLOOKUP(WAVA!AN271,'Points Lookup'!$A:$B,2,FALSE)","v":45},{"$f":"VLOOKUP(WAVA!AO271,'Points Lookup'!$A:$B,2,FALSE)","v":0},{"$f":"VLOOKUP(WAVA!AP271,'Points Lookup'!$A:$B,2,FALSE)","v":0},{"$f":"VLOOKUP(WAVA!AQ271,'Points Lookup'!$A:$B,2,FALSE)","v":0},{"$f":"VLOOKUP(WAVA!AR271,'Points Lookup'!$A:$B,2,FALSE)","v":0},{"$f":"VLOOKUP(WAVA!AS271,'Points Lookup'!$A:$B,2,FALSE)","v":0},{"$f":"VLOOKUP(WAVA!AT271,'Points Lookup'!$A:$B,2,FALSE)","v":0},{"$f":"VLOOKUP(WAVA!AU271,'Points Lookup'!$A:$B,2,FALSE)","v":0},{"$f":"VLOOKUP(WAVA!AV271,'Points Lookup'!$A:$B,2,FALSE)","v":0},{"$f":"VLOOKUP(WAVA!AW271,'Points Lookup'!$A:$B,2,FALSE)","v":0},null,45,43,0,0,0,0,0,0]
[146,{"$f":"WAVA!C272","v":"Charlotte Woollard"},{"$f":"IF(ISBLANK(WAVA!F272),\"\",WAVA!F272)","v":"Second"},0,{"$f":"VLOOKUP(WAVA!AC272,'Points Lookup'!$A:$B,2,FALSE)","v":0},{"$f":"VLOOKUP(WAVA!AD272,'Points Lookup'!$A:$B,2,FALSE)","v":0},{"$f":"VLOOKUP(WAVA!AE272,'Points Lookup'!$A:$B,2,FALSE)","v":0},{"$f":"VLOOKUP(WAVA!AF272,'Points Lookup'!$A:$B,2,FALSE)","v":0},{"$f":"VLOOKUP(WAVA!AG272,'Points Lookup'!$A:$B,2,FALSE)","v":0},{"$f":"VLOOKUP(WAVA!AH272,'Points Lookup'!$A:$B,2,FALSE)","v":0},{"$f":"VLOOKUP(WAVA!AI272,'Points Lookup'!$A:$B,2,FALSE)","v":0},{"$f":"VLOOKUP(WAVA!AJ272,'Points Lookup'!$A:$B,2,FALSE)","v":0},{"$f":"VLOOKUP(WAVA!AK272,'Points Lookup'!$A:$B,2,FALSE)","v":0},{"$f":"VLOOKUP(WAVA!AL272,'Points Lookup'!$A:$B,2,FALSE)","v":0},{"$f":"VLOOKUP(WAVA!AM272,'Points Lookup'!$A:$B,2,FALSE)","v":0},{"$f":"VLOOKUP(WAVA!AN272,'Points Lookup'!$A:$B,2,FALSE)","v":0},{"$f":"VLOOKUP(WAVA!AO272,'Points Lookup'!$A:$B,2,FALSE)","v":0},{"$f":"VLOOKUP(WAVA!AP272,'Points Lookup'!$A:$B,2,FALSE)","v":0},{"$f":"VLOOKUP(WAVA!AQ272,'Points Lookup'!$A:$B,2,FALSE)","v":0},{"$f":"VLOOKUP(WAVA!AR272,'Points Lookup'!$A:$B,2,FALSE)","v":0},{"$f":"VLOOKUP(WAVA!AS272,'Points Lookup'!$A:$B,2,FALSE)","v":0},{"$f":"VLOOKUP(WAVA!AT272,'Points Lookup'!$A:$B,2,FALSE)","v":0},{"$f":"VLOOKUP(WAVA!AU272,'Points Lookup'!$A:$B,2,FALSE)","v":0},{"$f":"VLOOKUP(WAVA!AV272,'Points Lookup'!$A:$B,2,FALSE)","v":0},{"$f":"VLOOKUP(WAVA!AW272,'Points Lookup'!$A:$B,2,FALSE)","v":0},null,0,0,0,0,0,0,0,0]
[107,{"$f":"WAVA!C273","v":"Jeremy Wright"},{"$f":"IF(ISBLANK(WAVA!F273),\"\",WAVA!F273)","v":"First"},49,{"$f":"VLOOKUP(WAVA!AC273,'Points Lookup'!$A:$B,2,FALSE)","v":0},{"$f":"VLOOKUP(WAVA!AD273,'Points Lookup'!$A:$B,2,FALSE)","v":0},{"$f":"VLOOKUP(WAVA!AE273,'Points Lookup'!$A:$B,2,FALSE)","v":0},{"$f":"VLOOKUP(WAVA!AF273,'Points Lookup'!$A:$B,2,FALSE)","v":0},{"$f":"VLOOKUP(WAVA!AG273,'Points Lookup'!$A:$B,2,FALSE)","v":0},{"$f":"VLOOKUP(WAVA!AH273,'Points Lookup'!$A:$B,2,FALSE)","v":0},{"$f":"VLOOKUP(WAVA!AI273,'Points Lookup'!$A:$B,2,FALSE)","v":0},{"$f":"VLOOKUP(WAVA!AJ273,'Points Lookup'!$A:$B,2,FALSE)","v":0},{"$f":"VLOOKUP(WAVA!AK273,'Points Lookup'!$A:$B,2,FALSE)","v":0},{"$f":"VLOOKUP(WAVA!AL273,'Points Lookup'!$A:$B,2,FALSE)","v":0},{"$f":"VLOOKUP(WAVA!AM273,'Points Lookup'!$A:$B,2,FALSE)","v":0},{"$f":"VLOOKUP(WAVA!AN273,'Points Lookup'!$A:$B,2,FALSE)","v":0},{"$f":"VLOOKUP(WAVA!AO273,'Points Lookup'!$A:$B,2,FALSE)","v":0},{"$f":"VLOOKUP(WAVA!AP273,'Points Lookup'!$A:$B,2,FALSE)","v":0},{"$f":"VLOOKUP(WAVA!AQ273,'Points Lookup'!$A:$B,2,FALSE)","v":49},{"$f":"VLOOKUP(WAVA!AR273,'Points Lookup'!$A:$B,2,FALSE)","v":0},{"$f":"VLOOKUP(WAVA!AS273,'Points Lookup'!$A:$B,2,FALSE)","v":0},{"$f":"VLOOKUP(WAVA!AT273,'Points Lookup'!$A:$B,2,FALSE)","v":0},{"$f":"VLOOKUP(WAVA!AU273,'Points Lookup'!$A:$B,2,FALSE)","v":0},{"$f":"VLOOKUP(WAVA!AV273,'Points Lookup'!$A:$B,2,FALSE)","v":0},{"$f":"VLOOKUP(WAVA!AW273,'Points Lookup'!$A:$B,2,FALSE)","v":0},null,{"$f":"LARGE($E272:$Y272,AA$1)","v":49},0,0,0,0,0,0,0]
[82,{"$f":"WAVA!C274","v":"Kamil Zakowski"},{"$f":"IF(ISBLANK(WAVA!F274),\"\",WAVA!F274)","v":"First"},{"$f":"SUM(AA273:AH273)","v":87},{"$f":"VLOOKUP(WAVA!AC274,'Points Lookup'!$A:$B,2,FALSE)","v":0},{"$f":"VLOOKUP(WAVA!AD274,'Points Lookup'!$A:$B,2,FALSE)","v":40},{"$f":"VLOOKUP(WAVA!AE274,'Points Lookup'!$A:$B,2,FALSE)","v":0},{"$f":"VLOOKUP(WAVA!AF274,'Points Lookup'!$A:$B,2,FALSE)","v":0},{"$f":"VLOOKUP(WAVA!AG274,'Points Lookup'!$A:$B,2,FALSE)","v":0},{"$f":"VLOOKUP(WAVA!AH274,'Points Lookup'!$A:$B,2,FALSE)","v":0},{"$f":"VLOOKUP(WAVA!AI274,'Points Lookup'!$A:$B,2,FALSE)","v":0},{"$f":"VLOOKUP(WAVA!AJ274,'Points Lookup'!$A:$B,2,FALSE)","v":0},{"$f":"VLOOKUP(WAVA!AK274,'Points Lookup'!$A:$B,2,FALSE)","v":0},{"$f":"VLOOKUP(WAVA!AL274,'Points Lookup'!$A:$B,2,FALSE)","v":0},{"$f":"VLOOKUP(WAVA!AM274,'Points Lookup'!$A:$B,2,FALSE)","v":0},{"$f":"VLOOKUP(WAVA!AN274,'Points Lookup'!$A:$B,2,FALSE)","v":0},{"$f":"VLOOKUP(WAVA!AO274,'Points Lookup'!$A:$B,2,FALSE)","v":0},{"$f":"VLOOKUP(WAVA!AP274,'Points Lookup'!$A:$B,2,FALSE)","v":0},{"$f":"VLOOKUP(WAVA!AQ274,'Points Lookup'!$A:$B,2,FALSE)","v":0},{"$f":"VLOOKUP(WAVA!AR274,'Points Lookup'!$A:$B,2,FALSE)","v":47},{"$f":"VLOOKUP(WAVA!AS274,'Points Lookup'!$A:$B,2,FALSE)","v":0},{"$f":"VLOOKUP(WAVA!AT274,'Points Lookup'!$A:$B,2,FALSE)","v":0},{"$f":"VLOOKUP(WAVA!AU274,'Points Lookup'!$A:$B,2,FALSE)","v":0},{"$f":"VLOOKUP(WAVA!AV274,'Points Lookup'!$A:$B,2,FALSE)","v":0},{"$f":"VLOOKUP(WAVA!AW274,'Points Lookup'!$A:$B,2,FALSE)","v":0},null,47,40,0,0,0,0,0,0]

{"sheet":"Dewsbury","index":4,"n_rows":31,"n_cols":10,"rows_kept":31,"cut":false,"hidden":false,"merged":[]}
["Based on Male & Female Road Age Standards in Seconds WMA and USATF, 2010"]
["Male",null,"Name","Time","Age","Age standard","Age standard/s","Actual/s","Graded","Rank"]
["Graham","Corbett",{"$f":"CONCATENATE(A3,\" \",B3)","v":"Graham Corbett"},"00:35:02",{"$f":"VLOOKUP(C3,WAVA!$C$3:$E$299,3,FALSE)","v":37},{"$f":"VLOOKUP(E3,'AgeStdHMS (Men)'!$A$2:$U$100,7,)","v":"00:27:47"},{"$f":"CONVERT(F3,\"day\",\"sec\")","v":1667},{"$f":"CONVERT(D3,\"day\",\"sec\")","v":2102},{"$f":"G3/H3","v":0.79305423406279729},{"$f":"RANK(I3,$I$3:$I$55,0)","v":2}]
["Ian","Jenkins","Ian Jenkins","00:41:30",{"$f":"VLOOKUP(C4,WAVA!$C$3:$E$299,3,FALSE)","v":46},{"$f":"VLOOKUP(E4,'AgeStdHMS (Men)'!$A$2:$U$100,7,)","v":"00:29:44"},{"$f":"CONVERT(F4,\"day\",\"sec\")","v":1784},2490,{"$f":"G4/H4","v":0.71646586345381524},{"$f":"RANK(I4,$I$3:$I$55,0)","v":8}]
["Stewart","Spink","Stewart Spink","00:41:30",{"$f":"VLOOKUP(C5,WAVA!$C$3:$E$299,3,FALSE)","v":48},{"$f":"VLOOKUP(E5,'AgeStdHMS (Men)'!$A$2:$U$100,7,)","v":"00:30:13"},1813,2490,0.72811244979919676,6]
["Chris","Stott","Chris Stott","00:43:24",{"$f":"VLOOKUP(C6,WAVA!$C$3:$E$299,3,FALSE)","v":38},{"$f":"VLOOKUP(E6,'AgeStdHMS (Men)'!$A$2:$U$100,7,)","v":"00:28:00"},1680,2603.9999999999995,0.64516129032258074,13]
["John","Singh","John Singh","00:44:21",{"$f":"VLOOKUP(C7,WAVA!$C$3:$E$299,3,FALSE)","v":34},{"$f":"VLOOKUP(E7,'AgeStdHMS (Men)'!$A$2:$U$100,7,)","v":"00:27:17"},1637,2661,0.61518226230740325,17]
["Tim","Mosedale","Tim Mosedale","00:45:17",{"$f":"VLOOKUP(C8,WAVA!$C$3:$E$299,3,FALSE)","v":36},{"$f":"VLOOKUP(E8,'AgeStdHMS (Men)'!$A$2:$U$100,7,)","v":"00:27:36"},1655.9999999999998,2717,0.60949576739050415,20]
["Ewan","Gibb","Ewan Gibb","00:44:42",{"$f":"VLOOKUP(C9,WAVA!$C$3:$E$299,3,FALSE)","v":29},{"$f":"VLOOKUP(E9,'AgeStdHMS (Men)'!$A$2:$U$100,7,)","v":"00:26:52"},1612,2682,0.60104399701715139,23]
["Simon","Frazer","Jack Verity","00:46:01",{"$f":"VLOOKUP(C10,WAVA!$C$3:$E$299,3,FALSE)","v":59},{"$f":"VLOOKUP(E10,'AgeStdHMS (Men)'!$A$2:$U$100,7,)","v":"00:33:06"},1986,2760.9999999999995,0.71930459978268757,7]
["Gary","Pennington","Gary Pennington","00:47:28",{"$f":"VLOOKUP(C11,WAVA!$C$3:$E$299,3,FALSE)","v":52},{"$f":"VLOOKUP(E11,'AgeStdHMS (Men)'!$A$2:$U$100,7,)","v":"00:31:12"},1872,2848,0.65730337078651691,12]
["Alun","Griffiths","Alun Griffiths","00:48:47",{"$f":"VLOOKUP(C12,WAVA!$C$3:$E$299,3,FALSE)","v":59},{"$f":"VLOOKUP(E12,'AgeStdHMS (Men)'!$A$2:$U$100,7,)","v":"00:33:06"},1986,2926.9999999999995,0.67851042022548691,11]
["Barney","Lerner","Barney Lerner","00:50:12",{"$f":"VLOOKUP(C13,WAVA!$C$3:$E$299,3,FALSE)","v":66},{"$f":"VLOOKUP(E13,'AgeStdHMS (Men)'!$A$2:$U$100,7,)","v":"00:35:14"},{"$f":"CONVERT(F13,\"day\",\"sec\")","v":2114},3012,0.70185922974767601,9]
["Mohanlal","Mistry","Mohanlal Mistry","00:50:09",{"$f":"VLOOKUP(C14,WAVA!$C$3:$E$299,3,FALSE)","v":55},{"$f":"VLOOKUP(E14,'AgeStdHMS (Men)'!$A$2:$U$100,7,)","v":"00:31:59"},1919.0000000000002,3008.9999999999995,0.63775340644732481,14]
["Richard","Smith","Richard Smith","00:55:59",{"$f":"VLOOKUP(C15,WAVA!$C$3:$E$299,3,FALSE)","v":58},{"$f":"VLOOKUP(E15,'AgeStdHMS (Men)'!$A$2:$U$100,7,)","v":"00:32:48"},1968,3359,0.5858886573384936,26]
[]
["Female"]
["Rachel","Boyd",{"$f":"CONCATENATE(A18,\" \",B18)","v":"Rachel Boyd"},"00:38:31",25,{"$f":"VLOOKUP(E18,'AgeStdHMS (Women)'!$A$5:$U$100,7,)","v":"00:30:20"},{"$f":"CONVERT(F18,\"day\",\"sec\")","v":1820},{"$f":"CONVERT(D18,\"day\",\"sec\")","v":2311},{"$f":"G18/H18","v":0.78753786239723067},3]
["Bernie","Bowden","Bernie Bowden","00:43:50",{"$f":"VLOOKUP(C19,WAVA!$C$3:$E$299,3,FALSE)","v":46},{"$f":"VLOOKUP(E19,'AgeStdHMS (Women)'!$A$5:$U$100,7,)","v":"00:32:51"},{"$f":"CONVERT(F19,\"day\",\"sec\")","v":1971},{"$f":"CONVERT(D19,\"day\",\"sec\")","v":2630.0000000000005},{"$f":"G19/H19","v":0.74942965779467663},5]
["Tracy","Foy","Tracy Foy","00:47:48",{"$f":"VLOOKUP(C20,WAVA!$C$3:$E$299,3,FALSE)","v":46},{"$f":"VLOOKUP(E20,'AgeStdHMS (Women)'!$A$5:$U$100,7,)","v":"00:32:51"},1971,2868,0.68723849372384938,10]
["Helen","Love","Helen Love","00:49:18",{"$f":"VLOOKUP(C21,WAVA!$C$3:$E$299,3,FALSE)","v":59},{"$f":"VLOOKUP(E21,'AgeStdHMS (Women)'!$A$5:$U$100,7,)","v":"00:38:39"},2319,2958,0.78397565922920898,4]
["Mel","Akeroyd","Mel Akeroyd","00:50:31",{"$f":"VLOOKUP(C22,WAVA!$C$3:$E$299,3,FALSE)","v":37},{"$f":"VLOOKUP(E22,'AgeStdHMS (Women)'!$A$5:$U$100,7,)","v":"00:30:51"},1851,3031,0.61068954140547671,19]
["Helen","Brant","Helen Brant","00:50:51",{"$f":"VLOOKUP(C23,WAVA!$C$3:$E$299,3,FALSE)","v":35},{"$f":"VLOOKUP(E23,'AgeStdHMS (Women)'!$A$5:$U$100,7,)","v":"00:30:38"},1838,3051.0000000000005,0.60242543428384132,22]
["Denise","Davis","Denise Davis","00:54:37",{"$f":"VLOOKUP(C24,WAVA!$C$3:$E$299,3,FALSE)","v":48},{"$f":"VLOOKUP(E24,'AgeStdHMS (Women)'!$A$5:$U$100,7,)","v":"00:33:33"},2013,3277,0.61428135489777236,18]
["Gillian","Hyde","Gillian Hyde","00:54:50",{"$f":"VLOOKUP(C25,WAVA!$C$3:$E$299,3,FALSE)","v":51},{"$f":"VLOOKUP(E25,'AgeStdHMS (Women)'!$A$5:$U$100,7,)","v":"00:34:47"},2087,3290,0.63434650455927055,15]
["Josephine","Briggs","Josephine Briggs","00:55:19",{"$f":"VLOOKUP(C26,WAVA!$C$3:$E$299,3,FALSE)","v":48},{"$f":"VLOOKUP(E26,'AgeStdHMS (Women)'!$A$5:$U$100,7,)","v":"00:33:33"},2013,3319,0.60650798433263031,21]
["Sylvia","Ross","Sylvia Ross","00:55:37",{"$f":"VLOOKUP(C27,WAVA!$C$3:$E$299,3,FALSE)","v":69},{"$f":"VLOOKUP(E27,'AgeStdHMS (Women)'!$A$5:$U$100,7,)","v":"00:44:54"},2694,3337,0.80731195684746782,1]
["Fiona","Farquhar","Fiona Farquhar","00:55:51",{"$f":"VLOOKUP(C28,WAVA!$C$3:$E$299,3,FALSE)","v":48},{"$f":"VLOOKUP(E28,'AgeStdHMS (Women)'!$A$5:$U$100,7,)","v":"00:33:33"},2013,3351.0000000000005,0.60071620411817361,24]
["Suzanne","Hague","Suzanne Hague","00:56:09",{"$f":"VLOOKUP(C29,WAVA!$C$3:$E$299,3,FALSE)","v":51},{"$f":"VLOOKUP(E29,'AgeStdHMS (Women)'!$A$5:$U$100,7,)","v":"00:34:47"},2087,3368.9999999999995,0.61947165330958753,16]
["Alexandra","Ayling","Alexandra Ayling","01:01:00",{"$f":"VLOOKUP(C30,WAVA!$C$3:$E$299,3,FALSE)","v":51},{"$f":"VLOOKUP(E30,'AgeStdHMS (Women)'!$A$5:$U$100,7,)","v":"00:34:47"},2087,3659.9999999999995,0.57021857923497277,27]
["Urmila","Mistry","Urmila Mistry","01:00:18",{"$f":"VLOOKUP(C31,WAVA!$C$3:$E$299,3,FALSE)","v":54},{"$f":"VLOOKUP(E31,'AgeStdHMS (Women)'!$A$5:$U$100,7,)","v":"00:36:09"},2169,3617.9999999999995,0.59950248756218916,25]

{"sheet":"Bradford","index":5,"n_rows":62,"n_cols":12,"rows_kept":62,"cut":false,"hidden":false,"merged":[]}
["Based on Male & Female Road Age Standards in Seconds WMA and USATF, 2010"]
["Male",null,"Name","Time","Age","Age standard","Age standard/s","Actual/s","Graded","Rank",null,"WAVA"]
["Martin","Fillingham",{"$f":"CONCATENATE(A3,\" \",B3)","v":"Martin Fillingham"},"00:37:13",{"$f":"VLOOKUP(C3,WAVA!$C$3:$E$299,3,TRUE)","v":39},{"$f":"VLOOKUP(E3,'AgeStdHMS (Men)'!$A$5:$U$100,7,)","v":"00:28:12"},{"$f":"CONVERT(F3,\"day\",\"sec\")","v":1692},{"$f":"CONVERT(D3,\"day\",\"sec\")","v":2233.0000000000005},{"$f":"G3/H3","v":0.75772503358710241},{"$f":"RANK(I3,$I$3:$I$66,0)","v":6},null,{"$f":"F3/D3","v":0.75772503358710253}]
["Stuart","Dunbar","Stuart Dunbar","00:38:03",{"$f":"VLOOKUP(C4,WAVA!$C$3:$E$299,3,FALSE)","v":54},{"$f":"VLOOKUP(E4,'AgeStdHMS (Men)'!$A$5:$U$100,7,)","v":"00:31:43"},{"$f":"CONVERT(F4,\"day\",\"sec\")","v":1903},{"$f":"CONVERT(D4,\"day\",\"sec\")","v":2283},{"$f":"G4/H4","v":0.83355234340779671},{"$f":"RANK(I4,$I$3:$I$66,0)","v":1},null,{"$f":"F4/D4","v":0.83355234340779683}]
["Matthew","Richardson","Matthew Richardson","00:38:43",{"$f":"VLOOKUP(C5,WAVA!$C$3:$E$299,3,FALSE)","v":33},{"$f":"VLOOKUP(E5,'AgeStdHMS (Men)'!$A$5:$U$100,7,)","v":"00:27:10"},1630,2323,0.70167886353852782,10,null,0.70167886353852771]
["Simon","Frazer","Simon Frazer","00:39:30",{"$f":"VLOOKUP(C6,WAVA!$C$3:$E$299,3,FALSE)","v":42},{"$f":"VLOOKUP(E6,'AgeStdHMS (Men)'!$A$5:$U$100,7,)","v":"00:28:50"},1730,2370,0.72995780590717296,7,null,0.72995780590717296]
["Benjamin","Pearson","Benjamin Pearson","00:41:07",{"$f":"VLOOKUP(C7,WAVA!$C$3:$E$299,3,FALSE)","v":25},{"$f":"VLOOKUP(E7,'AgeStdHMS (Men)'!$A$5:$U$100,7,)","v":"00:26:51"},1611,2467,0.65301986218078634,15,null,0.65301986218078645]
["Ewan","Gibb","Ewan Gibb","00:41:53",{"$f":"VLOOKUP(C8,WAVA!$C$3:$E$299,3,FALSE)","v":29},{"$f":"VLOOKUP(E8,'AgeStdHMS (Men)'!$A$5:$U$100,7,)","v":"00:26:52"},1612,2512.9999999999995,0.64146438519697579,17,null,0.64146438519697579]
["Adam","Willoughby","Adam Willoughby","00:41:56",{"$f":"VLOOKUP(C9,WAVA!$C$3:$E$299,3,FALSE)","v":29},{"$f":"VLOOKUP(E9,'AgeStdHMS (Men)'!$A$5:$U$100,7,)","v":"00:26:52"},1612,2515.9999999999995,0.64069952305246436,18,null,0.64069952305246436]
["Ian","Jenkins","Ian Jenkins","00:42:18",{"$f":"VLOOKUP(C10,WAVA!$C$3:$E$299,3,FALSE)","v":46},{"$f":"VLOOKUP(E10,'AgeStdHMS (Men)'!$A$5:$U$100,7,)","v":"00:29:44"},1784,2538,0.70291568163908591,9,null,0.70291568163908591]
["Steven","Maude","Steven Maude","00:42:42",{"$f":"VLOOKUP(C11,WAVA!$C$3:$E$299,3,FALSE)","v":37},{"$f":"VLOOKUP(E11,'AgeStdHMS (Men)'!$A$5:$U$100,7,)","v":"00:27:47"},1667,2562.0000000000005,0.65066354410616689,16,null,0.650663544106167]
["Duane","Craven","Duane Craven","00:43:28",{"$f":"VLOOKUP(C12,WAVA!$C$3:$E$299,3,FALSE)","v":44},{"$f":"VLOOKUP(E12,'AgeStdHMS (Men)'!$A$5:$U$100,7,)","v":"00:29:17"},1757,2608,0.67369631901840488,11,null,0.67369631901840488]
["Alan","Douglas","Alan Douglas","00:44:49",{"$f":"VLOOKUP(C13,WAVA!$C$3:$E$299,3,FALSE)","v":47},{"$f":"VLOOKUP(E13,'AgeStdHMS (Men)'!$A$5:$U$100,7,)","v":"00:29:58"},1798,2689,0.66865005578281889,13,null,0.66865005578281889]
["Simon","Furlong","Simon Furlong","00:45:44",{"$f":"VLOOKUP(C14,WAVA!$C$3:$E$299,3,FALSE)","v":29},{"$f":"VLOOKUP(E14,'AgeStdHMS (Men)'!$A$5:$U$100,7,)","v":"00:26:52"},1612,2744,0.58746355685131191,27,null,0.58746355685131202]
["Jack","Verity","Jack Verity","00:46:51",{"$f":"VLOOKUP(C15,WAVA!$C$3:$E$299,3,FALSE)","v":59},{"$f":"VLOOKUP(E15,'AgeStdHMS (Men)'!$A$5:$U$100,7,)","v":"00:33:06"},1986,2811,0.70651013874066171,8,null,0.70651013874066171]
["Ambrose","Griffiths","Ambrose Griffiths","00:48:03",{"$f":"VLOOKUP(C16,WAVA!$C$3:$E$299,3,FALSE)","v":37},{"$f":"VLOOKUP(E16,'AgeStdHMS (Men)'!$A$5:$U$100,7,)","v":"00:27:47"},1667,2883,0.57821713492889348,32,null,0.57821713492889359]
["Gavin","Hamilton","Gavin Hamilton","00:48:48",{"$f":"VLOOKUP(C17,WAVA!$C$3:$E$299,3,FALSE)","v":40},{"$f":"VLOOKUP(E17,'AgeStdHMS (Men)'!$A$5:$U$100,7,)","v":"00:28:25"},1705.0000000000002,2927.9999999999995,0.58230874316939907,31,null,0.58230874316939907]
["Noel","Fitzpatrick","Noel Fitzpatrick","00:48:59",{"$f":"VLOOKUP(C18,WAVA!$C$3:$E$299,3,FALSE)","v":47},{"$f":"VLOOKUP(E18,'AgeStdHMS (Men)'!$A$5:$U$100,7,)","v":"00:29:58"},1798,2939.0000000000005,0.61177271180673687,21,null,0.61177271180673687]
["Kamil","Zakowski","Kamil Zakowski","00:49:19",{"$f":"VLOOKUP(C19,WAVA!$C$3:$E$299,3,FALSE)","v":27},{"$f":"VLOOKUP(E19,'AgeStdHMS (Men)'!$A$5:$U$100,7,)","v":"00:26:51"},1611,2959,0.54444068942210211,42,null,0.544440689422102]
["Craig","Elliott","Craig Elliott","00:49:32",{"$f":"VLOOKUP(C20,WAVA!$C$3:$E$299,3,FALSE)","v":43},{"$f":"VLOOKUP(E20,'AgeStdHMS (Men)'!$A$5:$U$100,7,)","v":"00:29:04"},1744,2971.9999999999995,0.5868102288021535,29,null,0.5868102288021535]
["Alun","Griffiths","Alun Griffiths","00:49:44",{"$f":"VLOOKUP(C21,WAVA!$C$3:$E$299,3,FALSE)","v":59},{"$f":"VLOOKUP(E21,'AgeStdHMS (Men)'!$A$5:$U$100,7,)","v":"00:33:06"},1986,2984.0000000000005,0.66554959785522783,14,null,0.66554959785522783]
["Sikander","Khan","Sikander Khan","00:50:01",{"$f":"VLOOKUP(C22,WAVA!$C$3:$E$299,3,FALSE)","v":35},{"$f":"VLOOKUP(E22,'AgeStdHMS (Men)'!$A$5:$U$100,7,)","v":"00:27:26"},1646,3000.9999999999995,0.54848383872042661,41,null,0.54848383872042661]
["Megan","Paul","Megan Paul","00:50:10",{"$f":"VLOOKUP(C23,WAVA!$C$3:$E$299,3,FALSE)","v":29},{"$f":"VLOOKUP(E23,'AgeStdHMS (Men)'!$A$5:$U$100,7,)","v":"00:26:52"},1612,3009.9999999999995,0.53554817275747513,46,null,0.53554817275747513]
["Mohanlal","Mistry","Mohanlal Mistry","00:50:18",{"$f":"VLOOKUP(C24,WAVA!$C$3:$E$299,3,FALSE)","v":55},{"$f":"VLOOKUP(E24,'AgeStdHMS (Men)'!$A$5:$U$100,7,)","v":"00:31:59"},1919.0000000000002,3018,0.63585155732273035,19,null,0.63585155732273035]
["Gareth","Ward","Gareth Ward","00:51:42",{"$f":"VLOOKUP(C25,WAVA!$C$3:$E$299,3,FALSE)","v":37},{"$f":"VLOOKUP(E25,'AgeStdHMS (Men)'!$A$5:$U$100,7,)","v":"00:27:47"},1667,3102,0.53739522888459057,45,null,0.53739522888459057]
["Mark","Walker","Mark Walker","00:54:45",{"$f":"VLOOKUP(C26,WAVA!$C$3:$E$299,3,FALSE)","v":53},{"$f":"VLOOKUP(E26,'AgeStdHMS (Men)'!$A$5:$U$100,7,)","v":"00:31:27"},1887,3284.9999999999995,0.57442922374429228,33,null,0.57442922374429228]
["Nick","Breare","Nick Breare","00:56:57",{"$f":"VLOOKUP(C27,WAVA!$C$3:$E$299,3,FALSE)","v":67},{"$f":"VLOOKUP(E27,'AgeStdHMS (Men)'!$A$5:$U$100,7,)","v":"00:35:34"},2134,3417,0.62452443664032775,20,null,0.62452443664032775]
["Frank","Beecroft","Frank Beecroft","00:57:59",{"$f":"VLOOKUP(C28,WAVA!$C$3:$E$299,3,FALSE)","v":51},{"$f":"VLOOKUP(E28,'AgeStdHMS (Men)'!$A$5:$U$100,7,)","v":"00:30:57"},1857.0000000000002,3479.0000000000005,0.53377407300948543,48,null,0.53377407300948543]
["Richard","Smith","Richard Smith","00:58:12",{"$f":"VLOOKUP(C29,WAVA!$C$3:$E$299,3,FALSE)","v":58},{"$f":"VLOOKUP(E29,'AgeStdHMS (Men)'!$A$5:$U$100,7,)","v":"00:32:48"},1968,3492.0000000000005,0.56357388316151191,35,null,0.56357388316151202]
["Ian","Dickinson","Ian Dickinson","01:00:13",{"$f":"VLOOKUP(C30,WAVA!$C$3:$E$299,3,FALSE)","v":46},{"$f":"VLOOKUP(E30,'AgeStdHMS (Men)'!$A$5:$U$100,7,)","v":"00:29:44"},1784,3613,0.49377248823692221,52,null,0.49377248823692227]
[]
[]
["Female"]
["Rachel","Boyd",{"$f":"CONCATENATE(A34,\" \",B34)","v":"Rachel Boyd"},"00:39:03",{"$f":"VLOOKUP(C34,WAVA!$C$3:$E$299,3,FALSE)","v":28},{"$f":"VLOOKUP(E34,'AgeStdHMS (Women)'!$A$5:$U$100,7,)","v":"00:30:20"},{"$f":"CONVERT(F34,\"day\",\"sec\")","v":1820},{"$f":"CONVERT(D34,\"day\",\"sec\")","v":2343},{"$f":"G34/H34","v":0.7767819035424669},4,null,{"$f":"F34/D34","v":0.7767819035424669}]
["Bernie","Bowden","Bernie Bowden","00:42:19",{"$f":"VLOOKUP(C35,WAVA!$C$3:$E$299,3,FALSE)","v":46},{"$f":"VLOOKUP(E35,'AgeStdHMS (Women)'!$A$5:$U$100,7,)","v":"00:32:51"},{"$f":"CONVERT(F35,\"day\",\"sec\")","v":1971},{"$f":"CONVERT(D35,\"day\",\"sec\")","v":2539},{"$f":"G35/H35","v":0.77628987790468684},5,null,{"$f":"F35/D35","v":0.77628987790468684}]
["Helen","Love","Helen Love","00:49:31",{"$f":"VLOOKUP(C36,WAVA!$C$3:$E$299,3,FALSE)","v":59},{"$f":"VLOOKUP(E36,'AgeStdHMS (Women)'!$A$5:$U$100,7,)","v":"00:38:39"},2319,2971,0.78054527095254123,3,null,0.78054527095254123]
["Helen","Brant","Helen Brant","00:50:58",{"$f":"VLOOKUP(C37,WAVA!$C$3:$E$299,3,FALSE)","v":35},{"$f":"VLOOKUP(E37,'AgeStdHMS (Women)'!$A$5:$U$100,7,)","v":"00:30:38"},1838,3058.0000000000005,0.60104643557880955,25,null,0.60104643557880955]
["Laura","Richardson","Laura Richardson","00:51:07",{"$f":"VLOOKUP(C38,WAVA!$C$3:$E$299,3,FALSE)","v":31},{"$f":"VLOOKUP(E38,'AgeStdHMS (Women)'!$A$5:$U$100,7,)","v":"00:30:22"},1822.0000000000002,3066.9999999999995,0.59406586240626036,26,null,0.59406586240626036]
["Mel","Akeroyd","Mel Akeroyd","00:51:13",{"$f":"VLOOKUP(C39,WAVA!$C$3:$E$299,3,FALSE)","v":37},{"$f":"VLOOKUP(E39,'AgeStdHMS (Women)'!$A$5:$U$100,7,)","v":"00:30:51"},1851,3073,0.60234298730881874,24,null,0.60234298730881874]
["Jadine","Smith","Jadine Smith","00:51:41",{"$f":"VLOOKUP(C40,WAVA!$C$3:$E$299,3,FALSE)","v":28},{"$f":"VLOOKUP(E40,'AgeStdHMS (Women)'!$A$5:$U$100,7,)","v":"00:30:20"},1820,3101,0.58690744920993232,28,null,0.58690744920993232]
["Nina","Rogers","Nina Rogers","00:54:04",{"$f":"VLOOKUP(C41,WAVA!$C$3:$E$299,3,FALSE)","v":38},{"$f":"VLOOKUP(E41,'AgeStdHMS (Women)'!$A$5:$U$100,7,)","v":"00:31:00"},1860,3243.9999999999995,0.57336621454993841,34,null,0.57336621454993841]
["Cristina","Pacchiarini","Cristina Pacchiarini","00:54:43",{"$f":"VLOOKUP(C42,WAVA!$C$3:$E$299,3,FALSE)","v":22},{"$f":"VLOOKUP(E42,'AgeStdHMS (Women)'!$A$5:$U$100,7,)","v":"00:30:20"},1820,3283.0000000000005,0.55437100213219603,37,null,0.55437100213219603]
["Sylvia","Ross","Sylvia Ross","00:55:48",{"$f":"VLOOKUP(C43,WAVA!$C$3:$E$299,3,FALSE)","v":69},{"$f":"VLOOKUP(E43,'AgeStdHMS (Women)'!$A$5:$U$100,7,)","v":"00:44:54"},2694,3347.9999999999995,0.8046594982078854,2,null,0.8046594982078854]
["Esther","Silva","Esther Silva","00:56:02",{"$f":"VLOOKUP(C44,WAVA!$C$3:$E$299,3,FALSE)","v":32},{"$f":"VLOOKUP(E44,'AgeStdHMS (Women)'!$A$5:$U$100,7,)","v":"00:30:24"},1824,3362,0.54253420582986323,43,null,0.54253420582986323]
["Sarah","Sherratt","Sarah Sherratt","00:56:02",{"$f":"VLOOKUP(C45,WAVA!$C$3:$E$299,3,FALSE)","v":38},{"$f":"VLOOKUP(E45,'AgeStdHMS (Women)'!$A$5:$U$100,7,)","v":"00:31:00"},1860,3362,0.55324211778703158,39,null,0.55324211778703158]
["Claire","Thaper","Claire Thaper","00:57:25",{"$f":"VLOOKUP(C46,WAVA!$C$3:$E$299,3,FALSE)","v":36},{"$f":"VLOOKUP(E46,'AgeStdHMS (Women)'!$A$5:$U$100,7,)","v":"00:30:44"},1844,3445,0.53526850507982582,47,null,0.53526850507982582]
["Liz","Hamilton","Liz Hamilton","00:57:26",{"$f":"VLOOKUP(C47,WAVA!$C$3:$E$299,3,FALSE)","v":41},{"$f":"VLOOKUP(E47,'AgeStdHMS (Women)'!$A$5:$U$100,7,)","v":"00:31:32"},1892,3445.9999999999991,0.54904236796285566,40,null,0.54904236796285566]
["Anne","Mason","Anne Mason","00:58:56",{"$f":"VLOOKUP(C48,WAVA!$C$3:$E$299,3,FALSE)","v":40},{"$f":"VLOOKUP(E48,'AgeStdHMS (Women)'!$A$5:$U$100,7,)","v":"00:31:21"},1881,3535.9999999999995,0.53195701357466074,50,null,0.53195701357466074]
["Mervyn","Silva","Mervyn Silva","00:59:04",{"$f":"VLOOKUP(C49,WAVA!$C$3:$E$299,3,FALSE)","v":61},{"$f":"VLOOKUP(E49,'AgeStdHMS (Women)'!$A$5:$U$100,7,)","v":"00:39:46"},2386,3544.0000000000005,0.6732505643340857,12,null,0.6732505643340857]
["Urmila","Mistry","Urmila Mistry","00:59:58",{"$f":"VLOOKUP(C50,WAVA!$C$3:$E$299,3,FALSE)","v":54},{"$f":"VLOOKUP(E50,'AgeStdHMS (Women)'!$A$5:$U$100,7,)","v":"00:36:09"},2169,3598.0000000000005,0.60283490828237907,23,null,0.60283490828237907]
["Liz","Dearden","Liz Dearden","01:02:17",{"$f":"VLOOKUP(C51,WAVA!$C$3:$E$299,3,FALSE)","v":48},{"$f":"VLOOKUP(E51,'AgeStdHMS (Women)'!$A$5:$U$100,7,)","v":"00:33:33"},2013,3737,0.53866738025153871,44,null,0.53866738025153871]
["Carolyn","Rix","Carolyn Rix","01:02:46",{"$f":"VLOOKUP(C52,WAVA!$C$3:$E$299,3,FALSE)","v":58},{"$f":"VLOOKUP(E52,'AgeStdHMS (Women)'!$A$5:$U$100,7,)","v":"00:38:08"},2288,3765.9999999999995,0.60754115772703143,22,null,0.60754115772703132]
["Jenny","Colwell","Jenny Colwell","01:02:52",{"$f":"VLOOKUP(C53,WAVA!$C$3:$E$299,3,FALSE)","v":48},{"$f":"VLOOKUP(E53,'AgeStdHMS (Women)'!$A$5:$U$100,7,)","v":"00:33:33"},2013,3772,0.53366914103923646,49,null,0.53366914103923646]
["Alexandra","Ayling","Alexandra Ayling","01:02:52",{"$f":"VLOOKUP(C54,WAVA!$C$3:$E$299,3,FALSE)","v":51},{"$f":"VLOOKUP(E54,'AgeStdHMS (Women)'!$A$5:$U$100,7,)","v":"00:34:47"},2087,3772,0.55328738069989392,38,null,0.55328738069989392]
["Ann","Upton","Ann Upton","01:03:40",{"$f":"VLOOKUP(C55,WAVA!$C$3:$E$299,3,FALSE)","v":56},{"$f":"VLOOKUP(E55,'AgeStdHMS (Women)'!$A$5:$U$100,7,)","v":"00:37:07"},2227,3820,0.58298429319371725,30,null,0.58298429319371725]
["Shiela","Bugg","Shiela Bugg","01:04:36",{"$f":"VLOOKUP(C56,WAVA!$C$3:$E$299,3,FALSE)","v":44},{"$f":"VLOOKUP(E56,'AgeStdHMS (Women)'!$A$5:$U$100,7,)","v":"00:32:16"},1936,3876,0.49948400412796695,51,null,0.49948400412796701]
["Julia","Beaumont","Julia Beaumont","01:06:07",{"$f":"VLOOKUP(C57,WAVA!$C$3:$E$299,3,FALSE)","v":56},{"$f":"VLOOKUP(E57,'AgeStdHMS (Women)'!$A$5:$U$100,7,)","v":"00:37:07"},2227,3967,0.5613813965213007,36,null,0.5613813965213007]
["Heather","Bayliss","Heather Bayliss","01:07:21",{"$f":"VLOOKUP(C58,WAVA!$C$3:$E$299,3,FALSE)","v":37},{"$f":"VLOOKUP(E58,'AgeStdHMS (Women)'!$A$5:$U$100,7,)","v":"00:30:51"},1851,4041,0.45805493689680771,53,null,0.45805493689680776]
["Jessica","Alred","Jessica Alred","01:11:13",{"$f":"VLOOKUP(C59,WAVA!$C$3:$E$299,3,FALSE)","v":34},{"$f":"VLOOKUP(E59,'AgeStdHMS (Women)'!$A$5:$U$100,7,)","v":"00:30:32"},1832,4273.0000000000009,0.42873859115375607,54,null,0.42873859115375612]
["Kanwaldeep","Kaur","Kanwaldeep Kaur","01:14:14",{"$f":"VLOOKUP(C60,WAVA!$C$3:$E$299,3,FALSE)","v":30},{"$f":"VLOOKUP(E60,'AgeStdHMS (Women)'!$A$5:$U$100,7,)","v":"00:30:21"},1820.9999999999998,4454,0.40884598114054777,56,null,0.40884598114054782]
["Nicola","Willoughby","Nicola Willoughby","01:15:51",{"$f":"VLOOKUP(C61,WAVA!$C$3:$E$299,3,FALSE)","v":29},{"$f":"VLOOKUP(E61,'AgeStdHMS (Women)'!$A$5:$U$100,7,)","v":"00:30:20"},1820,4551,0.39991210722918041,57,null,0.39991210722918041]
["Clair","Fitzpatrick","Clair Fitzpatrick","01:16:36",{"$f":"VLOOKUP(C62,WAVA!$C$3:$E$299,3,FALSE)","v":44},{"$f":"VLOOKUP(E62,'AgeStdHMS (Women)'!$A$5:$U$100,7,)","v":"00:32:16"},1936,4596,0.42123585726718887,55,null,0.42123585726718887]

{"sheet":"Keighley","index":6,"n_rows":30,"n_cols":14,"rows_kept":30,"cut":false,"hidden":false,"merged":[]}
["Based on Male & Female Road Age Standards in Seconds WMA and USATF, 2010"]
["Male",null,"Name","Time","Age",null,null,"Age standard","Age standard/s","Actual/s","Graded","Rank",null,"WAVA"]
[null,null,"Martin Fillingham",2.6828703703703705E-2,{"$f":"VLOOKUP(C3,WAVA!$C$3:$E$299,3,FALSE)","v":45},null,null,{"$f":"VLOOKUP(E3,'AgeStdHMS (Men)'!$A$5:$U$100,7,)","v":"00:29:31"},{"$f":"CONVERT(H3,\"day\",\"sec\")","v":1771},{"$f":"CONVERT(D3,\"day\",\"sec\")","v":2318},{"$f":"I3/J3","v":0.76402070750647111},{"$f":"RANK(K3,$K$3:$K$33,0)","v":1},null,{"$f":"H3/D3","v":0.764020707506471}]
[null,null,"Adam Willoughby",2.946759259259259E-2,{"$f":"VLOOKUP(C4,WAVA!$C$3:$E$299,3,FALSE)","v":29},null,null,{"$f":"VLOOKUP(E4,'AgeStdHMS (Men)'!$A$5:$U$100,7,)","v":"00:26:52"},{"$f":"CONVERT(H4,\"day\",\"sec\")","v":1612},{"$f":"CONVERT(D4,\"day\",\"sec\")","v":2546},{"$f":"I4/J4","v":0.63315003927729774},10,null,{"$f":"H4/D4","v":0.63315003927729774}]
[null,null,"James Gardner",3.0613425925925926E-2,{"$f":"VLOOKUP(C5,WAVA!$C$3:$E$299,3,FALSE)","v":28},null,null,{"$f":"VLOOKUP(E5,'AgeStdHMS (Men)'!$A$5:$U$100,7,)","v":"00:26:51"},1611,2645,0.60907372400756143,13,null,0.60907372400756143]
[null,null,"Ian Jenkins",3.1006944444444445E-2,{"$f":"VLOOKUP(C6,WAVA!$C$3:$E$299,3,FALSE)","v":46},null,null,{"$f":"VLOOKUP(E6,'AgeStdHMS (Men)'!$A$5:$U$100,7,)","v":"00:29:44"},1784,2679,0.66592011944755503,7,null,0.66592011944755503]
[null,null,"Stephen Hetherington",3.1087962962962963E-2,{"$f":"VLOOKUP(C7,WAVA!$C$3:$E$299,3,FALSE)","v":57},null,null,{"$f":"VLOOKUP(E7,'AgeStdHMS (Men)'!$A$5:$U$100,7,)","v":"00:32:32"},1951.9999999999998,2686,0.72673119880863735,4,null,0.72673119880863735]
[null,null,"Guy Richardson",3.3043981481481487E-2,{"$f":"VLOOKUP(C8,WAVA!$C$3:$E$299,3,FALSE)","v":42},null,null,{"$f":"VLOOKUP(E8,'AgeStdHMS (Men)'!$A$5:$U$100,7,)","v":"00:28:50"},1730,2855.0000000000005,0.60595446584938695,14,null,0.60595446584938695]
[null,null,"Gary Western",3.321759259259259E-2,{"$f":"VLOOKUP(C9,WAVA!$C$3:$E$299,3,FALSE)","v":57},null,null,{"$f":"VLOOKUP(E9,'AgeStdHMS (Men)'!$A$5:$U$100,7,)","v":"00:32:32"},1951.9999999999998,2870,0.68013937282229953,6,null,0.68013937282229964]
[null,null,"Alun Griffiths","00:53:33",{"$f":"VLOOKUP(C10,WAVA!$C$3:$E$299,3,FALSE)","v":59},null,null,{"$f":"VLOOKUP(E10,'AgeStdHMS (Men)'!$A$5:$U$100,7,)","v":"00:33:06"},1986,3213,0.61811391223155931,12,null,0.61811391223155931]
[null,null,"Frank Masley","00:59:45",{"$f":"VLOOKUP(C11,WAVA!$C$3:$E$299,3,FALSE)","v":65},null,null,{"$f":"VLOOKUP(E11,'AgeStdHMS (Men)'!$A$5:$U$100,7,)","v":"00:34:55"},2095,3585.0000000000005,0.58437935843793576,16,null,0.58437935843793576]
[null,null,"Richard Smith","01:02:19",{"$f":"VLOOKUP(C12,WAVA!$C$3:$E$299,3,FALSE)","v":58},null,null,{"$f":"VLOOKUP(E12,'AgeStdHMS (Men)'!$A$5:$U$100,7,)","v":"00:32:48"},1968,3739.0000000000005,0.52634394223054282,24,null,0.52634394223054293]
[null,null,"Nick Breare","01:01:45",{"$f":"VLOOKUP(C13,WAVA!$C$3:$E$299,3,FALSE)","v":67},null,null,{"$f":"VLOOKUP(E13,'AgeStdHMS (Women)'!$A$5:$U$100,7,)","v":"00:43:29"},{"$f":"CONVERT(H13,\"day\",\"sec\")","v":2609},{"$f":"CONVERT(D13,\"day\",\"sec\")","v":3704.9999999999995},{"$f":"I13/J13","v":0.70418353576248327},5,null,{"$f":"H13/D13","v":0.70418353576248327}]
[]
["Female"]
[null,null,"Tracy Foy","00:49:39",{"$f":"VLOOKUP(C16,WAVA!$C$3:$E$299,3,FALSE)","v":46},null,null,{"$f":"VLOOKUP(E16,'AgeStdHMS (Women)'!$A$5:$U$100,7,)","v":"00:32:51"},{"$f":"CONVERT(H16,\"day\",\"sec\")","v":1971},{"$f":"CONVERT(D16,\"day\",\"sec\")","v":2979},{"$f":"I16/J16","v":0.66163141993957708},{"$f":"RANK(K16,$K$3:$K$33,0)","v":8},null,{"$f":"H16/D16","v":0.66163141993957708}]
[null,null,"Helen Love","00:50:40",{"$f":"VLOOKUP(C17,WAVA!$C$3:$E$299,3,FALSE)","v":59},null,null,{"$f":"VLOOKUP(E17,'AgeStdHMS (Women)'!$A$5:$U$100,7,)","v":"00:38:39"},{"$f":"CONVERT(H17,\"day\",\"sec\")","v":2319},{"$f":"CONVERT(D17,\"day\",\"sec\")","v":3040},{"$f":"I17/J17","v":0.76282894736842111},2,null,{"$f":"H17/D17","v":0.762828947368421}]
[null,null,"Fiona Farquhar","00:52:20",{"$f":"VLOOKUP(C18,WAVA!$C$3:$E$299,3,FALSE)","v":48},null,null,{"$f":"VLOOKUP(E18,'AgeStdHMS (Women)'!$A$5:$U$100,7,)","v":"00:33:33"},2013,3140.0000000000005,0.64108280254777061,9,null,0.6410828025477705]
[null,null,"Helen Western","00:53:14",{"$f":"VLOOKUP(C19,WAVA!$C$3:$E$299,3,FALSE)","v":48},null,null,{"$f":"VLOOKUP(E19,'AgeStdHMS (Women)'!$A$5:$U$100,7,)","v":"00:33:33"},2013,3194,0.63024420788979341,11,null,0.6302442078897933]
[null,null,"Philippa Bird","00:53:55",{"$f":"VLOOKUP(C20,WAVA!$C$3:$E$299,3,FALSE)","v":36},null,null,{"$f":"VLOOKUP(E20,'AgeStdHMS (Women)'!$A$5:$U$100,7,)","v":"00:30:44"},1844,3234.9999999999995,0.57001545595054104,20,null,0.57001545595054104]
[null,null,"Denise Davis","00:57:20",{"$f":"VLOOKUP(C21,WAVA!$C$3:$E$299,3,FALSE)","v":48},null,null,{"$f":"VLOOKUP(E21,'AgeStdHMS (Women)'!$A$5:$U$100,7,)","v":"00:33:33"},2013,3440,0.58517441860465114,15,null,0.58517441860465114]
[null,null,"Kelly Smith","00:57:49",{"$f":"VLOOKUP(C22,WAVA!$C$3:$E$299,3,FALSE)","v":41},null,null,{"$f":"VLOOKUP(E22,'AgeStdHMS (Women)'!$A$5:$U$100,7,)","v":"00:31:32"},1892,3469,0.54540213317959063,22,null,0.54540213317959063]
[null,null,"Josephine Briggs","00:58:14",{"$f":"VLOOKUP(C23,WAVA!$C$3:$E$299,3,FALSE)","v":48},null,null,{"$f":"VLOOKUP(E23,'AgeStdHMS (Women)'!$A$5:$U$100,7,)","v":"00:33:33"},2013,3494,0.57613050944476241,19,null,0.57613050944476241]
[null,null,"Sylvia Ross","00:59:10",{"$f":"VLOOKUP(C24,WAVA!$C$3:$E$299,3,FALSE)","v":69},null,null,{"$f":"VLOOKUP(E24,'AgeStdHMS (Women)'!$A$5:$U$100,7,)","v":"00:44:54"},2694,3549.9999999999995,0.75887323943661977,3,null,0.75887323943661977]
[null,null,"Suzanne Hague","01:00:15",{"$f":"VLOOKUP(C25,WAVA!$C$3:$E$299,3,FALSE)","v":51},null,null,{"$f":"VLOOKUP(E25,'AgeStdHMS (Women)'!$A$5:$U$100,7,)","v":"00:34:47"},2087,3614.9999999999995,0.57731673582295995,18,null,0.57731673582295995]
[null,null,"Louise Dell'Amico","01:01:50",{"$f":"VLOOKUP(C26,WAVA!$C$3:$E$299,3,FALSE)","v":41},null,null,{"$f":"VLOOKUP(E26,'AgeStdHMS (Women)'!$A$5:$U$100,7,)","v":"00:31:32"},1892,3710,0.50997304582210246,25,null,0.50997304582210246]
[null,null,"Carolyn Rix","01:05:43",{"$f":"VLOOKUP(C27,WAVA!$C$3:$E$299,3,FALSE)","v":58},null,null,{"$f":"VLOOKUP(E27,'AgeStdHMS (Women)'!$A$5:$U$100,7,)","v":"00:38:08"},2288,3943,0.58026883083946235,17,null,0.58026883083946235]
[null,null,"Ann Upton","01:06:01",{"$f":"VLOOKUP(C28,WAVA!$C$3:$E$299,3,FALSE)","v":56},null,null,{"$f":"VLOOKUP(E28,'AgeStdHMS (Women)'!$A$5:$U$100,7,)","v":"00:37:07"},2227,3960.9999999999995,0.5622317596566524,21,null,0.5622317596566524]
[null,null,"Heather Bayliss","01:06:50",{"$f":"VLOOKUP(C29,WAVA!$C$3:$E$299,3,FALSE)","v":37},null,null,{"$f":"VLOOKUP(E29,'AgeStdHMS (Women)'!$A$5:$U$100,7,)","v":"00:30:51"},1851,4010,0.46159600997506234,26,null,0.46159600997506239]
[null,null,"Julia Beaumont","01:08:39",{"$f":"VLOOKUP(C30,WAVA!$C$3:$E$299,3,FALSE)","v":56},null,null,{"$f":"VLOOKUP(E30,'AgeStdHMS (Women)'!$A$5:$U$100,7,)","v":"00:37:07"},2227,4118.9999999999991,0.54066521000242784,23,null,0.54066521000242784]

{"sheet":"Bunny ","index":7,"n_rows":20,"n_cols":14,"rows_kept":20,"cut":false,"hidden":false,"merged":[]}
["Based on Male & Female Road Age Standards in Seconds WMA and USATF, 2010",null,null,null,null,null,null,"5K"]
["Male",null,"Name","Time","Age",null,null,"Age standard","Age standard/s","Actual/s","Graded","Rank",null,"WAVA"]
["Will","Kerr",{"$f":"CONCATENATE(A3,\" \",B3)","v":"Will Kerr"},"00:16:57",{"$f":"VLOOKUP(C3,WAVA!$C$3:$E$299,3,FALSE)","v":40},null,null,{"$f":"VLOOKUP(E3,'AgeStdHMS (Men)'!$A$5:$U$100,2,)","v":"00:13:39"},{"$f":"CONVERT(H3,\"day\",\"sec\")","v":819},{"$f":"CONVERT(D3,\"day\",\"sec\")","v":1017},{"$f":"I3/J3","v":0.80530973451327437},{"$f":"RANK(K3,$K$3:$K$20,0)","v":1},null,{"$f":"H3/D3","v":0.80530973451327437}]
["Martin","Fillingham","Martin Fillingham","00:19:11",{"$f":"VLOOKUP(C4,WAVA!$C$3:$E$299,3,FALSE)","v":45},null,null,{"$f":"VLOOKUP(E4,'AgeStdHMS (Men)'!$A$5:$U$100,2,)","v":"00:14:11"},{"$f":"CONVERT(H4,\"day\",\"sec\")","v":851},{"$f":"CONVERT(D4,\"day\",\"sec\")","v":1151.0000000000002},{"$f":"I4/J4","v":0.73935708079930484},3,null,{"$f":"H4/D4","v":0.73935708079930484}]
["Stuart","Dunbar","Stuart Dunbar","00:19:51",{"$f":"VLOOKUP(C5,WAVA!$C$3:$E$299,3,FALSE)","v":54},null,null,{"$f":"VLOOKUP(E5,'AgeStdHMS (Men)'!$A$5:$U$100,2,)","v":"00:15:14"},913.99999999999989,1191,0.76742233417296379,2,null,0.76742233417296379]
["John","Singh","John Singh","00:22:22",{"$f":"VLOOKUP(C6,WAVA!$C$3:$E$299,3,FALSE)","v":34},null,null,{"$f":"VLOOKUP(E6,'AgeStdHMS (Men)'!$A$5:$U$100,2,)","v":"00:13:07"},787.00000000000011,1342,0.58643815201192262,9,null,0.58643815201192251]
["Tim","Mosedale","Tim Mosedale","00:23:35",{"$f":"VLOOKUP(C7,WAVA!$C$3:$E$299,3,FALSE)","v":36},null,null,{"$f":"VLOOKUP(E7,'AgeStdHMS (Men)'!$A$5:$U$100,2,)","v":"00:13:16"},796,1414.9999999999998,0.56254416961130749,11,null,0.56254416961130749]
["Gary","Western","Gary Western","00:25:28",{"$f":"VLOOKUP(C8,WAVA!$C$3:$E$299,3,FALSE)","v":57},null,null,{"$f":"VLOOKUP(E8,'AgeStdHMS (Men)'!$A$5:$U$100,2,)","v":"00:15:38"},938,1528,0.61387434554973819,6,null,0.61387434554973819]
["Alun","Griffiths","Alun Griffiths","00:25:38",{"$f":"VLOOKUP(C9,WAVA!$C$3:$E$299,3,FALSE)","v":59},null,null,{"$f":"VLOOKUP(E9,'AgeStdHMS (Men)'!$A$5:$U$100,2,)","v":"00:15:54"},954,1538,0.62028608582574774,5,null,0.62028608582574774]
["Mohanlal","Mistry","Mohanlal Mistry","00:28:54",{"$f":"VLOOKUP(C10,WAVA!$C$3:$E$299,3,FALSE)","v":55},null,null,{"$f":"VLOOKUP(E10,'AgeStdHMS (Men)'!$A$5:$U$100,2,)","v":"00:15:22"},922,1733.9999999999998,0.53171856978085363,14,null,0.53171856978085363]
["Richard","Smith","Richard Smith","00:30:19",{"$f":"VLOOKUP(C11,WAVA!$C$3:$E$299,3,FALSE)","v":58},null,null,{"$f":"VLOOKUP(E11,'AgeStdHMS (Men)'!$A$5:$U$100,2,)","v":"00:15:46"},946,1819,0.52006597031335899,15,null,0.52006597031335899]
[]
[]
["Female",null,null,null,null,null,null,"5K"]
["Tracy","Foy",{"$f":"CONCATENATE(A15,\" \",B15)","v":"Tracy Foy"},"00:26:12",{"$f":"VLOOKUP(C15,WAVA!$C$3:$E$299,3,FALSE)","v":46},null,null,{"$f":"VLOOKUP(E15,'AgeStdHMS (Women)'!$A$5:$U$100,2,)","v":"00:16:02"},{"$f":"CONVERT(H15,\"day\",\"sec\")","v":962},{"$f":"CONVERT(D15,\"day\",\"sec\")","v":1572},{"$f":"I15/J15","v":0.61195928753180662},{"$f":"RANK(K15,$K$3:$K$20,0)","v":7},null,{"$f":"H15/D15","v":0.61195928753180662}]
["Helen","Western","Helen Western","00:27:43",{"$f":"VLOOKUP(C16,WAVA!$C$3:$E$299,3,FALSE)","v":48},null,null,{"$f":"VLOOKUP(E16,'AgeStdHMS (Women)'!$A$5:$U$100,2,)","v":"00:16:22"},{"$f":"CONVERT(H16,\"day\",\"sec\")","v":982},{"$f":"CONVERT(D16,\"day\",\"sec\")","v":1662.9999999999998},{"$f":"I16/J16","v":0.59049909801563449},8,null,{"$f":"H16/D16","v":0.59049909801563438}]
["Philippa","Bird","Philippa Bird","00:27:44",{"$f":"VLOOKUP(C17,WAVA!$C$3:$E$299,3,FALSE)","v":36},null,null,{"$f":"VLOOKUP(E17,'AgeStdHMS (Women)'!$A$5:$U$100,2,)","v":"00:15:00"},900,1664.0000000000002,0.54086538461538458,12,null,0.54086538461538458]
["Mel","Akeroyd","Mel Akeroyd","00:28:02",{"$f":"VLOOKUP(C18,WAVA!$C$3:$E$299,3,FALSE)","v":37},null,null,{"$f":"VLOOKUP(E18,'AgeStdHMS (Women)'!$A$5:$U$100,2,)","v":"00:15:03"},903,1682.0000000000002,0.53686087990487508,13,null,0.53686087990487508]
["Helen","Love","Helen Love","00:28:42",{"$f":"VLOOKUP(C19,WAVA!$C$3:$E$299,3,FALSE)","v":59},null,null,{"$f":"VLOOKUP(E19,'AgeStdHMS (Women)'!$A$5:$U$100,2,)","v":"00:18:52"},1132,1722,0.65737514518002327,4,null,0.65737514518002327]
["Gillian","Hyde","Gillian Hyde","00:29:23",{"$f":"VLOOKUP(C20,WAVA!$C$3:$E$299,3,FALSE)","v":51},null,null,{"$f":"VLOOKUP(E20,'AgeStdHMS (Women)'!$A$5:$U$100,2,)","v":"00:16:58"},1018.0000000000001,1763,0.57742484401588212,10,null,0.57742484401588201]

{"sheet":"Liverpool","index":8,"n_rows":49,"n_cols":14,"rows_kept":49,"cut":false,"hidden":false,"merged":[]}
["Based on Male & Female Road Age Standards in Seconds WMA and USATF, 2010",null,null,null,null,null,null,null,"13.1m"]
["Male",null,"Name","Time","Age",null,null,"Age standard","Age standard/s","Actual/s","Graded","Rank",null,"WAVA"]
["Jack","Murphy",{"$f":"CONCATENATE(A3,\" \",B3)","v":"Jack Murphy"},"01:14:42",28,null,null,{"$f":"VLOOKUP(E3,'AgeStdHMS (Men)'!$A$5:$U$100,12,)","v":"00:59:13"},{"$f":"CONVERT(H3,\"day\",\"sec\")","v":3553},{"$f":"CONVERT(D3,\"day\",\"sec\")","v":4482},{"$f":"I3/J3","v":0.79272646140116021},{"$f":"RANK(K3,$K$3:$K$19,0)","v":2},null,{"$f":"H3/D3","v":0.7927264614011601}]
["Will","Kerr","Will Kerr","01:15:11",{"$f":"VLOOKUP(C4,WAVA!$C$3:$E$299,3,FALSE)","v":40},null,null,{"$f":"VLOOKUP(E4,'AgeStdHMS (Men)'!$A$5:$U$100,12,)","v":"01:01:41"},{"$f":"CONVERT(H4,\"day\",\"sec\")","v":3701},{"$f":"CONVERT(D4,\"day\",\"sec\")","v":4511},{"$f":"I4/J4","v":0.82043892706716914},{"$f":"RANK(K4,$K$3:$K$19,0)","v":1},null,{"$f":"H4/D4","v":0.82043892706716914}]
["Martin","Fillingham","Martin Fillingham","01:21:06",{"$f":"VLOOKUP(C5,WAVA!$C$3:$E$299,3,FALSE)","v":45},null,null,{"$f":"VLOOKUP(E5,'AgeStdHMS (Men)'!$A$5:$U$100,12,)","v":"01:04:13"},3853,4866,0.79182079736950273,3,null,0.79182079736950273]
["Simon","Frazer","Simon Frazer","01:27:06",{"$f":"VLOOKUP(C6,WAVA!$C$3:$E$299,3,FALSE)","v":42},null,null,{"$f":"VLOOKUP(E6,'AgeStdHMS (Men)'!$A$5:$U$100,12,)","v":"01:02:41"},3761,5226,0.71967087638729432,5,null,0.71967087638729432]
["Stewart","Spink","Stewart Spink","01:31:03",{"$f":"VLOOKUP(C7,WAVA!$C$3:$E$299,3,FALSE)","v":48},null,null,{"$f":"VLOOKUP(E7,'AgeStdHMS (Men)'!$A$5:$U$100,12,)","v":"01:05:50"},3950,5463,0.72304594545121725,4,null,0.72304594545121725]
["James","Goodall","James Goodall","01:33:19",{"$f":"VLOOKUP(C8,WAVA!$C$3:$E$299,3,FALSE)","v":27},null,null,{"$f":"VLOOKUP(E8,'AgeStdHMS (Men)'!$A$5:$U$100,12,)","v":"00:59:13"},3553,5599,0.63457760314341849,8,null,0.63457760314341849]
["Tim","Mosedale","Tim Mosedale","01:40:33",{"$f":"VLOOKUP(C9,WAVA!$C$3:$E$299,3,FALSE)","v":36},null,null,{"$f":"VLOOKUP(E9,'AgeStdHMS (Men)'!$A$5:$U$100,12,)","v":"00:59:57"},3597,6032.9999999999991,0.59622078567876691,11,null,0.5962207856787668]
["Gareth","Ward","Gareth Ward","01:41:12",{"$f":"VLOOKUP(C10,WAVA!$C$3:$E$299,3,FALSE)","v":37},null,null,{"$f":"VLOOKUP(E10,'AgeStdHMS (Men)'!$A$5:$U$100,12,)","v":"01:00:18"},3618,6072.0000000000009,0.59584980237154139,12,null,0.5958498023715415]
["Gary","Western","Gary Western","01:42:58",{"$f":"VLOOKUP(C11,WAVA!$C$3:$E$299,3,FALSE)","v":57},null,null,{"$f":"VLOOKUP(E11,'AgeStdHMS (Men)'!$A$5:$U$100,12,)","v":"01:11:12"},4272,6178,0.69148591777274204,7,null,0.69148591777274204]
["Simon","Furlong","Simon Furlong","01:45:17",{"$f":"VLOOKUP(C12,WAVA!$C$3:$E$299,3,FALSE)","v":29},null,null,{"$f":"VLOOKUP(E12,'AgeStdHMS (Men)'!$A$5:$U$100,12,)","v":"00:59:13"},3553,6316.9999999999991,0.56245053031502301,16,null,0.56245053031502301]
["Noel","Fitzpatrick","Noel Fitzpatrick","01:46:17",{"$f":"VLOOKUP(C13,WAVA!$C$3:$E$299,3,FALSE)","v":47},null,null,{"$f":"VLOOKUP(E13,'AgeStdHMS (Men)'!$A$5:$U$100,12,)","v":"01:05:17"},3917,6377,0.61423867022110712,9,null,0.61423867022110712]
["Guy","Richardson","Guy Richardson","01:47:01",{"$f":"VLOOKUP(C14,WAVA!$C$3:$E$299,3,FALSE)","v":42},null,null,{"$f":"VLOOKUP(E14,'AgeStdHMS (Men)'!$A$5:$U$100,12,)","v":"01:02:41"},3761,6420.9999999999991,0.58573430929761727,13,null,0.58573430929761727]
["Gavin","Hamilton","Gavin Hamilton","01:49:25",{"$f":"VLOOKUP(C15,WAVA!$C$3:$E$299,3,FALSE)","v":40},null,null,{"$f":"VLOOKUP(E15,'AgeStdHMS (Men)'!$A$5:$U$100,12,)","v":"01:01:41"},3701,6565,0.56374714394516379,15,null,0.56374714394516379]
["Barney","Lerner","Barney Lerner","01:50:30",{"$f":"VLOOKUP(C16,WAVA!$C$3:$E$299,3,FALSE)","v":66},null,null,{"$f":"VLOOKUP(E16,'AgeStdHMS (Men)'!$A$5:$U$100,12,)","v":"01:17:32"},4652,6630,0.7016591251885369,6,null,0.7016591251885369]
["Frank","Beecroft","Frank Beecroft","01:51:12",{"$f":"VLOOKUP(C17,WAVA!$C$3:$E$299,3,FALSE)","v":51},null,null,{"$f":"VLOOKUP(E17,'AgeStdHMS (Men)'!$A$5:$U$100,12,)","v":"01:07:32"},4052,6672.0000000000009,0.60731414868105504,10,null,0.60731414868105504]
["Richard","Smith","Richard Smith","02:05:46",{"$f":"VLOOKUP(C18,WAVA!$C$3:$E$299,3,FALSE)","v":58},null,null,{"$f":"VLOOKUP(E18,'AgeStdHMS (Men)'!$A$5:$U$100,12,)","v":"01:11:51"},4311,7546,0.5712960508878876,14,null,0.5712960508878876]
[]
["Female",null,null,null,null,null,null,null,"13.1m"]
["Rachel","Boyd",{"$f":"CONCATENATE(A21,\" \",B21)","v":"Rachel Boyd"},"01:26:02",{"$f":"VLOOKUP(C21,WAVA!$C$3:$E$299,3,FALSE)","v":28},null,null,{"$f":"VLOOKUP(E21,'AgeStdHMS (Women)'!$A$5:$U$100,12,)","v":"01:05:50"},{"$f":"CONVERT(H21,\"day\",\"sec\")","v":3950},{"$f":"CONVERT(D21,\"day\",\"sec\")","v":5162},{"$f":"I21/J21","v":0.76520728399845017},{"$f":"RANK(K21,$K$21:$K$42,0)","v":2},null,{"$f":"H21/D21","v":0.76520728399845017}]
["Hannah","Elliot","Hannah Elliott","01:42:12",{"$f":"VLOOKUP(C22,WAVA!$C$3:$E$299,3,FALSE)","v":28},null,null,{"$f":"VLOOKUP(E22,'AgeStdHMS (Women)'!$A$5:$U$100,12,)","v":"01:05:50"},{"$f":"CONVERT(H22,\"day\",\"sec\")","v":3950},{"$f":"CONVERT(D22,\"day\",\"sec\")","v":6132.0000000000009},{"$f":"I22/J22","v":0.64416177429876054},5,null,{"$f":"H22/D22","v":0.64416177429876054}]
["Tracy","Foy","Tracy Foy","01:43:54",{"$f":"VLOOKUP(C23,WAVA!$C$3:$E$299,3,FALSE)","v":46},null,null,{"$f":"VLOOKUP(E23,'AgeStdHMS (Women)'!$A$5:$U$100,12,)","v":"01:11:19"},4279,6234,0.68639717677253764,3,null,0.68639717677253775]
["Therese","Sheehan","Therese Sheehan","01:46:22",{"$f":"VLOOKUP(C24,WAVA!$C$3:$E$299,3,FALSE)","v":30},null,null,{"$f":"VLOOKUP(E24,'AgeStdHMS (Women)'!$A$5:$U$100,12,)","v":"01:05:51"},3951,6382,0.61908492635537449,7,null,0.61908492635537449]
["Helen","Love","Helen Love","01:46:48",{"$f":"VLOOKUP(C25,WAVA!$C$3:$E$299,3,FALSE)","v":59},null,null,{"$f":"VLOOKUP(E25,'AgeStdHMS (Women)'!$A$5:$U$100,12,)","v":"01:23:54"},5034,6407.9999999999991,0.78558052434456938,1,null,0.78558052434456938]
["Mel","Akeroyd","Mel Akeroyd","01:51:20",{"$f":"VLOOKUP(C26,WAVA!$C$3:$E$299,3,FALSE)","v":37},null,null,{"$f":"VLOOKUP(E26,'AgeStdHMS (Women)'!$A$5:$U$100,12,)","v":"01:06:58"},4018,6680.0000000000009,0.60149700598802391,10,null,0.60149700598802391]
["Helen","Western","Helen Western","01:51:48",{"$f":"VLOOKUP(C27,WAVA!$C$3:$E$299,3,FALSE)","v":48},null,null,{"$f":"VLOOKUP(E27,'AgeStdHMS (Women)'!$A$5:$U$100,12,)","v":"01:12:49"},4369,6707.9999999999991,0.65131186642814554,4,null,0.65131186642814554]
["Claire","Burrill","Claire Burrill","01:54:13",{"$f":"VLOOKUP(C28,WAVA!$C$3:$E$299,3,FALSE)","v":41},null,null,{"$f":"VLOOKUP(E28,'AgeStdHMS (Women)'!$A$5:$U$100,12,)","v":"01:08:27"},4107,6853,0.59929957682766677,12,null,0.59929957682766677]
["Jadine","Smith","Jadine Smith","01:55:37",{"$f":"VLOOKUP(C29,WAVA!$C$3:$E$299,3,FALSE)","v":28},null,null,{"$f":"VLOOKUP(E29,'AgeStdHMS (Women)'!$A$5:$U$100,12,)","v":"01:05:50"},3950,6937.0000000000009,0.56941040795733022,16,null,0.56941040795733022]
["Dairine","Nethercott","Dairine Nethercott","01:56:19",{"$f":"VLOOKUP(C30,WAVA!$C$3:$E$299,3,FALSE)","v":49},null,null,{"$f":"VLOOKUP(E30,'AgeStdHMS (Women)'!$A$5:$U$100,12,)","v":"01:13:40"},4420,6979,0.63332855709987101,6,null,0.63332855709987101]
["Kerry","Wood","Kerry Wood","01:58:12",{"$f":"VLOOKUP(C31,WAVA!$C$3:$E$299,3,FALSE)","v":41},null,null,{"$f":"VLOOKUP(E31,'AgeStdHMS (Women)'!$A$5:$U$100,12,)","v":"01:08:27"},4107,7092.0000000000009,0.57910321489001682,14,null,0.57910321489001682]
["Lucy","Johnston","Lucy Johnston","01:58:25",{"$f":"VLOOKUP(C32,WAVA!$C$3:$E$299,3,FALSE)","v":31},null,null,{"$f":"VLOOKUP(E32,'AgeStdHMS (Women)'!$A$5:$U$100,12,)","v":"01:05:54"},3954,7104.9999999999991,0.55650950035186497,18,null,0.55650950035186497]
["Josephine","Briggs","Josephine Briggs","02:01:23",{"$f":"VLOOKUP(C33,WAVA!$C$3:$E$299,3,FALSE)","v":48},null,null,{"$f":"VLOOKUP(E33,'AgeStdHMS (Women)'!$A$5:$U$100,12,)","v":"01:12:49"},4369,7283,0.59989015515584232,11,null,0.59989015515584232]
["Elaine","Frazer","Elaine Frazer","02:04:49",{"$f":"VLOOKUP(C34,WAVA!$C$3:$E$299,3,FALSE)","v":44},null,null,{"$f":"VLOOKUP(E34,'AgeStdHMS (Women)'!$A$5:$U$100,12,)","v":"01:10:01"},4201,7489.0000000000009,0.56095606890105476,17,null,0.56095606890105487]
["Gillian","Hyde","Gillian Hyde","02:05:04",{"$f":"VLOOKUP(C35,WAVA!$C$3:$E$299,3,FALSE)","v":51},null,null,{"$f":"VLOOKUP(E35,'AgeStdHMS (Women)'!$A$5:$U$100,12,)","v":"01:15:30"},4530,7504,0.60367803837953093,9,null,0.60367803837953093]
["Denise","Davis","Denise Davis","02:06:52",{"$f":"VLOOKUP(C36,WAVA!$C$3:$E$299,3,FALSE)","v":48},null,null,{"$f":"VLOOKUP(E36,'AgeStdHMS (Women)'!$A$5:$U$100,12,)","v":"01:12:49"},4369,7612.0000000000009,0.57396216500262731,15,null,0.57396216500262731]
["Suzanne","Hague","Suzanne Hague","02:07:31",{"$f":"VLOOKUP(C37,WAVA!$C$3:$E$299,3,FALSE)","v":51},null,null,{"$f":"VLOOKUP(E37,'AgeStdHMS (Women)'!$A$5:$U$100,12,)","v":"01:15:30"},4530,7651,0.59207946673637435,13,null,0.59207946673637435]
["Louise","Dell'Amico","Louise Dell'Amico","02:13:00",{"$f":"VLOOKUP(C38,WAVA!$C$3:$E$299,3,FALSE)","v":41},null,null,{"$f":"VLOOKUP(E38,'AgeStdHMS (Women)'!$A$5:$U$100,12,)","v":"01:08:27"},4107,7980,0.51466165413533838,19,null,0.51466165413533826]
["Carolyn","Rix","Carolyn Rix","02:15:14",{"$f":"VLOOKUP(C39,WAVA!$C$3:$E$299,3,FALSE)","v":58},null,null,{"$f":"VLOOKUP(E39,'AgeStdHMS (Women)'!$A$5:$U$100,12,)","v":"01:22:45"},4965,8114.0000000000009,0.61190534877988656,8,null,0.61190534877988656]
[]
[null,null,null,null,null,null,null,"10m"]
["Male",null,"Name","Time","Age",null,null,"Age standard","Age standard/s","Actual/s","Graded","Rank",null,"WAVA"]
["Ewan","Gibb",{"$f":"CONCATENATE(A43,\" \",B43)","v":"Ewan Gibb"},"01:08:39",{"$f":"VLOOKUP(C43,WAVA!$C$3:$E$299,3,FALSE)","v":29},null,null,{"$f":"VLOOKUP(E43,'AgeStdHMS (Men)'!$A$5:$U$100,10,)","v":"00:44:23"},{"$f":"CONVERT(H43,\"day\",\"sec\")","v":2663},{"$f":"CONVERT(D43,\"day\",\"sec\")","v":4118.9999999999991},{"$f":"I43/J43","v":0.64651614469531449},{"$f":"RANK(K43,$K$43:$K$49,0)","v":2},null,{"$f":"H43/D43","v":0.64651614469531449}]
["Keith","Jump","Keith Jump","01:54:37",{"$f":"VLOOKUP(C44,WAVA!$C$3:$E$299,3,FALSE)","v":69},null,null,{"$f":"VLOOKUP(E44,'AgeStdHMS (Men)'!$A$5:$U$100,10,)","v":"00:59:55"},{"$f":"CONVERT(H44,\"day\",\"sec\")","v":3595},{"$f":"CONVERT(D44,\"day\",\"sec\")","v":6877},{"$f":"I44/J44","v":0.52275701614075909},{"$f":"RANK(K44,$K$43:$K$49,0)","v":4},null,{"$f":"H44/D44","v":0.52275701614075909}]
[]
["Female"]
["Sylvia","Ross",{"$f":"CONCATENATE(A47,\" \",B47)","v":"Sylvia Ross"},"01:31:10",{"$f":"VLOOKUP(C47,WAVA!$C$3:$E$299,3,FALSE)","v":69},null,null,{"$f":"VLOOKUP(E47,'AgeStdHMS (Women)'!$A$5:$U$100,10,)","v":"01:13:32"},{"$f":"CONVERT(H47,\"day\",\"sec\")","v":4412},{"$f":"CONVERT(D47,\"day\",\"sec\")","v":5469.9999999999991},{"$f":"I47/J47","v":0.80658135283363819},1,null,{"$f":"H47/D47","v":0.80658135283363808}]
["Sarah","Sherratt","Sarah Sherratt","01:34:55",{"$f":"VLOOKUP(C48,WAVA!$C$3:$E$299,3,FALSE)","v":38},null,null,{"$f":"VLOOKUP(E48,'AgeStdHMS (Women)'!$A$5:$U$100,10,)","v":"00:50:46"},{"$f":"CONVERT(H48,\"day\",\"sec\")","v":3046},{"$f":"CONVERT(D48,\"day\",\"sec\")","v":5695},{"$f":"I48/J48","v":0.53485513608428448},3,null,{"$f":"H48/D48","v":0.53485513608428448}]
["Clair","Fitzpatrick","Clair Fitzpatrick","02:06:18",{"$f":"VLOOKUP(C49,WAVA!$C$3:$E$299,3,FALSE)","v":44},null,null,{"$f":"VLOOKUP(E49,'AgeStdHMS (Women)'!$A$5:$U$100,10,)","v":"00:52:51"},3171,7578,0.4184481393507522,5,null,0.41844813935075215]

{"sheet":"VoY 10m","index":9,"n_rows":14,"n_cols":14,"rows_kept":14,"cut":false,"hidden":false,"merged":[]}
["Based on Male & Female Road Age Standards in Seconds WMA and USATF, 2010",null,null,null,null,null,null,"10m"]
["Male",null,"Name","Time","Age",null,null,"Age standard","Age standard/s","Actual/s","Graded","Rank",null,"WAVA"]
[null,null,"Will Kerr","00:58:24",{"$f":"VLOOKUP(C3,WAVA!$C$3:$E$299,3,FALSE)","v":40},null,null,{"$f":"VLOOKUP(E3,'AgeStdHMS (Men)'!$A$5:$U$100,10,)","v":"00:46:31"},{"$f":"CONVERT(H3,\"day\",\"sec\")","v":2791.0000000000005},{"$f":"CONVERT(D3,\"day\",\"sec\")","v":3504},{"$f":"I3/J3","v":0.79651826484018273},{"$f":"RANK(K3,$K$3:$K$40,0)","v":1},null,{"$f":"H3/D3","v":0.79651826484018273}]
[null,null,"Matthew Richardson","01:03:50",{"$f":"VLOOKUP(C4,WAVA!$C$3:$E$299,3,FALSE)","v":33},null,null,{"$f":"VLOOKUP(E4,'AgeStdHMS (Men)'!$A$5:$U$100,10,)","v":"00:44:35"},{"$f":"CONVERT(H4,\"day\",\"sec\")","v":2675},{"$f":"CONVERT(D4,\"day\",\"sec\")","v":3830},{"$f":"I4/J4","v":0.69843342036553524},{"$f":"RANK(K4,$K$3:$K$40,0)","v":2},null,{"$f":"H4/D4","v":0.69843342036553524}]
[null,null,"Guy Richardson","01:21:19",{"$f":"VLOOKUP(C5,WAVA!$C$3:$E$299,3,FALSE)","v":42},null,null,{"$f":"VLOOKUP(E5,'AgeStdHMS (Men)'!$A$5:$U$100,10,)","v":"00:47:14"},2834,4879,0.58085673293707729,4,null,0.58085673293707729]
[null,null,"Sam White","01:29:26",{"$f":"VLOOKUP(C6,WAVA!$C$3:$E$299,3,FALSE)","v":23},null,null,{"$f":"VLOOKUP(E6,'AgeStdHMS (Men)'!$A$5:$U$100,10,)","v":"00:44:23"},2663,5366,0.49627282892284758,8,null,0.49627282892284758]
[null,null,"Richard Smith","01:37:56",{"$f":"VLOOKUP(C7,WAVA!$C$3:$E$299,3,FALSE)","v":58},null,null,{"$f":"VLOOKUP(E7,'AgeStdHMS (Men)'!$A$5:$U$100,10,)","v":"00:54:01"},3241,5876,0.55156569094622188,6,null,0.55156569094622188]
[null,null,"John Walton","02:21:45",{"$f":"VLOOKUP(C8,WAVA!$C$3:$E$299,3,FALSE)","v":47},null,null,{"$f":"VLOOKUP(E8,'AgeStdHMS (Men)'!$A$5:$U$100,10,)","v":"00:49:10"},2950,8505,0.34685479129923574,9,null,0.34685479129923574]
[]
[]
["Female"]
[null,null,"Rachel Parker","01:31:48",{"$f":"VLOOKUP(C12,WAVA!$C$3:$E$299,3,FALSE)","v":45},null,null,{"$f":"VLOOKUP(E12,'AgeStdHMS (Women)'!$A$5:$U$100,10,)","v":"00:53:19"},{"$f":"CONVERT(H12,\"day\",\"sec\")","v":3199},{"$f":"CONVERT(D12,\"day\",\"sec\")","v":5508},{"$f":"I12/J12","v":0.58079157588961505},5,null,{"$f":"H12/D12","v":0.58079157588961505}]
[null,null,"Hannah Elliott","01:35:02",{"$f":"VLOOKUP(C13,WAVA!$C$3:$E$299,3,FALSE)","v":28},null,null,{"$f":"VLOOKUP(E13,'AgeStdHMS (Women)'!$A$5:$U$100,10,)","v":"00:49:41"},{"$f":"CONVERT(H13,\"day\",\"sec\")","v":2980.9999999999995},{"$f":"CONVERT(D13,\"day\",\"sec\")","v":5702},{"$f":"I13/J13","v":0.52279901788846006},7,null,{"$f":"H13/D13","v":0.52279901788846017}]
[null,null,"Carolyn Rix","01:44:44",{"$f":"VLOOKUP(C14,WAVA!$C$3:$E$299,3,FALSE)","v":58},null,null,{"$f":"VLOOKUP(E14,'AgeStdHMS (Women)'!$A$5:$U$100,10,)","v":"01:02:27"},3747,6284,0.59627625716104393,3,null,0.59627625716104393]

{"sheet":"Guisley","index":10,"n_rows":25,"n_cols":14,"rows_kept":25,"cut":false,"hidden":false,"merged":[]}
["Based on Male & Female Road Age Standards in Seconds WMA and USATF, 2010",null,null,null,null,null,null,null,"10K"]
["Male",null,"Name","Time","Age",null,null,"Age standard","Age standard/s","Actual/s","Graded","Rank",null,"WAVA"]
[null,null,"Andy Brown","00:39:45",49,null,null,{"$f":"VLOOKUP(E3,'AgeStdHMS (Men)'!$A$5:$U$100,7,)","v":"00:30:27"},{"$f":"CONVERT(H3,\"day\",\"sec\")","v":1827},{"$f":"CONVERT(D3,\"day\",\"sec\")","v":2385},{"$f":"I3/J3","v":0.76603773584905666},{"$f":"RANK(K3,$K$3:$K$30,0)","v":2},null,{"$f":"H3/D3","v":0.76603773584905654}]
[null,null,"Stuart Dunbar","00:41:17",{"$f":"VLOOKUP(C4,WAVA!$C$3:$E$299,3,FALSE)","v":54},null,null,{"$f":"VLOOKUP(E4,'AgeStdHMS (Men)'!$A$5:$U$100,7,)","v":"00:31:43"},{"$f":"CONVERT(H4,\"day\",\"sec\")","v":1903},{"$f":"CONVERT(D4,\"day\",\"sec\")","v":2477},{"$f":"I4/J4","v":0.76826806620912391},{"$f":"RANK(K4,$K$3:$K$30,0)","v":1},null,{"$f":"H4/D4","v":0.76826806620912391}]
[null,null,"Ian Jenkins","00:46:49",{"$f":"VLOOKUP(C5,WAVA!$C$3:$E$299,3,FALSE)","v":46},null,null,{"$f":"VLOOKUP(E5,'AgeStdHMS (Men)'!$A$5:$U$100,7,)","v":"00:29:44"},1784,2809,0.63510145959416164,3,null,0.63510145959416164]
[null,null,"Steven Maude","00:46:58",{"$f":"VLOOKUP(C6,WAVA!$C$3:$E$299,3,FALSE)","v":37},null,null,{"$f":"VLOOKUP(E6,'AgeStdHMS (Men)'!$A$5:$U$100,7,)","v":"00:27:47"},1667,2818.0000000000005,0.59155429382540803,6,null,0.59155429382540803]
[null,null,"Guy Richardson","00:50:02",{"$f":"VLOOKUP(C7,WAVA!$C$3:$E$299,3,FALSE)","v":42},null,null,{"$f":"VLOOKUP(E7,'AgeStdHMS (Men)'!$A$5:$U$100,7,)","v":"00:28:50"},1730,3002,0.57628247834776813,9,null,0.57628247834776813]
[null,null,"John Singh","00:50:47",{"$f":"VLOOKUP(C8,WAVA!$C$3:$E$299,3,FALSE)","v":34},null,null,{"$f":"VLOOKUP(E8,'AgeStdHMS (Men)'!$A$5:$U$100,7,)","v":"00:27:17"},1637,3047,0.53724975385625207,14,null,0.53724975385625207]
[null,null,"Martin Love","00:51:55",{"$f":"VLOOKUP(C9,WAVA!$C$3:$E$299,3,FALSE)","v":55},null,null,{"$f":"VLOOKUP(E9,'AgeStdHMS (Men)'!$A$5:$U$100,7,)","v":"00:31:59"},1919.0000000000002,3115,0.61605136436597119,5,null,0.61605136436597119]
[null,null,"Alan Douglas","00:51:57",{"$f":"VLOOKUP(C10,WAVA!$C$3:$E$299,3,FALSE)","v":47},null,null,{"$f":"VLOOKUP(E10,'AgeStdHMS (Men)'!$A$5:$U$100,7,)","v":"00:29:58"},1798,3117,0.57683670195700998,8,null,0.57683670195700998]
[null,null,"Tim Bellwood","00:51:59",{"$f":"VLOOKUP(C11,WAVA!$C$3:$E$299,3,FALSE)","v":40},null,null,{"$f":"VLOOKUP(E11,'AgeStdHMS (Men)'!$A$5:$U$100,7,)","v":"00:28:25"},1705.0000000000002,3118.9999999999995,0.54664956716896451,12,null,0.54664956716896451]
[null,null,"Gary Western","00:52:22",{"$f":"VLOOKUP(C12,WAVA!$C$3:$E$299,3,FALSE)","v":57},null,null,{"$f":"VLOOKUP(E12,'AgeStdHMS (Men)'!$A$5:$U$100,7,)","v":"00:32:32"},1951.9999999999998,3142,0.62126034373010819,4,null,0.62126034373010819]
[null,null,"Malcolm Foy","00:56:03",{"$f":"VLOOKUP(C13,WAVA!$C$3:$E$299,3,FALSE)","v":53},null,null,{"$f":"VLOOKUP(E13,'AgeStdHMS (Men)'!$A$5:$U$100,7,)","v":"00:31:27"},1887,3363,0.56110615521855489,10,null,0.56110615521855489]
[null,null,"Mohanlal Mistry","01:00:04",{"$f":"VLOOKUP(C14,WAVA!$C$3:$E$299,3,FALSE)","v":55},null,null,{"$f":"VLOOKUP(E14,'AgeStdHMS (Men)'!$A$5:$U$100,7,)","v":"00:31:59"},1919.0000000000002,3603.9999999999995,0.53246392896781369,15,null,0.53246392896781358]
[null,null,"Mark Walker","01:00:16",{"$f":"VLOOKUP(C15,WAVA!$C$3:$E$299,3,FALSE)","v":53},null,null,{"$f":"VLOOKUP(E15,'AgeStdHMS (Men)'!$A$5:$U$100,7,)","v":"00:31:27"},1887,3616.0000000000005,0.52184734513274333,17,null,0.52184734513274333]
[null,null,"Nick Breare","01:07:42",{"$f":"VLOOKUP(C16,WAVA!$C$3:$E$299,3,FALSE)","v":67},null,null,{"$f":"VLOOKUP(E16,'AgeStdHMS (Men)'!$A$5:$U$100,7,)","v":"00:35:34"},2134,4062,0.5253569670113245,16,null,0.5253569670113245]
[null,null,"Richard Smith","01:08:37",{"$f":"VLOOKUP(C17,WAVA!$C$3:$E$299,3,FALSE)","v":58},null,null,{"$f":"VLOOKUP(E17,'AgeStdHMS (Men)'!$A$5:$U$100,7,)","v":"00:32:48"},1968,4117,0.47801797425309689,19,null,0.47801797425309694]
[]
[]
["Female"]
[null,null,"Amanda  Bellwood","00:51:47",{"$f":"VLOOKUP(C21,WAVA!$C$3:$E$299,3,FALSE)","v":39},null,null,{"$f":"VLOOKUP(E21,'AgeStdHMS (Men)'!$A$5:$U$100,7,)","v":"00:28:12"},{"$f":"CONVERT(H21,\"day\",\"sec\")","v":1692},{"$f":"CONVERT(D21,\"day\",\"sec\")","v":3107.0000000000005},{"$f":"I21/J21","v":0.54457676214998385},13,null,{"$f":"H21/D21","v":0.54457676214998385}]
[null,null,"Tracy Foy","00:53:51",{"$f":"VLOOKUP(C22,WAVA!$C$3:$E$299,3,FALSE)","v":46},null,null,{"$f":"VLOOKUP(E22,'AgeStdHMS (Men)'!$A$5:$U$100,7,)","v":"00:29:44"},{"$f":"CONVERT(H22,\"day\",\"sec\")","v":1784},{"$f":"CONVERT(D22,\"day\",\"sec\")","v":3231.0000000000005},{"$f":"I22/J22","v":0.55215103683070255},11,null,{"$f":"H22/D22","v":0.55215103683070255}]
[null,null,"Helen Love","00:56:40",{"$f":"VLOOKUP(C23,WAVA!$C$3:$E$299,3,FALSE)","v":59},null,null,{"$f":"VLOOKUP(E23,'AgeStdHMS (Men)'!$A$5:$U$100,7,)","v":"00:33:06"},1986,3400,0.58411764705882352,7,null,0.58411764705882352]
[null,null,"Rachel Parker","01:00:58",{"$f":"VLOOKUP(C24,WAVA!$C$3:$E$299,3,FALSE)","v":45},null,null,{"$f":"VLOOKUP(E24,'AgeStdHMS (Men)'!$A$5:$U$100,7,)","v":"00:29:31"},1771,3658.0000000000005,0.48414434117003824,18,null,0.48414434117003824]
[null,null,"Helen Brant","01:01:07",{"$f":"VLOOKUP(C25,WAVA!$C$3:$E$299,3,FALSE)","v":35},null,null,{"$f":"VLOOKUP(E25,'AgeStdHMS (Men)'!$A$5:$U$100,7,)","v":"00:27:26"},1646,3667,{"$f":"I25/J25","v":0.44886828470139079},20,null,0.44886828470139079]

{"sheet":"Odda","index":11,"n_rows":20,"n_cols":14,"rows_kept":20,"cut":false,"hidden":false,"merged":[]}
["Based on Male & Female Road Age Standards in Seconds WMA and USATF, 2010"]
["Male",null,"Name","Time","Age",null,null,"Age standard","Age standard/s","Actual/s","Graded","Rank",null,"WAVA"]
["Will","Kerr",{"$f":"CONCATENATE(A3,\" \",B3)","v":"Will Kerr"},"00:39:43",{"$f":"VLOOKUP(C3,WAVA!$C$3:$E$299,3,FALSE)","v":40},null,null,{"$f":"VLOOKUP(E3,'AgeStdHMS (Men)'!$A$5:$U$100,7,)","v":"00:28:25"},{"$f":"CONVERT(H3,\"day\",\"sec\")","v":1705.0000000000002},{"$f":"CONVERT(D3,\"day\",\"sec\")","v":2383},{"$f":"I3/J3","v":0.71548468317247182},{"$f":"RANK(K3,$K$3:$K$40,0)","v":1},null,{"$f":"H3/D3","v":0.71548468317247171}]
["Simon","Frazer",{"$f":"CONCATENATE(A4,\" \",B4)","v":"Simon Frazer"},"00:45:50",{"$f":"VLOOKUP(C4,WAVA!$C$3:$E$299,3,FALSE)","v":42},null,null,{"$f":"VLOOKUP(E4,'AgeStdHMS (Men)'!$A$5:$U$100,7,)","v":"00:28:50"},{"$f":"CONVERT(H4,\"day\",\"sec\")","v":1730},{"$f":"CONVERT(D4,\"day\",\"sec\")","v":2750},{"$f":"I4/J4","v":0.62909090909090915},{"$f":"RANK(K4,$K$3:$K$40,0)","v":3},null,{"$f":"H4/D4","v":0.62909090909090903}]
["Robert","Donkin","Robert Burrell Donkin","00:48:49",{"$f":"VLOOKUP(C5,WAVA!$C$3:$E$299,3,FALSE)","v":44},null,null,{"$f":"VLOOKUP(E5,'AgeStdHMS (Men)'!$A$5:$U$100,7,)","v":"00:29:17"},1757,2929,0.59986343461932401,5,null,0.5998634346193239]
["Richard","Stone","Richard Stone","00:49:25",{"$f":"VLOOKUP(C6,WAVA!$C$3:$E$299,3,FALSE)","v":51},null,null,{"$f":"VLOOKUP(E6,'AgeStdHMS (Men)'!$A$5:$U$100,7,)","v":"00:30:57"},1857.0000000000002,2965,0.62630691399662741,4,null,0.62630691399662741]
["Ian","Jenkins","Ian Jenkins","00:52:54",{"$f":"VLOOKUP(C7,WAVA!$C$3:$E$299,3,FALSE)","v":46},null,null,{"$f":"VLOOKUP(E7,'AgeStdHMS (Men)'!$A$5:$U$100,7,)","v":"00:29:44"},1784,3173.9999999999995,0.56206679269061133,9,null,0.56206679269061122]
["Jeremy","Rix","Jeremy Rix","00:54:33",{"$f":"VLOOKUP(C8,WAVA!$C$3:$E$299,3,FALSE)","v":54},null,null,{"$f":"VLOOKUP(E8,'AgeStdHMS (Men)'!$A$5:$U$100,7,)","v":"00:31:43"},1903,3273.0000000000005,0.58142377024136871,7,null,0.58142377024136871]
["Darren","Longhorn","Darren Longhorn","00:58:55",{"$f":"VLOOKUP(C9,WAVA!$C$3:$E$299,3,FALSE)","v":50},null,null,{"$f":"VLOOKUP(E9,'AgeStdHMS (Men)'!$A$5:$U$100,7,)","v":"00:30:42"},1841.9999999999998,3535.0000000000005,0.5210749646393209,10,null,0.52107496463932101]
["Martin","Love","Martin Love","00:54:51",{"$f":"VLOOKUP(C10,WAVA!$C$3:$E$299,3,FALSE)","v":55},null,null,{"$f":"VLOOKUP(E10,'AgeStdHMS (Men)'!$A$5:$U$100,7,)","v":"00:31:59"},1919.0000000000002,3291,0.58310543907626866,6,null,0.58310543907626866]
["Malcolm","Foy","Malcolm Foy","01:07:14",{"$f":"VLOOKUP(C11,WAVA!$C$3:$E$299,3,FALSE)","v":53},null,null,{"$f":"VLOOKUP(E11,'AgeStdHMS (Men)'!$A$5:$U$100,7,)","v":"00:31:27"},1887,4034,0.46777392166584036,15,null,0.46777392166584036]
[]
["Female"]
["Tracy","Foy",{"$f":"CONCATENATE(A14,\" \",B14)","v":"Tracy Foy"},"00:58:02",{"$f":"VLOOKUP(C14,WAVA!$C$3:$E$299,3,FALSE)","v":46},null,null,{"$f":"VLOOKUP(E14,'AgeStdHMS (Women)'!$A$5:$U$100,7,)","v":"00:32:51"},1971,3482,0.56605399195864448,8,null,0.56605399195864448]
["Helen","Love","Helen Love","01:00:27",{"$f":"VLOOKUP(C15,WAVA!$C$3:$E$299,3,FALSE)","v":59},null,null,{"$f":"VLOOKUP(E15,'AgeStdHMS (Women)'!$A$5:$U$100,7,)","v":"00:38:39"},2319,3627.0000000000005,0.63937138130686511,2,null,0.63937138130686511]
["Mel","Akeroyd","Mel Akeroyd","01:01:54",{"$f":"VLOOKUP(C16,WAVA!$C$3:$E$299,3,FALSE)","v":37},null,null,{"$f":"VLOOKUP(E16,'AgeStdHMS (Women)'!$A$5:$U$100,7,)","v":"00:30:51"},1851,3713.9999999999995,0.49838449111470118,11,null,0.49838449111470118]
["Helen","Brant","Helen Brant","01:07:09",{"$f":"VLOOKUP(C17,WAVA!$C$3:$E$299,3,FALSE)","v":35},null,null,{"$f":"VLOOKUP(E17,'AgeStdHMS (Women)'!$A$5:$U$100,7,)","v":"00:30:38"},1838,4029.0000000000005,0.45619260362372793,16,null,0.45619260362372793]
["Kath","Stone","Kath Stone","01:09:24",{"$f":"VLOOKUP(C18,WAVA!$C$3:$E$299,3,FALSE)","v":48},null,null,{"$f":"VLOOKUP(E18,'AgeStdHMS (Women)'!$A$5:$U$100,7,)","v":"00:33:33"},2013,4164,0.4834293948126801,12,null,0.48342939481268005]
["Denise","Davis","Denise Davis","01:09:28",{"$f":"VLOOKUP(C19,WAVA!$C$3:$E$299,3,FALSE)","v":48},null,null,{"$f":"VLOOKUP(E19,'AgeStdHMS (Women)'!$A$5:$U$100,7,)","v":"00:33:33"},2013,4168,0.48296545105566219,13,null,0.48296545105566219]
["Fiona","Farquhar","Fiona Farquhar","01:09:49",{"$f":"VLOOKUP(C20,WAVA!$C$3:$E$299,3,FALSE)","v":48},null,null,{"$f":"VLOOKUP(E20,'AgeStdHMS (Women)'!$A$5:$U$100,7,)","v":"00:33:33"},2013,4189,0.48054428264502269,14,null,0.48054428264502269]

{"sheet":"Leeds half","index":12,"n_rows":27,"n_cols":14,"rows_kept":27,"cut":false,"hidden":false,"merged":[]}
["Based on Male & Female Road Age Standards in Seconds WMA and USATF, 2010",null,null,null,null,null,null,null,"13.1m"]
["Male",null,"Name","Time","Age",null,null,"Age standard","Age standard/s","Actual/s","Graded","Rank",null,"WAVA"]
[]
["Simon","Frazer",{"$f":"CONCATENATE(A4,\" \",B4)","v":"Simon Frazer"},"01:28:51",{"$f":"VLOOKUP(C4,WAVA!$C$3:$E$299,3,FALSE)","v":42},null,null,{"$f":"VLOOKUP(E4,'AgeStdHMS (Men)'!$A$5:$U$100,12,)","v":"01:02:41"},{"$f":"CONVERT(H4,\"day\",\"sec\")","v":3761},{"$f":"CONVERT(D4,\"day\",\"sec\")","v":5331.0000000000009},{"$f":"I4/J4","v":0.70549615456762327},{"$f":"RANK(K4,$K$4:$K$21,0)","v":1},null,{"$f":"H4/D4","v":0.70549615456762327}]
["James","Gardner","James Gardner","01:31:11",{"$f":"VLOOKUP(C5,WAVA!$C$3:$E$299,3,FALSE)","v":28},null,null,{"$f":"VLOOKUP(E5,'AgeStdHMS (Men)'!$A$5:$U$100,12,)","v":"00:59:13"},{"$f":"CONVERT(H5,\"day\",\"sec\")","v":3553},{"$f":"CONVERT(D5,\"day\",\"sec\")","v":5471},{"$f":"I5/J5","v":0.64942423688539574},{"$f":"RANK(K5,$K$4:$K$21,0)","v":4},null,{"$f":"H5/D5","v":0.64942423688539574}]
["Andrew","Hutchinson","Andrew Hutchinson","01:35:16",{"$f":"VLOOKUP(C6,WAVA!$C$3:$E$299,3,FALSE)","v":41},null,null,{"$f":"VLOOKUP(E6,'AgeStdHMS (Men)'!$A$5:$U$100,12,)","v":"01:02:11"},3731,5715.9999999999991,0.6527291812456264,3,null,0.6527291812456264]
["Ewan","Gibb","Ewan Gibb","01:36:33",{"$f":"VLOOKUP(C7,WAVA!$C$3:$E$299,3,FALSE)","v":29},null,null,{"$f":"VLOOKUP(E7,'AgeStdHMS (Men)'!$A$5:$U$100,12,)","v":"00:59:13"},3553,5793,0.61332642844812701,7,null,0.61332642844812701]
["David","Scrivener","David Scrivener","01:42:12",{"$f":"VLOOKUP(C8,WAVA!$C$3:$E$299,3,FALSE)","v":38},null,null,{"$f":"VLOOKUP(E8,'AgeStdHMS (Men)'!$A$5:$U$100,12,)","v":"01:00:44"},3644.0000000000005,6132.0000000000009,0.59425962165688195,8,null,0.59425962165688195]
["Duane","Craven","Duane Craven","01:43:01",{"$f":"VLOOKUP(C9,WAVA!$C$3:$E$299,3,FALSE)","v":44},null,null,{"$f":"VLOOKUP(E9,'AgeStdHMS (Men)'!$A$5:$U$100,12,)","v":"01:03:42"},3821.9999999999995,6181,0.61834654586636462,6,null,0.61834654586636462]
["Noel","Fitzpatrick","Noel Fitzpatrick","01:51:39",{"$f":"VLOOKUP(C10,WAVA!$C$3:$E$299,3,FALSE)","v":47},null,null,{"$f":"VLOOKUP(E10,'AgeStdHMS (Men)'!$A$5:$U$100,12,)","v":"01:05:17"},3917,6699,0.58471413643827441,9,null,0.5847141364382743]
["Frank","Beecroft","Frank Beecroft","02:01:44",{"$f":"VLOOKUP(C11,WAVA!$C$3:$E$299,3,FALSE)","v":51},null,null,{"$f":"VLOOKUP(E11,'AgeStdHMS (Men)'!$A$5:$U$100,12,)","v":"01:07:32"},4052,7304,0.55476451259583792,13,null,0.55476451259583792]
["John","Walton","John Walton","01:59:25",{"$f":"VLOOKUP(C12,WAVA!$C$3:$E$299,3,FALSE)","v":47},null,null,{"$f":"VLOOKUP(E12,'AgeStdHMS (Men)'!$A$5:$U$100,12,)","v":"01:05:17"},3917,7164.9999999999991,0.54668527564549907,15,null,0.54668527564549896]
["Richard","Smith","Richard Smith","02:08:31",{"$f":"VLOOKUP(C13,WAVA!$C$3:$E$299,3,FALSE)","v":58},null,null,{"$f":"VLOOKUP(E13,'AgeStdHMS (Men)'!$A$5:$U$100,12,)","v":"01:11:51"},4311,{"$f":"CONVERT(D13,\"day\",\"sec\")","v":7710.9999999999991},{"$f":"I13/J13","v":0.55907145636104272},12,null,{"$f":"H13/D13","v":0.55907145636104272}]
["Craig","Elliott","Craig Elliott","01:49:09",{"$f":"VLOOKUP(C14,WAVA!$C$3:$E$299,3,FALSE)","v":43},null,null,{"$f":"VLOOKUP(E14,'AgeStdHMS (Men)'!$A$5:$U$100,12,)","v":"01:03:11"},3791,6549,0.57886700259581614,10,null,0.57886700259581614]
[null,null,"Tim Baldwin","01:26:53",{"$f":"VLOOKUP(C15,WAVA!$C$3:$E$299,3,FALSE)","v":29},null,null,{"$f":"VLOOKUP(E15,'AgeStdHMS (Men)'!$A$5:$U$100,12,)","v":"00:59:13"},3553,{"$f":"CONVERT(D15,\"day\",\"sec\")","v":5213},{"$f":"I15/J15","v":0.68156531747554194},2,null,{"$f":"H15/D15","v":0.68156531747554194}]
[null,null,"Gavin Hamilton","01:52:22",{"$f":"VLOOKUP(C16,WAVA!$C$3:$E$299,3,FALSE)","v":40},null,null,{"$f":"VLOOKUP(E16,'AgeStdHMS (Men)'!$A$5:$U$100,12,)","v":"01:01:41"},{"$f":"CONVERT(H16,\"day\",\"sec\")","v":3701},{"$f":"CONVERT(D16,\"day\",\"sec\")","v":6742},{"$f":"I16/J16","v":0.54894690002966484},{"$f":"RANK(K16,$K$4:$K$21,0)","v":14},null,{"$f":"H16/D16","v":0.54894690002966484}]
["Female",null,null,null,null,null,null,null,"13.1m"]
["Tracy","Foy",{"$f":"CONCATENATE(A18,\" \",B18)","v":"Tracy Foy"},"01:50:31",{"$f":"VLOOKUP(C18,WAVA!$C$3:$E$299,3,FALSE)","v":46},null,null,{"$f":"VLOOKUP(E18,'AgeStdHMS (Women)'!$A$5:$U$100,12,)","v":"01:11:19"},{"$f":"CONVERT(H18,\"day\",\"sec\")","v":4279},{"$f":"CONVERT(D18,\"day\",\"sec\")","v":6631},{"$f":"I18/J18","v":0.64530236766701854},{"$f":"RANK(K18,$K$4:$K$45,0)","v":5},null,{"$f":"H18/D18","v":0.64530236766701865}]
["Philippa","Bird","Philippa Bird","01:58:01",{"$f":"VLOOKUP(C19,WAVA!$C$3:$E$299,3,FALSE)","v":36},null,null,{"$f":"VLOOKUP(E19,'AgeStdHMS (Women)'!$A$5:$U$100,12,)","v":"01:06:42"},4002.0000000000005,7080.9999999999991,0.56517441039401228,{"$f":"RANK(K19,$K$4:$K$45,0)","v":13},null,0.56517441039401228]
["Jadine","Smith","Jadine Smith","02:12:05",{"$f":"VLOOKUP(C20,WAVA!$C$3:$E$299,3,FALSE)","v":28},null,null,{"$f":"VLOOKUP(E20,'AgeStdHMS (Women)'!$A$5:$U$100,12,)","v":"01:05:50"},3950,7925,0.49842271293375395,20,null,0.49842271293375395]
["Claire","Thaper","Claire Thaper","02:18:27",{"$f":"VLOOKUP(C21,WAVA!$C$3:$E$299,3,FALSE)","v":36},null,null,{"$f":"VLOOKUP(E21,'AgeStdHMS (Women)'!$A$5:$U$100,12,)","v":"01:06:42"},4002.0000000000005,8307,0.48176236908631281,23,null,0.48176236908631276]
["Sarah","Sherratt","Sarah Sherratt","02:11:09",{"$f":"VLOOKUP(C22,WAVA!$C$3:$E$299,3,FALSE)","v":38},null,null,{"$f":"VLOOKUP(E22,'AgeStdHMS (Women)'!$A$5:$U$100,12,)","v":"01:07:17"},4037,7869.0000000000009,0.51302579743296473,18,null,0.51302579743296473]
["Esther","Silva","Esther Silva","02:11:09",{"$f":"VLOOKUP(C23,WAVA!$C$3:$E$299,3,FALSE)","v":32},null,null,{"$f":"VLOOKUP(E23,'AgeStdHMS (Women)'!$A$5:$U$100,12,)","v":"01:06:00"},3959.9999999999995,7869.0000000000009,0.50324056423942043,19,null,0.50324056423942043]
["Louise","Dell'Amico","Louise Dell'Amico","02:17:29",{"$f":"VLOOKUP(C24,WAVA!$C$3:$E$299,3,FALSE)","v":41},null,null,{"$f":"VLOOKUP(E24,'AgeStdHMS (Women)'!$A$5:$U$100,12,)","v":"01:08:27"},4107,8249.0000000000018,0.49787853073099758,21,null,0.49787853073099758]
[null,null,"Sylvia Ross","02:46:35",{"$f":"VLOOKUP(C25,WAVA!$C$3:$E$299,3,FALSE)","v":69},null,null,{"$f":"VLOOKUP(E25,'AgeStdHMS (Women)'!$A$5:$U$100,12,)","v":"01:37:26"},{"$f":"CONVERT(H25,\"day\",\"sec\")","v":5846},{"$f":"CONVERT(D25,\"day\",\"sec\")","v":9995},{"$f":"I25/J25","v":0.58489244622311154},{"$f":"RANK(K25,$K$4:$K$45,0)","v":9},null,{"$f":"H25/D25","v":0.58489244622311143}]
[null,null,"Mel Akeroyd","01:56:25",{"$f":"VLOOKUP(C26,WAVA!$C$3:$E$299,3,FALSE)","v":37},null,null,{"$f":"VLOOKUP(E26,'AgeStdHMS (Women)'!$A$5:$U$100,12,)","v":"01:06:58"},{"$f":"CONVERT(H26,\"day\",\"sec\")","v":4018},{"$f":"CONVERT(D26,\"day\",\"sec\")","v":6985},{"$f":"I26/J26","v":0.57523264137437369},{"$f":"RANK(K26,$K$4:$K$45,0)","v":12},null,{"$f":"H26/D26","v":0.57523264137437369}]
[null,null,"Fiona Farquhar","02:28:39",{"$f":"VLOOKUP(C27,WAVA!$C$3:$E$299,3,FALSE)","v":48},null,null,{"$f":"VLOOKUP(E27,'AgeStdHMS (Women)'!$A$5:$U$100,12,)","v":"01:12:49"},4369,8919,0.48985312254737079,22,null,0.48985312254737079]

{"sheet":"Ilkley","index":13,"n_rows":11,"n_cols":12,"rows_kept":11,"cut":false,"hidden":false,"merged":[]}
["Based on Male & Female Road Age Standards in Seconds WMA and USATF, 2010"]
["Male",null,"Name","Time","Age","Age standard","Age standard/s","Actual/s","Graded","Rank",null,"WAVA"]
[null,null,"STUART DUNBAR","00:47:52",{"$f":"VLOOKUP(C3,WAVA!$C$3:$E$299,3,FALSE)","v":54},{"$f":"VLOOKUP(E3,'AgeStdHMS (Men)'!$A$5:$U$100,7,)","v":"00:31:43"},{"$f":"CONVERT(F3,\"day\",\"sec\")","v":1903},{"$f":"CONVERT(D3,\"day\",\"sec\")","v":2872.0000000000005},{"$f":"G3/H3","v":0.66260445682451241},{"$f":"RANK(I3,$I$3:$I$39,0)","v":1},null,{"$f":"F3/D3","v":0.66260445682451241}]
[null,null,"Bernie Bowden","00:55:48",{"$f":"VLOOKUP(C4,WAVA!$C$3:$E$299,3,FALSE)","v":46},{"$f":"VLOOKUP(E4,'AgeStdHMS (Women)'!$A$5:$U$100,7,)","v":"00:32:51"},1971,3348,0.58870967741935487,2,null,0.58870967741935487]
[null,null,"JOHN SINGH","00:57:17",{"$f":"VLOOKUP(C5,WAVA!$C$3:$E$299,3,FALSE)","v":34},{"$f":"VLOOKUP(E5,'AgeStdHMS (Men)'!$A$5:$U$100,7,)","v":"00:27:17"},1637,3436.9999999999995,0.47628745999418104,7,null,0.47628745999418104]
[null,null,"ALAN DOUGLAS","00:58:55",{"$f":"VLOOKUP(C6,WAVA!$C$3:$E$299,3,FALSE)","v":47},{"$f":"VLOOKUP(E6,'AgeStdHMS (Men)'!$A$5:$U$100,7,)","v":"00:29:58"},1798,3534.9999999999995,0.50862800565770871,6,null,0.50862800565770871]
[null,null,"MARTIN LOVE","00:58:36",{"$f":"VLOOKUP(C7,WAVA!$C$3:$E$299,3,FALSE)","v":55},{"$f":"VLOOKUP(E7,'AgeStdHMS (Men)'!$A$5:$U$100,7,)","v":"00:31:59"},1919.0000000000002,3516,0.54579067121729241,3,null,0.54579067121729241]
[null,null,"GARY WESTERN","00:59:43",{"$f":"VLOOKUP(C8,WAVA!$C$3:$E$299,3,FALSE)","v":57},{"$f":"VLOOKUP(E8,'AgeStdHMS (Men)'!$A$5:$U$100,7,)","v":"00:32:32"},1951.9999999999998,3583,0.54479486463857096,4,null,0.54479486463857096]
[null,null,"ALUN GRIFFITHS","01:04:55",{"$f":"VLOOKUP(C9,WAVA!$C$3:$E$299,3,FALSE)","v":59},{"$f":"VLOOKUP(E9,'AgeStdHMS (Men)'!$A$5:$U$100,7,)","v":"00:33:06"},1986,3894.9999999999995,0.50988446726572534,5,null,0.50988446726572534]
[null,null,"Philippa BIRD","01:05:06",{"$f":"VLOOKUP(C10,WAVA!$C$3:$E$299,3,FALSE)","v":36},{"$f":"VLOOKUP(E10,'AgeStdHMS (Women)'!$A$5:$U$100,7,)","v":"00:30:44"},1844,3905.9999999999995,0.47209421402969798,8,null,0.47209421402969798]
[null,null,"Mohanlal MISTRY","01:07:53",{"$f":"VLOOKUP(C11,WAVA!$C$3:$E$299,3,FALSE)","v":55},{"$f":"VLOOKUP(E11,'AgeStdHMS (Men)'!$A$5:$U$100,7,)","v":"00:31:59"},1919.0000000000002,4073,0.47115148539160329,9,null,0.47115148539160323]

{"sheet":"Otley","index":14,"n_rows":23,"n_cols":14,"rows_kept":23,"cut":false,"hidden":false,"merged":[]}
["Based on Male & Female Road Age Standards in Seconds WMA and USATF, 2010",null,null,null,null,null,null,"10m"]
["Male",null,"Name","Time","Age",null,null,"Age standard","Age standard/s","Actual/s","Graded","Rank",null,"WAVA"]
["Will","Kerr",{"$f":"CONCATENATE(A3,\" \",B3)","v":"Will Kerr"},"00:58:07",{"$f":"VLOOKUP(C3,WAVA!$C$3:$E$299,3,FALSE)","v":40},null,null,{"$f":"VLOOKUP(E3,'AgeStdHMS (Men)'!$A$5:$U$100,10,)","v":"00:46:31"},{"$f":"CONVERT(H3,\"day\",\"sec\")","v":2791.0000000000005},{"$f":"CONVERT(D3,\"day\",\"sec\")","v":3487},{"$f":"I3/J3","v":0.80040149125322635},{"$f":"RANK(K3,$K$3:$K$23,0)","v":2},null,{"$f":"H3/D3","v":0.80040149125322635}]
["Carl","Kernick",{"$f":"CONCATENATE(A4,\" \",B4)","v":"Carl Kernick"},"01:03:06",{"$f":"VLOOKUP(C4,WAVA!$C$3:$E$299,3,FALSE)","v":39},null,null,{"$f":"VLOOKUP(E4,'AgeStdHMS (Men)'!$A$5:$U$100,10,)","v":"00:46:09"},{"$f":"CONVERT(H4,\"day\",\"sec\")","v":2769},{"$f":"CONVERT(D4,\"day\",\"sec\")","v":3786},{"$f":"I4/J4","v":0.73137876386687795},{"$f":"RANK(K4,$K$3:$K$23,0)","v":3},null,{"$f":"H4/D4","v":0.73137876386687795}]
["Stuart","Dunbar","Stuart Dunbar","01:05:00",{"$f":"VLOOKUP(C5,WAVA!$C$3:$E$299,3,FALSE)","v":54},null,null,{"$f":"VLOOKUP(E5,'AgeStdHMS (Men)'!$A$5:$U$100,10,)","v":"00:52:09"},3129,3900,0.80230769230769228,1,null,0.80230769230769228]
["Stewart","Spink","Stewart Spink","01:11:29",{"$f":"VLOOKUP(C6,WAVA!$C$3:$E$299,3,FALSE)","v":48},null,null,{"$f":"VLOOKUP(E6,'AgeStdHMS (Men)'!$A$5:$U$100,10,)","v":"00:49:34"},2974,4289,0.69340172534390299,4,null,0.6934017253439031]
["Ian","Jenkins","Ian Jenkins","01:13:29",{"$f":"VLOOKUP(C7,WAVA!$C$3:$E$299,3,FALSE)","v":46},null,null,{"$f":"VLOOKUP(E7,'AgeStdHMS (Men)'!$A$5:$U$100,10,)","v":"00:48:46"},2925.9999999999995,4409,0.66364254933091393,8,null,0.66364254933091404]
["Stephen","Hetherington","Stephen Hetherington","01:18:50",{"$f":"VLOOKUP(C8,WAVA!$C$3:$E$299,3,FALSE)","v":57},null,null,{"$f":"VLOOKUP(E8,'AgeStdHMS (Men)'!$A$5:$U$100,10,)","v":"00:53:32"},3212,4730,0.67906976744186043,6,null,0.67906976744186043]
["Alan","Douglas","Alan Douglas","01:19:37",{"$f":"VLOOKUP(C9,WAVA!$C$3:$E$299,3,FALSE)","v":47},null,null,{"$f":"VLOOKUP(E9,'AgeStdHMS (Men)'!$A$5:$U$100,10,)","v":"00:49:10"},2950,4777,0.61754239062172911,11,null,0.61754239062172911]
["Gary","Western","Gary Western","01:20:17",{"$f":"VLOOKUP(C10,WAVA!$C$3:$E$299,3,FALSE)","v":57},null,null,{"$f":"VLOOKUP(E10,'AgeStdHMS (Men)'!$A$5:$U$100,10,)","v":"00:53:32"},3212,4817,0.66680506539339834,7,null,0.66680506539339834]
["Craig","Elliott","Craig Elliott","01:23:00",{"$f":"VLOOKUP(C11,WAVA!$C$3:$E$299,3,FALSE)","v":43},null,null,{"$f":"VLOOKUP(E11,'AgeStdHMS (Men)'!$A$5:$U$100,10,)","v":"00:47:37"},2856.9999999999995,4980,0.57369477911646583,14,null,0.57369477911646583]
["Martin","Love","Martin Love","01:23:47",{"$f":"VLOOKUP(C12,WAVA!$C$3:$E$299,3,FALSE)","v":55},null,null,{"$f":"VLOOKUP(E12,'AgeStdHMS (Men)'!$A$5:$U$100,10,)","v":"00:52:36"},3156,5027,0.62780982693455345,10,null,0.62780982693455334]
["Barney","Lerner","Barney Lerner","01:25:25",{"$f":"VLOOKUP(C13,WAVA!$C$3:$E$299,3,FALSE)","v":66},null,null,{"$f":"VLOOKUP(E13,'AgeStdHMS (Men)'!$A$5:$U$100,10,)","v":"00:58:11"},3490.9999999999995,5125,0.68117073170731701,5,null,0.68117073170731701]
["Mohanlal","Mistry","Mohanlal Mistry","01:29:44",{"$f":"VLOOKUP(C14,WAVA!$C$3:$E$299,3,FALSE)","v":55},null,null,{"$f":"VLOOKUP(E14,'AgeStdHMS (Men)'!$A$5:$U$100,10,)","v":"00:52:36"},3156,5384,0.58618127786032692,13,null,0.58618127786032692]
["Richard","Smith","Richard Smith","01:47:33",{"$f":"VLOOKUP(C15,WAVA!$C$3:$E$299,3,FALSE)","v":58},null,null,{"$f":"VLOOKUP(E15,'AgeStdHMS (Men)'!$A$5:$U$100,10,)","v":"00:54:01"},3241,6453,0.5022470168913683,17,null,0.5022470168913683]
[]
["Female",null,null,null,null,null,null,"Age standard","Age standard/s","Actual/s","Graded","Rank",null,"WAVA"]
["Louise","Nash",{"$f":"CONCATENATE(A18,\" \",B18)","v":"Louise Nash"},"01:23:45",{"$f":"VLOOKUP(C18,WAVA!$C$3:$E$299,3,FALSE)","v":47},null,null,{"$f":"VLOOKUP(E18,'AgeStdHMS (Men)'!$A$5:$U$100,10,)","v":"00:49:10"},{"$f":"CONVERT(H18,\"day\",\"sec\")","v":2950},{"$f":"CONVERT(D18,\"day\",\"sec\")","v":5024.9999999999991},{"$f":"I18/J18","v":0.58706467661691553},12,null,{"$f":"H18/D18","v":0.58706467661691542}]
["Helen","Love",{"$f":"CONCATENATE(A19,\" \",B19)","v":"Helen Love"},"01:24:03",{"$f":"VLOOKUP(C19,WAVA!$C$3:$E$299,3,FALSE)","v":59},null,null,{"$f":"VLOOKUP(E19,'AgeStdHMS (Men)'!$A$5:$U$100,10,)","v":"00:54:30"},{"$f":"CONVERT(H19,\"day\",\"sec\")","v":3270},{"$f":"CONVERT(D19,\"day\",\"sec\")","v":5043},{"$f":"I19/J19","v":0.64842355740630575},9,null,{"$f":"H19/D19","v":0.64842355740630575}]
["Helen","Western","Helen Western","01:31:27",{"$f":"VLOOKUP(C20,WAVA!$C$3:$E$299,3,FALSE)","v":48},null,null,{"$f":"VLOOKUP(E20,'AgeStdHMS (Men)'!$A$5:$U$100,10,)","v":"00:49:34"},2974,5487,0.54200838345179514,15,null,0.54200838345179514]
["Philippa","Bird","Philippa Bird","01:32:16",{"$f":"VLOOKUP(C21,WAVA!$C$3:$E$299,3,FALSE)","v":36},null,null,{"$f":"VLOOKUP(E21,'AgeStdHMS (Men)'!$A$5:$U$100,10,)","v":"00:45:11"},2711,5536,0.48970375722543352,18,null,0.48970375722543352]
["Rachel","Parker","Rachel Parker","01:32:59",{"$f":"VLOOKUP(C22,WAVA!$C$3:$E$299,3,FALSE)","v":45},null,null,{"$f":"VLOOKUP(E22,'AgeStdHMS (Men)'!$A$5:$U$100,10,)","v":"00:48:23"},2903,5579,0.52034414769671988,16,null,0.52034414769671988]
["Urmila","Mistry","Urmila Mistry","01:48:07",{"$f":"VLOOKUP(C23,WAVA!$C$3:$E$299,3,FALSE)","v":54},null,null,{"$f":"VLOOKUP(E23,'AgeStdHMS (Men)'!$A$5:$U$100,10,)","v":"00:52:09"},3129,6487,0.48234931401264064,19,null,0.48234931401264064]

{"sheet":"Solstice","index":15,"n_rows":44,"n_cols":12,"rows_kept":44,"cut":false,"hidden":false,"merged":[]}
["Based on Male & Female Road Age Standards in Seconds WMA and USATF, 2010",null,null,null,null,"5m"]
[null,null,"Name","Time","Age","Age standard","Age standard/s","Actual/s","Graded","Rank",null,"WAVA"]
["Will","Kerr",{"$f":"CONCATENATE(A3,\" \",B3)","v":"Will Kerr"},"00:30:12",{"$f":"VLOOKUP(C3,WAVA!$C$3:$E$299,3,FALSE)","v":40},{"$f":"VLOOKUP(E3,'AgeStdHMS (Men)'!$A$5:$U$100,6,)","v":"00:22:34"},{"$f":"CONVERT(F3,\"day\",\"sec\")","v":1354.0000000000002},{"$f":"CONVERT(D3,\"day\",\"sec\")","v":1812},{"$f":"G3/H3","v":0.74724061810154541},{"$f":"RANK(I3,$I$3:$I$46,0)","v":2},null,{"$f":"F3/D3","v":0.7472406181015453}]
["Martin","Fillingham","Martin Fillingham","00:32:43",{"$f":"VLOOKUP(C4,WAVA!$C$3:$E$299,3,FALSE)","v":45},{"$f":"VLOOKUP(E4,'AgeStdHMS (Men)'!$A$5:$U$100,6,)","v":"00:23:27"},{"$f":"CONVERT(F4,\"day\",\"sec\")","v":1407},{"$f":"CONVERT(D4,\"day\",\"sec\")","v":1963.0000000000002},{"$f":"G4/H4","v":0.71676006113092194},{"$f":"RANK(I4,$I$3:$I$46,0)","v":3},null,{"$f":"F4/D4","v":0.71676006113092194}]
["Stuart","Dunbar","Stuart Dunbar","00:33:39",{"$f":"VLOOKUP(C5,WAVA!$C$3:$E$299,3,FALSE)","v":54},{"$f":"VLOOKUP(E5,'AgeStdHMS (Men)'!$A$5:$U$100,6,)","v":"00:25:12"},1512.0000000000002,2019,0.74888558692422003,1,null,0.74888558692422003]
["Ewan","Gibb","Ewan Gibb","00:35:49",{"$f":"VLOOKUP(C6,WAVA!$C$3:$E$299,3,FALSE)","v":29},{"$f":"VLOOKUP(E6,'AgeStdHMS (Men)'!$A$5:$U$100,6,)","v":"00:21:21"},1281,2149.0000000000005,0.5960912052117262,9,null,0.59609120521172632]
["Adam","Willoughby","Adam Willoughby","00:37:34",{"$f":"VLOOKUP(C7,WAVA!$C$3:$E$299,3,FALSE)","v":29},{"$f":"VLOOKUP(E7,'AgeStdHMS (Men)'!$A$5:$U$100,6,)","v":"00:21:21"},1281,2254,0.56832298136645965,14,null,0.56832298136645953]
["John","Walton","John Walton","00:40:43",{"$f":"VLOOKUP(C8,WAVA!$C$3:$E$299,3,FALSE)","v":47},{"$f":"VLOOKUP(E8,'AgeStdHMS (Men)'!$A$5:$U$100,6,)","v":"00:23:49"},1428.9999999999998,2443,0.58493655341792872,11,null,0.58493655341792872]
["Alan","Douglas","Alan Douglas","00:41:05",{"$f":"VLOOKUP(C9,WAVA!$C$3:$E$299,3,FALSE)","v":47},{"$f":"VLOOKUP(E9,'AgeStdHMS (Men)'!$A$5:$U$100,6,)","v":"00:23:49"},1428.9999999999998,2465,0.57971602434077074,12,null,0.57971602434077074]
["Gary","Western","Gary Western","00:41:33",{"$f":"VLOOKUP(C10,WAVA!$C$3:$E$299,3,FALSE)","v":57},{"$f":"VLOOKUP(E10,'AgeStdHMS (Men)'!$A$5:$U$100,6,)","v":"00:25:51"},1551,2493,0.62214199759326116,7,null,0.62214199759326105]
["Barney","Lerner","Barney Lerner","00:42:39",{"$f":"VLOOKUP(C11,WAVA!$C$3:$E$299,3,FALSE)","v":66},{"$f":"VLOOKUP(E11,'AgeStdHMS (Men)'!$A$5:$U$100,6,)","v":"00:28:00"},1680,2559,0.65650644783118406,6,null,0.65650644783118406]
["Alun","Griffiths","Alun Griffiths","00:43:38",{"$f":"VLOOKUP(C12,WAVA!$C$3:$E$299,3,FALSE)","v":59},{"$f":"VLOOKUP(E12,'AgeStdHMS (Men)'!$A$5:$U$100,6,)","v":"00:26:18"},1578,2618,0.6027501909854851,8,null,0.6027501909854851]
["Noel","Fitzpatrick","Noel Fitzpatrick","00:45:12",{"$f":"VLOOKUP(C13,WAVA!$C$3:$E$299,3,FALSE)","v":47},{"$f":"VLOOKUP(E13,'AgeStdHMS (Men)'!$A$5:$U$100,6,)","v":"00:23:49"},1428.9999999999998,2712,0.52691740412979338,20,null,0.52691740412979349]
["John","Colwell","John Colwell","00:48:52",{"$f":"VLOOKUP(C14,WAVA!$C$3:$E$299,3,FALSE)","v":60},{"$f":"VLOOKUP(E14,'AgeStdHMS (Men)'!$A$5:$U$100,6,)","v":"00:26:31"},1591,2932,0.54263301500682126,15,null,0.54263301500682126]
["Richard","Smith","Richard Smith","00:54:21",{"$f":"VLOOKUP(C15,WAVA!$C$3:$E$299,3,FALSE)","v":58},{"$f":"VLOOKUP(E15,'AgeStdHMS (Men)'!$A$5:$U$100,6,)","v":"00:26:04"},1564,3261,0.479607482367372,31,null,0.47960748236737194]
[null,null,"Craig Barrow","01:04:07",{"$f":"VLOOKUP(C16,WAVA!$C$3:$E$299,3,FALSE)","v":52},{"$f":"VLOOKUP(E16,'AgeStdHMS (Men)'!$A$5:$U$100,6,)","v":"00:24:47"},{"$f":"CONVERT(F16,\"day\",\"sec\")","v":1487},{"$f":"CONVERT(D16,\"day\",\"sec\")","v":3846.9999999999991},{"$f":"G16/H16","v":0.38653496230829226},39,null,{"$f":"F16/D16","v":0.38653496230829226}]
[]
["Bernie","Bowden",{"$f":"CONCATENATE(A18,\" \",B18)","v":"Bernie Bowden"},"00:38:12",{"$f":"VLOOKUP(C18,WAVA!$C$3:$E$299,3,FALSE)","v":46},{"$f":"VLOOKUP(E18,'AgeStdHMS (Women)'!$A$5:$U$100,6,)","v":"00:26:13"},{"$f":"CONVERT(F18,\"day\",\"sec\")","v":1573},{"$f":"CONVERT(D18,\"day\",\"sec\")","v":2292},{"$f":"G18/H18","v":0.68630017452006986},4,null,{"$f":"F18/D18","v":0.68630017452006975}]
["Tracy","Foy","Tracy Foy","00:44:03",{"$f":"VLOOKUP(C19,WAVA!$C$3:$E$299,3,FALSE)","v":46},{"$f":"VLOOKUP(E19,'AgeStdHMS (Women)'!$A$5:$U$100,6,)","v":"00:26:13"},1573,2643,0.5951570185395384,10,null,0.5951570185395384]
["Helen","Brant","Helen Brant","00:45:54",{"$f":"VLOOKUP(C20,WAVA!$C$3:$E$299,3,FALSE)","v":35},{"$f":"VLOOKUP(E20,'AgeStdHMS (Women)'!$A$5:$U$100,6,)","v":"00:24:26"},1466,2754,0.53231663035584609,17,null,0.53231663035584609]
["Helen","Western","Helen Western","00:47:04",{"$f":"VLOOKUP(C21,WAVA!$C$3:$E$299,3,FALSE)","v":48},{"$f":"VLOOKUP(E21,'AgeStdHMS (Women)'!$A$5:$U$100,6,)","v":"00:26:46"},1606,2824,0.56869688385269124,13,null,0.56869688385269124]
["Gemma","Bell","Gemma Bell","00:47:04",{"$f":"VLOOKUP(C22,WAVA!$C$3:$E$299,3,FALSE)","v":37},{"$f":"VLOOKUP(E22,'AgeStdHMS (Women)'!$A$5:$U$100,6,)","v":"00:24:37"},1476.9999999999998,2824,0.52301699716713868,23,null,0.52301699716713879]
["Mel","Akeroyd","Mel Akeroyd","00:47:09",{"$f":"VLOOKUP(C23,WAVA!$C$3:$E$299,3,FALSE)","v":37},{"$f":"VLOOKUP(E23,'AgeStdHMS (Women)'!$A$5:$U$100,6,)","v":"00:24:37"},1476.9999999999998,2829,0.5220926122304701,25,null,0.5220926122304701]
["Kerry","Wood","Kerry Wood","00:48:11",{"$f":"VLOOKUP(C24,WAVA!$C$3:$E$299,3,FALSE)","v":41},{"$f":"VLOOKUP(E24,'AgeStdHMS (Women)'!$A$5:$U$100,6,)","v":"00:25:10"},1510,2891,0.52231061916291943,24,null,0.52231061916291932]
["Claire","Burrill","Claire Burrill","00:47:53",{"$f":"VLOOKUP(C25,WAVA!$C$3:$E$299,3,FALSE)","v":41},{"$f":"VLOOKUP(E25,'AgeStdHMS (Women)'!$A$5:$U$100,6,)","v":"00:25:10"},1510,2872.9999999999995,0.52558301427079712,21,null,0.52558301427079712]
["Kirstie","Holmes","Kirstie Holmes","00:48:39",{"$f":"VLOOKUP(C26,WAVA!$C$3:$E$299,3,FALSE)","v":42},{"$f":"VLOOKUP(E26,'AgeStdHMS (Women)'!$A$5:$U$100,6,)","v":"00:25:20"},1520,2918.9999999999995,0.52072627612195965,26,null,0.52072627612195965]
["Rachel","Parker","Rachel Parker","00:49:12",{"$f":"VLOOKUP(C27,WAVA!$C$3:$E$299,3,FALSE)","v":45},{"$f":"VLOOKUP(E27,'AgeStdHMS (Women)'!$A$5:$U$100,6,)","v":"00:25:58"},1558,2952.0000000000005,0.52777777777777768,19,null,0.52777777777777768]
["Dairine","Nethercott","Dairine Nethercott","00:49:58",{"$f":"VLOOKUP(C28,WAVA!$C$3:$E$299,3,FALSE)","v":49},{"$f":"VLOOKUP(E28,'AgeStdHMS (Women)'!$A$5:$U$100,6,)","v":"00:27:05"},1625,2997.9999999999995,0.54202801867911954,16,null,0.54202801867911954]
["Kath","Stone","Kath Stone","00:50:32",{"$f":"VLOOKUP(C29,WAVA!$C$3:$E$299,3,FALSE)","v":48},{"$f":"VLOOKUP(E29,'AgeStdHMS (Women)'!$A$5:$U$100,6,)","v":"00:26:46"},1606,3032,0.52968337730870707,18,null,0.52968337730870707]
["Denise","Davis","Denise Davis","00:51:10",{"$f":"VLOOKUP(C30,WAVA!$C$3:$E$299,3,FALSE)","v":48},{"$f":"VLOOKUP(E30,'AgeStdHMS (Women)'!$A$5:$U$100,6,)","v":"00:26:46"},1606,3069.9999999999995,0.52312703583061892,22,null,0.52312703583061892]
[null,null,"Jennifer Bartlett","00:52:11",{"$f":"VLOOKUP(C31,WAVA!$C$3:$E$299,3,FALSE)","v":41},{"$f":"VLOOKUP(E31,'AgeStdHMS (Women)'!$A$5:$U$100,6,)","v":"00:25:10"},1510,3131,0.4822740338549984,30,null,0.4822740338549984]
["Sylvia","Ross",{"$f":"CONCATENATE(A32,\" \",B32)","v":"Sylvia Ross"},"00:54:19",{"$f":"VLOOKUP(C32,WAVA!$C$3:$E$299,3,FALSE)","v":69},{"$f":"VLOOKUP(E32,'AgeStdHMS (Women)'!$A$5:$U$100,6,)","v":"00:35:49"},2149,3259.0000000000005,0.65940472537588213,5,null,0.65940472537588213]
["Jenny","Colwell","Jenny Colwell","00:53:56",{"$f":"VLOOKUP(C33,WAVA!$C$3:$E$299,3,FALSE)","v":48},{"$f":"VLOOKUP(E33,'AgeStdHMS (Women)'!$A$5:$U$100,6,)","v":"00:26:46"},1606,3236,0.49629171817058099,29,null,0.49629171817058093]
["Liz","Hamilton","Liz Hamilton","00:54:12",{"$f":"VLOOKUP(C34,WAVA!$C$3:$E$299,3,FALSE)","v":41},{"$f":"VLOOKUP(E34,'AgeStdHMS (Women)'!$A$5:$U$100,6,)","v":"00:25:10"},1510,3252,0.46432964329643295,34,null,0.46432964329643295]
["Claire","Thaper","Claire Thaper","00:54:43",{"$f":"VLOOKUP(C35,WAVA!$C$3:$E$299,3,FALSE)","v":36},{"$f":"VLOOKUP(E35,'AgeStdHMS (Women)'!$A$5:$U$100,6,)","v":"00:24:31"},1471.0000000000002,3283.0000000000005,0.44806579348157172,36,null,0.44806579348157172]
["Shiela","Bugg","Shiela Bugg","00:55:03",{"$f":"VLOOKUP(C36,WAVA!$C$3:$E$299,3,FALSE)","v":44},{"$f":"VLOOKUP(E36,'AgeStdHMS (Women)'!$A$5:$U$100,6,)","v":"00:25:44"},1544,3302.9999999999995,0.46745382985165007,33,null,0.46745382985165007]
["Fiona","Farquhar","Fiona Farquhar","00:56:34",{"$f":"VLOOKUP(C37,WAVA!$C$3:$E$299,3,FALSE)","v":48},{"$f":"VLOOKUP(E37,'AgeStdHMS (Women)'!$A$5:$U$100,6,)","v":"00:26:46"},1606,3394.0000000000005,0.47318797878609303,32,null,0.47318797878609303]
["Ann","Upton","Ann Upton","00:58:47",{"$f":"VLOOKUP(C38,WAVA!$C$3:$E$299,3,FALSE)","v":56},{"$f":"VLOOKUP(E38,'AgeStdHMS (Women)'!$A$5:$U$100,6,)","v":"00:29:36"},1776,3527,0.50354408846044796,28,null,0.50354408846044796]
["Alexandra","Ayling","Alexandra Ayling","00:59:59",{"$f":"VLOOKUP(C39,WAVA!$C$3:$E$299,3,FALSE)","v":51},{"$f":"VLOOKUP(E39,'AgeStdHMS (Women)'!$A$5:$U$100,6,)","v":"00:27:45"},1665,3599,0.46262850791886634,35,null,0.46262850791886639]
["Heather","Bayliss","Heather Bayliss","01:01:04",{"$f":"VLOOKUP(C40,WAVA!$C$3:$E$299,3,FALSE)","v":37},{"$f":"VLOOKUP(E40,'AgeStdHMS (Women)'!$A$5:$U$100,6,)","v":"00:24:37"},{"$f":"CONVERT(F40,\"day\",\"sec\")","v":1476.9999999999998},{"$f":"CONVERT(D40,\"day\",\"sec\")","v":3664.0000000000005},{"$f":"G40/H40","v":0.4031113537117903},37,null,{"$f":"F40/D40","v":0.4031113537117903}]
[null,null,"Natalie Ellis","01:02:20",{"$f":"VLOOKUP(C41,WAVA!$C$3:$E$299,3,FALSE)","v":30},{"$f":"VLOOKUP(E41,'AgeStdHMS (Women)'!$A$5:$U$100,6,)","v":"00:24:12"},{"$f":"CONVERT(F41,\"day\",\"sec\")","v":1452},{"$f":"CONVERT(D41,\"day\",\"sec\")","v":3740.0000000000005},{"$f":"G41/H41","v":0.38823529411764701},38,null,{"$f":"F41/D41","v":0.38823529411764707}]
[null,null,"Sheila Pepper","01:05:22",{"$f":"VLOOKUP(C42,WAVA!$C$3:$E$299,3,FALSE)","v":64},{"$f":"VLOOKUP(E42,'AgeStdHMS (Women)'!$A$5:$U$100,6,)","v":"00:33:08"},1988,3922,0.50688424273329935,27,null,0.50688424273329935]
[null,null,"Amanda Race","01:07:18",{"$f":"VLOOKUP(C43,WAVA!$C$3:$E$299,3,FALSE)","v":37},{"$f":"VLOOKUP(E43,'AgeStdHMS (Women)'!$A$5:$U$100,6,)","v":"00:24:37"},1476.9999999999998,4038,0.36577513620604252,40,null,0.36577513620604257]
[null,null,"Emma Barrow","01:15:58",{"$f":"VLOOKUP(C44,WAVA!$C$3:$E$299,3,FALSE)","v":47},{"$f":"VLOOKUP(E44,'AgeStdHMS (Women)'!$A$5:$U$100,6,)","v":"00:26:29"},1589,4558,0.34861781483106624,41,null,0.3486178148310663]

{"sheet":"Eccup","index":16,"n_rows":19,"n_cols":14,"rows_kept":19,"cut":false,"hidden":false,"merged":[]}
["Based on Male & Female Road Age Standards in Seconds WMA and USATF, 2010",null,null,null,null,null,null,"10m"]
["Male",null,"Name","Time","Age",null,null,"Age standard","Age standard/s","Actual/s","Graded","Rank",null,"WAVA"]
["Simon","Frazer",{"$f":"CONCATENATE(A3,\" \",B3)","v":"Simon Frazer"},"01:08:08",{"$f":"VLOOKUP(C3,WAVA!$C$3:$E$299,3,FALSE)","v":42},null,null,{"$f":"VLOOKUP(E3,'AgeStdHMS (Men)'!$A$5:$U$100,10,)","v":"00:47:14"},{"$f":"CONVERT(H3,\"day\",\"sec\")","v":2834},{"$f":"CONVERT(D3,\"day\",\"sec\")","v":4088},{"$f":"I3/J3","v":0.69324853228962813},{"$f":"RANK(K3,$K$3:$K$21,0)","v":1},null,{"$f":"H3/D3","v":0.69324853228962824}]
["Jeremy","Wright","Jeremy Wright","01:15:38",52,null,null,{"$f":"VLOOKUP(E4,'AgeStdHMS (Men)'!$A$5:$U$100,10,)","v":"00:51:15"},3075,4538,0.67761128250330538,2,null,0.67761128250330538]
["John","Singh","John Singh","01:18:05",{"$f":"VLOOKUP(C5,WAVA!$C$3:$E$299,3,FALSE)","v":34},null,null,{"$f":"VLOOKUP(E5,'AgeStdHMS (Men)'!$A$5:$U$100,10,)","v":"00:44:44"},2684,4684.9999999999991,0.57289220917822847,8,null,0.57289220917822847]
["Adam","Willoughby","Adam Willoughby","01:18:20",{"$f":"VLOOKUP(C6,WAVA!$C$3:$E$299,3,FALSE)","v":29},null,null,{"$f":"VLOOKUP(E6,'AgeStdHMS (Men)'!$A$5:$U$100,10,)","v":"00:44:23"},2663,4700,0.56659574468085105,9,null,0.56659574468085105]
["Alan","Douglas","Alan Douglas","01:20:09",{"$f":"VLOOKUP(C7,WAVA!$C$3:$E$299,3,FALSE)","v":47},null,null,{"$f":"VLOOKUP(E7,'AgeStdHMS (Men)'!$A$5:$U$100,10,)","v":"00:49:10"},2950,4809.0000000000009,0.61343314618423772,4,null,0.61343314618423783]
["Gavin","Hamilton","Gavin Hamilton","01:25:46",{"$f":"VLOOKUP(C8,WAVA!$C$3:$E$299,3,FALSE)","v":40},null,null,{"$f":"VLOOKUP(E8,'AgeStdHMS (Men)'!$A$5:$U$100,10,)","v":"00:46:31"},2791.0000000000005,5146,0.54236300038865148,10,null,0.54236300038865148]
["Mohanlal","Mistry","Mohanlal Mistry","01:27:02",{"$f":"VLOOKUP(C9,WAVA!$C$3:$E$299,3,FALSE)","v":55},null,null,{"$f":"VLOOKUP(E9,'AgeStdHMS (Men)'!$A$5:$U$100,10,)","v":"00:52:36"},3156,5222,0.60436614324013793,5,null,0.60436614324013782]
["Nick","Breare","Nick Breare","01:41:46",{"$f":"VLOOKUP(C10,WAVA!$C$3:$E$299,3,FALSE)","v":67},null,null,{"$f":"VLOOKUP(E10,'AgeStdHMS (Men)'!$A$5:$U$100,10,)","v":"00:58:45"},3525,6106,0.5773010153946937,7,null,0.5773010153946937]
[null,null," "]
["Female",null,null,null,null,null,null,"Age standard","Age standard/s","Actual/s","Graded","Rank",null,"WAVA"]
["Louise","Nash",{"$f":"CONCATENATE(A13,\" \",B13)","v":"Louise Nash"},"01:23:45",{"$f":"VLOOKUP(C13,WAVA!$C$3:$E$299,3,FALSE)","v":47},null,null,{"$f":"VLOOKUP(E13,'AgeStdHMS (Men)'!$A$5:$U$100,10,)","v":"00:49:10"},{"$f":"CONVERT(H13,\"day\",\"sec\")","v":2950},{"$f":"CONVERT(D13,\"day\",\"sec\")","v":5024.9999999999991},{"$f":"I13/J13","v":0.58706467661691553},{"$f":"RANK(K13,$K$3:$K$22,0)","v":6},null,{"$f":"H13/D13","v":0.58706467661691542}]
["Helen","Love","Helen Love","01:22:45",{"$f":"VLOOKUP(C14,WAVA!$C$3:$E$299,3,FALSE)","v":59},null,null,{"$f":"VLOOKUP(E14,'AgeStdHMS (Men)'!$A$5:$U$100,10,)","v":"00:54:30"},{"$f":"CONVERT(H14,\"day\",\"sec\")","v":3270},{"$f":"CONVERT(D14,\"day\",\"sec\")","v":4965},{"$f":"I14/J14","v":0.65861027190332322},3,null,{"$f":"H14/D14","v":0.65861027190332322}]
["Vicki","Johnston","Vicki Johnston","01:28:58",{"$f":"VLOOKUP(C15,WAVA!$C$3:$E$299,3,FALSE)","v":40},null,null,{"$f":"VLOOKUP(E15,'AgeStdHMS (Men)'!$A$5:$U$100,10,)","v":"00:46:31"},2791.0000000000005,5338,0.52285500187336087,11,null,0.52285500187336087]
["Philippa","Bird","Philippa Bird","01:29:54",{"$f":"VLOOKUP(C16,WAVA!$C$3:$E$299,3,FALSE)","v":36},null,null,{"$f":"VLOOKUP(E16,'AgeStdHMS (Men)'!$A$5:$U$100,10,)","v":"00:45:11"},2711,5394,0.50259547645532077,12,null,0.50259547645532077]
["Lucy","Johnston","Lucy Johnston","01:34:17",{"$f":"VLOOKUP(C17,WAVA!$C$3:$E$299,3,FALSE)","v":31},null,null,{"$f":"VLOOKUP(E17,'AgeStdHMS (Men)'!$A$5:$U$100,10,)","v":"00:44:25"},2665,5657,0.47109775499381296,14,null,0.47109775499381296]
["Urmila","Mistry","Urmila Mistry","01:44:05",{"$f":"VLOOKUP(C18,WAVA!$C$3:$E$299,3,FALSE)","v":54},null,null,{"$f":"VLOOKUP(E18,'AgeStdHMS (Men)'!$A$5:$U$100,10,)","v":"00:52:09"},3129,6245,0.50104083266613286,13,null,0.50104083266613286]
["Judith","Nunn","Judith Nunn","02:03:45",{"$f":"VLOOKUP(C19,WAVA!$C$3:$E$299,3,FALSE)","v":55},null,null,{"$f":"VLOOKUP(E19,'AgeStdHMS (Men)'!$A$5:$U$100,10,)","v":"00:52:36"},3156,7425,0.42505050505050507,15,null,0.42505050505050507]

{"sheet":"Shakerr","index":17,"n_rows":41,"n_cols":10,"rows_kept":41,"cut":false,"hidden":false,"merged":[]}
["Based on Male & Female Road Age Standards in Seconds WMA and USATF, 2010"]
["Male",null,"Name","Time","Age","Age standard","Age standard/s","Actual/s","Graded","Rank"]
["Will","Kerr",{"$f":"CONCATENATE(A3,\" \",B3)","v":"Will Kerr"},"00:46:25",{"$f":"VLOOKUP(C3,WAVA!$C$3:$E$299,3,FALSE)","v":40},{"$f":"VLOOKUP(E3,'AgeStdHMS (Men)'!$A$2:$U$100,7,)","v":"00:28:25"},{"$f":"CONVERT(F3,\"day\",\"sec\")","v":1705.0000000000002},{"$f":"CONVERT(D3,\"day\",\"sec\")","v":2785},{"$f":"G3/H3","v":0.61220825852782768},{"$f":"RANK(I3,$I$3:$I$41,0)","v":1}]
["Steven","Fowler","Steven Fowler","00:50:20",{"$f":"VLOOKUP(C4,WAVA!$C$3:$E$299,3,FALSE)","v":44},{"$f":"VLOOKUP(E4,'AgeStdHMS (Men)'!$A$2:$U$100,7,)","v":"00:29:17"},{"$f":"CONVERT(F4,\"day\",\"sec\")","v":1757},{"$f":"CONVERT(D4,\"day\",\"sec\")","v":3020},{"$f":"G4/H4","v":0.58178807947019873},{"$f":"RANK(I4,$I$3:$I$41,0)","v":2}]
["Martin","Fillingham","Martin Fillingham","00:51:51",{"$f":"VLOOKUP(C5,WAVA!$C$3:$E$299,3,FALSE)","v":45},{"$f":"VLOOKUP(E5,'AgeStdHMS (Men)'!$A$2:$U$100,7,)","v":"00:29:31"},1771,3111,0.56927033108325298,3]
["James","Goodall","James Goodall","00:55:01",{"$f":"VLOOKUP(C6,WAVA!$C$3:$E$299,3,FALSE)","v":27},{"$f":"VLOOKUP(E6,'AgeStdHMS (Men)'!$A$2:$U$100,7,)","v":"00:26:51"},1611,3301,0.48803392911239019,12]
["Ewan","Gibb","Ewan Gibb","00:56:40",{"$f":"VLOOKUP(C7,WAVA!$C$3:$E$299,3,FALSE)","v":29},{"$f":"VLOOKUP(E7,'AgeStdHMS (Men)'!$A$2:$U$100,7,)","v":"00:26:52"},1612,3400,0.47411764705882353,14]
["Adam","Camp","Adam Camp","00:58:50",{"$f":"VLOOKUP(C8,WAVA!$C$3:$E$299,3,FALSE)","v":33},{"$f":"VLOOKUP(E8,'AgeStdHMS (Men)'!$A$2:$U$100,7,)","v":"00:27:10"},1630,3530,0.46175637393767704,17]
["Ian","Jenkins","Ian Jenkins","00:59:01",{"$f":"VLOOKUP(C9,WAVA!$C$3:$E$299,3,FALSE)","v":46},{"$f":"VLOOKUP(E9,'AgeStdHMS (Men)'!$A$2:$U$100,7,)","v":"00:29:44"},1784,3541,0.50381248234961873,10]
["James","Gardner","James Gardner","01:01:25",{"$f":"VLOOKUP(C10,WAVA!$C$3:$E$299,3,FALSE)","v":28},{"$f":"VLOOKUP(E10,'AgeStdHMS (Men)'!$A$2:$U$100,7,)","v":"00:26:51"},1611,3684.9999999999995,0.43717774762550887,21]
["Jeremy","Wright","Jeremy Wright","01:02:42",54,{"$f":"VLOOKUP(E11,'AgeStdHMS (Men)'!$A$2:$U$100,7,)","v":"00:31:43"},1903,3762.0000000000005,0.50584795321637421,9]
["Alan","Douglas","Alan Douglas","01:03:10",{"$f":"VLOOKUP(C12,WAVA!$C$3:$E$299,3,FALSE)","v":47},{"$f":"VLOOKUP(E12,'AgeStdHMS (Men)'!$A$2:$U$100,7,)","v":"00:29:58"},1798,3790,0.47440633245382585,13]
["Tim","Mosedale","Tim Mosedale","01:03:58",{"$f":"VLOOKUP(C13,WAVA!$C$3:$E$299,3,FALSE)","v":36},{"$f":"VLOOKUP(E13,'AgeStdHMS (Men)'!$A$2:$U$100,7,)","v":"00:27:36"},1655.9999999999998,3838.0000000000005,0.43147472642001033,23]
["Craig","Elliott","Craig Elliott","01:04:22",{"$f":"VLOOKUP(C14,WAVA!$C$3:$E$299,3,FALSE)","v":43},{"$f":"VLOOKUP(E14,'AgeStdHMS (Men)'!$A$2:$U$100,7,)","v":"00:29:04"},1744,3861.9999999999991,0.45157949249093743,18]
["Jack","Verity","Jack Verity","01:06:29",{"$f":"VLOOKUP(C15,WAVA!$C$3:$E$299,3,FALSE)","v":59},{"$f":"VLOOKUP(E15,'AgeStdHMS (Men)'!$A$2:$U$100,7,)","v":"00:33:06"},1986,3989.0000000000005,0.4978691401353722,11]
["Barney","Lerner","Barney Lerner","01:07:59",{"$f":"VLOOKUP(C16,WAVA!$C$3:$E$299,3,FALSE)","v":66},{"$f":"VLOOKUP(E16,'AgeStdHMS (Men)'!$A$2:$U$100,7,)","v":"00:35:14"},2114,4079,0.51826428046089723,7]
["Loris","Dell'Amico","Loris Dell'Amico","01:08:07",{"$f":"VLOOKUP(C17,WAVA!$C$3:$E$299,3,FALSE)","v":42},{"$f":"VLOOKUP(E17,'AgeStdHMS (Men)'!$A$2:$U$100,7,)","v":"00:28:50"},1730,4086.9999999999995,0.42329336921947641,24]
["Mohanlal","Mistry","Mohanlal Mistry","01:13:01",{"$f":"VLOOKUP(C18,WAVA!$C$3:$E$299,3,FALSE)","v":55},{"$f":"VLOOKUP(E18,'AgeStdHMS (Men)'!$A$2:$U$100,7,)","v":"00:31:59"},1919.0000000000002,4381,0.43802784752339652,20]
["Ambrose","Griffiths","Ambrose Griffiths","01:14:32",{"$f":"VLOOKUP(C19,WAVA!$C$3:$E$299,3,FALSE)","v":37},{"$f":"VLOOKUP(E19,'AgeStdHMS (Men)'!$A$2:$U$100,7,)","v":"00:27:47"},1667,4472,0.37276386404293382,31]
["Nick","Breare","Nick Breare","01:19:29",{"$f":"VLOOKUP(C20,WAVA!$C$3:$E$299,3,FALSE)","v":67},{"$f":"VLOOKUP(E20,'AgeStdHMS (Men)'!$A$2:$U$100,7,)","v":"00:35:34"},2134,4769,0.44747326483539523,19]
[]
[]
[]
["Based on Male & Female Road Age Standards in Seconds WMA and USATF, 2010"]
["Female",null,"Name","Time","Age","Age standard","Age standard/s","Actual/s","Graded","Rank"]
["Bernie","Bowden",{"$f":"CONCATENATE(A26,\" \",B26)","v":"Bernie Bowden"},"00:58:48",{"$f":"VLOOKUP(C26,WAVA!$C$3:$E$299,3,FALSE)","v":46},{"$f":"VLOOKUP(E26,'AgeStdHMS (Women)'!$A$2:$U$100,7,)","v":"00:32:51"},{"$f":"CONVERT(F26,\"day\",\"sec\")","v":1971},{"$f":"CONVERT(D26,\"day\",\"sec\")","v":3527.9999999999995},{"$f":"G26/H26","v":0.55867346938775519},{"$f":"RANK(I26,$I$3:$I$55,0)","v":5}]
["Louise","nash",{"$f":"CONCATENATE(A27,\" \",B27)","v":"Louise nash"},"01:04:10",{"$f":"VLOOKUP(C27,WAVA!$C$3:$E$299,3,FALSE)","v":47},{"$f":"VLOOKUP(E27,'AgeStdHMS (Women)'!$A$2:$U$100,7,)","v":"00:33:11"},{"$f":"CONVERT(F27,\"day\",\"sec\")","v":1991},{"$f":"CONVERT(D27,\"day\",\"sec\")","v":3850.0000000000005},{"$f":"G27/H27","v":0.51714285714285713},{"$f":"RANK(I27,$I$3:$I$55,0)","v":8}]
["Helen","Love","Helen Love","01:08:56",{"$f":"VLOOKUP(C28,WAVA!$C$3:$E$299,3,FALSE)","v":59},{"$f":"VLOOKUP(E28,'AgeStdHMS (Women)'!$A$2:$U$100,7,)","v":"00:38:39"},2319,4136,0.56068665377176019,4]
["Tamsin","Treasure-Jones","Tamsin Treasure-Jones","01:10:04",{"$f":"VLOOKUP(C29,WAVA!$C$3:$E$299,3,FALSE)","v":47},{"$f":"VLOOKUP(E29,'AgeStdHMS (Women)'!$A$2:$U$100,7,)","v":"00:33:11"},1991,4204,0.47359657469077071,15]
["Wendy","Hey","Wendy Hey","01:11:49",{"$f":"VLOOKUP(C30,WAVA!$C$3:$E$299,3,FALSE)","v":47},{"$f":"VLOOKUP(E30,'AgeStdHMS (Women)'!$A$2:$U$100,7,)","v":"00:33:11"},1991,4308.9999999999991,0.46205616152239509,16]
["Helen","Brant","Helen Brant","01:12:45",{"$f":"VLOOKUP(C31,WAVA!$C$3:$E$299,3,FALSE)","v":35},{"$f":"VLOOKUP(E31,'AgeStdHMS (Women)'!$A$2:$U$100,7,)","v":"00:30:38"},1838,4365,0.42107674684994273,25]
["Mel","Akeroyd","Mel Akeroyd","01:14:18",{"$f":"VLOOKUP(C32,WAVA!$C$3:$E$299,3,FALSE)","v":37},{"$f":"VLOOKUP(E32,'AgeStdHMS (Women)'!$A$2:$U$100,7,)","v":"00:30:51"},1851,4458,0.41520861372812923,26]
["Harriet","Fletcher","Harriet Fletcher","01:14:42",{"$f":"VLOOKUP(C33,WAVA!$C$3:$E$299,3,FALSE)","v":44},{"$f":"VLOOKUP(E33,'AgeStdHMS (Women)'!$A$2:$U$100,7,)","v":"00:32:16"},1936,4482,0.43195002231146812,22]
["Sarah","Sherratt","Sarah Sherratt","01:20:10",{"$f":"VLOOKUP(C34,WAVA!$C$3:$E$299,3,FALSE)","v":38},{"$f":"VLOOKUP(E34,'AgeStdHMS (Women)'!$A$2:$U$100,7,)","v":"00:31:00"},1860,4810.0000000000009,0.3866943866943866,29]
["Esther","Silva","Esther Silva","01:20:53",{"$f":"VLOOKUP(C35,WAVA!$C$3:$E$299,3,FALSE)","v":32},{"$f":"VLOOKUP(E35,'AgeStdHMS (Women)'!$A$2:$U$100,7,)","v":"00:30:24"},1824,4853,0.3758499896970946,30]
["Sylvia","Ross","Sylvia Ross","01:22:24",{"$f":"VLOOKUP(C36,WAVA!$C$3:$E$299,3,FALSE)","v":69},{"$f":"VLOOKUP(E36,'AgeStdHMS (Women)'!$A$2:$U$100,7,)","v":"00:44:54"},2694,4944,0.54490291262135926,6]
["Claire","Thaper","Claire Thaper","01:28:03",{"$f":"VLOOKUP(C37,WAVA!$C$3:$E$299,3,FALSE)","v":36},{"$f":"VLOOKUP(E37,'AgeStdHMS (Women)'!$A$2:$U$100,7,)","v":"00:30:44"},1844,5283,0.3490441037289419,32]
["Ann","Upton","Ann Upton","01:30:30",{"$f":"VLOOKUP(C38,WAVA!$C$3:$E$299,3,FALSE)","v":56},{"$f":"VLOOKUP(E38,'AgeStdHMS (Women)'!$A$2:$U$100,7,)","v":"00:37:07"},2227,5430,0.41012891344383057,27]
["Urmila","Mistry","Urmila Mistry","01:33:29",{"$f":"VLOOKUP(C39,WAVA!$C$3:$E$299,3,FALSE)","v":54},{"$f":"VLOOKUP(E39,'AgeStdHMS (Women)'!$A$2:$U$100,7,)","v":"00:36:09"},2169,5609,0.38669994651453021,28]
["Heather","Bayliss","Heather Bayliss","01:34:42",{"$f":"VLOOKUP(C40,WAVA!$C$3:$E$299,3,FALSE)","v":37},{"$f":"VLOOKUP(E40,'AgeStdHMS (Women)'!$A$2:$U$100,7,)","v":"00:30:51"},1851,5682,0.32576557550158397,33]
["Louise","Dell'Amico","Louise Dell'Amico","02:00:25",{"$f":"VLOOKUP(C41,WAVA!$C$3:$E$299,3,FALSE)","v":41},{"$f":"VLOOKUP(E41,'AgeStdHMS (Women)'!$A$2:$U$100,7,)","v":"00:31:32"},1892,7225,0.26186851211072665,34]

{"sheet":"VoY","index":18,"n_rows":20,"n_cols":14,"rows_kept":20,"cut":false,"hidden":false,"merged":[]}
["Based on Male & Female Road Age Standards in Seconds WMA and USATF, 2010",null,null,null,null,null,null,null,"13.1m"]
["Male",null,"Name","Time","Age",null,null,"Age standard","Age standard/s","Actual/s","Graded","Rank",null,"WAVA"]
[null,null,"Will Kerr","01:15:14",{"$f":"VLOOKUP(C3,WAVA!$C$3:$E$299,3,FALSE)","v":40},null,null,{"$f":"VLOOKUP(E3,'AgeStdHMS (Men)'!$A$5:$U$100,12,)","v":"01:01:41"},{"$f":"CONVERT(H3,\"day\",\"sec\")","v":3701},{"$f":"CONVERT(D3,\"day\",\"sec\")","v":4514},{"$f":"I3/J3","v":0.81989366415595921},{"$f":"RANK(K3,$K$3:$K$14,0)","v":2},null,{"$f":"H3/D3","v":0.81989366415595932}]
[null,null,"Matthew Richardson","01:18:50",{"$f":"VLOOKUP(C4,WAVA!$C$3:$E$299,3,FALSE)","v":33},null,null,{"$f":"VLOOKUP(E4,'AgeStdHMS (Men)'!$A$5:$U$100,12,)","v":"00:59:19"},{"$f":"CONVERT(H4,\"day\",\"sec\")","v":3559},{"$f":"CONVERT(D4,\"day\",\"sec\")","v":4730},{"$f":"I4/J4","v":0.75243128964059192},{"$f":"RANK(K4,$K$3:$K$14,0)","v":3},null,{"$f":"H4/D4","v":0.75243128964059192}]
[null,null,"Matt Nowell","01:21:25",{"$f":"VLOOKUP(C5,WAVA!$C$3:$E$299,3,FALSE)","v":36},null,null,{"$f":"VLOOKUP(E5,'AgeStdHMS (Men)'!$A$5:$U$100,12,)","v":"00:59:57"},3597,4885,0.73633572159672467,4,null,0.73633572159672467]
[null,null,"Stuart Dunbar","01:21:24",{"$f":"VLOOKUP(C6,WAVA!$C$3:$E$299,3,FALSE)","v":54},null,null,{"$f":"VLOOKUP(E6,'AgeStdHMS (Men)'!$A$5:$U$100,12,)","v":"01:09:19"},4159,4884,0.85155610155610151,1,null,0.85155610155610151]
[null,null,"Ian Jenkins","01:32:48",{"$f":"VLOOKUP(C7,WAVA!$C$3:$E$299,3,FALSE)","v":46},null,null,{"$f":"VLOOKUP(E7,'AgeStdHMS (Men)'!$A$5:$U$100,12,)","v":"01:04:45"},3885,5568,0.69773706896551724,5,null,0.69773706896551724]
[null,null,"Ewan Gibb","01:34:50",{"$f":"VLOOKUP(C8,WAVA!$C$3:$E$299,3,FALSE)","v":29},null,null,{"$f":"VLOOKUP(E8,'AgeStdHMS (Men)'!$A$5:$U$100,12,)","v":"00:59:13"},3553,5690.0000000000009,0.62442882249560627,8,null,0.62442882249560627]
[null,null,"Craig  Beza","01:38:24",{"$f":"VLOOKUP(C9,WAVA!$C$3:$E$299,3,FALSE)","v":32},null,null,{"$f":"VLOOKUP(E9,'AgeStdHMS (Men)'!$A$5:$U$100,12,)","v":"00:59:14"},3554,5904.0000000000009,0.60196476964769641,10,null,0.60196476964769641]
[null,null,"John Singh","01:39:03",{"$f":"VLOOKUP(C10,WAVA!$C$3:$E$299,3,FALSE)","v":34},null,null,{"$f":"VLOOKUP(E10,'AgeStdHMS (Men)'!$A$5:$U$100,12,)","v":"00:59:27"},3567,5943,0.60020191822311963,11,null,0.60020191822311963]
[null,null,"Alan Douglas","01:40:16",{"$f":"VLOOKUP(C11,WAVA!$C$3:$E$299,3,FALSE)","v":47},null,null,{"$f":"VLOOKUP(E11,'AgeStdHMS (Men)'!$A$5:$U$100,12,)","v":"01:05:17"},3917,6016.0000000000009,0.65109707446808496,6,null,0.65109707446808496]
[null,null,"Mohanlal Mistry","01:55:26",{"$f":"VLOOKUP(C12,WAVA!$C$3:$E$299,3,FALSE)","v":55},null,null,{"$f":"VLOOKUP(E12,'AgeStdHMS (Men)'!$A$5:$U$100,12,)","v":"01:09:56"},4196,6926.0000000000009,0.60583309269419572,9,null,0.60583309269419572]
[null,null,"Kamil Zakowski","01:56:36",{"$f":"VLOOKUP(C13,WAVA!$C$3:$E$299,3,FALSE)","v":27},null,null,{"$f":"VLOOKUP(E13,'AgeStdHMS (Men)'!$A$5:$U$100,12,)","v":"00:59:13"},3553,6996,0.50786163522012584,12,null,0.50786163522012584]
[null,null,"Frank Masley","02:00:01",{"$f":"VLOOKUP(C14,WAVA!$C$3:$E$299,3,FALSE)","v":65},null,null,{"$f":"VLOOKUP(E14,'AgeStdHMS (Men)'!$A$5:$U$100,12,)","v":"01:16:47"},4607,7201,0.63977225385363146,7,null,0.63977225385363135]
[]
["Female",null,null,null,null,null,null,null,"13.1m"]
[null,null,"Sarah Sherratt","02:07:41",{"$f":"VLOOKUP(C17,WAVA!$C$3:$E$299,3,FALSE)","v":38},null,null,{"$f":"VLOOKUP(E17,'AgeStdHMS (Women)'!$A$5:$U$100,12,)","v":"01:07:17"},{"$f":"CONVERT(H17,\"day\",\"sec\")","v":4037},{"$f":"CONVERT(D17,\"day\",\"sec\")","v":7661.0000000000009},{"$f":"I17/J17","v":0.52695470565200364},{"$f":"RANK(K17,$K$15:$K$35,0)","v":3},null,{"$f":"H17/D17","v":0.52695470565200364}]
[null,null,"Esther Silva","02:08:52",{"$f":"VLOOKUP(C18,WAVA!$C$3:$E$299,3,FALSE)","v":32},null,null,{"$f":"VLOOKUP(E18,'AgeStdHMS (Women)'!$A$5:$U$100,12,)","v":"01:06:00"},3959.9999999999995,7732,0.512157268494568,{"$f":"RANK(K18,$K$15:$K$35,0)","v":4},null,0.512157268494568]
[null,null,"Carolyn Rix","02:25:30",{"$f":"VLOOKUP(C19,WAVA!$C$3:$E$299,3,FALSE)","v":58},null,null,{"$f":"VLOOKUP(E19,'AgeStdHMS (Women)'!$A$5:$U$100,12,)","v":"01:22:45"},4965,8729.9999999999982,0.56872852233676985,{"$f":"RANK(K19,$K$15:$K$35,0)","v":2},null,0.56872852233676985]
[null,null,"Sheila Pepper","02:33:51",{"$f":"VLOOKUP(C20,WAVA!$C$3:$E$299,3,FALSE)","v":64},null,null,{"$f":"VLOOKUP(E20,'AgeStdHMS (Women)'!$A$5:$U$100,12,)","v":"01:30:09"},5409,9231,0.58596035099122523,{"$f":"RANK(K20,$K$15:$K$35,0)","v":1},null,0.58596035099122523]

{"sheet":"Kirkstall","index":19,"n_rows":16,"n_cols":14,"rows_kept":16,"cut":false,"hidden":false,"merged":[]}
["Based on Male & Female Road Age Standards in Seconds WMA and USATF, 2010",null,null,null,null,null,null,null,"12k"]
["Male",null,"Name","Time","Age",null,null,"Age standard","Age standard/s","Actual/s","Graded","Rank",null,"WAVA"]
[null,null,"Alistair Nash","00:45:01",{"$f":"VLOOKUP(C3,WAVA!$C$3:$E$299,3,FALSE)","v":45},null,null,{"$f":"VLOOKUP(E3,'AgeStdHMS (Men)'!$A$5:$U$100,8,)","v":"00:35:38"},{"$f":"CONVERT(H3,\"day\",\"sec\")","v":2138},{"$f":"CONVERT(D3,\"day\",\"sec\")","v":2701},{"$f":"I3/J3","v":0.79155868196964085},{"$f":"RANK(K3,$K$3:$K$17,0)","v":1},null,{"$f":"H3/D3","v":0.79155868196964085}]
[null,null,"Gary Pennington","00:54:59",{"$f":"VLOOKUP(C4,WAVA!$C$3:$E$299,3,FALSE)","v":52},null,null,{"$f":"VLOOKUP(E4,'AgeStdHMS (Men)'!$A$5:$U$100,8,)","v":"00:37:42"},2262,3299.0000000000005,0.68566232191573195,{"$f":"RANK(K4,$K$3:$K$17,0)","v":4},null,0.68566232191573195]
[null,null,"Alan Douglas","00:55:20",{"$f":"VLOOKUP(C5,WAVA!$C$3:$E$299,3,FALSE)","v":47},null,null,{"$f":"VLOOKUP(E5,'AgeStdHMS (Men)'!$A$5:$U$100,8,)","v":"00:36:12"},2172,3320,0.6542168674698795,{"$f":"RANK(K5,$K$3:$K$17,0)","v":6},null,0.6542168674698795]
[null,null,"Frank Masley","01:03:20",{"$f":"VLOOKUP(C6,WAVA!$C$3:$E$299,3,FALSE)","v":65},null,null,{"$f":"VLOOKUP(E6,'AgeStdHMS (Men)'!$A$5:$U$100,8,)","v":"00:42:16"},2536,3800,0.66736842105263161,{"$f":"RANK(K6,$K$3:$K$17,0)","v":5},null,0.6673684210526315]
[null,null,"Peter Huby","01:09:02",{"$f":"VLOOKUP(C7,WAVA!$C$3:$E$299,3,FALSE)","v":55},null,null,{"$f":"VLOOKUP(E7,'AgeStdHMS (Men)'!$A$5:$U$100,8,)","v":"00:38:40"},2320,4142,0.56011588604538876,{"$f":"RANK(K7,$K$3:$K$17,0)","v":8},null,0.56011588604538864]
[]
["Female",null,"Name","Time","Age",null,null,"Age standard","Age standard/s","Actual/s","Graded","Rank",null,"WAVA"]
[null,null,"Bernie Bowden","00:50:25",{"$f":"VLOOKUP(C10,WAVA!$C$3:$E$299,3,FALSE)","v":46},null,null,{"$f":"VLOOKUP(E10,'AgeStdHMS (Men)'!$A$5:$U$100,8,)","v":"00:35:55"},{"$f":"CONVERT(H10,\"day\",\"sec\")","v":2155},{"$f":"CONVERT(D10,\"day\",\"sec\")","v":3025.0000000000005},{"$f":"I10/J10","v":0.71239669421487595},{"$f":"RANK(K10,$K$3:$K$17,0)","v":2},null,{"$f":"H10/D10","v":0.71239669421487595}]
[null,null,"Louise Nash","00:51:50",{"$f":"VLOOKUP(C11,WAVA!$C$3:$E$299,3,FALSE)","v":47},null,null,{"$f":"VLOOKUP(E11,'AgeStdHMS (Men)'!$A$5:$U$100,8,)","v":"00:36:12"},{"$f":"CONVERT(H11,\"day\",\"sec\")","v":2172},{"$f":"CONVERT(D11,\"day\",\"sec\")","v":3110},{"$f":"I11/J11","v":0.69839228295819933},3,null,{"$f":"H11/D11","v":0.69839228295819933}]
[null,null,"Philippa Bird","01:02:29",{"$f":"VLOOKUP(C12,WAVA!$C$3:$E$299,3,FALSE)","v":36},null,null,{"$f":"VLOOKUP(E12,'AgeStdHMS (Men)'!$A$5:$U$100,8,)","v":"00:33:18"},1998,3749,0.53294211789810619,9,null,0.53294211789810619]
[null,null,"Sarah Sherratt","01:04:35",{"$f":"VLOOKUP(C13,WAVA!$C$3:$E$299,3,FALSE)","v":38},null,null,{"$f":"VLOOKUP(E13,'AgeStdHMS (Men)'!$A$5:$U$100,8,)","v":"00:33:46"},2026,3875,0.5228387096774193,11,null,0.52283870967741941]
[null,null,"Sylvia Ross","01:08:02",{"$f":"VLOOKUP(C14,WAVA!$C$3:$E$299,3,FALSE)","v":69},null,null,{"$f":"VLOOKUP(E14,'AgeStdHMS (Men)'!$A$5:$U$100,8,)","v":"00:43:55"},2635,4082.0000000000005,0.64551690347868684,7,null,0.64551690347868684]
[null,null,"Claire Thaper","01:13:34",{"$f":"VLOOKUP(C15,WAVA!$C$3:$E$299,3,FALSE)","v":36},null,null,{"$f":"VLOOKUP(E15,'AgeStdHMS (Men)'!$A$5:$U$100,8,)","v":"00:33:18"},1998,4414,0.45265065700045309,12,null,0.45265065700045304]
[null,null,"Carolyn Rix","01:15:13",{"$f":"VLOOKUP(C16,WAVA!$C$3:$E$299,3,FALSE)","v":58},null,null,{"$f":"VLOOKUP(E16,'AgeStdHMS (Men)'!$A$5:$U$100,8,)","v":"00:39:41"},2381,4513,0.52758697097274543,10,null,0.52758697097274543]

{"sheet":"City","index":20,"n_rows":48,"n_cols":14,"rows_kept":48,"cut":false,"hidden":false,"merged":[]}
["Based on Male & Female Road Age Standards in Seconds WMA and USATF, 2010",null,null,null,null,null,null,null,"13.1m"]
["Male",null,"Name","Time","Age",null,null,"Age standard","Age standard/s","Actual/s","Graded","Rank",null,"WAVA"]
[null,null,"Will Kerr","01:20:38",{"$f":"VLOOKUP(C3,WAVA!$C$3:$E$299,3,FALSE)","v":40},null,null,{"$f":"VLOOKUP(E3,'AgeStdHMS (Men)'!$A$5:$U$100,12,)","v":"01:01:41"},{"$f":"CONVERT(H3,\"day\",\"sec\")","v":3701},{"$f":"CONVERT(D3,\"day\",\"sec\")","v":4838},{"$f":"I3/J3","v":0.76498553121124435},{"$f":"RANK(K3,$K$3:$K$50,0)","v":3},null,{"$f":"H3/D3","v":0.76498553121124435}]
[null,null,"Stuart Dunbar","01:23:40",{"$f":"VLOOKUP(C4,WAVA!$C$3:$E$299,3,FALSE)","v":54},null,null,{"$f":"VLOOKUP(E4,'AgeStdHMS (Men)'!$A$5:$U$100,12,)","v":"01:09:19"},4159,5020,0.82848605577689238,{"$f":"RANK(K4,$K$3:$K$50,0)","v":1},null,0.82848605577689249]
[null,null,"Alan Douglas","01:44:54",{"$f":"VLOOKUP(C5,WAVA!$C$3:$E$299,3,FALSE)","v":47},null,null,{"$f":"VLOOKUP(E5,'AgeStdHMS (Men)'!$A$5:$U$100,12,)","v":"01:05:17"},3917,6293.9999999999991,0.62233873530346373,{"$f":"RANK(K5,$K$3:$K$50,0)","v":15},null,0.62233873530346362]
[null,null,"Frank Beecroft","01:49:00",{"$f":"VLOOKUP(C6,WAVA!$C$3:$E$299,3,FALSE)","v":51},null,null,{"$f":"VLOOKUP(E6,'AgeStdHMS (Men)'!$A$5:$U$100,12,)","v":"01:07:32"},4052,6540,0.61957186544342513,{"$f":"RANK(K6,$K$3:$K$50,0)","v":16},null,0.61957186544342513]
[]
["Female",null,null,null,null,null,null,null,"13.1m"]
[null,null,"Louise Nash","01:42:27",{"$f":"VLOOKUP(C9,WAVA!$C$3:$E$299,3,FALSE)","v":47},null,null,{"$f":"VLOOKUP(E9,'AgeStdHMS (Women)'!$A$5:$U$100,12,)","v":"01:12:02"},{"$f":"CONVERT(H9,\"day\",\"sec\")","v":4322},{"$f":"CONVERT(D9,\"day\",\"sec\")","v":6147.0000000000009},{"$f":"I9/J9","v":0.7031072067675288},{"$f":"RANK(K9,$K$3:$K$50,0)","v":7},null,{"$f":"H9/D9","v":0.7031072067675288}]
[null,null,"Heather Bayliss","02:40:39",{"$f":"VLOOKUP(C10,WAVA!$C$3:$E$299,3,FALSE)","v":37},null,null,{"$f":"VLOOKUP(E10,'AgeStdHMS (Women)'!$A$5:$U$100,12,)","v":"01:06:58"},4018,9639,0.41684822076978939,{"$f":"RANK(K10,$K$3:$K$50,0)","v":35},null,0.41684822076978939]
[]
["Based on Male & Female Road Age Standards in Seconds WMA and USATF, 2010",null,null,null,null,null,null,null,"10K"]
["Male",null,"Name","Time","Age",null,null,"Age standard","Age standard/s","Actual/s","Graded",null,null,"WAVA"]
[null,null,"Martin Fillingham","00:36:45",{"$f":"VLOOKUP(C14,WAVA!$C$3:$E$299,3,FALSE)","v":45},null,null,{"$f":"VLOOKUP(E14,'AgeStdHMS (Men)'!$A$5:$U$100,7,)","v":"00:29:31"},{"$f":"CONVERT(H14,\"day\",\"sec\")","v":1771},{"$f":"CONVERT(D14,\"day\",\"sec\")","v":2205.0000000000005},{"$f":"I14/J14","v":0.80317460317460299},{"$f":"RANK(K14,$K$3:$K$50,0)","v":2},null,{"$f":"H14/D14","v":0.8031746031746031}]
[null,null,"Adam Willoughby","00:44:07",{"$f":"VLOOKUP(C15,WAVA!$C$3:$E$299,3,FALSE)","v":29},null,null,{"$f":"VLOOKUP(E15,'AgeStdHMS (Men)'!$A$5:$U$100,7,)","v":"00:26:52"},{"$f":"CONVERT(H15,\"day\",\"sec\")","v":1612},{"$f":"CONVERT(D15,\"day\",\"sec\")","v":2647},{"$f":"I15/J15","v":0.60899131091802039},17,null,{"$f":"H15/D15","v":0.60899131091802039}]
[null,null,"Craig  Beza","00:44:36",{"$f":"VLOOKUP(C16,WAVA!$C$3:$E$299,3,FALSE)","v":32},null,null,{"$f":"VLOOKUP(E16,'AgeStdHMS (Men)'!$A$5:$U$100,7,)","v":"00:27:04"},1624,2676,0.60687593423019437,18,null,0.60687593423019426]
[null,null,"Stephen Hetherington","00:44:41",{"$f":"VLOOKUP(C17,WAVA!$C$3:$E$299,3,FALSE)","v":57},null,null,{"$f":"VLOOKUP(E17,'AgeStdHMS (Men)'!$A$5:$U$100,7,)","v":"00:32:32"},1951.9999999999998,2681,0.72808653487504649,6,null,0.7280865348750466]
[null,null,"Martin Love","00:45:43",{"$f":"VLOOKUP(C18,WAVA!$C$3:$E$299,3,FALSE)","v":55},null,null,{"$f":"VLOOKUP(E18,'AgeStdHMS (Men)'!$A$5:$U$100,7,)","v":"00:31:59"},1919.0000000000002,2743,0.69959897921983238,8,null,0.69959897921983238]
[null,null,"Tim Mosedale","00:46:18",{"$f":"VLOOKUP(C19,WAVA!$C$3:$E$299,3,FALSE)","v":36},null,null,{"$f":"VLOOKUP(E19,'AgeStdHMS (Men)'!$A$5:$U$100,7,)","v":"00:27:36"},1655.9999999999998,2777.9999999999995,0.59611231101511886,20,null,0.59611231101511886]
[null,null,"Pawel Tryc","00:46:58",{"$f":"VLOOKUP(C20,WAVA!$C$3:$E$299,3,FALSE)","v":36},null,null,{"$f":"VLOOKUP(E20,'AgeStdHMS (Men)'!$A$5:$U$100,7,)","v":"00:27:36"},1655.9999999999998,2818.0000000000005,0.58765081618168902,24,null,0.58765081618168902]
[null,null,"Gary Pennington","00:47:28",{"$f":"VLOOKUP(C21,WAVA!$C$3:$E$299,3,FALSE)","v":52},null,null,{"$f":"VLOOKUP(E21,'AgeStdHMS (Men)'!$A$5:$U$100,7,)","v":"00:31:12"},1872,2848,0.65730337078651691,11,null,0.65730337078651679]
[null,null,"Frank Masley","00:54:52",{"$f":"VLOOKUP(C22,WAVA!$C$3:$E$299,3,FALSE)","v":65},null,null,{"$f":"VLOOKUP(E22,'AgeStdHMS (Men)'!$A$5:$U$100,7,)","v":"00:34:55"},2095,3292,0.63639125151883358,13,null,0.63639125151883347]
[null,null,"Ian Dickinson","00:56:40",{"$f":"VLOOKUP(C23,WAVA!$C$3:$E$299,3,FALSE)","v":46},null,null,{"$f":"VLOOKUP(E23,'AgeStdHMS (Men)'!$A$5:$U$100,7,)","v":"00:29:44"},1784,3400,0.52470588235294113,31,null,0.52470588235294113]
[]
["Female"]
[null,null,"Helen Love","00:52:12",{"$f":"VLOOKUP(C26,WAVA!$C$3:$E$299,3,FALSE)","v":59},null,null,{"$f":"VLOOKUP(E26,'AgeStdHMS (Women)'!$A$5:$U$100,7,)","v":"00:38:39"},{"$f":"CONVERT(H26,\"day\",\"sec\")","v":2319},{"$f":"CONVERT(D26,\"day\",\"sec\")","v":3132},{"$f":"I26/J26","v":0.74042145593869735},{"$f":"RANK(K26,$K$3:$K$50,0)","v":5},null,{"$f":"H26/D26","v":0.74042145593869735}]
[null,null,"Jadine Smith","00:53:53",{"$f":"VLOOKUP(C27,WAVA!$C$3:$E$299,3,FALSE)","v":28},null,null,{"$f":"VLOOKUP(E27,'AgeStdHMS (Women)'!$A$5:$U$100,7,)","v":"00:30:20"},1820,3232.9999999999995,0.56294463346736789,28,null,0.56294463346736778]
[null,null,"Sarah Sherratt","00:54:34",{"$f":"VLOOKUP(C28,WAVA!$C$3:$E$299,3,FALSE)","v":38},null,null,{"$f":"VLOOKUP(E28,'AgeStdHMS (Women)'!$A$5:$U$100,7,)","v":"00:31:00"},1860,3274,0.56811240073304825,27,null,0.56811240073304825]
[null,null,"Josephine Briggs","00:55:20",{"$f":"VLOOKUP(C29,WAVA!$C$3:$E$299,3,FALSE)","v":48},null,null,{"$f":"VLOOKUP(E29,'AgeStdHMS (Women)'!$A$5:$U$100,7,)","v":"00:33:33"},2013,3320,0.60632530120481931,19,null,0.6063253012048192]
[null,null,"Anne Mason","00:57:06",{"$f":"VLOOKUP(C30,WAVA!$C$3:$E$299,3,FALSE)","v":40},null,null,{"$f":"VLOOKUP(E30,'AgeStdHMS (Women)'!$A$5:$U$100,7,)","v":"00:31:21"},1881,3426,0.54903677758318736,30,null,0.54903677758318736]
[null,null,"Frances  Guy","00:57:52",{"$f":"VLOOKUP(C31,WAVA!$C$3:$E$299,3,FALSE)","v":49},null,null,{"$f":"VLOOKUP(E31,'AgeStdHMS (Women)'!$A$5:$U$100,7,)","v":"00:33:56"},2036.0000000000002,3472,0.58640552995391715,25,null,0.58640552995391704]
[null,null,"Suzanne Hague","00:58:42",{"$f":"VLOOKUP(C32,WAVA!$C$3:$E$299,3,FALSE)","v":51},null,null,{"$f":"VLOOKUP(E32,'AgeStdHMS (Women)'!$A$5:$U$100,7,)","v":"00:34:47"},2087,3522,0.59256104486087446,22,null,0.59256104486087446]
[null,null,"Sylvia Ross","00:59:38",{"$f":"VLOOKUP(C33,WAVA!$C$3:$E$299,3,FALSE)","v":69},null,null,{"$f":"VLOOKUP(E33,'AgeStdHMS (Women)'!$A$5:$U$100,7,)","v":"00:44:54"},2694,3578,0.75293460033538284,4,null,0.75293460033538284]
[null,null,"Ann Upton","01:05:13",{"$f":"VLOOKUP(C34,WAVA!$C$3:$E$299,3,FALSE)","v":56},null,null,{"$f":"VLOOKUP(E34,'AgeStdHMS (Women)'!$A$5:$U$100,7,)","v":"00:37:07"},2227,3913,0.56912854587273187,26,null,0.56912854587273187]
[null,null,"Charlotte Martin","01:10:07",{"$f":"VLOOKUP(C35,WAVA!$C$3:$E$299,3,FALSE)","v":38},null,null,{"$f":"VLOOKUP(E35,'AgeStdHMS (Women)'!$A$5:$U$100,7,)","v":"00:31:00"},1860,4207,0.44212027573092466,33,null,0.44212027573092466]
[null,null,"Ellie Hughes",4.8692129629629627E-2,{"$f":"VLOOKUP(C36,WAVA!$C$3:$E$299,3,FALSE)","v":25},null,null,{"$f":"VLOOKUP(E36,'AgeStdHMS (Women)'!$A$5:$U$100,7,)","v":2.1064814814814814E-2},1820,4207,0.43261231281198004,34,null,0.43261231281198004]
[null,null,"Judith Nunn","01:14:27",{"$f":"VLOOKUP(C37,WAVA!$C$3:$E$299,3,FALSE)","v":55},null,null,{"$f":"VLOOKUP(E37,'AgeStdHMS (Women)'!$A$5:$U$100,7,)","v":"00:36:37"},2197,4467,0.49182896798746362,32,null,0.49182896798746362]
[]
["Based on Male & Female Road Age Standards in Seconds WMA and USATF, 2010",null,null,null,null,null,null,"5K"]
["Male",null,"Name","Time","Age",null,null,"Age standard","Age standard/s","Actual/s","Graded",null,null,"WAVA"]
[null,null,"Ewan Gibb","00:19:39",{"$f":"VLOOKUP(C41,WAVA!$C$3:$E$299,3,FALSE)","v":29},null,null,{"$f":"VLOOKUP(E41,'AgeStdHMS (Men)'!$A$5:$U$100,2,)","v":"00:12:55"},{"$f":"CONVERT(H41,\"day\",\"sec\")","v":775},{"$f":"CONVERT(D41,\"day\",\"sec\")","v":1178.9999999999998},{"$f":"I41/J41","v":0.65733672603901627},{"$f":"RANK(K41,$K$3:$K$50,0)","v":10},null,{"$f":"H41/D41","v":0.65733672603901627}]
[null,null,"Noel Fitzpatrick","00:22:29",{"$f":"VLOOKUP(C42,WAVA!$C$3:$E$299,3,FALSE)","v":47},null,null,{"$f":"VLOOKUP(E42,'AgeStdHMS (Men)'!$A$5:$U$100,2,)","v":"00:14:24"},864,1349,0.64047442550037059,{"$f":"RANK(K42,$K$3:$K$50,0)","v":12},null,0.64047442550037059]
[null,null,"Alun Griffiths","00:23:39",{"$f":"VLOOKUP(C43,WAVA!$C$3:$E$299,3,FALSE)","v":59},null,null,{"$f":"VLOOKUP(E43,'AgeStdHMS (Men)'!$A$5:$U$100,2,)","v":"00:15:54"},954,1419,0.67230443974630016,{"$f":"RANK(K43,$K$3:$K$50,0)","v":9},null,0.67230443974630016]
[null,null,"Richard Smith","00:28:42",{"$f":"VLOOKUP(C44,WAVA!$C$3:$E$299,3,FALSE)","v":58},null,null,{"$f":"VLOOKUP(E44,'AgeStdHMS (Men)'!$A$5:$U$100,2,)","v":"00:15:46"},946,1722,0.5493612078977933,{"$f":"RANK(K44,$K$3:$K$50,0)","v":29},null,0.5493612078977933]
["Female",null,null,null,null,null,null,"5K"]
[null,null,"Rachel Parker","00:25:05",{"$f":"VLOOKUP(C46,WAVA!$C$3:$E$299,3,FALSE)","v":45},null,null,{"$f":"VLOOKUP(E46,'AgeStdHMS (Women)'!$A$5:$U$100,2,)","v":"00:15:53"},{"$f":"CONVERT(H46,\"day\",\"sec\")","v":953},{"$f":"CONVERT(D46,\"day\",\"sec\")","v":1504.9999999999998},{"$f":"I46/J46","v":0.63322259136212633},{"$f":"RANK(K46,$K$3:$K$50,0)","v":14},null,{"$f":"H46/D46","v":0.63322259136212633}]
[null,null,"Philippa Bird","00:25:10",{"$f":"VLOOKUP(C47,WAVA!$C$3:$E$299,3,FALSE)","v":36},null,null,{"$f":"VLOOKUP(E47,'AgeStdHMS (Women)'!$A$5:$U$100,2,)","v":"00:15:00"},900,1510,0.59602649006622521,{"$f":"RANK(K47,$K$3:$K$50,0)","v":21},null,0.59602649006622521]
[null,null,"Helen Brant","00:25:22",{"$f":"VLOOKUP(C48,WAVA!$C$3:$E$299,3,FALSE)","v":35},null,null,{"$f":"VLOOKUP(E48,'AgeStdHMS (Women)'!$A$5:$U$100,2,)","v":"00:14:57"},896.99999999999989,1522,0.58935611038107749,{"$f":"RANK(K48,$K$3:$K$50,0)","v":23},null,0.58935611038107749]

{"sheet":"Guy Fawkes","index":21,"n_rows":34,"n_cols":14,"rows_kept":34,"cut":false,"hidden":false,"merged":[]}
["Based on Male & Female Road Age Standards in Seconds WMA and USATF, 2010",null,null,null,null,null,null,"10m"]
["Male",null,"Name","Time","Age",null,null,"Age standard","Age standard/s","Actual/s","Graded","Rank",null,"WAVA"]
["Stuart","Dunbar",{"$f":"CONCATENATE(A3,\" \",B3)","v":"Stuart Dunbar"},"01:04:13",{"$f":"VLOOKUP(C3,WAVA!$C$3:$E$299,3,FALSE)","v":54},null,null,{"$f":"VLOOKUP(E3,'AgeStdHMS (Men)'!$A$5:$U$100,10,)","v":"00:52:09"},{"$f":"CONVERT(H3,\"day\",\"sec\")","v":3129},{"$f":"CONVERT(D3,\"day\",\"sec\")","v":3853},{"$f":"I3/J3","v":0.81209447184012462},{"$f":"RANK(K3,$K$3:$K$38,0)","v":1},null,{"$f":"H3/D3","v":0.81209447184012451}]
["Ben","Marchant","Ben Marchant","01:17:39",{"$f":"VLOOKUP(C4,WAVA!$C$3:$E$299,3,FALSE)","v":31},null,null,{"$f":"VLOOKUP(E4,'AgeStdHMS (Men)'!$A$5:$U$100,10,)","v":"00:44:25"},2665,4659,0.57201116119338913,12,null,0.57201116119338913]
["Jeremy","Rix","Jeremy Rix","01:17:59",{"$f":"VLOOKUP(C5,WAVA!$C$3:$E$299,3,FALSE)","v":54},null,null,{"$f":"VLOOKUP(E5,'AgeStdHMS (Men)'!$A$5:$U$100,10,)","v":"00:52:09"},3129,4679,0.66873263517845694,3,null,0.66873263517845694]
["Loris","Dell'amico","Loris Dell'amico","01:18:21",{"$f":"VLOOKUP(C6,WAVA!$C$3:$E$299,3,FALSE)","v":42},null,null,{"$f":"VLOOKUP(E6,'AgeStdHMS (Men)'!$A$5:$U$100,10,)","v":"00:47:14"},2834,4701,0.60285045734950016,10,null,0.60285045734950005]
["Tim","Mosedale","Tim Mosedale","01:19:02",{"$f":"VLOOKUP(C7,WAVA!$C$3:$E$299,3,FALSE)","v":36},null,null,{"$f":"VLOOKUP(E7,'AgeStdHMS (Men)'!$A$5:$U$100,10,)","v":"00:45:11"},2711,4742.0000000000009,0.57169970476592147,13,null,0.57169970476592147]
["Martin","Love","Martin Love","01:19:19",{"$f":"VLOOKUP(C8,WAVA!$C$3:$E$299,3,FALSE)","v":55},null,null,{"$f":"VLOOKUP(E8,'AgeStdHMS (Men)'!$A$5:$U$100,10,)","v":"00:52:36"},3156,4759,0.66316453036352174,4,null,0.66316453036352174]
["Alan","Douglas","Alan Douglas","01:20:40",{"$f":"VLOOKUP(C9,WAVA!$C$3:$E$299,3,FALSE)","v":47},null,null,{"$f":"VLOOKUP(E9,'AgeStdHMS (Men)'!$A$5:$U$100,10,)","v":"00:49:10"},2950,4840,0.60950413223140498,9,null,0.60950413223140487]
["Gary","Pennington","Gary Pennington","01:21:42",{"$f":"VLOOKUP(C10,WAVA!$C$3:$E$299,3,FALSE)","v":52},null,null,{"$f":"VLOOKUP(E10,'AgeStdHMS (Men)'!$A$5:$U$100,10,)","v":"00:51:15"},3075,4901.9999999999991,0.62729498164014696,6,null,0.62729498164014696]
["Alun","Griffiths","Alun Griffiths","01:24:58",{"$f":"VLOOKUP(C11,WAVA!$C$3:$E$299,3,FALSE)","v":59},null,null,{"$f":"VLOOKUP(E11,'AgeStdHMS (Men)'!$A$5:$U$100,10,)","v":"00:54:30"},3270,5098,0.64142801098469993,5,null,0.64142801098469981]
["Barney","Lerner","Barney Lerner","01:26:53",{"$f":"VLOOKUP(C12,WAVA!$C$3:$E$299,3,FALSE)","v":66},null,null,{"$f":"VLOOKUP(E12,'AgeStdHMS (Men)'!$A$5:$U$100,10,)","v":"00:58:11"},3490.9999999999995,5213,0.66967197391137534,2,null,0.66967197391137534]
["Mohanlal","Mistry","Mohanlal Mistry","01:32:57",{"$f":"VLOOKUP(C13,WAVA!$C$3:$E$299,3,FALSE)","v":55},null,null,{"$f":"VLOOKUP(E13,'AgeStdHMS (Men)'!$A$5:$U$100,10,)","v":"00:52:36"},3156,5577,0.56589564281871974,14,null,0.56589564281871974]
[]
["Female",null,null,null,null,null,null,"Age standard","Age standard/s","Actual/s","Graded",null,null,"WAVA"]
["Louise","Nash",{"$f":"CONCATENATE(A16,\" \",B16)","v":"Louise Nash"},"01:19:03",{"$f":"VLOOKUP(C16,WAVA!$C$3:$E$299,3,FALSE)","v":47},null,null,{"$f":"VLOOKUP(E16,'AgeStdHMS (Men)'!$A$5:$U$100,10,)","v":"00:49:10"},{"$f":"CONVERT(H16,\"day\",\"sec\")","v":2950},{"$f":"CONVERT(D16,\"day\",\"sec\")","v":4743},{"$f":"I16/J16","v":0.62196921779464476},{"$f":"RANK(K16,$K$3:$K$38,0)","v":7},null,{"$f":"H16/D16","v":0.62196921779464476}]
["Tracy","Foy","Tracy Foy","01:24:23",{"$f":"VLOOKUP(C17,WAVA!$C$3:$E$299,3,FALSE)","v":46},null,null,{"$f":"VLOOKUP(E17,'AgeStdHMS (Men)'!$A$5:$U$100,10,)","v":"00:48:46"},2925.9999999999995,5063,0.57791823029824207,11,null,0.57791823029824207]
["Laura","Marchant","Laura Marchant","01:25:38",{"$f":"VLOOKUP(C18,WAVA!$C$3:$E$299,3,FALSE)","v":31},null,null,{"$f":"VLOOKUP(E18,'AgeStdHMS (Men)'!$A$5:$U$100,10,)","v":"00:44:25"},2665,5138,0.51868431296224216,16,null,0.51868431296224216]
["Helen","Love","Helen Love","01:28:04",{"$f":"VLOOKUP(C19,WAVA!$C$3:$E$299,3,FALSE)","v":59},null,null,{"$f":"VLOOKUP(E19,'AgeStdHMS (Men)'!$A$5:$U$100,10,)","v":"00:54:30"},3270,5284,0.61884935654806961,8,null,0.61884935654806961]
["Rachel","Parker","Rachel Parker","01:28:52",{"$f":"VLOOKUP(C20,WAVA!$C$3:$E$299,3,FALSE)","v":45},null,null,{"$f":"VLOOKUP(E20,'AgeStdHMS (Men)'!$A$5:$U$100,10,)","v":"00:48:23"},2903,5332,0.5444486121530383,15,null,0.5444486121530383]
["Jadine","Smith","Jadine Smith","01:31:10",{"$f":"VLOOKUP(C21,WAVA!$C$3:$E$299,3,FALSE)","v":28},null,null,{"$f":"VLOOKUP(E21,'AgeStdHMS (Men)'!$A$5:$U$100,10,)","v":"00:44:23"},2663,5469.9999999999991,0.48683729433272405,24,null,0.48683729433272405]
["Mel","Akeroyd","Mel Akeroyd","01:31:47",{"$f":"VLOOKUP(C22,WAVA!$C$3:$E$299,3,FALSE)","v":37},null,null,{"$f":"VLOOKUP(E22,'AgeStdHMS (Men)'!$A$5:$U$100,10,)","v":"00:45:28"},2728,5506.9999999999991,0.49536952968948617,20,null,0.49536952968948617]
["Helen","Brant","Helen Brant","01:31:46",{"$f":"VLOOKUP(C23,WAVA!$C$3:$E$299,3,FALSE)","v":35},null,null,{"$f":"VLOOKUP(E23,'AgeStdHMS (Men)'!$A$5:$U$100,10,)","v":"00:44:56"},2696,5506,0.489647657101344,22,null,0.48964765710134395]
["Philippa","Bird","Philippa Bird","01:35:54",{"$f":"VLOOKUP(C24,WAVA!$C$3:$E$299,3,FALSE)","v":36},null,null,{"$f":"VLOOKUP(E24,'AgeStdHMS (Men)'!$A$5:$U$100,10,)","v":"00:45:11"},2711,5753.9999999999991,0.47115050399721942,26,null,0.47115050399721942]
["Denise","Davis","Denise Davis","01:37:59",{"$f":"VLOOKUP(C25,WAVA!$C$3:$E$299,3,FALSE)","v":48},null,null,{"$f":"VLOOKUP(E25,'AgeStdHMS (Men)'!$A$5:$U$100,10,)","v":"00:49:34"},2974,5879,0.50586834495662525,18,null,0.50586834495662525]
["Dairine","Nethercott","Dairine Nethercott","01:38:32",{"$f":"VLOOKUP(C26,WAVA!$C$3:$E$299,3,FALSE)","v":49},null,null,{"$f":"VLOOKUP(E26,'AgeStdHMS (Men)'!$A$5:$U$100,10,)","v":"00:49:59"},2999,5912.0000000000009,0.50727334235453303,17,null,0.50727334235453314]
["Kath","Stone","Kath Stone","01:42:41",{"$f":"VLOOKUP(C27,WAVA!$C$3:$E$299,3,FALSE)","v":48},null,null,{"$f":"VLOOKUP(E27,'AgeStdHMS (Men)'!$A$5:$U$100,10,)","v":"00:49:34"},2974,6161,0.48271384515500732,25,null,0.48271384515500732]
["Gillian","Hyde","Gillian Hyde","01:43:16",{"$f":"VLOOKUP(C28,WAVA!$C$3:$E$299,3,FALSE)","v":51},null,null,{"$f":"VLOOKUP(E28,'AgeStdHMS (Men)'!$A$5:$U$100,10,)","v":"00:50:50"},3049.9999999999995,6196,0.4922530664945125,21,null,0.49225306649451256]
["Claire","Thaper","Claire Thaper","01:44:50",{"$f":"VLOOKUP(C29,WAVA!$C$3:$E$299,3,FALSE)","v":36},null,null,{"$f":"VLOOKUP(E29,'AgeStdHMS (Men)'!$A$5:$U$100,10,)","v":"00:45:11"},2711,6290,0.43100158982511921,30,null,0.43100158982511927]
["Liz","Hamilton","Liz Hamilton","01:44:50",{"$f":"VLOOKUP(C30,WAVA!$C$3:$E$299,3,FALSE)","v":41},null,null,{"$f":"VLOOKUP(E30,'AgeStdHMS (Men)'!$A$5:$U$100,10,)","v":"00:46:52"},2812,6290,0.44705882352941179,28,null,0.44705882352941179]
["Urmila","Mistry","Urmila Mistry","01:46:37",{"$f":"VLOOKUP(C31,WAVA!$C$3:$E$299,3,FALSE)","v":54},null,null,{"$f":"VLOOKUP(E31,'AgeStdHMS (Men)'!$A$5:$U$100,10,)","v":"00:52:09"},3129,6397,0.48913553228075662,23,null,0.48913553228075657]
["Carolyn","Rix","Carolyn Rix","01:48:48",{"$f":"VLOOKUP(C32,WAVA!$C$3:$E$299,3,FALSE)","v":58},null,null,{"$f":"VLOOKUP(E32,'AgeStdHMS (Men)'!$A$5:$U$100,10,)","v":"00:54:01"},3241,6528,0.49647671568627449,19,null,0.49647671568627449]
["Ann","Upton","Ann Upton","01:55:03",{"$f":"VLOOKUP(C33,WAVA!$C$3:$E$299,3,FALSE)","v":56},null,null,{"$f":"VLOOKUP(E33,'AgeStdHMS (Men)'!$A$5:$U$100,10,)","v":"00:53:04"},3184,6903,0.46124873243517311,27,null,0.46124873243517311]
["Alexandra","Ayling","Alexandra Ayling","01:55:44",{"$f":"VLOOKUP(C34,WAVA!$C$3:$E$299,3,FALSE)","v":51},null,null,{"$f":"VLOOKUP(E34,'AgeStdHMS (Men)'!$A$5:$U$100,10,)","v":"00:50:50"},3049.9999999999995,6944,0.43922811059907829,29,null,0.43922811059907829]

{"sheet":"Abbey","index":22,"n_rows":43,"n_cols":10,"rows_kept":43,"cut":false,"hidden":false,"merged":[]}
["Based on Male & Female Road Age Standards in Seconds WMA and USATF, 2010"]
["Male",null,"Name","Time","Age","Age standard","Age standard/s","Actual/s","Graded","Rank"]
[null,null,"Peter Hopson","00:33:54",{"$f":"VLOOKUP(C3,WAVA!$C$3:$E$299,3,FALSE)","v":30},{"$f":"VLOOKUP(E3,'AgeStdHMS (Men)'!$A$2:$U$100,7,)","v":"00:26:55"},{"$f":"CONVERT(F3,\"day\",\"sec\")","v":1614.9999999999998},{"$f":"CONVERT(D3,\"day\",\"sec\")","v":2034},{"$f":"G3/H3","v":0.7940019665683381},{"$f":"RANK(I3,$I$3:$I$51,0)","v":2}]
[null,null,"martin fillingham","00:35:19",{"$f":"VLOOKUP(C4,WAVA!$C$3:$E$299,3,FALSE)","v":45},{"$f":"VLOOKUP(E4,'AgeStdHMS (Men)'!$A$2:$U$100,7,)","v":"00:29:31"},1771,2119.0000000000005,0.83577159037281723,1]
[null,null,"tim baldwin","00:35:24",{"$f":"VLOOKUP(C5,WAVA!$C$3:$E$299,3,FALSE)","v":29},{"$f":"VLOOKUP(E5,'AgeStdHMS (Men)'!$A$2:$U$100,7,)","v":"00:26:52"},1612,2124,0.75894538606403017,3]
[null,null,"Tom Lee","00:36:44",{"$f":"VLOOKUP(C6,WAVA!$C$3:$E$299,3,FALSE)","v":29},{"$f":"VLOOKUP(E6,'AgeStdHMS (Men)'!$A$2:$U$100,7,)","v":"00:26:52"},1612,2204,0.73139745916515431,5]
[null,null,"Ian Jenkins","00:40:18",{"$f":"VLOOKUP(C7,WAVA!$C$3:$E$299,3,FALSE)","v":46},{"$f":"VLOOKUP(E7,'AgeStdHMS (Men)'!$A$2:$U$100,7,)","v":"00:29:44"},1784,2418,0.73779983457402809,4]
[null,null,"Adam Camp","00:41:21",{"$f":"VLOOKUP(C8,WAVA!$C$3:$E$299,3,FALSE)","v":33},{"$f":"VLOOKUP(E8,'AgeStdHMS (Men)'!$A$2:$U$100,7,)","v":"00:27:10"},1630,2481.0000000000005,0.65699314792422403,9]
[null,null,"Graham Terry","00:42:29",{"$f":"VLOOKUP(C9,WAVA!$C$3:$E$299,3,FALSE)","v":48},{"$f":"VLOOKUP(E9,'AgeStdHMS (Men)'!$A$2:$U$100,7,)","v":"00:30:13"},1813,2549,0.71125931737936443,6]
[null,null,"John Singh","00:43:31",{"$f":"VLOOKUP(C10,WAVA!$C$3:$E$299,3,FALSE)","v":34},{"$f":"VLOOKUP(E10,'AgeStdHMS (Men)'!$A$2:$U$100,7,)","v":"00:27:17"},1637,2611,0.62696284948295677,15]
[null,null,"gary western","00:46:36",{"$f":"VLOOKUP(C11,WAVA!$C$3:$E$299,3,FALSE)","v":57},{"$f":"VLOOKUP(E11,'AgeStdHMS (Men)'!$A$2:$U$100,7,)","v":"00:32:32"},1951.9999999999998,2796,0.698140200286123,7]
[null,null,"Tom Ratcliffe","00:44:09",{"$f":"VLOOKUP(C12,WAVA!$C$3:$E$299,3,FALSE)","v":37},{"$f":"VLOOKUP(E12,'AgeStdHMS (Men)'!$A$2:$U$100,7,)","v":"00:27:47"},1667,2649,0.62929407323518305,14]
[null,null,"Noel Fitzpatrick","00:46:58",{"$f":"VLOOKUP(C13,WAVA!$C$3:$E$299,3,FALSE)","v":47},{"$f":"VLOOKUP(E13,'AgeStdHMS (Men)'!$A$2:$U$100,7,)","v":"00:29:58"},1798,2818.0000000000005,0.63804116394606092,12]
[null,null,"Frank Beecroft","00:49:00",{"$f":"VLOOKUP(C14,WAVA!$C$3:$E$299,3,FALSE)","v":51},{"$f":"VLOOKUP(E14,'AgeStdHMS (Men)'!$A$2:$U$100,7,)","v":"00:30:57"},1857.0000000000002,2939.9999999999995,0.63163265306122462,13]
[null,null,"Pawel Tryc","00:46:29",{"$f":"VLOOKUP(C15,WAVA!$C$3:$E$299,3,FALSE)","v":36},{"$f":"VLOOKUP(E15,'AgeStdHMS (Men)'!$A$2:$U$100,7,)","v":"00:27:36"},1655.9999999999998,2788.9999999999995,0.59376120473287919,17]
[null,null,"Darren Longhorn","00:53:14",{"$f":"VLOOKUP(C16,WAVA!$C$3:$E$299,3,FALSE)","v":50},{"$f":"VLOOKUP(E16,'AgeStdHMS (Men)'!$A$2:$U$100,7,)","v":"00:30:42"},1841.9999999999998,3194,0.57670632435817148,18]
[null,null,"Mark Walker","00:55:01",{"$f":"VLOOKUP(C17,WAVA!$C$3:$E$299,3,FALSE)","v":53},{"$f":"VLOOKUP(E17,'AgeStdHMS (Men)'!$A$2:$U$100,7,)","v":"00:31:27"},1887,3301,0.57164495607391697,19]
[null,null,"SIMON KINGSNORTH","01:01:00",{"$f":"VLOOKUP(C18,WAVA!$C$3:$E$299,3,FALSE)","v":51},{"$f":"VLOOKUP(E18,'AgeStdHMS (Men)'!$A$2:$U$100,7,)","v":"00:30:57"},1857.0000000000002,3659.9999999999995,0.507377049180328,32]
[]
["Female"]
[null,null,"Laura Ryall","00:45:06",26,{"$f":"VLOOKUP(E21,'AgeStdHMS (Women)'!$A$5:$U$100,7,)","v":"00:30:20"},{"$f":"CONVERT(F21,\"day\",\"sec\")","v":1820},{"$f":"CONVERT(D21,\"day\",\"sec\")","v":2706.0000000000005},{"$f":"G21/H21","v":0.67257945306725786},{"$f":"RANK(I21,$I$3:$I$51,0)","v":8}]
[null,null,"Sheila Norrie","00:46:41",27,{"$f":"VLOOKUP(E22,'AgeStdHMS (Women)'!$A$5:$U$100,7,)","v":"00:30:20"},1820,2801,0.64976794002142091,10]
[null,null,"Jane Grundy","00:46:41",28,{"$f":"VLOOKUP(E23,'AgeStdHMS (Women)'!$A$5:$U$100,7,)","v":"00:30:20"},1820,2801,0.64976794002142091,10]
[null,null,"Megan Paul","00:53:24",29,{"$f":"VLOOKUP(E24,'AgeStdHMS (Women)'!$A$5:$U$100,7,)","v":"00:30:20"},1820,3204.0000000000005,0.56803995006242192,20]
[null,null,"Josephine Briggs","00:53:51",30,{"$f":"VLOOKUP(E25,'AgeStdHMS (Women)'!$A$5:$U$100,7,)","v":"00:30:21"},1820.9999999999998,3231.0000000000005,0.56360259981429883,23]
[null,null,"JENNIFER BARTLETT","00:50:40",31,{"$f":"VLOOKUP(E26,'AgeStdHMS (Women)'!$A$5:$U$100,7,)","v":"00:30:22"},1822.0000000000002,3040,0.59934210526315801,16]
[null,null,"Suzanne Hague","00:56:29",32,{"$f":"VLOOKUP(E27,'AgeStdHMS (Women)'!$A$5:$U$100,7,)","v":"00:30:24"},1824,3389,0.53821186190616699,26]
[null,null,"Harriet Fletcher","00:54:51",33,{"$f":"VLOOKUP(E28,'AgeStdHMS (Women)'!$A$5:$U$100,7,)","v":"00:30:28"},1827.9999999999998,3291,0.55545426921908225,24]
[null,null,"Sarah Sherratt","00:54:02",34,{"$f":"VLOOKUP(E29,'AgeStdHMS (Women)'!$A$5:$U$100,7,)","v":"00:30:32"},1832,3242,0.56508328192473778,21]
[null,null,"Esther Silva","00:54:21",35,{"$f":"VLOOKUP(E30,'AgeStdHMS (Women)'!$A$5:$U$100,7,)","v":"00:30:38"},1838,3261,0.56363078810180922,22]
[null,null,"Cat Bruckner","00:57:28",36,{"$f":"VLOOKUP(E31,'AgeStdHMS (Women)'!$A$5:$U$100,7,)","v":"00:30:44"},1844,3448.0000000000005,0.53480278422273775,27]
[null,null,"sylvia ross","00:56:52",37,{"$f":"VLOOKUP(E32,'AgeStdHMS (Women)'!$A$5:$U$100,7,)","v":"00:30:51"},1851,3412,0.54249706916764362,25]
[null,null,"Liz Dearden","00:57:58",38,{"$f":"VLOOKUP(E33,'AgeStdHMS (Women)'!$A$5:$U$100,7,)","v":"00:31:00"},1860,3478.0000000000005,0.53479010925819426,28]
[null,null,"Jayne Hart","01:01:00",39,{"$f":"VLOOKUP(E34,'AgeStdHMS (Women)'!$A$5:$U$100,7,)","v":"00:31:10"},1869.9999999999998,3659.9999999999995,0.51092896174863389,31]
[null,null,"Jen Murgatroyd","01:00:20",40,{"$f":"VLOOKUP(E35,'AgeStdHMS (Women)'!$A$5:$U$100,7,)","v":"00:31:21"},1881,3620,0.51961325966850824,29]
[null,null,"Anne Forster","01:02:33",41,{"$f":"VLOOKUP(E36,'AgeStdHMS (Women)'!$A$5:$U$100,7,)","v":"00:31:32"},1892,3752.9999999999995,0.50413002930988549,33]
[null,null,"Sarah Miller","01:01:31",42,{"$f":"VLOOKUP(E37,'AgeStdHMS (Women)'!$A$5:$U$100,7,)","v":"00:31:46"},1906,3691,0.51639122189108644,30]
[null,null,"Catherine Berry","01:04:01",43,{"$f":"VLOOKUP(E38,'AgeStdHMS (Women)'!$A$5:$U$100,7,)","v":"00:32:00"},1920,3841,0.49986982556625881,35]
[null,null,"charlotte martin","01:04:01",44,{"$f":"VLOOKUP(E39,'AgeStdHMS (Women)'!$A$5:$U$100,7,)","v":"00:32:16"},1936,3841,0.50403540744597763,34]
[null,null,"Jessica Alred","01:06:26",45,{"$f":"VLOOKUP(E40,'AgeStdHMS (Women)'!$A$5:$U$100,7,)","v":"00:32:33"},1953.0000000000002,3986.0000000000005,0.48996487706974412,36]
[null,null,"Judith Nunn","01:09:53",46,{"$f":"VLOOKUP(E41,'AgeStdHMS (Women)'!$A$5:$U$100,7,)","v":"00:32:51"},1971,4193,0.47006916289053186,37]
[null,null,"Clair Fitzpatrick","01:14:24",47,{"$f":"VLOOKUP(E42,'AgeStdHMS (Women)'!$A$5:$U$100,7,)","v":"00:33:11"},1991,4464,0.44601254480286739,38]
[null,null,"Amanda Race","01:21:37",48,{"$f":"VLOOKUP(E43,'AgeStdHMS (Women)'!$A$5:$U$100,7,)","v":"00:33:33"},2013,4897,0.41106800081682665,39]

{"sheet":"Chevin","index":23,"n_rows":19,"n_cols":10,"rows_kept":19,"cut":false,"hidden":false,"merged":[]}
["Based on Male & Female Road Age Standards in Seconds WMA and USATF, 2010"]
["Male",null,"Name","Time","Age","Age standard","Age standard/s","Actual/s","Graded","Rank"]
[null,null,"Tom Lee","00:44:15",{"$f":"VLOOKUP(C3,WAVA!$C$3:$E$299,3,FALSE)","v":29},{"$f":"VLOOKUP(E3,'AgeStdHMS (Men)'!$A$2:$U$100,8,)","v":"00:32:31"},{"$f":"CONVERT(F3,\"day\",\"sec\")","v":1951},{"$f":"CONVERT(D3,\"day\",\"sec\")","v":2655},{"$f":"G3/H3","v":0.73483992467043313},{"$f":"RANK(I3,$I$3:$I$53,0)","v":2}]
[null,null,"Will Kerr","00:44:22",{"$f":"VLOOKUP(C4,WAVA!$C$3:$E$299,3,FALSE)","v":40},{"$f":"VLOOKUP(E4,'AgeStdHMS (Men)'!$A$2:$U$100,8,)","v":"00:34:17"},2057,2662,0.77272727272727271,1]
[null,null,"Timothy Forster","00:51:32",{"$f":"VLOOKUP(C5,WAVA!$C$3:$E$299,3,FALSE)","v":26},{"$f":"VLOOKUP(E5,'AgeStdHMS (Men)'!$A$2:$U$100,8,)","v":"00:32:31"},1951,3091.9999999999995,0.63098318240620965,6]
[null,null,"John Singh","00:52:14",{"$f":"VLOOKUP(C6,WAVA!$C$3:$E$299,3,FALSE)","v":34},{"$f":"VLOOKUP(E6,'AgeStdHMS (Men)'!$A$2:$U$100,8,)","v":"00:32:56"},1976,3133.9999999999995,0.63050414805360566,7]
[null,null,"Ian Jenkins","00:55:11",{"$f":"VLOOKUP(C7,WAVA!$C$3:$E$299,3,FALSE)","v":46},{"$f":"VLOOKUP(E7,'AgeStdHMS (Men)'!$A$2:$U$100,8,)","v":"00:35:55"},2155,3311,0.65086076713983687,5]
[null,null,"Richard Stone","00:56:09",{"$f":"VLOOKUP(C8,WAVA!$C$3:$E$299,3,FALSE)","v":51},{"$f":"VLOOKUP(E8,'AgeStdHMS (Men)'!$A$2:$U$100,8,)","v":"00:37:23"},2243,3368.9999999999995,0.66577619471653315,4]
[null,null,"Benjamin Pearson","00:58:50",{"$f":"VLOOKUP(C9,WAVA!$C$3:$E$299,3,FALSE)","v":25},{"$f":"VLOOKUP(E9,'AgeStdHMS (Men)'!$A$2:$U$100,8,)","v":"00:32:31"},1951,3530.0000000000005,0.55269121813031152,12]
[null,null,"Jack Verity","00:59:11",{"$f":"VLOOKUP(C10,WAVA!$C$3:$E$299,3,FALSE)","v":59},{"$f":"VLOOKUP(E10,'AgeStdHMS (Men)'!$A$2:$U$100,8,)","v":"00:40:02"},2402,3551,0.6764291748803154,3]
[null,null,"Alan Douglas","00:59:52",{"$f":"VLOOKUP(C11,WAVA!$C$3:$E$299,3,FALSE)","v":47},{"$f":"VLOOKUP(E11,'AgeStdHMS (Men)'!$A$2:$U$100,8,)","v":"00:36:12"},2172,3592,0.60467706013363032,9]
[null,null,"Gary Pennington","01:01:18",{"$f":"VLOOKUP(C12,WAVA!$C$3:$E$299,3,FALSE)","v":52},{"$f":"VLOOKUP(E12,'AgeStdHMS (Men)'!$A$2:$U$100,8,)","v":"00:37:42"},2262,3678,0.6150081566068516,8]
[null,null,"Craig Elliott","01:07:47",{"$f":"VLOOKUP(C13,WAVA!$C$3:$E$299,3,FALSE)","v":43},{"$f":"VLOOKUP(E13,'AgeStdHMS (Men)'!$A$2:$U$100,8,)","v":"00:35:05"},2105,4067.0000000000005,0.51758052618637806,13]
[null,null,"Mohanlal Mistry","01:08:55",{"$f":"VLOOKUP(C14,WAVA!$C$3:$E$299,3,FALSE)","v":55},{"$f":"VLOOKUP(E14,'AgeStdHMS (Men)'!$A$2:$U$100,8,)","v":"00:38:40"},2320,4135,0.56106408706166866,11]
[null,null,"Simon Kingsnorth","01:40:54",{"$f":"VLOOKUP(C15,WAVA!$C$3:$E$299,3,FALSE)","v":51},{"$f":"VLOOKUP(E15,'AgeStdHMS (Men)'!$A$2:$U$100,8,)","v":"00:37:23"},{"$f":"CONVERT(F15,\"day\",\"sec\")","v":2243},{"$f":"CONVERT(D15,\"day\",\"sec\")","v":6054},{"$f":"G15/H15","v":0.37049884373967623},16]
["Female"]
[null,null,"Laura Richardson","01:14:07",{"$f":"VLOOKUP(C17,WAVA!$C$3:$E$299,3,FALSE)","v":31},{"$f":"VLOOKUP(E17,'AgeStdHMS (Women)'!$A$5:$U$100,8,)","v":"00:36:42"},{"$f":"CONVERT(F17,\"day\",\"sec\")","v":2202},{"$f":"CONVERT(D17,\"day\",\"sec\")","v":4446.9999999999991},{"$f":"G17/H17","v":0.49516527996402077},{"$f":"RANK(I17,$I$3:$I$50,0)","v":14}]
[null,null,"Carolyn Rix","01:21:08",{"$f":"VLOOKUP(C18,WAVA!$C$3:$E$299,3,FALSE)","v":58},{"$f":"VLOOKUP(E18,'AgeStdHMS (Women)'!$A$5:$U$100,8,)","v":"00:46:05"},{"$f":"CONVERT(F18,\"day\",\"sec\")","v":2765},{"$f":"CONVERT(D18,\"day\",\"sec\")","v":4868},{"$f":"G18/H18","v":0.56799506984387838},{"$f":"RANK(I18,$I$3:$I$50,0)","v":10}]
[null,null,"Urmila Mistry","01:33:12",{"$f":"VLOOKUP(C19,WAVA!$C$3:$E$299,3,FALSE)","v":54},{"$f":"VLOOKUP(E19,'AgeStdHMS (Women)'!$A$5:$U$100,8,)","v":"00:43:42"},2622,5592,0.4688841201716738,{"$f":"RANK(I19,$I$3:$I$50,0)","v":15}]

{"sheet":"Division Lookup","index":24,"n_rows":218,"n_cols":6,"rows_kept":218,"cut":false,"hidden":false,"merged":[]}
["Name","2016 Points",null,"League"]
["Stuart Dunbar",400,null,"Premier",{"$f":"COUNTIF($D$2:$D$251,F2)","v":48},"Premier"]
["Helen Love",393,null,"Premier",{"$f":"COUNTIF($D$2:$D$250,F3)","v":46},"First"]
["Tracy Foy",371,null,"Premier",{"$f":"COUNTIF($D$2:$D$250,F4)","v":118},"Second"]
["Alan Douglas",369,null,"Premier"]
["Alun Griffiths",359,null,"Premier",{"$f":"SUM(E2:E4)","v":212},"Total"]
["Will Kerr",347,null,"Premier"]
["Mel Akeroyd",328,null,"Premier"]
["Dairine Nethercott",328,null,"Premier"]
["Gary Pennington",311,null,"Premier"]
["Stewart Spink",305,null,"Premier"]
["Helen Brant",298,null,"Premier"]
["Martin Fillingham",295,null,"Premier"]
["Denise Davis",295,null,"Premier"]
["Suzanne Hague",281,null,"Premier"]
["Noel Fitzpatrick",279,null,"Premier"]
["Simon Frazer",274,null,"Premier"]
["Frank Beecroft",263,null,"Premier"]
["Rachel Parker",258,null,"Premier"]
["Matthew Richardson",238,null,"Premier"]
["Tim Mosedale",232,null,"Premier"]
["Darren Longhorn",222,null,"Premier"]
["Mohanlal Mistry",204,null,"Premier"]
["Graham Corbett",192,null,"Premier"]
["Fiona Farquhar",190,null,"Premier"]
["Martin Love",190,null,"Premier"]
["Jack Verity",185,null,"Premier"]
["Barney Lerner",139,null,"Premier"]
["Louise Nash",138,null,"Premier"]
["Jenny Willingham",136,null,"Premier"]
["Chris Jones",128,null,"Premier"]
["Louise Dell'Amico",110,null,"Premier"]
["Richard Nixon",96,null,"Premier"]
["Chris Stott",82,null,"Premier"]
["Simon Kingsnorth",79,null,"Premier"]
["Lorna Nixon",76,null,"Premier"]
["Frank Masley",393,null,"Premier"]
["Gary Western",243,null,"Premier"]
["Helen Western",239,null,"Premier"]
["Gillian Hyde",199,null,"Premier"]
["Josie Briggs",197,null,"Premier"]
["Urmila Mistry",142,null,"Premier"]
["Teri Rose",141,null,"Premier"]
["Claire Thaper",139,null,"Premier"]
["Ben Marchant",100,null,"Premier"]
["Paul Disney",100,null,"Premier"]
["Chris Reynier",98,null,"Premier"]
["Julie Firth",97,null,"Premier"]
["Mark Walker",93,null,"Premier"]
[]
["Jeremy Wright",48,null,"First"]
["Richard Stone",46,null,"First"]
["Vicki Johnston",40,null,"First"]
["Robert Hague",39,null,"First"]
["Simon Rose",0,null,"First"]
["Loris Dell'Amico",0,null,"First"]
["Emma Cartledge",0,null,"First"]
["Tamsin Treasure-Jones",0,null,"First"]
["Igs Robun",0,null,"First"]
["Alistair Nash",0,null,"First"]
["Tony Hart",0,null,"First"]
["Jane Hart",0,null,"First"]
["Jez Rix",50,null,"First"]
["Tim Forster",50,null,"First"]
["Susan Manning",49,null,"First"]
["Peter Huby",49,null,"First"]
["Kelly Smith",49,null,"First"]
["Bernadette Cook",48,null,"First"]
["Reza Abdi",48,null,"First"]
["Ben Pearson",48,null,"First"]
["Liam Verity",47,null,"First"]
["Clair Fitzpatrick",46,null,"First"]
["Ian Jenkins",391,null,"First"]
["Sylvia Ross",247,null,"First"]
["Steph Niven",238,null,"First"]
["Kamil Zakowski",235,null,"First"]
["Robert Davies",198,null,"First"]
["Richard Smith",186,null,"First"]
["Gavin Hamilton",175,null,"First"]
["Sam White",174,null,"First"]
["Marcin Soszka",150,null,"First"]
["Robert Donkin",149,null,"First"]
["Ewan Gibb",133,null,"First"]
["Rebecca Saul",131,null,"First"]
["Stephen Hetherington",98,null,"First"]
["John Walton",95,null,"First"]
["John Colwell",95,null,"First"]
["Duane Craven",94,null,"First"]
["Ian Dickinson",93,null,"First"]
["Gareth Ward",91,null,"First"]
["Laura Richardson",91,null,"First"]
["Jenny Colwell",82,null,"First"]
["Mervyn Silva",81,null,"First"]
["Liz Hamilton",75,null,"First"]
["Nicola Pickard",74,null,"First"]
[]
[]
[]
[]
["Claire Burrill",0,null,"Second"]
["Steve Shnyder",0,null,"Second"]
["Michelle Eyres",0,null,"Second"]
["Keith Jump",0,null,"Second"]
["Kirstie Holmes",0,null,"Second"]
["Helen Pennington",0,null,"Second"]
["Paul Rhodes",0,null,"Second"]
["Laura Ryall",0,null,"Second"]
["Laura Marchant (Mayo)",0,null,"Second"]
["Mick Jones",0,null,"Second"]
["Aimee Bedford",0,null,"Second"]
["Nicola Short",0,null,"Second"]
["Mark Davis",0,null,"Second"]
["Pete  Hopson",0,null,"Second"]
["Malcolm Foy",0,null,"Second"]
["Graham Terry",50,null,"Second"]
["Kevin Armstrong",50,null,"Second"]
["Hannah Oldroyd",50,null,"Second"]
["Emma Dibb",49,null,"Second"]
["John Singh",49,null,"Second"]
["Adrian Manning",48,null,"Second"]
["Ann Upton",48,null,"Second"]
["Dave Armstrong",48,null,"Second"]
["Carl Kernick",47,null,"Second"]
["Andy Hutchinson",47,null,"Second"]
["Kath Stone",47,null,"Second"]
["Nick Breare",47,null,"Second"]
["Rahul Mehra",46,null,"Second"]
["Stuart James",46,null,"Second"]
["Lucy Johnston",46,null,"Second"]
["Hannah Elliot",44,null,"Second"]
["Michael Farren",44,null,"Second"]
["Therese Sheehan",43,null,"Second"]
["Will Collinson",41,null,"Second"]
["Sarah Sherratt",38,null,"Second"]
["Chris Longley",37,null,"Second"]
["Nicola Robinson",32,null,"Second"]
["Laura Whitworth",30,null,"Second"]
["Adam Willoughby",0,null,"Second"]
["Philippa Bird",0,null,"Second"]
["James  Goodall",0,null,"Second"]
["Chris Upton",0,null,"Second"]
["Heather Bodiam",0,null,"Second"]
["Carole Raistrick",0,null,"Second"]
["Esther Silva",0,null,"Second"]
["Michael Moss",0,null,"Second"]
["Diane Collett",0,null,"Second"]
["Nina Rogers",0,null,"Second"]
["John Hunt",0,null,"Second"]
["Sheila Bugg",0,null,"Second"]
["Anna James",0,null,"Second"]
["Simon Pass",0,null,"Second"]
["Louise McGechaen",0,null,"Second"]
["Emma Freer",0,null,"Second"]
["Paul Salisbury",0,null,"Second"]
["Gemma Bell",0,null,"Second"]
["Jac Trow Flynn",0,null,"Second"]
["Jadine Smith",0,null,"Second"]
["Mick Brearley",0,null,"Second"]
["Natalie Stephenson",0,null,"Second"]
["Donna Line",0,null,"Second"]
["Paula Chadwick",0,null,"Second"]
["Sara Atkinson",0,null,"Second"]
["Tina Martiny",0,null,"Second"]
["Paula Cutter",0,null,"Second"]
["Shiela Pepper",0,null,"Second"]
["Barbara Winslow",0,null,"Second"]
["Camille Kendall",0,null,"Second"]
["Catherine Bruckner",0,null,"Second"]
["Carolyn Rix",0,null,"First"]
["Craig Barrow",0,null,"Second"]
["David Schrivener",0,null,"Second"]
["Connor Jay Craven",0,null,"Second"]
["Rebecca O KEEFE",0,null,"Second"]
["Adam Willoughby",0,null,"Second"]
["Joseph Broadbent",0,null,"Second"]
["Diane Collett",0,null,"Second"]
["Anna James",0,null,"Second"]
["Jac Trow Flynn",0,null,"Second"]
["Sarah Bruckshaw",0,null,"Second"]
["Elaine Frazer",0,null,"Second"]
["Joseph Broadbent",0,null,"Second"]
["Mick Chambers",0,null,"Second"]
["Kanwaldeep Kaur",0,null,"Second"]
["Keith Abson",0,null,"Second"]
["Laura Goodyear",0,null,"Second"]
["Lynn Perris",0,null,"Second"]
["Laurence Easton",0,null,"Second"]
["Matthew Nowell",0,null,"Second"]
["Natalie Boardman",0,null,"Second"]
["Matthew Reynier",0,null,"Second"]
["Steven Maude",0,null,"Second"]
["Natalie Evans",0,null,"Second"]
["Tim Baldwin",0,null,"Second"]
["Nazia Begum",0,null,"Second"]
["Tom Lee",0,null,"Second"]
["Patricis Farren",0,null,"Second"]
["Lindsey Pearson",0,null,"Second"]
["Pawel Tryc",0,null,"Second"]
["Amanda Hibbert",0,null,"Second"]
["Rachel  Herrar",0,null,"Second"]
["Ambrose Griffiths",0,null,"Second"]
["Rebecca O Keefe",0,null,"Second"]
["Andrew Edwards",0,null,"Second"]
["Sheila Quarmby",0,null,"Second"]
["Andrew Lickley",0,null,"Second"]
["Steven Fowler",0,null,"Second"]
["Andy Bedford",0,null,"Second"]
["Bernadette Bowden",0,null,"Second"]
["Tim Spencer",0,null,"Second"]
["Abby Hanson",0,null,"Second"]
["Wendy Hey",0,null,"Second"]
["Adam Camp",0,null,"Second"]
["Alex Ayling",0,null,"Second"]
["Rachel Boyd",null,null,"Second"]
["Craig Beza",null,null,"Second"]
["Ann Upton",null,null,"Second"]
["Chris Upton",null,null,"Second"]
["Eleanor Hughes",null,null,"Second"]

{"sheet":"2018 Divisions","index":25,"n_rows":304,"n_cols":14,"rows_kept":304,"cut":false,"hidden":false,"merged":[[0,0,0,2],[0,5,0,7],[0,10,0,12]]}
["Premier Division",null,null,null,null,"First Division",null,null,null,null,"Second Division"]
["Rank","Name","Score",null,"Races","Rank","Name","Score",null,"Races","Rank","Name","Score","Races"]
[1,{"$f":"IF(ISBLANK(LeaderPivot!A4),\"\",LeaderPivot!A4)","v":"Stuart Dunbar"},{"$f":"IF(ISBLANK(LeaderPivot!B4),\"\",LeaderPivot!B4)","v":400},null,{"$f":"VLOOKUP(B3,WAVA!$C$3:$AX$299,48,FALSE)","v":9},{"$f":"IF(G3=\"\",\"\",A38+1)","v":37},{"$f":"IF(ISBLANK(LeaderPivot!A40),\"\",LeaderPivot!A40)","v":"Graham Corbett"},{"$f":"IF(ISBLANK(LeaderPivot!B40),\"\",LeaderPivot!B40)","v":50},"R",{"$f":"VLOOKUP(G3,WAVA!$C$3:$AX$299,48,FALSE)","v":1},null,{"$f":"IF(ISBLANK(LeaderPivot!G18),\"\",LeaderPivot!G18)","v":"Rachel Boyd"},{"$f":"IF(ISBLANK(LeaderPivot!H18),\"\",LeaderPivot!H18)","v":150},{"$f":"VLOOKUP(L3,WAVA!$C$3:$AX$299,48,FALSE)","v":3}]
[{"$f":"IF(B4=\"\",\"\",A3+1)","v":2},{"$f":"IF(ISBLANK(LeaderPivot!A5),\"\",LeaderPivot!A5)","v":"Will Kerr"},{"$f":"IF(ISBLANK(LeaderPivot!B5),\"\",LeaderPivot!B5)","v":398},null,{"$f":"VLOOKUP(B4,WAVA!$C$3:$AX$299,48,FALSE)","v":10},{"$f":"IF(G4=\"\",\"\",F3+1)","v":38},{"$f":"IF(ISBLANK(LeaderPivot!A41),\"\",LeaderPivot!A41)","v":"Chris Stott"},{"$f":"IF(ISBLANK(LeaderPivot!B41),\"\",LeaderPivot!B41)","v":42},"R",{"$f":"VLOOKUP(G4,WAVA!$C$3:$AX$299,48,FALSE)","v":1},null,{"$f":"IF(ISBLANK(LeaderPivot!G19),\"\",LeaderPivot!G19)","v":"Kath Stone"},{"$f":"IF(ISBLANK(LeaderPivot!H19),\"\",LeaderPivot!H19)","v":143},{"$f":"VLOOKUP(L4,WAVA!$C$3:$AX$299,48,FALSE)","v":3}]
[{"$f":"IF(B5=\"\",\"\",A4+1)","v":3},{"$f":"IF(ISBLANK(LeaderPivot!A6),\"\",LeaderPivot!A6)","v":"Martin Fillingham"},{"$f":"IF(ISBLANK(LeaderPivot!B6),\"\",LeaderPivot!B6)","v":391},null,{"$f":"VLOOKUP(B5,WAVA!$C$3:$AX$299,48,FALSE)","v":8},39,{"$f":"IF(ISBLANK(LeaderPivot!A42),\"\",LeaderPivot!A42)","v":"Ben Marchant"},{"$f":"IF(ISBLANK(LeaderPivot!B42),\"\",LeaderPivot!B42)","v":41},"R",{"$f":"VLOOKUP(G5,WAVA!$C$3:$AX$299,48,FALSE)","v":1},null,{"$f":"IF(ISBLANK(LeaderPivot!G20),\"\",LeaderPivot!G20)","v":"James Gardner"},{"$f":"IF(ISBLANK(LeaderPivot!H20),\"\",LeaderPivot!H20)","v":139},{"$f":"VLOOKUP(L5,WAVA!$C$3:$AX$299,48,FALSE)","v":3}]
[4,{"$f":"IF(ISBLANK(LeaderPivot!A7),\"\",LeaderPivot!A7)","v":"Helen Love"},{"$f":"IF(ISBLANK(LeaderPivot!B7),\"\",LeaderPivot!B7)","v":388},null,{"$f":"VLOOKUP(B6,WAVA!$C$3:$AX$299,48,FALSE)","v":12},40,{"$f":"IF(ISBLANK(LeaderPivot!A43),\"\",LeaderPivot!A43)","v":"Chris Reynier"},{"$f":"IF(ISBLANK(LeaderPivot!B43),\"\",LeaderPivot!B43)","v":0},"R",{"$f":"VLOOKUP(G6,WAVA!$C$3:$AX$299,48,FALSE)","v":0},null,{"$f":"IF(ISBLANK(LeaderPivot!G21),\"\",LeaderPivot!G21)","v":"Pawel Tryc"},{"$f":"IF(ISBLANK(LeaderPivot!H21),\"\",LeaderPivot!H21)","v":137},{"$f":"VLOOKUP(L6,WAVA!$C$3:$AX$299,48,FALSE)","v":3}]
[5,{"$f":"IF(ISBLANK(LeaderPivot!A8),\"\",LeaderPivot!A8)","v":"Gary Western"},{"$f":"IF(ISBLANK(LeaderPivot!B8),\"\",LeaderPivot!B8)","v":375},null,{"$f":"VLOOKUP(B7,WAVA!$C$3:$AX$299,48,FALSE)","v":8},41,{"$f":"IF(ISBLANK(LeaderPivot!A44),\"\",LeaderPivot!A44)","v":"Chris Jones"},{"$f":"IF(ISBLANK(LeaderPivot!B44),\"\",LeaderPivot!B44)","v":0},"R",{"$f":"VLOOKUP(G7,WAVA!$C$3:$AX$299,48,FALSE)","v":0},null,{"$f":"IF(ISBLANK(LeaderPivot!G22),\"\",LeaderPivot!G22)","v":"Judith Nunn"},{"$f":"IF(ISBLANK(LeaderPivot!H22),\"\",LeaderPivot!H22)","v":115},{"$f":"VLOOKUP(L7,WAVA!$C$3:$AX$299,48,FALSE)","v":3}]
[6,{"$f":"IF(ISBLANK(LeaderPivot!A9),\"\",LeaderPivot!A9)","v":"Alan Douglas"},{"$f":"IF(ISBLANK(LeaderPivot!B9),\"\",LeaderPivot!B9)","v":369},null,{"$f":"VLOOKUP(B8,WAVA!$C$3:$AX$299,48,FALSE)","v":12},42,{"$f":"IF(ISBLANK(LeaderPivot!A45),\"\",LeaderPivot!A45)","v":"Paul Disney"},{"$f":"IF(ISBLANK(LeaderPivot!B45),\"\",LeaderPivot!B45)","v":0},"R",{"$f":"VLOOKUP(G8,WAVA!$C$3:$AX$299,48,FALSE)","v":0},null,{"$f":"IF(ISBLANK(LeaderPivot!G23),\"\",LeaderPivot!G23)","v":"Jeremy Rix"},{"$f":"IF(ISBLANK(LeaderPivot!H23),\"\",LeaderPivot!H23)","v":99},{"$f":"VLOOKUP(L8,WAVA!$C$3:$AX$299,48,FALSE)","v":2}]
[7,{"$f":"IF(ISBLANK(LeaderPivot!A10),\"\",LeaderPivot!A10)","v":"Tracy Foy"},{"$f":"IF(ISBLANK(LeaderPivot!B10),\"\",LeaderPivot!B10)","v":363},null,{"$f":"VLOOKUP(B9,WAVA!$C$3:$AX$299,48,FALSE)","v":9},43,{"$f":"IF(ISBLANK(LeaderPivot!A46),\"\",LeaderPivot!A46)","v":"Julie Firth"},{"$f":"IF(ISBLANK(LeaderPivot!B46),\"\",LeaderPivot!B46)","v":0},"R",{"$f":"VLOOKUP(G9,WAVA!$C$3:$AX$299,48,FALSE)","v":0},null,{"$f":"IF(ISBLANK(LeaderPivot!G24),\"\",LeaderPivot!G24)","v":"Tim Baldwin"},{"$f":"IF(ISBLANK(LeaderPivot!H24),\"\",LeaderPivot!H24)","v":99},{"$f":"VLOOKUP(L9,WAVA!$C$3:$AX$299,48,FALSE)","v":2}]
[8,{"$f":"IF(ISBLANK(LeaderPivot!A11),\"\",LeaderPivot!A11)","v":"Alun Griffiths"},{"$f":"IF(ISBLANK(LeaderPivot!B11),\"\",LeaderPivot!B11)","v":360},null,{"$f":"VLOOKUP(B10,WAVA!$C$3:$AX$299,48,FALSE)","v":8},44,{"$f":"IF(ISBLANK(LeaderPivot!A47),\"\",LeaderPivot!A47)","v":"Lorna Nixon"},{"$f":"IF(ISBLANK(LeaderPivot!B47),\"\",LeaderPivot!B47)","v":0},"R",{"$f":"VLOOKUP(G10,WAVA!$C$3:$AX$299,48,FALSE)","v":0},null,{"$f":"IF(ISBLANK(LeaderPivot!G25),\"\",LeaderPivot!G25)","v":"Hannah Elliott"},{"$f":"IF(ISBLANK(LeaderPivot!H25),\"\",LeaderPivot!H25)","v":98},{"$f":"VLOOKUP(L10,WAVA!$C$3:$AX$299,48,FALSE)","v":2}]
[9,{"$f":"IF(ISBLANK(LeaderPivot!A12),\"\",LeaderPivot!A12)","v":"Mohanlal Mistry"},{"$f":"IF(ISBLANK(LeaderPivot!B12),\"\",LeaderPivot!B12)","v":353},null,{"$f":"VLOOKUP(B11,WAVA!$C$3:$AX$299,48,FALSE)","v":11},45,{"$f":"IF(ISBLANK(LeaderPivot!A48),\"\",LeaderPivot!A48)","v":"Richard Nixon"},{"$f":"IF(ISBLANK(LeaderPivot!B48),\"\",LeaderPivot!B48)","v":0},"R",{"$f":"VLOOKUP(G11,WAVA!$C$3:$AX$299,48,FALSE)","v":0},null,{"$f":"IF(ISBLANK(LeaderPivot!G26),\"\",LeaderPivot!G26)","v":"Craig  Beza"},{"$f":"IF(ISBLANK(LeaderPivot!H26),\"\",LeaderPivot!H26)","v":98},{"$f":"VLOOKUP(L11,WAVA!$C$3:$AX$299,48,FALSE)","v":2}]
[10,{"$f":"IF(ISBLANK(LeaderPivot!A13),\"\",LeaderPivot!A13)","v":"Mel Akeroyd"},{"$f":"IF(ISBLANK(LeaderPivot!B13),\"\",LeaderPivot!B13)","v":320},null,{"$f":"VLOOKUP(B12,WAVA!$C$3:$AX$299,48,FALSE)","v":9},{"$f":"IF(G12=\"\",\"\",A44+1)","v":7},{"$f":"IF(ISBLANK(LeaderPivot!D10),\"\",LeaderPivot!D10)","v":"Stephen Hetherington"},{"$f":"IF(ISBLANK(LeaderPivot!E10),\"\",LeaderPivot!E10)","v":148},null,{"$f":"VLOOKUP(G12,WAVA!$C$3:$AX$299,48,FALSE)","v":3},null,{"$f":"IF(ISBLANK(LeaderPivot!G27),\"\",LeaderPivot!G27)","v":"Tom Lee"},{"$f":"IF(ISBLANK(LeaderPivot!H27),\"\",LeaderPivot!H27)","v":98},{"$f":"VLOOKUP(L12,WAVA!$C$3:$AX$299,48,FALSE)","v":2}]
[11,{"$f":"IF(ISBLANK(LeaderPivot!A14),\"\",LeaderPivot!A14)","v":"Helen Brant"},{"$f":"IF(ISBLANK(LeaderPivot!B14),\"\",LeaderPivot!B14)","v":304},null,{"$f":"VLOOKUP(B13,WAVA!$C$3:$AX$299,48,FALSE)","v":8},{"$f":"IF(G13=\"\",\"\",F12+1)","v":8},{"$f":"IF(ISBLANK(LeaderPivot!D11),\"\",LeaderPivot!D11)","v":"John Walton"},{"$f":"IF(ISBLANK(LeaderPivot!E11),\"\",LeaderPivot!E11)","v":140},null,{"$f":"VLOOKUP(G13,WAVA!$C$3:$AX$299,48,FALSE)","v":3},null,{"$f":"IF(ISBLANK(LeaderPivot!G28),\"\",LeaderPivot!G28)","v":"Steven Maude"},{"$f":"IF(ISBLANK(LeaderPivot!H28),\"\",LeaderPivot!H28)","v":96},{"$f":"VLOOKUP(L13,WAVA!$C$3:$AX$299,48,FALSE)","v":2}]
[12,{"$f":"IF(ISBLANK(LeaderPivot!A15),\"\",LeaderPivot!A15)","v":"Martin Love"},{"$f":"IF(ISBLANK(LeaderPivot!B15),\"\",LeaderPivot!B15)","v":281},null,{"$f":"VLOOKUP(B14,WAVA!$C$3:$AX$299,48,FALSE)","v":6},9,{"$f":"IF(ISBLANK(LeaderPivot!D12),\"\",LeaderPivot!D12)","v":"Liz Hamilton"},{"$f":"IF(ISBLANK(LeaderPivot!E12),\"\",LeaderPivot!E12)","v":133},null,{"$f":"VLOOKUP(G14,WAVA!$C$3:$AX$299,48,FALSE)","v":3},null,{"$f":"IF(ISBLANK(LeaderPivot!G29),\"\",LeaderPivot!G29)","v":"James Goodall"},{"$f":"IF(ISBLANK(LeaderPivot!H29),\"\",LeaderPivot!H29)","v":96},{"$f":"VLOOKUP(L14,WAVA!$C$3:$AX$299,48,FALSE)","v":2}]
[13,{"$f":"IF(ISBLANK(LeaderPivot!A16),\"\",LeaderPivot!A16)","v":"Barney Lerner"},{"$f":"IF(ISBLANK(LeaderPivot!B16),\"\",LeaderPivot!B16)","v":281},null,{"$f":"VLOOKUP(B15,WAVA!$C$3:$AX$299,48,FALSE)","v":6},10,{"$f":"IF(ISBLANK(LeaderPivot!D13),\"\",LeaderPivot!D13)","v":"Clair Fitzpatrick"},{"$f":"IF(ISBLANK(LeaderPivot!E13),\"\",LeaderPivot!E13)","v":128},null,{"$f":"VLOOKUP(G15,WAVA!$C$3:$AX$299,48,FALSE)","v":3},null,{"$f":"IF(ISBLANK(LeaderPivot!G30),\"\",LeaderPivot!G30)","v":"Benjamin Pearson"},{"$f":"IF(ISBLANK(LeaderPivot!H30),\"\",LeaderPivot!H30)","v":95},{"$f":"VLOOKUP(L15,WAVA!$C$3:$AX$299,48,FALSE)","v":2}]
[14,{"$f":"IF(ISBLANK(LeaderPivot!A17),\"\",LeaderPivot!A17)","v":"Louise Nash"},{"$f":"IF(ISBLANK(LeaderPivot!B17),\"\",LeaderPivot!B17)","v":275},null,{"$f":"VLOOKUP(B16,WAVA!$C$3:$AX$299,48,FALSE)","v":6},11,{"$f":"IF(ISBLANK(LeaderPivot!D14),\"\",LeaderPivot!D14)","v":"Richard Stone"},{"$f":"IF(ISBLANK(LeaderPivot!E14),\"\",LeaderPivot!E14)","v":100},null,{"$f":"VLOOKUP(G16,WAVA!$C$3:$AX$299,48,FALSE)","v":2},null,{"$f":"IF(ISBLANK(LeaderPivot!G31),\"\",LeaderPivot!G31)","v":"Malcolm Foy"},{"$f":"IF(ISBLANK(LeaderPivot!H31),\"\",LeaderPivot!H31)","v":94},{"$f":"VLOOKUP(L16,WAVA!$C$3:$AX$299,48,FALSE)","v":2}]
[15,{"$f":"IF(ISBLANK(LeaderPivot!A18),\"\",LeaderPivot!A18)","v":"Urmila Mistry"},{"$f":"IF(ISBLANK(LeaderPivot!B18),\"\",LeaderPivot!B18)","v":272},null,{"$f":"VLOOKUP(B17,WAVA!$C$3:$AX$299,48,FALSE)","v":7},12,{"$f":"IF(ISBLANK(LeaderPivot!D15),\"\",LeaderPivot!D15)","v":"Duane Craven"},{"$f":"IF(ISBLANK(LeaderPivot!E15),\"\",LeaderPivot!E15)","v":98},null,{"$f":"VLOOKUP(G17,WAVA!$C$3:$AX$299,48,FALSE)","v":2},null,{"$f":"IF(ISBLANK(LeaderPivot!G32),\"\",LeaderPivot!G32)","v":"Claire Burrill"},{"$f":"IF(ISBLANK(LeaderPivot!H32),\"\",LeaderPivot!H32)","v":92},{"$f":"VLOOKUP(L17,WAVA!$C$3:$AX$299,48,FALSE)","v":2}]
[16,{"$f":"IF(ISBLANK(LeaderPivot!A19),\"\",LeaderPivot!A19)","v":"Noel Fitzpatrick"},{"$f":"IF(ISBLANK(LeaderPivot!B19),\"\",LeaderPivot!B19)","v":257},null,{"$f":"VLOOKUP(B18,WAVA!$C$3:$AX$299,48,FALSE)","v":6},13,{"$f":"IF(ISBLANK(LeaderPivot!D16),\"\",LeaderPivot!D16)","v":"Loris Dell'Amico"},{"$f":"IF(ISBLANK(LeaderPivot!E16),\"\",LeaderPivot!E16)","v":95},null,{"$f":"VLOOKUP(G18,WAVA!$C$3:$AX$299,48,FALSE)","v":2},null,{"$f":"IF(ISBLANK(LeaderPivot!G33),\"\",LeaderPivot!G33)","v":"Adam Camp"},{"$f":"IF(ISBLANK(LeaderPivot!H33),\"\",LeaderPivot!H33)","v":91},{"$f":"VLOOKUP(L18,WAVA!$C$3:$AX$299,48,FALSE)","v":2}]
[17,{"$f":"IF(ISBLANK(LeaderPivot!A20),\"\",LeaderPivot!A20)","v":"Rachel Parker"},{"$f":"IF(ISBLANK(LeaderPivot!B20),\"\",LeaderPivot!B20)","v":246},null,{"$f":"VLOOKUP(B19,WAVA!$C$3:$AX$299,48,FALSE)","v":6},14,{"$f":"IF(ISBLANK(LeaderPivot!D17),\"\",LeaderPivot!D17)","v":"Laura Richardson"},{"$f":"IF(ISBLANK(LeaderPivot!E17),\"\",LeaderPivot!E17)","v":91},null,{"$f":"VLOOKUP(G19,WAVA!$C$3:$AX$299,48,FALSE)","v":2},null,{"$f":"IF(ISBLANK(LeaderPivot!G34),\"\",LeaderPivot!G34)","v":"Sheila Pepper"},{"$f":"IF(ISBLANK(LeaderPivot!H34),\"\",LeaderPivot!H34)","v":90},{"$f":"VLOOKUP(L19,WAVA!$C$3:$AX$299,48,FALSE)","v":2}]
[18,{"$f":"IF(ISBLANK(LeaderPivot!A21),\"\",LeaderPivot!A21)","v":"Simon Frazer"},{"$f":"IF(ISBLANK(LeaderPivot!B21),\"\",LeaderPivot!B21)","v":241},null,{"$f":"VLOOKUP(B20,WAVA!$C$3:$AX$299,48,FALSE)","v":5},15,{"$f":"IF(ISBLANK(LeaderPivot!D18),\"\",LeaderPivot!D18)","v":"Kamil Zakowski"},{"$f":"IF(ISBLANK(LeaderPivot!E18),\"\",LeaderPivot!E18)","v":87},null,{"$f":"VLOOKUP(G20,WAVA!$C$3:$AX$299,48,FALSE)","v":2},null,{"$f":"IF(ISBLANK(LeaderPivot!G35),\"\",LeaderPivot!G35)","v":"Kerry Wood"},{"$f":"IF(ISBLANK(LeaderPivot!H35),\"\",LeaderPivot!H35)","v":88},{"$f":"VLOOKUP(L20,WAVA!$C$3:$AX$299,48,FALSE)","v":2}]
[19,{"$f":"IF(ISBLANK(LeaderPivot!A22),\"\",LeaderPivot!A22)","v":"Tim Mosedale"},{"$f":"IF(ISBLANK(LeaderPivot!B22),\"\",LeaderPivot!B22)","v":232},null,{"$f":"VLOOKUP(B21,WAVA!$C$3:$AX$299,48,FALSE)","v":6},16,{"$f":"IF(ISBLANK(LeaderPivot!D19),\"\",LeaderPivot!D19)","v":"Gareth Ward"},{"$f":"IF(ISBLANK(LeaderPivot!E19),\"\",LeaderPivot!E19)","v":86},null,{"$f":"VLOOKUP(G21,WAVA!$C$3:$AX$299,48,FALSE)","v":2},null,{"$f":"IF(ISBLANK(LeaderPivot!G36),\"\",LeaderPivot!G36)","v":"Lucy Johnston"},{"$f":"IF(ISBLANK(LeaderPivot!H36),\"\",LeaderPivot!H36)","v":86},{"$f":"VLOOKUP(L21,WAVA!$C$3:$AX$299,48,FALSE)","v":2}]
[20,{"$f":"IF(ISBLANK(LeaderPivot!A23),\"\",LeaderPivot!A23)","v":"Denise Davis"},{"$f":"IF(ISBLANK(LeaderPivot!B23),\"\",LeaderPivot!B23)","v":231},null,{"$f":"VLOOKUP(B22,WAVA!$C$3:$AX$299,48,FALSE)","v":6},17,{"$f":"IF(ISBLANK(LeaderPivot!D20),\"\",LeaderPivot!D20)","v":"Jenny Colwell"},{"$f":"IF(ISBLANK(LeaderPivot!E20),\"\",LeaderPivot!E20)","v":84},null,{"$f":"VLOOKUP(G22,WAVA!$C$3:$AX$299,48,FALSE)","v":2},null,{"$f":"IF(ISBLANK(LeaderPivot!G37),\"\",LeaderPivot!G37)","v":"Simon Furlong"},{"$f":"IF(ISBLANK(LeaderPivot!H37),\"\",LeaderPivot!H37)","v":85},{"$f":"VLOOKUP(L22,WAVA!$C$3:$AX$299,48,FALSE)","v":2}]
[21,{"$f":"IF(ISBLANK(LeaderPivot!A24),\"\",LeaderPivot!A24)","v":"Gary Pennington"},{"$f":"IF(ISBLANK(LeaderPivot!B24),\"\",LeaderPivot!B24)","v":229},null,{"$f":"VLOOKUP(B23,WAVA!$C$3:$AX$299,48,FALSE)","v":5},18,{"$f":"IF(ISBLANK(LeaderPivot!D21),\"\",LeaderPivot!D21)","v":"Ian Dickinson"},{"$f":"IF(ISBLANK(LeaderPivot!E21),\"\",LeaderPivot!E21)","v":83},null,{"$f":"VLOOKUP(G23,WAVA!$C$3:$AX$299,48,FALSE)","v":2},null,{"$f":"IF(ISBLANK(LeaderPivot!G38),\"\",LeaderPivot!G38)","v":"jennifer bartlett"},{"$f":"IF(ISBLANK(LeaderPivot!H38),\"\",LeaderPivot!H38)","v":83},{"$f":"VLOOKUP(L23,WAVA!$C$3:$AX$299,48,FALSE)","v":2}]
[22,{"$f":"IF(ISBLANK(LeaderPivot!A25),\"\",LeaderPivot!A25)","v":"Claire Thaper"},{"$f":"IF(ISBLANK(LeaderPivot!B25),\"\",LeaderPivot!B25)","v":228},null,{"$f":"VLOOKUP(B24,WAVA!$C$3:$AX$299,48,FALSE)","v":6},19,{"$f":"IF(ISBLANK(LeaderPivot!D22),\"\",LeaderPivot!D22)","v":"Alistair Nash"},{"$f":"IF(ISBLANK(LeaderPivot!E22),\"\",LeaderPivot!E22)","v":50},null,{"$f":"VLOOKUP(G24,WAVA!$C$3:$AX$299,48,FALSE)","v":1},null,{"$f":"IF(ISBLANK(LeaderPivot!G39),\"\",LeaderPivot!G39)","v":"Julia Beaumont"},{"$f":"IF(ISBLANK(LeaderPivot!H39),\"\",LeaderPivot!H39)","v":81},{"$f":"VLOOKUP(L24,WAVA!$C$3:$AX$299,48,FALSE)","v":2}]
[23,{"$f":"IF(ISBLANK(LeaderPivot!A26),\"\",LeaderPivot!A26)","v":"Helen Western"},{"$f":"IF(ISBLANK(LeaderPivot!B26),\"\",LeaderPivot!B26)","v":212},null,{"$f":"VLOOKUP(B25,WAVA!$C$3:$AX$299,48,FALSE)","v":5},20,{"$f":"IF(ISBLANK(LeaderPivot!D23),\"\",LeaderPivot!D23)","v":"Vicki Johnston"},{"$f":"IF(ISBLANK(LeaderPivot!E23),\"\",LeaderPivot!E23)","v":49},null,{"$f":"VLOOKUP(G25,WAVA!$C$3:$AX$299,48,FALSE)","v":1},null,{"$f":"IF(ISBLANK(LeaderPivot!G40),\"\",LeaderPivot!G40)","v":"Ambrose Griffiths"},{"$f":"IF(ISBLANK(LeaderPivot!H40),\"\",LeaderPivot!H40)","v":78},{"$f":"VLOOKUP(L25,WAVA!$C$3:$AX$299,48,FALSE)","v":2}]
[24,{"$f":"IF(ISBLANK(LeaderPivot!A27),\"\",LeaderPivot!A27)","v":"Frank Beecroft"},{"$f":"IF(ISBLANK(LeaderPivot!B27),\"\",LeaderPivot!B27)","v":205},null,{"$f":"VLOOKUP(B26,WAVA!$C$3:$AX$299,48,FALSE)","v":5},21,{"$f":"IF(ISBLANK(LeaderPivot!D24),\"\",LeaderPivot!D24)","v":"Jeremy Wright"},{"$f":"IF(ISBLANK(LeaderPivot!E24),\"\",LeaderPivot!E24)","v":49},null,{"$f":"VLOOKUP(G26,WAVA!$C$3:$AX$299,48,FALSE)","v":1},null,{"$f":"IF(ISBLANK(LeaderPivot!G41),\"\",LeaderPivot!G41)","v":"Harriet Fletcher"},{"$f":"IF(ISBLANK(LeaderPivot!H41),\"\",LeaderPivot!H41)","v":78},{"$f":"VLOOKUP(L26,WAVA!$C$3:$AX$299,48,FALSE)","v":2}]
[25,{"$f":"IF(ISBLANK(LeaderPivot!A28),\"\",LeaderPivot!A28)","v":"Fiona Farquhar"},{"$f":"IF(ISBLANK(LeaderPivot!B28),\"\",LeaderPivot!B28)","v":201},null,{"$f":"VLOOKUP(B27,WAVA!$C$3:$AX$299,48,FALSE)","v":5},22,{"$f":"IF(ISBLANK(LeaderPivot!D25),\"\",LeaderPivot!D25)","v":"Peter Huby"},{"$f":"IF(ISBLANK(LeaderPivot!E25),\"\",LeaderPivot!E25)","v":48},null,{"$f":"VLOOKUP(G27,WAVA!$C$3:$AX$299,48,FALSE)","v":1},null,{"$f":"IF(ISBLANK(LeaderPivot!G42),\"\",LeaderPivot!G42)","v":"Megan Paul"},{"$f":"IF(ISBLANK(LeaderPivot!H42),\"\",LeaderPivot!H42)","v":71},{"$f":"VLOOKUP(L27,WAVA!$C$3:$AX$299,48,FALSE)","v":2}]
[26,{"$f":"IF(ISBLANK(LeaderPivot!A29),\"\",LeaderPivot!A29)","v":"Suzanne Hague"},{"$f":"IF(ISBLANK(LeaderPivot!B29),\"\",LeaderPivot!B29)","v":195},null,{"$f":"VLOOKUP(B28,WAVA!$C$3:$AX$299,48,FALSE)","v":5},23,{"$f":"IF(ISBLANK(LeaderPivot!D26),\"\",LeaderPivot!D26)","v":"Sam White"},{"$f":"IF(ISBLANK(LeaderPivot!E26),\"\",LeaderPivot!E26)","v":48},null,{"$f":"VLOOKUP(G28,WAVA!$C$3:$AX$299,48,FALSE)","v":1},null,{"$f":"IF(ISBLANK(LeaderPivot!G43),\"\",LeaderPivot!G43)","v":"charlotte martin"},{"$f":"IF(ISBLANK(LeaderPivot!H43),\"\",LeaderPivot!H43)","v":71},{"$f":"VLOOKUP(L28,WAVA!$C$3:$AX$299,48,FALSE)","v":2}]
[27,{"$f":"IF(ISBLANK(LeaderPivot!A30),\"\",LeaderPivot!A30)","v":"Jack Verity"},{"$f":"IF(ISBLANK(LeaderPivot!B30),\"\",LeaderPivot!B30)","v":187},null,{"$f":"VLOOKUP(B29,WAVA!$C$3:$AX$299,48,FALSE)","v":4},24,{"$f":"IF(ISBLANK(LeaderPivot!D27),\"\",LeaderPivot!D27)","v":"John Colwell"},{"$f":"IF(ISBLANK(LeaderPivot!E27),\"\",LeaderPivot!E27)","v":47},null,{"$f":"VLOOKUP(G29,WAVA!$C$3:$AX$299,48,FALSE)","v":1},null,{"$f":"IF(ISBLANK(LeaderPivot!G44),\"\",LeaderPivot!G44)","v":"Anne Mason"},{"$f":"IF(ISBLANK(LeaderPivot!H44),\"\",LeaderPivot!H44)","v":71},{"$f":"VLOOKUP(L29,WAVA!$C$3:$AX$299,48,FALSE)","v":2}]
[28,{"$f":"IF(ISBLANK(LeaderPivot!A31),\"\",LeaderPivot!A31)","v":"Frank Masley"},{"$f":"IF(ISBLANK(LeaderPivot!B31),\"\",LeaderPivot!B31)","v":177},null,{"$f":"VLOOKUP(B30,WAVA!$C$3:$AX$299,48,FALSE)","v":4},25,{"$f":"IF(ISBLANK(LeaderPivot!D28),\"\",LeaderPivot!D28)","v":"Mervyn Silva"},{"$f":"IF(ISBLANK(LeaderPivot!E28),\"\",LeaderPivot!E28)","v":47},null,{"$f":"VLOOKUP(G30,WAVA!$C$3:$AX$299,48,FALSE)","v":1},null,{"$f":"IF(ISBLANK(LeaderPivot!G45),\"\",LeaderPivot!G45)","v":"Shiela Bugg"},{"$f":"IF(ISBLANK(LeaderPivot!H45),\"\",LeaderPivot!H45)","v":69},{"$f":"VLOOKUP(L30,WAVA!$C$3:$AX$299,48,FALSE)","v":2}]
[29,{"$f":"IF(ISBLANK(LeaderPivot!A32),\"\",LeaderPivot!A32)","v":"Louise Dell'Amico"},{"$f":"IF(ISBLANK(LeaderPivot!B32),\"\",LeaderPivot!B32)","v":155},null,{"$f":"VLOOKUP(B31,WAVA!$C$3:$AX$299,48,FALSE)","v":4},26,{"$f":"IF(ISBLANK(LeaderPivot!D29),\"\",LeaderPivot!D29)","v":"Tamsin Treasure-Jones"},{"$f":"IF(ISBLANK(LeaderPivot!E29),\"\",LeaderPivot!E29)","v":46},null,{"$f":"VLOOKUP(G31,WAVA!$C$3:$AX$299,48,FALSE)","v":1},null,{"$f":"IF(ISBLANK(LeaderPivot!G46),\"\",LeaderPivot!G46)","v":"Liz Dearden"},{"$f":"IF(ISBLANK(LeaderPivot!H46),\"\",LeaderPivot!H46)","v":67},{"$f":"VLOOKUP(L31,WAVA!$C$3:$AX$299,48,FALSE)","v":2}]
[30,{"$f":"IF(ISBLANK(LeaderPivot!A33),\"\",LeaderPivot!A33)","v":"Gillian Hyde"},{"$f":"IF(ISBLANK(LeaderPivot!B33),\"\",LeaderPivot!B33)","v":154},null,{"$f":"VLOOKUP(B32,WAVA!$C$3:$AX$299,48,FALSE)","v":4},27,{"$f":"IF(ISBLANK(LeaderPivot!D30),\"\",LeaderPivot!D30)","v":"Kelly Smith"},{"$f":"IF(ISBLANK(LeaderPivot!E30),\"\",LeaderPivot!E30)","v":46},null,{"$f":"VLOOKUP(G32,WAVA!$C$3:$AX$299,48,FALSE)","v":1},null,{"$f":"IF(ISBLANK(LeaderPivot!G47),\"\",LeaderPivot!G47)","v":"Amanda Race"},{"$f":"IF(ISBLANK(LeaderPivot!H47),\"\",LeaderPivot!H47)","v":63},{"$f":"VLOOKUP(L32,WAVA!$C$3:$AX$299,48,FALSE)","v":2}]
[31,{"$f":"IF(ISBLANK(LeaderPivot!A34),\"\",LeaderPivot!A34)","v":"Stewart Spink"},{"$f":"IF(ISBLANK(LeaderPivot!B34),\"\",LeaderPivot!B34)","v":143},null,{"$f":"VLOOKUP(B33,WAVA!$C$3:$AX$299,48,FALSE)","v":3},1,"Philippa Bird",380,"P",9,null,{"$f":"IF(ISBLANK(LeaderPivot!G48),\"\",LeaderPivot!G48)","v":"Matt Nowell"},{"$f":"IF(ISBLANK(LeaderPivot!H48),\"\",LeaderPivot!H48)","v":50},{"$f":"VLOOKUP(L33,WAVA!$C$3:$AX$299,48,FALSE)","v":1}]
[32,{"$f":"IF(ISBLANK(LeaderPivot!A35),\"\",LeaderPivot!A35)","v":"Matthew Richardson"},{"$f":"IF(ISBLANK(LeaderPivot!B35),\"\",LeaderPivot!B35)","v":142},null,{"$f":"VLOOKUP(B34,WAVA!$C$3:$AX$299,48,FALSE)","v":3},2,"John Singh",379,"P",8,null,{"$f":"IF(ISBLANK(LeaderPivot!G49),\"\",LeaderPivot!G49)","v":"Peter Hopson"},{"$f":"IF(ISBLANK(LeaderPivot!H49),\"\",LeaderPivot!H49)","v":50},{"$f":"VLOOKUP(L34,WAVA!$C$3:$AX$299,48,FALSE)","v":1}]
[33,{"$f":"IF(ISBLANK(LeaderPivot!A36),\"\",LeaderPivot!A36)","v":"Mark Walker"},{"$f":"IF(ISBLANK(LeaderPivot!B36),\"\",LeaderPivot!B36)","v":125},null,{"$f":"VLOOKUP(B35,WAVA!$C$3:$AX$299,48,FALSE)","v":3},3,"Sarah Sherratt",333,"P",8,null,{"$f":"IF(ISBLANK(LeaderPivot!G50),\"\",LeaderPivot!G50)","v":"Robert Burrell Donkin"},{"$f":"IF(ISBLANK(LeaderPivot!H50),\"\",LeaderPivot!H50)","v":50},{"$f":"VLOOKUP(L35,WAVA!$C$3:$AX$299,48,FALSE)","v":1}]
[34,{"$f":"IF(ISBLANK(LeaderPivot!A37),\"\",LeaderPivot!A37)","v":"Dairine Nethercott"},{"$f":"IF(ISBLANK(LeaderPivot!B37),\"\",LeaderPivot!B37)","v":119},null,{"$f":"VLOOKUP(B36,WAVA!$C$3:$AX$299,48,FALSE)","v":3},4,"Bernie Bowden",297,"P",6,null,{"$f":"IF(ISBLANK(LeaderPivot!G51),\"\",LeaderPivot!G51)","v":"Steven Fowler"},{"$f":"IF(ISBLANK(LeaderPivot!H51),\"\",LeaderPivot!H51)","v":50},{"$f":"VLOOKUP(L36,WAVA!$C$3:$AX$299,48,FALSE)","v":1}]
[35,{"$f":"IF(ISBLANK(LeaderPivot!A38),\"\",LeaderPivot!A38)","v":"Darren Longhorn"},{"$f":"IF(ISBLANK(LeaderPivot!B38),\"\",LeaderPivot!B38)","v":91},null,{"$f":"VLOOKUP(B37,WAVA!$C$3:$AX$299,48,FALSE)","v":2},5,"Ann Upton",257,"P",6,null,{"$f":"IF(ISBLANK(LeaderPivot!G52),\"\",LeaderPivot!G52)","v":"Carl Kernick"},{"$f":"IF(ISBLANK(LeaderPivot!H52),\"\",LeaderPivot!H52)","v":50},{"$f":"VLOOKUP(L37,WAVA!$C$3:$AX$299,48,FALSE)","v":1}]
[36,{"$f":"IF(ISBLANK(LeaderPivot!A39),\"\",LeaderPivot!A39)","v":"Simon Kingsnorth"},{"$f":"IF(ISBLANK(LeaderPivot!B39),\"\",LeaderPivot!B39)","v":87},null,{"$f":"VLOOKUP(B38,WAVA!$C$3:$AX$299,48,FALSE)","v":2},6,"Nick Breare",232,"P",5,null,{"$f":"IF(ISBLANK(LeaderPivot!G53),\"\",LeaderPivot!G53)","v":"Andy Brown"},{"$f":"IF(ISBLANK(LeaderPivot!H53),\"\",LeaderPivot!H53)","v":50},{"$f":"VLOOKUP(L38,WAVA!$C$3:$AX$299,48,FALSE)","v":1}]
[1,{"$f":"IF(ISBLANK(LeaderPivot!D4),\"\",LeaderPivot!D4)","v":"Sylvia Ross"},{"$f":"IF(ISBLANK(LeaderPivot!E4),\"\",LeaderPivot!E4)","v":399},"P",{"$f":"VLOOKUP(B39,WAVA!$C$3:$AX$299,48,FALSE)","v":10},7,"Craig Elliott",228,"P",5,null,{"$f":"IF(ISBLANK(LeaderPivot!G54),\"\",LeaderPivot!G54)","v":"Timothy Forster"},{"$f":"IF(ISBLANK(LeaderPivot!H54),\"\",LeaderPivot!H54)","v":49},{"$f":"VLOOKUP(L39,WAVA!$C$3:$AX$299,48,FALSE)","v":1}]
[{"$f":"IF(B40=\"\",\"\",A39+1)","v":2},{"$f":"IF(ISBLANK(LeaderPivot!D5),\"\",LeaderPivot!D5)","v":"Ian Jenkins"},{"$f":"IF(ISBLANK(LeaderPivot!E5),\"\",LeaderPivot!E5)","v":395},"P",{"$f":"VLOOKUP(B40,WAVA!$C$3:$AX$299,48,FALSE)","v":10},8,"Josephine Briggs",224,"P",5,null,{"$f":"IF(ISBLANK(LeaderPivot!G55),\"\",LeaderPivot!G55)","v":"Andrew Hutchinson"},{"$f":"IF(ISBLANK(LeaderPivot!H55),\"\",LeaderPivot!H55)","v":49},{"$f":"VLOOKUP(L40,WAVA!$C$3:$AX$299,48,FALSE)","v":1}]
[{"$f":"IF(B41=\"\",\"\",A40+1)","v":3},{"$f":"IF(ISBLANK(LeaderPivot!D6),\"\",LeaderPivot!D6)","v":"Ewan Gibb"},{"$f":"IF(ISBLANK(LeaderPivot!E6),\"\",LeaderPivot!E6)","v":385},"P",{"$f":"VLOOKUP(B41,WAVA!$C$3:$AX$299,48,FALSE)","v":8},9,"Jadine Smith",217,"P",5,null,{"$f":"IF(ISBLANK(LeaderPivot!G56),\"\",LeaderPivot!G56)","v":"Laura Marchant"},{"$f":"IF(ISBLANK(LeaderPivot!H56),\"\",LeaderPivot!H56)","v":49},{"$f":"VLOOKUP(L41,WAVA!$C$3:$AX$299,48,FALSE)","v":1}]
[{"$f":"IF(B42=\"\",\"\",A41+1)","v":4},{"$f":"IF(ISBLANK(LeaderPivot!D7),\"\",LeaderPivot!D7)","v":"Richard Smith"},{"$f":"IF(ISBLANK(LeaderPivot!E7),\"\",LeaderPivot!E7)","v":383},"P",{"$f":"VLOOKUP(B42,WAVA!$C$3:$AX$299,48,FALSE)","v":11},10,"Esther Silva",198,"P",5,null,{"$f":"IF(ISBLANK(LeaderPivot!G57),\"\",LeaderPivot!G57)","v":"David Scrivener"},{"$f":"IF(ISBLANK(LeaderPivot!H57),\"\",LeaderPivot!H57)","v":47},{"$f":"VLOOKUP(L42,WAVA!$C$3:$AX$299,48,FALSE)","v":1}]
[{"$f":"IF(B43=\"\",\"\",A42+1)","v":5},{"$f":"IF(ISBLANK(LeaderPivot!D8),\"\",LeaderPivot!D8)","v":"Carolyn Rix"},{"$f":"IF(ISBLANK(LeaderPivot!E8),\"\",LeaderPivot!E8)","v":382},"P",{"$f":"VLOOKUP(B43,WAVA!$C$3:$AX$299,48,FALSE)","v":8},11,"Adam Willoughby",194,"P",4,null,{"$f":"IF(ISBLANK(LeaderPivot!G58),\"\",LeaderPivot!G58)","v":"Wendy Hey"},{"$f":"IF(ISBLANK(LeaderPivot!H58),\"\",LeaderPivot!H58)","v":47},{"$f":"VLOOKUP(L43,WAVA!$C$3:$AX$299,48,FALSE)","v":1}]
[{"$f":"IF(B44=\"\",\"\",A43+1)","v":6},{"$f":"IF(ISBLANK(LeaderPivot!D9),\"\",LeaderPivot!D9)","v":"Gavin Hamilton"},{"$f":"IF(ISBLANK(LeaderPivot!E9),\"\",LeaderPivot!E9)","v":184},"P",{"$f":"VLOOKUP(B44,WAVA!$C$3:$AX$299,48,FALSE)","v":4},12,"Guy Richardson",189,"P",4,null,{"$f":"IF(ISBLANK(LeaderPivot!G59),\"\",LeaderPivot!G59)","v":"Therese Sheehan"},{"$f":"IF(ISBLANK(LeaderPivot!H59),\"\",LeaderPivot!H59)","v":47},{"$f":"VLOOKUP(L44,WAVA!$C$3:$AX$299,48,FALSE)","v":1}]
[{"$f":"IF(B45=\"\",\"\",#REF!+1)","v":""},{"$f":"IF(ISBLANK(LeaderPivot!A56),\"\",LeaderPivot!A56)","v":""},"",null,null,13,"Heather Bayliss",181,"P",5,null,{"$f":"IF(ISBLANK(LeaderPivot!G60),\"\",LeaderPivot!G60)","v":"Graham Terry"},{"$f":"IF(ISBLANK(LeaderPivot!H60),\"\",LeaderPivot!H60)","v":47},{"$f":"VLOOKUP(L45,WAVA!$C$3:$AX$299,48,FALSE)","v":1}]
["",{"$f":"IF(ISBLANK(LeaderPivot!A57),\"\",LeaderPivot!A57)","v":""},"",null,null,14,"Alexandra Ayling",165,"P",4,null,{"$f":"IF(ISBLANK(LeaderPivot!G61),\"\",LeaderPivot!G61)","v":"Laura Ryall"},{"$f":"IF(ISBLANK(LeaderPivot!H61),\"\",LeaderPivot!H61)","v":46},{"$f":"VLOOKUP(L46,WAVA!$C$3:$AX$299,48,FALSE)","v":1}]
["",{"$f":"IF(ISBLANK(LeaderPivot!A58),\"\",LeaderPivot!A58)","v":""},"",null,null,"",{"$f":"IF(ISBLANK(LeaderPivot!D45),\"\",LeaderPivot!D45)","v":""},{"$f":"IF(ISBLANK(LeaderPivot!E45),\"\",LeaderPivot!E45)","v":""},null,null,null,{"$f":"IF(ISBLANK(LeaderPivot!G62),\"\",LeaderPivot!G62)","v":"Gemma Bell"},{"$f":"IF(ISBLANK(LeaderPivot!H62),\"\",LeaderPivot!H62)","v":46},{"$f":"VLOOKUP(L47,WAVA!$C$3:$AX$299,48,FALSE)","v":1}]
["",{"$f":"IF(ISBLANK(LeaderPivot!A59),\"\",LeaderPivot!A59)","v":""},"",null,null,"",{"$f":"IF(ISBLANK(LeaderPivot!D46),\"\",LeaderPivot!D46)","v":""},{"$f":"IF(ISBLANK(LeaderPivot!E46),\"\",LeaderPivot!E46)","v":""},null,null,null,{"$f":"IF(ISBLANK(LeaderPivot!G63),\"\",LeaderPivot!G63)","v":"tim bellwood"},{"$f":"IF(ISBLANK(LeaderPivot!H63),\"\",LeaderPivot!H63)","v":46},{"$f":"VLOOKUP(L48,WAVA!$C$3:$AX$299,48,FALSE)","v":1}]
["","","",null,null,"",{"$f":"IF(ISBLANK(LeaderPivot!D47),\"\",LeaderPivot!D47)","v":""},{"$f":"IF(ISBLANK(LeaderPivot!E47),\"\",LeaderPivot!E47)","v":""},null,null,null,{"$f":"IF(ISBLANK(LeaderPivot!G64),\"\",LeaderPivot!G64)","v":"Amanda  Bellwood"},{"$f":"IF(ISBLANK(LeaderPivot!H64),\"\",LeaderPivot!H64)","v":45},{"$f":"VLOOKUP(L49,WAVA!$C$3:$AX$299,48,FALSE)","v":1}]
["","","",null,null,"",{"$f":"IF(ISBLANK(LeaderPivot!D48),\"\",LeaderPivot!D48)","v":""},{"$f":"IF(ISBLANK(LeaderPivot!E48),\"\",LeaderPivot!E48)","v":""},null,null,null,{"$f":"IF(ISBLANK(LeaderPivot!G65),\"\",LeaderPivot!G65)","v":"Frances  Guy"},{"$f":"IF(ISBLANK(LeaderPivot!H65),\"\",LeaderPivot!H65)","v":45},{"$f":"VLOOKUP(L50,WAVA!$C$3:$AX$299,48,FALSE)","v":1}]
["","","",null,null,"",{"$f":"IF(ISBLANK(LeaderPivot!D49),\"\",LeaderPivot!D49)","v":""},{"$f":"IF(ISBLANK(LeaderPivot!E49),\"\",LeaderPivot!E49)","v":""},null,null,null,{"$f":"IF(ISBLANK(LeaderPivot!G66),\"\",LeaderPivot!G66)","v":"Tom Ratcliffe"},{"$f":"IF(ISBLANK(LeaderPivot!H66),\"\",LeaderPivot!H66)","v":44},{"$f":"VLOOKUP(L51,WAVA!$C$3:$AX$299,48,FALSE)","v":1}]
["","","",null,null,"",{"$f":"IF(ISBLANK(LeaderPivot!D50),\"\",LeaderPivot!D50)","v":""},{"$f":"IF(ISBLANK(LeaderPivot!E50),\"\",LeaderPivot!E50)","v":""},null,null,null,{"$f":"IF(ISBLANK(LeaderPivot!G67),\"\",LeaderPivot!G67)","v":"Kirstie Holmes"},{"$f":"IF(ISBLANK(LeaderPivot!H67),\"\",LeaderPivot!H67)","v":44},{"$f":"VLOOKUP(L52,WAVA!$C$3:$AX$299,48,FALSE)","v":1}]
["","","",null,null,"",{"$f":"IF(ISBLANK(LeaderPivot!D51),\"\",LeaderPivot!D51)","v":""},{"$f":"IF(ISBLANK(LeaderPivot!E51),\"\",LeaderPivot!E51)","v":""},null,null,null,{"$f":"IF(ISBLANK(LeaderPivot!G68),\"\",LeaderPivot!G68)","v":"Elaine Frazer"},{"$f":"IF(ISBLANK(LeaderPivot!H68),\"\",LeaderPivot!H68)","v":40},{"$f":"VLOOKUP(L53,WAVA!$C$3:$AX$299,48,FALSE)","v":1}]
["","","",null,null,"","","",null,null,null,{"$f":"IF(ISBLANK(LeaderPivot!G69),\"\",LeaderPivot!G69)","v":"Nina Rogers"},{"$f":"IF(ISBLANK(LeaderPivot!H69),\"\",LeaderPivot!H69)","v":39},{"$f":"VLOOKUP(L54,WAVA!$C$3:$AX$299,48,FALSE)","v":1}]
["","","",null,null,"","","",null,null,null,{"$f":"IF(ISBLANK(LeaderPivot!G70),\"\",LeaderPivot!G70)","v":"Ellie Hughes"},{"$f":"IF(ISBLANK(LeaderPivot!H70),\"\",LeaderPivot!H70)","v":38},{"$f":"VLOOKUP(L55,WAVA!$C$3:$AX$299,48,FALSE)","v":1}]
["","","",null,null,"","","",null,null,null,{"$f":"IF(ISBLANK(LeaderPivot!G71),\"\",LeaderPivot!G71)","v":"Natalie Ellis"},{"$f":"IF(ISBLANK(LeaderPivot!H71),\"\",LeaderPivot!H71)","v":37},{"$f":"VLOOKUP(L56,WAVA!$C$3:$AX$299,48,FALSE)","v":1}]
["","","",null,null,"","","",null,null,null,{"$f":"IF(ISBLANK(LeaderPivot!G72),\"\",LeaderPivot!G72)","v":"Keith Jump"},{"$f":"IF(ISBLANK(LeaderPivot!H72),\"\",LeaderPivot!H72)","v":37},{"$f":"VLOOKUP(L57,WAVA!$C$3:$AX$299,48,FALSE)","v":1}]
["","","",null,null,"","","",null,null,null,{"$f":"IF(ISBLANK(LeaderPivot!G73),\"\",LeaderPivot!G73)","v":"Cristina Pacchiarini"},{"$f":"IF(ISBLANK(LeaderPivot!H73),\"\",LeaderPivot!H73)","v":37},{"$f":"VLOOKUP(L58,WAVA!$C$3:$AX$299,48,FALSE)","v":1}]
[{"$f":"IF(B59=\"\",\"\",A58+1)","v":""},"","",null,null,"","","",null,null,null,{"$f":"IF(ISBLANK(LeaderPivot!G74),\"\",LeaderPivot!G74)","v":"Craig Barrow"},{"$f":"IF(ISBLANK(LeaderPivot!H74),\"\",LeaderPivot!H74)","v":36},{"$f":"VLOOKUP(L59,WAVA!$C$3:$AX$299,48,FALSE)","v":1}]
["","","",null,null,"","","",null,null,null,{"$f":"IF(ISBLANK(LeaderPivot!G75),\"\",LeaderPivot!G75)","v":"Sarah Miller"},{"$f":"IF(ISBLANK(LeaderPivot!H75),\"\",LeaderPivot!H75)","v":34},{"$f":"VLOOKUP(L60,WAVA!$C$3:$AX$299,48,FALSE)","v":1}]
["","","",null,null,"","","",null,null,null,{"$f":"IF(ISBLANK(LeaderPivot!G76),\"\",LeaderPivot!G76)","v":"Emma Barrow"},{"$f":"IF(ISBLANK(LeaderPivot!H76),\"\",LeaderPivot!H76)","v":34},{"$f":"VLOOKUP(L61,WAVA!$C$3:$AX$299,48,FALSE)","v":1}]
["","","",null,null,"","","",null,null,null,{"$f":"IF(ISBLANK(LeaderPivot!G77),\"\",LeaderPivot!G77)","v":"Sikander Khan"},{"$f":"IF(ISBLANK(LeaderPivot!H77),\"\",LeaderPivot!H77)","v":34},{"$f":"VLOOKUP(L62,WAVA!$C$3:$AX$299,48,FALSE)","v":1}]
["","","",null,null,"","","",null,null,null,{"$f":"IF(ISBLANK(LeaderPivot!G78),\"\",LeaderPivot!G78)","v":"Anne Forster"},{"$f":"IF(ISBLANK(LeaderPivot!H78),\"\",LeaderPivot!H78)","v":33},{"$f":"VLOOKUP(L63,WAVA!$C$3:$AX$299,48,FALSE)","v":1}]
["","","",null,null,"","","",null,null,null,{"$f":"IF(ISBLANK(LeaderPivot!G79),\"\",LeaderPivot!G79)","v":"Catherine Berry"},{"$f":"IF(ISBLANK(LeaderPivot!H79),\"\",LeaderPivot!H79)","v":31},{"$f":"VLOOKUP(L64,WAVA!$C$3:$AX$299,48,FALSE)","v":1}]
["","","",null,null,"","","",null,null,null,{"$f":"IF(ISBLANK(LeaderPivot!G80),\"\",LeaderPivot!G80)","v":"Jessica Alred"},{"$f":"IF(ISBLANK(LeaderPivot!H80),\"\",LeaderPivot!H80)","v":30},{"$f":"VLOOKUP(L65,WAVA!$C$3:$AX$299,48,FALSE)","v":1}]
["","","",null,null,"","","",null,null,null,{"$f":"IF(ISBLANK(LeaderPivot!G81),\"\",LeaderPivot!G81)","v":"Kanwaldeep Kaur"},{"$f":"IF(ISBLANK(LeaderPivot!H81),\"\",LeaderPivot!H81)","v":27},{"$f":"VLOOKUP(L66,WAVA!$C$3:$AX$299,48,FALSE)","v":1}]
["","","",null,null,"","","",null,null,null,{"$f":"IF(ISBLANK(LeaderPivot!G82),\"\",LeaderPivot!G82)","v":"Nicola Willoughby"},{"$f":"IF(ISBLANK(LeaderPivot!H82),\"\",LeaderPivot!H82)","v":26},{"$f":"VLOOKUP(L67,WAVA!$C$3:$AX$299,48,FALSE)","v":1}]
["","","",null,null,"","","",null,null,null,{"$f":"IF(ISBLANK(LeaderPivot!G83),\"\",LeaderPivot!G83)","v":"Camille Kendall"},{"$f":"IF(ISBLANK(LeaderPivot!H83),\"\",LeaderPivot!H83)","v":0},{"$f":"VLOOKUP(L68,WAVA!$C$3:$AX$299,48,FALSE)","v":0}]
["","","",null,null,"","","",null,null,null,{"$f":"IF(ISBLANK(LeaderPivot!G84),\"\",LeaderPivot!G84)","v":"Sarah Bruckshaw"},{"$f":"IF(ISBLANK(LeaderPivot!H84),\"\",LeaderPivot!H84)","v":0},{"$f":"VLOOKUP(L69,WAVA!$C$3:$AX$299,48,FALSE)","v":0}]
["","","",null,null,"","","",null,null,null,{"$f":"IF(ISBLANK(LeaderPivot!G85),\"\",LeaderPivot!G85)","v":"Roy Bradshaw"},{"$f":"IF(ISBLANK(LeaderPivot!H85),\"\",LeaderPivot!H85)","v":0},{"$f":"VLOOKUP(L70,WAVA!$C$3:$AX$299,48,FALSE)","v":0}]
["","","",null,null,"","","",null,null,null,{"$f":"IF(ISBLANK(LeaderPivot!G86),\"\",LeaderPivot!G86)","v":"Rita Jordan"},{"$f":"IF(ISBLANK(LeaderPivot!H86),\"\",LeaderPivot!H86)","v":0},{"$f":"VLOOKUP(L71,WAVA!$C$3:$AX$299,48,FALSE)","v":0}]
["","","",null,null,{"$f":"IF(G72=\"\",\"\",F71+1)","v":""},"","",null,null,null,{"$f":"IF(ISBLANK(LeaderPivot!G87),\"\",LeaderPivot!G87)","v":"Louise  Hawksworth"},{"$f":"IF(ISBLANK(LeaderPivot!H87),\"\",LeaderPivot!H87)","v":0},{"$f":"VLOOKUP(L72,WAVA!$C$3:$AX$299,48,FALSE)","v":0}]
["","","",null,null,"","","",null,null,null,{"$f":"IF(ISBLANK(LeaderPivot!G88),\"\",LeaderPivot!G88)","v":"Tina Martiny"},{"$f":"IF(ISBLANK(LeaderPivot!H88),\"\",LeaderPivot!H88)","v":0},{"$f":"VLOOKUP(L73,WAVA!$C$3:$AX$299,48,FALSE)","v":0}]
["","","",null,null,"","","",null,null,null,{"$f":"IF(ISBLANK(LeaderPivot!G89),\"\",LeaderPivot!G89)","v":"sandie lewis"},{"$f":"IF(ISBLANK(LeaderPivot!H89),\"\",LeaderPivot!H89)","v":0},{"$f":"VLOOKUP(L74,WAVA!$C$3:$AX$299,48,FALSE)","v":0}]
["","","",null,null,"","","",null,null,null,{"$f":"IF(ISBLANK(LeaderPivot!G90),\"\",LeaderPivot!G90)","v":"Carole Raistrick"},{"$f":"IF(ISBLANK(LeaderPivot!H90),\"\",LeaderPivot!H90)","v":0},{"$f":"VLOOKUP(L75,WAVA!$C$3:$AX$299,48,FALSE)","v":0}]
["","","",null,null,"","","",null,null,null,{"$f":"IF(ISBLANK(LeaderPivot!G91),\"\",LeaderPivot!G91)","v":"Gary Mckee"},{"$f":"IF(ISBLANK(LeaderPivot!H91),\"\",LeaderPivot!H91)","v":0},{"$f":"VLOOKUP(L76,WAVA!$C$3:$AX$299,48,FALSE)","v":0}]
["","","",null,null,"","","",null,null,null,{"$f":"IF(ISBLANK(LeaderPivot!G92),\"\",LeaderPivot!G92)","v":"Paula Cutter"},{"$f":"IF(ISBLANK(LeaderPivot!H92),\"\",LeaderPivot!H92)","v":0},{"$f":"VLOOKUP(L77,WAVA!$C$3:$AX$299,48,FALSE)","v":0}]
["","","",null,null,"","","",null,null,null,{"$f":"IF(ISBLANK(LeaderPivot!G93),\"\",LeaderPivot!G93)","v":"julie Cowan-Clark"},{"$f":"IF(ISBLANK(LeaderPivot!H93),\"\",LeaderPivot!H93)","v":0},{"$f":"VLOOKUP(L78,WAVA!$C$3:$AX$299,48,FALSE)","v":0}]
["","","",null,null,"","","",null,null,null,{"$f":"IF(ISBLANK(LeaderPivot!G94),\"\",LeaderPivot!G94)","v":"Victoria Baker"},{"$f":"IF(ISBLANK(LeaderPivot!H94),\"\",LeaderPivot!H94)","v":0},{"$f":"VLOOKUP(L79,WAVA!$C$3:$AX$299,48,FALSE)","v":0}]
["","","",null,null,"","","",null,null,null,{"$f":"IF(ISBLANK(LeaderPivot!G95),\"\",LeaderPivot!G95)","v":"lynsey hardiman"},{"$f":"IF(ISBLANK(LeaderPivot!H95),\"\",LeaderPivot!H95)","v":0},{"$f":"VLOOKUP(L80,WAVA!$C$3:$AX$299,48,FALSE)","v":0}]
["","","",null,null,"","","",null,null,null,{"$f":"IF(ISBLANK(LeaderPivot!G96),\"\",LeaderPivot!G96)","v":"Mick Brearley"},{"$f":"IF(ISBLANK(LeaderPivot!H96),\"\",LeaderPivot!H96)","v":0},{"$f":"VLOOKUP(L81,WAVA!$C$3:$AX$299,48,FALSE)","v":0}]
["","","",null,null,"","","",null,null,null,{"$f":"IF(ISBLANK(LeaderPivot!G97),\"\",LeaderPivot!G97)","v":"Jen  Murgatroyd"},{"$f":"IF(ISBLANK(LeaderPivot!H97),\"\",LeaderPivot!H97)","v":0},{"$f":"VLOOKUP(L82,WAVA!$C$3:$AX$299,48,FALSE)","v":0}]
["","","",null,null,"","","",null,null,null,{"$f":"IF(ISBLANK(LeaderPivot!G98),\"\",LeaderPivot!G98)","v":"Olivia Gregory"},{"$f":"IF(ISBLANK(LeaderPivot!H98),\"\",LeaderPivot!H98)","v":0},{"$f":"VLOOKUP(L83,WAVA!$C$3:$AX$299,48,FALSE)","v":0}]
["","","",null,null,"","","",null,null,null,{"$f":"IF(ISBLANK(LeaderPivot!G99),\"\",LeaderPivot!G99)","v":"Patricia Craven"},{"$f":"IF(ISBLANK(LeaderPivot!H99),\"\",LeaderPivot!H99)","v":0},{"$f":"VLOOKUP(L84,WAVA!$C$3:$AX$299,48,FALSE)","v":0}]
["","","",null,null,"","","",null,null,null,{"$f":"IF(ISBLANK(LeaderPivot!G100),\"\",LeaderPivot!G100)","v":"Rahul Mehra"},{"$f":"IF(ISBLANK(LeaderPivot!H100),\"\",LeaderPivot!H100)","v":0},{"$f":"VLOOKUP(L85,WAVA!$C$3:$AX$299,48,FALSE)","v":0}]
["","","",null,null,"","","",null,null,null,{"$f":"IF(ISBLANK(LeaderPivot!G101),\"\",LeaderPivot!G101)","v":"Dalvinder Hellawell"},{"$f":"IF(ISBLANK(LeaderPivot!H101),\"\",LeaderPivot!H101)","v":0},{"$f":"VLOOKUP(L86,WAVA!$C$3:$AX$299,48,FALSE)","v":0}]
["","","",null,null,"","","",null,null,null,{"$f":"IF(ISBLANK(LeaderPivot!G102),\"\",LeaderPivot!G102)","v":"Donna Line"},{"$f":"IF(ISBLANK(LeaderPivot!H102),\"\",LeaderPivot!H102)","v":0},{"$f":"VLOOKUP(L87,WAVA!$C$3:$AX$299,48,FALSE)","v":0}]
["","","",null,null,"","","",null,null,null,{"$f":"IF(ISBLANK(LeaderPivot!G103),\"\",LeaderPivot!G103)","v":"Tracey Thomas-Marshall"},{"$f":"IF(ISBLANK(LeaderPivot!H103),\"\",LeaderPivot!H103)","v":0},{"$f":"VLOOKUP(L88,WAVA!$C$3:$AX$299,48,FALSE)","v":0}]
["","","",null,null,"","","",null,null,null,{"$f":"IF(ISBLANK(LeaderPivot!G104),\"\",LeaderPivot!G104)","v":"Jonathan Nixon"},{"$f":"IF(ISBLANK(LeaderPivot!H104),\"\",LeaderPivot!H104)","v":0},{"$f":"VLOOKUP(L89,WAVA!$C$3:$AX$299,48,FALSE)","v":0}]
["","","",null,null,"","","",null,null,null,{"$f":"IF(ISBLANK(LeaderPivot!G105),\"\",LeaderPivot!G105)","v":"Keith Abson"},{"$f":"IF(ISBLANK(LeaderPivot!H105),\"\",LeaderPivot!H105)","v":0},{"$f":"VLOOKUP(L90,WAVA!$C$3:$AX$299,48,FALSE)","v":0}]
["","","",null,null,"","","",null,null,null,{"$f":"IF(ISBLANK(LeaderPivot!G106),\"\",LeaderPivot!G106)","v":"Lesley Watson"},{"$f":"IF(ISBLANK(LeaderPivot!H106),\"\",LeaderPivot!H106)","v":0},{"$f":"VLOOKUP(L91,WAVA!$C$3:$AX$299,48,FALSE)","v":0}]
["","","",null,null,"","","",null,null,null,{"$f":"IF(ISBLANK(LeaderPivot!G107),\"\",LeaderPivot!G107)","v":"Claire Cockcroft"},{"$f":"IF(ISBLANK(LeaderPivot!H107),\"\",LeaderPivot!H107)","v":0},{"$f":"VLOOKUP(L92,WAVA!$C$3:$AX$299,48,FALSE)","v":0}]
["","","",null,null,"","","",null,null,null,{"$f":"IF(ISBLANK(LeaderPivot!G108),\"\",LeaderPivot!G108)","v":"Imogen Ambler"},{"$f":"IF(ISBLANK(LeaderPivot!H108),\"\",LeaderPivot!H108)","v":0},{"$f":"VLOOKUP(L93,WAVA!$C$3:$AX$299,48,FALSE)","v":0}]
["","","",null,null,"","","",null,null,null,{"$f":"IF(ISBLANK(LeaderPivot!G109),\"\",LeaderPivot!G109)","v":"rifat bashir"},{"$f":"IF(ISBLANK(LeaderPivot!H109),\"\",LeaderPivot!H109)","v":0},{"$f":"VLOOKUP(L94,WAVA!$C$3:$AX$299,48,FALSE)","v":0}]
["","","",null,null,"","","",null,null,null,{"$f":"IF(ISBLANK(LeaderPivot!G110),\"\",LeaderPivot!G110)","v":"Rhiannon Barrow"},{"$f":"IF(ISBLANK(LeaderPivot!H110),\"\",LeaderPivot!H110)","v":0},{"$f":"VLOOKUP(L95,WAVA!$C$3:$AX$299,48,FALSE)","v":0}]
["","","",null,null,"","","",null,null,null,{"$f":"IF(ISBLANK(LeaderPivot!G111),\"\",LeaderPivot!G111)","v":"Rifut rehman"},{"$f":"IF(ISBLANK(LeaderPivot!H111),\"\",LeaderPivot!H111)","v":0},{"$f":"VLOOKUP(L96,WAVA!$C$3:$AX$299,48,FALSE)","v":0}]
["","","",null,null,"","","",null,null,null,{"$f":"IF(ISBLANK(LeaderPivot!G112),\"\",LeaderPivot!G112)","v":"David Blanchard"},{"$f":"IF(ISBLANK(LeaderPivot!H112),\"\",LeaderPivot!H112)","v":0},{"$f":"VLOOKUP(L97,WAVA!$C$3:$AX$299,48,FALSE)","v":0}]
["","","",null,null,"","","",null,null,null,{"$f":"IF(ISBLANK(LeaderPivot!G113),\"\",LeaderPivot!G113)","v":"Matt Small"},{"$f":"IF(ISBLANK(LeaderPivot!H113),\"\",LeaderPivot!H113)","v":0},{"$f":"VLOOKUP(L98,WAVA!$C$3:$AX$299,48,FALSE)","v":0}]
["","","",null,null,"","","",null,null,null,{"$f":"IF(ISBLANK(LeaderPivot!G114),\"\",LeaderPivot!G114)","v":"Rebecca Carden"},{"$f":"IF(ISBLANK(LeaderPivot!H114),\"\",LeaderPivot!H114)","v":0},{"$f":"VLOOKUP(L99,WAVA!$C$3:$AX$299,48,FALSE)","v":0}]
["","","",null,null,"","","",null,null,null,{"$f":"IF(ISBLANK(LeaderPivot!G115),\"\",LeaderPivot!G115)","v":"Mark Davis"},{"$f":"IF(ISBLANK(LeaderPivot!H115),\"\",LeaderPivot!H115)","v":0},{"$f":"VLOOKUP(L100,WAVA!$C$3:$AX$299,48,FALSE)","v":0}]
["","","",null,null,"","","",null,null,null,{"$f":"IF(ISBLANK(LeaderPivot!G116),\"\",LeaderPivot!G116)","v":"Helen Pennington"},{"$f":"IF(ISBLANK(LeaderPivot!H116),\"\",LeaderPivot!H116)","v":0},{"$f":"VLOOKUP(L101,WAVA!$C$3:$AX$299,48,FALSE)","v":0}]
["","",null,null,null,"","","",null,null,null,{"$f":"IF(ISBLANK(LeaderPivot!G117),\"\",LeaderPivot!G117)","v":"Paul Purcell"},{"$f":"IF(ISBLANK(LeaderPivot!H117),\"\",LeaderPivot!H117)","v":0},{"$f":"VLOOKUP(L102,WAVA!$C$3:$AX$299,48,FALSE)","v":0}]
["","",null,null,null,"","","",null,null,null,{"$f":"IF(ISBLANK(LeaderPivot!G118),\"\",LeaderPivot!G118)","v":"Kevin Armstrong"},{"$f":"IF(ISBLANK(LeaderPivot!H118),\"\",LeaderPivot!H118)","v":0},{"$f":"VLOOKUP(L103,WAVA!$C$3:$AX$299,48,FALSE)","v":0}]
["","",null,null,null,"","","",null,null,null,{"$f":"IF(ISBLANK(LeaderPivot!G119),\"\",LeaderPivot!G119)","v":"Claire Horton"},{"$f":"IF(ISBLANK(LeaderPivot!H119),\"\",LeaderPivot!H119)","v":0},{"$f":"VLOOKUP(L104,WAVA!$C$3:$AX$299,48,FALSE)","v":0}]
["","",null,null,null,"","","",null,null,null,{"$f":"IF(ISBLANK(LeaderPivot!G120),\"\",LeaderPivot!G120)","v":"Ellen Rutter"},{"$f":"IF(ISBLANK(LeaderPivot!H120),\"\",LeaderPivot!H120)","v":0},{"$f":"VLOOKUP(L105,WAVA!$C$3:$AX$299,48,FALSE)","v":0}]
["","",null,null,null,"","","",null,null,null,{"$f":"IF(ISBLANK(LeaderPivot!G121),\"\",LeaderPivot!G121)","v":"Justin Ions"},{"$f":"IF(ISBLANK(LeaderPivot!H121),\"\",LeaderPivot!H121)","v":0},{"$f":"VLOOKUP(L106,WAVA!$C$3:$AX$299,48,FALSE)","v":0}]
["","",null,null,null,"","","",null,null,null,{"$f":"IF(ISBLANK(LeaderPivot!G122),\"\",LeaderPivot!G122)","v":"Michael Moss"},{"$f":"IF(ISBLANK(LeaderPivot!H122),\"\",LeaderPivot!H122)","v":0},{"$f":"VLOOKUP(L107,WAVA!$C$3:$AX$299,48,FALSE)","v":0}]
["","",null,null,null,"","","",null,null,null,{"$f":"IF(ISBLANK(LeaderPivot!G123),\"\",LeaderPivot!G123)","v":"Ian Ogden"},{"$f":"IF(ISBLANK(LeaderPivot!H123),\"\",LeaderPivot!H123)","v":0},{"$f":"VLOOKUP(L108,WAVA!$C$3:$AX$299,48,FALSE)","v":0}]
["","",null,null,null,"","","",null,null,null,{"$f":"IF(ISBLANK(LeaderPivot!G124),\"\",LeaderPivot!G124)","v":"Liz Halfpenny"},{"$f":"IF(ISBLANK(LeaderPivot!H124),\"\",LeaderPivot!H124)","v":0},{"$f":"VLOOKUP(L109,WAVA!$C$3:$AX$299,48,FALSE)","v":0}]
["","",null,null,null,"","","",null,null,null,{"$f":"IF(ISBLANK(LeaderPivot!G125),\"\",LeaderPivot!G125)","v":"Mick Jones"},{"$f":"IF(ISBLANK(LeaderPivot!H125),\"\",LeaderPivot!H125)","v":0},{"$f":"VLOOKUP(L110,WAVA!$C$3:$AX$299,48,FALSE)","v":0}]
["","",null,null,null,"","","",null,null,null,{"$f":"IF(ISBLANK(LeaderPivot!G126),\"\",LeaderPivot!G126)","v":"Abby Hanson"},{"$f":"IF(ISBLANK(LeaderPivot!H126),\"\",LeaderPivot!H126)","v":0},{"$f":"VLOOKUP(L111,WAVA!$C$3:$AX$299,48,FALSE)","v":0}]
["","",null,null,null,"","","",null,null,null,{"$f":"IF(ISBLANK(LeaderPivot!G127),\"\",LeaderPivot!G127)","v":"elizabeth prosser"},{"$f":"IF(ISBLANK(LeaderPivot!H127),\"\",LeaderPivot!H127)","v":0},{"$f":"VLOOKUP(L112,WAVA!$C$3:$AX$299,48,FALSE)","v":0}]
["","",null,null,null,"","","",null,null,null,{"$f":"IF(ISBLANK(LeaderPivot!G128),\"\",LeaderPivot!G128)","v":"Charlotte Woollard"},{"$f":"IF(ISBLANK(LeaderPivot!H128),\"\",LeaderPivot!H128)","v":0},{"$f":"VLOOKUP(L113,WAVA!$C$3:$AX$299,48,FALSE)","v":0}]
["","",null,null,null,"","","",null,null,null,{"$f":"IF(ISBLANK(LeaderPivot!G129),\"\",LeaderPivot!G129)","v":"Hannah Oldroyd"},{"$f":"IF(ISBLANK(LeaderPivot!H129),\"\",LeaderPivot!H129)","v":0},{"$f":"VLOOKUP(L114,WAVA!$C$3:$AX$299,48,FALSE)","v":0}]
["","",null,null,null,"","","",null,null,null,{"$f":"IF(ISBLANK(LeaderPivot!G130),\"\",LeaderPivot!G130)","v":"Chris Upton"},{"$f":"IF(ISBLANK(LeaderPivot!H130),\"\",LeaderPivot!H130)","v":0},{"$f":"VLOOKUP(L115,WAVA!$C$3:$AX$299,48,FALSE)","v":0}]
["","",null,null,null,"","","",null,null,null,{"$f":"IF(ISBLANK(LeaderPivot!G131),\"\",LeaderPivot!G131)","v":"joshua rose"},{"$f":"IF(ISBLANK(LeaderPivot!H131),\"\",LeaderPivot!H131)","v":0},{"$f":"VLOOKUP(L116,WAVA!$C$3:$AX$299,48,FALSE)","v":0}]
["","",null,null,null,"","","",null,null,null,{"$f":"IF(ISBLANK(LeaderPivot!G132),\"\",LeaderPivot!G132)","v":"Catherine Bruckner"},{"$f":"IF(ISBLANK(LeaderPivot!H132),\"\",LeaderPivot!H132)","v":0},{"$f":"VLOOKUP(L117,WAVA!$C$3:$AX$299,48,FALSE)","v":0}]
["","",null,null,null,"","","",null,null,null,{"$f":"IF(ISBLANK(LeaderPivot!G133),\"\",LeaderPivot!G133)","v":"Laura Parkin"},{"$f":"IF(ISBLANK(LeaderPivot!H133),\"\",LeaderPivot!H133)","v":0},{"$f":"VLOOKUP(L118,WAVA!$C$3:$AX$299,48,FALSE)","v":0}]
["","",null,null,null,"","","",null,null,null,{"$f":"IF(ISBLANK(LeaderPivot!G134),\"\",LeaderPivot!G134)","v":"John Hunt"},{"$f":"IF(ISBLANK(LeaderPivot!H134),\"\",LeaderPivot!H134)","v":0},{"$f":"VLOOKUP(L119,WAVA!$C$3:$AX$299,48,FALSE)","v":0}]
["","",null,null,null,"","","",null,null,null,{"$f":"IF(ISBLANK(LeaderPivot!G135),\"\",LeaderPivot!G135)","v":"Lizzy Pix"},{"$f":"IF(ISBLANK(LeaderPivot!H135),\"\",LeaderPivot!H135)","v":0},{"$f":"VLOOKUP(L120,WAVA!$C$3:$AX$299,48,FALSE)","v":0}]
["","",null,null,null,"","","",null,null,null,{"$f":"IF(ISBLANK(LeaderPivot!G136),\"\",LeaderPivot!G136)","v":"Simon Pass"},{"$f":"IF(ISBLANK(LeaderPivot!H136),\"\",LeaderPivot!H136)","v":0},{"$f":"VLOOKUP(L121,WAVA!$C$3:$AX$299,48,FALSE)","v":0}]
["","",null,null,null,"","","",null,null,null,{"$f":"IF(ISBLANK(LeaderPivot!G137),\"\",LeaderPivot!G137)","v":"Shirley Quarmby"},{"$f":"IF(ISBLANK(LeaderPivot!H137),\"\",LeaderPivot!H137)","v":0},{"$f":"VLOOKUP(L122,WAVA!$C$3:$AX$299,48,FALSE)","v":0}]
[{"$f":"IF(B123=\"\",\"\",A122+1)","v":""},"",null,null,null,"","","",null,null,null,{"$f":"IF(ISBLANK(LeaderPivot!G138),\"\",LeaderPivot!G138)","v":"Matthew Lawson"},{"$f":"IF(ISBLANK(LeaderPivot!H138),\"\",LeaderPivot!H138)","v":0},{"$f":"VLOOKUP(L123,WAVA!$C$3:$AX$299,48,FALSE)","v":0}]
["","",null,null,null,"","","",null,null,null,{"$f":"IF(ISBLANK(LeaderPivot!G139),\"\",LeaderPivot!G139)","v":"Michelle Eyres"},{"$f":"IF(ISBLANK(LeaderPivot!H139),\"\",LeaderPivot!H139)","v":0},{"$f":"VLOOKUP(L124,WAVA!$C$3:$AX$299,48,FALSE)","v":0}]
["","",null,null,null,"","","",null,null,null,{"$f":"IF(ISBLANK(LeaderPivot!G140),\"\",LeaderPivot!G140)","v":"helen leetham"},{"$f":"IF(ISBLANK(LeaderPivot!H140),\"\",LeaderPivot!H140)","v":0},{"$f":"VLOOKUP(L125,WAVA!$C$3:$AX$299,48,FALSE)","v":0}]
["","",null,null,null,"","","",null,null,null,{"$f":"IF(ISBLANK(LeaderPivot!G141),\"\",LeaderPivot!G141)","v":"Theresa Rose"},{"$f":"IF(ISBLANK(LeaderPivot!H141),\"\",LeaderPivot!H141)","v":0},{"$f":"VLOOKUP(L126,WAVA!$C$3:$AX$299,48,FALSE)","v":0}]
["","",null,null,null,"","","",null,null,null,{"$f":"IF(ISBLANK(LeaderPivot!G142),\"\",LeaderPivot!G142)","v":"Joanne O'Dwyer"},{"$f":"IF(ISBLANK(LeaderPivot!H142),\"\",LeaderPivot!H142)","v":0},{"$f":"VLOOKUP(L127,WAVA!$C$3:$AX$299,48,FALSE)","v":0}]
["","",null,null,null,"","","",null,null,null,{"$f":"IF(ISBLANK(LeaderPivot!G143),\"\",LeaderPivot!G143)","v":"peter stringer"},{"$f":"IF(ISBLANK(LeaderPivot!H143),\"\",LeaderPivot!H143)","v":0},{"$f":"VLOOKUP(L128,WAVA!$C$3:$AX$299,48,FALSE)","v":0}]
["","",null,null,null,"","","",null,null,null,{"$f":"IF(ISBLANK(LeaderPivot!G144),\"\",LeaderPivot!G144)","v":"Hannah Partner"},{"$f":"IF(ISBLANK(LeaderPivot!H144),\"\",LeaderPivot!H144)","v":0},{"$f":"VLOOKUP(L129,WAVA!$C$3:$AX$299,48,FALSE)","v":0}]
["","",null,null,null,"","","",null,null,null,{"$f":"IF(ISBLANK(LeaderPivot!G145),\"\",LeaderPivot!G145)","v":"Jen Willingham"},{"$f":"IF(ISBLANK(LeaderPivot!H145),\"\",LeaderPivot!H145)","v":0},{"$f":"VLOOKUP(L130,WAVA!$C$3:$AX$299,48,FALSE)","v":0}]
["","",null,null,null,"","","",null,null,null,{"$f":"IF(ISBLANK(LeaderPivot!G146),\"\",LeaderPivot!G146)","v":"Rachel Pickles"},{"$f":"IF(ISBLANK(LeaderPivot!H146),\"\",LeaderPivot!H146)","v":0},{"$f":"VLOOKUP(L131,WAVA!$C$3:$AX$299,48,FALSE)","v":0}]
["","",null,null,null,"","","",null,null,null,{"$f":"IF(ISBLANK(LeaderPivot!G147),\"\",LeaderPivot!G147)","v":"David Wilson"},{"$f":"IF(ISBLANK(LeaderPivot!H147),\"\",LeaderPivot!H147)","v":0},{"$f":"VLOOKUP(L132,WAVA!$C$3:$AX$299,48,FALSE)","v":0}]
["","",null,null,null,"","","",null,null,null,{"$f":"IF(ISBLANK(LeaderPivot!G148),\"\",LeaderPivot!G148)","v":"Joshua Rowe"},{"$f":"IF(ISBLANK(LeaderPivot!H148),\"\",LeaderPivot!H148)","v":0},{"$f":"VLOOKUP(L133,WAVA!$C$3:$AX$299,48,FALSE)","v":0}]
["","",null,null,null,"","","",null,null,null,{"$f":"IF(ISBLANK(LeaderPivot!G149),\"\",LeaderPivot!G149)","v":"Joe Bainborough"},{"$f":"IF(ISBLANK(LeaderPivot!H149),\"\",LeaderPivot!H149)","v":0},{"$f":"VLOOKUP(L134,WAVA!$C$3:$AX$299,48,FALSE)","v":0}]
["","",null,null,null,"","","",null,null,null,{"$f":"IF(ISBLANK(LeaderPivot!G150),\"\",LeaderPivot!G150)","v":"Sara Atkinson"},{"$f":"IF(ISBLANK(LeaderPivot!H150),\"\",LeaderPivot!H150)","v":0},{"$f":"VLOOKUP(L135,WAVA!$C$3:$AX$299,48,FALSE)","v":0}]
["","",null,null,null,{"$f":"IF(G136=\"\",\"\",F135+1)","v":""},"","",null,null,null,{"$f":"IF(ISBLANK(LeaderPivot!G151),\"\",LeaderPivot!G151)","v":"Amy Barker"},{"$f":"IF(ISBLANK(LeaderPivot!H151),\"\",LeaderPivot!H151)","v":0},{"$f":"VLOOKUP(L136,WAVA!$C$3:$AX$299,48,FALSE)","v":0}]
["","",null,null,null,"","","",null,null,null,{"$f":"IF(ISBLANK(LeaderPivot!G152),\"\",LeaderPivot!G152)","v":"Charlotte Martin 1"},{"$f":"IF(ISBLANK(LeaderPivot!H152),\"\",LeaderPivot!H152)","v":0},{"$f":"VLOOKUP(L137,WAVA!$C$3:$AX$299,48,FALSE)","v":0}]
["","",null,null,null,"","","",null,null,null,{"$f":"IF(ISBLANK(LeaderPivot!G153),\"\",LeaderPivot!G153)","v":"Tim Spencer"},{"$f":"IF(ISBLANK(LeaderPivot!H153),\"\",LeaderPivot!H153)","v":0},{"$f":"VLOOKUP(L138,WAVA!$C$3:$AX$299,48,FALSE)","v":0}]
["","",null,null,null,"","","",null,null,null,{"$f":"IF(ISBLANK(LeaderPivot!G154),\"\",LeaderPivot!G154)","v":"Caroline Bagdonavicius"},{"$f":"IF(ISBLANK(LeaderPivot!H154),\"\",LeaderPivot!H154)","v":0},{"$f":"VLOOKUP(L139,WAVA!$C$3:$AX$299,48,FALSE)","v":0}]
["","",null,null,null,"","","",null,null,null,{"$f":"IF(ISBLANK(LeaderPivot!G155),\"\",LeaderPivot!G155)","v":"Victoria Foster"},{"$f":"IF(ISBLANK(LeaderPivot!H155),\"\",LeaderPivot!H155)","v":0},{"$f":"VLOOKUP(L140,WAVA!$C$3:$AX$299,48,FALSE)","v":0}]
["","",null,null,null,"","","",null,null,null,{"$f":"IF(ISBLANK(LeaderPivot!G156),\"\",LeaderPivot!G156)","v":"Anna Harding"},{"$f":"IF(ISBLANK(LeaderPivot!H156),\"\",LeaderPivot!H156)","v":0},{"$f":"VLOOKUP(L141,WAVA!$C$3:$AX$299,48,FALSE)","v":0}]
["","",null,null,null,"","","",null,null,null,{"$f":"IF(ISBLANK(LeaderPivot!G157),\"\",LeaderPivot!G157)","v":"Claire Bond"},{"$f":"IF(ISBLANK(LeaderPivot!H157),\"\",LeaderPivot!H157)","v":0},{"$f":"VLOOKUP(L142,WAVA!$C$3:$AX$299,48,FALSE)","v":0}]
["","",null,null,null,"","","",null,null,null,{"$f":"IF(ISBLANK(LeaderPivot!G158),\"\",LeaderPivot!G158)","v":"Greg  Hull"},{"$f":"IF(ISBLANK(LeaderPivot!H158),\"\",LeaderPivot!H158)","v":0},{"$f":"VLOOKUP(L143,WAVA!$C$3:$AX$299,48,FALSE)","v":0}]
["","",null,null,null,"","","",null,null,null,{"$f":"IF(ISBLANK(LeaderPivot!G159),\"\",LeaderPivot!G159)","v":"Andrew Bruce"},{"$f":"IF(ISBLANK(LeaderPivot!H159),\"\",LeaderPivot!H159)","v":0},{"$f":"VLOOKUP(L144,WAVA!$C$3:$AX$299,48,FALSE)","v":0}]
["","",null,null,null,"","","",null,null,null,{"$f":"IF(ISBLANK(LeaderPivot!G160),\"\",LeaderPivot!G160)","v":"Simon Latimer"},{"$f":"IF(ISBLANK(LeaderPivot!H160),\"\",LeaderPivot!H160)","v":0},{"$f":"VLOOKUP(L145,WAVA!$C$3:$AX$299,48,FALSE)","v":0}]
["","",null,null,null,"","","",null,null,null,{"$f":"IF(ISBLANK(LeaderPivot!G161),\"\",LeaderPivot!G161)","v":"Richard Carden"},{"$f":"IF(ISBLANK(LeaderPivot!H161),\"\",LeaderPivot!H161)","v":0},{"$f":"VLOOKUP(L146,WAVA!$C$3:$AX$299,48,FALSE)","v":0}]
["","",null,null,null,"","","",null,null,null,{"$f":"IF(ISBLANK(LeaderPivot!G162),\"\",LeaderPivot!G162)","v":"Joseph Broadbent"},{"$f":"IF(ISBLANK(LeaderPivot!H162),\"\",LeaderPivot!H162)","v":0},{"$f":"VLOOKUP(L147,WAVA!$C$3:$AX$299,48,FALSE)","v":0}]
["","",null,null,null,"","","",null,null,null,{"$f":"IF(ISBLANK(LeaderPivot!G163),\"\",LeaderPivot!G163)","v":"Lee  East"},{"$f":"IF(ISBLANK(LeaderPivot!H163),\"\",LeaderPivot!H163)","v":0},{"$f":"VLOOKUP(L148,WAVA!$C$3:$AX$299,48,FALSE)","v":0}]
["","",null,null,null,"","","",null,null,null,{"$f":"IF(ISBLANK(LeaderPivot!G164),\"\",LeaderPivot!G164)","v":"Diane Collett"},{"$f":"IF(ISBLANK(LeaderPivot!H164),\"\",LeaderPivot!H164)","v":0},{"$f":"VLOOKUP(L149,WAVA!$C$3:$AX$299,48,FALSE)","v":0}]
["","",null,null,null,"","","",null,null,null,{"$f":"IF(ISBLANK(LeaderPivot!G165),\"\",LeaderPivot!G165)","v":"Rowan Grant"},{"$f":"IF(ISBLANK(LeaderPivot!H165),\"\",LeaderPivot!H165)","v":0},{"$f":"VLOOKUP(L150,WAVA!$C$3:$AX$299,48,FALSE)","v":0}]
["","",null,null,null,"","","",null,null,null,{"$f":"IF(ISBLANK(LeaderPivot!D31),\"\",LeaderPivot!D31)","v":"Tony Hart"},{"$f":"IF(ISBLANK(LeaderPivot!E31),\"\",LeaderPivot!E31)","v":0},"R"]
["","",null,null,null,"","","",null,null,null,{"$f":"IF(ISBLANK(LeaderPivot!D32),\"\",LeaderPivot!D32)","v":"Emma Cartledge"},{"$f":"IF(ISBLANK(LeaderPivot!E32),\"\",LeaderPivot!E32)","v":0},"R"]
["","",null,null,null,"","","",null,null,null,{"$f":"IF(ISBLANK(LeaderPivot!D33),\"\",LeaderPivot!D33)","v":"Simon Rose"},{"$f":"IF(ISBLANK(LeaderPivot!E33),\"\",LeaderPivot!E33)","v":0},"R"]
["","",null,null,null,"","","",null,null,null,{"$f":"IF(ISBLANK(LeaderPivot!D34),\"\",LeaderPivot!D34)","v":"Reza Abdi"},{"$f":"IF(ISBLANK(LeaderPivot!E34),\"\",LeaderPivot!E34)","v":0},"R"]
["","",null,null,null,"","","",null,null,null,{"$f":"IF(ISBLANK(LeaderPivot!D35),\"\",LeaderPivot!D35)","v":"Robert Hague"},{"$f":"IF(ISBLANK(LeaderPivot!E35),\"\",LeaderPivot!E35)","v":0},"R"]
["","",null,null,null,"","","",null,null,null,{"$f":"IF(ISBLANK(LeaderPivot!D36),\"\",LeaderPivot!D36)","v":"Nicola Pickard"},{"$f":"IF(ISBLANK(LeaderPivot!E36),\"\",LeaderPivot!E36)","v":0},"R"]
["","",null,null,null,"","","",null,null,null,{"$f":"IF(ISBLANK(LeaderPivot!D37),\"\",LeaderPivot!D37)","v":"Marcin Soszka"},{"$f":"IF(ISBLANK(LeaderPivot!E37),\"\",LeaderPivot!E37)","v":0},"R"]
["","",null,null,null,"","","",null,null,null,{"$f":"IF(ISBLANK(LeaderPivot!D38),\"\",LeaderPivot!D38)","v":"Bernadette Cook"},{"$f":"IF(ISBLANK(LeaderPivot!E38),\"\",LeaderPivot!E38)","v":0},"R"]
["","",null,null,null,"","","",null,null,null,{"$f":"IF(ISBLANK(LeaderPivot!D39),\"\",LeaderPivot!D39)","v":"Jane Hart"},{"$f":"IF(ISBLANK(LeaderPivot!E39),\"\",LeaderPivot!E39)","v":0},"R"]
["","",null,null,null,"","","",null,null,null,{"$f":"IF(ISBLANK(LeaderPivot!D40),\"\",LeaderPivot!D40)","v":"Igs Robun"},{"$f":"IF(ISBLANK(LeaderPivot!E40),\"\",LeaderPivot!E40)","v":0},"R"]
["","",null,null,null,"","",""]
["","",null,null,null,"","",""]
["","",null,null,null,"","",""]
["","",null,null,null,"","",""]
["","",null,null,null,"","",""]
["","",null,null,null,"","",""]
["","",null,null,null,"","",""]
["","",null,null,null,"","",""]
["","",null,null,null,"","",""]
["","",null,null,null,"","",""]
["","",null,null,null,"","",""]
["","",null,null,null,"","",""]
["","",null,null,null,"","",""]
["","",null,null,null,"","",""]
["","",null,null,null,"","","",null,null,{"$f":"IF(L161=\"\",\"\",#REF!+1)","v":""},"",""]
["","",null,null,null,"","","",null,null,{"$f":"IF(L162=\"\",\"\",K175+1)","v":""},"",""]
["","",null,null,null,"","","",null,null,"","",""]
["","",null,null,null,"","","",null,null,"","",""]
["","",null,null,null,"","","",null,null,"","",""]
["","",null,null,null,"","","",null,null,"","",""]
["","",null,null,null,"","","",null,null,"","",""]
["","",null,null,null,"","","",null,null,"","",""]
["","",null,null,null,"","","",null,null,"","",""]
["","",null,null,null,"","","",null,null,"","",""]
["","",null,null,null,"","","",null,null,"","",""]
["","",null,null,null,"","","",null,null,"","",""]
[{"$f":"IF(B187=\"\",\"\",A186+1)","v":""},"",null,null,null,"","","",null,null,"","",""]
["","",null,null,null,"","","",null,null,"","",""]
["","",null,null,null,"","","",null,null,"","",""]
["","",null,null,null,"","","",null,null,"","",""]
["","",null,null,null,"","","",null,null,"","",""]
["","",null,null,null,"","","",null,null,"","",""]
["","",null,null,null,"","","",null,null,"","",""]
["","",null,null,null,"","","",null,null,"","",""]
["","",null,null,null,"","","",null,null,"","",""]
["","",null,null,null,"","","",null,null,"","",""]
["","",null,null,null,"","","",null,null,"","",""]
["","",null,null,null,"","","",null,null,"","",""]
["","",null,null,null,"","","",null,null,"","",""]
["","",null,null,null,{"$f":"IF(G200=\"\",\"\",F199+1)","v":""},"","",null,null,"","",""]
["","",null,null,null,"","","",null,null,"","",""]
["","",null,null,null,"","","",null,null,"","",""]
["","",null,null,null,"","","",null,null,"","",""]
["","",null,null,null,"","","",null,null,"","",""]
["","",null,null,null,"","","",null,null,"","",""]
["","",null,null,null,"","","",null,null,"","",""]
["","",null,null,null,"","","",null,null,"","",""]
["","",null,null,null,"","","",null,null,{"$f":"IF(L194=\"\",\"\",K207+1)","v":""},"",""]
["","",null,null,null,"","","",null,null,"","",""]
["","",null,null,null,"","","",null,null,"","",""]
["","",null,null,null,"","","",null,null,"","",""]
["","",null,null,null,"","","",null,null,"","",""]
["","",null,null,null,"","","",null,null,"","",""]
["","",null,null,null,"","","",null,null,"","",""]
["","",null,null,null,"","","",null,null,"","",""]
["","",null,null,null,"","","",null,null,"","",""]
["","",null,null,null,"","","",null,null,"","",""]
["","",null,null,null,"","","",null,null,"","",""]
["","",null,null,null,"","","",null,null,"","",""]
["","",null,null,null,"","","",null,null,"","",""]
["","",null,null,null,"","","",null,null,"","",""]
["","",null,null,null,"","","",null,null,"","",""]
["","",null,null,null,"","","",null,null,"","",""]
["","",null,null,null,"","","",null,null,"","",""]
["","",null,null,null,"","","",null,null,"","",""]
["","",null,null,null,"","","",null,null,"","",""]
["","",null,null,null,"","","",null,null,"","",""]
["","",null,null,null,"","","",null,null,"","",""]
["","",null,null,null,"","","",null,null,"","",""]
["","",null,null,null,"","","",null,null,"","",""]
["","",null,null,null,"","","",null,null,"","",""]
["","",null,null,null,"","","",null,null,"","",""]
["","",null,null,null,"","","",null,null,"","",""]
["","",null,null,null,"","","",null,null,"","",""]
["","",null,null,null,"","","",null,null,"","",""]
["","",null,null,null,"","","",null,null,"","",""]
["","",null,null,null,"","","",null,null,"","",""]
["","",null,null,null,"","","",null,null,"","",""]
["","",null,null,null,"","","",null,null,"","",""]
["","",null,null,null,"","","",null,null,{"$f":"IF(L226=\"\",\"\",K239+1)","v":""},"",""]
["","",null,null,null,"","","",null,null,"","",""]
["","",null,null,null,"","","",null,null,"","",""]
["","",null,null,null,"","","",null,null,"","",""]
["","",null,null,null,"","","",null,null,"","",""]
["","",null,null,null,"","","",null,null,"","",""]
["","",null,null,null,"","","",null,null,"","",""]
["","",null,null,null,"","","",null,null,"","",""]
["","",null,null,null,"","","",null,null,"","",""]
["","",null,null,null,"","","",null,null,"","",""]
["","",null,null,null,"","","",null,null,"","",""]
[{"$f":"IF(B251=\"\",\"\",A250+1)","v":""},"",null,null,null,"","","",null,null,"","",""]
["","",null,null,null,"","","",null,null,"","",""]
["","",null,null,null,"","","",null,null,"","",""]
["","",null,null,null,"","","",null,null,"","",""]
["","",null,null,null,"","","",null,null,"","",""]
["","",null,null,null,"","","",null,null,"","",""]
["","",null,null,null,"","","",null,null,"","",""]
["","",null,null,null,"","","",null,null,"","",""]
["","",null,null,null,"","","",null,null,"","",""]
["","",null,null,null,"","","",null,null,"","",""]
["","",null,null,null,"","","",null,null,"","",""]
["","",null,null,null,"","","",null,null,"","",""]
["","",null,null,null,"","","",null,null,"","",""]
["","",null,null,null,{"$f":"IF(G264=\"\",\"\",F263+1)","v":""},"","",null,null,"","",""]
["","",null,null,null,"","","",null,null,"","",""]
["","",null,null,null,"","","",null,null,"","",""]
["","",null,null,null,"","","",null,null,"","",""]
["","",null,null,null,"","","",null,null,"","",""]
["","",null,null,null,"","","",null,null,"","",""]
["","",null,null,null,"","","",null,null,"","",""]
["","",null,null,null,"","","",null,null,"","",""]
["","",null,null,null,"","","",null,null,{"$f":"IF(L258=\"\",\"\",K271+1)","v":""},"",""]
["","",null,null,null,"","","",null,null,"","",""]
["","",null,null,null,"","","",null,null,"","",""]
["","",null,null,null,"","","",null,null,"","",""]
["","",null,null,null,"","","",null,null,"","",""]
["","",null,null,null,"","","",null,null,"","",""]
["","",null,null,null,"","","",null,null,"","",""]
["","",null,null,null,"","","",null,null,"","",""]
["","",null,null,null,"","","",null,null,"","",""]
["","",null,null,null,"","","",null,null,"","",""]
["","",null,null,null,"","","",null,null,"","",""]
["","",null,null,null,"","","",null,null,"","",""]
["","",null,null,null,"","","",null,null,"","",""]
["","",null,null,null,"","","",null,null,"","",""]
["","",null,null,null,"","","",null,null,"","",""]
["","",null,null,null,"","","",null,null,"","",""]
["","",null,null,null,"","","",null,null,""]
["","",null,null,null,"","","",null,null,""]
["","",null,null,null,"","","",null,null,""]
["","",null,null,null,"","","",null,null,""]
["",null,null,null,null,"","","",null,null,""]
[null,null,null,null,null,"","","",null,null,""]
[null,null,null,null,null,"","","",null,null,""]
[null,null,null,null,null,"","","",null,null,""]
[null,null,null,null,null,"","","",null,null,""]
[null,null,null,null,null,"","","",null,null,""]
[null,null,null,null,null,"","","",null,null,""]
[null,null,null,null,null,"","","",null,null,""]
[null,null,null,null,null,"","","",null,null,""]
[null,null,null,null,null,"","","",null,null,""]
[null,null,null,null,null,"","",""]
[null,null,null,null,null,"","",""]
[null,null,null,null,null,"","",""]

{"sheet":"Points Lookup","index":26,"n_rows":111,"n_cols":2,"rows_kept":111,"cut":false,"hidden":false,"merged":[]}
[0,0]
[1,50]
[2,49]
[3,48]
[4,47]
[5,46]
[6,45]
[7,44]
[8,43]
[9,42]
[10,41]
[11,40]
[12,39]
[13,38]
[14,37]
[15,36]
[16,35]
[17,34]
[18,33]
[19,32]
[20,31]
[21,30]
[22,29]
[23,28]
[24,27]
[25,26]
[26,25]
[27,24]
[28,23]
[29,22]
[30,21]
[31,20]
[32,19]
[33,18]
[34,17]
[35,16]
[36,15]
[37,14]
[38,13]
[39,12]
[40,11]
[41,10]
[42,9]
[43,8]
[44,7]
[45,6]
[46,5]
[47,4]
[48,3]
[49,2]
[50,1]
[51,0]
[52,0]
[53,0]
[54,0]
[55,0]
[56,0]
[57,0]
[58,0]
[59,0]
[60,0]
[61,0]
[62,0]
[63,0]
[64,0]
[65,0]
[66,0]
[67,0]
[68,0]
[69,0]
[70,0]
[71,0]
[72,0]
[73,0]
[74,0]
[75,0]
[76,0]
[77,0]
[78,0]
[79,0]
[80,0]
[81,0]
[82,0]
[83,0]
[84,0]
[85,0]
[86,0]
[87,0]
[88,0]
[89,0]
[90,0]
[91,0]
[92,0]
[93,0]
[94,0]
[95,0]
[96,0]
[97,0]
[98,0]
[99,0]
[100,0]
[101,0]
[102,0]
[103,0]
[104,0]
[105,0]
[106,0]
[107,0]
[108,0]
[109,0]
[110,0]

{"sheet":"AgeStdHMS (Men)","index":27,"n_rows":106,"n_cols":21,"rows_kept":106,"cut":false,"hidden":false,"merged":[]}
["Men's Road Running Age Standards in H:MM:SS    WMA 2010*"]
["Age","5 km","6 km","4 Mile","8 km","5 Mile","10 km","12 km","15 km","10 Mile","20 km","H. Mar","25 km","30 km","Marathon","50 km","50 Mile","100 km","150 km","100 Mile","200 km"]
["OC sec",774,940,1011,1272,1280,1611,1951,2469,2663,3358,3553,4259,5179,7495,9080,16080,21360,36300,39850,52800]
["OC","00:12:54","00:15:40","00:16:51","00:21:12","00:21:20","00:26:51","00:32:31","00:41:09","00:44:23","00:55:58","00:59:13","01:10:59","01:26:19","02:04:55","02:31:20","04:28:00","05:56:00","10:05:00","11:04:10","14:40:00"]
[5,"00:19:46","00:24:00","00:25:49","00:32:29","00:32:41","00:41:09","00:49:50","01:03:13","01:08:20","01:27:27","01:32:59","01:52:51","02:18:16","03:21:07","04:03:39","07:11:30","09:33:11","16:14:05","17:49:20","23:36:50"]
[6,"00:18:42","00:22:43","00:24:25","00:30:44","00:30:55","00:38:55","00:47:08","00:59:47","01:04:36","01:22:32","01:27:42","01:46:18","02:10:07","03:09:09","03:49:09","06:45:49","08:59:04","15:16:07","16:45:42","22:12:32"]
[7,"00:17:48","00:21:37","00:23:14","00:29:14","00:29:26","00:37:02","00:44:51","00:56:52","01:01:27","01:18:23","01:23:15","01:40:46","02:03:15","02:59:06","03:36:58","06:24:14","08:30:24","14:27:23","15:52:13","21:01:39"]
[8,"00:17:01","00:20:40","00:22:14","00:27:58","00:28:09","00:35:26","00:42:54","00:54:23","00:58:45","01:14:51","01:19:28","01:36:05","01:57:26","02:50:33","03:26:38","06:05:55","08:06:04","13:46:03","15:06:50","20:01:32"]
[9,"00:16:21","00:19:52","00:21:22","00:26:53","00:27:03","00:34:03","00:41:14","00:52:16","00:56:27","01:11:50","01:16:13","01:32:04","01:52:28","02:43:16","03:17:48","05:50:17","07:45:18","13:10:45","14:28:05","19:10:11"]
[10,"00:15:47","00:19:10","00:20:37","00:25:57","00:26:07","00:32:52","00:39:48","00:50:26","00:54:27","01:09:13","01:13:26","01:28:37","01:48:12","02:37:01","03:10:13","05:36:51","07:27:28","12:40:26","13:54:48","18:26:05"]
[11,"00:15:18","00:18:35","00:19:59","00:25:08","00:25:18","00:31:50","00:38:33","00:48:51","00:52:45","01:06:59","01:11:02","01:25:39","01:44:31","02:31:37","03:03:41","05:25:17","07:12:05","12:14:19","13:26:08","17:48:05"]
[12,"00:14:52","00:18:04","00:19:25","00:24:26","00:24:36","00:30:57","00:37:29","00:47:29","00:51:16","01:05:02","01:08:57","01:23:05","01:41:20","02:26:58","02:58:02","05:15:18","06:58:49","11:51:46","13:01:22","17:15:18"]
[13,"00:14:30","00:17:37","00:18:57","00:23:50","00:23:59","00:30:11","00:36:34","00:46:19","00:49:59","01:03:22","01:07:10","01:20:52","01:38:35","02:22:56","02:53:10","05:06:40","06:47:22","11:32:18","12:40:00","16:46:59"]
[14,"00:14:11","00:17:14","00:18:32","00:23:19","00:23:28","00:29:32","00:35:46","00:45:18","00:48:53","01:01:56","01:05:37","01:18:57","01:36:14","02:19:29","02:48:58","04:59:14","06:37:30","11:15:31","12:21:35","16:22:35"]
[15,"00:13:55","00:16:54","00:18:11","00:22:53","00:23:01","00:28:59","00:35:06","00:44:26","00:47:57","01:00:42","01:04:18","01:17:19","01:34:12","02:16:30","02:45:22","04:52:52","06:29:02","11:01:08","12:05:47","16:01:39"]
[16,"00:13:42","00:16:38","00:17:53","00:22:30","00:22:39","00:28:30","00:34:31","00:43:43","00:47:10","00:59:40","01:03:11","01:15:56","01:32:29","02:13:58","02:42:18","04:47:26","06:21:49","10:48:52","11:52:19","15:43:48"]
[17,"00:13:30","00:16:24","00:17:39","00:22:12","00:22:20","00:28:07","00:34:03","00:43:06","00:46:31","00:58:47","01:02:15","01:14:46","01:31:01","02:11:50","02:39:43","04:42:51","06:15:44","10:38:31","11:40:58","15:28:46"]
[18,"00:13:20","00:16:12","00:17:26","00:21:55","00:22:04","00:27:46","00:33:38","00:42:34","00:45:55","00:58:01","01:01:25","01:13:43","01:29:43","02:09:55","02:37:24","04:38:44","06:10:15","10:29:14","11:30:46","15:15:14"]
[19,"00:13:11","00:16:00","00:17:13","00:21:39","00:21:47","00:27:26","00:33:13","00:42:02","00:45:21","00:57:15","01:00:36","01:12:42","01:28:27","02:08:03","02:35:08","04:34:44","06:04:56","10:20:12","11:20:51","15:02:06"]
[20,"00:13:02","00:15:50","00:17:02","00:21:26","00:21:34","00:27:08","00:32:52","00:41:36","00:44:52","00:56:37","00:59:55","01:11:51","01:27:23","02:06:30","02:33:15","04:31:24","06:00:30","10:12:39","11:12:34","14:51:08"]
[21,"00:12:57","00:15:44","00:16:55","00:21:17","00:21:25","00:26:57","00:32:39","00:41:19","00:44:33","00:56:12","00:59:28","01:11:17","01:26:42","02:05:29","02:32:01","04:29:13","05:57:37","10:07:44","11:07:10","14:43:59"]
[22,"00:12:54","00:15:40","00:16:51","00:21:13","00:21:21","00:26:52","00:32:32","00:41:10","00:44:24","00:56:00","00:59:15","01:11:01","01:26:22","02:04:59","02:31:25","04:28:08","05:56:11","10:05:18","11:04:30","14:40:26"]
[23,"00:12:54","00:15:40","00:16:51","00:21:12","00:21:20","00:26:51","00:32:31","00:41:09","00:44:23","00:55:58","00:59:13","01:10:59","01:26:19","02:04:55","02:31:20","04:28:00","05:56:00","10:05:00","11:04:10","14:40:00"]
[24,"00:12:54","00:15:40","00:16:51","00:21:12","00:21:20","00:26:51","00:32:31","00:41:09","00:44:23","00:55:58","00:59:13","01:10:59","01:26:19","02:04:55","02:31:20","04:28:00","05:56:00","10:05:00","11:04:10","14:40:00"]
[25,"00:12:54","00:15:40","00:16:51","00:21:12","00:21:20","00:26:51","00:32:31","00:41:09","00:44:23","00:55:58","00:59:13","01:10:59","01:26:19","02:04:55","02:31:20","04:28:00","05:56:00","10:05:00","11:04:10","14:40:00"]
[26,"00:12:54","00:15:40","00:16:51","00:21:12","00:21:20","00:26:51","00:32:31","00:41:09","00:44:23","00:55:58","00:59:13","01:10:59","01:26:19","02:04:55","02:31:20","04:28:00","05:56:00","10:05:00","11:04:10","14:40:00"]
[27,"00:12:54","00:15:40","00:16:51","00:21:12","00:21:20","00:26:51","00:32:31","00:41:09","00:44:23","00:55:58","00:59:13","01:10:59","01:26:19","02:04:55","02:31:20","04:28:00","05:56:00","10:05:00","11:04:10","14:40:00"]
[28,"00:12:54","00:15:40","00:16:51","00:21:12","00:21:20","00:26:51","00:32:31","00:41:09","00:44:23","00:55:58","00:59:13","01:10:59","01:26:19","02:04:55","02:31:20","04:28:00","05:56:00","10:05:00","11:04:10","14:40:00"]
[29,"00:12:55","00:15:41","00:16:52","00:21:13","00:21:21","00:26:52","00:32:31","00:41:09","00:44:23","00:55:58","00:59:13","01:10:59","01:26:19","02:04:55","02:31:20","04:28:00","05:56:00","10:05:00","11:04:10","14:40:00"]
[30,"00:12:56","00:15:42","00:16:54","00:21:15","00:21:23","00:26:55","00:32:33","00:41:09","00:44:23","00:55:58","00:59:13","01:10:59","01:26:19","02:04:55","02:31:20","04:28:00","05:56:00","10:05:00","11:04:10","14:40:00"]
[31,"00:12:58","00:15:45","00:16:56","00:21:18","00:21:26","00:26:59","00:32:36","00:41:11","00:44:25","00:55:58","00:59:13","01:10:59","01:26:19","02:04:55","02:31:20","04:28:00","05:56:00","10:05:00","11:04:10","14:40:00"]
[32,"00:13:00","00:15:47","00:16:59","00:21:22","00:21:30","00:27:04","00:32:41","00:41:16","00:44:29","00:56:00","00:59:14","01:10:59","01:26:19","02:04:55","02:31:20","04:28:00","05:56:00","10:05:00","11:04:10","14:40:00"]
[33,"00:13:03","00:15:51","00:17:03","00:21:27","00:21:35","00:27:10","00:32:48","00:41:23","00:44:35","00:56:05","00:59:19","01:11:01","01:26:19","02:04:55","02:31:20","04:28:00","05:56:00","10:05:00","11:04:10","14:40:00"]
[34,"00:13:07","00:15:55","00:17:07","00:21:33","00:21:41","00:27:17","00:32:56","00:41:32","00:44:44","00:56:14","00:59:27","01:11:08","01:26:22","02:04:55","02:31:20","04:28:00","05:56:00","10:05:00","11:04:10","14:40:00"]
[35,"00:13:11","00:16:00","00:17:13","00:21:40","00:21:48","00:27:26","00:33:06","00:41:43","00:44:56","00:56:27","00:59:40","01:11:20","01:26:31","02:04:55","02:31:20","04:28:00","05:56:00","10:05:00","11:04:10","14:40:00"]
[36,"00:13:16","00:16:06","00:17:19","00:21:47","00:21:56","00:27:36","00:33:18","00:41:57","00:45:11","00:56:43","00:59:57","01:11:38","01:26:49","02:05:03","02:31:29","04:28:16","05:56:21","10:05:36","11:04:50","14:40:53"]
[37,"00:13:21","00:16:13","00:17:26","00:21:56","00:22:05","00:27:47","00:33:32","00:42:13","00:45:28","00:57:04","01:00:18","01:12:01","01:27:14","02:05:25","02:31:56","04:29:05","05:57:26","10:07:26","11:06:50","14:43:32"]
[38,"00:13:27","00:16:20","00:17:34","00:22:06","00:22:14","00:28:00","00:33:46","00:42:32","00:45:48","00:57:28","01:00:44","01:12:31","01:27:47","02:06:03","02:32:42","04:30:26","05:59:14","10:10:30","11:10:12","14:48:00"]
[39,"00:13:33","00:16:27","00:17:42","00:22:16","00:22:24","00:28:12","00:34:02","00:42:52","00:46:09","00:57:55","01:01:12","01:13:05","01:28:29","02:06:57","02:33:48","04:32:21","06:01:47","10:14:50","11:14:58","14:54:19"]
[40,"00:13:39","00:16:35","00:17:50","00:22:26","00:22:34","00:28:25","00:34:17","00:43:11","00:46:31","00:58:22","01:01:41","01:13:40","01:29:11","02:08:00","02:35:04","04:34:37","06:04:47","10:19:56","11:20:34","15:01:44"]
[41,"00:13:45","00:16:42","00:17:58","00:22:36","00:22:45","00:28:37","00:34:33","00:43:31","00:46:52","00:58:50","01:02:11","01:14:15","01:29:55","02:09:04","02:36:21","04:36:53","06:07:48","10:25:04","11:26:12","15:09:11"]
[42,"00:13:51","00:16:50","00:18:06","00:22:46","00:22:55","00:28:50","00:34:49","00:43:52","00:47:14","00:59:18","01:02:41","01:14:51","01:30:39","02:10:08","02:37:39","04:39:12","06:10:52","10:30:16","11:31:55","15:16:46"]
[43,"00:13:58","00:16:57","00:18:14","00:22:57","00:23:05","00:29:04","00:35:05","00:44:12","00:47:37","00:59:47","01:03:11","01:15:28","01:31:24","02:11:14","02:38:59","04:41:33","06:13:59","10:35:34","11:37:44","15:24:28"]
[44,"00:14:04","00:17:05","00:18:23","00:23:07","00:23:16","00:29:17","00:35:21","00:44:34","00:48:00","01:00:16","01:03:42","01:16:05","01:32:10","02:12:20","02:40:20","04:43:56","06:17:10","10:40:57","11:43:38","15:32:18"]
[45,"00:14:11","00:17:13","00:18:31","00:23:18","00:23:27","00:29:31","00:35:38","00:44:55","00:48:23","01:00:45","01:04:13","01:16:43","01:32:55","02:13:29","02:41:43","04:46:23","06:20:25","10:46:30","11:49:44","15:40:22"]
[46,"00:14:17","00:17:21","00:18:40","00:23:29","00:23:38","00:29:44","00:35:55","00:45:16","00:48:46","01:01:15","01:04:45","01:17:21","01:33:43","02:14:38","02:43:07","04:48:51","06:23:42","10:52:05","11:55:51","15:48:29"]
[47,"00:14:24","00:17:29","00:18:49","00:23:40","00:23:49","00:29:58","00:36:12","00:45:38","00:49:10","01:01:46","01:05:17","01:18:00","01:34:31","02:15:49","02:44:32","04:51:22","06:27:02","10:57:45","12:02:05","15:56:44"]
[48,"00:14:31","00:17:38","00:18:57","00:23:51","00:24:00","00:30:13","00:36:29","00:46:01","00:49:34","01:02:17","01:05:50","01:18:40","01:35:19","02:17:00","02:45:58","04:53:55","06:30:26","11:03:31","12:08:25","16:05:07"]
[49,"00:14:38","00:17:46","00:19:07","00:24:03","00:24:12","00:30:27","00:36:47","00:46:24","00:49:59","01:02:48","01:06:23","01:19:20","01:36:09","02:18:13","02:47:26","04:56:32","06:33:54","11:09:24","12:14:52","16:13:40"]
[50,"00:14:45","00:17:55","00:19:16","00:24:14","00:24:23","00:30:42","00:37:05","00:46:47","00:50:24","01:03:20","01:06:57","01:20:02","01:37:00","02:19:28","02:48:57","04:59:12","06:37:27","11:15:27","12:21:30","16:22:28"]
[51,"00:14:52","00:18:03","00:19:25","00:24:26","00:24:35","00:30:57","00:37:23","00:47:10","00:50:50","01:03:53","01:07:32","01:20:44","01:37:51","02:20:43","02:50:29","05:01:54","06:41:02","11:21:32","12:28:11","16:31:20"]
[52,"00:14:59","00:18:12","00:19:35","00:24:38","00:24:47","00:31:12","00:37:42","00:47:34","00:51:15","01:04:26","01:08:07","01:21:26","01:38:44","02:22:00","02:52:02","05:04:39","06:44:41","11:27:44","12:35:00","16:40:20"]
[53,"00:15:07","00:18:21","00:19:44","00:24:50","00:25:00","00:31:27","00:38:01","00:47:59","00:51:42","01:05:00","01:08:43","01:22:09","01:39:36","02:23:18","02:53:36","05:07:27","06:48:24","11:34:03","12:41:55","16:49:31"]
[54,"00:15:14","00:18:30","00:19:54","00:25:03","00:25:12","00:31:43","00:38:20","00:48:23","00:52:09","01:05:34","01:09:19","01:22:54","01:40:31","02:24:38","02:55:13","05:10:18","06:52:11","11:40:28","12:48:59","16:58:52"]
[55,"00:15:22","00:18:40","00:20:04","00:25:15","00:25:25","00:31:59","00:38:40","00:48:48","00:52:36","01:06:09","01:09:56","01:23:38","01:41:26","02:26:00","02:56:52","05:13:14","06:56:05","11:47:06","12:56:16","17:08:31"]
[56,"00:15:30","00:18:49","00:20:15","00:25:28","00:25:38","00:32:15","00:39:00","00:49:14","00:53:04","01:06:44","01:10:34","01:24:24","01:42:22","02:27:23","02:58:33","05:16:11","07:00:01","11:53:47","13:03:35","17:18:14"]
[57,"00:15:38","00:18:59","00:20:25","00:25:41","00:25:51","00:32:32","00:39:20","00:49:40","00:53:32","01:07:20","01:11:12","01:25:11","01:43:19","02:28:47","03:00:15","05:19:12","07:04:01","12:00:35","13:11:03","17:28:07"]
[58,"00:15:46","00:19:09","00:20:35","00:25:54","00:26:04","00:32:48","00:39:41","00:50:07","00:54:01","01:07:58","01:11:51","01:25:58","01:44:18","02:30:13","03:01:59","05:22:16","07:08:05","12:07:31","13:18:40","17:38:12"]
[59,"00:15:54","00:19:19","00:20:46","00:26:08","00:26:18","00:33:06","00:40:02","00:50:34","00:54:30","01:08:35","01:12:32","01:26:47","01:45:17","02:31:40","03:03:45","05:25:24","07:12:15","12:14:35","13:26:25","17:48:29"]
[60,"00:16:02","00:19:29","00:20:57","00:26:21","00:26:31","00:33:23","00:40:23","00:51:01","00:55:00","01:09:13","01:13:12","01:27:35","01:46:18","02:33:11","03:05:34","05:28:38","07:16:33","12:21:53","13:34:26","17:59:06"]
[61,"00:16:11","00:19:39","00:21:08","00:26:36","00:26:46","00:33:41","00:40:45","00:51:29","00:55:30","01:09:52","01:13:53","01:28:26","01:47:20","02:34:42","03:07:25","05:31:53","07:20:52","12:29:14","13:42:30","18:09:47"]
[62,"00:16:19","00:19:50","00:21:19","00:26:50","00:27:00","00:33:59","00:41:07","00:51:58","00:56:02","01:10:32","01:14:35","01:29:17","01:48:22","02:36:15","03:09:17","05:35:13","07:25:17","12:36:43","13:50:44","18:20:41"]
[63,"00:16:28","00:20:00","00:21:31","00:27:04","00:27:14","00:34:17","00:41:29","00:52:27","00:56:33","01:11:12","01:15:19","01:30:09","01:49:27","02:37:49","03:11:12","05:38:36","07:29:47","12:44:22","13:59:07","18:31:49"]
[64,"00:16:37","00:20:11","00:21:43","00:27:19","00:27:29","00:34:36","00:41:53","00:52:57","00:57:05","01:11:53","01:16:02","01:31:02","01:50:32","02:39:26","03:13:09","05:42:03","07:34:22","12:52:11","14:07:42","18:43:10"]
[65,"00:16:46","00:20:22","00:21:55","00:27:34","00:27:44","00:34:55","00:42:16","00:53:27","00:57:38","01:12:35","01:16:47","01:31:57","01:51:39","02:41:06","03:15:10","05:45:38","07:39:07","13:00:15","14:16:33","18:54:54"]
[66,"00:16:56","00:20:34","00:22:07","00:27:49","00:28:00","00:35:14","00:42:40","00:53:58","00:58:11","01:13:19","01:17:32","01:32:52","01:52:47","02:42:47","03:17:12","05:49:14","07:43:54","13:08:23","14:25:29","19:06:44"]
[67,"00:17:05","00:20:45","00:22:19","00:28:05","00:28:15","00:35:34","00:43:04","00:54:29","00:58:45","01:14:02","01:18:19","01:33:48","01:53:57","02:44:30","03:19:17","05:52:55","07:48:47","13:16:41","14:34:36","19:18:49"]
[68,"00:17:15","00:20:57","00:22:32","00:28:21","00:28:31","00:35:54","00:43:29","00:55:01","00:59:20","01:14:47","01:19:06","01:34:46","01:55:08","02:46:15","03:21:24","05:56:40","07:53:47","13:25:10","14:43:54","19:31:09"]
[69,"00:17:26","00:21:10","00:22:46","00:28:38","00:28:49","00:36:16","00:43:55","00:55:34","00:59:55","01:15:32","01:19:55","01:35:45","01:56:21","02:48:02","03:23:34","06:00:30","07:58:53","13:33:50","14:53:25","19:43:45"]
[70,"00:17:38","00:21:24","00:23:01","00:28:58","00:29:09","00:36:41","00:44:25","00:56:10","01:00:34","01:16:19","01:20:45","01:36:45","01:57:34","02:49:53","03:25:49","06:04:29","08:04:09","13:42:48","15:03:16","19:56:47"]
[71,"00:17:51","00:21:40","00:23:18","00:29:19","00:29:30","00:37:08","00:44:57","00:56:50","01:01:16","01:17:10","01:21:39","01:37:49","01:58:52","02:51:47","03:28:06","06:08:32","08:09:33","13:51:57","15:13:19","20:10:07"]
[72,"00:18:05","00:21:58","00:23:37","00:29:43","00:29:54","00:37:38","00:45:32","00:57:34","01:02:02","01:18:07","01:22:38","01:39:00","02:00:17","02:53:51","03:30:37","06:13:00","08:15:29","14:02:02","15:24:23","20:24:46"]
[73,"00:18:21","00:22:17","00:23:58","00:30:09","00:30:21","00:38:11","00:46:12","00:58:22","01:02:54","01:19:10","01:23:45","01:40:19","02:01:53","02:56:10","03:33:25","06:17:57","08:22:03","14:13:12","15:36:38","20:41:01"]
[74,"00:18:38","00:22:38","00:24:20","00:30:37","00:30:49","00:38:47","00:46:54","00:59:16","01:03:51","01:20:20","01:24:58","01:41:46","02:03:38","02:58:42","03:36:30","06:23:24","08:29:18","14:25:31","15:50:10","20:58:56"]
[75,"00:18:57","00:23:01","00:24:45","00:31:08","00:31:20","00:39:26","00:47:42","01:00:14","01:04:53","01:21:36","01:26:19","01:43:22","02:05:34","03:01:31","03:39:54","06:29:25","08:37:17","14:39:06","16:05:05","21:18:42"]
[76,"00:19:17","00:23:26","00:25:12","00:31:42","00:31:54","00:40:09","00:48:33","01:01:18","01:06:02","01:23:01","01:27:48","01:45:09","02:07:41","03:04:37","03:43:40","06:36:06","08:46:10","14:54:11","16:21:37","21:40:37"]
[77,"00:19:40","00:23:53","00:25:41","00:32:19","00:32:32","00:40:56","00:49:29","01:02:28","01:07:17","01:24:33","01:29:25","01:47:05","02:10:02","03:08:01","03:47:46","06:43:22","08:55:49","15:10:36","16:39:39","22:04:30"]
[78,"00:20:05","00:24:23","00:26:14","00:33:00","00:33:12","00:41:47","00:50:30","01:03:44","01:08:38","01:26:15","01:31:13","01:49:12","02:12:35","03:11:44","03:52:17","06:51:22","09:06:26","15:28:38","16:59:27","22:30:44"]
[79,"00:20:32","00:24:56","00:26:49","00:33:44","00:33:57","00:42:43","00:51:37","01:05:09","01:10:08","01:28:06","01:33:10","01:51:32","02:15:25","03:15:49","03:57:14","07:00:08","09:18:05","15:48:25","17:21:11","22:59:32"]
[80,"00:21:01","00:25:31","00:27:27","00:34:32","00:34:45","00:43:45","00:52:51","01:06:40","01:11:47","01:30:08","01:35:20","01:54:06","02:18:32","03:20:19","04:02:41","07:09:46","09:30:53","16:10:10","17:45:03","23:31:10"]
[81,"00:21:33","00:26:11","00:28:09","00:35:25","00:35:39","00:44:52","00:54:12","01:08:21","01:13:35","01:32:22","01:37:41","01:56:55","02:21:55","03:25:17","04:08:42","07:20:26","09:45:03","16:34:15","18:11:29",1.0042939814814815]
[82,"00:22:09","00:26:54","00:28:56","00:36:24","00:36:37","00:46:06","00:55:40","01:10:13","01:15:34","01:34:51","01:40:17","02:00:02","02:25:41","03:30:43","04:15:17","07:32:06","10:00:32","17:00:35","18:40:23",1.0308912037037037]
[83,"00:22:47","00:27:41","00:29:46","00:37:27","00:37:41","00:47:26","00:57:18","01:12:15","01:17:45","01:37:33","01:43:10","02:03:27","02:29:50","03:36:43","04:22:33","07:44:57","10:17:38","17:29:37","19:12:16",1.0602199074074075]
[84,"00:23:30","00:28:33","00:30:42","00:38:38","00:38:52","00:48:55","00:59:05","01:14:30","01:20:09","01:40:33","01:46:20","02:07:14","02:34:25","03:43:21","04:30:35","07:59:10","10:36:31","18:01:43","19:47:30",1.0926388888888889]
[85,"00:24:18","00:29:31","00:31:44","00:39:56","00:40:11","00:50:34","01:01:05","01:16:58","01:22:49","01:43:52","01:49:51","02:11:26","02:39:29","03:50:41","04:39:28","08:14:55","10:57:26","18:37:16","20:26:32",1.1285532407407408]
[86,"00:25:11","00:30:35","00:32:53","00:41:22","00:41:38","00:52:24","01:03:16","01:19:44","01:25:47","01:47:34","01:53:45","02:16:05","02:45:08","03:58:54","04:49:25","08:32:32","11:20:49","19:17:01","21:10:10",1.1686921296296295]
[87,"00:26:09","00:31:46","00:34:09","00:42:59","00:43:15","00:54:26","01:05:43","01:22:49","01:29:05","01:51:41","01:58:06","02:21:17","02:51:26","04:08:00","05:00:27","08:52:04","11:46:46","20:01:07","21:58:35",1.2132407407407408]
[88,"00:27:15","00:33:05","00:35:35","00:44:46","00:45:03","00:56:42","01:08:27","01:26:15","01:32:48","01:56:18","02:02:59","02:27:07","02:58:29","04:18:12","05:12:48","09:13:57","12:15:50","20:50:31","22:52:49",1.2631481481481481]
[89,"00:28:28","00:34:35","00:37:11","00:46:47","00:47:05","00:59:16","01:11:33","01:30:07","01:36:57","02:01:30","02:08:29","02:33:41","03:06:26","04:29:41","05:26:43","09:38:35","12:48:34","21:46:08","23:53:52"]
[90,"00:29:51","00:36:15","00:39:00","00:49:04","00:49:22","01:02:08","01:15:02","01:34:31","01:41:39","02:07:24","02:14:42","02:41:06","03:15:25","04:42:41","05:42:28","10:06:28","13:25:37","22:49:05",1.0437384259259259]
[91,"00:31:26","00:38:10","00:41:03","00:51:39","00:51:59","01:05:25","01:18:59","01:39:30","01:47:00","02:14:05","02:21:46","02:49:34","03:25:40","04:57:34","06:00:29","10:38:24","14:08:01",1.0008101851851852]
[92,"00:33:14","00:40:22","00:43:25","00:54:38","00:54:58","01:09:11","01:23:32","01:45:13","01:53:10","02:21:48","02:29:55","02:59:18","03:37:29","05:14:34","06:21:06","11:14:54","14:56:30",1.0580208333333334]
[93,"00:35:19","00:42:54","00:46:08","00:58:03","00:58:25","01:13:31","01:28:46","01:51:49","02:00:17","02:30:41","02:39:19","03:10:30","03:51:06","05:34:16","06:44:58","11:57:09","15:52:38",1.1242708333333333]
[94,"00:37:46","00:45:52","00:49:20","01:02:04","01:02:27","01:18:36","01:34:55","01:59:33","02:08:37","02:41:06","02:50:22","03:23:41","04:07:03","05:57:19","07:12:53","12:46:35","16:58:18",1.2017708333333332]
[95,"00:40:39","00:49:22","00:53:05","01:06:48","01:07:13","01:24:36","01:42:11","02:08:43","02:18:26","02:53:29","03:03:23","03:39:17","04:26:00","06:24:36","07:45:56","13:45:07","18:16:04",1.2935300925925926]
[96,"00:44:05","00:53:33","00:57:35","01:12:27","01:12:55","01:31:46","01:50:52","02:19:41","02:30:15","03:08:19","03:19:07","03:58:02","04:48:41","06:57:30","08:25:48","14:55:43","19:49:50",1.4042129629629629]
[97,"00:48:18","00:58:39","01:03:05","01:19:22","01:19:52","01:40:31","02:01:31","02:33:05","02:44:41","03:26:27","03:38:16","04:20:58","05:16:32","07:37:34","09:14:20","16:21:41","21:44:02",1.5389699074074075]
[98,"00:53:33","01:05:02","01:09:57","01:28:00","01:28:33","01:51:27","02:14:45","02:49:46","03:02:43","03:49:05","04:02:12","04:49:37","05:51:10","08:27:35","10:14:56","18:08:59",1.0045601851851851]
[99,"01:00:13","01:13:08","01:18:40","01:38:58","01:39:36","02:05:21","02:31:40","03:11:08","03:25:46","04:18:09","04:33:01","05:26:22","06:35:46","09:31:42","11:32:36","20:26:33",1.1314467592592592]
[100,"01:09:03","01:23:52","01:30:12","01:53:29","01:54:12","02:23:44","02:54:04","03:39:28","03:56:20","04:56:45","05:13:49","06:15:11","07:34:47","10:56:46","13:15:39","23:29:03"]
[]
["* All Masters standards/factors are as approved by the WMA Vice President - Non Stadia, WMA President, and USATF  MLDR Committee"]
["Compiled by Alan Jones, 3717 Wildwood Drive, Endwell, NY 13760, 607-786-5866"]
["AlanLJones@stny.rr.com, http://home.roadrunner.com/~alanjones/AgeGrade.html"]
["With lots of help from Rex Harvey, WMA"]
["Validated January 2010 with new data from Marian and Don Lein"]

{"sheet":"AgeStdHMS (Women)","index":28,"n_rows":106,"n_cols":21,"rows_kept":106,"cut":false,"hidden":false,"merged":[]}
["Female Road Age Standards in H:MM:SS   WMA 2010"]
["Age","5 km","6 km","4 Mile","8 km","5 Mile","10 km","12 km","15 km","10 Mile","20 km","H. Mar","25 km","30 km","Marathon","50 km","50 Mile","100 km","150 km","100 Mile","200 km"]
["OC sec",888,1073,1154,1445,1452,1820,2200,2772,2981,3738,3950,4712,5696,8125,9820,17760,23591,39700,43500,57600]
["OC","00:14:48","00:17:53","00:19:14","00:24:05","00:24:12","00:30:20","00:36:40","00:46:12","00:49:41","01:02:18","01:05:50","01:18:32","01:34:56","02:15:25","02:43:40","04:56:00","06:33:11","11:01:40","12:05:00","16:00:00"]
[5,"00:20:25","00:24:40","00:26:32","00:33:13","00:33:23","00:41:50","00:50:34","01:03:43","01:08:32","01:25:56","01:30:48","01:48:19","02:10:57","03:06:47","03:45:45","06:48:17","09:02:19","15:12:39","16:40:00"]
[6,"00:19:32","00:23:36","00:25:23","00:31:47","00:31:56","00:40:05","00:48:47","01:03:05","01:09:02","01:28:56","01:34:50","01:55:15","02:21:58","03:26:28","04:09:32","07:31:17","09:59:27","16:48:48","18:25:21"]
[7,"00:18:46","00:22:41","00:24:23","00:30:32","00:30:41","00:38:31","00:46:51","01:00:23","01:05:57","01:24:41","01:30:12","01:49:22","02:14:23","03:14:57","03:55:38","07:06:09","09:26:03","15:52:35","17:23:46","23:02:05"]
[8,"00:18:07","00:21:53","00:23:32","00:29:28","00:29:37","00:37:10","00:45:10","00:58:04","01:03:18","01:21:03","01:26:14","01:44:21","02:07:58","03:05:13","03:43:52","06:44:52","08:57:48","15:05:02","16:31:39","21:53:05"]
[9,"00:17:33","00:21:12","00:22:48","00:28:33","00:28:42","00:36:00","00:43:44","00:56:04","01:01:01","01:17:55","01:22:50","01:40:03","02:02:28","02:56:55","03:33:50","06:26:44","08:33:42","14:24:28","15:47:13","20:54:15"]
[10,"00:17:04","00:20:37","00:22:10","00:27:46","00:27:54","00:35:00","00:42:29","00:54:21","00:59:03","01:15:14","01:19:55","01:36:22","01:57:44","02:49:48","03:25:13","06:11:10","08:13:01","13:49:41","15:09:05","20:03:46"]
[11,"00:16:38","00:20:06","00:21:38","00:27:05","00:27:13","00:34:08","00:41:24","00:52:52","00:57:21","01:12:54","01:17:23","01:33:10","01:53:40","02:43:40","03:17:49","05:57:45","07:55:12","13:19:42","14:36:14","19:20:16"]
[12,"00:16:17","00:19:40","00:21:09","00:26:29","00:26:37","00:33:24","00:40:29","00:51:35","00:55:54","01:10:54","01:15:12","01:30:25","01:50:09","02:38:22","03:11:24","05:46:10","07:39:49","12:53:47","14:07:51","18:42:41"]
[13,"00:15:58","00:19:18","00:20:45","00:25:59","00:26:07","00:32:45","00:39:42","00:50:29","00:54:38","01:09:10","01:13:19","01:28:02","01:47:06","02:33:47","03:05:51","05:36:08","07:26:30","12:31:23","13:43:18","18:10:10"]
[14,"00:15:43","00:18:59","00:20:25","00:25:34","00:25:42","00:32:13","00:39:02","00:49:33","00:53:33","01:07:41","01:11:42","01:25:59","01:44:28","02:29:49","03:01:04","05:27:28","07:14:59","12:12:01","13:22:05","17:42:04"]
[15,"00:15:30","00:18:44","00:20:08","00:25:13","00:25:20","00:31:47","00:38:28","00:48:46","00:52:39","01:06:25","01:10:19","01:24:13","01:42:13","02:26:24","02:56:56","05:20:00","07:05:04","11:55:19","13:03:47","17:17:50"]
[16,"00:15:18","00:18:30","00:19:53","00:24:54","00:25:02","00:31:23","00:37:58","00:48:03","00:51:49","01:05:16","01:09:04","01:22:37","01:40:10","02:23:18","02:53:12","05:13:14","06:56:04","11:40:11","12:47:12","16:55:52"]
[17,"00:15:07","00:18:16","00:19:39","00:24:36","00:24:43","00:30:59","00:37:29","00:47:22","00:51:01","01:04:09","01:07:51","01:21:05","01:38:12","02:20:20","02:49:36","05:06:44","06:47:27","11:25:40","12:31:18","16:34:49"]
[18,"00:14:58","00:18:05","00:19:26","00:24:21","00:24:28","00:30:40","00:37:05","00:46:47","00:50:21","01:03:14","01:06:51","01:19:49","01:36:35","02:17:53","02:46:39","05:01:24","06:40:21","11:13:44","12:18:13","16:17:30"]
[19,"00:14:51","00:17:57","00:19:19","00:24:11","00:24:18","00:30:27","00:36:49","00:46:25","00:49:55","01:02:38","01:06:12","01:18:59","01:35:31","02:16:17","02:44:43","04:57:54","06:35:43","11:05:56","12:09:40","16:06:11"]
[20,"00:14:48","00:17:53","00:19:14","00:24:06","00:24:13","00:30:21","00:36:41","00:46:13","00:49:42","01:02:20","01:05:52","01:18:35","01:35:00","02:15:31","02:43:47","04:56:12","06:33:28","11:02:08","12:05:30","16:00:40"]
[21,"00:14:48","00:17:53","00:19:14","00:24:05","00:24:12","00:30:20","00:36:40","00:46:12","00:49:41","01:02:18","01:05:50","01:18:32","01:34:56","02:15:25","02:43:40","04:56:00","06:33:11","11:01:40","12:05:00","16:00:00"]
[22,"00:14:48","00:17:53","00:19:14","00:24:05","00:24:12","00:30:20","00:36:40","00:46:12","00:49:41","01:02:18","01:05:50","01:18:32","01:34:56","02:15:25","02:43:40","04:56:00","06:33:11","11:01:40","12:05:00","16:00:00"]
[23,"00:14:48","00:17:53","00:19:14","00:24:05","00:24:12","00:30:20","00:36:40","00:46:12","00:49:41","01:02:18","01:05:50","01:18:32","01:34:56","02:15:25","02:43:40","04:56:00","06:33:11","11:01:40","12:05:00","16:00:00"]
[24,"00:14:48","00:17:53","00:19:14","00:24:05","00:24:12","00:30:20","00:36:40","00:46:12","00:49:41","01:02:18","01:05:50","01:18:32","01:34:56","02:15:25","02:43:40","04:56:00","06:33:11","11:01:40","12:05:00","16:00:00"]
[25,"00:14:48","00:17:53","00:19:14","00:24:05","00:24:12","00:30:20","00:36:40","00:46:12","00:49:41","01:02:18","01:05:50","01:18:32","01:34:56","02:15:25","02:43:40","04:56:00","06:33:11","11:01:40","12:05:00","16:00:00"]
[26,"00:14:48","00:17:53","00:19:14","00:24:05","00:24:12","00:30:20","00:36:40","00:46:12","00:49:41","01:02:18","01:05:50","01:18:32","01:34:56","02:15:25","02:43:40","04:56:00","06:33:11","11:01:40","12:05:00","16:00:00"]
[27,"00:14:48","00:17:53","00:19:14","00:24:05","00:24:12","00:30:20","00:36:40","00:46:12","00:49:41","01:02:18","01:05:50","01:18:32","01:34:56","02:15:25","02:43:40","04:56:00","06:33:11","11:01:40","12:05:00","16:00:00"]
[28,"00:14:48","00:17:53","00:19:14","00:24:05","00:24:12","00:30:20","00:36:40","00:46:12","00:49:41","01:02:18","01:05:50","01:18:32","01:34:56","02:15:25","02:43:40","04:56:00","06:33:11","11:01:40","12:05:00","16:00:00"]
[29,"00:14:48","00:17:53","00:19:14","00:24:05","00:24:12","00:30:20","00:36:40","00:46:12","00:49:41","01:02:18","01:05:50","01:18:32","01:34:56","02:15:25","02:43:40","04:56:00","06:33:11","11:01:40","12:05:00","16:00:00"]
[30,"00:14:48","00:17:53","00:19:14","00:24:05","00:24:12","00:30:21","00:36:41","00:46:13","00:49:42","01:02:19","01:05:51","01:18:33","01:34:58","02:15:28","02:43:44","04:56:07","06:33:20","11:01:56","12:05:17","16:00:23"]
[31,"00:14:49","00:17:54","00:19:15","00:24:07","00:24:14","00:30:22","00:36:42","00:46:15","00:49:44","01:02:22","01:05:54","01:18:38","01:35:03","02:15:39","02:43:57","04:56:30","06:33:51","11:02:48","12:06:14","16:01:38"]
[32,"00:14:50","00:17:56","00:19:17","00:24:08","00:24:15","00:30:24","00:36:45","00:46:19","00:49:48","01:02:27","01:06:00","01:18:44","01:35:13","02:15:56","02:44:17","04:57:08","06:34:41","11:04:11","12:07:46","16:03:40"]
[33,"00:14:52","00:17:58","00:19:19","00:24:11","00:24:18","00:30:28","00:36:50","00:46:24","00:49:54","01:02:34","01:06:07","01:18:54","01:35:26","02:16:20","02:44:46","04:58:00","06:35:50","11:06:08","12:09:53","16:06:29"]
[34,"00:14:54","00:18:00","00:19:22","00:24:15","00:24:22","00:30:32","00:36:55","00:46:30","00:50:01","01:02:43","01:06:16","01:19:07","01:35:43","02:16:51","02:45:24","04:59:08","06:37:21","11:08:41","12:12:42","16:10:11"]
[35,"00:14:57","00:18:03","00:19:25","00:24:19","00:24:26","00:30:38","00:37:01","00:46:39","00:50:10","01:02:54","01:06:28","01:19:22","01:36:04","02:17:30","02:46:11","05:00:32","06:39:13","11:11:49","12:16:07","16:14:43"]
[36,"00:15:00","00:18:07","00:19:29","00:24:24","00:24:31","00:30:44","00:37:09","00:46:49","00:50:20","01:03:07","01:06:42","01:19:40","01:36:29","02:18:15","02:47:06","05:02:12","06:41:25","11:15:31","12:20:10","16:20:06"]
[37,"00:15:03","00:18:12","00:19:34","00:24:30","00:24:37","00:30:51","00:37:18","00:47:00","00:50:33","01:03:23","01:06:58","01:20:02","01:36:58","02:19:09","02:48:10","05:04:09","06:44:01","11:19:53","12:24:58","16:26:26"]
[38,"00:15:08","00:18:17","00:19:39","00:24:37","00:24:44","00:31:00","00:37:28","00:47:13","00:50:46","01:03:40","01:07:17","01:20:26","01:37:30","02:20:11","02:49:26","05:06:25","06:47:01","11:24:57","12:30:31","16:33:47"]
[39,"00:15:12","00:18:22","00:19:46","00:24:44","00:24:52","00:31:10","00:37:40","00:47:28","00:51:02","01:04:00","01:07:38","01:20:54","01:38:09","02:21:20","02:50:49","05:08:57","06:50:23","11:30:36","12:36:42","16:41:59"]
[40,"00:15:18","00:18:29","00:19:52","00:24:53","00:25:00","00:31:21","00:37:53","00:47:44","00:51:20","01:04:22","01:08:01","01:21:24","01:38:50","02:22:39","02:52:24","05:11:49","06:54:11","11:37:00","12:43:43","16:51:16"]
[41,"00:15:23","00:18:36","00:20:00","00:25:03","00:25:10","00:31:32","00:38:08","00:48:02","00:51:40","01:04:47","01:08:27","01:21:59","01:39:37","02:24:07","02:54:11","05:15:02","06:58:27","11:44:12","12:51:36","17:01:43"]
[42,"00:15:30","00:18:43","00:20:08","00:25:13","00:25:20","00:31:46","00:38:23","00:48:22","00:52:01","01:05:14","01:08:56","01:22:37","01:40:29","02:25:44","02:56:08","05:18:33","07:03:09","11:52:05","13:00:14","17:13:09"]
[43,"00:15:37","00:18:52","00:20:17","00:25:24","00:25:32","00:32:00","00:38:41","00:48:44","00:52:25","01:05:43","01:09:27","01:23:18","01:41:25","02:27:28","02:58:14","05:22:20","07:08:10","12:00:32","13:09:30","17:25:25"]
[44,"00:15:44","00:19:01","00:20:27","00:25:37","00:25:44","00:32:16","00:39:00","00:49:08","00:52:51","01:06:16","01:10:01","01:24:03","01:42:28","02:29:14","03:00:22","05:26:12","07:13:18","12:09:11","13:18:59","17:37:58"]
[45,"00:15:53","00:19:11","00:20:38","00:25:51","00:25:58","00:32:33","00:39:21","00:49:35","00:53:19","01:06:51","01:10:39","01:24:53","01:43:36","02:31:03","03:02:34","05:30:10","07:18:35","12:18:03","13:28:42","17:50:50"]
[46,"00:16:02","00:19:22","00:20:50","00:26:05","00:26:13","00:32:51","00:39:43","00:50:03","00:53:49","01:07:29","01:11:19","01:25:46","01:44:49","02:32:55","03:04:49","05:34:14","07:23:58","12:27:08","13:38:39","18:04:01"]
[47,"00:16:12","00:19:34","00:21:03","00:26:21","00:26:29","00:33:11","00:40:07","00:50:33","00:54:22","01:08:10","01:12:02","01:26:44","01:46:06","02:34:49","03:07:07","05:38:24","07:29:30","12:36:27","13:48:51","18:17:31"]
[48,"00:16:22","00:19:47","00:21:17","00:26:38","00:26:46","00:33:33","00:40:34","00:51:06","00:54:58","01:08:55","01:12:49","01:27:47","01:47:24","02:36:46","03:09:28","05:42:40","07:35:11","12:46:00","13:59:19","18:31:22"]
[49,"00:16:34","00:20:01","00:21:31","00:26:57","00:27:05","00:33:56","00:41:02","00:51:42","00:55:36","01:09:43","01:13:40","01:28:52","01:48:45","02:38:46","03:11:54","05:47:03","07:41:00","12:55:47","14:10:02","18:45:34"]
[50,"00:16:46","00:20:15","00:21:47","00:27:17","00:27:25","00:34:22","00:41:32","00:52:20","00:56:17","01:10:34","01:14:34","01:29:59","01:50:07","02:40:50","03:14:23","05:51:33","07:46:58","13:05:50","14:21:03","19:00:09"]
[51,"00:16:58","00:20:31","00:22:04","00:27:37","00:27:45","00:34:47","00:42:03","00:52:59","00:56:59","01:11:27","01:15:30","01:31:07","01:51:32","02:42:56","03:16:56","05:56:09","07:53:05","13:16:08","14:32:20","19:15:06"]
[52,"00:17:11","00:20:46","00:22:20","00:27:58","00:28:06","00:35:14","00:42:35","00:53:40","00:57:42","01:12:21","01:16:28","01:32:17","01:52:59","02:45:06","03:19:33","06:00:53","07:59:22","13:26:43","14:43:56","19:30:27"]
[53,"00:17:25","00:21:02","00:22:37","00:28:20","00:28:28","00:35:41","00:43:08","00:54:21","00:58:27","01:13:17","01:17:27","01:33:29","01:54:28","02:47:20","03:22:14","06:05:45","08:05:50","13:37:35","14:55:50","19:46:13"]
[54,"00:17:38","00:21:19","00:22:55","00:28:42","00:28:50","00:36:09","00:43:42","00:55:03","00:59:12","01:14:14","01:18:27","01:34:43","01:55:59","02:49:37","03:25:00","06:10:44","08:12:28","13:48:44","15:08:04","20:02:24"]
[55,"00:17:52","00:21:35","00:23:13","00:29:05","00:29:13","00:36:37","00:44:16","00:55:47","00:59:59","01:15:13","01:19:29","01:35:58","01:57:33","02:51:57","03:27:50","06:15:52","08:19:17","14:00:13","15:20:38","20:19:03"]
[56,"00:18:06","00:21:53","00:23:32","00:29:28","00:29:36","00:37:07","00:44:51","00:56:31","01:00:47","01:16:13","01:20:32","01:37:16","01:59:09","02:54:22","03:30:45","06:21:09","08:26:17","14:12:00","15:33:33","20:36:09"]
[57,"00:18:21","00:22:10","00:23:51","00:29:52","00:30:00","00:37:37","00:45:28","00:57:17","01:01:36","01:17:15","01:21:38","01:38:36","02:00:49","02:56:51","03:33:45","06:26:34","08:33:30","14:24:08","15:46:51","20:53:45"]
[58,"00:18:36","00:22:29","00:24:10","00:30:16","00:30:25","00:38:08","00:46:05","00:58:04","01:02:27","01:18:18","01:22:45","01:39:58","02:02:31","02:59:24","03:36:50","06:32:09","08:40:55","14:36:37","16:00:31","21:11:52"]
[59,"00:18:52","00:22:47","00:24:31","00:30:41","00:30:50","00:38:39","00:46:44","00:58:53","01:03:19","01:19:24","01:23:54","01:41:22","02:04:15","03:02:02","03:40:01","06:37:54","08:48:33","14:49:27","16:14:36","21:30:30"]
[60,"00:19:08","00:23:07","00:24:51","00:31:07","00:31:16","00:39:12","00:47:23","00:59:42","01:04:12","01:20:31","01:25:05","01:42:49","02:06:03","03:04:45","03:43:17","06:43:49","08:56:24","15:02:41","16:29:05","21:49:41"]
[61,"00:19:24","00:23:26","00:25:13","00:31:34","00:31:43","00:39:46","00:48:04","01:00:34","01:05:07","01:21:40","01:26:18","01:44:18","02:07:54","03:07:32","03:46:39","06:49:55","09:04:30","15:16:19","16:44:01","22:09:27"]
[62,"00:19:41","00:23:47","00:25:35","00:32:02","00:32:11","00:40:20","00:48:46","01:01:26","01:06:04","01:22:51","01:27:33","01:45:50","02:09:49","03:10:24","03:50:08","06:56:12","09:12:51","15:30:21","16:59:24","22:29:50"]
[63,"00:19:58","00:24:08","00:25:57","00:32:30","00:32:39","00:40:56","00:49:29","01:02:20","01:07:02","01:24:04","01:28:50","01:47:25","02:11:47","03:13:22","03:53:43","07:02:41","09:21:27","15:44:50","17:15:16","22:50:50"]
[64,"00:20:16","00:24:29","00:26:20","00:32:59","00:33:08","00:41:32","00:50:13","01:03:16","01:08:02","01:25:19","01:30:09","01:49:03","02:13:48","03:16:26","03:57:24","07:09:22","09:30:20","15:59:46","17:31:38","23:12:31"]
[65,"00:20:35","00:24:52","00:26:44","00:33:29","00:33:39","00:42:10","00:50:59","01:04:14","01:09:04","01:26:37","01:31:31","01:50:43","02:15:53","03:19:35","04:01:13","07:16:15","09:39:29","16:15:11","17:48:32","23:34:53"]
[66,"00:20:54","00:25:15","00:27:09","00:34:00","00:34:10","00:42:49","00:51:46","01:05:13","01:10:08","01:27:57","01:32:56","01:52:27","02:18:03","03:22:50","04:05:09","07:23:23","09:48:57","16:31:07","18:05:59","23:57:59"]
[67,"00:21:13","00:25:38","00:27:34","00:34:32","00:34:42","00:43:29","00:52:34","01:06:14","01:11:14","01:29:19","01:34:23","01:54:14","02:20:16","03:26:12","04:09:14","07:30:44","09:58:44","16:47:34","18:24:00"]
[68,"00:21:33","00:26:03","00:28:01","00:35:05","00:35:15","00:44:11","00:53:24","01:07:17","01:12:22","01:30:44","01:35:53","01:56:04","02:22:34","03:29:41","04:13:26","07:38:21","10:08:50","17:04:34","18:42:38"]
[69,"00:21:54","00:26:28","00:28:28","00:35:39","00:35:49","00:44:54","00:54:16","01:08:22","01:13:32","01:32:12","01:37:26","01:57:58","02:24:56","03:33:17","04:17:47","07:46:13","10:19:17","17:22:10","19:01:55"]
[70,"00:22:16","00:26:54","00:28:56","00:36:14","00:36:24","00:45:38","00:55:09","01:09:30","01:14:44","01:33:43","01:39:02","01:59:56","02:27:23","03:37:01","04:22:17","07:54:22","10:30:06","17:40:22","19:21:52"]
[71,"00:22:38","00:27:21","00:29:25","00:36:50","00:37:01","00:46:23","00:56:04","01:10:39","01:15:59","01:35:16","01:40:41","02:01:58","02:29:56","03:40:52","04:26:57","08:02:48","10:41:18","17:59:13","19:42:31"]
[72,"00:23:01","00:27:49","00:29:55","00:37:27","00:37:38","00:47:10","00:57:01","01:11:51","01:17:16","01:36:53","01:42:23","02:04:04","02:32:33","03:44:52","04:31:47","08:11:32","10:52:55","18:18:45","20:03:55"]
[73,"00:23:25","00:28:18","00:30:26","00:38:06","00:38:17","00:47:59","00:58:00","01:13:05","01:18:36","01:38:34","01:44:09","02:06:14","02:35:16","03:49:01","04:36:47","08:20:36","11:04:57","18:39:00","20:26:07"]
[74,"00:23:49","00:28:47","00:30:58","00:38:46","00:38:57","00:48:50","00:59:02","01:14:22","01:19:59","01:40:17","01:45:59","02:08:29","02:38:05","03:53:21","04:42:02","08:30:05","11:17:33","19:00:13","20:49:21"]
[75,"00:24:15","00:29:18","00:31:31","00:39:28","00:39:39","00:49:42","01:00:05","01:15:42","01:21:24","01:42:05","01:47:52","02:10:49","02:41:01","03:58:09","04:47:50","08:40:35","11:31:30","19:23:41","21:15:04"]
[76,"00:24:41","00:29:50","00:32:05","00:40:11","00:40:22","00:50:36","01:01:10","01:17:05","01:22:53","01:43:56","01:49:50","02:13:15","02:44:03","04:03:31","04:54:19","08:52:17","11:47:02","19:49:50","21:43:43"]
[77,"00:25:09","00:30:23","00:32:41","00:40:55","00:41:07","00:51:33","01:02:18","01:18:30","01:24:25","01:45:52","01:51:52","02:15:45","02:47:17","04:09:26","05:01:28","09:05:13","12:04:14","20:18:46","22:15:25"]
[78,"00:25:37","00:30:58","00:33:18","00:41:42","00:41:54","00:52:31","01:03:29","01:19:59","01:26:01","01:47:52","01:53:59","02:18:23","02:50:58","04:16:02","05:09:27","09:19:39","12:23:24","20:51:01"]
[79,"00:26:07","00:31:33","00:33:56","00:42:30","00:42:42","00:53:32","01:04:42","01:21:31","01:27:40","01:49:56","01:56:10","02:21:19","02:55:07","04:23:24","05:18:21","09:35:46","12:44:48","21:27:02"]
[80,"00:26:39","00:32:13","00:34:39","00:43:23","00:43:35","00:54:38","01:06:03","01:23:13","01:29:29","01:52:13","01:58:35","02:24:41","02:59:48","04:31:39","05:28:19","09:53:47","13:08:44","22:07:19"]
[81,"00:27:17","00:32:58","00:35:27","00:44:24","00:44:36","00:55:55","01:07:35","01:25:10","01:31:35","01:54:50","02:01:21","02:28:32","03:05:08","04:40:53","05:39:29","10:13:59","13:35:34"]
[82,"00:28:00","00:33:50","00:36:23","00:45:34","00:45:47","00:57:23","01:09:22","01:27:24","01:33:59","01:57:52","02:04:33","02:32:54","03:11:08","04:51:13","05:51:58","10:36:34","14:05:33"]
[83,"00:28:49","00:34:50","00:37:27","00:46:54","00:47:08","00:59:04","01:11:24","01:29:58","01:36:45","02:01:19","02:08:12","02:37:53","03:17:57","05:02:53","06:06:04","11:02:03","14:39:24"]
[84,"00:29:46","00:35:58","00:38:41","00:48:26","00:48:40","01:01:00","01:13:45","01:32:55","01:39:56","02:05:18","02:12:24","02:43:35","03:25:42","05:16:06","06:22:03","11:30:57","15:17:48"]
[85,"00:30:51","00:37:17","00:40:06","00:50:12","00:50:27","01:03:14","01:16:26","01:36:19","01:43:34","02:09:52","02:17:14","02:50:08","03:34:32","05:31:10","06:40:16","12:03:54","16:01:34"]
[86,"00:32:06","00:38:48","00:41:43","00:52:14","00:52:30","01:05:48","01:19:32","01:40:13","01:47:46","02:15:08","02:22:48","02:57:38","03:44:45","05:48:28","07:01:10","12:41:43","16:51:48"]
[87,"00:33:33","00:40:33","00:43:36","00:54:36","00:54:52","01:08:46","01:23:08","01:44:44","01:52:38","02:21:14","02:29:15","03:06:19","03:56:30","06:08:23","07:25:14","13:25:13","17:49:36"]
[88,"00:35:14","00:42:35","00:45:48","00:57:20","00:57:37","01:12:13","01:27:18","01:50:00","01:58:18","02:28:20","02:36:45","03:16:26","04:10:17","06:31:36","07:53:18","14:15:59","18:57:02"]
[89,"00:37:13","00:44:58","00:48:22","01:00:33","01:00:51","01:16:16","01:32:12","01:56:10","02:04:56","02:36:39","02:45:32","03:28:19","04:26:27","06:58:59","08:26:24","15:15:50","20:16:32"]
[90,"00:39:33","00:47:47","00:51:24","01:04:22","01:04:40","01:21:04","01:37:59","02:03:28","02:12:46","02:46:29","02:55:56","03:42:25","04:45:41","07:31:41","09:05:55","16:27:19","21:51:29"]
[91,"00:42:21","00:51:10","00:55:02","01:08:54","01:09:15","01:26:47","01:44:55","02:12:11","02:22:09","02:58:15","03:08:22","03:59:21","05:08:56","08:11:21","09:53:51","17:54:01","23:46:39"]
[92,"00:45:44","00:55:16","00:59:26","01:14:25","01:14:47","01:33:44","01:53:19","02:22:46","02:33:32","03:12:31","03:23:26","04:20:08","05:37:29","09:00:09","10:52:50","19:40:42"]
[93,"00:49:55","01:00:19","01:04:52","01:21:14","01:21:37","01:42:18","02:03:40","02:35:49","02:47:34","03:30:07","03:42:02","04:45:53","06:13:10","10:01:51","12:07:24","21:55:33"]
[94,"00:55:11","01:06:41","01:11:43","01:29:48","01:30:14","01:53:06","02:16:43","02:52:16","03:05:15","03:52:17","04:05:28","05:18:43","06:59:19","11:22:12","13:44:31",1.0355439814814815]
[95,"01:02:00","01:14:55","01:20:35","01:40:54","01:41:23","02:07:05","02:33:37","03:13:33","03:28:08","04:21:00","04:35:48","06:01:54","08:00:41","13:10:59","15:56:00",1.2006712962962962]
[96,"01:11:09","01:25:59","01:32:28","01:55:47","01:56:21","02:25:50","02:56:17","03:42:07","03:58:52","04:59:31","05:16:30","07:01:05","09:26:26","15:46:18","19:03:43"]
[97,"01:24:03","01:41:33","01:49:13","02:16:46","02:17:25","02:52:15","03:28:13","04:22:21","04:42:08","05:53:47","06:13:50","08:27:00","11:34:28","19:44:45","23:51:54"]
[98,"01:43:30","02:05:03","02:14:30","02:48:25","02:49:14","03:32:07","04:16:25","05:23:05","05:47:26","07:15:40","07:40:22","10:42:40","15:05:51",1.1102662037037037,1.341886574074074]
[99,"02:16:09","02:44:31","02:56:56","03:41:33","03:42:38","04:39:03","05:37:19","07:05:01","07:37:04","09:33:08","10:05:39","14:47:23","22:00:21",1.7318518518518518,2.0931365740740739]
[100,"03:22:11","04:04:18","04:22:45","05:29:00","05:30:36","06:54:23","08:20:55","10:31:09","11:18:44","14:11:06","14:59:22",1.0174768518518518,1.7348958333333333,4.0709722222222222,4.9202314814814816]
[]
["* All Masters standards/factors are as approved by the WMA Vice President - Non Stadia, WMA President, and USATF  MLDR Committee"]
["Compiled by Alan Jones, 3717 Wildwood Drive, Endwell, NY 13760, 607-786-5866"]
["AlanLJones@stny.rr.com, http://home.roadrunner.com/~alanjones/AgeGrade.html"]
["With lots of help from Rex Harvey, WMA"]
["Updated January 2010 with new data from Marian and Don Lein"]