{"text_format":"1","workbook":"xlsx","n_sheets":7,"sheets":["Premier","First","Second","Summary Sheet","Points Lookup","Rank","2017 Provisional Divisions"],"not_rendered":{"charts":0,"images":0,"macros":0,"external_links":0,"defined_names":2,"comments":0,"pivot_tables":0},"unopened":[],"bounds":{"document_bytes":16777216,"sheet_cells":100000,"rows_first":2000,"rows_last":500,"rows_between":2000,"halvings":0,"cell_chars":16384,"cell_head_chars":4096},"cells_cut":0,"cells_raw":0,"read":"whole","date_system":"1900"}

{"sheet":"Premier","index":0,"n_rows":302,"n_cols":12,"rows_kept":302,"cut":false,"hidden":false,"merged":[]}
["Premier Division"]
["Rank","Name","Score","Races"]
[1,"Stuart Dunbar",400,11]
[2,"Helen Love",393,13]
[3,"Tracy Foy",371,11]
[4,"Alan Douglas",369,10]
[5,"Alun Griffiths",359,8]
[6,"Will Kerr",347,7]
[7,"Mel Akeroyd",328,9]
[8,"Dairine Nethercott",328,8]
[9,"Gary Pennington",311,7]
[10,"Stewart Spink",305,7]
[11,"Helen Brant",298,7]
[12,"Martin Fillingham",295,6]
[13,"Denise Davis",295,7]
[14,"Suzanne Hague",281,7]
[15,"Noel Fitzpatrick",279,7]
[16,"Simon Frazer",274,6]
[17,"Frank Beecroft",263,6]
[18,"Rachel Parker",258,6]
[19,"Matthew  Richardson",238,5]
[20,"Tim Mosedale",232,6]
[21,"Darren Longhorn",222,5]
[22,"Mohanlal Mistry",204,5]
[23,"Graham Corbett",192,4]
[24,"Fiona Farquhar",190,5]
[25,"Martin Love",190,4]
[26,"Jack Verity",185,4]
[27,"Barney Lerner",139,3]
[28,"Louise Nash",138,3]
[29,"Jenny Willingham",136,3]
[30,"Chris Jones",128,3]
[31,"Louise Dell'Amico",110,3]
[32,"Richard Nixon",96,2]
[33,"Chris Stott",82,2]
[34,"Simon Kingsnorth",79,2]
[35,"Lorna Nixon",76,2]
[36,"Jeremy Wright",48,1]
[37,"Richard Stone",46,1]
[38,"Vicki Johnston2",40,1]
[39,"Robert Hague",39,1,"",""]
[40,"Simon Rose",0,0,"",""]
[41,"Loris Dell'Amico",0,0,"",""]
[42,"Emma Cartledge",0,0,"",""]
[43,"Tamsin Treasure-Jones",0,0,"",""]
[44,"Igs Robun",0,0,"",""]
[45,"Alistair Nash",0,0,"",""]
[46,"Tony Hart",0,0,"",""]
[47,"Jane Hart",0,0,"",""]
["","","",null,"",""]
["","","",null,"",""]
["","","",null,"",""]
["","","",null,"",""]
["","","",null,"",""]
["","","",null,"",""]
["","","",null,"",""]
["","","",null,"","",""]
["","","",null,"","",""]
["","","",null,"","",""]
["","","",null,"","",""]
["","","",null,"","",""]
["","","",null,"","",""]
["","","",null,"","",""]
["","","",null,"","",""]
["","","",null,"","",""]
["","","",null,"","",""]
["","","",null,"","",""]
["","","",null,"","",""]
["","","",null,"","",""]
["","","",null,"","",""]
["","","",null,"","",""]
["","","",null,"","",""]
["","","",null,"","",""]
["","","",null,"","",""]
["","","",null,"","",""]
["","","",null,"","",""]
["","","",null,"","",""]
["","","",null,"","",""]
["","","",null,"","",""]
["","","",null,"","",""]
["","","",null,"","",""]
["","","",null,"","",""]
["","","",null,"","",""]
["","","",null,"","",""]
["","","",null,"","",""]
["","","",null,"","",""]
["","","",null,"","",""]
["","","",null,"","",""]
["","","",null,"","",""]
["","","",null,"","",""]
["","","",null,"","",""]
["","","",null,"","",""]
["","","",null,"","",""]
["","","",null,"","",""]
["","","",null,"","",""]
["","","",null,"","",""]
["","","",null,"","",""]
["","","",null,"","",""]
["","","",null,"","",""]
["","","",null,"","",""]
["","","",null,"","",""]
["","","",null,"","",""]
["","","",null,"","",""]
["","","",null,"","",""]
["","","",null,"","",""]
["","","",null,"","",""]
["","","",null,"","",""]
["","","",null,"","",""]
["","","",null,"","",""]
["","","",null,"","",""]
["","","",null,"","",""]
["","",null,null,"","",""]
["","",null,null,"","",""]
["","",null,null,"","",""]
["","",null,null,"","",""]
["","",null,null,"","",""]
["","",null,null,"","",""]
["","",null,null,"","",""]
["","",null,null,"","",""]
["","",null,null,"","",""]
["","",null,null,"","",""]
["","",null,null,"","",""]
["","",null,null,"","",""]
["","",null,null,"","",""]
["","",null,null,"","","",null,"","","",{"$error":"#N/A"}]
["","",null,null,"","","",null,"","","",{"$error":"#N/A"}]
["","",null,null,"","","",null,"","",""]
["","",null,null,"","","",null,"","",""]
["","",null,null,"","","",null,"","",""]
["","",null,null,"","","",null,"","",""]
["","",null,null,"","","",null,"","",""]
["","",null,null,"","","",null,"","",""]
["","",null,null,"","","",null,"","",""]
["","",null,null,"","","",null,"","",""]
["","",null,null,"","","",null,"","",""]
["","",null,null,"","","",null,"","",""]
["","",null,null,"","","",null,"","",""]
["","",null,null,"","","",null,"","",""]
["","",null,null,"","","",null,"","",""]
["","",null,null,"","","",null,"","",""]
["","",null,null,"","","",null,"","",""]
["","",null,null,"","","",null,"","",""]
["","",null,null,"","","",null,"","",""]
["","",null,null,"","","",null,"","",""]
["","",null,null,"","","",null,"","",""]
["","",null,null,"","","",null,"","",""]
["","",null,null,"","","",null,"","",""]
["","",null,null,"","","",null,"","",""]
["","",null,null,"","","",null,"","",""]
["","",null,null,"","","",null,"","",""]
["","",null,null,"","","",null,"","",""]
["","",null,null,"","","",null,"","",""]
["","",null,null,"","","",null,"","",""]
["","",null,null,"","","",null,"","",""]
["","",null,null,"","","",null,"","",""]
["","",null,null,"","","",null,"","",""]
["","",null,null,"","","",null,"","",""]
["","",null,null,"","","",null,"","",""]
["","",null,null,"","","",null,"","",""]
["","",null,null,"","","",null,"","",""]
["","",null,null,"","","",null,"","",""]
["","",null,null,"","","",null,"","",""]
["","",null,null,"","","",null,"","",""]
["","",null,null,"","","",null,"","",""]
["","",null,null,"","","",null,"","",""]
["","",null,null,"","","",null,"","",""]
["","",null,null,"","","",null,"","",""]
["","",null,null,"","","",null,"","",""]
["","",null,null,"","","",null,"","",""]
["","",null,null,"","","",null,"","",""]
["","",null,null,"","","",null,"","",""]
["","",null,null,"","","",null,"","",""]
["","",null,null,"","","",null,"","",""]
["","",null,null,"","","",null,"","",""]
["","",null,null,"","","",null,"","",""]
["","",null,null,"","","",null,"","",""]
["","",null,null,"","","",null,"","",""]
["","",null,null,"","","",null,"","",""]
["","",null,null,"","","",null,"","",""]
["","",null,null,"","","",null,"","",""]
["","",null,null,"","","",null,"","",""]
["","",null,null,"","","",null,"","",""]
["","",null,null,"","","",null,"","",""]
["","",null,null,"","","",null,"","",""]
["","",null,null,"","","",null,"","",""]
["","",null,null,"","","",null,"","",""]
["","",null,null,"","","",null,"","",""]
["","",null,null,"","","",null,"","",""]
["","",null,null,"","","",null,"","",""]
["","",null,null,"","","",null,"","",""]
["","",null,null,"","","",null,"","",""]
["","",null,null,"","","",null,"","",""]
["","",null,null,"","","",null,"","",""]
["","",null,null,"","","",null,"","",""]
["","",null,null,"","","",null,"","",""]
["","",null,null,"","","",null,"","",""]
["","",null,null,"","","",null,"","",""]
["","",null,null,"","","",null,"","",""]
["","",null,null,"","","",null,"","",""]
["","",null,null,"","","",null,"","",""]
["","",null,null,"","","",null,"","",""]
["","",null,null,"","","",null,"","",""]
["","",null,null,"","","",null,"","",""]
["","",null,null,"","","",null,"","",""]
["","",null,null,"","","",null,"","",""]
["","",null,null,"","","",null,"","",""]
["","",null,null,"","","",null,"","",""]
["","",null,null,"","","",null,"","",""]
["","",null,null,"","","",null,"","",""]
["","",null,null,"","","",null,"","",""]
["","",null,null,"","","",null,"","",""]
["","",null,null,"","","",null,"","",""]
["","",null,null,"","","",null,"","",""]
["","",null,null,"","","",null,"","",""]
["","",null,null,"","","",null,"","",""]
["","",null,null,"","","",null,"","",""]
["","",null,null,"","","",null,"","",""]
["","",null,null,"","","",null,"","",""]
["","",null,null,"","","",null,"","",""]
["","",null,null,"","","",null,"","",""]
["","",null,null,"","","",null,"","",""]
["","",null,null,"","","",null,"","",""]
["","",null,null,"","","",null,"","",""]
["","",null,null,"","","",null,"","",""]
["","",null,null,"","","",null,"","",""]
["","",null,null,"","","",null,"","",""]
["","",null,null,"","","",null,"","",""]
["","",null,null,"","","",null,"","",""]
["","",null,null,"","","",null,"","",""]
["","",null,null,"","","",null,"","",""]
["","",null,null,"","","",null,"","",""]
["","",null,null,"","","",null,"","",""]
["","",null,null,"","","",null,"","",""]
["","",null,null,"","","",null,"","",""]
["","",null,null,"","","",null,"","",""]
["","",null,null,"","","",null,"","",""]
["","",null,null,"","","",null,"","",""]
["","",null,null,"","","",null,"","",""]
["","",null,null,"","","",null,"","",""]
["","",null,null,"","","",null,"","",""]
["","",null,null,"","","",null,"","",""]
["","",null,null,"","","",null,"","",""]
["","",null,null,"","","",null,"","",""]
["","",null,null,"","","",null,"","",""]
["","",null,null,"","","",null,"","",""]
["","",null,null,"","","",null,"","",""]
["","",null,null,"","","",null,"","",""]
["","",null,null,"","","",null,"","",""]
["","",null,null,"","","",null,"","",""]
["","",null,null,"","","",null,"","",""]
["","",null,null,"","","",null,"","",""]
["","",null,null,"","","",null,"","",""]
["","",null,null,"","","",null,"","",""]
["","",null,null,"","","",null,"","",""]
["","",null,null,"","","",null,"","",""]
["","",null,null,"","","",null,"","",""]
["","",null,null,"","","",null,"","",""]
["","",null,null,"","","",null,"","",""]
["","",null,null,"","","",null,"","",""]
["","",null,null,"","","",null,"","",""]
["","",null,null,"","","",null,"","",""]
["","",null,null,"","","",null,"","",""]
["","",null,null,"","","",null,"","",""]
["","",null,null,"","","",null,"","",""]
["","",null,null,"","","",null,"","",""]
["","",null,null,"","","",null,"","",""]
["","",null,null,"","","",null,"","",""]
["","",null,null,"","","",null,"","",""]
["","",null,null,"","","",null,"","",""]
["","",null,null,"","","",null,"","",""]
["","",null,null,"","","",null,"","",""]
["","",null,null,"","","",null,"","",""]
["","",null,null,"","","",null,"","",""]
["","",null,null,"","","",null,"","",""]
["","",null,null,"","","",null,"","",""]
["","",null,null,"","","",null,"","",""]
["","",null,null,"","","",null,"","",""]
["","",null,null,"","","",null,"","",""]
["","",null,null,"","","",null,"","",""]
["","",null,null,"","","",null,"","",""]
["","",null,null,"","","",null,"","",""]
["","",null,null,"","","",null,"","",""]
["","",null,null,"","","",null,"","",""]
["","",null,null,"","","",null,"","",""]
["","",null,null,"","","",null,"","",""]
["","",null,null,"","","",null,"","",""]
["","",null,null,"","","",null,"","",""]
["","",null,null,"","","",null,"","",""]
["","",null,null,"","","",null,"","",""]
["","",null,null,"","","",null,"","",""]
["","",null,null,"","","",null,"","",""]
["","",null,null,"","","",null,"","",""]
["","",null,null,"","",""]
["","",null,null,"","",""]
["","",null,null,"","",""]
["","",null,null,"","",""]
["","",null,null,"","",""]
["","",null,null,"","",""]
["","",null,null,"","",""]
["","",null,null,"","",""]
["","",null,null,"","",""]
[""]

{"sheet":"First","index":1,"n_rows":25,"n_cols":4,"rows_kept":25,"cut":false,"hidden":false,"merged":[]}
["First Division"]
["Rank","Name","Score","Races"]
[1,"Frank Masley",393,8]
[2,"Gary Western",243,5]
[3,"Helen Western",239,5]
[4,"Gillian Hyde",199,4]
[5,"Josie Briggs",197,4]
[6,"Urmila Mistry",142,3]
[7,"Teri Rose",141,3]
[8,"Claire Thaper",139,3]
[9,"Ben Marchant",100,2]
[10,"Paul Disney",100,2]
[11,"Chris Reynier",98,2]
[12,"Julie Firth",97,2]
[13,"Mark Walker",93,2]
[14,"Jez Rix",50,1]
[15,"Tim Forster",50,1]
[16,"Susan Manning",49,1]
[17,"Peter Huby",49,1]
[18,"Kelly Smith",49,1]
[19,"Bernadette Cook",48,1]
[20,"Reza Abdi",48,1]
[21,"Ben Pearson",48,1]
[22,"Liam Verity",47,1]
[23,"Clair Fitzpatrick",46,1]

{"sheet":"Second","index":2,"n_rows":124,"n_cols":4,"rows_kept":124,"cut":false,"hidden":false,"merged":[]}
["Second Division"]
["Rank","Name","Score","Races"]
[1,"Ian Jenkins",391,11]
[2,"Sylvia Ross",247,5]
[3,"Steph Niven",238,5]
[4,"Kamil Zakowski",235,5]
[5,"Robert Davies",198,4]
[6,"Richard Smith",186,4]
[7,"Gavin Hamilton",175,4]
[8,"Sam White",174,4]
[9,"Marcin Soszka",150,3]
[10,"Robert Donkin",149,3]
[11,"Ewan Gibb",133,3]
[12,"Rebecca Saul",131,3]
[13,"Stephen Hetherington",98,2]
[14,"John Walton",95,2]
[15,"John Colwell",95,2]
[16,"Duane Craven",94,2]
[17,"Ian Dickinson",93,2]
[18,"Gareth Ward",91,2]
[19,"Laura Richardson",91,2]
[20,"Jenny Colwell",82,2]
[21,"Mervyn Silva",81,2]
[22,"Liz Hamilton",75,2]
[23,"Nicola Pickard",74,2]
[24,"Graham Terry",50,1]
[25,"Kevin Armstrong",50,1]
[26,"Hannah Oldroyd",50,1]
[27,"Emma Dibb",49,1]
[28,"John Singh",49,1]
[29,"Adrian Manning",48,1]
[30,"Ann Upton",48,1]
[31,"Dave Armstrong",48,1]
[32,"Carl Kernick",47,1]
[33,"Andy Hutchinson",47,1]
[34,"Kath Stone",47,1]
[35,"Nick Breare",47,1]
[36,"Rahul Mehra",46,1]
[37,"Stuart James",46,1]
[38,"Lucy Johnston",46,1]
[39,"Hannah Elliot",44,1]
[40,"Michael Farren",44,1]
[41,"Therese Sheehan",43,1]
[42,"Will Collinson",41,1]
[43,"Sarah Sherratt",38,1]
[44,"Chris Longley",37,1]
[45,"Nicola Robinson",32,1]
[46,"Laura Whitworth",30,1]
[47,"Adam Willoughby",0,0]
[48,"Philippa Bird",0,0]
[49,"James  Goodall",0,0]
[50,"Chris Upton",0,0]
[51,"Heather Bodiam",0,0]
[52,"Carole Raistrick",0,0]
[53,"Esther Silva",0,0]
[54,"Michael Moss",0,0]
[55,"Diane Collett",0,0]
[56,"Nina Rogers",0,0]
[57,"John Hunt",0,0]
[58,"Sheila Bugg",0,0]
[59,"Anna James",0,0]
[60,"Simon Pass",0,0]
[61,"Louise McGechaen",0,0]
[62,"Emma Freer",0,0]
[63,"Paul Salisbury",0,0]
[64,"Gemma Bell",0,0]
[65,"Jac Trow Flynn",0,0]
[66,"Jadine Smith",0,0]
[67,"Mick Brearley",0,0]
[68,"Natalie Stephenson",0,0]
[69,"Donna Line",0,0]
[70,"Paula Chadwick",0,0]
[71,"Sara Atkinson",0,0]
[72,"Tina Martiny",0,0]
[73,"Paula Cutter",0,0]
[74,"Shiela Pepper",0,0]
[75,"Barbara Winslow",0,0]
[76,"Camille Kendall",0,0]
[77,"Catherine Bruckner",0,0]
[78,"Caroline Rix",0,0]
[79,"Craig Barrow",0,0]
[80,"David Schrivener",0,0]
[81,"Connor Jay Craven",0,0]
[82,"Rebecca O KEEFE",0,0]
[83,"Adam Willoughby",0,0]
[84,"Joseph Broadbent",0,0]
[85,"Diane Collett",0,0]
[86,"Anna James",0,0]
[87,"Jac Trow Flynn",0,0]
[88,"Sarah Bruckshaw",0,0]
[89,"Elaine Frazer",0,0]
[90,"Joseph Broadbent",0,0]
[91,"Mick Chambers",0,0]
[92,"Kanwaldeep Kaur",0,0]
[93,"Keith Abson",0,0]
[94,"Laura Goodyear",0,0]
[95,"Lynn Perris",0,0]
[96,"Laurence Easton",0,0]
[97,"Matthew Nowell",0,0]
[98,"Natalie Boardman",0,0]
[99,"Matthew Reynier",0,0]
[100,"Steven Maude",0,0]
[101,"Natalie Evans",0,0]
[102,"Tim Baldwin",0,0]
[103,"Nazia Begum",0,0]
[104,"Tom Lee",0,0]
[105,"Patricis Farren",0,0]
[106,"Lindsey Pearson",0,0]
[107,"Pawel Tryc",0,0]
[108,"Amanda Hibbert",0,0]
[109,"Rachel  Herrar",0,0]
[110,"Ambrose Griffiths",0,0]
[111,"Rebecca O Keefe",0,0]
[112,"Andrew Edwards",0,0]
[113,"Sheila Quarmby",0,0]
[114,"Andrew Lickley",0,0]
[115,"Steven Fowler",0,0]
[116,"ANDY Bedford",0,0]
[117,"Bernadette Bowden",0,0]
[118,"Tim Spencer",0,0]
[119,"Abby Hanson",0,0]
[120,"Wendy Hey",0,0]
[121,"Adam Camp",0,0]
[122,"Alex Ayling",0,0]

{"sheet":"Summary Sheet","index":3,"n_rows":400,"n_cols":33,"rows_kept":400,"cut":false,"hidden":true,"merged":[]}
["Rank","Name","Division","Points Total",{"$f":"#REF!","v":{"$error":"#REF!"}},{"$f":"#REF!","v":{"$error":"#REF!"}},{"$f":"#REF!","v":{"$error":"#REF!"}},{"$f":"#REF!","v":{"$error":"#REF!"}},{"$f":"#REF!","v":{"$error":"#REF!"}},{"$f":"#REF!","v":{"$error":"#REF!"}},{"$f":"#REF!","v":{"$error":"#REF!"}},{"$f":"#REF!","v":{"$error":"#REF!"}},{"$f":"#REF!","v":{"$error":"#REF!"}},{"$f":"#REF!","v":{"$error":"#REF!"}},{"$f":"#REF!","v":{"$error":"#REF!"}},{"$f":"#REF!","v":{"$error":"#REF!"}},{"$f":"#REF!","v":{"$error":"#REF!"}},{"$f":"#REF!","v":{"$error":"#REF!"}},{"$f":"#REF!","v":{"$error":"#REF!"}},{"$f":"#REF!","v":{"$error":"#REF!"}},{"$f":"#REF!","v":{"$error":"#REF!"}},{"$f":"#REF!","v":{"$error":"#REF!"}},{"$f":"#REF!","v":{"$error":"#REF!"}},{"$f":"#REF!","v":{"$error":"#REF!"}},null,1,2,3,4,5,6,7,8]
[{"$f":"RANK(D2,D:D)","v":{"$error":"#REF!"}},{"$f":"#REF!","v":{"$error":"#REF!"}},{"$f":"IF(ISBLANK(#REF!),\"\",#REF!)","v":{"$error":"#REF!"}},{"$f":"SUM(Z2:AG2)","v":{"$error":"#REF!"}},{"$f":"VLOOKUP(#REF!,'Points Lookup'!$A:$B,2,FALSE)","v":{"$error":"#REF!"}},{"$f":"VLOOKUP(#REF!,'Points Lookup'!$A:$B,2,FALSE)","v":{"$error":"#REF!"}},{"$f":"VLOOKUP(#REF!,'Points Lookup'!$A:$B,2,FALSE)","v":{"$error":"#REF!"}},{"$f":"VLOOKUP(#REF!,'Points Lookup'!$A:$B,2,FALSE)","v":{"$error":"#REF!"}},{"$f":"VLOOKUP(#REF!,'Points Lookup'!$A:$B,2,FALSE)","v":{"$error":"#REF!"}},{"$f":"VLOOKUP(#REF!,'Points Lookup'!$A:$B,2,FALSE)","v":{"$error":"#REF!"}},{"$f":"VLOOKUP(#REF!,'Points Lookup'!$A:$B,2,FALSE)","v":{"$error":"#REF!"}},{"$f":"VLOOKUP(#REF!,'Points Lookup'!$A:$B,2,FALSE)","v":{"$error":"#REF!"}},{"$f":"VLOOKUP(#REF!,'Points Lookup'!$A:$B,2,FALSE)","v":{"$error":"#REF!"}},{"$f":"VLOOKUP(#REF!,'Points Lookup'!$A:$B,2,FALSE)","v":{"$error":"#REF!"}},{"$f":"VLOOKUP(#REF!,'Points Lookup'!$A:$B,2,FALSE)","v":{"$error":"#REF!"}},{"$f":"VLOOKUP(#REF!,'Points Lookup'!$A:$B,2,FALSE)","v":{"$error":"#REF!"}},{"$f":"VLOOKUP(#REF!,'Points Lookup'!$A:$B,2,FALSE)","v":{"$error":"#REF!"}},{"$f":"VLOOKUP(#REF!,'Points Lookup'!$A:$B,2,FALSE)","v":{"$error":"#REF!"}},{"$f":"VLOOKUP(#REF!,'Points Lookup'!$A:$B,2,FALSE)","v":{"$error":"#REF!"}},{"$f":"VLOOKUP(#REF!,'Points Lookup'!$A:$B,2,FALSE)","v":{"$error":"#REF!"}},{"$f":"VLOOKUP(#REF!,'Points Lookup'!$A:$B,2,FALSE)","v":{"$error":"#REF!"}},{"$f":"VLOOKUP(#REF!,'Points Lookup'!$A:$B,2,FALSE)","v":{"$error":"#REF!"}},{"$f":"VLOOKUP(#REF!,'Points Lookup'!$A:$B,2,FALSE)","v":{"$error":"#REF!"}},{"$f":"VLOOKUP(#REF!,'Points Lookup'!$A:$B,2,FALSE)","v":{"$error":"#REF!"}},null,{"$f":"LARGE($E2:$X2,Z$1)","v":{"$error":"#REF!"}},{"$error":"#REF!"},{"$error":"#REF!"},{"$error":"#REF!"},{"$error":"#REF!"},{"$error":"#REF!"},{"$error":"#REF!"},{"$error":"#REF!"}]
[{"$error":"#REF!"},{"$f":"#REF!","v":{"$error":"#REF!"}},{"$f":"IF(ISBLANK(#REF!),\"\",#REF!)","v":{"$error":"#REF!"}},{"$f":"SUM(Z3:AG3)","v":{"$error":"#REF!"}},{"$f":"VLOOKUP(#REF!,'Points Lookup'!$A:$B,2,FALSE)","v":{"$error":"#REF!"}},{"$f":"VLOOKUP(#REF!,'Points Lookup'!$A:$B,2,FALSE)","v":{"$error":"#REF!"}},{"$f":"VLOOKUP(#REF!,'Points Lookup'!$A:$B,2,FALSE)","v":{"$error":"#REF!"}},{"$f":"VLOOKUP(#REF!,'Points Lookup'!$A:$B,2,FALSE)","v":{"$error":"#REF!"}},{"$f":"VLOOKUP(#REF!,'Points Lookup'!$A:$B,2,FALSE)","v":{"$error":"#REF!"}},{"$f":"VLOOKUP(#REF!,'Points Lookup'!$A:$B,2,FALSE)","v":{"$error":"#REF!"}},{"$f":"VLOOKUP(#REF!,'Points Lookup'!$A:$B,2,FALSE)","v":{"$error":"#REF!"}},{"$f":"VLOOKUP(#REF!,'Points Lookup'!$A:$B,2,FALSE)","v":{"$error":"#REF!"}},{"$f":"VLOOKUP(#REF!,'Points Lookup'!$A:$B,2,FALSE)","v":{"$error":"#REF!"}},{"$f":"VLOOKUP(#REF!,'Points Lookup'!$A:$B,2,FALSE)","v":{"$error":"#REF!"}},{"$f":"VLOOKUP(#REF!,'Points Lookup'!$A:$B,2,FALSE)","v":{"$error":"#REF!"}},{"$f":"VLOOKUP(#REF!,'Points Lookup'!$A:$B,2,FALSE)","v":{"$error":"#REF!"}},{"$f":"VLOOKUP(#REF!,'Points Lookup'!$A:$B,2,FALSE)","v":{"$error":"#REF!"}},{"$f":"VLOOKUP(#REF!,'Points Lookup'!$A:$B,2,FALSE)","v":{"$error":"#REF!"}},{"$f":"VLOOKUP(#REF!,'Points Lookup'!$A:$B,2,FALSE)","v":{"$error":"#REF!"}},{"$f":"VLOOKUP(#REF!,'Points Lookup'!$A:$B,2,FALSE)","v":{"$error":"#REF!"}},{"$f":"VLOOKUP(#REF!,'Points Lookup'!$A:$B,2,FALSE)","v":{"$error":"#REF!"}},{"$f":"VLOOKUP(#REF!,'Points Lookup'!$A:$B,2,FALSE)","v":{"$error":"#REF!"}},{"$f":"VLOOKUP(#REF!,'Points Lookup'!$A:$B,2,FALSE)","v":{"$error":"#REF!"}},{"$f":"VLOOKUP(#REF!,'Points Lookup'!$A:$B,2,FALSE)","v":{"$error":"#REF!"}},null,{"$error":"#REF!"},{"$error":"#REF!"},{"$error":"#REF!"},{"$error":"#REF!"},{"$error":"#REF!"},{"$error":"#REF!"},{"$error":"#REF!"},{"$error":"#REF!"}]
[{"$error":"#REF!"},{"$f":"#REF!","v":{"$error":"#REF!"}},{"$f":"IF(ISBLANK(#REF!),\"\",#REF!)","v":{"$error":"#REF!"}},{"$error":"#REF!"},{"$f":"VLOOKUP(#REF!,'Points Lookup'!$A:$B,2,FALSE)","v":{"$error":"#REF!"}},{"$f":"VLOOKUP(#REF!,'Points Lookup'!$A:$B,2,FALSE)","v":{"$error":"#REF!"}},{"$f":"VLOOKUP(#REF!,'Points Lookup'!$A:$B,2,FALSE)","v":{"$error":"#REF!"}},{"$f":"VLOOKUP(#REF!,'Points Lookup'!$A:$B,2,FALSE)","v":{"$error":"#REF!"}},{"$f":"VLOOKUP(#REF!,'Points Lookup'!$A:$B,2,FALSE)","v":{"$error":"#REF!"}},{"$f":"VLOOKUP(#REF!,'Points Lookup'!$A:$B,2,FALSE)","v":{"$error":"#REF!"}},{"$f":"VLOOKUP(#REF!,'Points Lookup'!$A:$B,2,FALSE)","v":{"$error":"#REF!"}},{"$f":"VLOOKUP(#REF!,'Points Lookup'!$A:$B,2,FALSE)","v":{"$error":"#REF!"}},{"$f":"VLOOKUP(#REF!,'Points Lookup'!$A:$B,2,FALSE)","v":{"$error":"#REF!"}},{"$f":"VLOOKUP(#REF!,'Points Lookup'!$A:$B,2,FALSE)","v":{"$error":"#REF!"}},{"$f":"VLOOKUP(#REF!,'Points Lookup'!$A:$B,2,FALSE)","v":{"$error":"#REF!"}},{"$f":"VLOOKUP(#REF!,'Points Lookup'!$A:$B,2,FALSE)","v":{"$error":"#REF!"}},{"$f":"VLOOKUP(#REF!,'Points Lookup'!$A:$B,2,FALSE)","v":{"$error":"#REF!"}},{"$f":"VLOOKUP(#REF!,'Points Lookup'!$A:$B,2,FALSE)","v":{"$error":"#REF!"}},{"$f":"VLOOKUP(#REF!,'Points Lookup'!$A:$B,2,FALSE)","v":{"$error":"#REF!"}},{"$f":"VLOOKUP(#REF!,'Points Lookup'!$A:$B,2,FALSE)","v":{"$error":"#REF!"}},{"$f":"VLOOKUP(#REF!,'Points Lookup'!$A:$B,2,FALSE)","v":{"$error":"#REF!"}},{"$f":"VLOOKUP(#REF!,'Points Lookup'!$A:$B,2,FALSE)","v":{"$error":"#REF!"}},{"$f":"VLOOKUP(#REF!,'Points Lookup'!$A:$B,2,FALSE)","v":{"$error":"#REF!"}},{"$f":"VLOOKUP(#REF!,'Points Lookup'!$A:$B,2,FALSE)","v":{"$error":"#REF!"}},null,{"$error":"#REF!"},{"$error":"#REF!"},{"$error":"#REF!"},{"$error":"#REF!"},{"$error":"#REF!"},{"$error":"#REF!"},{"$error":"#REF!"},{"$error":"#REF!"}]
[{"$error":"#REF!"},{"$f":"#REF!","v":{"$error":"#REF!"}},{"$f":"IF(ISBLANK(#REF!),\"\",#REF!)","v":{"$error":"#REF!"}},{"$error":"#REF!"},{"$f":"VLOOKUP(#REF!,'Points Lookup'!$A:$B,2,FALSE)","v":{"$error":"#REF!"}},{"$f":"VLOOKUP(#REF!,'Points Lookup'!$A:$B,2,FALSE)","v":{"$error":"#REF!"}},{"$f":"VLOOKUP(#REF!,'Points Lookup'!$A:$B,2,FALSE)","v":{"$error":"#REF!"}},{"$f":"VLOOKUP(#REF!,'Points Lookup'!$A:$B,2,FALSE)","v":{"$error":"#REF!"}},{"$f":"VLOOKUP(#REF!,'Points Lookup'!$A:$B,2,FALSE)","v":{"$error":"#REF!"}},{"$f":"VLOOKUP(#REF!,'Points Lookup'!$A:$B,2,FALSE)","v":{"$error":"#REF!"}},{"$f":"VLOOKUP(#REF!,'Points Lookup'!$A:$B,2,FALSE)","v":{"$error":"#REF!"}},{"$f":"VLOOKUP(#REF!,'Points Lookup'!$A:$B,2,FALSE)","v":{"$error":"#REF!"}},{"$f":"VLOOKUP(#REF!,'Points Lookup'!$A:$B,2,FALSE)","v":{"$error":"#REF!"}},{"$f":"VLOOKUP(#REF!,'Points Lookup'!$A:$B,2,FALSE)","v":{"$error":"#REF!"}},{"$f":"VLOOKUP(#REF!,'Points Lookup'!$A:$B,2,FALSE)","v":{"$error":"#REF!"}},{"$f":"VLOOKUP(#REF!,'Points Lookup'!$A:$B,2,FALSE)","v":{"$error":"#REF!"}},{"$f":"VLOOKUP(#REF!,'Points Lookup'!$A:$B,2,FALSE)","v":{"$error":"#REF!"}},{"$f":"VLOOKUP(#REF!,'Points Lookup'!$A:$B,2,FALSE)","v":{"$error":"#REF!"}},{"$f":"VLOOKUP(#REF!,'Points Lookup'!$A:$B,2,FALSE)","v":{"$error":"#REF!"}},{"$f":"VLOOKUP(#REF!,'Points Lookup'!$A:$B,2,FALSE)","v":{"$error":"#REF!"}},{"$f":"VLOOKUP(#REF!,'Points Lookup'!$A:$B,2,FALSE)","v":{"$error":"#REF!"}},{"$f":"VLOOKUP(#REF!,'Points Lookup'!$A:$B,2,FALSE)","v":{"$error":"#REF!"}},{"$f":"VLOOKUP(#REF!,'Points Lookup'!$A:$B,2,FALSE)","v":{"$error":"#REF!"}},{"$f":"VLOOKUP(#REF!,'Points Lookup'!$A:$B,2,FALSE)","v":{"$error":"#REF!"}},null,{"$error":"#REF!"},{"$error":"#REF!"},{"$error":"#REF!"},{"$error":"#REF!"},{"$error":"#REF!"},{"$error":"#REF!"},{"$error":"#REF!"},{"$error":"#REF!"}]
[{"$error":"#REF!"},{"$f":"#REF!","v":{"$error":"#REF!"}},{"$f":"IF(ISBLANK(#REF!),\"\",#REF!)","v":{"$error":"#REF!"}},{"$error":"#REF!"},{"$f":"VLOOKUP(#REF!,'Points Lookup'!$A:$B,2,FALSE)","v":{"$error":"#REF!"}},{"$f":"VLOOKUP(#REF!,'Points Lookup'!$A:$B,2,FALSE)","v":{"$error":"#REF!"}},{"$f":"VLOOKUP(#REF!,'Points Lookup'!$A:$B,2,FALSE)","v":{"$error":"#REF!"}},{"$f":"VLOOKUP(#REF!,'Points Lookup'!$A:$B,2,FALSE)","v":{"$error":"#REF!"}},{"$f":"VLOOKUP(#REF!,'Points Lookup'!$A:$B,2,FALSE)","v":{"$error":"#REF!"}},{"$f":"VLOOKUP(#REF!,'Points Lookup'!$A:$B,2,FALSE)","v":{"$error":"#REF!"}},{"$f":"VLOOKUP(#REF!,'Points Lookup'!$A:$B,2,FALSE)","v":{"$error":"#REF!"}},{"$f":"VLOOKUP(#REF!,'Points Lookup'!$A:$B,2,FALSE)","v":{"$error":"#REF!"}},{"$f":"VLOOKUP(#REF!,'Points Lookup'!$A:$B,2,FALSE)","v":{"$error":"#REF!"}},{"$f":"VLOOKUP(#REF!,'Points Lookup'!$A:$B,2,FALSE)","v":{"$error":"#REF!"}},{"$f":"VLOOKUP(#REF!,'Points Lookup'!$A:$B,2,FALSE)","v":{"$error":"#REF!"}},{"$f":"VLOOKUP(#REF!,'Points Lookup'!$A:$B,2,FALSE)","v":{"$error":"#REF!"}},{"$f":"VLOOKUP(#REF!,'Points Lookup'!$A:$B,2,FALSE)","v":{"$error":"#REF!"}},{"$f":"VLOOKUP(#REF!,'Points Lookup'!$A:$B,2,FALSE)","v":{"$error":"#REF!"}},{"$f":"VLOOKUP(#REF!,'Points Lookup'!$A:$B,2,FALSE)","v":{"$error":"#REF!"}},{"$f":"VLOOKUP(#REF!,'Points Lookup'!$A:$B,2,FALSE)","v":{"$error":"#REF!"}},{"$f":"VLOOKUP(#REF!,'Points Lookup'!$A:$B,2,FALSE)","v":{"$error":"#REF!"}},{"$f":"VLOOKUP(#REF!,'Points Lookup'!$A:$B,2,FALSE)","v":{"$error":"#REF!"}},{"$f":"VLOOKUP(#REF!,'Points Lookup'!$A:$B,2,FALSE)","v":{"$error":"#REF!"}},{"$f":"VLOOKUP(#REF!,'Points Lookup'!$A:$B,2,FALSE)","v":{"$error":"#REF!"}},null,{"$error":"#REF!"},{"$error":"#REF!"},{"$error":"#REF!"},{"$error":"#REF!"},{"$error":"#REF!"},{"$error":"#REF!"},{"$error":"#REF!"},{"$error":"#REF!"}]
[{"$error":"#REF!"},{"$f":"#REF!","v":{"$error":"#REF!"}},{"$f":"IF(ISBLANK(#REF!),\"\",#REF!)","v":{"$error":"#REF!"}},{"$error":"#REF!"},{"$f":"VLOOKUP(#REF!,'Points Lookup'!$A:$B,2,FALSE)","v":{"$error":"#REF!"}},{"$f":"VLOOKUP(#REF!,'Points Lookup'!$A:$B,2,FALSE)","v":{"$error":"#REF!"}},{"$f":"VLOOKUP(#REF!,'Points Lookup'!$A:$B,2,FALSE)","v":{"$error":"#REF!"}},{"$f":"VLOOKUP(#REF!,'Points Lookup'!$A:$B,2,FALSE)","v":{"$error":"#REF!"}},{"$f":"VLOOKUP(#REF!,'Points Lookup'!$A:$B,2,FALSE)","v":{"$error":"#REF!"}},{"$f":"VLOOKUP(#REF!,'Points Lookup'!$A:$B,2,FALSE)","v":{"$error":"#REF!"}},{"$f":"VLOOKUP(#REF!,'Points Lookup'!$A:$B,2,FALSE)","v":{"$error":"#REF!"}},{"$f":"VLOOKUP(#REF!,'Points Lookup'!$A:$B,2,FALSE)","v":{"$error":"#REF!"}},{"$f":"VLOOKUP(#REF!,'Points Lookup'!$A:$B,2,FALSE)","v":{"$error":"#REF!"}},{"$f":"VLOOKUP(#REF!,'Points Lookup'!$A:$B,2,FALSE)","v":{"$error":"#REF!"}},{"$f":"VLOOKUP(#REF!,'Points Lookup'!$A:$B,2,FALSE)","v":{"$error":"#REF!"}},{"$f":"VLOOKUP(#REF!,'Points Lookup'!$A:$B,2,FALSE)","v":{"$error":"#REF!"}},{"$f":"VLOOKUP(#REF!,'Points Lookup'!$A:$B,2,FALSE)","v":{"$error":"#REF!"}},{"$f":"VLOOKUP(#REF!,'Points Lookup'!$A:$B,2,FALSE)","v":{"$error":"#REF!"}},{"$f":"VLOOKUP(#REF!,'Points Lookup'!$A:$B,2,FALSE)","v":{"$error":"#REF!"}},{"$f":"VLOOKUP(#REF!,'Points Lookup'!$A:$B,2,FALSE)","v":{"$error":"#REF!"}},{"$f":"VLOOKUP(#REF!,'Points Lookup'!$A:$B,2,FALSE)","v":{"$error":"#REF!"}},{"$f":"VLOOKUP(#REF!,'Points Lookup'!$A:$B,2,FALSE)","v":{"$error":"#REF!"}},{"$f":"VLOOKUP(#REF!,'Points Lookup'!$A:$B,2,FALSE)","v":{"$error":"#REF!"}},{"$f":"VLOOKUP(#REF!,'Points Lookup'!$A:$B,2,FALSE)","v":{"$error":"#REF!"}},null,{"$error":"#REF!"},{"$error":"#REF!"},{"$error":"#REF!"},{"$error":"#REF!"},{"$error":"#REF!"},{"$error":"#REF!"},{"$error":"#REF!"},{"$error":"#REF!"}]
[{"$error":"#REF!"},{"$f":"#REF!","v":{"$error":"#REF!"}},{"$f":"IF(ISBLANK(#REF!),\"\",#REF!)","v":{"$error":"#REF!"}},{"$error":"#REF!"},{"$f":"VLOOKUP(#REF!,'Points Lookup'!$A:$B,2,FALSE)","v":{"$error":"#REF!"}},{"$f":"VLOOKUP(#REF!,'Points Lookup'!$A:$B,2,FALSE)","v":{"$error":"#REF!"}},{"$f":"VLOOKUP(#REF!,'Points Lookup'!$A:$B,2,FALSE)","v":{"$error":"#REF!"}},{"$f":"VLOOKUP(#REF!,'Points Lookup'!$A:$B,2,FALSE)","v":{"$error":"#REF!"}},{"$f":"VLOOKUP(#REF!,'Points Lookup'!$A:$B,2,FALSE)","v":{"$error":"#REF!"}},{"$f":"VLOOKUP(#REF!,'Points Lookup'!$A:$B,2,FALSE)","v":{"$error":"#REF!"}},{"$f":"VLOOKUP(#REF!,'Points Lookup'!$A:$B,2,FALSE)","v":{"$error":"#REF!"}},{"$f":"VLOOKUP(#REF!,'Points Lookup'!$A:$B,2,FALSE)","v":{"$error":"#REF!"}},{"$f":"VLOOKUP(#REF!,'Points Lookup'!$A:$B,2,FALSE)","v":{"$error":"#REF!"}},{"$f":"VLOOKUP(#REF!,'Points Lookup'!$A:$B,2,FALSE)","v":{"$error":"#REF!"}},{"$f":"VLOOKUP(#REF!,'Points Lookup'!$A:$B,2,FALSE)","v":{"$error":"#REF!"}},{"$f":"VLOOKUP(#REF!,'Points Lookup'!$A:$B,2,FALSE)","v":{"$error":"#REF!"}},{"$f":"VLOOKUP(#REF!,'Points Lookup'!$A:$B,2,FALSE)","v":{"$error":"#REF!"}},{"$f":"VLOOKUP(#REF!,'Points Lookup'!$A:$B,2,FALSE)","v":{"$error":"#REF!"}},{"$f":"VLOOKUP(#REF!,'Points Lookup'!$A:$B,2,FALSE)","v":{"$error":"#REF!"}},{"$f":"VLOOKUP(#REF!,'Points Lookup'!$A:$B,2,FALSE)","v":{"$error":"#REF!"}},{"$f":"VLOOKUP(#REF!,'Points Lookup'!$A:$B,2,FALSE)","v":{"$error":"#REF!"}},{"$f":"VLOOKUP(#REF!,'Points Lookup'!$A:$B,2,FALSE)","v":{"$error":"#REF!"}},{"$f":"VLOOKUP(#REF!,'Points Lookup'!$A:$B,2,FALSE)","v":{"$error":"#REF!"}},{"$f":"VLOOKUP(#REF!,'Points Lookup'!$A:$B,2,FALSE)","v":{"$error":"#REF!"}},null,{"$error":"#REF!"},{"$error":"#REF!"},{"$error":"#REF!"},{"$error":"#REF!"},{"$error":"#REF!"},{"$error":"#REF!"},{"$error":"#REF!"},{"$error":"#REF!"}]
[{"$error":"#REF!"},{"$f":"#REF!","v":{"$error":"#REF!"}},{"$f":"IF(ISBLANK(#REF!),\"\",#REF!)","v":{"$error":"#REF!"}},{"$error":"#REF!"},{"$f":"VLOOKUP(#REF!,'Points Lookup'!$A:$B,2,FALSE)","v":{"$error":"#REF!"}},{"$f":"VLOOKUP(#REF!,'Points Lookup'!$A:$B,2,FALSE)","v":{"$error":"#REF!"}},{"$f":"VLOOKUP(#REF!,'Points Lookup'!$A:$B,2,FALSE)","v":{"$error":"#REF!"}},{"$f":"VLOOKUP(#REF!,'Points Lookup'!$A:$B,2,FALSE)","v":{"$error":"#REF!"}},{"$f":"VLOOKUP(#REF!,'Points Lookup'!$A:$B,2,FALSE)","v":{"$error":"#REF!"}},{"$f":"VLOOKUP(#REF!,'Points Lookup'!$A:$B,2,FALSE)","v":{"$error":"#REF!"}},{"$f":"VLOOKUP(#REF!,'Points Lookup'!$A:$B,2,FALSE)","v":{"$error":"#REF!"}},{"$f":"VLOOKUP(#REF!,'Points Lookup'!$A:$B,2,FALSE)","v":{"$error":"#REF!"}},{"$f":"VLOOKUP(#REF!,'Points Lookup'!$A:$B,2,FALSE)","v":{"$error":"#REF!"}},{"$f":"VLOOKUP(#REF!,'Points Lookup'!$A:$B,2,FALSE)","v":{"$error":"#REF!"}},{"$f":"VLOOKUP(#REF!,'Points Lookup'!$A:$B,2,FALSE)","v":{"$error":"#REF!"}},{"$f":"VLOOKUP(#REF!,'Points Lookup'!$A:$B,2,FALSE)","v":{"$error":"#REF!"}},{"$f":"VLOOKUP(#REF!,'Points Lookup'!$A:$B,2,FALSE)","v":{"$error":"#REF!"}},{"$f":"VLOOKUP(#REF!,'Points Lookup'!$A:$B,2,FALSE)","v":{"$error":"#REF!"}},{"$f":"VLOOKUP(#REF!,'Points Lookup'!$A:$B,2,FALSE)","v":{"$error":"#REF!"}},{"$f":"VLOOKUP(#REF!,'Points Lookup'!$A:$B,2,FALSE)","v":{"$error":"#REF!"}},{"$f":"VLOOKUP(#REF!,'Points Lookup'!$A:$B,2,FALSE)","v":{"$error":"#REF!"}},{"$f":"VLOOKUP(#REF!,'Points Lookup'!$A:$B,2,FALSE)","v":{"$error":"#REF!"}},{"$f":"VLOOKUP(#REF!,'Points Lookup'!$A:$B,2,FALSE)","v":{"$error":"#REF!"}},{"$f":"VLOOKUP(#REF!,'Points Lookup'!$A:$B,2,FALSE)","v":{"$error":"#REF!"}},null,{"$error":"#REF!"},{"$error":"#REF!"},{"$error":"#REF!"},{"$error":"#REF!"},{"$error":"#REF!"},{"$error":"#REF!"},{"$error":"#REF!"},{"$error":"#REF!"}]
[{"$error":"#REF!"},{"$f":"#REF!","v":{"$error":"#REF!"}},{"$f":"IF(ISBLANK(#REF!),\"\",#REF!)","v":{"$error":"#REF!"}},{"$error":"#REF!"},{"$f":"VLOOKUP(#REF!,'Points Lookup'!$A:$B,2,FALSE)","v":{"$error":"#REF!"}},{"$f":"VLOOKUP(#REF!,'Points Lookup'!$A:$B,2,FALSE)","v":{"$error":"#REF!"}},{"$f":"VLOOKUP(#REF!,'Points Lookup'!$A:$B,2,FALSE)","v":{"$error":"#REF!"}},{"$f":"VLOOKUP(#REF!,'Points Lookup'!$A:$B,2,FALSE)","v":{"$error":"#REF!"}},{"$f":"VLOOKUP(#REF!,'Points Lookup'!$A:$B,2,FALSE)","v":{"$error":"#REF!"}},{"$f":"VLOOKUP(#REF!,'Points Lookup'!$A:$B,2,FALSE)","v":{"$error":"#REF!"}},{"$f":"VLOOKUP(#REF!,'Points Lookup'!$A:$B,2,FALSE)","v":{"$error":"#REF!"}},{"$f":"VLOOKUP(#REF!,'Points Lookup'!$A:$B,2,FALSE)","v":{"$error":"#REF!"}},{"$f":"VLOOKUP(#REF!,'Points Lookup'!$A:$B,2,FALSE)","v":{"$error":"#REF!"}},{"$f":"VLOOKUP(#REF!,'Points Lookup'!$A:$B,2,FALSE)","v":{"$error":"#REF!"}},{"$f":"VLOOKUP(#REF!,'Points Lookup'!$A:$B,2,FALSE)","v":{"$error":"#REF!"}},{"$f":"VLOOKUP(#REF!,'Points Lookup'!$A:$B,2,FALSE)","v":{"$error":"#REF!"}},{"$f":"VLOOKUP(#REF!,'Points Lookup'!$A:$B,2,FALSE)","v":{"$error":"#REF!"}},{"$f":"VLOOKUP(#REF!,'Points Lookup'!$A:$B,2,FALSE)","v":{"$error":"#REF!"}},{"$f":"VLOOKUP(#REF!,'Points Lookup'!$A:$B,2,FALSE)","v":{"$error":"#REF!"}},{"$f":"VLOOKUP(#REF!,'Points Lookup'!$A:$B,2,FALSE)","v":{"$error":"#REF!"}},{"$f":"VLOOKUP(#REF!,'Points Lookup'!$A:$B,2,FALSE)","v":{"$error":"#REF!"}},{"$f":"VLOOKUP(#REF!,'Points Lookup'!$A:$B,2,FALSE)","v":{"$error":"#REF!"}},{"$f":"VLOOKUP(#REF!,'Points Lookup'!$A:$B,2,FALSE)","v":{"$error":"#REF!"}},{"$f":"VLOOKUP(#REF!,'Points Lookup'!$A:$B,2,FALSE)","v":{"$error":"#REF!"}},null,{"$error":"#REF!"},{"$error":"#REF!"},{"$error":"#REF!"},{"$error":"#REF!"},{"$error":"#REF!"},{"$error":"#REF!"},{"$error":"#REF!"},{"$error":"#REF!"}]
[{"$error":"#REF!"},{"$f":"#REF!","v":{"$error":"#REF!"}},{"$f":"IF(ISBLANK(#REF!),\"\",#REF!)","v":{"$error":"#REF!"}},{"$error":"#REF!"},{"$f":"VLOOKUP(#REF!,'Points Lookup'!$A:$B,2,FALSE)","v":{"$error":"#REF!"}},{"$f":"VLOOKUP(#REF!,'Points Lookup'!$A:$B,2,FALSE)","v":{"$error":"#REF!"}},{"$f":"VLOOKUP(#REF!,'Points Lookup'!$A:$B,2,FALSE)","v":{"$error":"#REF!"}},{"$f":"VLOOKUP(#REF!,'Points Lookup'!$A:$B,2,FALSE)","v":{"$error":"#REF!"}},{"$f":"VLOOKUP(#REF!,'Points Lookup'!$A:$B,2,FALSE)","v":{"$error":"#REF!"}},{"$f":"VLOOKUP(#REF!,'Points Lookup'!$A:$B,2,FALSE)","v":{"$error":"#REF!"}},{"$f":"VLOOKUP(#REF!,'Points Lookup'!$A:$B,2,FALSE)","v":{"$error":"#REF!"}},{"$f":"VLOOKUP(#REF!,'Points Lookup'!$A:$B,2,FALSE)","v":{"$error":"#REF!"}},{"$f":"VLOOKUP(#REF!,'Points Lookup'!$A:$B,2,FALSE)","v":{"$error":"#REF!"}},{"$f":"VLOOKUP(#REF!,'Points Lookup'!$A:$B,2,FALSE)","v":{"$error":"#REF!"}},{"$f":"VLOOKUP(#REF!,'Points Lookup'!$A:$B,2,FALSE)","v":{"$error":"#REF!"}},{"$f":"VLOOKUP(#REF!,'Points Lookup'!$A:$B,2,FALSE)","v":{"$error":"#REF!"}},{"$f":"VLOOKUP(#REF!,'Points Lookup'!$A:$B,2,FALSE)","v":{"$error":"#REF!"}},{"$f":"VLOOKUP(#REF!,'Points Lookup'!$A:$B,2,FALSE)","v":{"$error":"#REF!"}},{"$f":"VLOOKUP(#REF!,'Points Lookup'!$A:$B,2,FALSE)","v":{"$error":"#REF!"}},{"$f":"VLOOKUP(#REF!,'Points Lookup'!$A:$B,2,FALSE)","v":{"$error":"#REF!"}},{"$f":"VLOOKUP(#REF!,'Points Lookup'!$A:$B,2,FALSE)","v":{"$error":"#REF!"}},{"$f":"VLOOKUP(#REF!,'Points Lookup'!$A:$B,2,FALSE)","v":{"$error":"#REF!"}},{"$f":"VLOOKUP(#REF!,'Points Lookup'!$A:$B,2,FALSE)","v":{"$error":"#REF!"}},{"$f":"VLOOKUP(#REF!,'Points Lookup'!$A:$B,2,FALSE)","v":{"$error":"#REF!"}},null,{"$error":"#REF!"},{"$error":"#REF!"},{"$error":"#REF!"},{"$error":"#REF!"},{"$error":"#REF!"},{"$error":"#REF!"},{"$error":"#REF!"},{"$error":"#REF!"}]
[{"$error":"#REF!"},{"$f":"#REF!","v":{"$error":"#REF!"}},{"$f":"IF(ISBLANK(#REF!),\"\",#REF!)","v":{"$error":"#REF!"}},{"$error":"#REF!"},{"$f":"VLOOKUP(#REF!,'Points Lookup'!$A:$B,2,FALSE)","v":{"$error":"#REF!"}},{"$f":"VLOOKUP(#REF!,'Points Lookup'!$A:$B,2,FALSE)","v":{"$error":"#REF!"}},{"$f":"VLOOKUP(#REF!,'Points Lookup'!$A:$B,2,FALSE)","v":{"$error":"#REF!"}},{"$f":"VLOOKUP(#REF!,'Points Lookup'!$A:$B,2,FALSE)","v":{"$error":"#REF!"}},{"$f":"VLOOKUP(#REF!,'Points Lookup'!$A:$B,2,FALSE)","v":{"$error":"#REF!"}},{"$f":"VLOOKUP(#REF!,'Points Lookup'!$A:$B,2,FALSE)","v":{"$error":"#REF!"}},{"$f":"VLOOKUP(#REF!,'Points Lookup'!$A:$B,2,FALSE)","v":{"$error":"#REF!"}},{"$f":"VLOOKUP(#REF!,'Points Lookup'!$A:$B,2,FALSE)","v":{"$error":"#REF!"}},{"$f":"VLOOKUP(#REF!,'Points Lookup'!$A:$B,2,FALSE)","v":{"$error":"#REF!"}},{"$f":"VLOOKUP(#REF!,'Points Lookup'!$A:$B,2,FALSE)","v":{"$error":"#REF!"}},{"$f":"VLOOKUP(#REF!,'Points Lookup'!$A:$B,2,FALSE)","v":{"$error":"#REF!"}},{"$f":"VLOOKUP(#REF!,'Points Lookup'!$A:$B,2,FALSE)","v":{"$error":"#REF!"}},{"$f":"VLOOKUP(#REF!,'Points Lookup'!$A:$B,2,FALSE)","v":{"$error":"#REF!"}},{"$f":"VLOOKUP(#REF!,'Points Lookup'!$A:$B,2,FALSE)","v":{"$error":"#REF!"}},{"$f":"VLOOKUP(#REF!,'Points Lookup'!$A:$B,2,FALSE)","v":{"$error":"#REF!"}},{"$f":"VLOOKUP(#REF!,'Points Lookup'!$A:$B,2,FALSE)","v":{"$error":"#REF!"}},{"$f":"VLOOKUP(#REF!,'Points Lookup'!$A:$B,2,FALSE)","v":{"$error":"#REF!"}},{"$f":"VLOOKUP(#REF!,'Points Lookup'!$A:$B,2,FALSE)","v":{"$error":"#REF!"}},{"$f":"VLOOKUP(#REF!,'Points Lookup'!$A:$B,2,FALSE)","v":{"$error":"#REF!"}},{"$f":"VLOOKUP(#REF!,'Points Lookup'!$A:$B,2,FALSE)","v":{"$error":"#REF!"}},null,{"$f":"LARGE($E12:$X12,Z$1)","v":{"$error":"#REF!"}},{"$error":"#REF!"},{"$error":"#REF!"},{"$error":"#REF!"},{"$error":"#REF!"},{"$error":"#REF!"},{"$error":"#REF!"},{"$error":"#REF!"}]
[{"$error":"#REF!"},{"$f":"#REF!","v":{"$error":"#REF!"}},{"$f":"IF(ISBLANK(#REF!),\"\",#REF!)","v":{"$error":"#REF!"}},{"$error":"#REF!"},{"$f":"VLOOKUP(#REF!,'Points Lookup'!$A:$B,2,FALSE)","v":{"$error":"#REF!"}},{"$f":"VLOOKUP(#REF!,'Points Lookup'!$A:$B,2,FALSE)","v":{"$error":"#REF!"}},{"$f":"VLOOKUP(#REF!,'Points Lookup'!$A:$B,2,FALSE)","v":{"$error":"#REF!"}},{"$f":"VLOOKUP(#REF!,'Points Lookup'!$A:$B,2,FALSE)","v":{"$error":"#REF!"}},{"$f":"VLOOKUP(#REF!,'Points Lookup'!$A:$B,2,FALSE)","v":{"$error":"#REF!"}},{"$f":"VLOOKUP(#REF!,'Points Lookup'!$A:$B,2,FALSE)","v":{"$error":"#REF!"}},{"$f":"VLOOKUP(#REF!,'Points Lookup'!$A:$B,2,FALSE)","v":{"$error":"#REF!"}},{"$f":"VLOOKUP(#REF!,'Points Lookup'!$A:$B,2,FALSE)","v":{"$error":"#REF!"}},{"$f":"VLOOKUP(#REF!,'Points Lookup'!$A:$B,2,FALSE)","v":{"$error":"#REF!"}},{"$f":"VLOOKUP(#REF!,'Points Lookup'!$A:$B,2,FALSE)","v":{"$error":"#REF!"}},{"$f":"VLOOKUP(#REF!,'Points Lookup'!$A:$B,2,FALSE)","v":{"$error":"#REF!"}},{"$f":"VLOOKUP(#REF!,'Points Lookup'!$A:$B,2,FALSE)","v":{"$error":"#REF!"}},{"$f":"VLOOKUP(#REF!,'Points Lookup'!$A:$B,2,FALSE)","v":{"$error":"#REF!"}},{"$f":"VLOOKUP(#REF!,'Points Lookup'!$A:$B,2,FALSE)","v":{"$error":"#REF!"}},{"$f":"VLOOKUP(#REF!,'Points Lookup'!$A:$B,2,FALSE)","v":{"$error":"#REF!"}},{"$f":"VLOOKUP(#REF!,'Points Lookup'!$A:$B,2,FALSE)","v":{"$error":"#REF!"}},{"$f":"VLOOKUP(#REF!,'Points Lookup'!$A:$B,2,FALSE)","v":{"$error":"#REF!"}},{"$f":"VLOOKUP(#REF!,'Points Lookup'!$A:$B,2,FALSE)","v":{"$error":"#REF!"}},{"$f":"VLOOKUP(#REF!,'Points Lookup'!$A:$B,2,FALSE)","v":{"$error":"#REF!"}},{"$f":"VLOOKUP(#REF!,'Points Lookup'!$A:$B,2,FALSE)","v":{"$error":"#REF!"}},null,{"$error":"#REF!"},{"$error":"#REF!"},{"$error":"#REF!"},{"$error":"#REF!"},{"$error":"#REF!"},{"$error":"#REF!"},{"$error":"#REF!"},{"$error":"#REF!"}]
[{"$error":"#REF!"},{"$f":"#REF!","v":{"$error":"#REF!"}},{"$f":"IF(ISBLANK(#REF!),\"\",#REF!)","v":{"$error":"#REF!"}},{"$error":"#REF!"},{"$f":"VLOOKUP(#REF!,'Points Lookup'!$A:$B,2,FALSE)","v":{"$error":"#REF!"}},{"$f":"VLOOKUP(#REF!,'Points Lookup'!$A:$B,2,FALSE)","v":{"$error":"#REF!"}},{"$f":"VLOOKUP(#REF!,'Points Lookup'!$A:$B,2,FALSE)","v":{"$error":"#REF!"}},{"$f":"VLOOKUP(#REF!,'Points Lookup'!$A:$B,2,FALSE)","v":{"$error":"#REF!"}},{"$f":"VLOOKUP(#REF!,'Points Lookup'!$A:$B,2,FALSE)","v":{"$error":"#REF!"}},{"$f":"VLOOKUP(#REF!,'Points Lookup'!$A:$B,2,FALSE)","v":{"$error":"#REF!"}},{"$f":"VLOOKUP(#REF!,'Points Lookup'!$A:$B,2,FALSE)","v":{"$error":"#REF!"}},{"$f":"VLOOKUP(#REF!,'Points Lookup'!$A:$B,2,FALSE)","v":{"$error":"#REF!"}},{"$f":"VLOOKUP(#REF!,'Points Lookup'!$A:$B,2,FALSE)","v":{"$error":"#REF!"}},{"$f":"VLOOKUP(#REF!,'Points Lookup'!$A:$B,2,FALSE)","v":{"$error":"#REF!"}},{"$f":"VLOOKUP(#REF!,'Points Lookup'!$A:$B,2,FALSE)","v":{"$error":"#REF!"}},{"$f":"VLOOKUP(#REF!,'Points Lookup'!$A:$B,2,FALSE)","v":{"$error":"#REF!"}},{"$f":"VLOOKUP(#REF!,'Points Lookup'!$A:$B,2,FALSE)","v":{"$error":"#REF!"}},{"$f":"VLOOKUP(#REF!,'Points Lookup'!$A:$B,2,FALSE)","v":{"$error":"#REF!"}},{"$f":"VLOOKUP(#REF!,'Points Lookup'!$A:$B,2,FALSE)","v":{"$error":"#REF!"}},{"$f":"VLOOKUP(#REF!,'Points Lookup'!$A:$B,2,FALSE)","v":{"$error":"#REF!"}},{"$f":"VLOOKUP(#REF!,'Points Lookup'!$A:$B,2,FALSE)","v":{"$error":"#REF!"}},{"$f":"VLOOKUP(#REF!,'Points Lookup'!$A:$B,2,FALSE)","v":{"$error":"#REF!"}},{"$f":"VLOOKUP(#REF!,'Points Lookup'!$A:$B,2,FALSE)","v":{"$error":"#REF!"}},{"$f":"VLOOKUP(#REF!,'Points Lookup'!$A:$B,2,FALSE)","v":{"$error":"#REF!"}},null,{"$error":"#REF!"},{"$error":"#REF!"},{"$error":"#REF!"},{"$error":"#REF!"},{"$error":"#REF!"},{"$error":"#REF!"},{"$error":"#REF!"},{"$error":"#REF!"}]
[{"$error":"#REF!"},{"$f":"#REF!","v":{"$error":"#REF!"}},{"$f":"IF(ISBLANK(#REF!),\"\",#REF!)","v":{"$error":"#REF!"}},{"$error":"#REF!"},{"$f":"VLOOKUP(#REF!,'Points Lookup'!$A:$B,2,FALSE)","v":{"$error":"#REF!"}},{"$f":"VLOOKUP(#REF!,'Points Lookup'!$A:$B,2,FALSE)","v":{"$error":"#REF!"}},{"$f":"VLOOKUP(#REF!,'Points Lookup'!$A:$B,2,FALSE)","v":{"$error":"#REF!"}},{"$f":"VLOOKUP(#REF!,'Points Lookup'!$A:$B,2,FALSE)","v":{"$error":"#REF!"}},{"$f":"VLOOKUP(#REF!,'Points Lookup'!$A:$B,2,FALSE)","v":{"$error":"#REF!"}},{"$f":"VLOOKUP(#REF!,'Points Lookup'!$A:$B,2,FALSE)","v":{"$error":"#REF!"}},{"$f":"VLOOKUP(#REF!,'Points Lookup'!$A:$B,2,FALSE)","v":{"$error":"#REF!"}},{"$f":"VLOOKUP(#REF!,'Points Lookup'!$A:$B,2,FALSE)","v":{"$error":"#REF!"}},{"$f":"VLOOKUP(#REF!,'Points Lookup'!$A:$B,2,FALSE)","v":{"$error":"#REF!"}},{"$f":"VLOOKUP(#REF!,'Points Lookup'!$A:$B,2,FALSE)","v":{"$error":"#REF!"}},{"$f":"VLOOKUP(#REF!,'Points Lookup'!$A:$B,2,FALSE)","v":{"$error":"#REF!"}},{"$f":"VLOOKUP(#REF!,'Points Lookup'!$A:$B,2,FALSE)","v":{"$error":"#REF!"}},{"$f":"VLOOKUP(#REF!,'Points Lookup'!$A:$B,2,FALSE)","v":{"$error":"#REF!"}},{"$f":"VLOOKUP(#REF!,'Points Lookup'!$A:$B,2,FALSE)","v":{"$error":"#REF!"}},{"$f":"VLOOKUP(#REF!,'Points Lookup'!$A:$B,2,FALSE)","v":{"$error":"#REF!"}},{"$f":"VLOOKUP(#REF!,'Points Lookup'!$A:$B,2,FALSE)","v":{"$error":"#REF!"}},{"$f":"VLOOKUP(#REF!,'Points Lookup'!$A:$B,2,FALSE)","v":{"$error":"#REF!"}},{"$f":"VLOOKUP(#REF!,'Points Lookup'!$A:$B,2,FALSE)","v":{"$error":"#REF!"}},{"$f":"VLOOKUP(#REF!,'Points Lookup'!$A:$B,2,FALSE)","v":{"$error":"#REF!"}},{"$f":"VLOOKUP(#REF!,'Points Lookup'!$A:$B,2,FALSE)","v":{"$error":"#REF!"}},null,{"$error":"#REF!"},{"$error":"#REF!"},{"$error":"#REF!"},{"$error":"#REF!"},{"$error":"#REF!"},{"$error":"#REF!"},{"$error":"#REF!"},{"$error":"#REF!"}]
[{"$error":"#REF!"},{"$f":"#REF!","v":{"$error":"#REF!"}},{"$f":"IF(ISBLANK(#REF!),\"\",#REF!)","v":{"$error":"#REF!"}},{"$error":"#REF!"},{"$f":"VLOOKUP(#REF!,'Points Lookup'!$A:$B,2,FALSE)","v":{"$error":"#REF!"}},{"$f":"VLOOKUP(#REF!,'Points Lookup'!$A:$B,2,FALSE)","v":{"$error":"#REF!"}},{"$f":"VLOOKUP(#REF!,'Points Lookup'!$A:$B,2,FALSE)","v":{"$error":"#REF!"}},{"$f":"VLOOKUP(#REF!,'Points Lookup'!$A:$B,2,FALSE)","v":{"$error":"#REF!"}},{"$f":"VLOOKUP(#REF!,'Points Lookup'!$A:$B,2,FALSE)","v":{"$error":"#REF!"}},{"$f":"VLOOKUP(#REF!,'Points Lookup'!$A:$B,2,FALSE)","v":{"$error":"#REF!"}},{"$f":"VLOOKUP(#REF!,'Points Lookup'!$A:$B,2,FALSE)","v":{"$error":"#REF!"}},{"$f":"VLOOKUP(#REF!,'Points Lookup'!$A:$B,2,FALSE)","v":{"$error":"#REF!"}},{"$f":"VLOOKUP(#REF!,'Points Lookup'!$A:$B,2,FALSE)","v":{"$error":"#REF!"}},{"$f":"VLOOKUP(#REF!,'Points Lookup'!$A:$B,2,FALSE)","v":{"$error":"#REF!"}},{"$f":"VLOOKUP(#REF!,'Points Lookup'!$A:$B,2,FALSE)","v":{"$error":"#REF!"}},{"$f":"VLOOKUP(#REF!,'Points Lookup'!$A:$B,2,FALSE)","v":{"$error":"#REF!"}},{"$f":"VLOOKUP(#REF!,'Points Lookup'!$A:$B,2,FALSE)","v":{"$error":"#REF!"}},{"$f":"VLOOKUP(#REF!,'Points Lookup'!$A:$B,2,FALSE)","v":{"$error":"#REF!"}},{"$f":"VLOOKUP(#REF!,'Points Lookup'!$A:$B,2,FALSE)","v":{"$error":"#REF!"}},{"$f":"VLOOKUP(#REF!,'Points Lookup'!$A:$B,2,FALSE)","v":{"$error":"#REF!"}},{"$f":"VLOOKUP(#REF!,'Points Lookup'!$A:$B,2,FALSE)","v":{"$error":"#REF!"}},{"$f":"VLOOKUP(#REF!,'Points Lookup'!$A:$B,2,FALSE)","v":{"$error":"#REF!"}},{"$f":"VLOOKUP(#REF!,'Points Lookup'!$A:$B,2,FALSE)","v":{"$error":"#REF!"}},{"$f":"VLOOKUP(#REF!,'Points Lookup'!$A:$B,2,FALSE)","v":{"$error":"#REF!"}},null,{"$error":"#REF!"},{"$error":"#REF!"},{"$error":"#REF!"},{"$error":"#REF!"},{"$error":"#REF!"},{"$error":"#REF!"},{"$error":"#REF!"},{"$error":"#REF!"}]
[{"$error":"#REF!"},{"$f":"#REF!","v":{"$error":"#REF!"}},{"$f":"IF(ISBLANK(#REF!),\"\",#REF!)","v":{"$error":"#REF!"}},{"$error":"#REF!"},{"$f":"VLOOKUP(#REF!,'Points Lookup'!$A:$B,2,FALSE)","v":{"$error":"#REF!"}},{"$f":"VLOOKUP(#REF!,'Points Lookup'!$A:$B,2,FALSE)","v":{"$error":"#REF!"}},{"$f":"VLOOKUP(#REF!,'Points Lookup'!$A:$B,2,FALSE)","v":{"$error":"#REF!"}},{"$f":"VLOOKUP(#REF!,'Points Lookup'!$A:$B,2,FALSE)","v":{"$error":"#REF!"}},{"$f":"VLOOKUP(#REF!,'Points Lookup'!$A:$B,2,FALSE)","v":{"$error":"#REF!"}},{"$f":"VLOOKUP(#REF!,'Points Lookup'!$A:$B,2,FALSE)","v":{"$error":"#REF!"}},{"$f":"VLOOKUP(#REF!,'Points Lookup'!$A:$B,2,FALSE)","v":{"$error":"#REF!"}},{"$f":"VLOOKUP(#REF!,'Points Lookup'!$A:$B,2,FALSE)","v":{"$error":"#REF!"}},{"$f":"VLOOKUP(#REF!,'Points Lookup'!$A:$B,2,FALSE)","v":{"$error":"#REF!"}},{"$f":"VLOOKUP(#REF!,'Points Lookup'!$A:$B,2,FALSE)","v":{"$error":"#REF!"}},{"$f":"VLOOKUP(#REF!,'Points Lookup'!$A:$B,2,FALSE)","v":{"$error":"#REF!"}},{"$f":"VLOOKUP(#REF!,'Points Lookup'!$A:$B,2,FALSE)","v":{"$error":"#REF!"}},{"$f":"VLOOKUP(#REF!,'Points Lookup'!$A:$B,2,FALSE)","v":{"$error":"#REF!"}},{"$f":"VLOOKUP(#REF!,'Points Lookup'!$A:$B,2,FALSE)","v":{"$error":"#REF!"}},{"$f":"VLOOKUP(#REF!,'Points Lookup'!$A:$B,2,FALSE)","v":{"$error":"#REF!"}},{"$f":"VLOOKUP(#REF!,'Points Lookup'!$A:$B,2,FALSE)","v":{"$error":"#REF!"}},{"$f":"VLOOKUP(#REF!,'Points Lookup'!$A:$B,2,FALSE)","v":{"$error":"#REF!"}},{"$f":"VLOOKUP(#REF!,'Points Lookup'!$A:$B,2,FALSE)","v":{"$error":"#REF!"}},{"$f":"VLOOKUP(#REF!,'Points Lookup'!$A:$B,2,FALSE)","v":{"$error":"#REF!"}},{"$f":"VLOOKUP(#REF!,'Points Lookup'!$A:$B,2,FALSE)","v":{"$error":"#REF!"}},null,{"$error":"#REF!"},{"$error":"#REF!"},{"$error":"#REF!"},{"$error":"#REF!"},{"$error":"#REF!"},{"$error":"#REF!"},{"$error":"#REF!"},{"$error":"#REF!"}]
[{"$error":"#REF!"},{"$f":"#REF!","v":{"$error":"#REF!"}},{"$f":"IF(ISBLANK(#REF!),\"\",#REF!)","v":{"$error":"#REF!"}},{"$error":"#REF!"},{"$f":"VLOOKUP(#REF!,'Points Lookup'!$A:$B,2,FALSE)","v":{"$error":"#REF!"}},{"$f":"VLOOKUP(#REF!,'Points Lookup'!$A:$B,2,FALSE)","v":{"$error":"#REF!"}},{"$f":"VLOOKUP(#REF!,'Points Lookup'!$A:$B,2,FALSE)","v":{"$error":"#REF!"}},{"$f":"VLOOKUP(#REF!,'Points Lookup'!$A:$B,2,FALSE)","v":{"$error":"#REF!"}},{"$f":"VLOOKUP(#REF!,'Points Lookup'!$A:$B,2,FALSE)","v":{"$error":"#REF!"}},{"$f":"VLOOKUP(#REF!,'Points Lookup'!$A:$B,2,FALSE)","v":{"$error":"#REF!"}},{"$f":"VLOOKUP(#REF!,'Points Lookup'!$A:$B,2,FALSE)","v":{"$error":"#REF!"}},{"$f":"VLOOKUP(#REF!,'Points Lookup'!$A:$B,2,FALSE)","v":{"$error":"#REF!"}},{"$f":"VLOOKUP(#REF!,'Points Lookup'!$A:$B,2,FALSE)","v":{"$error":"#REF!"}},{"$f":"VLOOKUP(#REF!,'Points Lookup'!$A:$B,2,FALSE)","v":{"$error":"#REF!"}},{"$f":"VLOOKUP(#REF!,'Points Lookup'!$A:$B,2,FALSE)","v":{"$error":"#REF!"}},{"$f":"VLOOKUP(#REF!,'Points Lookup'!$A:$B,2,FALSE)","v":{"$error":"#REF!"}},{"$f":"VLOOKUP(#REF!,'Points Lookup'!$A:$B,2,FALSE)","v":{"$error":"#REF!"}},{"$f":"VLOOKUP(#REF!,'Points Lookup'!$A:$B,2,FALSE)","v":{"$error":"#REF!"}},{"$f":"VLOOKUP(#REF!,'Points Lookup'!$A:$B,2,FALSE)","v":{"$error":"#REF!"}},{"$f":"VLOOKUP(#REF!,'Points Lookup'!$A:$B,2,FALSE)","v":{"$error":"#REF!"}},{"$f":"VLOOKUP(#REF!,'Points Lookup'!$A:$B,2,FALSE)","v":{"$error":"#REF!"}},{"$f":"VLOOKUP(#REF!,'Points Lookup'!$A:$B,2,FALSE)","v":{"$error":"#REF!"}},{"$f":"VLOOKUP(#REF!,'Points Lookup'!$A:$B,2,FALSE)","v":{"$error":"#REF!"}},{"$f":"VLOOKUP(#REF!,'Points Lookup'!$A:$B,2,FALSE)","v":{"$error":"#REF!"}},null,{"$error":"#REF!"},{"$error":"#REF!"},{"$error":"#REF!"},{"$error":"#REF!"},{"$error":"#REF!"},{"$error":"#REF!"},{"$error":"#REF!"},{"$error":"#REF!"}]
[{"$error":"#REF!"},{"$f":"#REF!","v":{"$error":"#REF!"}},{"$f":"IF(ISBLANK(#REF!),\"\",#REF!)","v":{"$error":"#REF!"}},{"$error":"#REF!"},{"$f":"VLOOKUP(#REF!,'Points Lookup'!$A:$B,2,FALSE)","v":{"$error":"#REF!"}},{"$f":"VLOOKUP(#REF!,'Points Lookup'!$A:$B,2,FALSE)","v":{"$error":"#REF!"}},{"$f":"VLOOKUP(#REF!,'Points Lookup'!$A:$B,2,FALSE)","v":{"$error":"#REF!"}},{"$f":"VLOOKUP(#REF!,'Points Lookup'!$A:$B,2,FALSE)","v":{"$error":"#REF!"}},{"$f":"VLOOKUP(#REF!,'Points Lookup'!$A:$B,2,FALSE)","v":{"$error":"#REF!"}},{"$f":"VLOOKUP(#REF!,'Points Lookup'!$A:$B,2,FALSE)","v":{"$error":"#REF!"}},{"$f":"VLOOKUP(#REF!,'Points Lookup'!$A:$B,2,FALSE)","v":{"$error":"#REF!"}},{"$f":"VLOOKUP(#REF!,'Points Lookup'!$A:$B,2,FALSE)","v":{"$error":"#REF!"}},{"$f":"VLOOKUP(#REF!,'Points Lookup'!$A:$B,2,FALSE)","v":{"$error":"#REF!"}},{"$f":"VLOOKUP(#REF!,'Points Lookup'!$A:$B,2,FALSE)","v":{"$error":"#REF!"}},{"$f":"VLOOKUP(#REF!,'Points Lookup'!$A:$B,2,FALSE)","v":{"$error":"#REF!"}},{"$f":"VLOOKUP(#REF!,'Points Lookup'!$A:$B,2,FALSE)","v":{"$error":"#REF!"}},{"$f":"VLOOKUP(#REF!,'Points Lookup'!$A:$B,2,FALSE)","v":{"$error":"#REF!"}},{"$f":"VLOOKUP(#REF!,'Points Lookup'!$A:$B,2,FALSE)","v":{"$error":"#REF!"}},{"$f":"VLOOKUP(#REF!,'Points Lookup'!$A:$B,2,FALSE)","v":{"$error":"#REF!"}},{"$f":"VLOOKUP(#REF!,'Points Lookup'!$A:$B,2,FALSE)","v":{"$error":"#REF!"}},{"$f":"VLOOKUP(#REF!,'Points Lookup'!$A:$B,2,FALSE)","v":{"$error":"#REF!"}},{"$f":"VLOOKUP(#REF!,'Points Lookup'!$A:$B,2,FALSE)","v":{"$error":"#REF!"}},{"$f":"VLOOKUP(#REF!,'Points Lookup'!$A:$B,2,FALSE)","v":{"$error":"#REF!"}},{"$f":"VLOOKUP(#REF!,'Points Lookup'!$A:$B,2,FALSE)","v":{"$error":"#REF!"}},null,{"$error":"#REF!"},{"$error":"#REF!"},{"$error":"#REF!"},{"$error":"#REF!"},{"$error":"#REF!"},{"$error":"#REF!"},{"$error":"#REF!"},{"$error":"#REF!"}]
[{"$error":"#REF!"},{"$f":"#REF!","v":{"$error":"#REF!"}},{"$f":"IF(ISBLANK(#REF!),\"\",#REF!)","v":{"$error":"#REF!"}},{"$error":"#REF!"},{"$f":"VLOOKUP(#REF!,'Points Lookup'!$A:$B,2,FALSE)","v":{"$error":"#REF!"}},{"$f":"VLOOKUP(#REF!,'Points Lookup'!$A:$B,2,FALSE)","v":{"$error":"#REF!"}},{"$f":"VLOOKUP(#REF!,'Points Lookup'!$A:$B,2,FALSE)","v":{"$error":"#REF!"}},{"$f":"VLOOKUP(#REF!,'Points Lookup'!$A:$B,2,FALSE)","v":{"$error":"#REF!"}},{"$f":"VLOOKUP(#REF!,'Points Lookup'!$A:$B,2,FALSE)","v":{"$error":"#REF!"}},{"$f":"VLOOKUP(#REF!,'Points Lookup'!$A:$B,2,FALSE)","v":{"$error":"#REF!"}},{"$f":"VLOOKUP(#REF!,'Points Lookup'!$A:$B,2,FALSE)","v":{"$error":"#REF!"}},{"$f":"VLOOKUP(#REF!,'Points Lookup'!$A:$B,2,FALSE)","v":{"$error":"#REF!"}},{"$f":"VLOOKUP(#REF!,'Points Lookup'!$A:$B,2,FALSE)","v":{"$error":"#REF!"}},{"$f":"VLOOKUP(#REF!,'Points Lookup'!$A:$B,2,FALSE)","v":{"$error":"#REF!"}},{"$f":"VLOOKUP(#REF!,'Points Lookup'!$A:$B,2,FALSE)","v":{"$error":"#REF!"}},{"$f":"VLOOKUP(#REF!,'Points Lookup'!$A:$B,2,FALSE)","v":{"$error":"#REF!"}},{"$f":"VLOOKUP(#REF!,'Points Lookup'!$A:$B,2,FALSE)","v":{"$error":"#REF!"}},{"$f":"VLOOKUP(#REF!,'Points Lookup'!$A:$B,2,FALSE)","v":{"$error":"#REF!"}},{"$f":"VLOOKUP(#REF!,'Points Lookup'!$A:$B,2,FALSE)","v":{"$error":"#REF!"}},{"$f":"VLOOKUP(#REF!,'Points Lookup'!$A:$B,2,FALSE)","v":{"$error":"#REF!"}},{"$f":"VLOOKUP(#REF!,'Points Lookup'!$A:$B,2,FALSE)","v":{"$error":"#REF!"}},{"$f":"VLOOKUP(#REF!,'Points Lookup'!$A:$B,2,FALSE)","v":{"$error":"#REF!"}},{"$f":"VLOOKUP(#REF!,'Points Lookup'!$A:$B,2,FALSE)","v":{"$error":"#REF!"}},{"$f":"VLOOKUP(#REF!,'Points Lookup'!$A:$B,2,FALSE)","v":{"$error":"#REF!"}},null,{"$error":"#REF!"},{"$error":"#REF!"},{"$error":"#REF!"},{"$error":"#REF!"},{"$error":"#REF!"},{"$error":"#REF!"},{"$error":"#REF!"},{"$error":"#REF!"}]
[{"$error":"#REF!"},{"$f":"#REF!","v":{"$error":"#REF!"}},{"$f":"IF(ISBLANK(#REF!),\"\",#REF!)","v":{"$error":"#REF!"}},{"$error":"#REF!"},{"$f":"VLOOKUP(#REF!,'Points Lookup'!$A:$B,2,FALSE)","v":{"$error":"#REF!"}},{"$f":"VLOOKUP(#REF!,'Points Lookup'!$A:$B,2,FALSE)","v":{"$error":"#REF!"}},{"$f":"VLOOKUP(#REF!,'Points Lookup'!$A:$B,2,FALSE)","v":{"$error":"#REF!"}},{"$f":"VLOOKUP(#REF!,'Points Lookup'!$A:$B,2,FALSE)","v":{"$error":"#REF!"}},{"$f":"VLOOKUP(#REF!,'Points Lookup'!$A:$B,2,FALSE)","v":{"$error":"#REF!"}},{"$f":"VLOOKUP(#REF!,'Points Lookup'!$A:$B,2,FALSE)","v":{"$error":"#REF!"}},{"$f":"VLOOKUP(#REF!,'Points Lookup'!$A:$B,2,FALSE)","v":{"$error":"#REF!"}},{"$f":"VLOOKUP(#REF!,'Points Lookup'!$A:$B,2,FALSE)","v":{"$error":"#REF!"}},{"$f":"VLOOKUP(#REF!,'Points Lookup'!$A:$B,2,FALSE)","v":{"$error":"#REF!"}},{"$f":"VLOOKUP(#REF!,'Points Lookup'!$A:$B,2,FALSE)","v":{"$error":"#REF!"}},{"$f":"VLOOKUP(#REF!,'Points Lookup'!$A:$B,2,FALSE)","v":{"$error":"#REF!"}},{"$f":"VLOOKUP(#REF!,'Points Lookup'!$A:$B,2,FALSE)","v":{"$error":"#REF!"}},{"$f":"VLOOKUP(#REF!,'Points Lookup'!$A:$B,2,FALSE)","v":{"$error":"#REF!"}},{"$f":"VLOOKUP(#REF!,'Points Lookup'!$A:$B,2,FALSE)","v":{"$error":"#REF!"}},{"$f":"VLOOKUP(#REF!,'Points Lookup'!$A:$B,2,FALSE)","v":{"$error":"#REF!"}},{"$f":"VLOOKUP(#REF!,'Points Lookup'!$A:$B,2,FALSE)","v":{"$error":"#REF!"}},{"$f":"VLOOKUP(#REF!,'Points Lookup'!$A:$B,2,FALSE)","v":{"$error":"#REF!"}},{"$f":"VLOOKUP(#REF!,'Points Lookup'!$A:$B,2,FALSE)","v":{"$error":"#REF!"}},{"$f":"VLOOKUP(#REF!,'Points Lookup'!$A:$B,2,FALSE)","v":{"$error":"#REF!"}},{"$f":"VLOOKUP(#REF!,'Points Lookup'!$A:$B,2,FALSE)","v":{"$error":"#REF!"}},null,{"$error":"#REF!"},{"$error":"#REF!"},{"$error":"#REF!"},{"$error":"#REF!"},{"$error":"#REF!"},{"$error":"#REF!"},{"$error":"#REF!"},{"$error":"#REF!"}]
[{"$error":"#REF!"},{"$f":"#REF!","v":{"$error":"#REF!"}},{"$f":"IF(ISBLANK(#REF!),\"\",#REF!)","v":{"$error":"#REF!"}},{"$error":"#REF!"},{"$f":"VLOOKUP(#REF!,'Points Lookup'!$A:$B,2,FALSE)","v":{"$error":"#REF!"}},{"$f":"VLOOKUP(#REF!,'Points Lookup'!$A:$B,2,FALSE)","v":{"$error":"#REF!"}},{"$f":"VLOOKUP(#REF!,'Points Lookup'!$A:$B,2,FALSE)","v":{"$error":"#REF!"}},{"$f":"VLOOKUP(#REF!,'Points Lookup'!$A:$B,2,FALSE)","v":{"$error":"#REF!"}},{"$f":"VLOOKUP(#REF!,'Points Lookup'!$A:$B,2,FALSE)","v":{"$error":"#REF!"}},{"$f":"VLOOKUP(#REF!,'Points Lookup'!$A:$B,2,FALSE)","v":{"$error":"#REF!"}},{"$f":"VLOOKUP(#REF!,'Points Lookup'!$A:$B,2,FALSE)","v":{"$error":"#REF!"}},{"$f":"VLOOKUP(#REF!,'Points Lookup'!$A:$B,2,FALSE)","v":{"$error":"#REF!"}},{"$f":"VLOOKUP(#REF!,'Points Lookup'!$A:$B,2,FALSE)","v":{"$error":"#REF!"}},{"$f":"VLOOKUP(#REF!,'Points Lookup'!$A:$B,2,FALSE)","v":{"$error":"#REF!"}},{"$f":"VLOOKUP(#REF!,'Points Lookup'!$A:$B,2,FALSE)","v":{"$error":"#REF!"}},{"$f":"VLOOKUP(#REF!,'Points Lookup'!$A:$B,2,FALSE)","v":{"$error":"#REF!"}},{"$f":"VLOOKUP(#REF!,'Points Lookup'!$A:$B,2,FALSE)","v":{"$error":"#REF!"}},{"$f":"VLOOKUP(#REF!,'Points Lookup'!$A:$B,2,FALSE)","v":{"$error":"#REF!"}},{"$f":"VLOOKUP(#REF!,'Points Lookup'!$A:$B,2,FALSE)","v":{"$error":"#REF!"}},{"$f":"VLOOKUP(#REF!,'Points Lookup'!$A:$B,2,FALSE)","v":{"$error":"#REF!"}},{"$f":"VLOOKUP(#REF!,'Points Lookup'!$A:$B,2,FALSE)","v":{"$error":"#REF!"}},{"$f":"VLOOKUP(#REF!,'Points Lookup'!$A:$B,2,FALSE)","v":{"$error":"#REF!"}},{"$f":"VLOOKUP(#REF!,'Points Lookup'!$A:$B,2,FALSE)","v":{"$error":"#REF!"}},{"$f":"VLOOKUP(#REF!,'Points Lookup'!$A:$B,2,FALSE)","v":{"$error":"#REF!"}},null,{"$f":"LARGE($E22:$X22,Z$1)","v":{"$error":"#REF!"}},{"$error":"#REF!"},{"$error":"#REF!"},{"$error":"#REF!"},{"$error":"#REF!"},{"$error":"#REF!"},{"$error":"#REF!"},{"$error":"#REF!"}]
[{"$error":"#REF!"},{"$f":"#REF!","v":{"$error":"#REF!"}},{"$f":"IF(ISBLANK(#REF!),\"\",#REF!)","v":{"$error":"#REF!"}},{"$error":"#REF!"},{"$f":"VLOOKUP(#REF!,'Points Lookup'!$A:$B,2,FALSE)","v":{"$error":"#REF!"}},{"$f":"VLOOKUP(#REF!,'Points Lookup'!$A:$B,2,FALSE)","v":{"$error":"#REF!"}},{"$f":"VLOOKUP(#REF!,'Points Lookup'!$A:$B,2,FALSE)","v":{"$error":"#REF!"}},{"$f":"VLOOKUP(#REF!,'Points Lookup'!$A:$B,2,FALSE)","v":{"$error":"#REF!"}},{"$f":"VLOOKUP(#REF!,'Points Lookup'!$A:$B,2,FALSE)","v":{"$error":"#REF!"}},{"$f":"VLOOKUP(#REF!,'Points Lookup'!$A:$B,2,FALSE)","v":{"$error":"#REF!"}},{"$f":"VLOOKUP(#REF!,'Points Lookup'!$A:$B,2,FALSE)","v":{"$error":"#REF!"}},{"$f":"VLOOKUP(#REF!,'Points Lookup'!$A:$B,2,FALSE)","v":{"$error":"#REF!"}},{"$f":"VLOOKUP(#REF!,'Points Lookup'!$A:$B,2,FALSE)","v":{"$error":"#REF!"}},{"$f":"VLOOKUP(#REF!,'Points Lookup'!$A:$B,2,FALSE)","v":{"$error":"#REF!"}},{"$f":"VLOOKUP(#REF!,'Points Lookup'!$A:$B,2,FALSE)","v":{"$error":"#REF!"}},{"$f":"VLOOKUP(#REF!,'Points Lookup'!$A:$B,2,FALSE)","v":{"$error":"#REF!"}},{"$f":"VLOOKUP(#REF!,'Points Lookup'!$A:$B,2,FALSE)","v":{"$error":"#REF!"}},{"$f":"VLOOKUP(#REF!,'Points Lookup'!$A:$B,2,FALSE)","v":{"$error":"#REF!"}},{"$f":"VLOOKUP(#REF!,'Points Lookup'!$A:$B,2,FALSE)","v":{"$error":"#REF!"}},{"$f":"VLOOKUP(#REF!,'Points Lookup'!$A:$B,2,FALSE)","v":{"$error":"#REF!"}},{"$f":"VLOOKUP(#REF!,'Points Lookup'!$A:$B,2,FALSE)","v":{"$error":"#REF!"}},{"$f":"VLOOKUP(#REF!,'Points Lookup'!$A:$B,2,FALSE)","v":{"$error":"#REF!"}},{"$f":"VLOOKUP(#REF!,'Points Lookup'!$A:$B,2,FALSE)","v":{"$error":"#REF!"}},{"$f":"VLOOKUP(#REF!,'Points Lookup'!$A:$B,2,FALSE)","v":{"$error":"#REF!"}},null,{"$error":"#REF!"},{"$error":"#REF!"},{"$error":"#REF!"},{"$error":"#REF!"},{"$error":"#REF!"},{"$error":"#REF!"},{"$error":"#REF!"},{"$error":"#REF!"}]
[{"$error":"#REF!"},{"$f":"#REF!","v":{"$error":"#REF!"}},{"$f":"IF(ISBLANK(#REF!),\"\",#REF!)","v":{"$error":"#REF!"}},{"$error":"#REF!"},{"$f":"VLOOKUP(#REF!,'Points Lookup'!$A:$B,2,FALSE)","v":{"$error":"#REF!"}},{"$f":"VLOOKUP(#REF!,'Points Lookup'!$A:$B,2,FALSE)","v":{"$error":"#REF!"}},{"$f":"VLOOKUP(#REF!,'Points Lookup'!$A:$B,2,FALSE)","v":{"$error":"#REF!"}},{"$f":"VLOOKUP(#REF!,'Points Lookup'!$A:$B,2,FALSE)","v":{"$error":"#REF!"}},{"$f":"VLOOKUP(#REF!,'Points Lookup'!$A:$B,2,FALSE)","v":{"$error":"#REF!"}},{"$f":"VLOOKUP(#REF!,'Points Lookup'!$A:$B,2,FALSE)","v":{"$error":"#REF!"}},{"$f":"VLOOKUP(#REF!,'Points Lookup'!$A:$B,2,FALSE)","v":{"$error":"#REF!"}},{"$f":"VLOOKUP(#REF!,'Points Lookup'!$A:$B,2,FALSE)","v":{"$error":"#REF!"}},{"$f":"VLOOKUP(#REF!,'Points Lookup'!$A:$B,2,FALSE)","v":{"$error":"#REF!"}},{"$f":"VLOOKUP(#REF!,'Points Lookup'!$A:$B,2,FALSE)","v":{"$error":"#REF!"}},{"$f":"VLOOKUP(#REF!,'Points Lookup'!$A:$B,2,FALSE)","v":{"$error":"#REF!"}},{"$f":"VLOOKUP(#REF!,'Points Lookup'!$A:$B,2,FALSE)","v":{"$error":"#REF!"}},{"$f":"VLOOKUP(#REF!,'Points Lookup'!$A:$B,2,FALSE)","v":{"$error":"#REF!"}},{"$f":"VLOOKUP(#REF!,'Points Lookup'!$A:$B,2,FALSE)","v":{"$error":"#REF!"}},{"$f":"VLOOKUP(#REF!,'Points Lookup'!$A:$B,2,FALSE)","v":{"$error":"#REF!"}},{"$f":"VLOOKUP(#REF!,'Points Lookup'!$A:$B,2,FALSE)","v":{"$error":"#REF!"}},{"$f":"VLOOKUP(#REF!,'Points Lookup'!$A:$B,2,FALSE)","v":{"$error":"#REF!"}},{"$f":"VLOOKUP(#REF!,'Points Lookup'!$A:$B,2,FALSE)","v":{"$error":"#REF!"}},{"$f":"VLOOKUP(#REF!,'Points Lookup'!$A:$B,2,FALSE)","v":{"$error":"#REF!"}},{"$f":"VLOOKUP(#REF!,'Points Lookup'!$A:$B,2,FALSE)","v":{"$error":"#REF!"}},null,{"$error":"#REF!"},{"$error":"#REF!"},{"$error":"#REF!"},{"$error":"#REF!"},{"$error":"#REF!"},{"$error":"#REF!"},{"$error":"#REF!"},{"$error":"#REF!"}]
[{"$error":"#REF!"},{"$f":"#REF!","v":{"$error":"#REF!"}},{"$f":"IF(ISBLANK(#REF!),\"\",#REF!)","v":{"$error":"#REF!"}},{"$error":"#REF!"},{"$f":"VLOOKUP(#REF!,'Points Lookup'!$A:$B,2,FALSE)","v":{"$error":"#REF!"}},{"$f":"VLOOKUP(#REF!,'Points Lookup'!$A:$B,2,FALSE)","v":{"$error":"#REF!"}},{"$f":"VLOOKUP(#REF!,'Points Lookup'!$A:$B,2,FALSE)","v":{"$error":"#REF!"}},{"$f":"VLOOKUP(#REF!,'Points Lookup'!$A:$B,2,FALSE)","v":{"$error":"#REF!"}},{"$f":"VLOOKUP(#REF!,'Points Lookup'!$A:$B,2,FALSE)","v":{"$error":"#REF!"}},{"$f":"VLOOKUP(#REF!,'Points Lookup'!$A:$B,2,FALSE)","v":{"$error":"#REF!"}},{"$f":"VLOOKUP(#REF!,'Points Lookup'!$A:$B,2,FALSE)","v":{"$error":"#REF!"}},{"$f":"VLOOKUP(#REF!,'Points Lookup'!$A:$B,2,FALSE)","v":{"$error":"#REF!"}},{"$f":"VLOOKUP(#REF!,'Points Lookup'!$A:$B,2,FALSE)","v":{"$error":"#REF!"}},{"$f":"VLOOKUP(#REF!,'Points Lookup'!$A:$B,2,FALSE)","v":{"$error":"#REF!"}},{"$f":"VLOOKUP(#REF!,'Points Lookup'!$A:$B,2,FALSE)","v":{"$error":"#REF!"}},{"$f":"VLOOKUP(#REF!,'Points Lookup'!$A:$B,2,FALSE)","v":{"$error":"#REF!"}},{"$f":"VLOOKUP(#REF!,'Points Lookup'!$A:$B,2,FALSE)","v":{"$error":"#REF!"}},{"$f":"VLOOKUP(#REF!,'Points Lookup'!$A:$B,2,FALSE)","v":{"$error":"#REF!"}},{"$f":"VLOOKUP(#REF!,'Points Lookup'!$A:$B,2,FALSE)","v":{"$error":"#REF!"}},{"$f":"VLOOKUP(#REF!,'Points Lookup'!$A:$B,2,FALSE)","v":{"$error":"#REF!"}},{"$f":"VLOOKUP(#REF!,'Points Lookup'!$A:$B,2,FALSE)","v":{"$error":"#REF!"}},{"$f":"VLOOKUP(#REF!,'Points Lookup'!$A:$B,2,FALSE)","v":{"$error":"#REF!"}},{"$f":"VLOOKUP(#REF!,'Points Lookup'!$A:$B,2,FALSE)","v":{"$error":"#REF!"}},{"$f":"VLOOKUP(#REF!,'Points Lookup'!$A:$B,2,FALSE)","v":{"$error":"#REF!"}},null,{"$error":"#REF!"},{"$error":"#REF!"},{"$error":"#REF!"},{"$error":"#REF!"},{"$error":"#REF!"},{"$error":"#REF!"},{"$error":"#REF!"},{"$error":"#REF!"}]
[{"$error":"#REF!"},{"$f":"#REF!","v":{"$error":"#REF!"}},{"$f":"IF(ISBLANK(#REF!),\"\",#REF!)","v":{"$error":"#REF!"}},{"$error":"#REF!"},{"$f":"VLOOKUP(#REF!,'Points Lookup'!$A:$B,2,FALSE)","v":{"$error":"#REF!"}},{"$f":"VLOOKUP(#REF!,'Points Lookup'!$A:$B,2,FALSE)","v":{"$error":"#REF!"}},{"$f":"VLOOKUP(#REF!,'Points Lookup'!$A:$B,2,FALSE)","v":{"$error":"#REF!"}},{"$f":"VLOOKUP(#REF!,'Points Lookup'!$A:$B,2,FALSE)","v":{"$error":"#REF!"}},{"$f":"VLOOKUP(#REF!,'Points Lookup'!$A:$B,2,FALSE)","v":{"$error":"#REF!"}},{"$f":"VLOOKUP(#REF!,'Points Lookup'!$A:$B,2,FALSE)","v":{"$error":"#REF!"}},{"$f":"VLOOKUP(#REF!,'Points Lookup'!$A:$B,2,FALSE)","v":{"$error":"#REF!"}},{"$f":"VLOOKUP(#REF!,'Points Lookup'!$A:$B,2,FALSE)","v":{"$error":"#REF!"}},{"$f":"VLOOKUP(#REF!,'Points Lookup'!$A:$B,2,FALSE)","v":{"$error":"#REF!"}},{"$f":"VLOOKUP(#REF!,'Points Lookup'!$A:$B,2,FALSE)","v":{"$error":"#REF!"}},{"$f":"VLOOKUP(#REF!,'Points Lookup'!$A:$B,2,FALSE)","v":{"$error":"#REF!"}},{"$f":"VLOOKUP(#REF!,'Points Lookup'!$A:$B,2,FALSE)","v":{"$error":"#REF!"}},{"$f":"VLOOKUP(#REF!,'Points Lookup'!$A:$B,2,FALSE)","v":{"$error":"#REF!"}},{"$f":"VLOOKUP(#REF!,'Points Lookup'!$A:$B,2,FALSE)","v":{"$error":"#REF!"}},{"$f":"VLOOKUP(#REF!,'Points Lookup'!$A:$B,2,FALSE)","v":{"$error":"#REF!"}},{"$f":"VLOOKUP(#REF!,'Points Lookup'!$A:$B,2,FALSE)","v":{"$error":"#REF!"}},{"$f":"VLOOKUP(#REF!,'Points Lookup'!$A:$B,2,FALSE)","v":{"$error":"#REF!"}},{"$f":"VLOOKUP(#REF!,'Points Lookup'!$A:$B,2,FALSE)","v":{"$error":"#REF!"}},{"$f":"VLOOKUP(#REF!,'Points Lookup'!$A:$B,2,FALSE)","v":{"$error":"#REF!"}},{"$f":"VLOOKUP(#REF!,'Points Lookup'!$A:$B,2,FALSE)","v":{"$error":"#REF!"}},null,{"$error":"#REF!"},{"$error":"#REF!"},{"$error":"#REF!"},{"$error":"#REF!"},{"$error":"#REF!"},{"$error":"#REF!"},{"$error":"#REF!"},{"$error":"#REF!"}]
[{"$error":"#REF!"},{"$f":"#REF!","v":{"$error":"#REF!"}},{"$f":"IF(ISBLANK(#REF!),\"\",#REF!)","v":{"$error":"#REF!"}},{"$error":"#REF!"},{"$f":"VLOOKUP(#REF!,'Points Lookup'!$A:$B,2,FALSE)","v":{"$error":"#REF!"}},{"$f":"VLOOKUP(#REF!,'Points Lookup'!$A:$B,2,FALSE)","v":{"$error":"#REF!"}},{"$f":"VLOOKUP(#REF!,'Points Lookup'!$A:$B,2,FALSE)","v":{"$error":"#REF!"}},{"$f":"VLOOKUP(#REF!,'Points Lookup'!$A:$B,2,FALSE)","v":{"$error":"#REF!"}},{"$f":"VLOOKUP(#REF!,'Points Lookup'!$A:$B,2,FALSE)","v":{"$error":"#REF!"}},{"$f":"VLOOKUP(#REF!,'Points Lookup'!$A:$B,2,FALSE)","v":{"$error":"#REF!"}},{"$f":"VLOOKUP(#REF!,'Points Lookup'!$A:$B,2,FALSE)","v":{"$error":"#REF!"}},{"$f":"VLOOKUP(#REF!,'Points Lookup'!$A:$B,2,FALSE)","v":{"$error":"#REF!"}},{"$f":"VLOOKUP(#REF!,'Points Lookup'!$A:$B,2,FALSE)","v":{"$error":"#REF!"}},{"$f":"VLOOKUP(#REF!,'Points Lookup'!$A:$B,2,FALSE)","v":{"$error":"#REF!"}},{"$f":"VLOOKUP(#REF!,'Points Lookup'!$A:$B,2,FALSE)","v":{"$error":"#REF!"}},{"$f":"VLOOKUP(#REF!,'Points Lookup'!$A:$B,2,FALSE)","v":{"$error":"#REF!"}},{"$f":"VLOOKUP(#REF!,'Points Lookup'!$A:$B,2,FALSE)","v":{"$error":"#REF!"}},{"$f":"VLOOKUP(#REF!,'Points Lookup'!$A:$B,2,FALSE)","v":{"$error":"#REF!"}},{"$f":"VLOOKUP(#REF!,'Points Lookup'!$A:$B,2,FALSE)","v":{"$error":"#REF!"}},{"$f":"VLOOKUP(#REF!,'Points Lookup'!$A:$B,2,FALSE)","v":{"$error":"#REF!"}},{"$f":"VLOOKUP(#REF!,'Points Lookup'!$A:$B,2,FALSE)","v":{"$error":"#REF!"}},{"$f":"VLOOKUP(#REF!,'Points Lookup'!$A:$B,2,FALSE)","v":{"$error":"#REF!"}},{"$f":"VLOOKUP(#REF!,'Points Lookup'!$A:$B,2,FALSE)","v":{"$error":"#REF!"}},{"$f":"VLOOKUP(#REF!,'Points Lookup'!$A:$B,2,FALSE)","v":{"$error":"#REF!"}},null,{"$error":"#REF!"},{"$error":"#REF!"},{"$error":"#REF!"},{"$error":"#REF!"},{"$error":"#REF!"},{"$error":"#REF!"},{"$error":"#REF!"},{"$error":"#REF!"}]
[{"$error":"#REF!"},{"$f":"#REF!","v":{"$error":"#REF!"}},{"$f":"IF(ISBLANK(#REF!),\"\",#REF!)","v":{"$error":"#REF!"}},{"$error":"#REF!"},{"$f":"VLOOKUP(#REF!,'Points Lookup'!$A:$B,2,FALSE)","v":{"$error":"#REF!"}},{"$f":"VLOOKUP(#REF!,'Points Lookup'!$A:$B,2,FALSE)","v":{"$error":"#REF!"}},{"$f":"VLOOKUP(#REF!,'Points Lookup'!$A:$B,2,FALSE)","v":{"$error":"#REF!"}},{"$f":"VLOOKUP(#REF!,'Points Lookup'!$A:$B,2,FALSE)","v":{"$error":"#REF!"}},{"$f":"VLOOKUP(#REF!,'Points Lookup'!$A:$B,2,FALSE)","v":{"$error":"#REF!"}},{"$f":"VLOOKUP(#REF!,'Points Lookup'!$A:$B,2,FALSE)","v":{"$error":"#REF!"}},{"$f":"VLOOKUP(#REF!,'Points Lookup'!$A:$B,2,FALSE)","v":{"$error":"#REF!"}},{"$f":"VLOOKUP(#REF!,'Points Lookup'!$A:$B,2,FALSE)","v":{"$error":"#REF!"}},{"$f":"VLOOKUP(#REF!,'Points Lookup'!$A:$B,2,FALSE)","v":{"$error":"#REF!"}},{"$f":"VLOOKUP(#REF!,'Points Lookup'!$A:$B,2,FALSE)","v":{"$error":"#REF!"}},{"$f":"VLOOKUP(#REF!,'Points Lookup'!$A:$B,2,FALSE)","v":{"$error":"#REF!"}},{"$f":"VLOOKUP(#REF!,'Points Lookup'!$A:$B,2,FALSE)","v":{"$error":"#REF!"}},{"$f":"VLOOKUP(#REF!,'Points Lookup'!$A:$B,2,FALSE)","v":{"$error":"#REF!"}},{"$f":"VLOOKUP(#REF!,'Points Lookup'!$A:$B,2,FALSE)","v":{"$error":"#REF!"}},{"$f":"VLOOKUP(#REF!,'Points Lookup'!$A:$B,2,FALSE)","v":{"$error":"#REF!"}},{"$f":"VLOOKUP(#REF!,'Points Lookup'!$A:$B,2,FALSE)","v":{"$error":"#REF!"}},{"$f":"VLOOKUP(#REF!,'Points Lookup'!$A:$B,2,FALSE)","v":{"$error":"#REF!"}},{"$f":"VLOOKUP(#REF!,'Points Lookup'!$A:$B,2,FALSE)","v":{"$error":"#REF!"}},{"$f":"VLOOKUP(#REF!,'Points Lookup'!$A:$B,2,FALSE)","v":{"$error":"#REF!"}},{"$f":"VLOOKUP(#REF!,'Points Lookup'!$A:$B,2,FALSE)","v":{"$error":"#REF!"}},null,{"$error":"#REF!"},{"$error":"#REF!"},{"$error":"#REF!"},{"$error":"#REF!"},{"$error":"#REF!"},{"$error":"#REF!"},{"$error":"#REF!"},{"$error":"#REF!"}]
[{"$error":"#REF!"},{"$f":"#REF!","v":{"$error":"#REF!"}},{"$f":"IF(ISBLANK(#REF!),\"\",#REF!)","v":{"$error":"#REF!"}},{"$error":"#REF!"},{"$f":"VLOOKUP(#REF!,'Points Lookup'!$A:$B,2,FALSE)","v":{"$error":"#REF!"}},{"$f":"VLOOKUP(#REF!,'Points Lookup'!$A:$B,2,FALSE)","v":{"$error":"#REF!"}},{"$f":"VLOOKUP(#REF!,'Points Lookup'!$A:$B,2,FALSE)","v":{"$error":"#REF!"}},{"$f":"VLOOKUP(#REF!,'Points Lookup'!$A:$B,2,FALSE)","v":{"$error":"#REF!"}},{"$f":"VLOOKUP(#REF!,'Points Lookup'!$A:$B,2,FALSE)","v":{"$error":"#REF!"}},{"$f":"VLOOKUP(#REF!,'Points Lookup'!$A:$B,2,FALSE)","v":{"$error":"#REF!"}},{"$f":"VLOOKUP(#REF!,'Points Lookup'!$A:$B,2,FALSE)","v":{"$error":"#REF!"}},{"$f":"VLOOKUP(#REF!,'Points Lookup'!$A:$B,2,FALSE)","v":{"$error":"#REF!"}},{"$f":"VLOOKUP(#REF!,'Points Lookup'!$A:$B,2,FALSE)","v":{"$error":"#REF!"}},{"$f":"VLOOKUP(#REF!,'Points Lookup'!$A:$B,2,FALSE)","v":{"$error":"#REF!"}},{"$f":"VLOOKUP(#REF!,'Points Lookup'!$A:$B,2,FALSE)","v":{"$error":"#REF!"}},{"$f":"VLOOKUP(#REF!,'Points Lookup'!$A:$B,2,FALSE)","v":{"$error":"#REF!"}},{"$f":"VLOOKUP(#REF!,'Points Lookup'!$A:$B,2,FALSE)","v":{"$error":"#REF!"}},{"$f":"VLOOKUP(#REF!,'Points Lookup'!$A:$B,2,FALSE)","v":{"$error":"#REF!"}},{"$f":"VLOOKUP(#REF!,'Points Lookup'!$A:$B,2,FALSE)","v":{"$error":"#REF!"}},{"$f":"VLOOKUP(#REF!,'Points Lookup'!$A:$B,2,FALSE)","v":{"$error":"#REF!"}},{"$f":"VLOOKUP(#REF!,'Points Lookup'!$A:$B,2,FALSE)","v":{"$error":"#REF!"}},{"$f":"VLOOKUP(#REF!,'Points Lookup'!$A:$B,2,FALSE)","v":{"$error":"#REF!"}},{"$f":"VLOOKUP(#REF!,'Points Lookup'!$A:$B,2,FALSE)","v":{"$error":"#REF!"}},{"$f":"VLOOKUP(#REF!,'Points Lookup'!$A:$B,2,FALSE)","v":{"$error":"#REF!"}},null,{"$error":"#REF!"},{"$error":"#REF!"},{"$error":"#REF!"},{"$error":"#REF!"},{"$error":"#REF!"},{"$error":"#REF!"},{"$error":"#REF!"},{"$error":"#REF!"}]
[{"$error":"#REF!"},{"$f":"#REF!","v":{"$error":"#REF!"}},{"$f":"IF(ISBLANK(#REF!),\"\",#REF!)","v":{"$error":"#REF!"}},{"$error":"#REF!"},{"$f":"VLOOKUP(#REF!,'Points Lookup'!$A:$B,2,FALSE)","v":{"$error":"#REF!"}},{"$f":"VLOOKUP(#REF!,'Points Lookup'!$A:$B,2,FALSE)","v":{"$error":"#REF!"}},{"$f":"VLOOKUP(#REF!,'Points Lookup'!$A:$B,2,FALSE)","v":{"$error":"#REF!"}},{"$f":"VLOOKUP(#REF!,'Points Lookup'!$A:$B,2,FALSE)","v":{"$error":"#REF!"}},{"$f":"VLOOKUP(#REF!,'Points Lookup'!$A:$B,2,FALSE)","v":{"$error":"#REF!"}},{"$f":"VLOOKUP(#REF!,'Points Lookup'!$A:$B,2,FALSE)","v":{"$error":"#REF!"}},{"$f":"VLOOKUP(#REF!,'Points Lookup'!$A:$B,2,FALSE)","v":{"$error":"#REF!"}},{"$f":"VLOOKUP(#REF!,'Points Lookup'!$A:$B,2,FALSE)","v":{"$error":"#REF!"}},{"$f":"VLOOKUP(#REF!,'Points Lookup'!$A:$B,2,FALSE)","v":{"$error":"#REF!"}},{"$f":"VLOOKUP(#REF!,'Points Lookup'!$A:$B,2,FALSE)","v":{"$error":"#REF!"}},{"$f":"VLOOKUP(#REF!,'Points Lookup'!$A:$B,2,FALSE)","v":{"$error":"#REF!"}},{"$f":"VLOOKUP(#REF!,'Points Lookup'!$A:$B,2,FALSE)","v":{"$error":"#REF!"}},{"$f":"VLOOKUP(#REF!,'Points Lookup'!$A:$B,2,FALSE)","v":{"$error":"#REF!"}},{"$f":"VLOOKUP(#REF!,'Points Lookup'!$A:$B,2,FALSE)","v":{"$error":"#REF!"}},{"$f":"VLOOKUP(#REF!,'Points Lookup'!$A:$B,2,FALSE)","v":{"$error":"#REF!"}},{"$f":"VLOOKUP(#REF!,'Points Lookup'!$A:$B,2,FALSE)","v":{"$error":"#REF!"}},{"$f":"VLOOKUP(#REF!,'Points Lookup'!$A:$B,2,FALSE)","v":{"$error":"#REF!"}},{"$f":"VLOOKUP(#REF!,'Points Lookup'!$A:$B,2,FALSE)","v":{"$error":"#REF!"}},{"$f":"VLOOKUP(#REF!,'Points Lookup'!$A:$B,2,FALSE)","v":{"$error":"#REF!"}},{"$f":"VLOOKUP(#REF!,'Points Lookup'!$A:$B,2,FALSE)","v":{"$error":"#REF!"}},null,{"$error":"#REF!"},{"$error":"#REF!"},{"$error":"#REF!"},{"$error":"#REF!"},{"$error":"#REF!"},{"$error":"#REF!"},{"$error":"#REF!"},{"$error":"#REF!"}]
[{"$error":"#REF!"},{"$f":"#REF!","v":{"$error":"#REF!"}},{"$f":"IF(ISBLANK(#REF!),\"\",#REF!)","v":{"$error":"#REF!"}},{"$error":"#REF!"},{"$f":"VLOOKUP(#REF!,'Points Lookup'!$A:$B,2,FALSE)","v":{"$error":"#REF!"}},{"$f":"VLOOKUP(#REF!,'Points Lookup'!$A:$B,2,FALSE)","v":{"$error":"#REF!"}},{"$f":"VLOOKUP(#REF!,'Points Lookup'!$A:$B,2,FALSE)","v":{"$error":"#REF!"}},{"$f":"VLOOKUP(#REF!,'Points Lookup'!$A:$B,2,FALSE)","v":{"$error":"#REF!"}},{"$f":"VLOOKUP(#REF!,'Points Lookup'!$A:$B,2,FALSE)","v":{"$error":"#REF!"}},{"$f":"VLOOKUP(#REF!,'Points Lookup'!$A:$B,2,FALSE)","v":{"$error":"#REF!"}},{"$f":"VLOOKUP(#REF!,'Points Lookup'!$A:$B,2,FALSE)","v":{"$error":"#REF!"}},{"$f":"VLOOKUP(#REF!,'Points Lookup'!$A:$B,2,FALSE)","v":{"$error":"#REF!"}},{"$f":"VLOOKUP(#REF!,'Points Lookup'!$A:$B,2,FALSE)","v":{"$error":"#REF!"}},{"$f":"VLOOKUP(#REF!,'Points Lookup'!$A:$B,2,FALSE)","v":{"$error":"#REF!"}},{"$f":"VLOOKUP(#REF!,'Points Lookup'!$A:$B,2,FALSE)","v":{"$error":"#REF!"}},{"$f":"VLOOKUP(#REF!,'Points Lookup'!$A:$B,2,FALSE)","v":{"$error":"#REF!"}},{"$f":"VLOOKUP(#REF!,'Points Lookup'!$A:$B,2,FALSE)","v":{"$error":"#REF!"}},{"$f":"VLOOKUP(#REF!,'Points Lookup'!$A:$B,2,FALSE)","v":{"$error":"#REF!"}},{"$f":"VLOOKUP(#REF!,'Points Lookup'!$A:$B,2,FALSE)","v":{"$error":"#REF!"}},{"$f":"VLOOKUP(#REF!,'Points Lookup'!$A:$B,2,FALSE)","v":{"$error":"#REF!"}},{"$f":"VLOOKUP(#REF!,'Points Lookup'!$A:$B,2,FALSE)","v":{"$error":"#REF!"}},{"$f":"VLOOKUP(#REF!,'Points Lookup'!$A:$B,2,FALSE)","v":{"$error":"#REF!"}},{"$f":"VLOOKUP(#REF!,'Points Lookup'!$A:$B,2,FALSE)","v":{"$error":"#REF!"}},{"$f":"VLOOKUP(#REF!,'Points Lookup'!$A:$B,2,FALSE)","v":{"$error":"#REF!"}},null,{"$error":"#REF!"},{"$error":"#REF!"},{"$error":"#REF!"},{"$error":"#REF!"},{"$error":"#REF!"},{"$error":"#REF!"},{"$error":"#REF!"},{"$error":"#REF!"}]
[{"$error":"#REF!"},{"$f":"#REF!","v":{"$error":"#REF!"}},{"$f":"IF(ISBLANK(#REF!),\"\",#REF!)","v":{"$error":"#REF!"}},{"$error":"#REF!"},{"$f":"VLOOKUP(#REF!,'Points Lookup'!$A:$B,2,FALSE)","v":{"$error":"#REF!"}},{"$f":"VLOOKUP(#REF!,'Points Lookup'!$A:$B,2,FALSE)","v":{"$error":"#REF!"}},{"$f":"VLOOKUP(#REF!,'Points Lookup'!$A:$B,2,FALSE)","v":{"$error":"#REF!"}},{"$f":"VLOOKUP(#REF!,'Points Lookup'!$A:$B,2,FALSE)","v":{"$error":"#REF!"}},{"$f":"VLOOKUP(#REF!,'Points Lookup'!$A:$B,2,FALSE)","v":{"$error":"#REF!"}},{"$f":"VLOOKUP(#REF!,'Points Lookup'!$A:$B,2,FALSE)","v":{"$error":"#REF!"}},{"$f":"VLOOKUP(#REF!,'Points Lookup'!$A:$B,2,FALSE)","v":{"$error":"#REF!"}},{"$f":"VLOOKUP(#REF!,'Points Lookup'!$A:$B,2,FALSE)","v":{"$error":"#REF!"}},{"$f":"VLOOKUP(#REF!,'Points Lookup'!$A:$B,2,FALSE)","v":{"$error":"#REF!"}},{"$f":"VLOOKUP(#REF!,'Points Lookup'!$A:$B,2,FALSE)","v":{"$error":"#REF!"}},{"$f":"VLOOKUP(#REF!,'Points Lookup'!$A:$B,2,FALSE)","v":{"$error":"#REF!"}},{"$f":"VLOOKUP(#REF!,'Points Lookup'!$A:$B,2,FALSE)","v":{"$error":"#REF!"}},{"$f":"VLOOKUP(#REF!,'Points Lookup'!$A:$B,2,FALSE)","v":{"$error":"#REF!"}},{"$f":"VLOOKUP(#REF!,'Points Lookup'!$A:$B,2,FALSE)","v":{"$error":"#REF!"}},{"$f":"VLOOKUP(#REF!,'Points Lookup'!$A:$B,2,FALSE)","v":{"$error":"#REF!"}},{"$f":"VLOOKUP(#REF!,'Points Lookup'!$A:$B,2,FALSE)","v":{"$error":"#REF!"}},{"$f":"VLOOKUP(#REF!,'Points Lookup'!$A:$B,2,FALSE)","v":{"$error":"#REF!"}},{"$f":"VLOOKUP(#REF!,'Points Lookup'!$A:$B,2,FALSE)","v":{"$error":"#REF!"}},{"$f":"VLOOKUP(#REF!,'Points Lookup'!$A:$B,2,FALSE)","v":{"$error":"#REF!"}},{"$f":"VLOOKUP(#REF!,'Points Lookup'!$A:$B,2,FALSE)","v":{"$error":"#REF!"}},null,{"$f":"LARGE($E32:$X32,Z$1)","v":{"$error":"#REF!"}},{"$error":"#REF!"},{"$error":"#REF!"},{"$error":"#REF!"},{"$error":"#REF!"},{"$error":"#REF!"},{"$error":"#REF!"},{"$error":"#REF!"}]
[{"$error":"#REF!"},{"$f":"#REF!","v":{"$error":"#REF!"}},{"$f":"IF(ISBLANK(#REF!),\"\",#REF!)","v":{"$error":"#REF!"}},{"$error":"#REF!"},{"$f":"VLOOKUP(#REF!,'Points Lookup'!$A:$B,2,FALSE)","v":{"$error":"#REF!"}},{"$f":"VLOOKUP(#REF!,'Points Lookup'!$A:$B,2,FALSE)","v":{"$error":"#REF!"}},{"$f":"VLOOKUP(#REF!,'Points Lookup'!$A:$B,2,FALSE)","v":{"$error":"#REF!"}},{"$f":"VLOOKUP(#REF!,'Points Lookup'!$A:$B,2,FALSE)","v":{"$error":"#REF!"}},{"$f":"VLOOKUP(#REF!,'Points Lookup'!$A:$B,2,FALSE)","v":{"$error":"#REF!"}},{"$f":"VLOOKUP(#REF!,'Points Lookup'!$A:$B,2,FALSE)","v":{"$error":"#REF!"}},{"$f":"VLOOKUP(#REF!,'Points Lookup'!$A:$B,2,FALSE)","v":{"$error":"#REF!"}},{"$f":"VLOOKUP(#REF!,'Points Lookup'!$A:$B,2,FALSE)","v":{"$error":"#REF!"}},{"$f":"VLOOKUP(#REF!,'Points Lookup'!$A:$B,2,FALSE)","v":{"$error":"#REF!"}},{"$f":"VLOOKUP(#REF!,'Points Lookup'!$A:$B,2,FALSE)","v":{"$error":"#REF!"}},{"$f":"VLOOKUP(#REF!,'Points Lookup'!$A:$B,2,FALSE)","v":{"$error":"#REF!"}},{"$f":"VLOOKUP(#REF!,'Points Lookup'!$A:$B,2,FALSE)","v":{"$error":"#REF!"}},{"$f":"VLOOKUP(#REF!,'Points Lookup'!$A:$B,2,FALSE)","v":{"$error":"#REF!"}},{"$f":"VLOOKUP(#REF!,'Points Lookup'!$A:$B,2,FALSE)","v":{"$error":"#REF!"}},{"$f":"VLOOKUP(#REF!,'Points Lookup'!$A:$B,2,FALSE)","v":{"$error":"#REF!"}},{"$f":"VLOOKUP(#REF!,'Points Lookup'!$A:$B,2,FALSE)","v":{"$error":"#REF!"}},{"$f":"VLOOKUP(#REF!,'Points Lookup'!$A:$B,2,FALSE)","v":{"$error":"#REF!"}},{"$f":"VLOOKUP(#REF!,'Points Lookup'!$A:$B,2,FALSE)","v":{"$error":"#REF!"}},{"$f":"VLOOKUP(#REF!,'Points Lookup'!$A:$B,2,FALSE)","v":{"$error":"#REF!"}},{"$f":"VLOOKUP(#REF!,'Points Lookup'!$A:$B,2,FALSE)","v":{"$error":"#REF!"}},null,{"$error":"#REF!"},{"$error":"#REF!"},{"$error":"#REF!"},{"$error":"#REF!"},{"$error":"#REF!"},{"$error":"#REF!"},{"$error":"#REF!"},{"$error":"#REF!"}]
[{"$f":"RANK(D34,D:D)","v":{"$error":"#REF!"}},{"$f":"#REF!","v":{"$error":"#REF!"}},{"$f":"IF(ISBLANK(#REF!),\"\",#REF!)","v":{"$error":"#REF!"}},{"$error":"#REF!"},{"$f":"VLOOKUP(#REF!,'Points Lookup'!$A:$B,2,FALSE)","v":{"$error":"#REF!"}},{"$f":"VLOOKUP(#REF!,'Points Lookup'!$A:$B,2,FALSE)","v":{"$error":"#REF!"}},{"$f":"VLOOKUP(#REF!,'Points Lookup'!$A:$B,2,FALSE)","v":{"$error":"#REF!"}},{"$f":"VLOOKUP(#REF!,'Points Lookup'!$A:$B,2,FALSE)","v":{"$error":"#REF!"}},{"$f":"VLOOKUP(#REF!,'Points Lookup'!$A:$B,2,FALSE)","v":{"$error":"#REF!"}},{"$f":"VLOOKUP(#REF!,'Points Lookup'!$A:$B,2,FALSE)","v":{"$error":"#REF!"}},{"$f":"VLOOKUP(#REF!,'Points Lookup'!$A:$B,2,FALSE)","v":{"$error":"#REF!"}},{"$f":"VLOOKUP(#REF!,'Points Lookup'!$A:$B,2,FALSE)","v":{"$error":"#REF!"}},{"$f":"VLOOKUP(#REF!,'Points Lookup'!$A:$B,2,FALSE)","v":{"$error":"#REF!"}},{"$f":"VLOOKUP(#REF!,'Points Lookup'!$A:$B,2,FALSE)","v":{"$error":"#REF!"}},{"$f":"VLOOKUP(#REF!,'Points Lookup'!$A:$B,2,FALSE)","v":{"$error":"#REF!"}},{"$f":"VLOOKUP(#REF!,'Points Lookup'!$A:$B,2,FALSE)","v":{"$error":"#REF!"}},{"$f":"VLOOKUP(#REF!,'Points Lookup'!$A:$B,2,FALSE)","v":{"$error":"#REF!"}},{"$f":"VLOOKUP(#REF!,'Points Lookup'!$A:$B,2,FALSE)","v":{"$error":"#REF!"}},{"$f":"VLOOKUP(#REF!,'Points Lookup'!$A:$B,2,FALSE)","v":{"$error":"#REF!"}},{"$f":"VLOOKUP(#REF!,'Points Lookup'!$A:$B,2,FALSE)","v":{"$error":"#REF!"}},{"$f":"VLOOKUP(#REF!,'Points Lookup'!$A:$B,2,FALSE)","v":{"$error":"#REF!"}},{"$f":"VLOOKUP(#REF!,'Points Lookup'!$A:$B,2,FALSE)","v":{"$error":"#REF!"}},{"$f":"VLOOKUP(#REF!,'Points Lookup'!$A:$B,2,FALSE)","v":{"$error":"#REF!"}},{"$f":"VLOOKUP(#REF!,'Points Lookup'!$A:$B,2,FALSE)","v":{"$error":"#REF!"}},null,{"$error":"#REF!"},{"$error":"#REF!"},{"$error":"#REF!"},{"$error":"#REF!"},{"$error":"#REF!"},{"$error":"#REF!"},{"$error":"#REF!"},{"$error":"#REF!"}]
[{"$error":"#REF!"},{"$f":"#REF!","v":{"$error":"#REF!"}},{"$f":"IF(ISBLANK(#REF!),\"\",#REF!)","v":{"$error":"#REF!"}},{"$error":"#REF!"},{"$f":"VLOOKUP(#REF!,'Points Lookup'!$A:$B,2,FALSE)","v":{"$error":"#REF!"}},{"$f":"VLOOKUP(#REF!,'Points Lookup'!$A:$B,2,FALSE)","v":{"$error":"#REF!"}},{"$f":"VLOOKUP(#REF!,'Points Lookup'!$A:$B,2,FALSE)","v":{"$error":"#REF!"}},{"$f":"VLOOKUP(#REF!,'Points Lookup'!$A:$B,2,FALSE)","v":{"$error":"#REF!"}},{"$f":"VLOOKUP(#REF!,'Points Lookup'!$A:$B,2,FALSE)","v":{"$error":"#REF!"}},{"$f":"VLOOKUP(#REF!,'Points Lookup'!$A:$B,2,FALSE)","v":{"$error":"#REF!"}},{"$f":"VLOOKUP(#REF!,'Points Lookup'!$A:$B,2,FALSE)","v":{"$error":"#REF!"}},{"$f":"VLOOKUP(#REF!,'Points Lookup'!$A:$B,2,FALSE)","v":{"$error":"#REF!"}},{"$f":"VLOOKUP(#REF!,'Points Lookup'!$A:$B,2,FALSE)","v":{"$error":"#REF!"}},{"$f":"VLOOKUP(#REF!,'Points Lookup'!$A:$B,2,FALSE)","v":{"$error":"#REF!"}},{"$f":"VLOOKUP(#REF!,'Points Lookup'!$A:$B,2,FALSE)","v":{"$error":"#REF!"}},{"$f":"VLOOKUP(#REF!,'Points Lookup'!$A:$B,2,FALSE)","v":{"$error":"#REF!"}},{"$f":"VLOOKUP(#REF!,'Points Lookup'!$A:$B,2,FALSE)","v":{"$error":"#REF!"}},{"$f":"VLOOKUP(#REF!,'Points Lookup'!$A:$B,2,FALSE)","v":{"$error":"#REF!"}},{"$f":"VLOOKUP(#REF!,'Points Lookup'!$A:$B,2,FALSE)","v":{"$error":"#REF!"}},{"$f":"VLOOKUP(#REF!,'Points Lookup'!$A:$B,2,FALSE)","v":{"$error":"#REF!"}},{"$f":"VLOOKUP(#REF!,'Points Lookup'!$A:$B,2,FALSE)","v":{"$error":"#REF!"}},{"$f":"VLOOKUP(#REF!,'Points Lookup'!$A:$B,2,FALSE)","v":{"$error":"#REF!"}},{"$f":"VLOOKUP(#REF!,'Points Lookup'!$A:$B,2,FALSE)","v":{"$error":"#REF!"}},{"$f":"VLOOKUP(#REF!,'Points Lookup'!$A:$B,2,FALSE)","v":{"$error":"#REF!"}},null,{"$error":"#REF!"},{"$error":"#REF!"},{"$error":"#REF!"},{"$error":"#REF!"},{"$error":"#REF!"},{"$error":"#REF!"},{"$error":"#REF!"},{"$error":"#REF!"}]
[{"$error":"#REF!"},{"$f":"#REF!","v":{"$error":"#REF!"}},{"$f":"IF(ISBLANK(#REF!),\"\",#REF!)","v":{"$error":"#REF!"}},{"$error":"#REF!"},{"$f":"VLOOKUP(#REF!,'Points Lookup'!$A:$B,2,FALSE)","v":{"$error":"#REF!"}},{"$f":"VLOOKUP(#REF!,'Points Lookup'!$A:$B,2,FALSE)","v":{"$error":"#REF!"}},{"$f":"VLOOKUP(#REF!,'Points Lookup'!$A:$B,2,FALSE)","v":{"$error":"#REF!"}},{"$f":"VLOOKUP(#REF!,'Points Lookup'!$A:$B,2,FALSE)","v":{"$error":"#REF!"}},{"$f":"VLOOKUP(#REF!,'Points Lookup'!$A:$B,2,FALSE)","v":{"$error":"#REF!"}},{"$f":"VLOOKUP(#REF!,'Points Lookup'!$A:$B,2,FALSE)","v":{"$error":"#REF!"}},{"$f":"VLOOKUP(#REF!,'Points Lookup'!$A:$B,2,FALSE)","v":{"$error":"#REF!"}},{"$f":"VLOOKUP(#REF!,'Points Lookup'!$A:$B,2,FALSE)","v":{"$error":"#REF!"}},{"$f":"VLOOKUP(#REF!,'Points Lookup'!$A:$B,2,FALSE)","v":{"$error":"#REF!"}},{"$f":"VLOOKUP(#REF!,'Points Lookup'!$A:$B,2,FALSE)","v":{"$error":"#REF!"}},{"$f":"VLOOKUP(#REF!,'Points Lookup'!$A:$B,2,FALSE)","v":{"$error":"#REF!"}},{"$f":"VLOOKUP(#REF!,'Points Lookup'!$A:$B,2,FALSE)","v":{"$error":"#REF!"}},{"$f":"VLOOKUP(#REF!,'Points Lookup'!$A:$B,2,FALSE)","v":{"$error":"#REF!"}},{"$f":"VLOOKUP(#REF!,'Points Lookup'!$A:$B,2,FALSE)","v":{"$error":"#REF!"}},{"$f":"VLOOKUP(#REF!,'Points Lookup'!$A:$B,2,FALSE)","v":{"$error":"#REF!"}},{"$f":"VLOOKUP(#REF!,'Points Lookup'!$A:$B,2,FALSE)","v":{"$error":"#REF!"}},{"$f":"VLOOKUP(#REF!,'Points Lookup'!$A:$B,2,FALSE)","v":{"$error":"#REF!"}},{"$f":"VLOOKUP(#REF!,'Points Lookup'!$A:$B,2,FALSE)","v":{"$error":"#REF!"}},{"$f":"VLOOKUP(#REF!,'Points Lookup'!$A:$B,2,FALSE)","v":{"$error":"#REF!"}},{"$f":"VLOOKUP(#REF!,'Points Lookup'!$A:$B,2,FALSE)","v":{"$error":"#REF!"}},null,{"$error":"#REF!"},{"$error":"#REF!"},{"$error":"#REF!"},{"$error":"#REF!"},{"$error":"#REF!"},{"$error":"#REF!"},{"$error":"#REF!"},{"$error":"#REF!"}]
[{"$error":"#REF!"},{"$f":"#REF!","v":{"$error":"#REF!"}},{"$f":"IF(ISBLANK(#REF!),\"\",#REF!)","v":{"$error":"#REF!"}},{"$error":"#REF!"},{"$f":"VLOOKUP(#REF!,'Points Lookup'!$A:$B,2,FALSE)","v":{"$error":"#REF!"}},{"$f":"VLOOKUP(#REF!,'Points Lookup'!$A:$B,2,FALSE)","v":{"$error":"#REF!"}},{"$f":"VLOOKUP(#REF!,'Points Lookup'!$A:$B,2,FALSE)","v":{"$error":"#REF!"}},{"$f":"VLOOKUP(#REF!,'Points Lookup'!$A:$B,2,FALSE)","v":{"$error":"#REF!"}},{"$f":"VLOOKUP(#REF!,'Points Lookup'!$A:$B,2,FALSE)","v":{"$error":"#REF!"}},{"$f":"VLOOKUP(#REF!,'Points Lookup'!$A:$B,2,FALSE)","v":{"$error":"#REF!"}},{"$f":"VLOOKUP(#REF!,'Points Lookup'!$A:$B,2,FALSE)","v":{"$error":"#REF!"}},{"$f":"VLOOKUP(#REF!,'Points Lookup'!$A:$B,2,FALSE)","v":{"$error":"#REF!"}},{"$f":"VLOOKUP(#REF!,'Points Lookup'!$A:$B,2,FALSE)","v":{"$error":"#REF!"}},{"$f":"VLOOKUP(#REF!,'Points Lookup'!$A:$B,2,FALSE)","v":{"$error":"#REF!"}},{"$f":"VLOOKUP(#REF!,'Points Lookup'!$A:$B,2,FALSE)","v":{"$error":"#REF!"}},{"$f":"VLOOKUP(#REF!,'Points Lookup'!$A:$B,2,FALSE)","v":{"$error":"#REF!"}},{"$f":"VLOOKUP(#REF!,'Points Lookup'!$A:$B,2,FALSE)","v":{"$error":"#REF!"}},{"$f":"VLOOKUP(#REF!,'Points Lookup'!$A:$B,2,FALSE)","v":{"$error":"#REF!"}},{"$f":"VLOOKUP(#REF!,'Points Lookup'!$A:$B,2,FALSE)","v":{"$error":"#REF!"}},{"$f":"VLOOKUP(#REF!,'Points Lookup'!$A:$B,2,FALSE)","v":{"$error":"#REF!"}},{"$f":"VLOOKUP(#REF!,'Points Lookup'!$A:$B,2,FALSE)","v":{"$error":"#REF!"}},{"$f":"VLOOKUP(#REF!,'Points Lookup'!$A:$B,2,FALSE)","v":{"$error":"#REF!"}},{"$f":"VLOOKUP(#REF!,'Points Lookup'!$A:$B,2,FALSE)","v":{"$error":"#REF!"}},{"$f":"VLOOKUP(#REF!,'Points Lookup'!$A:$B,2,FALSE)","v":{"$error":"#REF!"}},null,{"$error":"#REF!"},{"$error":"#REF!"},{"$error":"#REF!"},{"$error":"#REF!"},{"$error":"#REF!"},{"$error":"#REF!"},{"$error":"#REF!"},{"$error":"#REF!"}]
[{"$error":"#REF!"},{"$f":"#REF!","v":{"$error":"#REF!"}},{"$f":"IF(ISBLANK(#REF!),\"\",#REF!)","v":{"$error":"#REF!"}},{"$error":"#REF!"},{"$f":"VLOOKUP(#REF!,'Points Lookup'!$A:$B,2,FALSE)","v":{"$error":"#REF!"}},{"$f":"VLOOKUP(#REF!,'Points Lookup'!$A:$B,2,FALSE)","v":{"$error":"#REF!"}},{"$f":"VLOOKUP(#REF!,'Points Lookup'!$A:$B,2,FALSE)","v":{"$error":"#REF!"}},{"$f":"VLOOKUP(#REF!,'Points Lookup'!$A:$B,2,FALSE)","v":{"$error":"#REF!"}},{"$f":"VLOOKUP(#REF!,'Points Lookup'!$A:$B,2,FALSE)","v":{"$error":"#REF!"}},{"$f":"VLOOKUP(#REF!,'Points Lookup'!$A:$B,2,FALSE)","v":{"$error":"#REF!"}},{"$f":"VLOOKUP(#REF!,'Points Lookup'!$A:$B,2,FALSE)","v":{"$error":"#REF!"}},{"$f":"VLOOKUP(#REF!,'Points Lookup'!$A:$B,2,FALSE)","v":{"$error":"#REF!"}},{"$f":"VLOOKUP(#REF!,'Points Lookup'!$A:$B,2,FALSE)","v":{"$error":"#REF!"}},{"$f":"VLOOKUP(#REF!,'Points Lookup'!$A:$B,2,FALSE)","v":{"$error":"#REF!"}},{"$f":"VLOOKUP(#REF!,'Points Lookup'!$A:$B,2,FALSE)","v":{"$error":"#REF!"}},{"$f":"VLOOKUP(#REF!,'Points Lookup'!$A:$B,2,FALSE)","v":{"$error":"#REF!"}},{"$f":"VLOOKUP(#REF!,'Points Lookup'!$A:$B,2,FALSE)","v":{"$error":"#REF!"}},{"$f":"VLOOKUP(#REF!,'Points Lookup'!$A:$B,2,FALSE)","v":{"$error":"#REF!"}},{"$f":"VLOOKUP(#REF!,'Points Lookup'!$A:$B,2,FALSE)","v":{"$error":"#REF!"}},{"$f":"VLOOKUP(#REF!,'Points Lookup'!$A:$B,2,FALSE)","v":{"$error":"#REF!"}},{"$f":"VLOOKUP(#REF!,'Points Lookup'!$A:$B,2,FALSE)","v":{"$error":"#REF!"}},{"$f":"VLOOKUP(#REF!,'Points Lookup'!$A:$B,2,FALSE)","v":{"$error":"#REF!"}},{"$f":"VLOOKUP(#REF!,'Points Lookup'!$A:$B,2,FALSE)","v":{"$error":"#REF!"}},{"$f":"VLOOKUP(#REF!,'Points Lookup'!$A:$B,2,FALSE)","v":{"$error":"#REF!"}},null,{"$error":"#REF!"},{"$error":"#REF!"},{"$error":"#REF!"},{"$error":"#REF!"},{"$error":"#REF!"},{"$error":"#REF!"},{"$error":"#REF!"},{"$error":"#REF!"}]
[{"$error":"#REF!"},{"$f":"#REF!","v":{"$error":"#REF!"}},{"$f":"IF(ISBLANK(#REF!),\"\",#REF!)","v":{"$error":"#REF!"}},{"$error":"#REF!"},{"$f":"VLOOKUP(#REF!,'Points Lookup'!$A:$B,2,FALSE)","v":{"$error":"#REF!"}},{"$f":"VLOOKUP(#REF!,'Points Lookup'!$A:$B,2,FALSE)","v":{"$error":"#REF!"}},{"$f":"VLOOKUP(#REF!,'Points Lookup'!$A:$B,2,FALSE)","v":{"$error":"#REF!"}},{"$f":"VLOOKUP(#REF!,'Points Lookup'!$A:$B,2,FALSE)","v":{"$error":"#REF!"}},{"$f":"VLOOKUP(#REF!,'Points Lookup'!$A:$B,2,FALSE)","v":{"$error":"#REF!"}},{"$f":"VLOOKUP(#REF!,'Points Lookup'!$A:$B,2,FALSE)","v":{"$error":"#REF!"}},{"$f":"VLOOKUP(#REF!,'Points Lookup'!$A:$B,2,FALSE)","v":{"$error":"#REF!"}},{"$f":"VLOOKUP(#REF!,'Points Lookup'!$A:$B,2,FALSE)","v":{"$error":"#REF!"}},{"$f":"VLOOKUP(#REF!,'Points Lookup'!$A:$B,2,FALSE)","v":{"$error":"#REF!"}},{"$f":"VLOOKUP(#REF!,'Points Lookup'!$A:$B,2,FALSE)","v":{"$error":"#REF!"}},{"$f":"VLOOKUP(#REF!,'Points Lookup'!$A:$B,2,FALSE)","v":{"$error":"#REF!"}},{"$f":"VLOOKUP(#REF!,'Points Lookup'!$A:$B,2,FALSE)","v":{"$error":"#REF!"}},{"$f":"VLOOKUP(#REF!,'Points Lookup'!$A:$B,2,FALSE)","v":{"$error":"#REF!"}},{"$f":"VLOOKUP(#REF!,'Points Lookup'!$A:$B,2,FALSE)","v":{"$error":"#REF!"}},{"$f":"VLOOKUP(#REF!,'Points Lookup'!$A:$B,2,FALSE)","v":{"$error":"#REF!"}},{"$f":"VLOOKUP(#REF!,'Points Lookup'!$A:$B,2,FALSE)","v":{"$error":"#REF!"}},{"$f":"VLOOKUP(#REF!,'Points Lookup'!$A:$B,2,FALSE)","v":{"$error":"#REF!"}},{"$f":"VLOOKUP(#REF!,'Points Lookup'!$A:$B,2,FALSE)","v":{"$error":"#REF!"}},{"$f":"VLOOKUP(#REF!,'Points Lookup'!$A:$B,2,FALSE)","v":{"$error":"#REF!"}},{"$f":"VLOOKUP(#REF!,'Points Lookup'!$A:$B,2,FALSE)","v":{"$error":"#REF!"}},null,{"$error":"#REF!"},{"$error":"#REF!"},{"$error":"#REF!"},{"$error":"#REF!"},{"$error":"#REF!"},{"$error":"#REF!"},{"$error":"#REF!"},{"$error":"#REF!"}]
[{"$error":"#REF!"},{"$f":"#REF!","v":{"$error":"#REF!"}},{"$f":"IF(ISBLANK(#REF!),\"\",#REF!)","v":{"$error":"#REF!"}},{"$error":"#REF!"},{"$f":"VLOOKUP(#REF!,'Points Lookup'!$A:$B,2,FALSE)","v":{"$error":"#REF!"}},{"$f":"VLOOKUP(#REF!,'Points Lookup'!$A:$B,2,FALSE)","v":{"$error":"#REF!"}},{"$f":"VLOOKUP(#REF!,'Points Lookup'!$A:$B,2,FALSE)","v":{"$error":"#REF!"}},{"$f":"VLOOKUP(#REF!,'Points Lookup'!$A:$B,2,FALSE)","v":{"$error":"#REF!"}},{"$f":"VLOOKUP(#REF!,'Points Lookup'!$A:$B,2,FALSE)","v":{"$error":"#REF!"}},{"$f":"VLOOKUP(#REF!,'Points Lookup'!$A:$B,2,FALSE)","v":{"$error":"#REF!"}},{"$f":"VLOOKUP(#REF!,'Points Lookup'!$A:$B,2,FALSE)","v":{"$error":"#REF!"}},{"$f":"VLOOKUP(#REF!,'Points Lookup'!$A:$B,2,FALSE)","v":{"$error":"#REF!"}},{"$f":"VLOOKUP(#REF!,'Points Lookup'!$A:$B,2,FALSE)","v":{"$error":"#REF!"}},{"$f":"VLOOKUP(#REF!,'Points Lookup'!$A:$B,2,FALSE)","v":{"$error":"#REF!"}},{"$f":"VLOOKUP(#REF!,'Points Lookup'!$A:$B,2,FALSE)","v":{"$error":"#REF!"}},{"$f":"VLOOKUP(#REF!,'Points Lookup'!$A:$B,2,FALSE)","v":{"$error":"#REF!"}},{"$f":"VLOOKUP(#REF!,'Points Lookup'!$A:$B,2,FALSE)","v":{"$error":"#REF!"}},{"$f":"VLOOKUP(#REF!,'Points Lookup'!$A:$B,2,FALSE)","v":{"$error":"#REF!"}},{"$f":"VLOOKUP(#REF!,'Points Lookup'!$A:$B,2,FALSE)","v":{"$error":"#REF!"}},{"$f":"VLOOKUP(#REF!,'Points Lookup'!$A:$B,2,FALSE)","v":{"$error":"#REF!"}},{"$f":"VLOOKUP(#REF!,'Points Lookup'!$A:$B,2,FALSE)","v":{"$error":"#REF!"}},{"$f":"VLOOKUP(#REF!,'Points Lookup'!$A:$B,2,FALSE)","v":{"$error":"#REF!"}},{"$f":"VLOOKUP(#REF!,'Points Lookup'!$A:$B,2,FALSE)","v":{"$error":"#REF!"}},{"$f":"VLOOKUP(#REF!,'Points Lookup'!$A:$B,2,FALSE)","v":{"$error":"#REF!"}},null,{"$error":"#REF!"},{"$error":"#REF!"},{"$error":"#REF!"},{"$error":"#REF!"},{"$error":"#REF!"},{"$error":"#REF!"},{"$error":"#REF!"},{"$error":"#REF!"}]
[{"$error":"#REF!"},{"$f":"#REF!","v":{"$error":"#REF!"}},{"$f":"IF(ISBLANK(#REF!),\"\",#REF!)","v":{"$error":"#REF!"}},{"$error":"#REF!"},{"$f":"VLOOKUP(#REF!,'Points Lookup'!$A:$B,2,FALSE)","v":{"$error":"#REF!"}},{"$f":"VLOOKUP(#REF!,'Points Lookup'!$A:$B,2,FALSE)","v":{"$error":"#REF!"}},{"$f":"VLOOKUP(#REF!,'Points Lookup'!$A:$B,2,FALSE)","v":{"$error":"#REF!"}},{"$f":"VLOOKUP(#REF!,'Points Lookup'!$A:$B,2,FALSE)","v":{"$error":"#REF!"}},{"$f":"VLOOKUP(#REF!,'Points Lookup'!$A:$B,2,FALSE)","v":{"$error":"#REF!"}},{"$f":"VLOOKUP(#REF!,'Points Lookup'!$A:$B,2,FALSE)","v":{"$error":"#REF!"}},{"$f":"VLOOKUP(#REF!,'Points Lookup'!$A:$B,2,FALSE)","v":{"$error":"#REF!"}},{"$f":"VLOOKUP(#REF!,'Points Lookup'!$A:$B,2,FALSE)","v":{"$error":"#REF!"}},{"$f":"VLOOKUP(#REF!,'Points Lookup'!$A:$B,2,FALSE)","v":{"$error":"#REF!"}},{"$f":"VLOOKUP(#REF!,'Points Lookup'!$A:$B,2,FALSE)","v":{"$error":"#REF!"}},{"$f":"VLOOKUP(#REF!,'Points Lookup'!$A:$B,2,FALSE)","v":{"$error":"#REF!"}},{"$f":"VLOOKUP(#REF!,'Points Lookup'!$A:$B,2,FALSE)","v":{"$error":"#REF!"}},{"$f":"VLOOKUP(#REF!,'Points Lookup'!$A:$B,2,FALSE)","v":{"$error":"#REF!"}},{"$f":"VLOOKUP(#REF!,'Points Lookup'!$A:$B,2,FALSE)","v":{"$error":"#REF!"}},{"$f":"VLOOKUP(#REF!,'Points Lookup'!$A:$B,2,FALSE)","v":{"$error":"#REF!"}},{"$f":"VLOOKUP(#REF!,'Points Lookup'!$A:$B,2,FALSE)","v":{"$error":"#REF!"}},{"$f":"VLOOKUP(#REF!,'Points Lookup'!$A:$B,2,FALSE)","v":{"$error":"#REF!"}},{"$f":"VLOOKUP(#REF!,'Points Lookup'!$A:$B,2,FALSE)","v":{"$error":"#REF!"}},{"$f":"VLOOKUP(#REF!,'Points Lookup'!$A:$B,2,FALSE)","v":{"$error":"#REF!"}},{"$f":"VLOOKUP(#REF!,'Points Lookup'!$A:$B,2,FALSE)","v":{"$error":"#REF!"}},null,{"$error":"#REF!"},{"$error":"#REF!"},{"$error":"#REF!"},{"$error":"#REF!"},{"$error":"#REF!"},{"$error":"#REF!"},{"$error":"#REF!"},{"$error":"#REF!"}]
[{"$error":"#REF!"},{"$f":"#REF!","v":{"$error":"#REF!"}},{"$f":"IF(ISBLANK(#REF!),\"\",#REF!)","v":{"$error":"#REF!"}},{"$error":"#REF!"},{"$f":"VLOOKUP(#REF!,'Points Lookup'!$A:$B,2,FALSE)","v":{"$error":"#REF!"}},{"$f":"VLOOKUP(#REF!,'Points Lookup'!$A:$B,2,FALSE)","v":{"$error":"#REF!"}},{"$f":"VLOOKUP(#REF!,'Points Lookup'!$A:$B,2,FALSE)","v":{"$error":"#REF!"}},{"$f":"VLOOKUP(#REF!,'Points Lookup'!$A:$B,2,FALSE)","v":{"$error":"#REF!"}},{"$f":"VLOOKUP(#REF!,'Points Lookup'!$A:$B,2,FALSE)","v":{"$error":"#REF!"}},{"$f":"VLOOKUP(#REF!,'Points Lookup'!$A:$B,2,FALSE)","v":{"$error":"#REF!"}},{"$f":"VLOOKUP(#REF!,'Points Lookup'!$A:$B,2,FALSE)","v":{"$error":"#REF!"}},{"$f":"VLOOKUP(#REF!,'Points Lookup'!$A:$B,2,FALSE)","v":{"$error":"#REF!"}},{"$f":"VLOOKUP(#REF!,'Points Lookup'!$A:$B,2,FALSE)","v":{"$error":"#REF!"}},{"$f":"VLOOKUP(#REF!,'Points Lookup'!$A:$B,2,FALSE)","v":{"$error":"#REF!"}},{"$f":"VLOOKUP(#REF!,'Points Lookup'!$A:$B,2,FALSE)","v":{"$error":"#REF!"}},{"$f":"VLOOKUP(#REF!,'Points Lookup'!$A:$B,2,FALSE)","v":{"$error":"#REF!"}},{"$f":"VLOOKUP(#REF!,'Points Lookup'!$A:$B,2,FALSE)","v":{"$error":"#REF!"}},{"$f":"VLOOKUP(#REF!,'Points Lookup'!$A:$B,2,FALSE)","v":{"$error":"#REF!"}},{"$f":"VLOOKUP(#REF!,'Points Lookup'!$A:$B,2,FALSE)","v":{"$error":"#REF!"}},{"$f":"VLOOKUP(#REF!,'Points Lookup'!$A:$B,2,FALSE)","v":{"$error":"#REF!"}},{"$f":"VLOOKUP(#REF!,'Points Lookup'!$A:$B,2,FALSE)","v":{"$error":"#REF!"}},{"$f":"VLOOKUP(#REF!,'Points Lookup'!$A:$B,2,FALSE)","v":{"$error":"#REF!"}},{"$f":"VLOOKUP(#REF!,'Points Lookup'!$A:$B,2,FALSE)","v":{"$error":"#REF!"}},{"$f":"VLOOKUP(#REF!,'Points Lookup'!$A:$B,2,FALSE)","v":{"$error":"#REF!"}},null,{"$f":"LARGE($E42:$X42,Z$1)","v":{"$error":"#REF!"}},{"$error":"#REF!"},{"$error":"#REF!"},{"$error":"#REF!"},{"$error":"#REF!"},{"$error":"#REF!"},{"$error":"#REF!"},{"$error":"#REF!"}]
[{"$error":"#REF!"},{"$f":"#REF!","v":{"$error":"#REF!"}},{"$f":"IF(ISBLANK(#REF!),\"\",#REF!)","v":{"$error":"#REF!"}},{"$error":"#REF!"},{"$f":"VLOOKUP(#REF!,'Points Lookup'!$A:$B,2,FALSE)","v":{"$error":"#REF!"}},{"$f":"VLOOKUP(#REF!,'Points Lookup'!$A:$B,2,FALSE)","v":{"$error":"#REF!"}},{"$f":"VLOOKUP(#REF!,'Points Lookup'!$A:$B,2,FALSE)","v":{"$error":"#REF!"}},{"$f":"VLOOKUP(#REF!,'Points Lookup'!$A:$B,2,FALSE)","v":{"$error":"#REF!"}},{"$f":"VLOOKUP(#REF!,'Points Lookup'!$A:$B,2,FALSE)","v":{"$error":"#REF!"}},{"$f":"VLOOKUP(#REF!,'Points Lookup'!$A:$B,2,FALSE)","v":{"$error":"#REF!"}},{"$f":"VLOOKUP(#REF!,'Points Lookup'!$A:$B,2,FALSE)","v":{"$error":"#REF!"}},{"$f":"VLOOKUP(#REF!,'Points Lookup'!$A:$B,2,FALSE)","v":{"$error":"#REF!"}},{"$f":"VLOOKUP(#REF!,'Points Lookup'!$A:$B,2,FALSE)","v":{"$error":"#REF!"}},{"$f":"VLOOKUP(#REF!,'Points Lookup'!$A:$B,2,FALSE)","v":{"$error":"#REF!"}},{"$f":"VLOOKUP(#REF!,'Points Lookup'!$A:$B,2,FALSE)","v":{"$error":"#REF!"}},{"$f":"VLOOKUP(#REF!,'Points Lookup'!$A:$B,2,FALSE)","v":{"$error":"#REF!"}},{"$f":"VLOOKUP(#REF!,'Points Lookup'!$A:$B,2,FALSE)","v":{"$error":"#REF!"}},{"$f":"VLOOKUP(#REF!,'Points Lookup'!$A:$B,2,FALSE)","v":{"$error":"#REF!"}},{"$f":"VLOOKUP(#REF!,'Points Lookup'!$A:$B,2,FALSE)","v":{"$error":"#REF!"}},{"$f":"VLOOKUP(#REF!,'Points Lookup'!$A:$B,2,FALSE)","v":{"$error":"#REF!"}},{"$f":"VLOOKUP(#REF!,'Points Lookup'!$A:$B,2,FALSE)","v":{"$error":"#REF!"}},{"$f":"VLOOKUP(#REF!,'Points Lookup'!$A:$B,2,FALSE)","v":{"$error":"#REF!"}},{"$f":"VLOOKUP(#REF!,'Points Lookup'!$A:$B,2,FALSE)","v":{"$error":"#REF!"}},{"$f":"VLOOKUP(#REF!,'Points Lookup'!$A:$B,2,FALSE)","v":{"$error":"#REF!"}},null,{"$error":"#REF!"},{"$error":"#REF!"},{"$error":"#REF!"},{"$error":"#REF!"},{"$error":"#REF!"},{"$error":"#REF!"},{"$error":"#REF!"},{"$error":"#REF!"}]
[{"$error":"#REF!"},{"$f":"#REF!","v":{"$error":"#REF!"}},{"$f":"IF(ISBLANK(#REF!),\"\",#REF!)","v":{"$error":"#REF!"}},{"$error":"#REF!"},{"$f":"VLOOKUP(#REF!,'Points Lookup'!$A:$B,2,FALSE)","v":{"$error":"#REF!"}},{"$f":"VLOOKUP(#REF!,'Points Lookup'!$A:$B,2,FALSE)","v":{"$error":"#REF!"}},{"$f":"VLOOKUP(#REF!,'Points Lookup'!$A:$B,2,FALSE)","v":{"$error":"#REF!"}},{"$f":"VLOOKUP(#REF!,'Points Lookup'!$A:$B,2,FALSE)","v":{"$error":"#REF!"}},{"$f":"VLOOKUP(#REF!,'Points Lookup'!$A:$B,2,FALSE)","v":{"$error":"#REF!"}},{"$f":"VLOOKUP(#REF!,'Points Lookup'!$A:$B,2,FALSE)","v":{"$error":"#REF!"}},{"$f":"VLOOKUP(#REF!,'Points Lookup'!$A:$B,2,FALSE)","v":{"$error":"#REF!"}},{"$f":"VLOOKUP(#REF!,'Points Lookup'!$A:$B,2,FALSE)","v":{"$error":"#REF!"}},{"$f":"VLOOKUP(#REF!,'Points Lookup'!$A:$B,2,FALSE)","v":{"$error":"#REF!"}},{"$f":"VLOOKUP(#REF!,'Points Lookup'!$A:$B,2,FALSE)","v":{"$error":"#REF!"}},{"$f":"VLOOKUP(#REF!,'Points Lookup'!$A:$B,2,FALSE)","v":{"$error":"#REF!"}},{"$f":"VLOOKUP(#REF!,'Points Lookup'!$A:$B,2,FALSE)","v":{"$error":"#REF!"}},{"$f":"VLOOKUP(#REF!,'Points Lookup'!$A:$B,2,FALSE)","v":{"$error":"#REF!"}},{"$f":"VLOOKUP(#REF!,'Points Lookup'!$A:$B,2,FALSE)","v":{"$error":"#REF!"}},{"$f":"VLOOKUP(#REF!,'Points Lookup'!$A:$B,2,FALSE)","v":{"$error":"#REF!"}},{"$f":"VLOOKUP(#REF!,'Points Lookup'!$A:$B,2,FALSE)","v":{"$error":"#REF!"}},{"$f":"VLOOKUP(#REF!,'Points Lookup'!$A:$B,2,FALSE)","v":{"$error":"#REF!"}},{"$f":"VLOOKUP(#REF!,'Points Lookup'!$A:$B,2,FALSE)","v":{"$error":"#REF!"}},{"$f":"VLOOKUP(#REF!,'Points Lookup'!$A:$B,2,FALSE)","v":{"$error":"#REF!"}},{"$f":"VLOOKUP(#REF!,'Points Lookup'!$A:$B,2,FALSE)","v":{"$error":"#REF!"}},null,{"$error":"#REF!"},{"$error":"#REF!"},{"$error":"#REF!"},{"$error":"#REF!"},{"$error":"#REF!"},{"$error":"#REF!"},{"$error":"#REF!"},{"$error":"#REF!"}]
[{"$error":"#REF!"},{"$f":"#REF!","v":{"$error":"#REF!"}},{"$f":"IF(ISBLANK(#REF!),\"\",#REF!)","v":{"$error":"#REF!"}},{"$error":"#REF!"},{"$f":"VLOOKUP(#REF!,'Points Lookup'!$A:$B,2,FALSE)","v":{"$error":"#REF!"}},{"$f":"VLOOKUP(#REF!,'Points Lookup'!$A:$B,2,FALSE)","v":{"$error":"#REF!"}},{"$f":"VLOOKUP(#REF!,'Points Lookup'!$A:$B,2,FALSE)","v":{"$error":"#REF!"}},{"$f":"VLOOKUP(#REF!,'Points Lookup'!$A:$B,2,FALSE)","v":{"$error":"#REF!"}},{"$f":"VLOOKUP(#REF!,'Points Lookup'!$A:$B,2,FALSE)","v":{"$error":"#REF!"}},{"$f":"VLOOKUP(#REF!,'Points Lookup'!$A:$B,2,FALSE)","v":{"$error":"#REF!"}},{"$f":"VLOOKUP(#REF!,'Points Lookup'!$A:$B,2,FALSE)","v":{"$error":"#REF!"}},{"$f":"VLOOKUP(#REF!,'Points Lookup'!$A:$B,2,FALSE)","v":{"$error":"#REF!"}},{"$f":"VLOOKUP(#REF!,'Points Lookup'!$A:$B,2,FALSE)","v":{"$error":"#REF!"}},{"$f":"VLOOKUP(#REF!,'Points Lookup'!$A:$B,2,FALSE)","v":{"$error":"#REF!"}},{"$f":"VLOOKUP(#REF!,'Points Lookup'!$A:$B,2,FALSE)","v":{"$error":"#REF!"}},{"$f":"VLOOKUP(#REF!,'Points Lookup'!$A:$B,2,FALSE)","v":{"$error":"#REF!"}},{"$f":"VLOOKUP(#REF!,'Points Lookup'!$A:$B,2,FALSE)","v":{"$error":"#REF!"}},{"$f":"VLOOKUP(#REF!,'Points Lookup'!$A:$B,2,FALSE)","v":{"$error":"#REF!"}},{"$f":"VLOOKUP(#REF!,'Points Lookup'!$A:$B,2,FALSE)","v":{"$error":"#REF!"}},{"$f":"VLOOKUP(#REF!,'Points Lookup'!$A:$B,2,FALSE)","v":{"$error":"#REF!"}},{"$f":"VLOOKUP(#REF!,'Points Lookup'!$A:$B,2,FALSE)","v":{"$error":"#REF!"}},{"$f":"VLOOKUP(#REF!,'Points Lookup'!$A:$B,2,FALSE)","v":{"$error":"#REF!"}},{"$f":"VLOOKUP(#REF!,'Points Lookup'!$A:$B,2,FALSE)","v":{"$error":"#REF!"}},{"$f":"VLOOKUP(#REF!,'Points Lookup'!$A:$B,2,FALSE)","v":{"$error":"#REF!"}},null,{"$error":"#REF!"},{"$error":"#REF!"},{"$error":"#REF!"},{"$error":"#REF!"},{"$error":"#REF!"},{"$error":"#REF!"},{"$error":"#REF!"},{"$error":"#REF!"}]
[{"$error":"#REF!"},{"$f":"#REF!","v":{"$error":"#REF!"}},{"$f":"IF(ISBLANK(#REF!),\"\",#REF!)","v":{"$error":"#REF!"}},{"$error":"#REF!"},{"$f":"VLOOKUP(#REF!,'Points Lookup'!$A:$B,2,FALSE)","v":{"$error":"#REF!"}},{"$f":"VLOOKUP(#REF!,'Points Lookup'!$A:$B,2,FALSE)","v":{"$error":"#REF!"}},{"$f":"VLOOKUP(#REF!,'Points Lookup'!$A:$B,2,FALSE)","v":{"$error":"#REF!"}},{"$f":"VLOOKUP(#REF!,'Points Lookup'!$A:$B,2,FALSE)","v":{"$error":"#REF!"}},{"$f":"VLOOKUP(#REF!,'Points Lookup'!$A:$B,2,FALSE)","v":{"$error":"#REF!"}},{"$f":"VLOOKUP(#REF!,'Points Lookup'!$A:$B,2,FALSE)","v":{"$error":"#REF!"}},{"$f":"VLOOKUP(#REF!,'Points Lookup'!$A:$B,2,FALSE)","v":{"$error":"#REF!"}},{"$f":"VLOOKUP(#REF!,'Points Lookup'!$A:$B,2,FALSE)","v":{"$error":"#REF!"}},{"$f":"VLOOKUP(#REF!,'Points Lookup'!$A:$B,2,FALSE)","v":{"$error":"#REF!"}},{"$f":"VLOOKUP(#REF!,'Points Lookup'!$A:$B,2,FALSE)","v":{"$error":"#REF!"}},{"$f":"VLOOKUP(#REF!,'Points Lookup'!$A:$B,2,FALSE)","v":{"$error":"#REF!"}},{"$f":"VLOOKUP(#REF!,'Points Lookup'!$A:$B,2,FALSE)","v":{"$error":"#REF!"}},{"$f":"VLOOKUP(#REF!,'Points Lookup'!$A:$B,2,FALSE)","v":{"$error":"#REF!"}},{"$f":"VLOOKUP(#REF!,'Points Lookup'!$A:$B,2,FALSE)","v":{"$error":"#REF!"}},{"$f":"VLOOKUP(#REF!,'Points Lookup'!$A:$B,2,FALSE)","v":{"$error":"#REF!"}},{"$f":"VLOOKUP(#REF!,'Points Lookup'!$A:$B,2,FALSE)","v":{"$error":"#REF!"}},{"$f":"VLOOKUP(#REF!,'Points Lookup'!$A:$B,2,FALSE)","v":{"$error":"#REF!"}},{"$f":"VLOOKUP(#REF!,'Points Lookup'!$A:$B,2,FALSE)","v":{"$error":"#REF!"}},{"$f":"VLOOKUP(#REF!,'Points Lookup'!$A:$B,2,FALSE)","v":{"$error":"#REF!"}},{"$f":"VLOOKUP(#REF!,'Points Lookup'!$A:$B,2,FALSE)","v":{"$error":"#REF!"}},null,{"$error":"#REF!"},{"$error":"#REF!"},{"$error":"#REF!"},{"$error":"#REF!"},{"$error":"#REF!"},{"$error":"#REF!"},{"$error":"#REF!"},{"$error":"#REF!"}]
[{"$error":"#REF!"},{"$f":"#REF!","v":{"$error":"#REF!"}},{"$f":"IF(ISBLANK(#REF!),\"\",#REF!)","v":{"$error":"#REF!"}},{"$error":"#REF!"},{"$f":"VLOOKUP(#REF!,'Points Lookup'!$A:$B,2,FALSE)","v":{"$error":"#REF!"}},{"$f":"VLOOKUP(#REF!,'Points Lookup'!$A:$B,2,FALSE)","v":{"$error":"#REF!"}},{"$f":"VLOOKUP(#REF!,'Points Lookup'!$A:$B,2,FALSE)","v":{"$error":"#REF!"}},{"$f":"VLOOKUP(#REF!,'Points Lookup'!$A:$B,2,FALSE)","v":{"$error":"#REF!"}},{"$f":"VLOOKUP(#REF!,'Points Lookup'!$A:$B,2,FALSE)","v":{"$error":"#REF!"}},{"$f":"VLOOKUP(#REF!,'Points Lookup'!$A:$B,2,FALSE)","v":{"$error":"#REF!"}},{"$f":"VLOOKUP(#REF!,'Points Lookup'!$A:$B,2,FALSE)","v":{"$error":"#REF!"}},{"$f":"VLOOKUP(#REF!,'Points Lookup'!$A:$B,2,FALSE)","v":{"$error":"#REF!"}},{"$f":"VLOOKUP(#REF!,'Points Lookup'!$A:$B,2,FALSE)","v":{"$error":"#REF!"}},{"$f":"VLOOKUP(#REF!,'Points Lookup'!$A:$B,2,FALSE)","v":{"$error":"#REF!"}},{"$f":"VLOOKUP(#REF!,'Points Lookup'!$A:$B,2,FALSE)","v":{"$error":"#REF!"}},{"$f":"VLOOKUP(#REF!,'Points Lookup'!$A:$B,2,FALSE)","v":{"$error":"#REF!"}},{"$f":"VLOOKUP(#REF!,'Points Lookup'!$A:$B,2,FALSE)","v":{"$error":"#REF!"}},{"$f":"VLOOKUP(#REF!,'Points Lookup'!$A:$B,2,FALSE)","v":{"$error":"#REF!"}},{"$f":"VLOOKUP(#REF!,'Points Lookup'!$A:$B,2,FALSE)","v":{"$error":"#REF!"}},{"$f":"VLOOKUP(#REF!,'Points Lookup'!$A:$B,2,FALSE)","v":{"$error":"#REF!"}},{"$f":"VLOOKUP(#REF!,'Points Lookup'!$A:$B,2,FALSE)","v":{"$error":"#REF!"}},{"$f":"VLOOKUP(#REF!,'Points Lookup'!$A:$B,2,FALSE)","v":{"$error":"#REF!"}},{"$f":"VLOOKUP(#REF!,'Points Lookup'!$A:$B,2,FALSE)","v":{"$error":"#REF!"}},{"$f":"VLOOKUP(#REF!,'Points Lookup'!$A:$B,2,FALSE)","v":{"$error":"#REF!"}},null,{"$error":"#REF!"},{"$error":"#REF!"},{"$error":"#REF!"},{"$error":"#REF!"},{"$error":"#REF!"},{"$error":"#REF!"},{"$error":"#REF!"},{"$error":"#REF!"}]
[{"$error":"#REF!"},{"$f":"#REF!","v":{"$error":"#REF!"}},{"$f":"IF(ISBLANK(#REF!),\"\",#REF!)","v":{"$error":"#REF!"}},{"$error":"#REF!"},{"$f":"VLOOKUP(#REF!,'Points Lookup'!$A:$B,2,FALSE)","v":{"$error":"#REF!"}},{"$f":"VLOOKUP(#REF!,'Points Lookup'!$A:$B,2,FALSE)","v":{"$error":"#REF!"}},{"$f":"VLOOKUP(#REF!,'Points Lookup'!$A:$B,2,FALSE)","v":{"$error":"#REF!"}},{"$f":"VLOOKUP(#REF!,'Points Lookup'!$A:$B,2,FALSE)","v":{"$error":"#REF!"}},{"$f":"VLOOKUP(#REF!,'Points Lookup'!$A:$B,2,FALSE)","v":{"$error":"#REF!"}},{"$f":"VLOOKUP(#REF!,'Points Lookup'!$A:$B,2,FALSE)","v":{"$error":"#REF!"}},{"$f":"VLOOKUP(#REF!,'Points Lookup'!$A:$B,2,FALSE)","v":{"$error":"#REF!"}},{"$f":"VLOOKUP(#REF!,'Points Lookup'!$A:$B,2,FALSE)","v":{"$error":"#REF!"}},{"$f":"VLOOKUP(#REF!,'Points Lookup'!$A:$B,2,FALSE)","v":{"$error":"#REF!"}},{"$f":"VLOOKUP(#REF!,'Points Lookup'!$A:$B,2,FALSE)","v":{"$error":"#REF!"}},{"$f":"VLOOKUP(#REF!,'Points Lookup'!$A:$B,2,FALSE)","v":{"$error":"#REF!"}},{"$f":"VLOOKUP(#REF!,'Points Lookup'!$A:$B,2,FALSE)","v":{"$error":"#REF!"}},{"$f":"VLOOKUP(#REF!,'Points Lookup'!$A:$B,2,FALSE)","v":{"$error":"#REF!"}},{"$f":"VLOOKUP(#REF!,'Points Lookup'!$A:$B,2,FALSE)","v":{"$error":"#REF!"}},{"$f":"VLOOKUP(#REF!,'Points Lookup'!$A:$B,2,FALSE)","v":{"$error":"#REF!"}},{"$f":"VLOOKUP(#REF!,'Points Lookup'!$A:$B,2,FALSE)","v":{"$error":"#REF!"}},{"$f":"VLOOKUP(#REF!,'Points Lookup'!$A:$B,2,FALSE)","v":{"$error":"#REF!"}},{"$f":"VLOOKUP(#REF!,'Points Lookup'!$A:$B,2,FALSE)","v":{"$error":"#REF!"}},{"$f":"VLOOKUP(#REF!,'Points Lookup'!$A:$B,2,FALSE)","v":{"$error":"#REF!"}},{"$f":"VLOOKUP(#REF!,'Points Lookup'!$A:$B,2,FALSE)","v":{"$error":"#REF!"}},null,{"$error":"#REF!"},{"$error":"#REF!"},{"$error":"#REF!"},{"$error":"#REF!"},{"$error":"#REF!"},{"$error":"#REF!"},{"$error":"#REF!"},{"$error":"#REF!"}]
[{"$error":"#REF!"},{"$f":"#REF!","v":{"$error":"#REF!"}},{"$f":"IF(ISBLANK(#REF!),\"\",#REF!)","v":{"$error":"#REF!"}},{"$error":"#REF!"},{"$f":"VLOOKUP(#REF!,'Points Lookup'!$A:$B,2,FALSE)","v":{"$error":"#REF!"}},{"$f":"VLOOKUP(#REF!,'Points Lookup'!$A:$B,2,FALSE)","v":{"$error":"#REF!"}},{"$f":"VLOOKUP(#REF!,'Points Lookup'!$A:$B,2,FALSE)","v":{"$error":"#REF!"}},{"$f":"VLOOKUP(#REF!,'Points Lookup'!$A:$B,2,FALSE)","v":{"$error":"#REF!"}},{"$f":"VLOOKUP(#REF!,'Points Lookup'!$A:$B,2,FALSE)","v":{"$error":"#REF!"}},{"$f":"VLOOKUP(#REF!,'Points Lookup'!$A:$B,2,FALSE)","v":{"$error":"#REF!"}},{"$f":"VLOOKUP(#REF!,'Points Lookup'!$A:$B,2,FALSE)","v":{"$error":"#REF!"}},{"$f":"VLOOKUP(#REF!,'Points Lookup'!$A:$B,2,FALSE)","v":{"$error":"#REF!"}},{"$f":"VLOOKUP(#REF!,'Points Lookup'!$A:$B,2,FALSE)","v":{"$error":"#REF!"}},{"$f":"VLOOKUP(#REF!,'Points Lookup'!$A:$B,2,FALSE)","v":{"$error":"#REF!"}},{"$f":"VLOOKUP(#REF!,'Points Lookup'!$A:$B,2,FALSE)","v":{"$error":"#REF!"}},{"$f":"VLOOKUP(#REF!,'Points Lookup'!$A:$B,2,FALSE)","v":{"$error":"#REF!"}},{"$f":"VLOOKUP(#REF!,'Points Lookup'!$A:$B,2,FALSE)","v":{"$error":"#REF!"}},{"$f":"VLOOKUP(#REF!,'Points Lookup'!$A:$B,2,FALSE)","v":{"$error":"#REF!"}},{"$f":"VLOOKUP(#REF!,'Points Lookup'!$A:$B,2,FALSE)","v":{"$error":"#REF!"}},{"$f":"VLOOKUP(#REF!,'Points Lookup'!$A:$B,2,FALSE)","v":{"$error":"#REF!"}},{"$f":"VLOOKUP(#REF!,'Points Lookup'!$A:$B,2,FALSE)","v":{"$error":"#REF!"}},{"$f":"VLOOKUP(#REF!,'Points Lookup'!$A:$B,2,FALSE)","v":{"$error":"#REF!"}},{"$f":"VLOOKUP(#REF!,'Points Lookup'!$A:$B,2,FALSE)","v":{"$error":"#REF!"}},{"$f":"VLOOKUP(#REF!,'Points Lookup'!$A:$B,2,FALSE)","v":{"$error":"#REF!"}},null,{"$error":"#REF!"},{"$error":"#REF!"},{"$error":"#REF!"},{"$error":"#REF!"},{"$error":"#REF!"},{"$error":"#REF!"},{"$error":"#REF!"},{"$error":"#REF!"}]
[{"$error":"#REF!"},{"$f":"#REF!","v":{"$error":"#REF!"}},{"$f":"IF(ISBLANK(#REF!),\"\",#REF!)","v":{"$error":"#REF!"}},{"$error":"#REF!"},{"$f":"VLOOKUP(#REF!,'Points Lookup'!$A:$B,2,FALSE)","v":{"$error":"#REF!"}},{"$f":"VLOOKUP(#REF!,'Points Lookup'!$A:$B,2,FALSE)","v":{"$error":"#REF!"}},{"$f":"VLOOKUP(#REF!,'Points Lookup'!$A:$B,2,FALSE)","v":{"$error":"#REF!"}},{"$f":"VLOOKUP(#REF!,'Points Lookup'!$A:$B,2,FALSE)","v":{"$error":"#REF!"}},{"$f":"VLOOKUP(#REF!,'Points Lookup'!$A:$B,2,FALSE)","v":{"$error":"#REF!"}},{"$f":"VLOOKUP(#REF!,'Points Lookup'!$A:$B,2,FALSE)","v":{"$error":"#REF!"}},{"$f":"VLOOKUP(#REF!,'Points Lookup'!$A:$B,2,FALSE)","v":{"$error":"#REF!"}},{"$f":"VLOOKUP(#REF!,'Points Lookup'!$A:$B,2,FALSE)","v":{"$error":"#REF!"}},{"$f":"VLOOKUP(#REF!,'Points Lookup'!$A:$B,2,FALSE)","v":{"$error":"#REF!"}},{"$f":"VLOOKUP(#REF!,'Points Lookup'!$A:$B,2,FALSE)","v":{"$error":"#REF!"}},{"$f":"VLOOKUP(#REF!,'Points Lookup'!$A:$B,2,FALSE)","v":{"$error":"#REF!"}},{"$f":"VLOOKUP(#REF!,'Points Lookup'!$A:$B,2,FALSE)","v":{"$error":"#REF!"}},{"$f":"VLOOKUP(#REF!,'Points Lookup'!$A:$B,2,FALSE)","v":{"$error":"#REF!"}},{"$f":"VLOOKUP(#REF!,'Points Lookup'!$A:$B,2,FALSE)","v":{"$error":"#REF!"}},{"$f":"VLOOKUP(#REF!,'Points Lookup'!$A:$B,2,FALSE)","v":{"$error":"#REF!"}},{"$f":"VLOOKUP(#REF!,'Points Lookup'!$A:$B,2,FALSE)","v":{"$error":"#REF!"}},{"$f":"VLOOKUP(#REF!,'Points Lookup'!$A:$B,2,FALSE)","v":{"$error":"#REF!"}},{"$f":"VLOOKUP(#REF!,'Points Lookup'!$A:$B,2,FALSE)","v":{"$error":"#REF!"}},{"$f":"VLOOKUP(#REF!,'Points Lookup'!$A:$B,2,FALSE)","v":{"$error":"#REF!"}},{"$f":"VLOOKUP(#REF!,'Points Lookup'!$A:$B,2,FALSE)","v":{"$error":"#REF!"}},null,{"$error":"#REF!"},{"$error":"#REF!"},{"$error":"#REF!"},{"$error":"#REF!"},{"$error":"#REF!"},{"$error":"#REF!"},{"$error":"#REF!"},{"$error":"#REF!"}]
[{"$error":"#REF!"},{"$f":"#REF!","v":{"$error":"#REF!"}},{"$f":"IF(ISBLANK(#REF!),\"\",#REF!)","v":{"$error":"#REF!"}},{"$error":"#REF!"},{"$f":"VLOOKUP(#REF!,'Points Lookup'!$A:$B,2,FALSE)","v":{"$error":"#REF!"}},{"$f":"VLOOKUP(#REF!,'Points Lookup'!$A:$B,2,FALSE)","v":{"$error":"#REF!"}},{"$f":"VLOOKUP(#REF!,'Points Lookup'!$A:$B,2,FALSE)","v":{"$error":"#REF!"}},{"$f":"VLOOKUP(#REF!,'Points Lookup'!$A:$B,2,FALSE)","v":{"$error":"#REF!"}},{"$f":"VLOOKUP(#REF!,'Points Lookup'!$A:$B,2,FALSE)","v":{"$error":"#REF!"}},{"$f":"VLOOKUP(#REF!,'Points Lookup'!$A:$B,2,FALSE)","v":{"$error":"#REF!"}},{"$f":"VLOOKUP(#REF!,'Points Lookup'!$A:$B,2,FALSE)","v":{"$error":"#REF!"}},{"$f":"VLOOKUP(#REF!,'Points Lookup'!$A:$B,2,FALSE)","v":{"$error":"#REF!"}},{"$f":"VLOOKUP(#REF!,'Points Lookup'!$A:$B,2,FALSE)","v":{"$error":"#REF!"}},{"$f":"VLOOKUP(#REF!,'Points Lookup'!$A:$B,2,FALSE)","v":{"$error":"#REF!"}},{"$f":"VLOOKUP(#REF!,'Points Lookup'!$A:$B,2,FALSE)","v":{"$error":"#REF!"}},{"$f":"VLOOKUP(#REF!,'Points Lookup'!$A:$B,2,FALSE)","v":{"$error":"#REF!"}},{"$f":"VLOOKUP(#REF!,'Points Lookup'!$A:$B,2,FALSE)","v":{"$error":"#REF!"}},{"$f":"VLOOKUP(#REF!,'Points Lookup'!$A:$B,2,FALSE)","v":{"$error":"#REF!"}},{"$f":"VLOOKUP(#REF!,'Points Lookup'!$A:$B,2,FALSE)","v":{"$error":"#REF!"}},{"$f":"VLOOKUP(#REF!,'Points Lookup'!$A:$B,2,FALSE)","v":{"$error":"#REF!"}},{"$f":"VLOOKUP(#REF!,'Points Lookup'!$A:$B,2,FALSE)","v":{"$error":"#REF!"}},{"$f":"VLOOKUP(#REF!,'Points Lookup'!$A:$B,2,FALSE)","v":{"$error":"#REF!"}},{"$f":"VLOOKUP(#REF!,'Points Lookup'!$A:$B,2,FALSE)","v":{"$error":"#REF!"}},{"$f":"VLOOKUP(#REF!,'Points Lookup'!$A:$B,2,FALSE)","v":{"$error":"#REF!"}},null,{"$error":"#REF!"},{"$error":"#REF!"},{"$error":"#REF!"},{"$error":"#REF!"},{"$error":"#REF!"},{"$error":"#REF!"},{"$error":"#REF!"},{"$error":"#REF!"}]
[{"$error":"#REF!"},{"$f":"#REF!","v":{"$error":"#REF!"}},{"$f":"IF(ISBLANK(#REF!),\"\",#REF!)","v":{"$error":"#REF!"}},{"$error":"#REF!"},{"$f":"VLOOKUP(#REF!,'Points Lookup'!$A:$B,2,FALSE)","v":{"$error":"#REF!"}},{"$f":"VLOOKUP(#REF!,'Points Lookup'!$A:$B,2,FALSE)","v":{"$error":"#REF!"}},{"$f":"VLOOKUP(#REF!,'Points Lookup'!$A:$B,2,FALSE)","v":{"$error":"#REF!"}},{"$f":"VLOOKUP(#REF!,'Points Lookup'!$A:$B,2,FALSE)","v":{"$error":"#REF!"}},{"$f":"VLOOKUP(#REF!,'Points Lookup'!$A:$B,2,FALSE)","v":{"$error":"#REF!"}},{"$f":"VLOOKUP(#REF!,'Points Lookup'!$A:$B,2,FALSE)","v":{"$error":"#REF!"}},{"$f":"VLOOKUP(#REF!,'Points Lookup'!$A:$B,2,FALSE)","v":{"$error":"#REF!"}},{"$f":"VLOOKUP(#REF!,'Points Lookup'!$A:$B,2,FALSE)","v":{"$error":"#REF!"}},{"$f":"VLOOKUP(#REF!,'Points Lookup'!$A:$B,2,FALSE)","v":{"$error":"#REF!"}},{"$f":"VLOOKUP(#REF!,'Points Lookup'!$A:$B,2,FALSE)","v":{"$error":"#REF!"}},{"$f":"VLOOKUP(#REF!,'Points Lookup'!$A:$B,2,FALSE)","v":{"$error":"#REF!"}},{"$f":"VLOOKUP(#REF!,'Points Lookup'!$A:$B,2,FALSE)","v":{"$error":"#REF!"}},{"$f":"VLOOKUP(#REF!,'Points Lookup'!$A:$B,2,FALSE)","v":{"$error":"#REF!"}},{"$f":"VLOOKUP(#REF!,'Points Lookup'!$A:$B,2,FALSE)","v":{"$error":"#REF!"}},{"$f":"VLOOKUP(#REF!,'Points Lookup'!$A:$B,2,FALSE)","v":{"$error":"#REF!"}},{"$f":"VLOOKUP(#REF!,'Points Lookup'!$A:$B,2,FALSE)","v":{"$error":"#REF!"}},{"$f":"VLOOKUP(#REF!,'Points Lookup'!$A:$B,2,FALSE)","v":{"$error":"#REF!"}},{"$f":"VLOOKUP(#REF!,'Points Lookup'!$A:$B,2,FALSE)","v":{"$error":"#REF!"}},{"$f":"VLOOKUP(#REF!,'Points Lookup'!$A:$B,2,FALSE)","v":{"$error":"#REF!"}},{"$f":"VLOOKUP(#REF!,'Points Lookup'!$A:$B,2,FALSE)","v":{"$error":"#REF!"}},null,{"$f":"LARGE($E52:$X52,Z$1)","v":{"$error":"#REF!"}},{"$error":"#REF!"},{"$error":"#REF!"},{"$error":"#REF!"},{"$error":"#REF!"},{"$error":"#REF!"},{"$error":"#REF!"},{"$error":"#REF!"}]
[{"$error":"#REF!"},{"$f":"#REF!","v":{"$error":"#REF!"}},{"$f":"IF(ISBLANK(#REF!),\"\",#REF!)","v":{"$error":"#REF!"}},{"$error":"#REF!"},{"$f":"VLOOKUP(#REF!,'Points Lookup'!$A:$B,2,FALSE)","v":{"$error":"#REF!"}},{"$f":"VLOOKUP(#REF!,'Points Lookup'!$A:$B,2,FALSE)","v":{"$error":"#REF!"}},{"$f":"VLOOKUP(#REF!,'Points Lookup'!$A:$B,2,FALSE)","v":{"$error":"#REF!"}},{"$f":"VLOOKUP(#REF!,'Points Lookup'!$A:$B,2,FALSE)","v":{"$error":"#REF!"}},{"$f":"VLOOKUP(#REF!,'Points Lookup'!$A:$B,2,FALSE)","v":{"$error":"#REF!"}},{"$f":"VLOOKUP(#REF!,'Points Lookup'!$A:$B,2,FALSE)","v":{"$error":"#REF!"}},{"$f":"VLOOKUP(#REF!,'Points Lookup'!$A:$B,2,FALSE)","v":{"$error":"#REF!"}},{"$f":"VLOOKUP(#REF!,'Points Lookup'!$A:$B,2,FALSE)","v":{"$error":"#REF!"}},{"$f":"VLOOKUP(#REF!,'Points Lookup'!$A:$B,2,FALSE)","v":{"$error":"#REF!"}},{"$f":"VLOOKUP(#REF!,'Points Lookup'!$A:$B,2,FALSE)","v":{"$error":"#REF!"}},{"$f":"VLOOKUP(#REF!,'Points Lookup'!$A:$B,2,FALSE)","v":{"$error":"#REF!"}},{"$f":"VLOOKUP(#REF!,'Points Lookup'!$A:$B,2,FALSE)","v":{"$error":"#REF!"}},{"$f":"VLOOKUP(#REF!,'Points Lookup'!$A:$B,2,FALSE)","v":{"$error":"#REF!"}},{"$f":"VLOOKUP(#REF!,'Points Lookup'!$A:$B,2,FALSE)","v":{"$error":"#REF!"}},{"$f":"VLOOKUP(#REF!,'Points Lookup'!$A:$B,2,FALSE)","v":{"$error":"#REF!"}},{"$f":"VLOOKUP(#REF!,'Points Lookup'!$A:$B,2,FALSE)","v":{"$error":"#REF!"}},{"$f":"VLOOKUP(#REF!,'Points Lookup'!$A:$B,2,FALSE)","v":{"$error":"#REF!"}},{"$f":"VLOOKUP(#REF!,'Points Lookup'!$A:$B,2,FALSE)","v":{"$error":"#REF!"}},{"$f":"VLOOKUP(#REF!,'Points Lookup'!$A:$B,2,FALSE)","v":{"$error":"#REF!"}},{"$f":"VLOOKUP(#REF!,'Points Lookup'!$A:$B,2,FALSE)","v":{"$error":"#REF!"}},null,{"$error":"#REF!"},{"$error":"#REF!"},{"$error":"#REF!"},{"$error":"#REF!"},{"$error":"#REF!"},{"$error":"#REF!"},{"$error":"#REF!"},{"$error":"#REF!"}]
[{"$error":"#REF!"},{"$f":"#REF!","v":{"$error":"#REF!"}},{"$f":"IF(ISBLANK(#REF!),\"\",#REF!)","v":{"$error":"#REF!"}},{"$error":"#REF!"},{"$f":"VLOOKUP(#REF!,'Points Lookup'!$A:$B,2,FALSE)","v":{"$error":"#REF!"}},{"$f":"VLOOKUP(#REF!,'Points Lookup'!$A:$B,2,FALSE)","v":{"$error":"#REF!"}},{"$f":"VLOOKUP(#REF!,'Points Lookup'!$A:$B,2,FALSE)","v":{"$error":"#REF!"}},{"$f":"VLOOKUP(#REF!,'Points Lookup'!$A:$B,2,FALSE)","v":{"$error":"#REF!"}},{"$f":"VLOOKUP(#REF!,'Points Lookup'!$A:$B,2,FALSE)","v":{"$error":"#REF!"}},{"$f":"VLOOKUP(#REF!,'Points Lookup'!$A:$B,2,FALSE)","v":{"$error":"#REF!"}},{"$f":"VLOOKUP(#REF!,'Points Lookup'!$A:$B,2,FALSE)","v":{"$error":"#REF!"}},{"$f":"VLOOKUP(#REF!,'Points Lookup'!$A:$B,2,FALSE)","v":{"$error":"#REF!"}},{"$f":"VLOOKUP(#REF!,'Points Lookup'!$A:$B,2,FALSE)","v":{"$error":"#REF!"}},{"$f":"VLOOKUP(#REF!,'Points Lookup'!$A:$B,2,FALSE)","v":{"$error":"#REF!"}},{"$f":"VLOOKUP(#REF!,'Points Lookup'!$A:$B,2,FALSE)","v":{"$error":"#REF!"}},{"$f":"VLOOKUP(#REF!,'Points Lookup'!$A:$B,2,FALSE)","v":{"$error":"#REF!"}},{"$f":"VLOOKUP(#REF!,'Points Lookup'!$A:$B,2,FALSE)","v":{"$error":"#REF!"}},{"$f":"VLOOKUP(#REF!,'Points Lookup'!$A:$B,2,FALSE)","v":{"$error":"#REF!"}},{"$f":"VLOOKUP(#REF!,'Points Lookup'!$A:$B,2,FALSE)","v":{"$error":"#REF!"}},{"$f":"VLOOKUP(#REF!,'Points Lookup'!$A:$B,2,FALSE)","v":{"$error":"#REF!"}},{"$f":"VLOOKUP(#REF!,'Points Lookup'!$A:$B,2,FALSE)","v":{"$error":"#REF!"}},{"$f":"VLOOKUP(#REF!,'Points Lookup'!$A:$B,2,FALSE)","v":{"$error":"#REF!"}},{"$f":"VLOOKUP(#REF!,'Points Lookup'!$A:$B,2,FALSE)","v":{"$error":"#REF!"}},{"$f":"VLOOKUP(#REF!,'Points Lookup'!$A:$B,2,FALSE)","v":{"$error":"#REF!"}},null,{"$error":"#REF!"},{"$error":"#REF!"},{"$error":"#REF!"},{"$error":"#REF!"},{"$error":"#REF!"},{"$error":"#REF!"},{"$error":"#REF!"},{"$error":"#REF!"}]
[{"$error":"#REF!"},{"$f":"#REF!","v":{"$error":"#REF!"}},{"$f":"IF(ISBLANK(#REF!),\"\",#REF!)","v":{"$error":"#REF!"}},{"$error":"#REF!"},{"$f":"VLOOKUP(#REF!,'Points Lookup'!$A:$B,2,FALSE)","v":{"$error":"#REF!"}},{"$f":"VLOOKUP(#REF!,'Points Lookup'!$A:$B,2,FALSE)","v":{"$error":"#REF!"}},{"$f":"VLOOKUP(#REF!,'Points Lookup'!$A:$B,2,FALSE)","v":{"$error":"#REF!"}},{"$f":"VLOOKUP(#REF!,'Points Lookup'!$A:$B,2,FALSE)","v":{"$error":"#REF!"}},{"$f":"VLOOKUP(#REF!,'Points Lookup'!$A:$B,2,FALSE)","v":{"$error":"#REF!"}},{"$f":"VLOOKUP(#REF!,'Points Lookup'!$A:$B,2,FALSE)","v":{"$error":"#REF!"}},{"$f":"VLOOKUP(#REF!,'Points Lookup'!$A:$B,2,FALSE)","v":{"$error":"#REF!"}},{"$f":"VLOOKUP(#REF!,'Points Lookup'!$A:$B,2,FALSE)","v":{"$error":"#REF!"}},{"$f":"VLOOKUP(#REF!,'Points Lookup'!$A:$B,2,FALSE)","v":{"$error":"#REF!"}},{"$f":"VLOOKUP(#REF!,'Points Lookup'!$A:$B,2,FALSE)","v":{"$error":"#REF!"}},{"$f":"VLOOKUP(#REF!,'Points Lookup'!$A:$B,2,FALSE)","v":{"$error":"#REF!"}},{"$f":"VLOOKUP(#REF!,'Points Lookup'!$A:$B,2,FALSE)","v":{"$error":"#REF!"}},{"$f":"VLOOKUP(#REF!,'Points Lookup'!$A:$B,2,FALSE)","v":{"$error":"#REF!"}},{"$f":"VLOOKUP(#REF!,'Points Lookup'!$A:$B,2,FALSE)","v":{"$error":"#REF!"}},{"$f":"VLOOKUP(#REF!,'Points Lookup'!$A:$B,2,FALSE)","v":{"$error":"#REF!"}},{"$f":"VLOOKUP(#REF!,'Points Lookup'!$A:$B,2,FALSE)","v":{"$error":"#REF!"}},{"$f":"VLOOKUP(#REF!,'Points Lookup'!$A:$B,2,FALSE)","v":{"$error":"#REF!"}},{"$f":"VLOOKUP(#REF!,'Points Lookup'!$A:$B,2,FALSE)","v":{"$error":"#REF!"}},{"$f":"VLOOKUP(#REF!,'Points Lookup'!$A:$B,2,FALSE)","v":{"$error":"#REF!"}},{"$f":"VLOOKUP(#REF!,'Points Lookup'!$A:$B,2,FALSE)","v":{"$error":"#REF!"}},null,{"$error":"#REF!"},{"$error":"#REF!"},{"$error":"#REF!"},{"$error":"#REF!"},{"$error":"#REF!"},{"$error":"#REF!"},{"$error":"#REF!"},{"$error":"#REF!"}]
[{"$error":"#REF!"},{"$f":"#REF!","v":{"$error":"#REF!"}},{"$f":"IF(ISBLANK(#REF!),\"\",#REF!)","v":{"$error":"#REF!"}},{"$error":"#REF!"},{"$f":"VLOOKUP(#REF!,'Points Lookup'!$A:$B,2,FALSE)","v":{"$error":"#REF!"}},{"$f":"VLOOKUP(#REF!,'Points Lookup'!$A:$B,2,FALSE)","v":{"$error":"#REF!"}},{"$f":"VLOOKUP(#REF!,'Points Lookup'!$A:$B,2,FALSE)","v":{"$error":"#REF!"}},{"$f":"VLOOKUP(#REF!,'Points Lookup'!$A:$B,2,FALSE)","v":{"$error":"#REF!"}},{"$f":"VLOOKUP(#REF!,'Points Lookup'!$A:$B,2,FALSE)","v":{"$error":"#REF!"}},{"$f":"VLOOKUP(#REF!,'Points Lookup'!$A:$B,2,FALSE)","v":{"$error":"#REF!"}},{"$f":"VLOOKUP(#REF!,'Points Lookup'!$A:$B,2,FALSE)","v":{"$error":"#REF!"}},{"$f":"VLOOKUP(#REF!,'Points Lookup'!$A:$B,2,FALSE)","v":{"$error":"#REF!"}},{"$f":"VLOOKUP(#REF!,'Points Lookup'!$A:$B,2,FALSE)","v":{"$error":"#REF!"}},{"$f":"VLOOKUP(#REF!,'Points Lookup'!$A:$B,2,FALSE)","v":{"$error":"#REF!"}},{"$f":"VLOOKUP(#REF!,'Points Lookup'!$A:$B,2,FALSE)","v":{"$error":"#REF!"}},{"$f":"VLOOKUP(#REF!,'Points Lookup'!$A:$B,2,FALSE)","v":{"$error":"#REF!"}},{"$f":"VLOOKUP(#REF!,'Points Lookup'!$A:$B,2,FALSE)","v":{"$error":"#REF!"}},{"$f":"VLOOKUP(#REF!,'Points Lookup'!$A:$B,2,FALSE)","v":{"$error":"#REF!"}},{"$f":"VLOOKUP(#REF!,'Points Lookup'!$A:$B,2,FALSE)","v":{"$error":"#REF!"}},{"$f":"VLOOKUP(#REF!,'Points Lookup'!$A:$B,2,FALSE)","v":{"$error":"#REF!"}},{"$f":"VLOOKUP(#REF!,'Points Lookup'!$A:$B,2,FALSE)","v":{"$error":"#REF!"}},{"$f":"VLOOKUP(#REF!,'Points Lookup'!$A:$B,2,FALSE)","v":{"$error":"#REF!"}},{"$f":"VLOOKUP(#REF!,'Points Lookup'!$A:$B,2,FALSE)","v":{"$error":"#REF!"}},{"$f":"VLOOKUP(#REF!,'Points Lookup'!$A:$B,2,FALSE)","v":{"$error":"#REF!"}},null,{"$error":"#REF!"},{"$error":"#REF!"},{"$error":"#REF!"},{"$error":"#REF!"},{"$error":"#REF!"},{"$error":"#REF!"},{"$error":"#REF!"},{"$error":"#REF!"}]
[{"$error":"#REF!"},{"$f":"#REF!","v":{"$error":"#REF!"}},{"$f":"IF(ISBLANK(#REF!),\"\",#REF!)","v":{"$error":"#REF!"}},{"$error":"#REF!"},{"$f":"VLOOKUP(#REF!,'Points Lookup'!$A:$B,2,FALSE)","v":{"$error":"#REF!"}},{"$f":"VLOOKUP(#REF!,'Points Lookup'!$A:$B,2,FALSE)","v":{"$error":"#REF!"}},{"$f":"VLOOKUP(#REF!,'Points Lookup'!$A:$B,2,FALSE)","v":{"$error":"#REF!"}},{"$f":"VLOOKUP(#REF!,'Points Lookup'!$A:$B,2,FALSE)","v":{"$error":"#REF!"}},{"$f":"VLOOKUP(#REF!,'Points Lookup'!$A:$B,2,FALSE)","v":{"$error":"#REF!"}},{"$f":"VLOOKUP(#REF!,'Points Lookup'!$A:$B,2,FALSE)","v":{"$error":"#REF!"}},{"$f":"VLOOKUP(#REF!,'Points Lookup'!$A:$B,2,FALSE)","v":{"$error":"#REF!"}},{"$f":"VLOOKUP(#REF!,'Points Lookup'!$A:$B,2,FALSE)","v":{"$error":"#REF!"}},{"$f":"VLOOKUP(#REF!,'Points Lookup'!$A:$B,2,FALSE)","v":{"$error":"#REF!"}},{"$f":"VLOOKUP(#REF!,'Points Lookup'!$A:$B,2,FALSE)","v":{"$error":"#REF!"}},{"$f":"VLOOKUP(#REF!,'Points Lookup'!$A:$B,2,FALSE)","v":{"$error":"#REF!"}},{"$f":"VLOOKUP(#REF!,'Points Lookup'!$A:$B,2,FALSE)","v":{"$error":"#REF!"}},{"$f":"VLOOKUP(#REF!,'Points Lookup'!$A:$B,2,FALSE)","v":{"$error":"#REF!"}},{"$f":"VLOOKUP(#REF!,'Points Lookup'!$A:$B,2,FALSE)","v":{"$error":"#REF!"}},{"$f":"VLOOKUP(#REF!,'Points Lookup'!$A:$B,2,FALSE)","v":{"$error":"#REF!"}},{"$f":"VLOOKUP(#REF!,'Points Lookup'!$A:$B,2,FALSE)","v":{"$error":"#REF!"}},{"$f":"VLOOKUP(#REF!,'Points Lookup'!$A:$B,2,FALSE)","v":{"$error":"#REF!"}},{"$f":"VLOOKUP(#REF!,'Points Lookup'!$A:$B,2,FALSE)","v":{"$error":"#REF!"}},{"$f":"VLOOKUP(#REF!,'Points Lookup'!$A:$B,2,FALSE)","v":{"$error":"#REF!"}},{"$f":"VLOOKUP(#REF!,'Points Lookup'!$A:$B,2,FALSE)","v":{"$error":"#REF!"}},null,{"$error":"#REF!"},{"$error":"#REF!"},{"$error":"#REF!"},{"$error":"#REF!"},{"$error":"#REF!"},{"$error":"#REF!"},{"$error":"#REF!"},{"$error":"#REF!"}]
[{"$error":"#REF!"},{"$f":"#REF!","v":{"$error":"#REF!"}},{"$f":"IF(ISBLANK(#REF!),\"\",#REF!)","v":{"$error":"#REF!"}},{"$error":"#REF!"},{"$f":"VLOOKUP(#REF!,'Points Lookup'!$A:$B,2,FALSE)","v":{"$error":"#REF!"}},{"$f":"VLOOKUP(#REF!,'Points Lookup'!$A:$B,2,FALSE)","v":{"$error":"#REF!"}},{"$f":"VLOOKUP(#REF!,'Points Lookup'!$A:$B,2,FALSE)","v":{"$error":"#REF!"}},{"$f":"VLOOKUP(#REF!,'Points Lookup'!$A:$B,2,FALSE)","v":{"$error":"#REF!"}},{"$f":"VLOOKUP(#REF!,'Points Lookup'!$A:$B,2,FALSE)","v":{"$error":"#REF!"}},{"$f":"VLOOKUP(#REF!,'Points Lookup'!$A:$B,2,FALSE)","v":{"$error":"#REF!"}},{"$f":"VLOOKUP(#REF!,'Points Lookup'!$A:$B,2,FALSE)","v":{"$error":"#REF!"}},{"$f":"VLOOKUP(#REF!,'Points Lookup'!$A:$B,2,FALSE)","v":{"$error":"#REF!"}},{"$f":"VLOOKUP(#REF!,'Points Lookup'!$A:$B,2,FALSE)","v":{"$error":"#REF!"}},{"$f":"VLOOKUP(#REF!,'Points Lookup'!$A:$B,2,FALSE)","v":{"$error":"#REF!"}},{"$f":"VLOOKUP(#REF!,'Points Lookup'!$A:$B,2,FALSE)","v":{"$error":"#REF!"}},{"$f":"VLOOKUP(#REF!,'Points Lookup'!$A:$B,2,FALSE)","v":{"$error":"#REF!"}},{"$f":"VLOOKUP(#REF!,'Points Lookup'!$A:$B,2,FALSE)","v":{"$error":"#REF!"}},{"$f":"VLOOKUP(#REF!,'Points Lookup'!$A:$B,2,FALSE)","v":{"$error":"#REF!"}},{"$f":"VLOOKUP(#REF!,'Points Lookup'!$A:$B,2,FALSE)","v":{"$error":"#REF!"}},{"$f":"VLOOKUP(#REF!,'Points Lookup'!$A:$B,2,FALSE)","v":{"$error":"#REF!"}},{"$f":"VLOOKUP(#REF!,'Points Lookup'!$A:$B,2,FALSE)","v":{"$error":"#REF!"}},{"$f":"VLOOKUP(#REF!,'Points Lookup'!$A:$B,2,FALSE)","v":{"$error":"#REF!"}},{"$f":"VLOOKUP(#REF!,'Points Lookup'!$A:$B,2,FALSE)","v":{"$error":"#REF!"}},{"$f":"VLOOKUP(#REF!,'Points Lookup'!$A:$B,2,FALSE)","v":{"$error":"#REF!"}},null,{"$error":"#REF!"},{"$error":"#REF!"},{"$error":"#REF!"},{"$error":"#REF!"},{"$error":"#REF!"},{"$error":"#REF!"},{"$error":"#REF!"},{"$error":"#REF!"}]
[{"$error":"#REF!"},{"$f":"#REF!","v":{"$error":"#REF!"}},{"$f":"IF(ISBLANK(#REF!),\"\",#REF!)","v":{"$error":"#REF!"}},{"$error":"#REF!"},{"$f":"VLOOKUP(#REF!,'Points Lookup'!$A:$B,2,FALSE)","v":{"$error":"#REF!"}},{"$f":"VLOOKUP(#REF!,'Points Lookup'!$A:$B,2,FALSE)","v":{"$error":"#REF!"}},{"$f":"VLOOKUP(#REF!,'Points Lookup'!$A:$B,2,FALSE)","v":{"$error":"#REF!"}},{"$f":"VLOOKUP(#REF!,'Points Lookup'!$A:$B,2,FALSE)","v":{"$error":"#REF!"}},{"$f":"VLOOKUP(#REF!,'Points Lookup'!$A:$B,2,FALSE)","v":{"$error":"#REF!"}},{"$f":"VLOOKUP(#REF!,'Points Lookup'!$A:$B,2,FALSE)","v":{"$error":"#REF!"}},{"$f":"VLOOKUP(#REF!,'Points Lookup'!$A:$B,2,FALSE)","v":{"$error":"#REF!"}},{"$f":"VLOOKUP(#REF!,'Points Lookup'!$A:$B,2,FALSE)","v":{"$error":"#REF!"}},{"$f":"VLOOKUP(#REF!,'Points Lookup'!$A:$B,2,FALSE)","v":{"$error":"#REF!"}},{"$f":"VLOOKUP(#REF!,'Points Lookup'!$A:$B,2,FALSE)","v":{"$error":"#REF!"}},{"$f":"VLOOKUP(#REF!,'Points Lookup'!$A:$B,2,FALSE)","v":{"$error":"#REF!"}},{"$f":"VLOOKUP(#REF!,'Points Lookup'!$A:$B,2,FALSE)","v":{"$error":"#REF!"}},{"$f":"VLOOKUP(#REF!,'Points Lookup'!$A:$B,2,FALSE)","v":{"$error":"#REF!"}},{"$f":"VLOOKUP(#REF!,'Points Lookup'!$A:$B,2,FALSE)","v":{"$error":"#REF!"}},{"$f":"VLOOKUP(#REF!,'Points Lookup'!$A:$B,2,FALSE)","v":{"$error":"#REF!"}},{"$f":"VLOOKUP(#REF!,'Points Lookup'!$A:$B,2,FALSE)","v":{"$error":"#REF!"}},{"$f":"VLOOKUP(#REF!,'Points Lookup'!$A:$B,2,FALSE)","v":{"$error":"#REF!"}},{"$f":"VLOOKUP(#REF!,'Points Lookup'!$A:$B,2,FALSE)","v":{"$error":"#REF!"}},{"$f":"VLOOKUP(#REF!,'Points Lookup'!$A:$B,2,FALSE)","v":{"$error":"#REF!"}},{"$f":"VLOOKUP(#REF!,'Points Lookup'!$A:$B,2,FALSE)","v":{"$error":"#REF!"}},null,{"$error":"#REF!"},{"$error":"#REF!"},{"$error":"#REF!"},{"$error":"#REF!"},{"$error":"#REF!"},{"$error":"#REF!"},{"$error":"#REF!"},{"$error":"#REF!"}]
[{"$error":"#REF!"},{"$f":"#REF!","v":{"$error":"#REF!"}},{"$f":"IF(ISBLANK(#REF!),\"\",#REF!)","v":{"$error":"#REF!"}},{"$error":"#REF!"},{"$f":"VLOOKUP(#REF!,'Points Lookup'!$A:$B,2,FALSE)","v":{"$error":"#REF!"}},{"$f":"VLOOKUP(#REF!,'Points Lookup'!$A:$B,2,FALSE)","v":{"$error":"#REF!"}},{"$f":"VLOOKUP(#REF!,'Points Lookup'!$A:$B,2,FALSE)","v":{"$error":"#REF!"}},{"$f":"VLOOKUP(#REF!,'Points Lookup'!$A:$B,2,FALSE)","v":{"$error":"#REF!"}},{"$f":"VLOOKUP(#REF!,'Points Lookup'!$A:$B,2,FALSE)","v":{"$error":"#REF!"}},{"$f":"VLOOKUP(#REF!,'Points Lookup'!$A:$B,2,FALSE)","v":{"$error":"#REF!"}},{"$f":"VLOOKUP(#REF!,'Points Lookup'!$A:$B,2,FALSE)","v":{"$error":"#REF!"}},{"$f":"VLOOKUP(#REF!,'Points Lookup'!$A:$B,2,FALSE)","v":{"$error":"#REF!"}},{"$f":"VLOOKUP(#REF!,'Points Lookup'!$A:$B,2,FALSE)","v":{"$error":"#REF!"}},{"$f":"VLOOKUP(#REF!,'Points Lookup'!$A:$B,2,FALSE)","v":{"$error":"#REF!"}},{"$f":"VLOOKUP(#REF!,'Points Lookup'!$A:$B,2,FALSE)","v":{"$error":"#REF!"}},{"$f":"VLOOKUP(#REF!,'Points Lookup'!$A:$B,2,FALSE)","v":{"$error":"#REF!"}},{"$f":"VLOOKUP(#REF!,'Points Lookup'!$A:$B,2,FALSE)","v":{"$error":"#REF!"}},{"$f":"VLOOKUP(#REF!,'Points Lookup'!$A:$B,2,FALSE)","v":{"$error":"#REF!"}},{"$f":"VLOOKUP(#REF!,'Points Lookup'!$A:$B,2,FALSE)","v":{"$error":"#REF!"}},{"$f":"VLOOKUP(#REF!,'Points Lookup'!$A:$B,2,FALSE)","v":{"$error":"#REF!"}},{"$f":"VLOOKUP(#REF!,'Points Lookup'!$A:$B,2,FALSE)","v":{"$error":"#REF!"}},{"$f":"VLOOKUP(#REF!,'Points Lookup'!$A:$B,2,FALSE)","v":{"$error":"#REF!"}},{"$f":"VLOOKUP(#REF!,'Points Lookup'!$A:$B,2,FALSE)","v":{"$error":"#REF!"}},{"$f":"VLOOKUP(#REF!,'Points Lookup'!$A:$B,2,FALSE)","v":{"$error":"#REF!"}},null,{"$error":"#REF!"},{"$error":"#REF!"},{"$error":"#REF!"},{"$error":"#REF!"},{"$error":"#REF!"},{"$error":"#REF!"},{"$error":"#REF!"},{"$error":"#REF!"}]
[{"$error":"#REF!"},{"$f":"#REF!","v":{"$error":"#REF!"}},{"$f":"IF(ISBLANK(#REF!),\"\",#REF!)","v":{"$error":"#REF!"}},{"$error":"#REF!"},{"$f":"VLOOKUP(#REF!,'Points Lookup'!$A:$B,2,FALSE)","v":{"$error":"#REF!"}},{"$f":"VLOOKUP(#REF!,'Points Lookup'!$A:$B,2,FALSE)","v":{"$error":"#REF!"}},{"$f":"VLOOKUP(#REF!,'Points Lookup'!$A:$B,2,FALSE)","v":{"$error":"#REF!"}},{"$f":"VLOOKUP(#REF!,'Points Lookup'!$A:$B,2,FALSE)","v":{"$error":"#REF!"}},{"$f":"VLOOKUP(#REF!,'Points Lookup'!$A:$B,2,FALSE)","v":{"$error":"#REF!"}},{"$f":"VLOOKUP(#REF!,'Points Lookup'!$A:$B,2,FALSE)","v":{"$error":"#REF!"}},{"$f":"VLOOKUP(#REF!,'Points Lookup'!$A:$B,2,FALSE)","v":{"$error":"#REF!"}},{"$f":"VLOOKUP(#REF!,'Points Lookup'!$A:$B,2,FALSE)","v":{"$error":"#REF!"}},{"$f":"VLOOKUP(#REF!,'Points Lookup'!$A:$B,2,FALSE)","v":{"$error":"#REF!"}},{"$f":"VLOOKUP(#REF!,'Points Lookup'!$A:$B,2,FALSE)","v":{"$error":"#REF!"}},{"$f":"VLOOKUP(#REF!,'Points Lookup'!$A:$B,2,FALSE)","v":{"$error":"#REF!"}},{"$f":"VLOOKUP(#REF!,'Points Lookup'!$A:$B,2,FALSE)","v":{"$error":"#REF!"}},{"$f":"VLOOKUP(#REF!,'Points Lookup'!$A:$B,2,FALSE)","v":{"$error":"#REF!"}},{"$f":"VLOOKUP(#REF!,'Points Lookup'!$A:$B,2,FALSE)","v":{"$error":"#REF!"}},{"$f":"VLOOKUP(#REF!,'Points Lookup'!$A:$B,2,FALSE)","v":{"$error":"#REF!"}},{"$f":"VLOOKUP(#REF!,'Points Lookup'!$A:$B,2,FALSE)","v":{"$error":"#REF!"}},{"$f":"VLOOKUP(#REF!,'Points Lookup'!$A:$B,2,FALSE)","v":{"$error":"#REF!"}},{"$f":"VLOOKUP(#REF!,'Points Lookup'!$A:$B,2,FALSE)","v":{"$error":"#REF!"}},{"$f":"VLOOKUP(#REF!,'Points Lookup'!$A:$B,2,FALSE)","v":{"$error":"#REF!"}},{"$f":"VLOOKUP(#REF!,'Points Lookup'!$A:$B,2,FALSE)","v":{"$error":"#REF!"}},null,{"$error":"#REF!"},{"$error":"#REF!"},{"$error":"#REF!"},{"$error":"#REF!"},{"$error":"#REF!"},{"$error":"#REF!"},{"$error":"#REF!"},{"$error":"#REF!"}]
[{"$error":"#REF!"},{"$f":"#REF!","v":{"$error":"#REF!"}},{"$f":"IF(ISBLANK(#REF!),\"\",#REF!)","v":{"$error":"#REF!"}},{"$error":"#REF!"},{"$f":"VLOOKUP(#REF!,'Points Lookup'!$A:$B,2,FALSE)","v":{"$error":"#REF!"}},{"$f":"VLOOKUP(#REF!,'Points Lookup'!$A:$B,2,FALSE)","v":{"$error":"#REF!"}},{"$f":"VLOOKUP(#REF!,'Points Lookup'!$A:$B,2,FALSE)","v":{"$error":"#REF!"}},{"$f":"VLOOKUP(#REF!,'Points Lookup'!$A:$B,2,FALSE)","v":{"$error":"#REF!"}},{"$f":"VLOOKUP(#REF!,'Points Lookup'!$A:$B,2,FALSE)","v":{"$error":"#REF!"}},{"$f":"VLOOKUP(#REF!,'Points Lookup'!$A:$B,2,FALSE)","v":{"$error":"#REF!"}},{"$f":"VLOOKUP(#REF!,'Points Lookup'!$A:$B,2,FALSE)","v":{"$error":"#REF!"}},{"$f":"VLOOKUP(#REF!,'Points Lookup'!$A:$B,2,FALSE)","v":{"$error":"#REF!"}},{"$f":"VLOOKUP(#REF!,'Points Lookup'!$A:$B,2,FALSE)","v":{"$error":"#REF!"}},{"$f":"VLOOKUP(#REF!,'Points Lookup'!$A:$B,2,FALSE)","v":{"$error":"#REF!"}},{"$f":"VLOOKUP(#REF!,'Points Lookup'!$A:$B,2,FALSE)","v":{"$error":"#REF!"}},{"$f":"VLOOKUP(#REF!,'Points Lookup'!$A:$B,2,FALSE)","v":{"$error":"#REF!"}},{"$f":"VLOOKUP(#REF!,'Points Lookup'!$A:$B,2,FALSE)","v":{"$error":"#REF!"}},{"$f":"VLOOKUP(#REF!,'Points Lookup'!$A:$B,2,FALSE)","v":{"$error":"#REF!"}},{"$f":"VLOOKUP(#REF!,'Points Lookup'!$A:$B,2,FALSE)","v":{"$error":"#REF!"}},{"$f":"VLOOKUP(#REF!,'Points Lookup'!$A:$B,2,FALSE)","v":{"$error":"#REF!"}},{"$f":"VLOOKUP(#REF!,'Points Lookup'!$A:$B,2,FALSE)","v":{"$error":"#REF!"}},{"$f":"VLOOKUP(#REF!,'Points Lookup'!$A:$B,2,FALSE)","v":{"$error":"#REF!"}},{"$f":"VLOOKUP(#REF!,'Points Lookup'!$A:$B,2,FALSE)","v":{"$error":"#REF!"}},{"$f":"VLOOKUP(#REF!,'Points Lookup'!$A:$B,2,FALSE)","v":{"$error":"#REF!"}},null,{"$f":"LARGE($E62:$X62,Z$1)","v":{"$error":"#REF!"}},{"$error":"#REF!"},{"$error":"#REF!"},{"$error":"#REF!"},{"$error":"#REF!"},{"$error":"#REF!"},{"$error":"#REF!"},{"$error":"#REF!"}]
[{"$error":"#REF!"},{"$f":"#REF!","v":{"$error":"#REF!"}},{"$f":"IF(ISBLANK(#REF!),\"\",#REF!)","v":{"$error":"#REF!"}},{"$error":"#REF!"},{"$f":"VLOOKUP(#REF!,'Points Lookup'!$A:$B,2,FALSE)","v":{"$error":"#REF!"}},{"$f":"VLOOKUP(#REF!,'Points Lookup'!$A:$B,2,FALSE)","v":{"$error":"#REF!"}},{"$f":"VLOOKUP(#REF!,'Points Lookup'!$A:$B,2,FALSE)","v":{"$error":"#REF!"}},{"$f":"VLOOKUP(#REF!,'Points Lookup'!$A:$B,2,FALSE)","v":{"$error":"#REF!"}},{"$f":"VLOOKUP(#REF!,'Points Lookup'!$A:$B,2,FALSE)","v":{"$error":"#REF!"}},{"$f":"VLOOKUP(#REF!,'Points Lookup'!$A:$B,2,FALSE)","v":{"$error":"#REF!"}},{"$f":"VLOOKUP(#REF!,'Points Lookup'!$A:$B,2,FALSE)","v":{"$error":"#REF!"}},{"$f":"VLOOKUP(#REF!,'Points Lookup'!$A:$B,2,FALSE)","v":{"$error":"#REF!"}},{"$f":"VLOOKUP(#REF!,'Points Lookup'!$A:$B,2,FALSE)","v":{"$error":"#REF!"}},{"$f":"VLOOKUP(#REF!,'Points Lookup'!$A:$B,2,FALSE)","v":{"$error":"#REF!"}},{"$f":"VLOOKUP(#REF!,'Points Lookup'!$A:$B,2,FALSE)","v":{"$error":"#REF!"}},{"$f":"VLOOKUP(#REF!,'Points Lookup'!$A:$B,2,FALSE)","v":{"$error":"#REF!"}},{"$f":"VLOOKUP(#REF!,'Points Lookup'!$A:$B,2,FALSE)","v":{"$error":"#REF!"}},{"$f":"VLOOKUP(#REF!,'Points Lookup'!$A:$B,2,FALSE)","v":{"$error":"#REF!"}},{"$f":"VLOOKUP(#REF!,'Points Lookup'!$A:$B,2,FALSE)","v":{"$error":"#REF!"}},{"$f":"VLOOKUP(#REF!,'Points Lookup'!$A:$B,2,FALSE)","v":{"$error":"#REF!"}},{"$f":"VLOOKUP(#REF!,'Points Lookup'!$A:$B,2,FALSE)","v":{"$error":"#REF!"}},{"$f":"VLOOKUP(#REF!,'Points Lookup'!$A:$B,2,FALSE)","v":{"$error":"#REF!"}},{"$f":"VLOOKUP(#REF!,'Points Lookup'!$A:$B,2,FALSE)","v":{"$error":"#REF!"}},{"$f":"VLOOKUP(#REF!,'Points Lookup'!$A:$B,2,FALSE)","v":{"$error":"#REF!"}},null,{"$error":"#REF!"},{"$error":"#REF!"},{"$error":"#REF!"},{"$error":"#REF!"},{"$error":"#REF!"},{"$error":"#REF!"},{"$error":"#REF!"},{"$error":"#REF!"}]
[{"$error":"#REF!"},{"$f":"#REF!","v":{"$error":"#REF!"}},{"$f":"IF(ISBLANK(#REF!),\"\",#REF!)","v":{"$error":"#REF!"}},{"$error":"#REF!"},{"$f":"VLOOKUP(#REF!,'Points Lookup'!$A:$B,2,FALSE)","v":{"$error":"#REF!"}},{"$f":"VLOOKUP(#REF!,'Points Lookup'!$A:$B,2,FALSE)","v":{"$error":"#REF!"}},{"$f":"VLOOKUP(#REF!,'Points Lookup'!$A:$B,2,FALSE)","v":{"$error":"#REF!"}},{"$f":"VLOOKUP(#REF!,'Points Lookup'!$A:$B,2,FALSE)","v":{"$error":"#REF!"}},{"$f":"VLOOKUP(#REF!,'Points Lookup'!$A:$B,2,FALSE)","v":{"$error":"#REF!"}},{"$f":"VLOOKUP(#REF!,'Points Lookup'!$A:$B,2,FALSE)","v":{"$error":"#REF!"}},{"$f":"VLOOKUP(#REF!,'Points Lookup'!$A:$B,2,FALSE)","v":{"$error":"#REF!"}},{"$f":"VLOOKUP(#REF!,'Points Lookup'!$A:$B,2,FALSE)","v":{"$error":"#REF!"}},{"$f":"VLOOKUP(#REF!,'Points Lookup'!$A:$B,2,FALSE)","v":{"$error":"#REF!"}},{"$f":"VLOOKUP(#REF!,'Points Lookup'!$A:$B,2,FALSE)","v":{"$error":"#REF!"}},{"$f":"VLOOKUP(#REF!,'Points Lookup'!$A:$B,2,FALSE)","v":{"$error":"#REF!"}},{"$f":"VLOOKUP(#REF!,'Points Lookup'!$A:$B,2,FALSE)","v":{"$error":"#REF!"}},{"$f":"VLOOKUP(#REF!,'Points Lookup'!$A:$B,2,FALSE)","v":{"$error":"#REF!"}},{"$f":"VLOOKUP(#REF!,'Points Lookup'!$A:$B,2,FALSE)","v":{"$error":"#REF!"}},{"$f":"VLOOKUP(#REF!,'Points Lookup'!$A:$B,2,FALSE)","v":{"$error":"#REF!"}},{"$f":"VLOOKUP(#REF!,'Points Lookup'!$A:$B,2,FALSE)","v":{"$error":"#REF!"}},{"$f":"VLOOKUP(#REF!,'Points Lookup'!$A:$B,2,FALSE)","v":{"$error":"#REF!"}},{"$f":"VLOOKUP(#REF!,'Points Lookup'!$A:$B,2,FALSE)","v":{"$error":"#REF!"}},{"$f":"VLOOKUP(#REF!,'Points Lookup'!$A:$B,2,FALSE)","v":{"$error":"#REF!"}},{"$f":"VLOOKUP(#REF!,'Points Lookup'!$A:$B,2,FALSE)","v":{"$error":"#REF!"}},null,{"$error":"#REF!"},{"$error":"#REF!"},{"$error":"#REF!"},{"$error":"#REF!"},{"$error":"#REF!"},{"$error":"#REF!"},{"$error":"#REF!"},{"$error":"#REF!"}]
[{"$error":"#REF!"},{"$f":"#REF!","v":{"$error":"#REF!"}},{"$f":"IF(ISBLANK(#REF!),\"\",#REF!)","v":{"$error":"#REF!"}},{"$error":"#REF!"},{"$f":"VLOOKUP(#REF!,'Points Lookup'!$A:$B,2,FALSE)","v":{"$error":"#REF!"}},{"$f":"VLOOKUP(#REF!,'Points Lookup'!$A:$B,2,FALSE)","v":{"$error":"#REF!"}},{"$f":"VLOOKUP(#REF!,'Points Lookup'!$A:$B,2,FALSE)","v":{"$error":"#REF!"}},{"$f":"VLOOKUP(#REF!,'Points Lookup'!$A:$B,2,FALSE)","v":{"$error":"#REF!"}},{"$f":"VLOOKUP(#REF!,'Points Lookup'!$A:$B,2,FALSE)","v":{"$error":"#REF!"}},{"$f":"VLOOKUP(#REF!,'Points Lookup'!$A:$B,2,FALSE)","v":{"$error":"#REF!"}},{"$f":"VLOOKUP(#REF!,'Points Lookup'!$A:$B,2,FALSE)","v":{"$error":"#REF!"}},{"$f":"VLOOKUP(#REF!,'Points Lookup'!$A:$B,2,FALSE)","v":{"$error":"#REF!"}},{"$f":"VLOOKUP(#REF!,'Points Lookup'!$A:$B,2,FALSE)","v":{"$error":"#REF!"}},{"$f":"VLOOKUP(#REF!,'Points Lookup'!$A:$B,2,FALSE)","v":{"$error":"#REF!"}},{"$f":"VLOOKUP(#REF!,'Points Lookup'!$A:$B,2,FALSE)","v":{"$error":"#REF!"}},{"$f":"VLOOKUP(#REF!,'Points Lookup'!$A:$B,2,FALSE)","v":{"$error":"#REF!"}},{"$f":"VLOOKUP(#REF!,'Points Lookup'!$A:$B,2,FALSE)","v":{"$error":"#REF!"}},{"$f":"VLOOKUP(#REF!,'Points Lookup'!$A:$B,2,FALSE)","v":{"$error":"#REF!"}},{"$f":"VLOOKUP(#REF!,'Points Lookup'!$A:$B,2,FALSE)","v":{"$error":"#REF!"}},{"$f":"VLOOKUP(#REF!,'Points Lookup'!$A:$B,2,FALSE)","v":{"$error":"#REF!"}},{"$f":"VLOOKUP(#REF!,'Points Lookup'!$A:$B,2,FALSE)","v":{"$error":"#REF!"}},{"$f":"VLOOKUP(#REF!,'Points Lookup'!$A:$B,2,FALSE)","v":{"$error":"#REF!"}},{"$f":"VLOOKUP(#REF!,'Points Lookup'!$A:$B,2,FALSE)","v":{"$error":"#REF!"}},{"$f":"VLOOKUP(#REF!,'Points Lookup'!$A:$B,2,FALSE)","v":{"$error":"#REF!"}},null,{"$error":"#REF!"},{"$error":"#REF!"},{"$error":"#REF!"},{"$error":"#REF!"},{"$error":"#REF!"},{"$error":"#REF!"},{"$error":"#REF!"},{"$error":"#REF!"}]
[{"$f":"RANK(D66,D:D)","v":{"$error":"#REF!"}},{"$f":"#REF!","v":{"$error":"#REF!"}},{"$f":"IF(ISBLANK(#REF!),\"\",#REF!)","v":{"$error":"#REF!"}},{"$error":"#REF!"},{"$f":"VLOOKUP(#REF!,'Points Lookup'!$A:$B,2,FALSE)","v":{"$error":"#REF!"}},{"$f":"VLOOKUP(#REF!,'Points Lookup'!$A:$B,2,FALSE)","v":{"$error":"#REF!"}},{"$f":"VLOOKUP(#REF!,'Points Lookup'!$A:$B,2,FALSE)","v":{"$error":"#REF!"}},{"$f":"VLOOKUP(#REF!,'Points Lookup'!$A:$B,2,FALSE)","v":{"$error":"#REF!"}},{"$f":"VLOOKUP(#REF!,'Points Lookup'!$A:$B,2,FALSE)","v":{"$error":"#REF!"}},{"$f":"VLOOKUP(#REF!,'Points Lookup'!$A:$B,2,FALSE)","v":{"$error":"#REF!"}},{"$f":"VLOOKUP(#REF!,'Points Lookup'!$A:$B,2,FALSE)","v":{"$error":"#REF!"}},{"$f":"VLOOKUP(#REF!,'Points Lookup'!$A:$B,2,FALSE)","v":{"$error":"#REF!"}},{"$f":"VLOOKUP(#REF!,'Points Lookup'!$A:$B,2,FALSE)","v":{"$error":"#REF!"}},{"$f":"VLOOKUP(#REF!,'Points Lookup'!$A:$B,2,FALSE)","v":{"$error":"#REF!"}},{"$f":"VLOOKUP(#REF!,'Points Lookup'!$A:$B,2,FALSE)","v":{"$error":"#REF!"}},{"$f":"VLOOKUP(#REF!,'Points Lookup'!$A:$B,2,FALSE)","v":{"$error":"#REF!"}},{"$f":"VLOOKUP(#REF!,'Points Lookup'!$A:$B,2,FALSE)","v":{"$error":"#REF!"}},{"$f":"VLOOKUP(#REF!,'Points Lookup'!$A:$B,2,FALSE)","v":{"$error":"#REF!"}},{"$f":"VLOOKUP(#REF!,'Points Lookup'!$A:$B,2,FALSE)","v":{"$error":"#REF!"}},{"$f":"VLOOKUP(#REF!,'Points Lookup'!$A:$B,2,FALSE)","v":{"$error":"#REF!"}},{"$f":"VLOOKUP(#REF!,'Points Lookup'!$A:$B,2,FALSE)","v":{"$error":"#REF!"}},{"$f":"VLOOKUP(#REF!,'Points Lookup'!$A:$B,2,FALSE)","v":{"$error":"#REF!"}},{"$f":"VLOOKUP(#REF!,'Points Lookup'!$A:$B,2,FALSE)","v":{"$error":"#REF!"}},{"$f":"VLOOKUP(#REF!,'Points Lookup'!$A:$B,2,FALSE)","v":{"$error":"#REF!"}},null,{"$error":"#REF!"},{"$error":"#REF!"},{"$error":"#REF!"},{"$error":"#REF!"},{"$error":"#REF!"},{"$error":"#REF!"},{"$error":"#REF!"},{"$error":"#REF!"}]
[{"$error":"#REF!"},{"$f":"#REF!","v":{"$error":"#REF!"}},{"$f":"IF(ISBLANK(#REF!),\"\",#REF!)","v":{"$error":"#REF!"}},{"$f":"SUM(Z67:AG67)","v":{"$error":"#REF!"}},{"$f":"VLOOKUP(#REF!,'Points Lookup'!$A:$B,2,FALSE)","v":{"$error":"#REF!"}},{"$f":"VLOOKUP(#REF!,'Points Lookup'!$A:$B,2,FALSE)","v":{"$error":"#REF!"}},{"$f":"VLOOKUP(#REF!,'Points Lookup'!$A:$B,2,FALSE)","v":{"$error":"#REF!"}},{"$f":"VLOOKUP(#REF!,'Points Lookup'!$A:$B,2,FALSE)","v":{"$error":"#REF!"}},{"$f":"VLOOKUP(#REF!,'Points Lookup'!$A:$B,2,FALSE)","v":{"$error":"#REF!"}},{"$f":"VLOOKUP(#REF!,'Points Lookup'!$A:$B,2,FALSE)","v":{"$error":"#REF!"}},{"$f":"VLOOKUP(#REF!,'Points Lookup'!$A:$B,2,FALSE)","v":{"$error":"#REF!"}},{"$f":"VLOOKUP(#REF!,'Points Lookup'!$A:$B,2,FALSE)","v":{"$error":"#REF!"}},{"$f":"VLOOKUP(#REF!,'Points Lookup'!$A:$B,2,FALSE)","v":{"$error":"#REF!"}},{"$f":"VLOOKUP(#REF!,'Points Lookup'!$A:$B,2,FALSE)","v":{"$error":"#REF!"}},{"$f":"VLOOKUP(#REF!,'Points Lookup'!$A:$B,2,FALSE)","v":{"$error":"#REF!"}},{"$f":"VLOOKUP(#REF!,'Points Lookup'!$A:$B,2,FALSE)","v":{"$error":"#REF!"}},{"$f":"VLOOKUP(#REF!,'Points Lookup'!$A:$B,2,FALSE)","v":{"$error":"#REF!"}},{"$f":"VLOOKUP(#REF!,'Points Lookup'!$A:$B,2,FALSE)","v":{"$error":"#REF!"}},{"$f":"VLOOKUP(#REF!,'Points Lookup'!$A:$B,2,FALSE)","v":{"$error":"#REF!"}},{"$f":"VLOOKUP(#REF!,'Points Lookup'!$A:$B,2,FALSE)","v":{"$error":"#REF!"}},{"$f":"VLOOKUP(#REF!,'Points Lookup'!$A:$B,2,FALSE)","v":{"$error":"#REF!"}},{"$f":"VLOOKUP(#REF!,'Points Lookup'!$A:$B,2,FALSE)","v":{"$error":"#REF!"}},{"$f":"VLOOKUP(#REF!,'Points Lookup'!$A:$B,2,FALSE)","v":{"$error":"#REF!"}},{"$f":"VLOOKUP(#REF!,'Points Lookup'!$A:$B,2,FALSE)","v":{"$error":"#REF!"}},null,{"$error":"#REF!"},{"$error":"#REF!"},{"$error":"#REF!"},{"$error":"#REF!"},{"$error":"#REF!"},{"$error":"#REF!"},{"$error":"#REF!"},{"$error":"#REF!"}]
[{"$error":"#REF!"},{"$f":"#REF!","v":{"$error":"#REF!"}},{"$f":"IF(ISBLANK(#REF!),\"\",#REF!)","v":{"$error":"#REF!"}},{"$error":"#REF!"},{"$f":"VLOOKUP(#REF!,'Points Lookup'!$A:$B,2,FALSE)","v":{"$error":"#REF!"}},{"$f":"VLOOKUP(#REF!,'Points Lookup'!$A:$B,2,FALSE)","v":{"$error":"#REF!"}},{"$f":"VLOOKUP(#REF!,'Points Lookup'!$A:$B,2,FALSE)","v":{"$error":"#REF!"}},{"$f":"VLOOKUP(#REF!,'Points Lookup'!$A:$B,2,FALSE)","v":{"$error":"#REF!"}},{"$f":"VLOOKUP(#REF!,'Points Lookup'!$A:$B,2,FALSE)","v":{"$error":"#REF!"}},{"$f":"VLOOKUP(#REF!,'Points Lookup'!$A:$B,2,FALSE)","v":{"$error":"#REF!"}},{"$f":"VLOOKUP(#REF!,'Points Lookup'!$A:$B,2,FALSE)","v":{"$error":"#REF!"}},{"$f":"VLOOKUP(#REF!,'Points Lookup'!$A:$B,2,FALSE)","v":{"$error":"#REF!"}},{"$f":"VLOOKUP(#REF!,'Points Lookup'!$A:$B,2,FALSE)","v":{"$error":"#REF!"}},{"$f":"VLOOKUP(#REF!,'Points Lookup'!$A:$B,2,FALSE)","v":{"$error":"#REF!"}},{"$f":"VLOOKUP(#REF!,'Points Lookup'!$A:$B,2,FALSE)","v":{"$error":"#REF!"}},{"$f":"VLOOKUP(#REF!,'Points Lookup'!$A:$B,2,FALSE)","v":{"$error":"#REF!"}},{"$f":"VLOOKUP(#REF!,'Points Lookup'!$A:$B,2,FALSE)","v":{"$error":"#REF!"}},{"$f":"VLOOKUP(#REF!,'Points Lookup'!$A:$B,2,FALSE)","v":{"$error":"#REF!"}},{"$f":"VLOOKUP(#REF!,'Points Lookup'!$A:$B,2,FALSE)","v":{"$error":"#REF!"}},{"$f":"VLOOKUP(#REF!,'Points Lookup'!$A:$B,2,FALSE)","v":{"$error":"#REF!"}},{"$f":"VLOOKUP(#REF!,'Points Lookup'!$A:$B,2,FALSE)","v":{"$error":"#REF!"}},{"$f":"VLOOKUP(#REF!,'Points Lookup'!$A:$B,2,FALSE)","v":{"$error":"#REF!"}},{"$f":"VLOOKUP(#REF!,'Points Lookup'!$A:$B,2,FALSE)","v":{"$error":"#REF!"}},{"$f":"VLOOKUP(#REF!,'Points Lookup'!$A:$B,2,FALSE)","v":{"$error":"#REF!"}},null,{"$error":"#REF!"},{"$error":"#REF!"},{"$error":"#REF!"},{"$error":"#REF!"},{"$error":"#REF!"},{"$error":"#REF!"},{"$error":"#REF!"},{"$error":"#REF!"}]
[{"$error":"#REF!"},{"$f":"#REF!","v":{"$error":"#REF!"}},{"$f":"IF(ISBLANK(#REF!),\"\",#REF!)","v":{"$error":"#REF!"}},{"$error":"#REF!"},{"$f":"VLOOKUP(#REF!,'Points Lookup'!$A:$B,2,FALSE)","v":{"$error":"#REF!"}},{"$f":"VLOOKUP(#REF!,'Points Lookup'!$A:$B,2,FALSE)","v":{"$error":"#REF!"}},{"$f":"VLOOKUP(#REF!,'Points Lookup'!$A:$B,2,FALSE)","v":{"$error":"#REF!"}},{"$f":"VLOOKUP(#REF!,'Points Lookup'!$A:$B,2,FALSE)","v":{"$error":"#REF!"}},{"$f":"VLOOKUP(#REF!,'Points Lookup'!$A:$B,2,FALSE)","v":{"$error":"#REF!"}},{"$f":"VLOOKUP(#REF!,'Points Lookup'!$A:$B,2,FALSE)","v":{"$error":"#REF!"}},{"$f":"VLOOKUP(#REF!,'Points Lookup'!$A:$B,2,FALSE)","v":{"$error":"#REF!"}},{"$f":"VLOOKUP(#REF!,'Points Lookup'!$A:$B,2,FALSE)","v":{"$error":"#REF!"}},{"$f":"VLOOKUP(#REF!,'Points Lookup'!$A:$B,2,FALSE)","v":{"$error":"#REF!"}},{"$f":"VLOOKUP(#REF!,'Points Lookup'!$A:$B,2,FALSE)","v":{"$error":"#REF!"}},{"$f":"VLOOKUP(#REF!,'Points Lookup'!$A:$B,2,FALSE)","v":{"$error":"#REF!"}},{"$f":"VLOOKUP(#REF!,'Points Lookup'!$A:$B,2,FALSE)","v":{"$error":"#REF!"}},{"$f":"VLOOKUP(#REF!,'Points Lookup'!$A:$B,2,FALSE)","v":{"$error":"#REF!"}},{"$f":"VLOOKUP(#REF!,'Points Lookup'!$A:$B,2,FALSE)","v":{"$error":"#REF!"}},{"$f":"VLOOKUP(#REF!,'Points Lookup'!$A:$B,2,FALSE)","v":{"$error":"#REF!"}},{"$f":"VLOOKUP(#REF!,'Points Lookup'!$A:$B,2,FALSE)","v":{"$error":"#REF!"}},{"$f":"VLOOKUP(#REF!,'Points Lookup'!$A:$B,2,FALSE)","v":{"$error":"#REF!"}},{"$f":"VLOOKUP(#REF!,'Points Lookup'!$A:$B,2,FALSE)","v":{"$error":"#REF!"}},{"$f":"VLOOKUP(#REF!,'Points Lookup'!$A:$B,2,FALSE)","v":{"$error":"#REF!"}},{"$f":"VLOOKUP(#REF!,'Points Lookup'!$A:$B,2,FALSE)","v":{"$error":"#REF!"}},null,{"$error":"#REF!"},{"$error":"#REF!"},{"$error":"#REF!"},{"$error":"#REF!"},{"$error":"#REF!"},{"$error":"#REF!"},{"$error":"#REF!"},{"$error":"#REF!"}]
[{"$error":"#REF!"},{"$f":"#REF!","v":{"$error":"#REF!"}},{"$f":"IF(ISBLANK(#REF!),\"\",#REF!)","v":{"$error":"#REF!"}},{"$error":"#REF!"},{"$f":"VLOOKUP(#REF!,'Points Lookup'!$A:$B,2,FALSE)","v":{"$error":"#REF!"}},{"$f":"VLOOKUP(#REF!,'Points Lookup'!$A:$B,2,FALSE)","v":{"$error":"#REF!"}},{"$f":"VLOOKUP(#REF!,'Points Lookup'!$A:$B,2,FALSE)","v":{"$error":"#REF!"}},{"$f":"VLOOKUP(#REF!,'Points Lookup'!$A:$B,2,FALSE)","v":{"$error":"#REF!"}},{"$f":"VLOOKUP(#REF!,'Points Lookup'!$A:$B,2,FALSE)","v":{"$error":"#REF!"}},{"$f":"VLOOKUP(#REF!,'Points Lookup'!$A:$B,2,FALSE)","v":{"$error":"#REF!"}},{"$f":"VLOOKUP(#REF!,'Points Lookup'!$A:$B,2,FALSE)","v":{"$error":"#REF!"}},{"$f":"VLOOKUP(#REF!,'Points Lookup'!$A:$B,2,FALSE)","v":{"$error":"#REF!"}},{"$f":"VLOOKUP(#REF!,'Points Lookup'!$A:$B,2,FALSE)","v":{"$error":"#REF!"}},{"$f":"VLOOKUP(#REF!,'Points Lookup'!$A:$B,2,FALSE)","v":{"$error":"#REF!"}},{"$f":"VLOOKUP(#REF!,'Points Lookup'!$A:$B,2,FALSE)","v":{"$error":"#REF!"}},{"$f":"VLOOKUP(#REF!,'Points Lookup'!$A:$B,2,FALSE)","v":{"$error":"#REF!"}},{"$f":"VLOOKUP(#REF!,'Points Lookup'!$A:$B,2,FALSE)","v":{"$error":"#REF!"}},{"$f":"VLOOKUP(#REF!,'Points Lookup'!$A:$B,2,FALSE)","v":{"$error":"#REF!"}},{"$f":"VLOOKUP(#REF!,'Points Lookup'!$A:$B,2,FALSE)","v":{"$error":"#REF!"}},{"$f":"VLOOKUP(#REF!,'Points Lookup'!$A:$B,2,FALSE)","v":{"$error":"#REF!"}},{"$f":"VLOOKUP(#REF!,'Points Lookup'!$A:$B,2,FALSE)","v":{"$error":"#REF!"}},{"$f":"VLOOKUP(#REF!,'Points Lookup'!$A:$B,2,FALSE)","v":{"$error":"#REF!"}},{"$f":"VLOOKUP(#REF!,'Points Lookup'!$A:$B,2,FALSE)","v":{"$error":"#REF!"}},{"$f":"VLOOKUP(#REF!,'Points Lookup'!$A:$B,2,FALSE)","v":{"$error":"#REF!"}},null,{"$error":"#REF!"},{"$error":"#REF!"},{"$error":"#REF!"},{"$error":"#REF!"},{"$error":"#REF!"},{"$error":"#REF!"},{"$error":"#REF!"},{"$error":"#REF!"}]
[{"$error":"#REF!"},{"$f":"#REF!","v":{"$error":"#REF!"}},{"$f":"IF(ISBLANK(#REF!),\"\",#REF!)","v":{"$error":"#REF!"}},{"$error":"#REF!"},{"$f":"VLOOKUP(#REF!,'Points Lookup'!$A:$B,2,FALSE)","v":{"$error":"#REF!"}},{"$f":"VLOOKUP(#REF!,'Points Lookup'!$A:$B,2,FALSE)","v":{"$error":"#REF!"}},{"$f":"VLOOKUP(#REF!,'Points Lookup'!$A:$B,2,FALSE)","v":{"$error":"#REF!"}},{"$f":"VLOOKUP(#REF!,'Points Lookup'!$A:$B,2,FALSE)","v":{"$error":"#REF!"}},{"$f":"VLOOKUP(#REF!,'Points Lookup'!$A:$B,2,FALSE)","v":{"$error":"#REF!"}},{"$f":"VLOOKUP(#REF!,'Points Lookup'!$A:$B,2,FALSE)","v":{"$error":"#REF!"}},{"$f":"VLOOKUP(#REF!,'Points Lookup'!$A:$B,2,FALSE)","v":{"$error":"#REF!"}},{"$f":"VLOOKUP(#REF!,'Points Lookup'!$A:$B,2,FALSE)","v":{"$error":"#REF!"}},{"$f":"VLOOKUP(#REF!,'Points Lookup'!$A:$B,2,FALSE)","v":{"$error":"#REF!"}},{"$f":"VLOOKUP(#REF!,'Points Lookup'!$A:$B,2,FALSE)","v":{"$error":"#REF!"}},{"$f":"VLOOKUP(#REF!,'Points Lookup'!$A:$B,2,FALSE)","v":{"$error":"#REF!"}},{"$f":"VLOOKUP(#REF!,'Points Lookup'!$A:$B,2,FALSE)","v":{"$error":"#REF!"}},{"$f":"VLOOKUP(#REF!,'Points Lookup'!$A:$B,2,FALSE)","v":{"$error":"#REF!"}},{"$f":"VLOOKUP(#REF!,'Points Lookup'!$A:$B,2,FALSE)","v":{"$error":"#REF!"}},{"$f":"VLOOKUP(#REF!,'Points Lookup'!$A:$B,2,FALSE)","v":{"$error":"#REF!"}},{"$f":"VLOOKUP(#REF!,'Points Lookup'!$A:$B,2,FALSE)","v":{"$error":"#REF!"}},{"$f":"VLOOKUP(#REF!,'Points Lookup'!$A:$B,2,FALSE)","v":{"$error":"#REF!"}},{"$f":"VLOOKUP(#REF!,'Points Lookup'!$A:$B,2,FALSE)","v":{"$error":"#REF!"}},{"$f":"VLOOKUP(#REF!,'Points Lookup'!$A:$B,2,FALSE)","v":{"$error":"#REF!"}},{"$f":"VLOOKUP(#REF!,'Points Lookup'!$A:$B,2,FALSE)","v":{"$error":"#REF!"}},null,{"$error":"#REF!"},{"$error":"#REF!"},{"$error":"#REF!"},{"$error":"#REF!"},{"$error":"#REF!"},{"$error":"#REF!"},{"$error":"#REF!"},{"$error":"#REF!"}]
[{"$error":"#REF!"},{"$f":"#REF!","v":{"$error":"#REF!"}},{"$f":"IF(ISBLANK(#REF!),\"\",#REF!)","v":{"$error":"#REF!"}},{"$error":"#REF!"},{"$f":"VLOOKUP(#REF!,'Points Lookup'!$A:$B,2,FALSE)","v":{"$error":"#REF!"}},{"$f":"VLOOKUP(#REF!,'Points Lookup'!$A:$B,2,FALSE)","v":{"$error":"#REF!"}},{"$f":"VLOOKUP(#REF!,'Points Lookup'!$A:$B,2,FALSE)","v":{"$error":"#REF!"}},{"$f":"VLOOKUP(#REF!,'Points Lookup'!$A:$B,2,FALSE)","v":{"$error":"#REF!"}},{"$f":"VLOOKUP(#REF!,'Points Lookup'!$A:$B,2,FALSE)","v":{"$error":"#REF!"}},{"$f":"VLOOKUP(#REF!,'Points Lookup'!$A:$B,2,FALSE)","v":{"$error":"#REF!"}},{"$f":"VLOOKUP(#REF!,'Points Lookup'!$A:$B,2,FALSE)","v":{"$error":"#REF!"}},{"$f":"VLOOKUP(#REF!,'Points Lookup'!$A:$B,2,FALSE)","v":{"$error":"#REF!"}},{"$f":"VLOOKUP(#REF!,'Points Lookup'!$A:$B,2,FALSE)","v":{"$error":"#REF!"}},{"$f":"VLOOKUP(#REF!,'Points Lookup'!$A:$B,2,FALSE)","v":{"$error":"#REF!"}},{"$f":"VLOOKUP(#REF!,'Points Lookup'!$A:$B,2,FALSE)","v":{"$error":"#REF!"}},{"$f":"VLOOKUP(#REF!,'Points Lookup'!$A:$B,2,FALSE)","v":{"$error":"#REF!"}},{"$f":"VLOOKUP(#REF!,'Points Lookup'!$A:$B,2,FALSE)","v":{"$error":"#REF!"}},{"$f":"VLOOKUP(#REF!,'Points Lookup'!$A:$B,2,FALSE)","v":{"$error":"#REF!"}},{"$f":"VLOOKUP(#REF!,'Points Lookup'!$A:$B,2,FALSE)","v":{"$error":"#REF!"}},{"$f":"VLOOKUP(#REF!,'Points Lookup'!$A:$B,2,FALSE)","v":{"$error":"#REF!"}},{"$f":"VLOOKUP(#REF!,'Points Lookup'!$A:$B,2,FALSE)","v":{"$error":"#REF!"}},{"$f":"VLOOKUP(#REF!,'Points Lookup'!$A:$B,2,FALSE)","v":{"$error":"#REF!"}},{"$f":"VLOOKUP(#REF!,'Points Lookup'!$A:$B,2,FALSE)","v":{"$error":"#REF!"}},{"$f":"VLOOKUP(#REF!,'Points Lookup'!$A:$B,2,FALSE)","v":{"$error":"#REF!"}},null,{"$f":"LARGE($E72:$X72,Z$1)","v":{"$error":"#REF!"}},{"$error":"#REF!"},{"$error":"#REF!"},{"$error":"#REF!"},{"$error":"#REF!"},{"$error":"#REF!"},{"$error":"#REF!"},{"$error":"#REF!"}]
[{"$error":"#REF!"},{"$f":"#REF!","v":{"$error":"#REF!"}},{"$f":"IF(ISBLANK(#REF!),\"\",#REF!)","v":{"$error":"#REF!"}},{"$error":"#REF!"},{"$f":"VLOOKUP(#REF!,'Points Lookup'!$A:$B,2,FALSE)","v":{"$error":"#REF!"}},{"$f":"VLOOKUP(#REF!,'Points Lookup'!$A:$B,2,FALSE)","v":{"$error":"#REF!"}},{"$f":"VLOOKUP(#REF!,'Points Lookup'!$A:$B,2,FALSE)","v":{"$error":"#REF!"}},{"$f":"VLOOKUP(#REF!,'Points Lookup'!$A:$B,2,FALSE)","v":{"$error":"#REF!"}},{"$f":"VLOOKUP(#REF!,'Points Lookup'!$A:$B,2,FALSE)","v":{"$error":"#REF!"}},{"$f":"VLOOKUP(#REF!,'Points Lookup'!$A:$B,2,FALSE)","v":{"$error":"#REF!"}},{"$f":"VLOOKUP(#REF!,'Points Lookup'!$A:$B,2,FALSE)","v":{"$error":"#REF!"}},{"$f":"VLOOKUP(#REF!,'Points Lookup'!$A:$B,2,FALSE)","v":{"$error":"#REF!"}},{"$f":"VLOOKUP(#REF!,'Points Lookup'!$A:$B,2,FALSE)","v":{"$error":"#REF!"}},{"$f":"VLOOKUP(#REF!,'Points Lookup'!$A:$B,2,FALSE)","v":{"$error":"#REF!"}},{"$f":"VLOOKUP(#REF!,'Points Lookup'!$A:$B,2,FALSE)","v":{"$error":"#REF!"}},{"$f":"VLOOKUP(#REF!,'Points Lookup'!$A:$B,2,FALSE)","v":{"$error":"#REF!"}},{"$f":"VLOOKUP(#REF!,'Points Lookup'!$A:$B,2,FALSE)","v":{"$error":"#REF!"}},{"$f":"VLOOKUP(#REF!,'Points Lookup'!$A:$B,2,FALSE)","v":{"$error":"#REF!"}},{"$f":"VLOOKUP(#REF!,'Points Lookup'!$A:$B,2,FALSE)","v":{"$error":"#REF!"}},{"$f":"VLOOKUP(#REF!,'Points Lookup'!$A:$B,2,FALSE)","v":{"$error":"#REF!"}},{"$f":"VLOOKUP(#REF!,'Points Lookup'!$A:$B,2,FALSE)","v":{"$error":"#REF!"}},{"$f":"VLOOKUP(#REF!,'Points Lookup'!$A:$B,2,FALSE)","v":{"$error":"#REF!"}},{"$f":"VLOOKUP(#REF!,'Points Lookup'!$A:$B,2,FALSE)","v":{"$error":"#REF!"}},{"$f":"VLOOKUP(#REF!,'Points Lookup'!$A:$B,2,FALSE)","v":{"$error":"#REF!"}},null,{"$error":"#REF!"},{"$error":"#REF!"},{"$error":"#REF!"},{"$error":"#REF!"},{"$error":"#REF!"},{"$error":"#REF!"},{"$error":"#REF!"},{"$error":"#REF!"}]
[{"$error":"#REF!"},{"$f":"#REF!","v":{"$error":"#REF!"}},{"$f":"IF(ISBLANK(#REF!),\"\",#REF!)","v":{"$error":"#REF!"}},{"$error":"#REF!"},{"$f":"VLOOKUP(#REF!,'Points Lookup'!$A:$B,2,FALSE)","v":{"$error":"#REF!"}},{"$f":"VLOOKUP(#REF!,'Points Lookup'!$A:$B,2,FALSE)","v":{"$error":"#REF!"}},{"$f":"VLOOKUP(#REF!,'Points Lookup'!$A:$B,2,FALSE)","v":{"$error":"#REF!"}},{"$f":"VLOOKUP(#REF!,'Points Lookup'!$A:$B,2,FALSE)","v":{"$error":"#REF!"}},{"$f":"VLOOKUP(#REF!,'Points Lookup'!$A:$B,2,FALSE)","v":{"$error":"#REF!"}},{"$f":"VLOOKUP(#REF!,'Points Lookup'!$A:$B,2,FALSE)","v":{"$error":"#REF!"}},{"$f":"VLOOKUP(#REF!,'Points Lookup'!$A:$B,2,FALSE)","v":{"$error":"#REF!"}},{"$f":"VLOOKUP(#REF!,'Points Lookup'!$A:$B,2,FALSE)","v":{"$error":"#REF!"}},{"$f":"VLOOKUP(#REF!,'Points Lookup'!$A:$B,2,FALSE)","v":{"$error":"#REF!"}},{"$f":"VLOOKUP(#REF!,'Points Lookup'!$A:$B,2,FALSE)","v":{"$error":"#REF!"}},{"$f":"VLOOKUP(#REF!,'Points Lookup'!$A:$B,2,FALSE)","v":{"$error":"#REF!"}},{"$f":"VLOOKUP(#REF!,'Points Lookup'!$A:$B,2,FALSE)","v":{"$error":"#REF!"}},{"$f":"VLOOKUP(#REF!,'Points Lookup'!$A:$B,2,FALSE)","v":{"$error":"#REF!"}},{"$f":"VLOOKUP(#REF!,'Points Lookup'!$A:$B,2,FALSE)","v":{"$error":"#REF!"}},{"$f":"VLOOKUP(#REF!,'Points Lookup'!$A:$B,2,FALSE)","v":{"$error":"#REF!"}},{"$f":"VLOOKUP(#REF!,'Points Lookup'!$A:$B,2,FALSE)","v":{"$error":"#REF!"}},{"$f":"VLOOKUP(#REF!,'Points Lookup'!$A:$B,2,FALSE)","v":{"$error":"#REF!"}},{"$f":"VLOOKUP(#REF!,'Points Lookup'!$A:$B,2,FALSE)","v":{"$error":"#REF!"}},{"$f":"VLOOKUP(#REF!,'Points Lookup'!$A:$B,2,FALSE)","v":{"$error":"#REF!"}},{"$f":"VLOOKUP(#REF!,'Points Lookup'!$A:$B,2,FALSE)","v":{"$error":"#REF!"}},null,{"$error":"#REF!"},{"$error":"#REF!"},{"$error":"#REF!"},{"$error":"#REF!"},{"$error":"#REF!"},{"$error":"#REF!"},{"$error":"#REF!"},{"$error":"#REF!"}]
[{"$error":"#REF!"},{"$f":"#REF!","v":{"$error":"#REF!"}},{"$f":"IF(ISBLANK(#REF!),\"\",#REF!)","v":{"$error":"#REF!"}},{"$error":"#REF!"},{"$f":"VLOOKUP(#REF!,'Points Lookup'!$A:$B,2,FALSE)","v":{"$error":"#REF!"}},{"$f":"VLOOKUP(#REF!,'Points Lookup'!$A:$B,2,FALSE)","v":{"$error":"#REF!"}},{"$f":"VLOOKUP(#REF!,'Points Lookup'!$A:$B,2,FALSE)","v":{"$error":"#REF!"}},{"$f":"VLOOKUP(#REF!,'Points Lookup'!$A:$B,2,FALSE)","v":{"$error":"#REF!"}},{"$f":"VLOOKUP(#REF!,'Points Lookup'!$A:$B,2,FALSE)","v":{"$error":"#REF!"}},{"$f":"VLOOKUP(#REF!,'Points Lookup'!$A:$B,2,FALSE)","v":{"$error":"#REF!"}},{"$f":"VLOOKUP(#REF!,'Points Lookup'!$A:$B,2,FALSE)","v":{"$error":"#REF!"}},{"$f":"VLOOKUP(#REF!,'Points Lookup'!$A:$B,2,FALSE)","v":{"$error":"#REF!"}},{"$f":"VLOOKUP(#REF!,'Points Lookup'!$A:$B,2,FALSE)","v":{"$error":"#REF!"}},{"$f":"VLOOKUP(#REF!,'Points Lookup'!$A:$B,2,FALSE)","v":{"$error":"#REF!"}},{"$f":"VLOOKUP(#REF!,'Points Lookup'!$A:$B,2,FALSE)","v":{"$error":"#REF!"}},{"$f":"VLOOKUP(#REF!,'Points Lookup'!$A:$B,2,FALSE)","v":{"$error":"#REF!"}},{"$f":"VLOOKUP(#REF!,'Points Lookup'!$A:$B,2,FALSE)","v":{"$error":"#REF!"}},{"$f":"VLOOKUP(#REF!,'Points Lookup'!$A:$B,2,FALSE)","v":{"$error":"#REF!"}},{"$f":"VLOOKUP(#REF!,'Points Lookup'!$A:$B,2,FALSE)","v":{"$error":"#REF!"}},{"$f":"VLOOKUP(#REF!,'Points Lookup'!$A:$B,2,FALSE)","v":{"$error":"#REF!"}},{"$f":"VLOOKUP(#REF!,'Points Lookup'!$A:$B,2,FALSE)","v":{"$error":"#REF!"}},{"$f":"VLOOKUP(#REF!,'Points Lookup'!$A:$B,2,FALSE)","v":{"$error":"#REF!"}},{"$f":"VLOOKUP(#REF!,'Points Lookup'!$A:$B,2,FALSE)","v":{"$error":"#REF!"}},{"$f":"VLOOKUP(#REF!,'Points Lookup'!$A:$B,2,FALSE)","v":{"$error":"#REF!"}},null,{"$error":"#REF!"},{"$error":"#REF!"},{"$error":"#REF!"},{"$error":"#REF!"},{"$error":"#REF!"},{"$error":"#REF!"},{"$error":"#REF!"},{"$error":"#REF!"}]
[{"$error":"#REF!"},{"$f":"#REF!","v":{"$error":"#REF!"}},{"$f":"IF(ISBLANK(#REF!),\"\",#REF!)","v":{"$error":"#REF!"}},{"$error":"#REF!"},{"$f":"VLOOKUP(#REF!,'Points Lookup'!$A:$B,2,FALSE)","v":{"$error":"#REF!"}},{"$f":"VLOOKUP(#REF!,'Points Lookup'!$A:$B,2,FALSE)","v":{"$error":"#REF!"}},{"$f":"VLOOKUP(#REF!,'Points Lookup'!$A:$B,2,FALSE)","v":{"$error":"#REF!"}},{"$f":"VLOOKUP(#REF!,'Points Lookup'!$A:$B,2,FALSE)","v":{"$error":"#REF!"}},{"$f":"VLOOKUP(#REF!,'Points Lookup'!$A:$B,2,FALSE)","v":{"$error":"#REF!"}},{"$f":"VLOOKUP(#REF!,'Points Lookup'!$A:$B,2,FALSE)","v":{"$error":"#REF!"}},{"$f":"VLOOKUP(#REF!,'Points Lookup'!$A:$B,2,FALSE)","v":{"$error":"#REF!"}},{"$f":"VLOOKUP(#REF!,'Points Lookup'!$A:$B,2,FALSE)","v":{"$error":"#REF!"}},{"$f":"VLOOKUP(#REF!,'Points Lookup'!$A:$B,2,FALSE)","v":{"$error":"#REF!"}},{"$f":"VLOOKUP(#REF!,'Points Lookup'!$A:$B,2,FALSE)","v":{"$error":"#REF!"}},{"$f":"VLOOKUP(#REF!,'Points Lookup'!$A:$B,2,FALSE)","v":{"$error":"#REF!"}},{"$f":"VLOOKUP(#REF!,'Points Lookup'!$A:$B,2,FALSE)","v":{"$error":"#REF!"}},{"$f":"VLOOKUP(#REF!,'Points Lookup'!$A:$B,2,FALSE)","v":{"$error":"#REF!"}},{"$f":"VLOOKUP(#REF!,'Points Lookup'!$A:$B,2,FALSE)","v":{"$error":"#REF!"}},{"$f":"VLOOKUP(#REF!,'Points Lookup'!$A:$B,2,FALSE)","v":{"$error":"#REF!"}},{"$f":"VLOOKUP(#REF!,'Points Lookup'!$A:$B,2,FALSE)","v":{"$error":"#REF!"}},{"$f":"VLOOKUP(#REF!,'Points Lookup'!$A:$B,2,FALSE)","v":{"$error":"#REF!"}},{"$f":"VLOOKUP(#REF!,'Points Lookup'!$A:$B,2,FALSE)","v":{"$error":"#REF!"}},{"$f":"VLOOKUP(#REF!,'Points Lookup'!$A:$B,2,FALSE)","v":{"$error":"#REF!"}},{"$f":"VLOOKUP(#REF!,'Points Lookup'!$A:$B,2,FALSE)","v":{"$error":"#REF!"}},null,{"$error":"#REF!"},{"$error":"#REF!"},{"$error":"#REF!"},{"$error":"#REF!"},{"$error":"#REF!"},{"$error":"#REF!"},{"$error":"#REF!"},{"$error":"#REF!"}]
[{"$error":"#REF!"},{"$f":"#REF!","v":{"$error":"#REF!"}},{"$f":"IF(ISBLANK(#REF!),\"\",#REF!)","v":{"$error":"#REF!"}},{"$error":"#REF!"},{"$f":"VLOOKUP(#REF!,'Points Lookup'!$A:$B,2,FALSE)","v":{"$error":"#REF!"}},{"$f":"VLOOKUP(#REF!,'Points Lookup'!$A:$B,2,FALSE)","v":{"$error":"#REF!"}},{"$f":"VLOOKUP(#REF!,'Points Lookup'!$A:$B,2,FALSE)","v":{"$error":"#REF!"}},{"$f":"VLOOKUP(#REF!,'Points Lookup'!$A:$B,2,FALSE)","v":{"$error":"#REF!"}},{"$f":"VLOOKUP(#REF!,'Points Lookup'!$A:$B,2,FALSE)","v":{"$error":"#REF!"}},{"$f":"VLOOKUP(#REF!,'Points Lookup'!$A:$B,2,FALSE)","v":{"$error":"#REF!"}},{"$f":"VLOOKUP(#REF!,'Points Lookup'!$A:$B,2,FALSE)","v":{"$error":"#REF!"}},{"$f":"VLOOKUP(#REF!,'Points Lookup'!$A:$B,2,FALSE)","v":{"$error":"#REF!"}},{"$f":"VLOOKUP(#REF!,'Points Lookup'!$A:$B,2,FALSE)","v":{"$error":"#REF!"}},{"$f":"VLOOKUP(#REF!,'Points Lookup'!$A:$B,2,FALSE)","v":{"$error":"#REF!"}},{"$f":"VLOOKUP(#REF!,'Points Lookup'!$A:$B,2,FALSE)","v":{"$error":"#REF!"}},{"$f":"VLOOKUP(#REF!,'Points Lookup'!$A:$B,2,FALSE)","v":{"$error":"#REF!"}},{"$f":"VLOOKUP(#REF!,'Points Lookup'!$A:$B,2,FALSE)","v":{"$error":"#REF!"}},{"$f":"VLOOKUP(#REF!,'Points Lookup'!$A:$B,2,FALSE)","v":{"$error":"#REF!"}},{"$f":"VLOOKUP(#REF!,'Points Lookup'!$A:$B,2,FALSE)","v":{"$error":"#REF!"}},{"$f":"VLOOKUP(#REF!,'Points Lookup'!$A:$B,2,FALSE)","v":{"$error":"#REF!"}},{"$f":"VLOOKUP(#REF!,'Points Lookup'!$A:$B,2,FALSE)","v":{"$error":"#REF!"}},{"$f":"VLOOKUP(#REF!,'Points Lookup'!$A:$B,2,FALSE)","v":{"$error":"#REF!"}},{"$f":"VLOOKUP(#REF!,'Points Lookup'!$A:$B,2,FALSE)","v":{"$error":"#REF!"}},{"$f":"VLOOKUP(#REF!,'Points Lookup'!$A:$B,2,FALSE)","v":{"$error":"#REF!"}},null,{"$error":"#REF!"},{"$error":"#REF!"},{"$error":"#REF!"},{"$error":"#REF!"},{"$error":"#REF!"},{"$error":"#REF!"},{"$error":"#REF!"},{"$error":"#REF!"}]
[{"$error":"#REF!"},{"$f":"#REF!","v":{"$error":"#REF!"}},{"$f":"IF(ISBLANK(#REF!),\"\",#REF!)","v":{"$error":"#REF!"}},{"$error":"#REF!"},{"$f":"VLOOKUP(#REF!,'Points Lookup'!$A:$B,2,FALSE)","v":{"$error":"#REF!"}},{"$f":"VLOOKUP(#REF!,'Points Lookup'!$A:$B,2,FALSE)","v":{"$error":"#REF!"}},{"$f":"VLOOKUP(#REF!,'Points Lookup'!$A:$B,2,FALSE)","v":{"$error":"#REF!"}},{"$f":"VLOOKUP(#REF!,'Points Lookup'!$A:$B,2,FALSE)","v":{"$error":"#REF!"}},{"$f":"VLOOKUP(#REF!,'Points Lookup'!$A:$B,2,FALSE)","v":{"$error":"#REF!"}},{"$f":"VLOOKUP(#REF!,'Points Lookup'!$A:$B,2,FALSE)","v":{"$error":"#REF!"}},{"$f":"VLOOKUP(#REF!,'Points Lookup'!$A:$B,2,FALSE)","v":{"$error":"#REF!"}},{"$f":"VLOOKUP(#REF!,'Points Lookup'!$A:$B,2,FALSE)","v":{"$error":"#REF!"}},{"$f":"VLOOKUP(#REF!,'Points Lookup'!$A:$B,2,FALSE)","v":{"$error":"#REF!"}},{"$f":"VLOOKUP(#REF!,'Points Lookup'!$A:$B,2,FALSE)","v":{"$error":"#REF!"}},{"$f":"VLOOKUP(#REF!,'Points Lookup'!$A:$B,2,FALSE)","v":{"$error":"#REF!"}},{"$f":"VLOOKUP(#REF!,'Points Lookup'!$A:$B,2,FALSE)","v":{"$error":"#REF!"}},{"$f":"VLOOKUP(#REF!,'Points Lookup'!$A:$B,2,FALSE)","v":{"$error":"#REF!"}},{"$f":"VLOOKUP(#REF!,'Points Lookup'!$A:$B,2,FALSE)","v":{"$error":"#REF!"}},{"$f":"VLOOKUP(#REF!,'Points Lookup'!$A:$B,2,FALSE)","v":{"$error":"#REF!"}},{"$f":"VLOOKUP(#REF!,'Points Lookup'!$A:$B,2,FALSE)","v":{"$error":"#REF!"}},{"$f":"VLOOKUP(#REF!,'Points Lookup'!$A:$B,2,FALSE)","v":{"$error":"#REF!"}},{"$f":"VLOOKUP(#REF!,'Points Lookup'!$A:$B,2,FALSE)","v":{"$error":"#REF!"}},{"$f":"VLOOKUP(#REF!,'Points Lookup'!$A:$B,2,FALSE)","v":{"$error":"#REF!"}},{"$f":"VLOOKUP(#REF!,'Points Lookup'!$A:$B,2,FALSE)","v":{"$error":"#REF!"}},null,{"$error":"#REF!"},{"$error":"#REF!"},{"$error":"#REF!"},{"$error":"#REF!"},{"$error":"#REF!"},{"$error":"#REF!"},{"$error":"#REF!"},{"$error":"#REF!"}]
[{"$error":"#REF!"},{"$f":"#REF!","v":{"$error":"#REF!"}},{"$f":"IF(ISBLANK(#REF!),\"\",#REF!)","v":{"$error":"#REF!"}},{"$error":"#REF!"},{"$f":"VLOOKUP(#REF!,'Points Lookup'!$A:$B,2,FALSE)","v":{"$error":"#REF!"}},{"$f":"VLOOKUP(#REF!,'Points Lookup'!$A:$B,2,FALSE)","v":{"$error":"#REF!"}},{"$f":"VLOOKUP(#REF!,'Points Lookup'!$A:$B,2,FALSE)","v":{"$error":"#REF!"}},{"$f":"VLOOKUP(#REF!,'Points Lookup'!$A:$B,2,FALSE)","v":{"$error":"#REF!"}},{"$f":"VLOOKUP(#REF!,'Points Lookup'!$A:$B,2,FALSE)","v":{"$error":"#REF!"}},{"$f":"VLOOKUP(#REF!,'Points Lookup'!$A:$B,2,FALSE)","v":{"$error":"#REF!"}},{"$f":"VLOOKUP(#REF!,'Points Lookup'!$A:$B,2,FALSE)","v":{"$error":"#REF!"}},{"$f":"VLOOKUP(#REF!,'Points Lookup'!$A:$B,2,FALSE)","v":{"$error":"#REF!"}},{"$f":"VLOOKUP(#REF!,'Points Lookup'!$A:$B,2,FALSE)","v":{"$error":"#REF!"}},{"$f":"VLOOKUP(#REF!,'Points Lookup'!$A:$B,2,FALSE)","v":{"$error":"#REF!"}},{"$f":"VLOOKUP(#REF!,'Points Lookup'!$A:$B,2,FALSE)","v":{"$error":"#REF!"}},{"$f":"VLOOKUP(#REF!,'Points Lookup'!$A:$B,2,FALSE)","v":{"$error":"#REF!"}},{"$f":"VLOOKUP(#REF!,'Points Lookup'!$A:$B,2,FALSE)","v":{"$error":"#REF!"}},{"$f":"VLOOKUP(#REF!,'Points Lookup'!$A:$B,2,FALSE)","v":{"$error":"#REF!"}},{"$f":"VLOOKUP(#REF!,'Points Lookup'!$A:$B,2,FALSE)","v":{"$error":"#REF!"}},{"$f":"VLOOKUP(#REF!,'Points Lookup'!$A:$B,2,FALSE)","v":{"$error":"#REF!"}},{"$f":"VLOOKUP(#REF!,'Points Lookup'!$A:$B,2,FALSE)","v":{"$error":"#REF!"}},{"$f":"VLOOKUP(#REF!,'Points Lookup'!$A:$B,2,FALSE)","v":{"$error":"#REF!"}},{"$f":"VLOOKUP(#REF!,'Points Lookup'!$A:$B,2,FALSE)","v":{"$error":"#REF!"}},{"$f":"VLOOKUP(#REF!,'Points Lookup'!$A:$B,2,FALSE)","v":{"$error":"#REF!"}},null,{"$error":"#REF!"},{"$error":"#REF!"},{"$error":"#REF!"},{"$error":"#REF!"},{"$error":"#REF!"},{"$error":"#REF!"},{"$error":"#REF!"},{"$error":"#REF!"}]
[{"$error":"#REF!"},{"$f":"#REF!","v":{"$error":"#REF!"}},{"$f":"IF(ISBLANK(#REF!),\"\",#REF!)","v":{"$error":"#REF!"}},{"$error":"#REF!"},{"$f":"VLOOKUP(#REF!,'Points Lookup'!$A:$B,2,FALSE)","v":{"$error":"#REF!"}},{"$f":"VLOOKUP(#REF!,'Points Lookup'!$A:$B,2,FALSE)","v":{"$error":"#REF!"}},{"$f":"VLOOKUP(#REF!,'Points Lookup'!$A:$B,2,FALSE)","v":{"$error":"#REF!"}},{"$f":"VLOOKUP(#REF!,'Points Lookup'!$A:$B,2,FALSE)","v":{"$error":"#REF!"}},{"$f":"VLOOKUP(#REF!,'Points Lookup'!$A:$B,2,FALSE)","v":{"$error":"#REF!"}},{"$f":"VLOOKUP(#REF!,'Points Lookup'!$A:$B,2,FALSE)","v":{"$error":"#REF!"}},{"$f":"VLOOKUP(#REF!,'Points Lookup'!$A:$B,2,FALSE)","v":{"$error":"#REF!"}},{"$f":"VLOOKUP(#REF!,'Points Lookup'!$A:$B,2,FALSE)","v":{"$error":"#REF!"}},{"$f":"VLOOKUP(#REF!,'Points Lookup'!$A:$B,2,FALSE)","v":{"$error":"#REF!"}},{"$f":"VLOOKUP(#REF!,'Points Lookup'!$A:$B,2,FALSE)","v":{"$error":"#REF!"}},{"$f":"VLOOKUP(#REF!,'Points Lookup'!$A:$B,2,FALSE)","v":{"$error":"#REF!"}},{"$f":"VLOOKUP(#REF!,'Points Lookup'!$A:$B,2,FALSE)","v":{"$error":"#REF!"}},{"$f":"VLOOKUP(#REF!,'Points Lookup'!$A:$B,2,FALSE)","v":{"$error":"#REF!"}},{"$f":"VLOOKUP(#REF!,'Points Lookup'!$A:$B,2,FALSE)","v":{"$error":"#REF!"}},{"$f":"VLOOKUP(#REF!,'Points Lookup'!$A:$B,2,FALSE)","v":{"$error":"#REF!"}},{"$f":"VLOOKUP(#REF!,'Points Lookup'!$A:$B,2,FALSE)","v":{"$error":"#REF!"}},{"$f":"VLOOKUP(#REF!,'Points Lookup'!$A:$B,2,FALSE)","v":{"$error":"#REF!"}},{"$f":"VLOOKUP(#REF!,'Points Lookup'!$A:$B,2,FALSE)","v":{"$error":"#REF!"}},{"$f":"VLOOKUP(#REF!,'Points Lookup'!$A:$B,2,FALSE)","v":{"$error":"#REF!"}},{"$f":"VLOOKUP(#REF!,'Points Lookup'!$A:$B,2,FALSE)","v":{"$error":"#REF!"}},null,{"$error":"#REF!"},{"$error":"#REF!"},{"$error":"#REF!"},{"$error":"#REF!"},{"$error":"#REF!"},{"$error":"#REF!"},{"$error":"#REF!"},{"$error":"#REF!"}]
[{"$error":"#REF!"},{"$f":"#REF!","v":{"$error":"#REF!"}},{"$f":"IF(ISBLANK(#REF!),\"\",#REF!)","v":{"$error":"#REF!"}},{"$error":"#REF!"},{"$f":"VLOOKUP(#REF!,'Points Lookup'!$A:$B,2,FALSE)","v":{"$error":"#REF!"}},{"$f":"VLOOKUP(#REF!,'Points Lookup'!$A:$B,2,FALSE)","v":{"$error":"#REF!"}},{"$f":"VLOOKUP(#REF!,'Points Lookup'!$A:$B,2,FALSE)","v":{"$error":"#REF!"}},{"$f":"VLOOKUP(#REF!,'Points Lookup'!$A:$B,2,FALSE)","v":{"$error":"#REF!"}},{"$f":"VLOOKUP(#REF!,'Points Lookup'!$A:$B,2,FALSE)","v":{"$error":"#REF!"}},{"$f":"VLOOKUP(#REF!,'Points Lookup'!$A:$B,2,FALSE)","v":{"$error":"#REF!"}},{"$f":"VLOOKUP(#REF!,'Points Lookup'!$A:$B,2,FALSE)","v":{"$error":"#REF!"}},{"$f":"VLOOKUP(#REF!,'Points Lookup'!$A:$B,2,FALSE)","v":{"$error":"#REF!"}},{"$f":"VLOOKUP(#REF!,'Points Lookup'!$A:$B,2,FALSE)","v":{"$error":"#REF!"}},{"$f":"VLOOKUP(#REF!,'Points Lookup'!$A:$B,2,FALSE)","v":{"$error":"#REF!"}},{"$f":"VLOOKUP(#REF!,'Points Lookup'!$A:$B,2,FALSE)","v":{"$error":"#REF!"}},{"$f":"VLOOKUP(#REF!,'Points Lookup'!$A:$B,2,FALSE)","v":{"$error":"#REF!"}},{"$f":"VLOOKUP(#REF!,'Points Lookup'!$A:$B,2,FALSE)","v":{"$error":"#REF!"}},{"$f":"VLOOKUP(#REF!,'Points Lookup'!$A:$B,2,FALSE)","v":{"$error":"#REF!"}},{"$f":"VLOOKUP(#REF!,'Points Lookup'!$A:$B,2,FALSE)","v":{"$error":"#REF!"}},{"$f":"VLOOKUP(#REF!,'Points Lookup'!$A:$B,2,FALSE)","v":{"$error":"#REF!"}},{"$f":"VLOOKUP(#REF!,'Points Lookup'!$A:$B,2,FALSE)","v":{"$error":"#REF!"}},{"$f":"VLOOKUP(#REF!,'Points Lookup'!$A:$B,2,FALSE)","v":{"$error":"#REF!"}},{"$f":"VLOOKUP(#REF!,'Points Lookup'!$A:$B,2,FALSE)","v":{"$error":"#REF!"}},{"$f":"VLOOKUP(#REF!,'Points Lookup'!$A:$B,2,FALSE)","v":{"$error":"#REF!"}},null,{"$error":"#REF!"},{"$error":"#REF!"},{"$error":"#REF!"},{"$error":"#REF!"},{"$error":"#REF!"},{"$error":"#REF!"},{"$error":"#REF!"},{"$error":"#REF!"}]
[{"$error":"#REF!"},{"$f":"#REF!","v":{"$error":"#REF!"}},{"$f":"IF(ISBLANK(#REF!),\"\",#REF!)","v":{"$error":"#REF!"}},{"$error":"#REF!"},{"$f":"VLOOKUP(#REF!,'Points Lookup'!$A:$B,2,FALSE)","v":{"$error":"#REF!"}},{"$f":"VLOOKUP(#REF!,'Points Lookup'!$A:$B,2,FALSE)","v":{"$error":"#REF!"}},{"$f":"VLOOKUP(#REF!,'Points Lookup'!$A:$B,2,FALSE)","v":{"$error":"#REF!"}},{"$f":"VLOOKUP(#REF!,'Points Lookup'!$A:$B,2,FALSE)","v":{"$error":"#REF!"}},{"$f":"VLOOKUP(#REF!,'Points Lookup'!$A:$B,2,FALSE)","v":{"$error":"#REF!"}},{"$f":"VLOOKUP(#REF!,'Points Lookup'!$A:$B,2,FALSE)","v":{"$error":"#REF!"}},{"$f":"VLOOKUP(#REF!,'Points Lookup'!$A:$B,2,FALSE)","v":{"$error":"#REF!"}},{"$f":"VLOOKUP(#REF!,'Points Lookup'!$A:$B,2,FALSE)","v":{"$error":"#REF!"}},{"$f":"VLOOKUP(#REF!,'Points Lookup'!$A:$B,2,FALSE)","v":{"$error":"#REF!"}},{"$f":"VLOOKUP(#REF!,'Points Lookup'!$A:$B,2,FALSE)","v":{"$error":"#REF!"}},{"$f":"VLOOKUP(#REF!,'Points Lookup'!$A:$B,2,FALSE)","v":{"$error":"#REF!"}},{"$f":"VLOOKUP(#REF!,'Points Lookup'!$A:$B,2,FALSE)","v":{"$error":"#REF!"}},{"$f":"VLOOKUP(#REF!,'Points Lookup'!$A:$B,2,FALSE)","v":{"$error":"#REF!"}},{"$f":"VLOOKUP(#REF!,'Points Lookup'!$A:$B,2,FALSE)","v":{"$error":"#REF!"}},{"$f":"VLOOKUP(#REF!,'Points Lookup'!$A:$B,2,FALSE)","v":{"$error":"#REF!"}},{"$f":"VLOOKUP(#REF!,'Points Lookup'!$A:$B,2,FALSE)","v":{"$error":"#REF!"}},{"$f":"VLOOKUP(#REF!,'Points Lookup'!$A:$B,2,FALSE)","v":{"$error":"#REF!"}},{"$f":"VLOOKUP(#REF!,'Points Lookup'!$A:$B,2,FALSE)","v":{"$error":"#REF!"}},{"$f":"VLOOKUP(#REF!,'Points Lookup'!$A:$B,2,FALSE)","v":{"$error":"#REF!"}},{"$f":"VLOOKUP(#REF!,'Points Lookup'!$A:$B,2,FALSE)","v":{"$error":"#REF!"}},null,{"$f":"LARGE($E82:$X82,Z$1)","v":{"$error":"#REF!"}},{"$error":"#REF!"},{"$error":"#REF!"},{"$error":"#REF!"},{"$error":"#REF!"},{"$error":"#REF!"},{"$error":"#REF!"},{"$error":"#REF!"}]
[{"$error":"#REF!"},{"$f":"#REF!","v":{"$error":"#REF!"}},{"$f":"IF(ISBLANK(#REF!),\"\",#REF!)","v":{"$error":"#REF!"}},{"$error":"#REF!"},{"$f":"VLOOKUP(#REF!,'Points Lookup'!$A:$B,2,FALSE)","v":{"$error":"#REF!"}},{"$f":"VLOOKUP(#REF!,'Points Lookup'!$A:$B,2,FALSE)","v":{"$error":"#REF!"}},{"$f":"VLOOKUP(#REF!,'Points Lookup'!$A:$B,2,FALSE)","v":{"$error":"#REF!"}},{"$f":"VLOOKUP(#REF!,'Points Lookup'!$A:$B,2,FALSE)","v":{"$error":"#REF!"}},{"$f":"VLOOKUP(#REF!,'Points Lookup'!$A:$B,2,FALSE)","v":{"$error":"#REF!"}},{"$f":"VLOOKUP(#REF!,'Points Lookup'!$A:$B,2,FALSE)","v":{"$error":"#REF!"}},{"$f":"VLOOKUP(#REF!,'Points Lookup'!$A:$B,2,FALSE)","v":{"$error":"#REF!"}},{"$f":"VLOOKUP(#REF!,'Points Lookup'!$A:$B,2,FALSE)","v":{"$error":"#REF!"}},{"$f":"VLOOKUP(#REF!,'Points Lookup'!$A:$B,2,FALSE)","v":{"$error":"#REF!"}},{"$f":"VLOOKUP(#REF!,'Points Lookup'!$A:$B,2,FALSE)","v":{"$error":"#REF!"}},{"$f":"VLOOKUP(#REF!,'Points Lookup'!$A:$B,2,FALSE)","v":{"$error":"#REF!"}},{"$f":"VLOOKUP(#REF!,'Points Lookup'!$A:$B,2,FALSE)","v":{"$error":"#REF!"}},{"$f":"VLOOKUP(#REF!,'Points Lookup'!$A:$B,2,FALSE)","v":{"$error":"#REF!"}},{"$f":"VLOOKUP(#REF!,'Points Lookup'!$A:$B,2,FALSE)","v":{"$error":"#REF!"}},{"$f":"VLOOKUP(#REF!,'Points Lookup'!$A:$B,2,FALSE)","v":{"$error":"#REF!"}},{"$f":"VLOOKUP(#REF!,'Points Lookup'!$A:$B,2,FALSE)","v":{"$error":"#REF!"}},{"$f":"VLOOKUP(#REF!,'Points Lookup'!$A:$B,2,FALSE)","v":{"$error":"#REF!"}},{"$f":"VLOOKUP(#REF!,'Points Lookup'!$A:$B,2,FALSE)","v":{"$error":"#REF!"}},{"$f":"VLOOKUP(#REF!,'Points Lookup'!$A:$B,2,FALSE)","v":{"$error":"#REF!"}},{"$f":"VLOOKUP(#REF!,'Points Lookup'!$A:$B,2,FALSE)","v":{"$error":"#REF!"}},null,{"$error":"#REF!"},{"$error":"#REF!"},{"$error":"#REF!"},{"$error":"#REF!"},{"$error":"#REF!"},{"$error":"#REF!"},{"$error":"#REF!"},{"$error":"#REF!"}]
[{"$error":"#REF!"},{"$f":"#REF!","v":{"$error":"#REF!"}},{"$f":"IF(ISBLANK(#REF!),\"\",#REF!)","v":{"$error":"#REF!"}},{"$error":"#REF!"},{"$f":"VLOOKUP(#REF!,'Points Lookup'!$A:$B,2,FALSE)","v":{"$error":"#REF!"}},{"$f":"VLOOKUP(#REF!,'Points Lookup'!$A:$B,2,FALSE)","v":{"$error":"#REF!"}},{"$f":"VLOOKUP(#REF!,'Points Lookup'!$A:$B,2,FALSE)","v":{"$error":"#REF!"}},{"$f":"VLOOKUP(#REF!,'Points Lookup'!$A:$B,2,FALSE)","v":{"$error":"#REF!"}},{"$f":"VLOOKUP(#REF!,'Points Lookup'!$A:$B,2,FALSE)","v":{"$error":"#REF!"}},{"$f":"VLOOKUP(#REF!,'Points Lookup'!$A:$B,2,FALSE)","v":{"$error":"#REF!"}},{"$f":"VLOOKUP(#REF!,'Points Lookup'!$A:$B,2,FALSE)","v":{"$error":"#REF!"}},{"$f":"VLOOKUP(#REF!,'Points Lookup'!$A:$B,2,FALSE)","v":{"$error":"#REF!"}},{"$f":"VLOOKUP(#REF!,'Points Lookup'!$A:$B,2,FALSE)","v":{"$error":"#REF!"}},{"$f":"VLOOKUP(#REF!,'Points Lookup'!$A:$B,2,FALSE)","v":{"$error":"#REF!"}},{"$f":"VLOOKUP(#REF!,'Points Lookup'!$A:$B,2,FALSE)","v":{"$error":"#REF!"}},{"$f":"VLOOKUP(#REF!,'Points Lookup'!$A:$B,2,FALSE)","v":{"$error":"#REF!"}},{"$f":"VLOOKUP(#REF!,'Points Lookup'!$A:$B,2,FALSE)","v":{"$error":"#REF!"}},{"$f":"VLOOKUP(#REF!,'Points Lookup'!$A:$B,2,FALSE)","v":{"$error":"#REF!"}},{"$f":"VLOOKUP(#REF!,'Points Lookup'!$A:$B,2,FALSE)","v":{"$error":"#REF!"}},{"$f":"VLOOKUP(#REF!,'Points Lookup'!$A:$B,2,FALSE)","v":{"$error":"#REF!"}},{"$f":"VLOOKUP(#REF!,'Points Lookup'!$A:$B,2,FALSE)","v":{"$error":"#REF!"}},{"$f":"VLOOKUP(#REF!,'Points Lookup'!$A:$B,2,FALSE)","v":{"$error":"#REF!"}},{"$f":"VLOOKUP(#REF!,'Points Lookup'!$A:$B,2,FALSE)","v":{"$error":"#REF!"}},{"$f":"VLOOKUP(#REF!,'Points Lookup'!$A:$B,2,FALSE)","v":{"$error":"#REF!"}},null,{"$error":"#REF!"},{"$error":"#REF!"},{"$error":"#REF!"},{"$error":"#REF!"},{"$error":"#REF!"},{"$error":"#REF!"},{"$error":"#REF!"},{"$error":"#REF!"}]
[{"$error":"#REF!"},{"$f":"#REF!","v":{"$error":"#REF!"}},{"$f":"IF(ISBLANK(#REF!),\"\",#REF!)","v":{"$error":"#REF!"}},{"$error":"#REF!"},{"$f":"VLOOKUP(#REF!,'Points Lookup'!$A:$B,2,FALSE)","v":{"$error":"#REF!"}},{"$f":"VLOOKUP(#REF!,'Points Lookup'!$A:$B,2,FALSE)","v":{"$error":"#REF!"}},{"$f":"VLOOKUP(#REF!,'Points Lookup'!$A:$B,2,FALSE)","v":{"$error":"#REF!"}},{"$f":"VLOOKUP(#REF!,'Points Lookup'!$A:$B,2,FALSE)","v":{"$error":"#REF!"}},{"$f":"VLOOKUP(#REF!,'Points Lookup'!$A:$B,2,FALSE)","v":{"$error":"#REF!"}},{"$f":"VLOOKUP(#REF!,'Points Lookup'!$A:$B,2,FALSE)","v":{"$error":"#REF!"}},{"$f":"VLOOKUP(#REF!,'Points Lookup'!$A:$B,2,FALSE)","v":{"$error":"#REF!"}},{"$f":"VLOOKUP(#REF!,'Points Lookup'!$A:$B,2,FALSE)","v":{"$error":"#REF!"}},{"$f":"VLOOKUP(#REF!,'Points Lookup'!$A:$B,2,FALSE)","v":{"$error":"#REF!"}},{"$f":"VLOOKUP(#REF!,'Points Lookup'!$A:$B,2,FALSE)","v":{"$error":"#REF!"}},{"$f":"VLOOKUP(#REF!,'Points Lookup'!$A:$B,2,FALSE)","v":{"$error":"#REF!"}},{"$f":"VLOOKUP(#REF!,'Points Lookup'!$A:$B,2,FALSE)","v":{"$error":"#REF!"}},{"$f":"VLOOKUP(#REF!,'Points Lookup'!$A:$B,2,FALSE)","v":{"$error":"#REF!"}},{"$f":"VLOOKUP(#REF!,'Points Lookup'!$A:$B,2,FALSE)","v":{"$error":"#REF!"}},{"$f":"VLOOKUP(#REF!,'Points Lookup'!$A:$B,2,FALSE)","v":{"$error":"#REF!"}},{"$f":"VLOOKUP(#REF!,'Points Lookup'!$A:$B,2,FALSE)","v":{"$error":"#REF!"}},{"$f":"VLOOKUP(#REF!,'Points Lookup'!$A:$B,2,FALSE)","v":{"$error":"#REF!"}},{"$f":"VLOOKUP(#REF!,'Points Lookup'!$A:$B,2,FALSE)","v":{"$error":"#REF!"}},{"$f":"VLOOKUP(#REF!,'Points Lookup'!$A:$B,2,FALSE)","v":{"$error":"#REF!"}},{"$f":"VLOOKUP(#REF!,'Points Lookup'!$A:$B,2,FALSE)","v":{"$error":"#REF!"}},null,{"$error":"#REF!"},{"$error":"#REF!"},{"$error":"#REF!"},{"$error":"#REF!"},{"$error":"#REF!"},{"$error":"#REF!"},{"$error":"#REF!"},{"$error":"#REF!"}]
[{"$error":"#REF!"},{"$f":"#REF!","v":{"$error":"#REF!"}},{"$f":"IF(ISBLANK(#REF!),\"\",#REF!)","v":{"$error":"#REF!"}},{"$error":"#REF!"},{"$f":"VLOOKUP(#REF!,'Points Lookup'!$A:$B,2,FALSE)","v":{"$error":"#REF!"}},{"$f":"VLOOKUP(#REF!,'Points Lookup'!$A:$B,2,FALSE)","v":{"$error":"#REF!"}},{"$f":"VLOOKUP(#REF!,'Points Lookup'!$A:$B,2,FALSE)","v":{"$error":"#REF!"}},{"$f":"VLOOKUP(#REF!,'Points Lookup'!$A:$B,2,FALSE)","v":{"$error":"#REF!"}},{"$f":"VLOOKUP(#REF!,'Points Lookup'!$A:$B,2,FALSE)","v":{"$error":"#REF!"}},{"$f":"VLOOKUP(#REF!,'Points Lookup'!$A:$B,2,FALSE)","v":{"$error":"#REF!"}},{"$f":"VLOOKUP(#REF!,'Points Lookup'!$A:$B,2,FALSE)","v":{"$error":"#REF!"}},{"$f":"VLOOKUP(#REF!,'Points Lookup'!$A:$B,2,FALSE)","v":{"$error":"#REF!"}},{"$f":"VLOOKUP(#REF!,'Points Lookup'!$A:$B,2,FALSE)","v":{"$error":"#REF!"}},{"$f":"VLOOKUP(#REF!,'Points Lookup'!$A:$B,2,FALSE)","v":{"$error":"#REF!"}},{"$f":"VLOOKUP(#REF!,'Points Lookup'!$A:$B,2,FALSE)","v":{"$error":"#REF!"}},{"$f":"VLOOKUP(#REF!,'Points Lookup'!$A:$B,2,FALSE)","v":{"$error":"#REF!"}},{"$f":"VLOOKUP(#REF!,'Points Lookup'!$A:$B,2,FALSE)","v":{"$error":"#REF!"}},{"$f":"VLOOKUP(#REF!,'Points Lookup'!$A:$B,2,FALSE)","v":{"$error":"#REF!"}},{"$f":"VLOOKUP(#REF!,'Points Lookup'!$A:$B,2,FALSE)","v":{"$error":"#REF!"}},{"$f":"VLOOKUP(#REF!,'Points Lookup'!$A:$B,2,FALSE)","v":{"$error":"#REF!"}},{"$f":"VLOOKUP(#REF!,'Points Lookup'!$A:$B,2,FALSE)","v":{"$error":"#REF!"}},{"$f":"VLOOKUP(#REF!,'Points Lookup'!$A:$B,2,FALSE)","v":{"$error":"#REF!"}},{"$f":"VLOOKUP(#REF!,'Points Lookup'!$A:$B,2,FALSE)","v":{"$error":"#REF!"}},{"$f":"VLOOKUP(#REF!,'Points Lookup'!$A:$B,2,FALSE)","v":{"$error":"#REF!"}},null,{"$error":"#REF!"},{"$error":"#REF!"},{"$error":"#REF!"},{"$error":"#REF!"},{"$error":"#REF!"},{"$error":"#REF!"},{"$error":"#REF!"},{"$error":"#REF!"}]
[{"$error":"#REF!"},{"$f":"#REF!","v":{"$error":"#REF!"}},{"$f":"IF(ISBLANK(#REF!),\"\",#REF!)","v":{"$error":"#REF!"}},{"$error":"#REF!"},{"$f":"VLOOKUP(#REF!,'Points Lookup'!$A:$B,2,FALSE)","v":{"$error":"#REF!"}},{"$f":"VLOOKUP(#REF!,'Points Lookup'!$A:$B,2,FALSE)","v":{"$error":"#REF!"}},{"$f":"VLOOKUP(#REF!,'Points Lookup'!$A:$B,2,FALSE)","v":{"$error":"#REF!"}},{"$f":"VLOOKUP(#REF!,'Points Lookup'!$A:$B,2,FALSE)","v":{"$error":"#REF!"}},{"$f":"VLOOKUP(#REF!,'Points Lookup'!$A:$B,2,FALSE)","v":{"$error":"#REF!"}},{"$f":"VLOOKUP(#REF!,'Points Lookup'!$A:$B,2,FALSE)","v":{"$error":"#REF!"}},{"$f":"VLOOKUP(#REF!,'Points Lookup'!$A:$B,2,FALSE)","v":{"$error":"#REF!"}},{"$f":"VLOOKUP(#REF!,'Points Lookup'!$A:$B,2,FALSE)","v":{"$error":"#REF!"}},{"$f":"VLOOKUP(#REF!,'Points Lookup'!$A:$B,2,FALSE)","v":{"$error":"#REF!"}},{"$f":"VLOOKUP(#REF!,'Points Lookup'!$A:$B,2,FALSE)","v":{"$error":"#REF!"}},{"$f":"VLOOKUP(#REF!,'Points Lookup'!$A:$B,2,FALSE)","v":{"$error":"#REF!"}},{"$f":"VLOOKUP(#REF!,'Points Lookup'!$A:$B,2,FALSE)","v":{"$error":"#REF!"}},{"$f":"VLOOKUP(#REF!,'Points Lookup'!$A:$B,2,FALSE)","v":{"$error":"#REF!"}},{"$f":"VLOOKUP(#REF!,'Points Lookup'!$A:$B,2,FALSE)","v":{"$error":"#REF!"}},{"$f":"VLOOKUP(#REF!,'Points Lookup'!$A:$B,2,FALSE)","v":{"$error":"#REF!"}},{"$f":"VLOOKUP(#REF!,'Points Lookup'!$A:$B,2,FALSE)","v":{"$error":"#REF!"}},{"$f":"VLOOKUP(#REF!,'Points Lookup'!$A:$B,2,FALSE)","v":{"$error":"#REF!"}},{"$f":"VLOOKUP(#REF!,'Points Lookup'!$A:$B,2,FALSE)","v":{"$error":"#REF!"}},{"$f":"VLOOKUP(#REF!,'Points Lookup'!$A:$B,2,FALSE)","v":{"$error":"#REF!"}},{"$f":"VLOOKUP(#REF!,'Points Lookup'!$A:$B,2,FALSE)","v":{"$error":"#REF!"}},null,{"$error":"#REF!"},{"$error":"#REF!"},{"$error":"#REF!"},{"$error":"#REF!"},{"$error":"#REF!"},{"$error":"#REF!"},{"$error":"#REF!"},{"$error":"#REF!"}]
[{"$error":"#REF!"},{"$f":"#REF!","v":{"$error":"#REF!"}},{"$f":"IF(ISBLANK(#REF!),\"\",#REF!)","v":{"$error":"#REF!"}},{"$error":"#REF!"},{"$f":"VLOOKUP(#REF!,'Points Lookup'!$A:$B,2,FALSE)","v":{"$error":"#REF!"}},{"$f":"VLOOKUP(#REF!,'Points Lookup'!$A:$B,2,FALSE)","v":{"$error":"#REF!"}},{"$f":"VLOOKUP(#REF!,'Points Lookup'!$A:$B,2,FALSE)","v":{"$error":"#REF!"}},{"$f":"VLOOKUP(#REF!,'Points Lookup'!$A:$B,2,FALSE)","v":{"$error":"#REF!"}},{"$f":"VLOOKUP(#REF!,'Points Lookup'!$A:$B,2,FALSE)","v":{"$error":"#REF!"}},{"$f":"VLOOKUP(#REF!,'Points Lookup'!$A:$B,2,FALSE)","v":{"$error":"#REF!"}},{"$f":"VLOOKUP(#REF!,'Points Lookup'!$A:$B,2,FALSE)","v":{"$error":"#REF!"}},{"$f":"VLOOKUP(#REF!,'Points Lookup'!$A:$B,2,FALSE)","v":{"$error":"#REF!"}},{"$f":"VLOOKUP(#REF!,'Points Lookup'!$A:$B,2,FALSE)","v":{"$error":"#REF!"}},{"$f":"VLOOKUP(#REF!,'Points Lookup'!$A:$B,2,FALSE)","v":{"$error":"#REF!"}},{"$f":"VLOOKUP(#REF!,'Points Lookup'!$A:$B,2,FALSE)","v":{"$error":"#REF!"}},{"$f":"VLOOKUP(#REF!,'Points Lookup'!$A:$B,2,FALSE)","v":{"$error":"#REF!"}},{"$f":"VLOOKUP(#REF!,'Points Lookup'!$A:$B,2,FALSE)","v":{"$error":"#REF!"}},{"$f":"VLOOKUP(#REF!,'Points Lookup'!$A:$B,2,FALSE)","v":{"$error":"#REF!"}},{"$f":"VLOOKUP(#REF!,'Points Lookup'!$A:$B,2,FALSE)","v":{"$error":"#REF!"}},{"$f":"VLOOKUP(#REF!,'Points Lookup'!$A:$B,2,FALSE)","v":{"$error":"#REF!"}},{"$f":"VLOOKUP(#REF!,'Points Lookup'!$A:$B,2,FALSE)","v":{"$error":"#REF!"}},{"$f":"VLOOKUP(#REF!,'Points Lookup'!$A:$B,2,FALSE)","v":{"$error":"#REF!"}},{"$f":"VLOOKUP(#REF!,'Points Lookup'!$A:$B,2,FALSE)","v":{"$error":"#REF!"}},{"$f":"VLOOKUP(#REF!,'Points Lookup'!$A:$B,2,FALSE)","v":{"$error":"#REF!"}},null,{"$error":"#REF!"},{"$error":"#REF!"},{"$error":"#REF!"},{"$error":"#REF!"},{"$error":"#REF!"},{"$error":"#REF!"},{"$error":"#REF!"},{"$error":"#REF!"}]
[{"$error":"#REF!"},{"$f":"#REF!","v":{"$error":"#REF!"}},{"$f":"IF(ISBLANK(#REF!),\"\",#REF!)","v":{"$error":"#REF!"}},{"$error":"#REF!"},{"$f":"VLOOKUP(#REF!,'Points Lookup'!$A:$B,2,FALSE)","v":{"$error":"#REF!"}},{"$f":"VLOOKUP(#REF!,'Points Lookup'!$A:$B,2,FALSE)","v":{"$error":"#REF!"}},{"$f":"VLOOKUP(#REF!,'Points Lookup'!$A:$B,2,FALSE)","v":{"$error":"#REF!"}},{"$f":"VLOOKUP(#REF!,'Points Lookup'!$A:$B,2,FALSE)","v":{"$error":"#REF!"}},{"$f":"VLOOKUP(#REF!,'Points Lookup'!$A:$B,2,FALSE)","v":{"$error":"#REF!"}},{"$f":"VLOOKUP(#REF!,'Points Lookup'!$A:$B,2,FALSE)","v":{"$error":"#REF!"}},{"$f":"VLOOKUP(#REF!,'Points Lookup'!$A:$B,2,FALSE)","v":{"$error":"#REF!"}},{"$f":"VLOOKUP(#REF!,'Points Lookup'!$A:$B,2,FALSE)","v":{"$error":"#REF!"}},{"$f":"VLOOKUP(#REF!,'Points Lookup'!$A:$B,2,FALSE)","v":{"$error":"#REF!"}},{"$f":"VLOOKUP(#REF!,'Points Lookup'!$A:$B,2,FALSE)","v":{"$error":"#REF!"}},{"$f":"VLOOKUP(#REF!,'Points Lookup'!$A:$B,2,FALSE)","v":{"$error":"#REF!"}},{"$f":"VLOOKUP(#REF!,'Points Lookup'!$A:$B,2,FALSE)","v":{"$error":"#REF!"}},{"$f":"VLOOKUP(#REF!,'Points Lookup'!$A:$B,2,FALSE)","v":{"$error":"#REF!"}},{"$f":"VLOOKUP(#REF!,'Points Lookup'!$A:$B,2,FALSE)","v":{"$error":"#REF!"}},{"$f":"VLOOKUP(#REF!,'Points Lookup'!$A:$B,2,FALSE)","v":{"$error":"#REF!"}},{"$f":"VLOOKUP(#REF!,'Points Lookup'!$A:$B,2,FALSE)","v":{"$error":"#REF!"}},{"$f":"VLOOKUP(#REF!,'Points Lookup'!$A:$B,2,FALSE)","v":{"$error":"#REF!"}},{"$f":"VLOOKUP(#REF!,'Points Lookup'!$A:$B,2,FALSE)","v":{"$error":"#REF!"}},{"$f":"VLOOKUP(#REF!,'Points Lookup'!$A:$B,2,FALSE)","v":{"$error":"#REF!"}},{"$f":"VLOOKUP(#REF!,'Points Lookup'!$A:$B,2,FALSE)","v":{"$error":"#REF!"}},null,{"$error":"#REF!"},{"$error":"#REF!"},{"$error":"#REF!"},{"$error":"#REF!"},{"$error":"#REF!"},{"$error":"#REF!"},{"$error":"#REF!"},{"$error":"#REF!"}]
[{"$error":"#REF!"},{"$f":"#REF!","v":{"$error":"#REF!"}},{"$f":"IF(ISBLANK(#REF!),\"\",#REF!)","v":{"$error":"#REF!"}},{"$error":"#REF!"},{"$f":"VLOOKUP(#REF!,'Points Lookup'!$A:$B,2,FALSE)","v":{"$error":"#REF!"}},{"$f":"VLOOKUP(#REF!,'Points Lookup'!$A:$B,2,FALSE)","v":{"$error":"#REF!"}},{"$f":"VLOOKUP(#REF!,'Points Lookup'!$A:$B,2,FALSE)","v":{"$error":"#REF!"}},{"$f":"VLOOKUP(#REF!,'Points Lookup'!$A:$B,2,FALSE)","v":{"$error":"#REF!"}},{"$f":"VLOOKUP(#REF!,'Points Lookup'!$A:$B,2,FALSE)","v":{"$error":"#REF!"}},{"$f":"VLOOKUP(#REF!,'Points Lookup'!$A:$B,2,FALSE)","v":{"$error":"#REF!"}},{"$f":"VLOOKUP(#REF!,'Points Lookup'!$A:$B,2,FALSE)","v":{"$error":"#REF!"}},{"$f":"VLOOKUP(#REF!,'Points Lookup'!$A:$B,2,FALSE)","v":{"$error":"#REF!"}},{"$f":"VLOOKUP(#REF!,'Points Lookup'!$A:$B,2,FALSE)","v":{"$error":"#REF!"}},{"$f":"VLOOKUP(#REF!,'Points Lookup'!$A:$B,2,FALSE)","v":{"$error":"#REF!"}},{"$f":"VLOOKUP(#REF!,'Points Lookup'!$A:$B,2,FALSE)","v":{"$error":"#REF!"}},{"$f":"VLOOKUP(#REF!,'Points Lookup'!$A:$B,2,FALSE)","v":{"$error":"#REF!"}},{"$f":"VLOOKUP(#REF!,'Points Lookup'!$A:$B,2,FALSE)","v":{"$error":"#REF!"}},{"$f":"VLOOKUP(#REF!,'Points Lookup'!$A:$B,2,FALSE)","v":{"$error":"#REF!"}},{"$f":"VLOOKUP(#REF!,'Points Lookup'!$A:$B,2,FALSE)","v":{"$error":"#REF!"}},{"$f":"VLOOKUP(#REF!,'Points Lookup'!$A:$B,2,FALSE)","v":{"$error":"#REF!"}},{"$f":"VLOOKUP(#REF!,'Points Lookup'!$A:$B,2,FALSE)","v":{"$error":"#REF!"}},{"$f":"VLOOKUP(#REF!,'Points Lookup'!$A:$B,2,FALSE)","v":{"$error":"#REF!"}},{"$f":"VLOOKUP(#REF!,'Points Lookup'!$A:$B,2,FALSE)","v":{"$error":"#REF!"}},{"$f":"VLOOKUP(#REF!,'Points Lookup'!$A:$B,2,FALSE)","v":{"$error":"#REF!"}},null,{"$error":"#REF!"},{"$error":"#REF!"},{"$error":"#REF!"},{"$error":"#REF!"},{"$error":"#REF!"},{"$error":"#REF!"},{"$error":"#REF!"},{"$error":"#REF!"}]
[{"$error":"#REF!"},{"$f":"#REF!","v":{"$error":"#REF!"}},{"$f":"IF(ISBLANK(#REF!),\"\",#REF!)","v":{"$error":"#REF!"}},{"$error":"#REF!"},{"$f":"VLOOKUP(#REF!,'Points Lookup'!$A:$B,2,FALSE)","v":{"$error":"#REF!"}},{"$f":"VLOOKUP(#REF!,'Points Lookup'!$A:$B,2,FALSE)","v":{"$error":"#REF!"}},{"$f":"VLOOKUP(#REF!,'Points Lookup'!$A:$B,2,FALSE)","v":{"$error":"#REF!"}},{"$f":"VLOOKUP(#REF!,'Points Lookup'!$A:$B,2,FALSE)","v":{"$error":"#REF!"}},{"$f":"VLOOKUP(#REF!,'Points Lookup'!$A:$B,2,FALSE)","v":{"$error":"#REF!"}},{"$f":"VLOOKUP(#REF!,'Points Lookup'!$A:$B,2,FALSE)","v":{"$error":"#REF!"}},{"$f":"VLOOKUP(#REF!,'Points Lookup'!$A:$B,2,FALSE)","v":{"$error":"#REF!"}},{"$f":"VLOOKUP(#REF!,'Points Lookup'!$A:$B,2,FALSE)","v":{"$error":"#REF!"}},{"$f":"VLOOKUP(#REF!,'Points Lookup'!$A:$B,2,FALSE)","v":{"$error":"#REF!"}},{"$f":"VLOOKUP(#REF!,'Points Lookup'!$A:$B,2,FALSE)","v":{"$error":"#REF!"}},{"$f":"VLOOKUP(#REF!,'Points Lookup'!$A:$B,2,FALSE)","v":{"$error":"#REF!"}},{"$f":"VLOOKUP(#REF!,'Points Lookup'!$A:$B,2,FALSE)","v":{"$error":"#REF!"}},{"$f":"VLOOKUP(#REF!,'Points Lookup'!$A:$B,2,FALSE)","v":{"$error":"#REF!"}},{"$f":"VLOOKUP(#REF!,'Points Lookup'!$A:$B,2,FALSE)","v":{"$error":"#REF!"}},{"$f":"VLOOKUP(#REF!,'Points Lookup'!$A:$B,2,FALSE)","v":{"$error":"#REF!"}},{"$f":"VLOOKUP(#REF!,'Points Lookup'!$A:$B,2,FALSE)","v":{"$error":"#REF!"}},{"$f":"VLOOKUP(#REF!,'Points Lookup'!$A:$B,2,FALSE)","v":{"$error":"#REF!"}},{"$f":"VLOOKUP(#REF!,'Points Lookup'!$A:$B,2,FALSE)","v":{"$error":"#REF!"}},{"$f":"VLOOKUP(#REF!,'Points Lookup'!$A:$B,2,FALSE)","v":{"$error":"#REF!"}},{"$f":"VLOOKUP(#REF!,'Points Lookup'!$A:$B,2,FALSE)","v":{"$error":"#REF!"}},null,{"$error":"#REF!"},{"$error":"#REF!"},{"$error":"#REF!"},{"$error":"#REF!"},{"$error":"#REF!"},{"$error":"#REF!"},{"$error":"#REF!"},{"$error":"#REF!"}]
[{"$error":"#REF!"},{"$f":"#REF!","v":{"$error":"#REF!"}},{"$f":"IF(ISBLANK(#REF!),\"\",#REF!)","v":{"$error":"#REF!"}},{"$error":"#REF!"},{"$f":"VLOOKUP(#REF!,'Points Lookup'!$A:$B,2,FALSE)","v":{"$error":"#REF!"}},{"$f":"VLOOKUP(#REF!,'Points Lookup'!$A:$B,2,FALSE)","v":{"$error":"#REF!"}},{"$f":"VLOOKUP(#REF!,'Points Lookup'!$A:$B,2,FALSE)","v":{"$error":"#REF!"}},{"$f":"VLOOKUP(#REF!,'Points Lookup'!$A:$B,2,FALSE)","v":{"$error":"#REF!"}},{"$f":"VLOOKUP(#REF!,'Points Lookup'!$A:$B,2,FALSE)","v":{"$error":"#REF!"}},{"$f":"VLOOKUP(#REF!,'Points Lookup'!$A:$B,2,FALSE)","v":{"$error":"#REF!"}},{"$f":"VLOOKUP(#REF!,'Points Lookup'!$A:$B,2,FALSE)","v":{"$error":"#REF!"}},{"$f":"VLOOKUP(#REF!,'Points Lookup'!$A:$B,2,FALSE)","v":{"$error":"#REF!"}},{"$f":"VLOOKUP(#REF!,'Points Lookup'!$A:$B,2,FALSE)","v":{"$error":"#REF!"}},{"$f":"VLOOKUP(#REF!,'Points Lookup'!$A:$B,2,FALSE)","v":{"$error":"#REF!"}},{"$f":"VLOOKUP(#REF!,'Points Lookup'!$A:$B,2,FALSE)","v":{"$error":"#REF!"}},{"$f":"VLOOKUP(#REF!,'Points Lookup'!$A:$B,2,FALSE)","v":{"$error":"#REF!"}},{"$f":"VLOOKUP(#REF!,'Points Lookup'!$A:$B,2,FALSE)","v":{"$error":"#REF!"}},{"$f":"VLOOKUP(#REF!,'Points Lookup'!$A:$B,2,FALSE)","v":{"$error":"#REF!"}},{"$f":"VLOOKUP(#REF!,'Points Lookup'!$A:$B,2,FALSE)","v":{"$error":"#REF!"}},{"$f":"VLOOKUP(#REF!,'Points Lookup'!$A:$B,2,FALSE)","v":{"$error":"#REF!"}},{"$f":"VLOOKUP(#REF!,'Points Lookup'!$A:$B,2,FALSE)","v":{"$error":"#REF!"}},{"$f":"VLOOKUP(#REF!,'Points Lookup'!$A:$B,2,FALSE)","v":{"$error":"#REF!"}},{"$f":"VLOOKUP(#REF!,'Points Lookup'!$A:$B,2,FALSE)","v":{"$error":"#REF!"}},{"$f":"VLOOKUP(#REF!,'Points Lookup'!$A:$B,2,FALSE)","v":{"$error":"#REF!"}},null,{"$f":"LARGE($E92:$X92,Z$1)","v":{"$error":"#REF!"}},{"$error":"#REF!"},{"$error":"#REF!"},{"$error":"#REF!"},{"$error":"#REF!"},{"$error":"#REF!"},{"$error":"#REF!"},{"$error":"#REF!"}]
[{"$error":"#REF!"},{"$f":"#REF!","v":{"$error":"#REF!"}},{"$f":"IF(ISBLANK(#REF!),\"\",#REF!)","v":{"$error":"#REF!"}},{"$error":"#REF!"},{"$f":"VLOOKUP(#REF!,'Points Lookup'!$A:$B,2,FALSE)","v":{"$error":"#REF!"}},{"$f":"VLOOKUP(#REF!,'Points Lookup'!$A:$B,2,FALSE)","v":{"$error":"#REF!"}},{"$f":"VLOOKUP(#REF!,'Points Lookup'!$A:$B,2,FALSE)","v":{"$error":"#REF!"}},{"$f":"VLOOKUP(#REF!,'Points Lookup'!$A:$B,2,FALSE)","v":{"$error":"#REF!"}},{"$f":"VLOOKUP(#REF!,'Points Lookup'!$A:$B,2,FALSE)","v":{"$error":"#REF!"}},{"$f":"VLOOKUP(#REF!,'Points Lookup'!$A:$B,2,FALSE)","v":{"$error":"#REF!"}},{"$f":"VLOOKUP(#REF!,'Points Lookup'!$A:$B,2,FALSE)","v":{"$error":"#REF!"}},{"$f":"VLOOKUP(#REF!,'Points Lookup'!$A:$B,2,FALSE)","v":{"$error":"#REF!"}},{"$f":"VLOOKUP(#REF!,'Points Lookup'!$A:$B,2,FALSE)","v":{"$error":"#REF!"}},{"$f":"VLOOKUP(#REF!,'Points Lookup'!$A:$B,2,FALSE)","v":{"$error":"#REF!"}},{"$f":"VLOOKUP(#REF!,'Points Lookup'!$A:$B,2,FALSE)","v":{"$error":"#REF!"}},{"$f":"VLOOKUP(#REF!,'Points Lookup'!$A:$B,2,FALSE)","v":{"$error":"#REF!"}},{"$f":"VLOOKUP(#REF!,'Points Lookup'!$A:$B,2,FALSE)","v":{"$error":"#REF!"}},{"$f":"VLOOKUP(#REF!,'Points Lookup'!$A:$B,2,FALSE)","v":{"$error":"#REF!"}},{"$f":"VLOOKUP(#REF!,'Points Lookup'!$A:$B,2,FALSE)","v":{"$error":"#REF!"}},{"$f":"VLOOKUP(#REF!,'Points Lookup'!$A:$B,2,FALSE)","v":{"$error":"#REF!"}},{"$f":"VLOOKUP(#REF!,'Points Lookup'!$A:$B,2,FALSE)","v":{"$error":"#REF!"}},{"$f":"VLOOKUP(#REF!,'Points Lookup'!$A:$B,2,FALSE)","v":{"$error":"#REF!"}},{"$f":"VLOOKUP(#REF!,'Points Lookup'!$A:$B,2,FALSE)","v":{"$error":"#REF!"}},{"$f":"VLOOKUP(#REF!,'Points Lookup'!$A:$B,2,FALSE)","v":{"$error":"#REF!"}},null,{"$error":"#REF!"},{"$error":"#REF!"},{"$error":"#REF!"},{"$error":"#REF!"},{"$error":"#REF!"},{"$error":"#REF!"},{"$error":"#REF!"},{"$error":"#REF!"}]
[{"$error":"#REF!"},{"$f":"#REF!","v":{"$error":"#REF!"}},{"$f":"IF(ISBLANK(#REF!),\"\",#REF!)","v":{"$error":"#REF!"}},{"$error":"#REF!"},{"$f":"VLOOKUP(#REF!,'Points Lookup'!$A:$B,2,FALSE)","v":{"$error":"#REF!"}},{"$f":"VLOOKUP(#REF!,'Points Lookup'!$A:$B,2,FALSE)","v":{"$error":"#REF!"}},{"$f":"VLOOKUP(#REF!,'Points Lookup'!$A:$B,2,FALSE)","v":{"$error":"#REF!"}},{"$f":"VLOOKUP(#REF!,'Points Lookup'!$A:$B,2,FALSE)","v":{"$error":"#REF!"}},{"$f":"VLOOKUP(#REF!,'Points Lookup'!$A:$B,2,FALSE)","v":{"$error":"#REF!"}},{"$f":"VLOOKUP(#REF!,'Points Lookup'!$A:$B,2,FALSE)","v":{"$error":"#REF!"}},{"$f":"VLOOKUP(#REF!,'Points Lookup'!$A:$B,2,FALSE)","v":{"$error":"#REF!"}},{"$f":"VLOOKUP(#REF!,'Points Lookup'!$A:$B,2,FALSE)","v":{"$error":"#REF!"}},{"$f":"VLOOKUP(#REF!,'Points Lookup'!$A:$B,2,FALSE)","v":{"$error":"#REF!"}},{"$f":"VLOOKUP(#REF!,'Points Lookup'!$A:$B,2,FALSE)","v":{"$error":"#REF!"}},{"$f":"VLOOKUP(#REF!,'Points Lookup'!$A:$B,2,FALSE)","v":{"$error":"#REF!"}},{"$f":"VLOOKUP(#REF!,'Points Lookup'!$A:$B,2,FALSE)","v":{"$error":"#REF!"}},{"$f":"VLOOKUP(#REF!,'Points Lookup'!$A:$B,2,FALSE)","v":{"$error":"#REF!"}},{"$f":"VLOOKUP(#REF!,'Points Lookup'!$A:$B,2,FALSE)","v":{"$error":"#REF!"}},{"$f":"VLOOKUP(#REF!,'Points Lookup'!$A:$B,2,FALSE)","v":{"$error":"#REF!"}},{"$f":"VLOOKUP(#REF!,'Points Lookup'!$A:$B,2,FALSE)","v":{"$error":"#REF!"}},{"$f":"VLOOKUP(#REF!,'Points Lookup'!$A:$B,2,FALSE)","v":{"$error":"#REF!"}},{"$f":"VLOOKUP(#REF!,'Points Lookup'!$A:$B,2,FALSE)","v":{"$error":"#REF!"}},{"$f":"VLOOKUP(#REF!,'Points Lookup'!$A:$B,2,FALSE)","v":{"$error":"#REF!"}},{"$f":"VLOOKUP(#REF!,'Points Lookup'!$A:$B,2,FALSE)","v":{"$error":"#REF!"}},null,{"$error":"#REF!"},{"$error":"#REF!"},{"$error":"#REF!"},{"$error":"#REF!"},{"$error":"#REF!"},{"$error":"#REF!"},{"$error":"#REF!"},{"$error":"#REF!"}]
[{"$error":"#REF!"},{"$f":"#REF!","v":{"$error":"#REF!"}},{"$f":"IF(ISBLANK(#REF!),\"\",#REF!)","v":{"$error":"#REF!"}},{"$error":"#REF!"},{"$f":"VLOOKUP(#REF!,'Points Lookup'!$A:$B,2,FALSE)","v":{"$error":"#REF!"}},{"$f":"VLOOKUP(#REF!,'Points Lookup'!$A:$B,2,FALSE)","v":{"$error":"#REF!"}},{"$f":"VLOOKUP(#REF!,'Points Lookup'!$A:$B,2,FALSE)","v":{"$error":"#REF!"}},{"$f":"VLOOKUP(#REF!,'Points Lookup'!$A:$B,2,FALSE)","v":{"$error":"#REF!"}},{"$f":"VLOOKUP(#REF!,'Points Lookup'!$A:$B,2,FALSE)","v":{"$error":"#REF!"}},{"$f":"VLOOKUP(#REF!,'Points Lookup'!$A:$B,2,FALSE)","v":{"$error":"#REF!"}},{"$f":"VLOOKUP(#REF!,'Points Lookup'!$A:$B,2,FALSE)","v":{"$error":"#REF!"}},{"$f":"VLOOKUP(#REF!,'Points Lookup'!$A:$B,2,FALSE)","v":{"$error":"#REF!"}},{"$f":"VLOOKUP(#REF!,'Points Lookup'!$A:$B,2,FALSE)","v":{"$error":"#REF!"}},{"$f":"VLOOKUP(#REF!,'Points Lookup'!$A:$B,2,FALSE)","v":{"$error":"#REF!"}},{"$f":"VLOOKUP(#REF!,'Points Lookup'!$A:$B,2,FALSE)","v":{"$error":"#REF!"}},{"$f":"VLOOKUP(#REF!,'Points Lookup'!$A:$B,2,FALSE)","v":{"$error":"#REF!"}},{"$f":"VLOOKUP(#REF!,'Points Lookup'!$A:$B,2,FALSE)","v":{"$error":"#REF!"}},{"$f":"VLOOKUP(#REF!,'Points Lookup'!$A:$B,2,FALSE)","v":{"$error":"#REF!"}},{"$f":"VLOOKUP(#REF!,'Points Lookup'!$A:$B,2,FALSE)","v":{"$error":"#REF!"}},{"$f":"VLOOKUP(#REF!,'Points Lookup'!$A:$B,2,FALSE)","v":{"$error":"#REF!"}},{"$f":"VLOOKUP(#REF!,'Points Lookup'!$A:$B,2,FALSE)","v":{"$error":"#REF!"}},{"$f":"VLOOKUP(#REF!,'Points Lookup'!$A:$B,2,FALSE)","v":{"$error":"#REF!"}},{"$f":"VLOOKUP(#REF!,'Points Lookup'!$A:$B,2,FALSE)","v":{"$error":"#REF!"}},{"$f":"VLOOKUP(#REF!,'Points Lookup'!$A:$B,2,FALSE)","v":{"$error":"#REF!"}},null,{"$error":"#REF!"},{"$error":"#REF!"},{"$error":"#REF!"},{"$error":"#REF!"},{"$error":"#REF!"},{"$error":"#REF!"},{"$error":"#REF!"},{"$error":"#REF!"}]
[{"$error":"#REF!"},{"$f":"#REF!","v":{"$error":"#REF!"}},{"$f":"IF(ISBLANK(#REF!),\"\",#REF!)","v":{"$error":"#REF!"}},{"$error":"#REF!"},{"$f":"VLOOKUP(#REF!,'Points Lookup'!$A:$B,2,FALSE)","v":{"$error":"#REF!"}},{"$f":"VLOOKUP(#REF!,'Points Lookup'!$A:$B,2,FALSE)","v":{"$error":"#REF!"}},{"$f":"VLOOKUP(#REF!,'Points Lookup'!$A:$B,2,FALSE)","v":{"$error":"#REF!"}},{"$f":"VLOOKUP(#REF!,'Points Lookup'!$A:$B,2,FALSE)","v":{"$error":"#REF!"}},{"$f":"VLOOKUP(#REF!,'Points Lookup'!$A:$B,2,FALSE)","v":{"$error":"#REF!"}},{"$f":"VLOOKUP(#REF!,'Points Lookup'!$A:$B,2,FALSE)","v":{"$error":"#REF!"}},{"$f":"VLOOKUP(#REF!,'Points Lookup'!$A:$B,2,FALSE)","v":{"$error":"#REF!"}},{"$f":"VLOOKUP(#REF!,'Points Lookup'!$A:$B,2,FALSE)","v":{"$error":"#REF!"}},{"$f":"VLOOKUP(#REF!,'Points Lookup'!$A:$B,2,FALSE)","v":{"$error":"#REF!"}},{"$f":"VLOOKUP(#REF!,'Points Lookup'!$A:$B,2,FALSE)","v":{"$error":"#REF!"}},{"$f":"VLOOKUP(#REF!,'Points Lookup'!$A:$B,2,FALSE)","v":{"$error":"#REF!"}},{"$f":"VLOOKUP(#REF!,'Points Lookup'!$A:$B,2,FALSE)","v":{"$error":"#REF!"}},{"$f":"VLOOKUP(#REF!,'Points Lookup'!$A:$B,2,FALSE)","v":{"$error":"#REF!"}},{"$f":"VLOOKUP(#REF!,'Points Lookup'!$A:$B,2,FALSE)","v":{"$error":"#REF!"}},{"$f":"VLOOKUP(#REF!,'Points Lookup'!$A:$B,2,FALSE)","v":{"$error":"#REF!"}},{"$f":"VLOOKUP(#REF!,'Points Lookup'!$A:$B,2,FALSE)","v":{"$error":"#REF!"}},{"$f":"VLOOKUP(#REF!,'Points Lookup'!$A:$B,2,FALSE)","v":{"$error":"#REF!"}},{"$f":"VLOOKUP(#REF!,'Points Lookup'!$A:$B,2,FALSE)","v":{"$error":"#REF!"}},{"$f":"VLOOKUP(#REF!,'Points Lookup'!$A:$B,2,FALSE)","v":{"$error":"#REF!"}},{"$f":"VLOOKUP(#REF!,'Points Lookup'!$A:$B,2,FALSE)","v":{"$error":"#REF!"}},null,{"$error":"#REF!"},{"$error":"#REF!"},{"$error":"#REF!"},{"$error":"#REF!"},{"$error":"#REF!"},{"$error":"#REF!"},{"$error":"#REF!"},{"$error":"#REF!"}]
[{"$error":"#REF!"},{"$f":"#REF!","v":{"$error":"#REF!"}},{"$f":"IF(ISBLANK(#REF!),\"\",#REF!)","v":{"$error":"#REF!"}},{"$error":"#REF!"},{"$f":"VLOOKUP(#REF!,'Points Lookup'!$A:$B,2,FALSE)","v":{"$error":"#REF!"}},{"$f":"VLOOKUP(#REF!,'Points Lookup'!$A:$B,2,FALSE)","v":{"$error":"#REF!"}},{"$f":"VLOOKUP(#REF!,'Points Lookup'!$A:$B,2,FALSE)","v":{"$error":"#REF!"}},{"$f":"VLOOKUP(#REF!,'Points Lookup'!$A:$B,2,FALSE)","v":{"$error":"#REF!"}},{"$f":"VLOOKUP(#REF!,'Points Lookup'!$A:$B,2,FALSE)","v":{"$error":"#REF!"}},{"$f":"VLOOKUP(#REF!,'Points Lookup'!$A:$B,2,FALSE)","v":{"$error":"#REF!"}},{"$f":"VLOOKUP(#REF!,'Points Lookup'!$A:$B,2,FALSE)","v":{"$error":"#REF!"}},{"$f":"VLOOKUP(#REF!,'Points Lookup'!$A:$B,2,FALSE)","v":{"$error":"#REF!"}},{"$f":"VLOOKUP(#REF!,'Points Lookup'!$A:$B,2,FALSE)","v":{"$error":"#REF!"}},{"$f":"VLOOKUP(#REF!,'Points Lookup'!$A:$B,2,FALSE)","v":{"$error":"#REF!"}},{"$f":"VLOOKUP(#REF!,'Points Lookup'!$A:$B,2,FALSE)","v":{"$error":"#REF!"}},{"$f":"VLOOKUP(#REF!,'Points Lookup'!$A:$B,2,FALSE)","v":{"$error":"#REF!"}},{"$f":"VLOOKUP(#REF!,'Points Lookup'!$A:$B,2,FALSE)","v":{"$error":"#REF!"}},{"$f":"VLOOKUP(#REF!,'Points Lookup'!$A:$B,2,FALSE)","v":{"$error":"#REF!"}},{"$f":"VLOOKUP(#REF!,'Points Lookup'!$A:$B,2,FALSE)","v":{"$error":"#REF!"}},{"$f":"VLOOKUP(#REF!,'Points Lookup'!$A:$B,2,FALSE)","v":{"$error":"#REF!"}},{"$f":"VLOOKUP(#REF!,'Points Lookup'!$A:$B,2,FALSE)","v":{"$error":"#REF!"}},{"$f":"VLOOKUP(#REF!,'Points Lookup'!$A:$B,2,FALSE)","v":{"$error":"#REF!"}},{"$f":"VLOOKUP(#REF!,'Points Lookup'!$A:$B,2,FALSE)","v":{"$error":"#REF!"}},{"$f":"VLOOKUP(#REF!,'Points Lookup'!$A:$B,2,FALSE)","v":{"$error":"#REF!"}},null,{"$error":"#REF!"},{"$error":"#REF!"},{"$error":"#REF!"},{"$error":"#REF!"},{"$error":"#REF!"},{"$error":"#REF!"},{"$error":"#REF!"},{"$error":"#REF!"}]
[{"$f":"RANK(D98,D:D)","v":{"$error":"#REF!"}},{"$f":"#REF!","v":{"$error":"#REF!"}},{"$f":"IF(ISBLANK(#REF!),\"\",#REF!)","v":{"$error":"#REF!"}},{"$error":"#REF!"},{"$f":"VLOOKUP(#REF!,'Points Lookup'!$A:$B,2,FALSE)","v":{"$error":"#REF!"}},{"$f":"VLOOKUP(#REF!,'Points Lookup'!$A:$B,2,FALSE)","v":{"$error":"#REF!"}},{"$f":"VLOOKUP(#REF!,'Points Lookup'!$A:$B,2,FALSE)","v":{"$error":"#REF!"}},{"$f":"VLOOKUP(#REF!,'Points Lookup'!$A:$B,2,FALSE)","v":{"$error":"#REF!"}},{"$f":"VLOOKUP(#REF!,'Points Lookup'!$A:$B,2,FALSE)","v":{"$error":"#REF!"}},{"$f":"VLOOKUP(#REF!,'Points Lookup'!$A:$B,2,FALSE)","v":{"$error":"#REF!"}},{"$f":"VLOOKUP(#REF!,'Points Lookup'!$A:$B,2,FALSE)","v":{"$error":"#REF!"}},{"$f":"VLOOKUP(#REF!,'Points Lookup'!$A:$B,2,FALSE)","v":{"$error":"#REF!"}},{"$f":"VLOOKUP(#REF!,'Points Lookup'!$A:$B,2,FALSE)","v":{"$error":"#REF!"}},{"$f":"VLOOKUP(#REF!,'Points Lookup'!$A:$B,2,FALSE)","v":{"$error":"#REF!"}},{"$f":"VLOOKUP(#REF!,'Points Lookup'!$A:$B,2,FALSE)","v":{"$error":"#REF!"}},{"$f":"VLOOKUP(#REF!,'Points Lookup'!$A:$B,2,FALSE)","v":{"$error":"#REF!"}},{"$f":"VLOOKUP(#REF!,'Points Lookup'!$A:$B,2,FALSE)","v":{"$error":"#REF!"}},{"$f":"VLOOKUP(#REF!,'Points Lookup'!$A:$B,2,FALSE)","v":{"$error":"#REF!"}},{"$f":"VLOOKUP(#REF!,'Points Lookup'!$A:$B,2,FALSE)","v":{"$error":"#REF!"}},{"$f":"VLOOKUP(#REF!,'Points Lookup'!$A:$B,2,FALSE)","v":{"$error":"#REF!"}},{"$f":"VLOOKUP(#REF!,'Points Lookup'!$A:$B,2,FALSE)","v":{"$error":"#REF!"}},{"$f":"VLOOKUP(#REF!,'Points Lookup'!$A:$B,2,FALSE)","v":{"$error":"#REF!"}},{"$f":"VLOOKUP(#REF!,'Points Lookup'!$A:$B,2,FALSE)","v":{"$error":"#REF!"}},{"$f":"VLOOKUP(#REF!,'Points Lookup'!$A:$B,2,FALSE)","v":{"$error":"#REF!"}},null,{"$error":"#REF!"},{"$error":"#REF!"},{"$error":"#REF!"},{"$error":"#REF!"},{"$error":"#REF!"},{"$error":"#REF!"},{"$error":"#REF!"},{"$error":"#REF!"}]
[{"$error":"#REF!"},{"$f":"#REF!","v":{"$error":"#REF!"}},{"$f":"IF(ISBLANK(#REF!),\"\",#REF!)","v":{"$error":"#REF!"}},{"$error":"#REF!"},{"$f":"VLOOKUP(#REF!,'Points Lookup'!$A:$B,2,FALSE)","v":{"$error":"#REF!"}},{"$f":"VLOOKUP(#REF!,'Points Lookup'!$A:$B,2,FALSE)","v":{"$error":"#REF!"}},{"$f":"VLOOKUP(#REF!,'Points Lookup'!$A:$B,2,FALSE)","v":{"$error":"#REF!"}},{"$f":"VLOOKUP(#REF!,'Points Lookup'!$A:$B,2,FALSE)","v":{"$error":"#REF!"}},{"$f":"VLOOKUP(#REF!,'Points Lookup'!$A:$B,2,FALSE)","v":{"$error":"#REF!"}},{"$f":"VLOOKUP(#REF!,'Points Lookup'!$A:$B,2,FALSE)","v":{"$error":"#REF!"}},{"$f":"VLOOKUP(#REF!,'Points Lookup'!$A:$B,2,FALSE)","v":{"$error":"#REF!"}},{"$f":"VLOOKUP(#REF!,'Points Lookup'!$A:$B,2,FALSE)","v":{"$error":"#REF!"}},{"$f":"VLOOKUP(#REF!,'Points Lookup'!$A:$B,2,FALSE)","v":{"$error":"#REF!"}},{"$f":"VLOOKUP(#REF!,'Points Lookup'!$A:$B,2,FALSE)","v":{"$error":"#REF!"}},{"$f":"VLOOKUP(#REF!,'Points Lookup'!$A:$B,2,FALSE)","v":{"$error":"#REF!"}},{"$f":"VLOOKUP(#REF!,'Points Lookup'!$A:$B,2,FALSE)","v":{"$error":"#REF!"}},{"$f":"VLOOKUP(#REF!,'Points Lookup'!$A:$B,2,FALSE)","v":{"$error":"#REF!"}},{"$f":"VLOOKUP(#REF!,'Points Lookup'!$A:$B,2,FALSE)","v":{"$error":"#REF!"}},{"$f":"VLOOKUP(#REF!,'Points Lookup'!$A:$B,2,FALSE)","v":{"$error":"#REF!"}},{"$f":"VLOOKUP(#REF!,'Points Lookup'!$A:$B,2,FALSE)","v":{"$error":"#REF!"}},{"$f":"VLOOKUP(#REF!,'Points Lookup'!$A:$B,2,FALSE)","v":{"$error":"#REF!"}},{"$f":"VLOOKUP(#REF!,'Points Lookup'!$A:$B,2,FALSE)","v":{"$error":"#REF!"}},{"$f":"VLOOKUP(#REF!,'Points Lookup'!$A:$B,2,FALSE)","v":{"$error":"#REF!"}},{"$f":"VLOOKUP(#REF!,'Points Lookup'!$A:$B,2,FALSE)","v":{"$error":"#REF!"}},null,{"$error":"#REF!"},{"$error":"#REF!"},{"$error":"#REF!"},{"$error":"#REF!"},{"$error":"#REF!"},{"$error":"#REF!"},{"$error":"#REF!"},{"$error":"#REF!"}]
[{"$error":"#REF!"},{"$f":"#REF!","v":{"$error":"#REF!"}},{"$f":"IF(ISBLANK(#REF!),\"\",#REF!)","v":{"$error":"#REF!"}},{"$error":"#REF!"},{"$f":"VLOOKUP(#REF!,'Points Lookup'!$A:$B,2,FALSE)","v":{"$error":"#REF!"}},{"$f":"VLOOKUP(#REF!,'Points Lookup'!$A:$B,2,FALSE)","v":{"$error":"#REF!"}},{"$f":"VLOOKUP(#REF!,'Points Lookup'!$A:$B,2,FALSE)","v":{"$error":"#REF!"}},{"$f":"VLOOKUP(#REF!,'Points Lookup'!$A:$B,2,FALSE)","v":{"$error":"#REF!"}},{"$f":"VLOOKUP(#REF!,'Points Lookup'!$A:$B,2,FALSE)","v":{"$error":"#REF!"}},{"$f":"VLOOKUP(#REF!,'Points Lookup'!$A:$B,2,FALSE)","v":{"$error":"#REF!"}},{"$f":"VLOOKUP(#REF!,'Points Lookup'!$A:$B,2,FALSE)","v":{"$error":"#REF!"}},{"$f":"VLOOKUP(#REF!,'Points Lookup'!$A:$B,2,FALSE)","v":{"$error":"#REF!"}},{"$f":"VLOOKUP(#REF!,'Points Lookup'!$A:$B,2,FALSE)","v":{"$error":"#REF!"}},{"$f":"VLOOKUP(#REF!,'Points Lookup'!$A:$B,2,FALSE)","v":{"$error":"#REF!"}},{"$f":"VLOOKUP(#REF!,'Points Lookup'!$A:$B,2,FALSE)","v":{"$error":"#REF!"}},{"$f":"VLOOKUP(#REF!,'Points Lookup'!$A:$B,2,FALSE)","v":{"$error":"#REF!"}},{"$f":"VLOOKUP(#REF!,'Points Lookup'!$A:$B,2,FALSE)","v":{"$error":"#REF!"}},{"$f":"VLOOKUP(#REF!,'Points Lookup'!$A:$B,2,FALSE)","v":{"$error":"#REF!"}},{"$f":"VLOOKUP(#REF!,'Points Lookup'!$A:$B,2,FALSE)","v":{"$error":"#REF!"}},{"$f":"VLOOKUP(#REF!,'Points Lookup'!$A:$B,2,FALSE)","v":{"$error":"#REF!"}},{"$f":"VLOOKUP(#REF!,'Points Lookup'!$A:$B,2,FALSE)","v":{"$error":"#REF!"}},{"$f":"VLOOKUP(#REF!,'Points Lookup'!$A:$B,2,FALSE)","v":{"$error":"#REF!"}},{"$f":"VLOOKUP(#REF!,'Points Lookup'!$A:$B,2,FALSE)","v":{"$error":"#REF!"}},{"$f":"VLOOKUP(#REF!,'Points Lookup'!$A:$B,2,FALSE)","v":{"$error":"#REF!"}},null,{"$error":"#REF!"},{"$error":"#REF!"},{"$error":"#REF!"},{"$error":"#REF!"},{"$error":"#REF!"},{"$error":"#REF!"},{"$error":"#REF!"},{"$error":"#REF!"}]
[{"$error":"#REF!"},{"$f":"#REF!","v":{"$error":"#REF!"}},{"$f":"IF(ISBLANK(#REF!),\"\",#REF!)","v":{"$error":"#REF!"}},{"$error":"#REF!"},{"$f":"VLOOKUP(#REF!,'Points Lookup'!$A:$B,2,FALSE)","v":{"$error":"#REF!"}},{"$f":"VLOOKUP(#REF!,'Points Lookup'!$A:$B,2,FALSE)","v":{"$error":"#REF!"}},{"$f":"VLOOKUP(#REF!,'Points Lookup'!$A:$B,2,FALSE)","v":{"$error":"#REF!"}},{"$f":"VLOOKUP(#REF!,'Points Lookup'!$A:$B,2,FALSE)","v":{"$error":"#REF!"}},{"$f":"VLOOKUP(#REF!,'Points Lookup'!$A:$B,2,FALSE)","v":{"$error":"#REF!"}},{"$f":"VLOOKUP(#REF!,'Points Lookup'!$A:$B,2,FALSE)","v":{"$error":"#REF!"}},{"$f":"VLOOKUP(#REF!,'Points Lookup'!$A:$B,2,FALSE)","v":{"$error":"#REF!"}},{"$f":"VLOOKUP(#REF!,'Points Lookup'!$A:$B,2,FALSE)","v":{"$error":"#REF!"}},{"$f":"VLOOKUP(#REF!,'Points Lookup'!$A:$B,2,FALSE)","v":{"$error":"#REF!"}},{"$f":"VLOOKUP(#REF!,'Points Lookup'!$A:$B,2,FALSE)","v":{"$error":"#REF!"}},{"$f":"VLOOKUP(#REF!,'Points Lookup'!$A:$B,2,FALSE)","v":{"$error":"#REF!"}},{"$f":"VLOOKUP(#REF!,'Points Lookup'!$A:$B,2,FALSE)","v":{"$error":"#REF!"}},{"$f":"VLOOKUP(#REF!,'Points Lookup'!$A:$B,2,FALSE)","v":{"$error":"#REF!"}},{"$f":"VLOOKUP(#REF!,'Points Lookup'!$A:$B,2,FALSE)","v":{"$error":"#REF!"}},{"$f":"VLOOKUP(#REF!,'Points Lookup'!$A:$B,2,FALSE)","v":{"$error":"#REF!"}},{"$f":"VLOOKUP(#REF!,'Points Lookup'!$A:$B,2,FALSE)","v":{"$error":"#REF!"}},{"$f":"VLOOKUP(#REF!,'Points Lookup'!$A:$B,2,FALSE)","v":{"$error":"#REF!"}},{"$f":"VLOOKUP(#REF!,'Points Lookup'!$A:$B,2,FALSE)","v":{"$error":"#REF!"}},{"$f":"VLOOKUP(#REF!,'Points Lookup'!$A:$B,2,FALSE)","v":{"$error":"#REF!"}},{"$f":"VLOOKUP(#REF!,'Points Lookup'!$A:$B,2,FALSE)","v":{"$error":"#REF!"}},null,{"$error":"#REF!"},{"$error":"#REF!"},{"$error":"#REF!"},{"$error":"#REF!"},{"$error":"#REF!"},{"$error":"#REF!"},{"$error":"#REF!"},{"$error":"#REF!"}]
[{"$error":"#REF!"},{"$f":"#REF!","v":{"$error":"#REF!"}},{"$f":"IF(ISBLANK(#REF!),\"\",#REF!)","v":{"$error":"#REF!"}},{"$error":"#REF!"},{"$f":"VLOOKUP(#REF!,'Points Lookup'!$A:$B,2,FALSE)","v":{"$error":"#REF!"}},{"$f":"VLOOKUP(#REF!,'Points Lookup'!$A:$B,2,FALSE)","v":{"$error":"#REF!"}},{"$f":"VLOOKUP(#REF!,'Points Lookup'!$A:$B,2,FALSE)","v":{"$error":"#REF!"}},{"$f":"VLOOKUP(#REF!,'Points Lookup'!$A:$B,2,FALSE)","v":{"$error":"#REF!"}},{"$f":"VLOOKUP(#REF!,'Points Lookup'!$A:$B,2,FALSE)","v":{"$error":"#REF!"}},{"$f":"VLOOKUP(#REF!,'Points Lookup'!$A:$B,2,FALSE)","v":{"$error":"#REF!"}},{"$f":"VLOOKUP(#REF!,'Points Lookup'!$A:$B,2,FALSE)","v":{"$error":"#REF!"}},{"$f":"VLOOKUP(#REF!,'Points Lookup'!$A:$B,2,FALSE)","v":{"$error":"#REF!"}},{"$f":"VLOOKUP(#REF!,'Points Lookup'!$A:$B,2,FALSE)","v":{"$error":"#REF!"}},{"$f":"VLOOKUP(#REF!,'Points Lookup'!$A:$B,2,FALSE)","v":{"$error":"#REF!"}},{"$f":"VLOOKUP(#REF!,'Points Lookup'!$A:$B,2,FALSE)","v":{"$error":"#REF!"}},{"$f":"VLOOKUP(#REF!,'Points Lookup'!$A:$B,2,FALSE)","v":{"$error":"#REF!"}},{"$f":"VLOOKUP(#REF!,'Points Lookup'!$A:$B,2,FALSE)","v":{"$error":"#REF!"}},{"$f":"VLOOKUP(#REF!,'Points Lookup'!$A:$B,2,FALSE)","v":{"$error":"#REF!"}},{"$f":"VLOOKUP(#REF!,'Points Lookup'!$A:$B,2,FALSE)","v":{"$error":"#REF!"}},{"$f":"VLOOKUP(#REF!,'Points Lookup'!$A:$B,2,FALSE)","v":{"$error":"#REF!"}},{"$f":"VLOOKUP(#REF!,'Points Lookup'!$A:$B,2,FALSE)","v":{"$error":"#REF!"}},{"$f":"VLOOKUP(#REF!,'Points Lookup'!$A:$B,2,FALSE)","v":{"$error":"#REF!"}},{"$f":"VLOOKUP(#REF!,'Points Lookup'!$A:$B,2,FALSE)","v":{"$error":"#REF!"}},{"$f":"VLOOKUP(#REF!,'Points Lookup'!$A:$B,2,FALSE)","v":{"$error":"#REF!"}},null,{"$f":"LARGE($E102:$X102,Z$1)","v":{"$error":"#REF!"}},{"$error":"#REF!"},{"$error":"#REF!"},{"$error":"#REF!"},{"$error":"#REF!"},{"$error":"#REF!"},{"$error":"#REF!"},{"$error":"#REF!"}]
[{"$error":"#REF!"},{"$f":"#REF!","v":{"$error":"#REF!"}},{"$f":"IF(ISBLANK(#REF!),\"\",#REF!)","v":{"$error":"#REF!"}},{"$error":"#REF!"},{"$f":"VLOOKUP(#REF!,'Points Lookup'!$A:$B,2,FALSE)","v":{"$error":"#REF!"}},{"$f":"VLOOKUP(#REF!,'Points Lookup'!$A:$B,2,FALSE)","v":{"$error":"#REF!"}},{"$f":"VLOOKUP(#REF!,'Points Lookup'!$A:$B,2,FALSE)","v":{"$error":"#REF!"}},{"$f":"VLOOKUP(#REF!,'Points Lookup'!$A:$B,2,FALSE)","v":{"$error":"#REF!"}},{"$f":"VLOOKUP(#REF!,'Points Lookup'!$A:$B,2,FALSE)","v":{"$error":"#REF!"}},{"$f":"VLOOKUP(#REF!,'Points Lookup'!$A:$B,2,FALSE)","v":{"$error":"#REF!"}},{"$f":"VLOOKUP(#REF!,'Points Lookup'!$A:$B,2,FALSE)","v":{"$error":"#REF!"}},{"$f":"VLOOKUP(#REF!,'Points Lookup'!$A:$B,2,FALSE)","v":{"$error":"#REF!"}},{"$f":"VLOOKUP(#REF!,'Points Lookup'!$A:$B,2,FALSE)","v":{"$error":"#REF!"}},{"$f":"VLOOKUP(#REF!,'Points Lookup'!$A:$B,2,FALSE)","v":{"$error":"#REF!"}},{"$f":"VLOOKUP(#REF!,'Points Lookup'!$A:$B,2,FALSE)","v":{"$error":"#REF!"}},{"$f":"VLOOKUP(#REF!,'Points Lookup'!$A:$B,2,FALSE)","v":{"$error":"#REF!"}},{"$f":"VLOOKUP(#REF!,'Points Lookup'!$A:$B,2,FALSE)","v":{"$error":"#REF!"}},{"$f":"VLOOKUP(#REF!,'Points Lookup'!$A:$B,2,FALSE)","v":{"$error":"#REF!"}},{"$f":"VLOOKUP(#REF!,'Points Lookup'!$A:$B,2,FALSE)","v":{"$error":"#REF!"}},{"$f":"VLOOKUP(#REF!,'Points Lookup'!$A:$B,2,FALSE)","v":{"$error":"#REF!"}},{"$f":"VLOOKUP(#REF!,'Points Lookup'!$A:$B,2,FALSE)","v":{"$error":"#REF!"}},{"$f":"VLOOKUP(#REF!,'Points Lookup'!$A:$B,2,FALSE)","v":{"$error":"#REF!"}},{"$f":"VLOOKUP(#REF!,'Points Lookup'!$A:$B,2,FALSE)","v":{"$error":"#REF!"}},{"$f":"VLOOKUP(#REF!,'Points Lookup'!$A:$B,2,FALSE)","v":{"$error":"#REF!"}},null,{"$error":"#REF!"},{"$error":"#REF!"},{"$error":"#REF!"},{"$error":"#REF!"},{"$error":"#REF!"},{"$error":"#REF!"},{"$error":"#REF!"},{"$error":"#REF!"}]
[{"$error":"#REF!"},{"$f":"#REF!","v":{"$error":"#REF!"}},{"$f":"IF(ISBLANK(#REF!),\"\",#REF!)","v":{"$error":"#REF!"}},{"$error":"#REF!"},{"$f":"VLOOKUP(#REF!,'Points Lookup'!$A:$B,2,FALSE)","v":{"$error":"#REF!"}},{"$f":"VLOOKUP(#REF!,'Points Lookup'!$A:$B,2,FALSE)","v":{"$error":"#REF!"}},{"$f":"VLOOKUP(#REF!,'Points Lookup'!$A:$B,2,FALSE)","v":{"$error":"#REF!"}},{"$f":"VLOOKUP(#REF!,'Points Lookup'!$A:$B,2,FALSE)","v":{"$error":"#REF!"}},{"$f":"VLOOKUP(#REF!,'Points Lookup'!$A:$B,2,FALSE)","v":{"$error":"#REF!"}},{"$f":"VLOOKUP(#REF!,'Points Lookup'!$A:$B,2,FALSE)","v":{"$error":"#REF!"}},{"$f":"VLOOKUP(#REF!,'Points Lookup'!$A:$B,2,FALSE)","v":{"$error":"#REF!"}},{"$f":"VLOOKUP(#REF!,'Points Lookup'!$A:$B,2,FALSE)","v":{"$error":"#REF!"}},{"$f":"VLOOKUP(#REF!,'Points Lookup'!$A:$B,2,FALSE)","v":{"$error":"#REF!"}},{"$f":"VLOOKUP(#REF!,'Points Lookup'!$A:$B,2,FALSE)","v":{"$error":"#REF!"}},{"$f":"VLOOKUP(#REF!,'Points Lookup'!$A:$B,2,FALSE)","v":{"$error":"#REF!"}},{"$f":"VLOOKUP(#REF!,'Points Lookup'!$A:$B,2,FALSE)","v":{"$error":"#REF!"}},{"$f":"VLOOKUP(#REF!,'Points Lookup'!$A:$B,2,FALSE)","v":{"$error":"#REF!"}},{"$f":"VLOOKUP(#REF!,'Points Lookup'!$A:$B,2,FALSE)","v":{"$error":"#REF!"}},{"$f":"VLOOKUP(#REF!,'Points Lookup'!$A:$B,2,FALSE)","v":{"$error":"#REF!"}},{"$f":"VLOOKUP(#REF!,'Points Lookup'!$A:$B,2,FALSE)","v":{"$error":"#REF!"}},{"$f":"VLOOKUP(#REF!,'Points Lookup'!$A:$B,2,FALSE)","v":{"$error":"#REF!"}},{"$f":"VLOOKUP(#REF!,'Points Lookup'!$A:$B,2,FALSE)","v":{"$error":"#REF!"}},{"$f":"VLOOKUP(#REF!,'Points Lookup'!$A:$B,2,FALSE)","v":{"$error":"#REF!"}},{"$f":"VLOOKUP(#REF!,'Points Lookup'!$A:$B,2,FALSE)","v":{"$error":"#REF!"}},null,{"$error":"#REF!"},{"$error":"#REF!"},{"$error":"#REF!"},{"$error":"#REF!"},{"$error":"#REF!"},{"$error":"#REF!"},{"$error":"#REF!"},{"$error":"#REF!"}]
[{"$error":"#REF!"},{"$f":"#REF!","v":{"$error":"#REF!"}},{"$f":"IF(ISBLANK(#REF!),\"\",#REF!)","v":{"$error":"#REF!"}},{"$error":"#REF!"},{"$f":"VLOOKUP(#REF!,'Points Lookup'!$A:$B,2,FALSE)","v":{"$error":"#REF!"}},{"$f":"VLOOKUP(#REF!,'Points Lookup'!$A:$B,2,FALSE)","v":{"$error":"#REF!"}},{"$f":"VLOOKUP(#REF!,'Points Lookup'!$A:$B,2,FALSE)","v":{"$error":"#REF!"}},{"$f":"VLOOKUP(#REF!,'Points Lookup'!$A:$B,2,FALSE)","v":{"$error":"#REF!"}},{"$f":"VLOOKUP(#REF!,'Points Lookup'!$A:$B,2,FALSE)","v":{"$error":"#REF!"}},{"$f":"VLOOKUP(#REF!,'Points Lookup'!$A:$B,2,FALSE)","v":{"$error":"#REF!"}},{"$f":"VLOOKUP(#REF!,'Points Lookup'!$A:$B,2,FALSE)","v":{"$error":"#REF!"}},{"$f":"VLOOKUP(#REF!,'Points Lookup'!$A:$B,2,FALSE)","v":{"$error":"#REF!"}},{"$f":"VLOOKUP(#REF!,'Points Lookup'!$A:$B,2,FALSE)","v":{"$error":"#REF!"}},{"$f":"VLOOKUP(#REF!,'Points Lookup'!$A:$B,2,FALSE)","v":{"$error":"#REF!"}},{"$f":"VLOOKUP(#REF!,'Points Lookup'!$A:$B,2,FALSE)","v":{"$error":"#REF!"}},{"$f":"VLOOKUP(#REF!,'Points Lookup'!$A:$B,2,FALSE)","v":{"$error":"#REF!"}},{"$f":"VLOOKUP(#REF!,'Points Lookup'!$A:$B,2,FALSE)","v":{"$error":"#REF!"}},{"$f":"VLOOKUP(#REF!,'Points Lookup'!$A:$B,2,FALSE)","v":{"$error":"#REF!"}},{"$f":"VLOOKUP(#REF!,'Points Lookup'!$A:$B,2,FALSE)","v":{"$error":"#REF!"}},{"$f":"VLOOKUP(#REF!,'Points Lookup'!$A:$B,2,FALSE)","v":{"$error":"#REF!"}},{"$f":"VLOOKUP(#REF!,'Points Lookup'!$A:$B,2,FALSE)","v":{"$error":"#REF!"}},{"$f":"VLOOKUP(#REF!,'Points Lookup'!$A:$B,2,FALSE)","v":{"$error":"#REF!"}},{"$f":"VLOOKUP(#REF!,'Points Lookup'!$A:$B,2,FALSE)","v":{"$error":"#REF!"}},{"$f":"VLOOKUP(#REF!,'Points Lookup'!$A:$B,2,FALSE)","v":{"$error":"#REF!"}},null,{"$error":"#REF!"},{"$error":"#REF!"},{"$error":"#REF!"},{"$error":"#REF!"},{"$error":"#REF!"},{"$error":"#REF!"},{"$error":"#REF!"},{"$error":"#REF!"}]
[{"$error":"#REF!"},{"$f":"#REF!","v":{"$error":"#REF!"}},{"$f":"IF(ISBLANK(#REF!),\"\",#REF!)","v":{"$error":"#REF!"}},{"$error":"#REF!"},{"$f":"VLOOKUP(#REF!,'Points Lookup'!$A:$B,2,FALSE)","v":{"$error":"#REF!"}},{"$f":"VLOOKUP(#REF!,'Points Lookup'!$A:$B,2,FALSE)","v":{"$error":"#REF!"}},{"$f":"VLOOKUP(#REF!,'Points Lookup'!$A:$B,2,FALSE)","v":{"$error":"#REF!"}},{"$f":"VLOOKUP(#REF!,'Points Lookup'!$A:$B,2,FALSE)","v":{"$error":"#REF!"}},{"$f":"VLOOKUP(#REF!,'Points Lookup'!$A:$B,2,FALSE)","v":{"$error":"#REF!"}},{"$f":"VLOOKUP(#REF!,'Points Lookup'!$A:$B,2,FALSE)","v":{"$error":"#REF!"}},{"$f":"VLOOKUP(#REF!,'Points Lookup'!$A:$B,2,FALSE)","v":{"$error":"#REF!"}},{"$f":"VLOOKUP(#REF!,'Points Lookup'!$A:$B,2,FALSE)","v":{"$error":"#REF!"}},{"$f":"VLOOKUP(#REF!,'Points Lookup'!$A:$B,2,FALSE)","v":{"$error":"#REF!"}},{"$f":"VLOOKUP(#REF!,'Points Lookup'!$A:$B,2,FALSE)","v":{"$error":"#REF!"}},{"$f":"VLOOKUP(#REF!,'Points Lookup'!$A:$B,2,FALSE)","v":{"$error":"#REF!"}},{"$f":"VLOOKUP(#REF!,'Points Lookup'!$A:$B,2,FALSE)","v":{"$error":"#REF!"}},{"$f":"VLOOKUP(#REF!,'Points Lookup'!$A:$B,2,FALSE)","v":{"$error":"#REF!"}},{"$f":"VLOOKUP(#REF!,'Points Lookup'!$A:$B,2,FALSE)","v":{"$error":"#REF!"}},{"$f":"VLOOKUP(#REF!,'Points Lookup'!$A:$B,2,FALSE)","v":{"$error":"#REF!"}},{"$f":"VLOOKUP(#REF!,'Points Lookup'!$A:$B,2,FALSE)","v":{"$error":"#REF!"}},{"$f":"VLOOKUP(#REF!,'Points Lookup'!$A:$B,2,FALSE)","v":{"$error":"#REF!"}},{"$f":"VLOOKUP(#REF!,'Points Lookup'!$A:$B,2,FALSE)","v":{"$error":"#REF!"}},{"$f":"VLOOKUP(#REF!,'Points Lookup'!$A:$B,2,FALSE)","v":{"$error":"#REF!"}},{"$f":"VLOOKUP(#REF!,'Points Lookup'!$A:$B,2,FALSE)","v":{"$error":"#REF!"}},null,{"$error":"#REF!"},{"$error":"#REF!"},{"$error":"#REF!"},{"$error":"#REF!"},{"$error":"#REF!"},{"$error":"#REF!"},{"$error":"#REF!"},{"$error":"#REF!"}]
[{"$error":"#REF!"},{"$f":"#REF!","v":{"$error":"#REF!"}},{"$f":"IF(ISBLANK(#REF!),\"\",#REF!)","v":{"$error":"#REF!"}},{"$error":"#REF!"},{"$f":"VLOOKUP(#REF!,'Points Lookup'!$A:$B,2,FALSE)","v":{"$error":"#REF!"}},{"$f":"VLOOKUP(#REF!,'Points Lookup'!$A:$B,2,FALSE)","v":{"$error":"#REF!"}},{"$f":"VLOOKUP(#REF!,'Points Lookup'!$A:$B,2,FALSE)","v":{"$error":"#REF!"}},{"$f":"VLOOKUP(#REF!,'Points Lookup'!$A:$B,2,FALSE)","v":{"$error":"#REF!"}},{"$f":"VLOOKUP(#REF!,'Points Lookup'!$A:$B,2,FALSE)","v":{"$error":"#REF!"}},{"$f":"VLOOKUP(#REF!,'Points Lookup'!$A:$B,2,FALSE)","v":{"$error":"#REF!"}},{"$f":"VLOOKUP(#REF!,'Points Lookup'!$A:$B,2,FALSE)","v":{"$error":"#REF!"}},{"$f":"VLOOKUP(#REF!,'Points Lookup'!$A:$B,2,FALSE)","v":{"$error":"#REF!"}},{"$f":"VLOOKUP(#REF!,'Points Lookup'!$A:$B,2,FALSE)","v":{"$error":"#REF!"}},{"$f":"VLOOKUP(#REF!,'Points Lookup'!$A:$B,2,FALSE)","v":{"$error":"#REF!"}},{"$f":"VLOOKUP(#REF!,'Points Lookup'!$A:$B,2,FALSE)","v":{"$error":"#REF!"}},{"$f":"VLOOKUP(#REF!,'Points Lookup'!$A:$B,2,FALSE)","v":{"$error":"#REF!"}},{"$f":"VLOOKUP(#REF!,'Points Lookup'!$A:$B,2,FALSE)","v":{"$error":"#REF!"}},{"$f":"VLOOKUP(#REF!,'Points Lookup'!$A:$B,2,FALSE)","v":{"$error":"#REF!"}},{"$f":"VLOOKUP(#REF!,'Points Lookup'!$A:$B,2,FALSE)","v":{"$error":"#REF!"}},{"$f":"VLOOKUP(#REF!,'Points Lookup'!$A:$B,2,FALSE)","v":{"$error":"#REF!"}},{"$f":"VLOOKUP(#REF!,'Points Lookup'!$A:$B,2,FALSE)","v":{"$error":"#REF!"}},{"$f":"VLOOKUP(#REF!,'Points Lookup'!$A:$B,2,FALSE)","v":{"$error":"#REF!"}},{"$f":"VLOOKUP(#REF!,'Points Lookup'!$A:$B,2,FALSE)","v":{"$error":"#REF!"}},{"$f":"VLOOKUP(#REF!,'Points Lookup'!$A:$B,2,FALSE)","v":{"$error":"#REF!"}},null,{"$error":"#REF!"},{"$error":"#REF!"},{"$error":"#REF!"},{"$error":"#REF!"},{"$error":"#REF!"},{"$error":"#REF!"},{"$error":"#REF!"},{"$error":"#REF!"}]
[{"$error":"#REF!"},{"$f":"#REF!","v":{"$error":"#REF!"}},{"$f":"IF(ISBLANK(#REF!),\"\",#REF!)","v":{"$error":"#REF!"}},{"$error":"#REF!"},{"$f":"VLOOKUP(#REF!,'Points Lookup'!$A:$B,2,FALSE)","v":{"$error":"#REF!"}},{"$f":"VLOOKUP(#REF!,'Points Lookup'!$A:$B,2,FALSE)","v":{"$error":"#REF!"}},{"$f":"VLOOKUP(#REF!,'Points Lookup'!$A:$B,2,FALSE)","v":{"$error":"#REF!"}},{"$f":"VLOOKUP(#REF!,'Points Lookup'!$A:$B,2,FALSE)","v":{"$error":"#REF!"}},{"$f":"VLOOKUP(#REF!,'Points Lookup'!$A:$B,2,FALSE)","v":{"$error":"#REF!"}},{"$f":"VLOOKUP(#REF!,'Points Lookup'!$A:$B,2,FALSE)","v":{"$error":"#REF!"}},{"$f":"VLOOKUP(#REF!,'Points Lookup'!$A:$B,2,FALSE)","v":{"$error":"#REF!"}},{"$f":"VLOOKUP(#REF!,'Points Lookup'!$A:$B,2,FALSE)","v":{"$error":"#REF!"}},{"$f":"VLOOKUP(#REF!,'Points Lookup'!$A:$B,2,FALSE)","v":{"$error":"#REF!"}},{"$f":"VLOOKUP(#REF!,'Points Lookup'!$A:$B,2,FALSE)","v":{"$error":"#REF!"}},{"$f":"VLOOKUP(#REF!,'Points Lookup'!$A:$B,2,FALSE)","v":{"$error":"#REF!"}},{"$f":"VLOOKUP(#REF!,'Points Lookup'!$A:$B,2,FALSE)","v":{"$error":"#REF!"}},{"$f":"VLOOKUP(#REF!,'Points Lookup'!$A:$B,2,FALSE)","v":{"$error":"#REF!"}},{"$f":"VLOOKUP(#REF!,'Points Lookup'!$A:$B,2,FALSE)","v":{"$error":"#REF!"}},{"$f":"VLOOKUP(#REF!,'Points Lookup'!$A:$B,2,FALSE)","v":{"$error":"#REF!"}},{"$f":"VLOOKUP(#REF!,'Points Lookup'!$A:$B,2,FALSE)","v":{"$error":"#REF!"}},{"$f":"VLOOKUP(#REF!,'Points Lookup'!$A:$B,2,FALSE)","v":{"$error":"#REF!"}},{"$f":"VLOOKUP(#REF!,'Points Lookup'!$A:$B,2,FALSE)","v":{"$error":"#REF!"}},{"$f":"VLOOKUP(#REF!,'Points Lookup'!$A:$B,2,FALSE)","v":{"$error":"#REF!"}},{"$f":"VLOOKUP(#REF!,'Points Lookup'!$A:$B,2,FALSE)","v":{"$error":"#REF!"}},null,{"$error":"#REF!"},{"$error":"#REF!"},{"$error":"#REF!"},{"$error":"#REF!"},{"$error":"#REF!"},{"$error":"#REF!"},{"$error":"#REF!"},{"$error":"#REF!"}]
[{"$error":"#REF!"},{"$f":"#REF!","v":{"$error":"#REF!"}},{"$f":"IF(ISBLANK(#REF!),\"\",#REF!)","v":{"$error":"#REF!"}},{"$error":"#REF!"},{"$f":"VLOOKUP(#REF!,'Points Lookup'!$A:$B,2,FALSE)","v":{"$error":"#REF!"}},{"$f":"VLOOKUP(#REF!,'Points Lookup'!$A:$B,2,FALSE)","v":{"$error":"#REF!"}},{"$f":"VLOOKUP(#REF!,'Points Lookup'!$A:$B,2,FALSE)","v":{"$error":"#REF!"}},{"$f":"VLOOKUP(#REF!,'Points Lookup'!$A:$B,2,FALSE)","v":{"$error":"#REF!"}},{"$f":"VLOOKUP(#REF!,'Points Lookup'!$A:$B,2,FALSE)","v":{"$error":"#REF!"}},{"$f":"VLOOKUP(#REF!,'Points Lookup'!$A:$B,2,FALSE)","v":{"$error":"#REF!"}},{"$f":"VLOOKUP(#REF!,'Points Lookup'!$A:$B,2,FALSE)","v":{"$error":"#REF!"}},{"$f":"VLOOKUP(#REF!,'Points Lookup'!$A:$B,2,FALSE)","v":{"$error":"#REF!"}},{"$f":"VLOOKUP(#REF!,'Points Lookup'!$A:$B,2,FALSE)","v":{"$error":"#REF!"}},{"$f":"VLOOKUP(#REF!,'Points Lookup'!$A:$B,2,FALSE)","v":{"$error":"#REF!"}},{"$f":"VLOOKUP(#REF!,'Points Lookup'!$A:$B,2,FALSE)","v":{"$error":"#REF!"}},{"$f":"VLOOKUP(#REF!,'Points Lookup'!$A:$B,2,FALSE)","v":{"$error":"#REF!"}},{"$f":"VLOOKUP(#REF!,'Points Lookup'!$A:$B,2,FALSE)","v":{"$error":"#REF!"}},{"$f":"VLOOKUP(#REF!,'Points Lookup'!$A:$B,2,FALSE)","v":{"$error":"#REF!"}},{"$f":"VLOOKUP(#REF!,'Points Lookup'!$A:$B,2,FALSE)","v":{"$error":"#REF!"}},{"$f":"VLOOKUP(#REF!,'Points Lookup'!$A:$B,2,FALSE)","v":{"$error":"#REF!"}},{"$f":"VLOOKUP(#REF!,'Points Lookup'!$A:$B,2,FALSE)","v":{"$error":"#REF!"}},{"$f":"VLOOKUP(#REF!,'Points Lookup'!$A:$B,2,FALSE)","v":{"$error":"#REF!"}},{"$f":"VLOOKUP(#REF!,'Points Lookup'!$A:$B,2,FALSE)","v":{"$error":"#REF!"}},{"$f":"VLOOKUP(#REF!,'Points Lookup'!$A:$B,2,FALSE)","v":{"$error":"#REF!"}},null,{"$error":"#REF!"},{"$error":"#REF!"},{"$error":"#REF!"},{"$error":"#REF!"},{"$error":"#REF!"},{"$error":"#REF!"},{"$error":"#REF!"},{"$error":"#REF!"}]
[{"$error":"#REF!"},{"$f":"#REF!","v":{"$error":"#REF!"}},{"$f":"IF(ISBLANK(#REF!),\"\",#REF!)","v":{"$error":"#REF!"}},{"$error":"#REF!"},{"$f":"VLOOKUP(#REF!,'Points Lookup'!$A:$B,2,FALSE)","v":{"$error":"#REF!"}},{"$f":"VLOOKUP(#REF!,'Points Lookup'!$A:$B,2,FALSE)","v":{"$error":"#REF!"}},{"$f":"VLOOKUP(#REF!,'Points Lookup'!$A:$B,2,FALSE)","v":{"$error":"#REF!"}},{"$f":"VLOOKUP(#REF!,'Points Lookup'!$A:$B,2,FALSE)","v":{"$error":"#REF!"}},{"$f":"VLOOKUP(#REF!,'Points Lookup'!$A:$B,2,FALSE)","v":{"$error":"#REF!"}},{"$f":"VLOOKUP(#REF!,'Points Lookup'!$A:$B,2,FALSE)","v":{"$error":"#REF!"}},{"$f":"VLOOKUP(#REF!,'Points Lookup'!$A:$B,2,FALSE)","v":{"$error":"#REF!"}},{"$f":"VLOOKUP(#REF!,'Points Lookup'!$A:$B,2,FALSE)","v":{"$error":"#REF!"}},{"$f":"VLOOKUP(#REF!,'Points Lookup'!$A:$B,2,FALSE)","v":{"$error":"#REF!"}},{"$f":"VLOOKUP(#REF!,'Points Lookup'!$A:$B,2,FALSE)","v":{"$error":"#REF!"}},{"$f":"VLOOKUP(#REF!,'Points Lookup'!$A:$B,2,FALSE)","v":{"$error":"#REF!"}},{"$f":"VLOOKUP(#REF!,'Points Lookup'!$A:$B,2,FALSE)","v":{"$error":"#REF!"}},{"$f":"VLOOKUP(#REF!,'Points Lookup'!$A:$B,2,FALSE)","v":{"$error":"#REF!"}},{"$f":"VLOOKUP(#REF!,'Points Lookup'!$A:$B,2,FALSE)","v":{"$error":"#REF!"}},{"$f":"VLOOKUP(#REF!,'Points Lookup'!$A:$B,2,FALSE)","v":{"$error":"#REF!"}},{"$f":"VLOOKUP(#REF!,'Points Lookup'!$A:$B,2,FALSE)","v":{"$error":"#REF!"}},{"$f":"VLOOKUP(#REF!,'Points Lookup'!$A:$B,2,FALSE)","v":{"$error":"#REF!"}},{"$f":"VLOOKUP(#REF!,'Points Lookup'!$A:$B,2,FALSE)","v":{"$error":"#REF!"}},{"$f":"VLOOKUP(#REF!,'Points Lookup'!$A:$B,2,FALSE)","v":{"$error":"#REF!"}},{"$f":"VLOOKUP(#REF!,'Points Lookup'!$A:$B,2,FALSE)","v":{"$error":"#REF!"}},null,{"$error":"#REF!"},{"$error":"#REF!"},{"$error":"#REF!"},{"$error":"#REF!"},{"$error":"#REF!"},{"$error":"#REF!"},{"$error":"#REF!"},{"$error":"#REF!"}]
[{"$error":"#REF!"},{"$f":"#REF!","v":{"$error":"#REF!"}},{"$f":"IF(ISBLANK(#REF!),\"\",#REF!)","v":{"$error":"#REF!"}},{"$error":"#REF!"},{"$f":"VLOOKUP(#REF!,'Points Lookup'!$A:$B,2,FALSE)","v":{"$error":"#REF!"}},{"$f":"VLOOKUP(#REF!,'Points Lookup'!$A:$B,2,FALSE)","v":{"$error":"#REF!"}},{"$f":"VLOOKUP(#REF!,'Points Lookup'!$A:$B,2,FALSE)","v":{"$error":"#REF!"}},{"$f":"VLOOKUP(#REF!,'Points Lookup'!$A:$B,2,FALSE)","v":{"$error":"#REF!"}},{"$f":"VLOOKUP(#REF!,'Points Lookup'!$A:$B,2,FALSE)","v":{"$error":"#REF!"}},{"$f":"VLOOKUP(#REF!,'Points Lookup'!$A:$B,2,FALSE)","v":{"$error":"#REF!"}},{"$f":"VLOOKUP(#REF!,'Points Lookup'!$A:$B,2,FALSE)","v":{"$error":"#REF!"}},{"$f":"VLOOKUP(#REF!,'Points Lookup'!$A:$B,2,FALSE)","v":{"$error":"#REF!"}},{"$f":"VLOOKUP(#REF!,'Points Lookup'!$A:$B,2,FALSE)","v":{"$error":"#REF!"}},{"$f":"VLOOKUP(#REF!,'Points Lookup'!$A:$B,2,FALSE)","v":{"$error":"#REF!"}},{"$f":"VLOOKUP(#REF!,'Points Lookup'!$A:$B,2,FALSE)","v":{"$error":"#REF!"}},{"$f":"VLOOKUP(#REF!,'Points Lookup'!$A:$B,2,FALSE)","v":{"$error":"#REF!"}},{"$f":"VLOOKUP(#REF!,'Points Lookup'!$A:$B,2,FALSE)","v":{"$error":"#REF!"}},{"$f":"VLOOKUP(#REF!,'Points Lookup'!$A:$B,2,FALSE)","v":{"$error":"#REF!"}},{"$f":"VLOOKUP(#REF!,'Points Lookup'!$A:$B,2,FALSE)","v":{"$error":"#REF!"}},{"$f":"VLOOKUP(#REF!,'Points Lookup'!$A:$B,2,FALSE)","v":{"$error":"#REF!"}},{"$f":"VLOOKUP(#REF!,'Points Lookup'!$A:$B,2,FALSE)","v":{"$error":"#REF!"}},{"$f":"VLOOKUP(#REF!,'Points Lookup'!$A:$B,2,FALSE)","v":{"$error":"#REF!"}},{"$f":"VLOOKUP(#REF!,'Points Lookup'!$A:$B,2,FALSE)","v":{"$error":"#REF!"}},{"$f":"VLOOKUP(#REF!,'Points Lookup'!$A:$B,2,FALSE)","v":{"$error":"#REF!"}},null,{"$error":"#REF!"},{"$error":"#REF!"},{"$error":"#REF!"},{"$error":"#REF!"},{"$error":"#REF!"},{"$error":"#REF!"},{"$error":"#REF!"},{"$error":"#REF!"}]
[{"$error":"#REF!"},{"$f":"#REF!","v":{"$error":"#REF!"}},{"$f":"IF(ISBLANK(#REF!),\"\",#REF!)","v":{"$error":"#REF!"}},{"$error":"#REF!"},{"$f":"VLOOKUP(#REF!,'Points Lookup'!$A:$B,2,FALSE)","v":{"$error":"#REF!"}},{"$f":"VLOOKUP(#REF!,'Points Lookup'!$A:$B,2,FALSE)","v":{"$error":"#REF!"}},{"$f":"VLOOKUP(#REF!,'Points Lookup'!$A:$B,2,FALSE)","v":{"$error":"#REF!"}},{"$f":"VLOOKUP(#REF!,'Points Lookup'!$A:$B,2,FALSE)","v":{"$error":"#REF!"}},{"$f":"VLOOKUP(#REF!,'Points Lookup'!$A:$B,2,FALSE)","v":{"$error":"#REF!"}},{"$f":"VLOOKUP(#REF!,'Points Lookup'!$A:$B,2,FALSE)","v":{"$error":"#REF!"}},{"$f":"VLOOKUP(#REF!,'Points Lookup'!$A:$B,2,FALSE)","v":{"$error":"#REF!"}},{"$f":"VLOOKUP(#REF!,'Points Lookup'!$A:$B,2,FALSE)","v":{"$error":"#REF!"}},{"$f":"VLOOKUP(#REF!,'Points Lookup'!$A:$B,2,FALSE)","v":{"$error":"#REF!"}},{"$f":"VLOOKUP(#REF!,'Points Lookup'!$A:$B,2,FALSE)","v":{"$error":"#REF!"}},{"$f":"VLOOKUP(#REF!,'Points Lookup'!$A:$B,2,FALSE)","v":{"$error":"#REF!"}},{"$f":"VLOOKUP(#REF!,'Points Lookup'!$A:$B,2,FALSE)","v":{"$error":"#REF!"}},{"$f":"VLOOKUP(#REF!,'Points Lookup'!$A:$B,2,FALSE)","v":{"$error":"#REF!"}},{"$f":"VLOOKUP(#REF!,'Points Lookup'!$A:$B,2,FALSE)","v":{"$error":"#REF!"}},{"$f":"VLOOKUP(#REF!,'Points Lookup'!$A:$B,2,FALSE)","v":{"$error":"#REF!"}},{"$f":"VLOOKUP(#REF!,'Points Lookup'!$A:$B,2,FALSE)","v":{"$error":"#REF!"}},{"$f":"VLOOKUP(#REF!,'Points Lookup'!$A:$B,2,FALSE)","v":{"$error":"#REF!"}},{"$f":"VLOOKUP(#REF!,'Points Lookup'!$A:$B,2,FALSE)","v":{"$error":"#REF!"}},{"$f":"VLOOKUP(#REF!,'Points Lookup'!$A:$B,2,FALSE)","v":{"$error":"#REF!"}},{"$f":"VLOOKUP(#REF!,'Points Lookup'!$A:$B,2,FALSE)","v":{"$error":"#REF!"}},null,{"$f":"LARGE($E112:$X112,Z$1)","v":{"$error":"#REF!"}},{"$error":"#REF!"},{"$error":"#REF!"},{"$error":"#REF!"},{"$error":"#REF!"},{"$error":"#REF!"},{"$error":"#REF!"},{"$error":"#REF!"}]
[{"$error":"#REF!"},{"$f":"#REF!","v":{"$error":"#REF!"}},{"$f":"IF(ISBLANK(#REF!),\"\",#REF!)","v":{"$error":"#REF!"}},{"$error":"#REF!"},{"$f":"VLOOKUP(#REF!,'Points Lookup'!$A:$B,2,FALSE)","v":{"$error":"#REF!"}},{"$f":"VLOOKUP(#REF!,'Points Lookup'!$A:$B,2,FALSE)","v":{"$error":"#REF!"}},{"$f":"VLOOKUP(#REF!,'Points Lookup'!$A:$B,2,FALSE)","v":{"$error":"#REF!"}},{"$f":"VLOOKUP(#REF!,'Points Lookup'!$A:$B,2,FALSE)","v":{"$error":"#REF!"}},{"$f":"VLOOKUP(#REF!,'Points Lookup'!$A:$B,2,FALSE)","v":{"$error":"#REF!"}},{"$f":"VLOOKUP(#REF!,'Points Lookup'!$A:$B,2,FALSE)","v":{"$error":"#REF!"}},{"$f":"VLOOKUP(#REF!,'Points Lookup'!$A:$B,2,FALSE)","v":{"$error":"#REF!"}},{"$f":"VLOOKUP(#REF!,'Points Lookup'!$A:$B,2,FALSE)","v":{"$error":"#REF!"}},{"$f":"VLOOKUP(#REF!,'Points Lookup'!$A:$B,2,FALSE)","v":{"$error":"#REF!"}},{"$f":"VLOOKUP(#REF!,'Points Lookup'!$A:$B,2,FALSE)","v":{"$error":"#REF!"}},{"$f":"VLOOKUP(#REF!,'Points Lookup'!$A:$B,2,FALSE)","v":{"$error":"#REF!"}},{"$f":"VLOOKUP(#REF!,'Points Lookup'!$A:$B,2,FALSE)","v":{"$error":"#REF!"}},{"$f":"VLOOKUP(#REF!,'Points Lookup'!$A:$B,2,FALSE)","v":{"$error":"#REF!"}},{"$f":"VLOOKUP(#REF!,'Points Lookup'!$A:$B,2,FALSE)","v":{"$error":"#REF!"}},{"$f":"VLOOKUP(#REF!,'Points Lookup'!$A:$B,2,FALSE)","v":{"$error":"#REF!"}},{"$f":"VLOOKUP(#REF!,'Points Lookup'!$A:$B,2,FALSE)","v":{"$error":"#REF!"}},{"$f":"VLOOKUP(#REF!,'Points Lookup'!$A:$B,2,FALSE)","v":{"$error":"#REF!"}},{"$f":"VLOOKUP(#REF!,'Points Lookup'!$A:$B,2,FALSE)","v":{"$error":"#REF!"}},{"$f":"VLOOKUP(#REF!,'Points Lookup'!$A:$B,2,FALSE)","v":{"$error":"#REF!"}},{"$f":"VLOOKUP(#REF!,'Points Lookup'!$A:$B,2,FALSE)","v":{"$error":"#REF!"}},null,{"$error":"#REF!"},{"$error":"#REF!"},{"$error":"#REF!"},{"$error":"#REF!"},{"$error":"#REF!"},{"$error":"#REF!"},{"$error":"#REF!"},{"$error":"#REF!"}]
[{"$error":"#REF!"},{"$f":"#REF!","v":{"$error":"#REF!"}},{"$f":"IF(ISBLANK(#REF!),\"\",#REF!)","v":{"$error":"#REF!"}},{"$error":"#REF!"},{"$f":"VLOOKUP(#REF!,'Points Lookup'!$A:$B,2,FALSE)","v":{"$error":"#REF!"}},{"$f":"VLOOKUP(#REF!,'Points Lookup'!$A:$B,2,FALSE)","v":{"$error":"#REF!"}},{"$f":"VLOOKUP(#REF!,'Points Lookup'!$A:$B,2,FALSE)","v":{"$error":"#REF!"}},{"$f":"VLOOKUP(#REF!,'Points Lookup'!$A:$B,2,FALSE)","v":{"$error":"#REF!"}},{"$f":"VLOOKUP(#REF!,'Points Lookup'!$A:$B,2,FALSE)","v":{"$error":"#REF!"}},{"$f":"VLOOKUP(#REF!,'Points Lookup'!$A:$B,2,FALSE)","v":{"$error":"#REF!"}},{"$f":"VLOOKUP(#REF!,'Points Lookup'!$A:$B,2,FALSE)","v":{"$error":"#REF!"}},{"$f":"VLOOKUP(#REF!,'Points Lookup'!$A:$B,2,FALSE)","v":{"$error":"#REF!"}},{"$f":"VLOOKUP(#REF!,'Points Lookup'!$A:$B,2,FALSE)","v":{"$error":"#REF!"}},{"$f":"VLOOKUP(#REF!,'Points Lookup'!$A:$B,2,FALSE)","v":{"$error":"#REF!"}},{"$f":"VLOOKUP(#REF!,'Points Lookup'!$A:$B,2,FALSE)","v":{"$error":"#REF!"}},{"$f":"VLOOKUP(#REF!,'Points Lookup'!$A:$B,2,FALSE)","v":{"$error":"#REF!"}},{"$f":"VLOOKUP(#REF!,'Points Lookup'!$A:$B,2,FALSE)","v":{"$error":"#REF!"}},{"$f":"VLOOKUP(#REF!,'Points Lookup'!$A:$B,2,FALSE)","v":{"$error":"#REF!"}},{"$f":"VLOOKUP(#REF!,'Points Lookup'!$A:$B,2,FALSE)","v":{"$error":"#REF!"}},{"$f":"VLOOKUP(#REF!,'Points Lookup'!$A:$B,2,FALSE)","v":{"$error":"#REF!"}},{"$f":"VLOOKUP(#REF!,'Points Lookup'!$A:$B,2,FALSE)","v":{"$error":"#REF!"}},{"$f":"VLOOKUP(#REF!,'Points Lookup'!$A:$B,2,FALSE)","v":{"$error":"#REF!"}},{"$f":"VLOOKUP(#REF!,'Points Lookup'!$A:$B,2,FALSE)","v":{"$error":"#REF!"}},{"$f":"VLOOKUP(#REF!,'Points Lookup'!$A:$B,2,FALSE)","v":{"$error":"#REF!"}},null,{"$error":"#REF!"},{"$error":"#REF!"},{"$error":"#REF!"},{"$error":"#REF!"},{"$error":"#REF!"},{"$error":"#REF!"},{"$error":"#REF!"},{"$error":"#REF!"}]
[{"$error":"#REF!"},{"$f":"#REF!","v":{"$error":"#REF!"}},{"$f":"IF(ISBLANK(#REF!),\"\",#REF!)","v":{"$error":"#REF!"}},{"$error":"#REF!"},{"$f":"VLOOKUP(#REF!,'Points Lookup'!$A:$B,2,FALSE)","v":{"$error":"#REF!"}},{"$f":"VLOOKUP(#REF!,'Points Lookup'!$A:$B,2,FALSE)","v":{"$error":"#REF!"}},{"$f":"VLOOKUP(#REF!,'Points Lookup'!$A:$B,2,FALSE)","v":{"$error":"#REF!"}},{"$f":"VLOOKUP(#REF!,'Points Lookup'!$A:$B,2,FALSE)","v":{"$error":"#REF!"}},{"$f":"VLOOKUP(#REF!,'Points Lookup'!$A:$B,2,FALSE)","v":{"$error":"#REF!"}},{"$f":"VLOOKUP(#REF!,'Points Lookup'!$A:$B,2,FALSE)","v":{"$error":"#REF!"}},{"$f":"VLOOKUP(#REF!,'Points Lookup'!$A:$B,2,FALSE)","v":{"$error":"#REF!"}},{"$f":"VLOOKUP(#REF!,'Points Lookup'!$A:$B,2,FALSE)","v":{"$error":"#REF!"}},{"$f":"VLOOKUP(#REF!,'Points Lookup'!$A:$B,2,FALSE)","v":{"$error":"#REF!"}},{"$f":"VLOOKUP(#REF!,'Points Lookup'!$A:$B,2,FALSE)","v":{"$error":"#REF!"}},{"$f":"VLOOKUP(#REF!,'Points Lookup'!$A:$B,2,FALSE)","v":{"$error":"#REF!"}},{"$f":"VLOOKUP(#REF!,'Points Lookup'!$A:$B,2,FALSE)","v":{"$error":"#REF!"}},{"$f":"VLOOKUP(#REF!,'Points Lookup'!$A:$B,2,FALSE)","v":{"$error":"#REF!"}},{"$f":"VLOOKUP(#REF!,'Points Lookup'!$A:$B,2,FALSE)","v":{"$error":"#REF!"}},{"$f":"VLOOKUP(#REF!,'Points Lookup'!$A:$B,2,FALSE)","v":{"$error":"#REF!"}},{"$f":"VLOOKUP(#REF!,'Points Lookup'!$A:$B,2,FALSE)","v":{"$error":"#REF!"}},{"$f":"VLOOKUP(#REF!,'Points Lookup'!$A:$B,2,FALSE)","v":{"$error":"#REF!"}},{"$f":"VLOOKUP(#REF!,'Points Lookup'!$A:$B,2,FALSE)","v":{"$error":"#REF!"}},{"$f":"VLOOKUP(#REF!,'Points Lookup'!$A:$B,2,FALSE)","v":{"$error":"#REF!"}},{"$f":"VLOOKUP(#REF!,'Points Lookup'!$A:$B,2,FALSE)","v":{"$error":"#REF!"}},null,{"$error":"#REF!"},{"$error":"#REF!"},{"$error":"#REF!"},{"$error":"#REF!"},{"$error":"#REF!"},{"$error":"#REF!"},{"$error":"#REF!"},{"$error":"#REF!"}]
[{"$error":"#REF!"},{"$f":"#REF!","v":{"$error":"#REF!"}},{"$f":"IF(ISBLANK(#REF!),\"\",#REF!)","v":{"$error":"#REF!"}},{"$error":"#REF!"},{"$f":"VLOOKUP(#REF!,'Points Lookup'!$A:$B,2,FALSE)","v":{"$error":"#REF!"}},{"$f":"VLOOKUP(#REF!,'Points Lookup'!$A:$B,2,FALSE)","v":{"$error":"#REF!"}},{"$f":"VLOOKUP(#REF!,'Points Lookup'!$A:$B,2,FALSE)","v":{"$error":"#REF!"}},{"$f":"VLOOKUP(#REF!,'Points Lookup'!$A:$B,2,FALSE)","v":{"$error":"#REF!"}},{"$f":"VLOOKUP(#REF!,'Points Lookup'!$A:$B,2,FALSE)","v":{"$error":"#REF!"}},{"$f":"VLOOKUP(#REF!,'Points Lookup'!$A:$B,2,FALSE)","v":{"$error":"#REF!"}},{"$f":"VLOOKUP(#REF!,'Points Lookup'!$A:$B,2,FALSE)","v":{"$error":"#REF!"}},{"$f":"VLOOKUP(#REF!,'Points Lookup'!$A:$B,2,FALSE)","v":{"$error":"#REF!"}},{"$f":"VLOOKUP(#REF!,'Points Lookup'!$A:$B,2,FALSE)","v":{"$error":"#REF!"}},{"$f":"VLOOKUP(#REF!,'Points Lookup'!$A:$B,2,FALSE)","v":{"$error":"#REF!"}},{"$f":"VLOOKUP(#REF!,'Points Lookup'!$A:$B,2,FALSE)","v":{"$error":"#REF!"}},{"$f":"VLOOKUP(#REF!,'Points Lookup'!$A:$B,2,FALSE)","v":{"$error":"#REF!"}},{"$f":"VLOOKUP(#REF!,'Points Lookup'!$A:$B,2,FALSE)","v":{"$error":"#REF!"}},{"$f":"VLOOKUP(#REF!,'Points Lookup'!$A:$B,2,FALSE)","v":{"$error":"#REF!"}},{"$f":"VLOOKUP(#REF!,'Points Lookup'!$A:$B,2,FALSE)","v":{"$error":"#REF!"}},{"$f":"VLOOKUP(#REF!,'Points Lookup'!$A:$B,2,FALSE)","v":{"$error":"#REF!"}},{"$f":"VLOOKUP(#REF!,'Points Lookup'!$A:$B,2,FALSE)","v":{"$error":"#REF!"}},{"$f":"VLOOKUP(#REF!,'Points Lookup'!$A:$B,2,FALSE)","v":{"$error":"#REF!"}},{"$f":"VLOOKUP(#REF!,'Points Lookup'!$A:$B,2,FALSE)","v":{"$error":"#REF!"}},{"$f":"VLOOKUP(#REF!,'Points Lookup'!$A:$B,2,FALSE)","v":{"$error":"#REF!"}},null,{"$error":"#REF!"},{"$error":"#REF!"},{"$error":"#REF!"},{"$error":"#REF!"},{"$error":"#REF!"},{"$error":"#REF!"},{"$error":"#REF!"},{"$error":"#REF!"}]
[{"$error":"#REF!"},{"$f":"#REF!","v":{"$error":"#REF!"}},{"$f":"IF(ISBLANK(#REF!),\"\",#REF!)","v":{"$error":"#REF!"}},{"$error":"#REF!"},{"$f":"VLOOKUP(#REF!,'Points Lookup'!$A:$B,2,FALSE)","v":{"$error":"#REF!"}},{"$f":"VLOOKUP(#REF!,'Points Lookup'!$A:$B,2,FALSE)","v":{"$error":"#REF!"}},{"$f":"VLOOKUP(#REF!,'Points Lookup'!$A:$B,2,FALSE)","v":{"$error":"#REF!"}},{"$f":"VLOOKUP(#REF!,'Points Lookup'!$A:$B,2,FALSE)","v":{"$error":"#REF!"}},{"$f":"VLOOKUP(#REF!,'Points Lookup'!$A:$B,2,FALSE)","v":{"$error":"#REF!"}},{"$f":"VLOOKUP(#REF!,'Points Lookup'!$A:$B,2,FALSE)","v":{"$error":"#REF!"}},{"$f":"VLOOKUP(#REF!,'Points Lookup'!$A:$B,2,FALSE)","v":{"$error":"#REF!"}},{"$f":"VLOOKUP(#REF!,'Points Lookup'!$A:$B,2,FALSE)","v":{"$error":"#REF!"}},{"$f":"VLOOKUP(#REF!,'Points Lookup'!$A:$B,2,FALSE)","v":{"$error":"#REF!"}},{"$f":"VLOOKUP(#REF!,'Points Lookup'!$A:$B,2,FALSE)","v":{"$error":"#REF!"}},{"$f":"VLOOKUP(#REF!,'Points Lookup'!$A:$B,2,FALSE)","v":{"$error":"#REF!"}},{"$f":"VLOOKUP(#REF!,'Points Lookup'!$A:$B,2,FALSE)","v":{"$error":"#REF!"}},{"$f":"VLOOKUP(#REF!,'Points Lookup'!$A:$B,2,FALSE)","v":{"$error":"#REF!"}},{"$f":"VLOOKUP(#REF!,'Points Lookup'!$A:$B,2,FALSE)","v":{"$error":"#REF!"}},{"$f":"VLOOKUP(#REF!,'Points Lookup'!$A:$B,2,FALSE)","v":{"$error":"#REF!"}},{"$f":"VLOOKUP(#REF!,'Points Lookup'!$A:$B,2,FALSE)","v":{"$error":"#REF!"}},{"$f":"VLOOKUP(#REF!,'Points Lookup'!$A:$B,2,FALSE)","v":{"$error":"#REF!"}},{"$f":"VLOOKUP(#REF!,'Points Lookup'!$A:$B,2,FALSE)","v":{"$error":"#REF!"}},{"$f":"VLOOKUP(#REF!,'Points Lookup'!$A:$B,2,FALSE)","v":{"$error":"#REF!"}},{"$f":"VLOOKUP(#REF!,'Points Lookup'!$A:$B,2,FALSE)","v":{"$error":"#REF!"}},null,{"$error":"#REF!"},{"$error":"#REF!"},{"$error":"#REF!"},{"$error":"#REF!"},{"$error":"#REF!"},{"$error":"#REF!"},{"$error":"#REF!"},{"$error":"#REF!"}]
[{"$error":"#REF!"},{"$f":"#REF!","v":{"$error":"#REF!"}},{"$f":"IF(ISBLANK(#REF!),\"\",#REF!)","v":{"$error":"#REF!"}},{"$error":"#REF!"},{"$f":"VLOOKUP(#REF!,'Points Lookup'!$A:$B,2,FALSE)","v":{"$error":"#REF!"}},{"$f":"VLOOKUP(#REF!,'Points Lookup'!$A:$B,2,FALSE)","v":{"$error":"#REF!"}},{"$f":"VLOOKUP(#REF!,'Points Lookup'!$A:$B,2,FALSE)","v":{"$error":"#REF!"}},{"$f":"VLOOKUP(#REF!,'Points Lookup'!$A:$B,2,FALSE)","v":{"$error":"#REF!"}},{"$f":"VLOOKUP(#REF!,'Points Lookup'!$A:$B,2,FALSE)","v":{"$error":"#REF!"}},{"$f":"VLOOKUP(#REF!,'Points Lookup'!$A:$B,2,FALSE)","v":{"$error":"#REF!"}},{"$f":"VLOOKUP(#REF!,'Points Lookup'!$A:$B,2,FALSE)","v":{"$error":"#REF!"}},{"$f":"VLOOKUP(#REF!,'Points Lookup'!$A:$B,2,FALSE)","v":{"$error":"#REF!"}},{"$f":"VLOOKUP(#REF!,'Points Lookup'!$A:$B,2,FALSE)","v":{"$error":"#REF!"}},{"$f":"VLOOKUP(#REF!,'Points Lookup'!$A:$B,2,FALSE)","v":{"$error":"#REF!"}},{"$f":"VLOOKUP(#REF!,'Points Lookup'!$A:$B,2,FALSE)","v":{"$error":"#REF!"}},{"$f":"VLOOKUP(#REF!,'Points Lookup'!$A:$B,2,FALSE)","v":{"$error":"#REF!"}},{"$f":"VLOOKUP(#REF!,'Points Lookup'!$A:$B,2,FALSE)","v":{"$error":"#REF!"}},{"$f":"VLOOKUP(#REF!,'Points Lookup'!$A:$B,2,FALSE)","v":{"$error":"#REF!"}},{"$f":"VLOOKUP(#REF!,'Points Lookup'!$A:$B,2,FALSE)","v":{"$error":"#REF!"}},{"$f":"VLOOKUP(#REF!,'Points Lookup'!$A:$B,2,FALSE)","v":{"$error":"#REF!"}},{"$f":"VLOOKUP(#REF!,'Points Lookup'!$A:$B,2,FALSE)","v":{"$error":"#REF!"}},{"$f":"VLOOKUP(#REF!,'Points Lookup'!$A:$B,2,FALSE)","v":{"$error":"#REF!"}},{"$f":"VLOOKUP(#REF!,'Points Lookup'!$A:$B,2,FALSE)","v":{"$error":"#REF!"}},{"$f":"VLOOKUP(#REF!,'Points Lookup'!$A:$B,2,FALSE)","v":{"$error":"#REF!"}},null,{"$error":"#REF!"},{"$error":"#REF!"},{"$error":"#REF!"},{"$error":"#REF!"},{"$error":"#REF!"},{"$error":"#REF!"},{"$error":"#REF!"},{"$error":"#REF!"}]
[{"$error":"#REF!"},{"$f":"#REF!","v":{"$error":"#REF!"}},{"$f":"IF(ISBLANK(#REF!),\"\",#REF!)","v":{"$error":"#REF!"}},{"$error":"#REF!"},{"$f":"VLOOKUP(#REF!,'Points Lookup'!$A:$B,2,FALSE)","v":{"$error":"#REF!"}},{"$f":"VLOOKUP(#REF!,'Points Lookup'!$A:$B,2,FALSE)","v":{"$error":"#REF!"}},{"$f":"VLOOKUP(#REF!,'Points Lookup'!$A:$B,2,FALSE)","v":{"$error":"#REF!"}},{"$f":"VLOOKUP(#REF!,'Points Lookup'!$A:$B,2,FALSE)","v":{"$error":"#REF!"}},{"$f":"VLOOKUP(#REF!,'Points Lookup'!$A:$B,2,FALSE)","v":{"$error":"#REF!"}},{"$f":"VLOOKUP(#REF!,'Points Lookup'!$A:$B,2,FALSE)","v":{"$error":"#REF!"}},{"$f":"VLOOKUP(#REF!,'Points Lookup'!$A:$B,2,FALSE)","v":{"$error":"#REF!"}},{"$f":"VLOOKUP(#REF!,'Points Lookup'!$A:$B,2,FALSE)","v":{"$error":"#REF!"}},{"$f":"VLOOKUP(#REF!,'Points Lookup'!$A:$B,2,FALSE)","v":{"$error":"#REF!"}},{"$f":"VLOOKUP(#REF!,'Points Lookup'!$A:$B,2,FALSE)","v":{"$error":"#REF!"}},{"$f":"VLOOKUP(#REF!,'Points Lookup'!$A:$B,2,FALSE)","v":{"$error":"#REF!"}},{"$f":"VLOOKUP(#REF!,'Points Lookup'!$A:$B,2,FALSE)","v":{"$error":"#REF!"}},{"$f":"VLOOKUP(#REF!,'Points Lookup'!$A:$B,2,FALSE)","v":{"$error":"#REF!"}},{"$f":"VLOOKUP(#REF!,'Points Lookup'!$A:$B,2,FALSE)","v":{"$error":"#REF!"}},{"$f":"VLOOKUP(#REF!,'Points Lookup'!$A:$B,2,FALSE)","v":{"$error":"#REF!"}},{"$f":"VLOOKUP(#REF!,'Points Lookup'!$A:$B,2,FALSE)","v":{"$error":"#REF!"}},{"$f":"VLOOKUP(#REF!,'Points Lookup'!$A:$B,2,FALSE)","v":{"$error":"#REF!"}},{"$f":"VLOOKUP(#REF!,'Points Lookup'!$A:$B,2,FALSE)","v":{"$error":"#REF!"}},{"$f":"VLOOKUP(#REF!,'Points Lookup'!$A:$B,2,FALSE)","v":{"$error":"#REF!"}},{"$f":"VLOOKUP(#REF!,'Points Lookup'!$A:$B,2,FALSE)","v":{"$error":"#REF!"}},null,{"$error":"#REF!"},{"$error":"#REF!"},{"$error":"#REF!"},{"$error":"#REF!"},{"$error":"#REF!"},{"$error":"#REF!"},{"$error":"#REF!"},{"$error":"#REF!"}]
[{"$error":"#REF!"},{"$f":"#REF!","v":{"$error":"#REF!"}},{"$f":"IF(ISBLANK(#REF!),\"\",#REF!)","v":{"$error":"#REF!"}},{"$error":"#REF!"},{"$f":"VLOOKUP(#REF!,'Points Lookup'!$A:$B,2,FALSE)","v":{"$error":"#REF!"}},{"$f":"VLOOKUP(#REF!,'Points Lookup'!$A:$B,2,FALSE)","v":{"$error":"#REF!"}},{"$f":"VLOOKUP(#REF!,'Points Lookup'!$A:$B,2,FALSE)","v":{"$error":"#REF!"}},{"$f":"VLOOKUP(#REF!,'Points Lookup'!$A:$B,2,FALSE)","v":{"$error":"#REF!"}},{"$f":"VLOOKUP(#REF!,'Points Lookup'!$A:$B,2,FALSE)","v":{"$error":"#REF!"}},{"$f":"VLOOKUP(#REF!,'Points Lookup'!$A:$B,2,FALSE)","v":{"$error":"#REF!"}},{"$f":"VLOOKUP(#REF!,'Points Lookup'!$A:$B,2,FALSE)","v":{"$error":"#REF!"}},{"$f":"VLOOKUP(#REF!,'Points Lookup'!$A:$B,2,FALSE)","v":{"$error":"#REF!"}},{"$f":"VLOOKUP(#REF!,'Points Lookup'!$A:$B,2,FALSE)","v":{"$error":"#REF!"}},{"$f":"VLOOKUP(#REF!,'Points Lookup'!$A:$B,2,FALSE)","v":{"$error":"#REF!"}},{"$f":"VLOOKUP(#REF!,'Points Lookup'!$A:$B,2,FALSE)","v":{"$error":"#REF!"}},{"$f":"VLOOKUP(#REF!,'Points Lookup'!$A:$B,2,FALSE)","v":{"$error":"#REF!"}},{"$f":"VLOOKUP(#REF!,'Points Lookup'!$A:$B,2,FALSE)","v":{"$error":"#REF!"}},{"$f":"VLOOKUP(#REF!,'Points Lookup'!$A:$B,2,FALSE)","v":{"$error":"#REF!"}},{"$f":"VLOOKUP(#REF!,'Points Lookup'!$A:$B,2,FALSE)","v":{"$error":"#REF!"}},{"$f":"VLOOKUP(#REF!,'Points Lookup'!$A:$B,2,FALSE)","v":{"$error":"#REF!"}},{"$f":"VLOOKUP(#REF!,'Points Lookup'!$A:$B,2,FALSE)","v":{"$error":"#REF!"}},{"$f":"VLOOKUP(#REF!,'Points Lookup'!$A:$B,2,FALSE)","v":{"$error":"#REF!"}},{"$f":"VLOOKUP(#REF!,'Points Lookup'!$A:$B,2,FALSE)","v":{"$error":"#REF!"}},{"$f":"VLOOKUP(#REF!,'Points Lookup'!$A:$B,2,FALSE)","v":{"$error":"#REF!"}},null,{"$error":"#REF!"},{"$error":"#REF!"},{"$error":"#REF!"},{"$error":"#REF!"},{"$error":"#REF!"},{"$error":"#REF!"},{"$error":"#REF!"},{"$error":"#REF!"}]
[{"$error":"#REF!"},{"$f":"#REF!","v":{"$error":"#REF!"}},{"$f":"IF(ISBLANK(#REF!),\"\",#REF!)","v":{"$error":"#REF!"}},{"$error":"#REF!"},{"$f":"VLOOKUP(#REF!,'Points Lookup'!$A:$B,2,FALSE)","v":{"$error":"#REF!"}},{"$f":"VLOOKUP(#REF!,'Points Lookup'!$A:$B,2,FALSE)","v":{"$error":"#REF!"}},{"$f":"VLOOKUP(#REF!,'Points Lookup'!$A:$B,2,FALSE)","v":{"$error":"#REF!"}},{"$f":"VLOOKUP(#REF!,'Points Lookup'!$A:$B,2,FALSE)","v":{"$error":"#REF!"}},{"$f":"VLOOKUP(#REF!,'Points Lookup'!$A:$B,2,FALSE)","v":{"$error":"#REF!"}},{"$f":"VLOOKUP(#REF!,'Points Lookup'!$A:$B,2,FALSE)","v":{"$error":"#REF!"}},{"$f":"VLOOKUP(#REF!,'Points Lookup'!$A:$B,2,FALSE)","v":{"$error":"#REF!"}},{"$f":"VLOOKUP(#REF!,'Points Lookup'!$A:$B,2,FALSE)","v":{"$error":"#REF!"}},{"$f":"VLOOKUP(#REF!,'Points Lookup'!$A:$B,2,FALSE)","v":{"$error":"#REF!"}},{"$f":"VLOOKUP(#REF!,'Points Lookup'!$A:$B,2,FALSE)","v":{"$error":"#REF!"}},{"$f":"VLOOKUP(#REF!,'Points Lookup'!$A:$B,2,FALSE)","v":{"$error":"#REF!"}},{"$f":"VLOOKUP(#REF!,'Points Lookup'!$A:$B,2,FALSE)","v":{"$error":"#REF!"}},{"$f":"VLOOKUP(#REF!,'Points Lookup'!$A:$B,2,FALSE)","v":{"$error":"#REF!"}},{"$f":"VLOOKUP(#REF!,'Points Lookup'!$A:$B,2,FALSE)","v":{"$error":"#REF!"}},{"$f":"VLOOKUP(#REF!,'Points Lookup'!$A:$B,2,FALSE)","v":{"$error":"#REF!"}},{"$f":"VLOOKUP(#REF!,'Points Lookup'!$A:$B,2,FALSE)","v":{"$error":"#REF!"}},{"$f":"VLOOKUP(#REF!,'Points Lookup'!$A:$B,2,FALSE)","v":{"$error":"#REF!"}},{"$f":"VLOOKUP(#REF!,'Points Lookup'!$A:$B,2,FALSE)","v":{"$error":"#REF!"}},{"$f":"VLOOKUP(#REF!,'Points Lookup'!$A:$B,2,FALSE)","v":{"$error":"#REF!"}},{"$f":"VLOOKUP(#REF!,'Points Lookup'!$A:$B,2,FALSE)","v":{"$error":"#REF!"}},null,{"$error":"#REF!"},{"$error":"#REF!"},{"$error":"#REF!"},{"$error":"#REF!"},{"$error":"#REF!"},{"$error":"#REF!"},{"$error":"#REF!"},{"$error":"#REF!"}]
[{"$error":"#REF!"},{"$f":"#REF!","v":{"$error":"#REF!"}},{"$f":"IF(ISBLANK(#REF!),\"\",#REF!)","v":{"$error":"#REF!"}},{"$error":"#REF!"},{"$f":"VLOOKUP(#REF!,'Points Lookup'!$A:$B,2,FALSE)","v":{"$error":"#REF!"}},{"$f":"VLOOKUP(#REF!,'Points Lookup'!$A:$B,2,FALSE)","v":{"$error":"#REF!"}},{"$f":"VLOOKUP(#REF!,'Points Lookup'!$A:$B,2,FALSE)","v":{"$error":"#REF!"}},{"$f":"VLOOKUP(#REF!,'Points Lookup'!$A:$B,2,FALSE)","v":{"$error":"#REF!"}},{"$f":"VLOOKUP(#REF!,'Points Lookup'!$A:$B,2,FALSE)","v":{"$error":"#REF!"}},{"$f":"VLOOKUP(#REF!,'Points Lookup'!$A:$B,2,FALSE)","v":{"$error":"#REF!"}},{"$f":"VLOOKUP(#REF!,'Points Lookup'!$A:$B,2,FALSE)","v":{"$error":"#REF!"}},{"$f":"VLOOKUP(#REF!,'Points Lookup'!$A:$B,2,FALSE)","v":{"$error":"#REF!"}},{"$f":"VLOOKUP(#REF!,'Points Lookup'!$A:$B,2,FALSE)","v":{"$error":"#REF!"}},{"$f":"VLOOKUP(#REF!,'Points Lookup'!$A:$B,2,FALSE)","v":{"$error":"#REF!"}},{"$f":"VLOOKUP(#REF!,'Points Lookup'!$A:$B,2,FALSE)","v":{"$error":"#REF!"}},{"$f":"VLOOKUP(#REF!,'Points Lookup'!$A:$B,2,FALSE)","v":{"$error":"#REF!"}},{"$f":"VLOOKUP(#REF!,'Points Lookup'!$A:$B,2,FALSE)","v":{"$error":"#REF!"}},{"$f":"VLOOKUP(#REF!,'Points Lookup'!$A:$B,2,FALSE)","v":{"$error":"#REF!"}},{"$f":"VLOOKUP(#REF!,'Points Lookup'!$A:$B,2,FALSE)","v":{"$error":"#REF!"}},{"$f":"VLOOKUP(#REF!,'Points Lookup'!$A:$B,2,FALSE)","v":{"$error":"#REF!"}},{"$f":"VLOOKUP(#REF!,'Points Lookup'!$A:$B,2,FALSE)","v":{"$error":"#REF!"}},{"$f":"VLOOKUP(#REF!,'Points Lookup'!$A:$B,2,FALSE)","v":{"$error":"#REF!"}},{"$f":"VLOOKUP(#REF!,'Points Lookup'!$A:$B,2,FALSE)","v":{"$error":"#REF!"}},{"$f":"VLOOKUP(#REF!,'Points Lookup'!$A:$B,2,FALSE)","v":{"$error":"#REF!"}},null,{"$f":"LARGE($E122:$X122,Z$1)","v":{"$error":"#REF!"}},{"$error":"#REF!"},{"$error":"#REF!"},{"$error":"#REF!"},{"$error":"#REF!"},{"$error":"#REF!"},{"$error":"#REF!"},{"$error":"#REF!"}]
[{"$error":"#REF!"},{"$f":"#REF!","v":{"$error":"#REF!"}},{"$f":"IF(ISBLANK(#REF!),\"\",#REF!)","v":{"$error":"#REF!"}},{"$error":"#REF!"},{"$f":"VLOOKUP(#REF!,'Points Lookup'!$A:$B,2,FALSE)","v":{"$error":"#REF!"}},{"$f":"VLOOKUP(#REF!,'Points Lookup'!$A:$B,2,FALSE)","v":{"$error":"#REF!"}},{"$f":"VLOOKUP(#REF!,'Points Lookup'!$A:$B,2,FALSE)","v":{"$error":"#REF!"}},{"$f":"VLOOKUP(#REF!,'Points Lookup'!$A:$B,2,FALSE)","v":{"$error":"#REF!"}},{"$f":"VLOOKUP(#REF!,'Points Lookup'!$A:$B,2,FALSE)","v":{"$error":"#REF!"}},{"$f":"VLOOKUP(#REF!,'Points Lookup'!$A:$B,2,FALSE)","v":{"$error":"#REF!"}},{"$f":"VLOOKUP(#REF!,'Points Lookup'!$A:$B,2,FALSE)","v":{"$error":"#REF!"}},{"$f":"VLOOKUP(#REF!,'Points Lookup'!$A:$B,2,FALSE)","v":{"$error":"#REF!"}},{"$f":"VLOOKUP(#REF!,'Points Lookup'!$A:$B,2,FALSE)","v":{"$error":"#REF!"}},{"$f":"VLOOKUP(#REF!,'Points Lookup'!$A:$B,2,FALSE)","v":{"$error":"#REF!"}},{"$f":"VLOOKUP(#REF!,'Points Lookup'!$A:$B,2,FALSE)","v":{"$error":"#REF!"}},{"$f":"VLOOKUP(#REF!,'Points Lookup'!$A:$B,2,FALSE)","v":{"$error":"#REF!"}},{"$f":"VLOOKUP(#REF!,'Points Lookup'!$A:$B,2,FALSE)","v":{"$error":"#REF!"}},{"$f":"VLOOKUP(#REF!,'Points Lookup'!$A:$B,2,FALSE)","v":{"$error":"#REF!"}},{"$f":"VLOOKUP(#REF!,'Points Lookup'!$A:$B,2,FALSE)","v":{"$error":"#REF!"}},{"$f":"VLOOKUP(#REF!,'Points Lookup'!$A:$B,2,FALSE)","v":{"$error":"#REF!"}},{"$f":"VLOOKUP(#REF!,'Points Lookup'!$A:$B,2,FALSE)","v":{"$error":"#REF!"}},{"$f":"VLOOKUP(#REF!,'Points Lookup'!$A:$B,2,FALSE)","v":{"$error":"#REF!"}},{"$f":"VLOOKUP(#REF!,'Points Lookup'!$A:$B,2,FALSE)","v":{"$error":"#REF!"}},{"$f":"VLOOKUP(#REF!,'Points Lookup'!$A:$B,2,FALSE)","v":{"$error":"#REF!"}},null,{"$error":"#REF!"},{"$error":"#REF!"},{"$error":"#REF!"},{"$error":"#REF!"},{"$error":"#REF!"},{"$error":"#REF!"},{"$error":"#REF!"},{"$error":"#REF!"}]
[{"$error":"#REF!"},{"$f":"#REF!","v":{"$error":"#REF!"}},{"$f":"IF(ISBLANK(#REF!),\"\",#REF!)","v":{"$error":"#REF!"}},{"$error":"#REF!"},{"$f":"VLOOKUP(#REF!,'Points Lookup'!$A:$B,2,FALSE)","v":{"$error":"#REF!"}},{"$f":"VLOOKUP(#REF!,'Points Lookup'!$A:$B,2,FALSE)","v":{"$error":"#REF!"}},{"$f":"VLOOKUP(#REF!,'Points Lookup'!$A:$B,2,FALSE)","v":{"$error":"#REF!"}},{"$f":"VLOOKUP(#REF!,'Points Lookup'!$A:$B,2,FALSE)","v":{"$error":"#REF!"}},{"$f":"VLOOKUP(#REF!,'Points Lookup'!$A:$B,2,FALSE)","v":{"$error":"#REF!"}},{"$f":"VLOOKUP(#REF!,'Points Lookup'!$A:$B,2,FALSE)","v":{"$error":"#REF!"}},{"$f":"VLOOKUP(#REF!,'Points Lookup'!$A:$B,2,FALSE)","v":{"$error":"#REF!"}},{"$f":"VLOOKUP(#REF!,'Points Lookup'!$A:$B,2,FALSE)","v":{"$error":"#REF!"}},{"$f":"VLOOKUP(#REF!,'Points Lookup'!$A:$B,2,FALSE)","v":{"$error":"#REF!"}},{"$f":"VLOOKUP(#REF!,'Points Lookup'!$A:$B,2,FALSE)","v":{"$error":"#REF!"}},{"$f":"VLOOKUP(#REF!,'Points Lookup'!$A:$B,2,FALSE)","v":{"$error":"#REF!"}},{"$f":"VLOOKUP(#REF!,'Points Lookup'!$A:$B,2,FALSE)","v":{"$error":"#REF!"}},{"$f":"VLOOKUP(#REF!,'Points Lookup'!$A:$B,2,FALSE)","v":{"$error":"#REF!"}},{"$f":"VLOOKUP(#REF!,'Points Lookup'!$A:$B,2,FALSE)","v":{"$error":"#REF!"}},{"$f":"VLOOKUP(#REF!,'Points Lookup'!$A:$B,2,FALSE)","v":{"$error":"#REF!"}},{"$f":"VLOOKUP(#REF!,'Points Lookup'!$A:$B,2,FALSE)","v":{"$error":"#REF!"}},{"$f":"VLOOKUP(#REF!,'Points Lookup'!$A:$B,2,FALSE)","v":{"$error":"#REF!"}},{"$f":"VLOOKUP(#REF!,'Points Lookup'!$A:$B,2,FALSE)","v":{"$error":"#REF!"}},{"$f":"VLOOKUP(#REF!,'Points Lookup'!$A:$B,2,FALSE)","v":{"$error":"#REF!"}},{"$f":"VLOOKUP(#REF!,'Points Lookup'!$A:$B,2,FALSE)","v":{"$error":"#REF!"}},null,{"$error":"#REF!"},{"$error":"#REF!"},{"$error":"#REF!"},{"$error":"#REF!"},{"$error":"#REF!"},{"$error":"#REF!"},{"$error":"#REF!"},{"$error":"#REF!"}]
[{"$error":"#REF!"},{"$f":"#REF!","v":{"$error":"#REF!"}},{"$f":"IF(ISBLANK(#REF!),\"\",#REF!)","v":{"$error":"#REF!"}},{"$error":"#REF!"},{"$f":"VLOOKUP(#REF!,'Points Lookup'!$A:$B,2,FALSE)","v":{"$error":"#REF!"}},{"$f":"VLOOKUP(#REF!,'Points Lookup'!$A:$B,2,FALSE)","v":{"$error":"#REF!"}},{"$f":"VLOOKUP(#REF!,'Points Lookup'!$A:$B,2,FALSE)","v":{"$error":"#REF!"}},{"$f":"VLOOKUP(#REF!,'Points Lookup'!$A:$B,2,FALSE)","v":{"$error":"#REF!"}},{"$f":"VLOOKUP(#REF!,'Points Lookup'!$A:$B,2,FALSE)","v":{"$error":"#REF!"}},{"$f":"VLOOKUP(#REF!,'Points Lookup'!$A:$B,2,FALSE)","v":{"$error":"#REF!"}},{"$f":"VLOOKUP(#REF!,'Points Lookup'!$A:$B,2,FALSE)","v":{"$error":"#REF!"}},{"$f":"VLOOKUP(#REF!,'Points Lookup'!$A:$B,2,FALSE)","v":{"$error":"#REF!"}},{"$f":"VLOOKUP(#REF!,'Points Lookup'!$A:$B,2,FALSE)","v":{"$error":"#REF!"}},{"$f":"VLOOKUP(#REF!,'Points Lookup'!$A:$B,2,FALSE)","v":{"$error":"#REF!"}},{"$f":"VLOOKUP(#REF!,'Points Lookup'!$A:$B,2,FALSE)","v":{"$error":"#REF!"}},{"$f":"VLOOKUP(#REF!,'Points Lookup'!$A:$B,2,FALSE)","v":{"$error":"#REF!"}},{"$f":"VLOOKUP(#REF!,'Points Lookup'!$A:$B,2,FALSE)","v":{"$error":"#REF!"}},{"$f":"VLOOKUP(#REF!,'Points Lookup'!$A:$B,2,FALSE)","v":{"$error":"#REF!"}},{"$f":"VLOOKUP(#REF!,'Points Lookup'!$A:$B,2,FALSE)","v":{"$error":"#REF!"}},{"$f":"VLOOKUP(#REF!,'Points Lookup'!$A:$B,2,FALSE)","v":{"$error":"#REF!"}},{"$f":"VLOOKUP(#REF!,'Points Lookup'!$A:$B,2,FALSE)","v":{"$error":"#REF!"}},{"$f":"VLOOKUP(#REF!,'Points Lookup'!$A:$B,2,FALSE)","v":{"$error":"#REF!"}},{"$f":"VLOOKUP(#REF!,'Points Lookup'!$A:$B,2,FALSE)","v":{"$error":"#REF!"}},{"$f":"VLOOKUP(#REF!,'Points Lookup'!$A:$B,2,FALSE)","v":{"$error":"#REF!"}},null,{"$error":"#REF!"},{"$error":"#REF!"},{"$error":"#REF!"},{"$error":"#REF!"},{"$error":"#REF!"},{"$error":"#REF!"},{"$error":"#REF!"},{"$error":"#REF!"}]
[{"$error":"#REF!"},{"$f":"#REF!","v":{"$error":"#REF!"}},{"$f":"IF(ISBLANK(#REF!),\"\",#REF!)","v":{"$error":"#REF!"}},{"$error":"#REF!"},{"$f":"VLOOKUP(#REF!,'Points Lookup'!$A:$B,2,FALSE)","v":{"$error":"#REF!"}},{"$f":"VLOOKUP(#REF!,'Points Lookup'!$A:$B,2,FALSE)","v":{"$error":"#REF!"}},{"$f":"VLOOKUP(#REF!,'Points Lookup'!$A:$B,2,FALSE)","v":{"$error":"#REF!"}},{"$f":"VLOOKUP(#REF!,'Points Lookup'!$A:$B,2,FALSE)","v":{"$error":"#REF!"}},{"$f":"VLOOKUP(#REF!,'Points Lookup'!$A:$B,2,FALSE)","v":{"$error":"#REF!"}},{"$f":"VLOOKUP(#REF!,'Points Lookup'!$A:$B,2,FALSE)","v":{"$error":"#REF!"}},{"$f":"VLOOKUP(#REF!,'Points Lookup'!$A:$B,2,FALSE)","v":{"$error":"#REF!"}},{"$f":"VLOOKUP(#REF!,'Points Lookup'!$A:$B,2,FALSE)","v":{"$error":"#REF!"}},{"$f":"VLOOKUP(#REF!,'Points Lookup'!$A:$B,2,FALSE)","v":{"$error":"#REF!"}},{"$f":"VLOOKUP(#REF!,'Points Lookup'!$A:$B,2,FALSE)","v":{"$error":"#REF!"}},{"$f":"VLOOKUP(#REF!,'Points Lookup'!$A:$B,2,FALSE)","v":{"$error":"#REF!"}},{"$f":"VLOOKUP(#REF!,'Points Lookup'!$A:$B,2,FALSE)","v":{"$error":"#REF!"}},{"$f":"VLOOKUP(#REF!,'Points Lookup'!$A:$B,2,FALSE)","v":{"$error":"#REF!"}},{"$f":"VLOOKUP(#REF!,'Points Lookup'!$A:$B,2,FALSE)","v":{"$error":"#REF!"}},{"$f":"VLOOKUP(#REF!,'Points Lookup'!$A:$B,2,FALSE)","v":{"$error":"#REF!"}},{"$f":"VLOOKUP(#REF!,'Points Lookup'!$A:$B,2,FALSE)","v":{"$error":"#REF!"}},{"$f":"VLOOKUP(#REF!,'Points Lookup'!$A:$B,2,FALSE)","v":{"$error":"#REF!"}},{"$f":"VLOOKUP(#REF!,'Points Lookup'!$A:$B,2,FALSE)","v":{"$error":"#REF!"}},{"$f":"VLOOKUP(#REF!,'Points Lookup'!$A:$B,2,FALSE)","v":{"$error":"#REF!"}},{"$f":"VLOOKUP(#REF!,'Points Lookup'!$A:$B,2,FALSE)","v":{"$error":"#REF!"}},null,{"$error":"#REF!"},{"$error":"#REF!"},{"$error":"#REF!"},{"$error":"#REF!"},{"$error":"#REF!"},{"$error":"#REF!"},{"$error":"#REF!"},{"$error":"#REF!"}]
[{"$error":"#REF!"},{"$f":"#REF!","v":{"$error":"#REF!"}},{"$f":"IF(ISBLANK(#REF!),\"\",#REF!)","v":{"$error":"#REF!"}},{"$error":"#REF!"},{"$f":"VLOOKUP(#REF!,'Points Lookup'!$A:$B,2,FALSE)","v":{"$error":"#REF!"}},{"$f":"VLOOKUP(#REF!,'Points Lookup'!$A:$B,2,FALSE)","v":{"$error":"#REF!"}},{"$f":"VLOOKUP(#REF!,'Points Lookup'!$A:$B,2,FALSE)","v":{"$error":"#REF!"}},{"$f":"VLOOKUP(#REF!,'Points Lookup'!$A:$B,2,FALSE)","v":{"$error":"#REF!"}},{"$f":"VLOOKUP(#REF!,'Points Lookup'!$A:$B,2,FALSE)","v":{"$error":"#REF!"}},{"$f":"VLOOKUP(#REF!,'Points Lookup'!$A:$B,2,FALSE)","v":{"$error":"#REF!"}},{"$f":"VLOOKUP(#REF!,'Points Lookup'!$A:$B,2,FALSE)","v":{"$error":"#REF!"}},{"$f":"VLOOKUP(#REF!,'Points Lookup'!$A:$B,2,FALSE)","v":{"$error":"#REF!"}},{"$f":"VLOOKUP(#REF!,'Points Lookup'!$A:$B,2,FALSE)","v":{"$error":"#REF!"}},{"$f":"VLOOKUP(#REF!,'Points Lookup'!$A:$B,2,FALSE)","v":{"$error":"#REF!"}},{"$f":"VLOOKUP(#REF!,'Points Lookup'!$A:$B,2,FALSE)","v":{"$error":"#REF!"}},{"$f":"VLOOKUP(#REF!,'Points Lookup'!$A:$B,2,FALSE)","v":{"$error":"#REF!"}},{"$f":"VLOOKUP(#REF!,'Points Lookup'!$A:$B,2,FALSE)","v":{"$error":"#REF!"}},{"$f":"VLOOKUP(#REF!,'Points Lookup'!$A:$B,2,FALSE)","v":{"$error":"#REF!"}},{"$f":"VLOOKUP(#REF!,'Points Lookup'!$A:$B,2,FALSE)","v":{"$error":"#REF!"}},{"$f":"VLOOKUP(#REF!,'Points Lookup'!$A:$B,2,FALSE)","v":{"$error":"#REF!"}},{"$f":"VLOOKUP(#REF!,'Points Lookup'!$A:$B,2,FALSE)","v":{"$error":"#REF!"}},{"$f":"VLOOKUP(#REF!,'Points Lookup'!$A:$B,2,FALSE)","v":{"$error":"#REF!"}},{"$f":"VLOOKUP(#REF!,'Points Lookup'!$A:$B,2,FALSE)","v":{"$error":"#REF!"}},{"$f":"VLOOKUP(#REF!,'Points Lookup'!$A:$B,2,FALSE)","v":{"$error":"#REF!"}},null,{"$error":"#REF!"},{"$error":"#REF!"},{"$error":"#REF!"},{"$error":"#REF!"},{"$error":"#REF!"},{"$error":"#REF!"},{"$error":"#REF!"},{"$error":"#REF!"}]
[{"$error":"#REF!"},{"$f":"#REF!","v":{"$error":"#REF!"}},{"$f":"IF(ISBLANK(#REF!),\"\",#REF!)","v":{"$error":"#REF!"}},{"$error":"#REF!"},{"$f":"VLOOKUP(#REF!,'Points Lookup'!$A:$B,2,FALSE)","v":{"$error":"#REF!"}},{"$f":"VLOOKUP(#REF!,'Points Lookup'!$A:$B,2,FALSE)","v":{"$error":"#REF!"}},{"$f":"VLOOKUP(#REF!,'Points Lookup'!$A:$B,2,FALSE)","v":{"$error":"#REF!"}},{"$f":"VLOOKUP(#REF!,'Points Lookup'!$A:$B,2,FALSE)","v":{"$error":"#REF!"}},{"$f":"VLOOKUP(#REF!,'Points Lookup'!$A:$B,2,FALSE)","v":{"$error":"#REF!"}},{"$f":"VLOOKUP(#REF!,'Points Lookup'!$A:$B,2,FALSE)","v":{"$error":"#REF!"}},{"$f":"VLOOKUP(#REF!,'Points Lookup'!$A:$B,2,FALSE)","v":{"$error":"#REF!"}},{"$f":"VLOOKUP(#REF!,'Points Lookup'!$A:$B,2,FALSE)","v":{"$error":"#REF!"}},{"$f":"VLOOKUP(#REF!,'Points Lookup'!$A:$B,2,FALSE)","v":{"$error":"#REF!"}},{"$f":"VLOOKUP(#REF!,'Points Lookup'!$A:$B,2,FALSE)","v":{"$error":"#REF!"}},{"$f":"VLOOKUP(#REF!,'Points Lookup'!$A:$B,2,FALSE)","v":{"$error":"#REF!"}},{"$f":"VLOOKUP(#REF!,'Points Lookup'!$A:$B,2,FALSE)","v":{"$error":"#REF!"}},{"$f":"VLOOKUP(#REF!,'Points Lookup'!$A:$B,2,FALSE)","v":{"$error":"#REF!"}},{"$f":"VLOOKUP(#REF!,'Points Lookup'!$A:$B,2,FALSE)","v":{"$error":"#REF!"}},{"$f":"VLOOKUP(#REF!,'Points Lookup'!$A:$B,2,FALSE)","v":{"$error":"#REF!"}},{"$f":"VLOOKUP(#REF!,'Points Lookup'!$A:$B,2,FALSE)","v":{"$error":"#REF!"}},{"$f":"VLOOKUP(#REF!,'Points Lookup'!$A:$B,2,FALSE)","v":{"$error":"#REF!"}},{"$f":"VLOOKUP(#REF!,'Points Lookup'!$A:$B,2,FALSE)","v":{"$error":"#REF!"}},{"$f":"VLOOKUP(#REF!,'Points Lookup'!$A:$B,2,FALSE)","v":{"$error":"#REF!"}},{"$f":"VLOOKUP(#REF!,'Points Lookup'!$A:$B,2,FALSE)","v":{"$error":"#REF!"}},null,{"$error":"#REF!"},{"$error":"#REF!"},{"$error":"#REF!"},{"$error":"#REF!"},{"$error":"#REF!"},{"$error":"#REF!"},{"$error":"#REF!"},{"$error":"#REF!"}]
[{"$error":"#REF!"},{"$f":"#REF!","v":{"$error":"#REF!"}},{"$f":"IF(ISBLANK(#REF!),\"\",#REF!)","v":{"$error":"#REF!"}},{"$error":"#REF!"},{"$f":"VLOOKUP(#REF!,'Points Lookup'!$A:$B,2,FALSE)","v":{"$error":"#REF!"}},{"$f":"VLOOKUP(#REF!,'Points Lookup'!$A:$B,2,FALSE)","v":{"$error":"#REF!"}},{"$f":"VLOOKUP(#REF!,'Points Lookup'!$A:$B,2,FALSE)","v":{"$error":"#REF!"}},{"$f":"VLOOKUP(#REF!,'Points Lookup'!$A:$B,2,FALSE)","v":{"$error":"#REF!"}},{"$f":"VLOOKUP(#REF!,'Points Lookup'!$A:$B,2,FALSE)","v":{"$error":"#REF!"}},{"$f":"VLOOKUP(#REF!,'Points Lookup'!$A:$B,2,FALSE)","v":{"$error":"#REF!"}},{"$f":"VLOOKUP(#REF!,'Points Lookup'!$A:$B,2,FALSE)","v":{"$error":"#REF!"}},{"$f":"VLOOKUP(#REF!,'Points Lookup'!$A:$B,2,FALSE)","v":{"$error":"#REF!"}},{"$f":"VLOOKUP(#REF!,'Points Lookup'!$A:$B,2,FALSE)","v":{"$error":"#REF!"}},{"$f":"VLOOKUP(#REF!,'Points Lookup'!$A:$B,2,FALSE)","v":{"$error":"#REF!"}},{"$f":"VLOOKUP(#REF!,'Points Lookup'!$A:$B,2,FALSE)","v":{"$error":"#REF!"}},{"$f":"VLOOKUP(#REF!,'Points Lookup'!$A:$B,2,FALSE)","v":{"$error":"#REF!"}},{"$f":"VLOOKUP(#REF!,'Points Lookup'!$A:$B,2,FALSE)","v":{"$error":"#REF!"}},{"$f":"VLOOKUP(#REF!,'Points Lookup'!$A:$B,2,FALSE)","v":{"$error":"#REF!"}},{"$f":"VLOOKUP(#REF!,'Points Lookup'!$A:$B,2,FALSE)","v":{"$error":"#REF!"}},{"$f":"VLOOKUP(#REF!,'Points Lookup'!$A:$B,2,FALSE)","v":{"$error":"#REF!"}},{"$f":"VLOOKUP(#REF!,'Points Lookup'!$A:$B,2,FALSE)","v":{"$error":"#REF!"}},{"$f":"VLOOKUP(#REF!,'Points Lookup'!$A:$B,2,FALSE)","v":{"$error":"#REF!"}},{"$f":"VLOOKUP(#REF!,'Points Lookup'!$A:$B,2,FALSE)","v":{"$error":"#REF!"}},{"$f":"VLOOKUP(#REF!,'Points Lookup'!$A:$B,2,FALSE)","v":{"$error":"#REF!"}},null,{"$error":"#REF!"},{"$error":"#REF!"},{"$error":"#REF!"},{"$error":"#REF!"},{"$error":"#REF!"},{"$error":"#REF!"},{"$error":"#REF!"},{"$error":"#REF!"}]
[{"$error":"#REF!"},{"$f":"#REF!","v":{"$error":"#REF!"}},{"$f":"IF(ISBLANK(#REF!),\"\",#REF!)","v":{"$error":"#REF!"}},{"$error":"#REF!"},{"$f":"VLOOKUP(#REF!,'Points Lookup'!$A:$B,2,FALSE)","v":{"$error":"#REF!"}},{"$f":"VLOOKUP(#REF!,'Points Lookup'!$A:$B,2,FALSE)","v":{"$error":"#REF!"}},{"$f":"VLOOKUP(#REF!,'Points Lookup'!$A:$B,2,FALSE)","v":{"$error":"#REF!"}},{"$f":"VLOOKUP(#REF!,'Points Lookup'!$A:$B,2,FALSE)","v":{"$error":"#REF!"}},{"$f":"VLOOKUP(#REF!,'Points Lookup'!$A:$B,2,FALSE)","v":{"$error":"#REF!"}},{"$f":"VLOOKUP(#REF!,'Points Lookup'!$A:$B,2,FALSE)","v":{"$error":"#REF!"}},{"$f":"VLOOKUP(#REF!,'Points Lookup'!$A:$B,2,FALSE)","v":{"$error":"#REF!"}},{"$f":"VLOOKUP(#REF!,'Points Lookup'!$A:$B,2,FALSE)","v":{"$error":"#REF!"}},{"$f":"VLOOKUP(#REF!,'Points Lookup'!$A:$B,2,FALSE)","v":{"$error":"#REF!"}},{"$f":"VLOOKUP(#REF!,'Points Lookup'!$A:$B,2,FALSE)","v":{"$error":"#REF!"}},{"$f":"VLOOKUP(#REF!,'Points Lookup'!$A:$B,2,FALSE)","v":{"$error":"#REF!"}},{"$f":"VLOOKUP(#REF!,'Points Lookup'!$A:$B,2,FALSE)","v":{"$error":"#REF!"}},{"$f":"VLOOKUP(#REF!,'Points Lookup'!$A:$B,2,FALSE)","v":{"$error":"#REF!"}},{"$f":"VLOOKUP(#REF!,'Points Lookup'!$A:$B,2,FALSE)","v":{"$error":"#REF!"}},{"$f":"VLOOKUP(#REF!,'Points Lookup'!$A:$B,2,FALSE)","v":{"$error":"#REF!"}},{"$f":"VLOOKUP(#REF!,'Points Lookup'!$A:$B,2,FALSE)","v":{"$error":"#REF!"}},{"$f":"VLOOKUP(#REF!,'Points Lookup'!$A:$B,2,FALSE)","v":{"$error":"#REF!"}},{"$f":"VLOOKUP(#REF!,'Points Lookup'!$A:$B,2,FALSE)","v":{"$error":"#REF!"}},{"$f":"VLOOKUP(#REF!,'Points Lookup'!$A:$B,2,FALSE)","v":{"$error":"#REF!"}},{"$f":"VLOOKUP(#REF!,'Points Lookup'!$A:$B,2,FALSE)","v":{"$error":"#REF!"}},null,{"$error":"#REF!"},{"$error":"#REF!"},{"$error":"#REF!"},{"$error":"#REF!"},{"$error":"#REF!"},{"$error":"#REF!"},{"$error":"#REF!"},{"$error":"#REF!"}]
[{"$error":"#REF!"},{"$f":"#REF!","v":{"$error":"#REF!"}},{"$f":"IF(ISBLANK(#REF!),\"\",#REF!)","v":{"$error":"#REF!"}},{"$f":"SUM(Z131:AG131)","v":{"$error":"#REF!"}},{"$f":"VLOOKUP(#REF!,'Points Lookup'!$A:$B,2,FALSE)","v":{"$error":"#REF!"}},{"$f":"VLOOKUP(#REF!,'Points Lookup'!$A:$B,2,FALSE)","v":{"$error":"#REF!"}},{"$f":"VLOOKUP(#REF!,'Points Lookup'!$A:$B,2,FALSE)","v":{"$error":"#REF!"}},{"$f":"VLOOKUP(#REF!,'Points Lookup'!$A:$B,2,FALSE)","v":{"$error":"#REF!"}},{"$f":"VLOOKUP(#REF!,'Points Lookup'!$A:$B,2,FALSE)","v":{"$error":"#REF!"}},{"$f":"VLOOKUP(#REF!,'Points Lookup'!$A:$B,2,FALSE)","v":{"$error":"#REF!"}},{"$f":"VLOOKUP(#REF!,'Points Lookup'!$A:$B,2,FALSE)","v":{"$error":"#REF!"}},{"$f":"VLOOKUP(#REF!,'Points Lookup'!$A:$B,2,FALSE)","v":{"$error":"#REF!"}},{"$f":"VLOOKUP(#REF!,'Points Lookup'!$A:$B,2,FALSE)","v":{"$error":"#REF!"}},{"$f":"VLOOKUP(#REF!,'Points Lookup'!$A:$B,2,FALSE)","v":{"$error":"#REF!"}},{"$f":"VLOOKUP(#REF!,'Points Lookup'!$A:$B,2,FALSE)","v":{"$error":"#REF!"}},{"$f":"VLOOKUP(#REF!,'Points Lookup'!$A:$B,2,FALSE)","v":{"$error":"#REF!"}},{"$f":"VLOOKUP(#REF!,'Points Lookup'!$A:$B,2,FALSE)","v":{"$error":"#REF!"}},{"$f":"VLOOKUP(#REF!,'Points Lookup'!$A:$B,2,FALSE)","v":{"$error":"#REF!"}},{"$f":"VLOOKUP(#REF!,'Points Lookup'!$A:$B,2,FALSE)","v":{"$error":"#REF!"}},{"$f":"VLOOKUP(#REF!,'Points Lookup'!$A:$B,2,FALSE)","v":{"$error":"#REF!"}},{"$f":"VLOOKUP(#REF!,'Points Lookup'!$A:$B,2,FALSE)","v":{"$error":"#REF!"}},{"$f":"VLOOKUP(#REF!,'Points Lookup'!$A:$B,2,FALSE)","v":{"$error":"#REF!"}},{"$f":"VLOOKUP(#REF!,'Points Lookup'!$A:$B,2,FALSE)","v":{"$error":"#REF!"}},{"$f":"VLOOKUP(#REF!,'Points Lookup'!$A:$B,2,FALSE)","v":{"$error":"#REF!"}},null,{"$error":"#REF!"},{"$error":"#REF!"},{"$error":"#REF!"},{"$error":"#REF!"},{"$error":"#REF!"},{"$error":"#REF!"},{"$error":"#REF!"},{"$error":"#REF!"}]
[{"$error":"#REF!"},{"$f":"#REF!","v":{"$error":"#REF!"}},{"$f":"IF(ISBLANK(#REF!),\"\",#REF!)","v":{"$error":"#REF!"}},{"$error":"#REF!"},{"$f":"VLOOKUP(#REF!,'Points Lookup'!$A:$B,2,FALSE)","v":{"$error":"#REF!"}},{"$f":"VLOOKUP(#REF!,'Points Lookup'!$A:$B,2,FALSE)","v":{"$error":"#REF!"}},{"$f":"VLOOKUP(#REF!,'Points Lookup'!$A:$B,2,FALSE)","v":{"$error":"#REF!"}},{"$f":"VLOOKUP(#REF!,'Points Lookup'!$A:$B,2,FALSE)","v":{"$error":"#REF!"}},{"$f":"VLOOKUP(#REF!,'Points Lookup'!$A:$B,2,FALSE)","v":{"$error":"#REF!"}},{"$f":"VLOOKUP(#REF!,'Points Lookup'!$A:$B,2,FALSE)","v":{"$error":"#REF!"}},{"$f":"VLOOKUP(#REF!,'Points Lookup'!$A:$B,2,FALSE)","v":{"$error":"#REF!"}},{"$f":"VLOOKUP(#REF!,'Points Lookup'!$A:$B,2,FALSE)","v":{"$error":"#REF!"}},{"$f":"VLOOKUP(#REF!,'Points Lookup'!$A:$B,2,FALSE)","v":{"$error":"#REF!"}},{"$f":"VLOOKUP(#REF!,'Points Lookup'!$A:$B,2,FALSE)","v":{"$error":"#REF!"}},{"$f":"VLOOKUP(#REF!,'Points Lookup'!$A:$B,2,FALSE)","v":{"$error":"#REF!"}},{"$f":"VLOOKUP(#REF!,'Points Lookup'!$A:$B,2,FALSE)","v":{"$error":"#REF!"}},{"$f":"VLOOKUP(#REF!,'Points Lookup'!$A:$B,2,FALSE)","v":{"$error":"#REF!"}},{"$f":"VLOOKUP(#REF!,'Points Lookup'!$A:$B,2,FALSE)","v":{"$error":"#REF!"}},{"$f":"VLOOKUP(#REF!,'Points Lookup'!$A:$B,2,FALSE)","v":{"$error":"#REF!"}},{"$f":"VLOOKUP(#REF!,'Points Lookup'!$A:$B,2,FALSE)","v":{"$error":"#REF!"}},{"$f":"VLOOKUP(#REF!,'Points Lookup'!$A:$B,2,FALSE)","v":{"$error":"#REF!"}},{"$f":"VLOOKUP(#REF!,'Points Lookup'!$A:$B,2,FALSE)","v":{"$error":"#REF!"}},{"$f":"VLOOKUP(#REF!,'Points Lookup'!$A:$B,2,FALSE)","v":{"$error":"#REF!"}},{"$f":"VLOOKUP(#REF!,'Points Lookup'!$A:$B,2,FALSE)","v":{"$error":"#REF!"}},null,{"$f":"LARGE($E132:$X132,Z$1)","v":{"$error":"#REF!"}},{"$error":"#REF!"},{"$error":"#REF!"},{"$error":"#REF!"},{"$error":"#REF!"},{"$error":"#REF!"},{"$error":"#REF!"},{"$error":"#REF!"}]
[{"$error":"#REF!"},{"$f":"#REF!","v":{"$error":"#REF!"}},{"$f":"IF(ISBLANK(#REF!),\"\",#REF!)","v":{"$error":"#REF!"}},{"$error":"#REF!"},{"$f":"VLOOKUP(#REF!,'Points Lookup'!$A:$B,2,FALSE)","v":{"$error":"#REF!"}},{"$f":"VLOOKUP(#REF!,'Points Lookup'!$A:$B,2,FALSE)","v":{"$error":"#REF!"}},{"$f":"VLOOKUP(#REF!,'Points Lookup'!$A:$B,2,FALSE)","v":{"$error":"#REF!"}},{"$f":"VLOOKUP(#REF!,'Points Lookup'!$A:$B,2,FALSE)","v":{"$error":"#REF!"}},{"$f":"VLOOKUP(#REF!,'Points Lookup'!$A:$B,2,FALSE)","v":{"$error":"#REF!"}},{"$f":"VLOOKUP(#REF!,'Points Lookup'!$A:$B,2,FALSE)","v":{"$error":"#REF!"}},{"$f":"VLOOKUP(#REF!,'Points Lookup'!$A:$B,2,FALSE)","v":{"$error":"#REF!"}},{"$f":"VLOOKUP(#REF!,'Points Lookup'!$A:$B,2,FALSE)","v":{"$error":"#REF!"}},{"$f":"VLOOKUP(#REF!,'Points Lookup'!$A:$B,2,FALSE)","v":{"$error":"#REF!"}},{"$f":"VLOOKUP(#REF!,'Points Lookup'!$A:$B,2,FALSE)","v":{"$error":"#REF!"}},{"$f":"VLOOKUP(#REF!,'Points Lookup'!$A:$B,2,FALSE)","v":{"$error":"#REF!"}},{"$f":"VLOOKUP(#REF!,'Points Lookup'!$A:$B,2,FALSE)","v":{"$error":"#REF!"}},{"$f":"VLOOKUP(#REF!,'Points Lookup'!$A:$B,2,FALSE)","v":{"$error":"#REF!"}},{"$f":"VLOOKUP(#REF!,'Points Lookup'!$A:$B,2,FALSE)","v":{"$error":"#REF!"}},{"$f":"VLOOKUP(#REF!,'Points Lookup'!$A:$B,2,FALSE)","v":{"$error":"#REF!"}},{"$f":"VLOOKUP(#REF!,'Points Lookup'!$A:$B,2,FALSE)","v":{"$error":"#REF!"}},{"$f":"VLOOKUP(#REF!,'Points Lookup'!$A:$B,2,FALSE)","v":{"$error":"#REF!"}},{"$f":"VLOOKUP(#REF!,'Points Lookup'!$A:$B,2,FALSE)","v":{"$error":"#REF!"}},{"$f":"VLOOKUP(#REF!,'Points Lookup'!$A:$B,2,FALSE)","v":{"$error":"#REF!"}},{"$f":"VLOOKUP(#REF!,'Points Lookup'!$A:$B,2,FALSE)","v":{"$error":"#REF!"}},null,{"$error":"#REF!"},{"$error":"#REF!"},{"$error":"#REF!"},{"$error":"#REF!"},{"$error":"#REF!"},{"$error":"#REF!"},{"$error":"#REF!"},{"$error":"#REF!"}]
[{"$error":"#REF!"},{"$f":"#REF!","v":{"$error":"#REF!"}},{"$f":"IF(ISBLANK(#REF!),\"\",#REF!)","v":{"$error":"#REF!"}},{"$error":"#REF!"},{"$f":"VLOOKUP(#REF!,'Points Lookup'!$A:$B,2,FALSE)","v":{"$error":"#REF!"}},{"$f":"VLOOKUP(#REF!,'Points Lookup'!$A:$B,2,FALSE)","v":{"$error":"#REF!"}},{"$f":"VLOOKUP(#REF!,'Points Lookup'!$A:$B,2,FALSE)","v":{"$error":"#REF!"}},{"$f":"VLOOKUP(#REF!,'Points Lookup'!$A:$B,2,FALSE)","v":{"$error":"#REF!"}},{"$f":"VLOOKUP(#REF!,'Points Lookup'!$A:$B,2,FALSE)","v":{"$error":"#REF!"}},{"$f":"VLOOKUP(#REF!,'Points Lookup'!$A:$B,2,FALSE)","v":{"$error":"#REF!"}},{"$f":"VLOOKUP(#REF!,'Points Lookup'!$A:$B,2,FALSE)","v":{"$error":"#REF!"}},{"$f":"VLOOKUP(#REF!,'Points Lookup'!$A:$B,2,FALSE)","v":{"$error":"#REF!"}},{"$f":"VLOOKUP(#REF!,'Points Lookup'!$A:$B,2,FALSE)","v":{"$error":"#REF!"}},{"$f":"VLOOKUP(#REF!,'Points Lookup'!$A:$B,2,FALSE)","v":{"$error":"#REF!"}},{"$f":"VLOOKUP(#REF!,'Points Lookup'!$A:$B,2,FALSE)","v":{"$error":"#REF!"}},{"$f":"VLOOKUP(#REF!,'Points Lookup'!$A:$B,2,FALSE)","v":{"$error":"#REF!"}},{"$f":"VLOOKUP(#REF!,'Points Lookup'!$A:$B,2,FALSE)","v":{"$error":"#REF!"}},{"$f":"VLOOKUP(#REF!,'Points Lookup'!$A:$B,2,FALSE)","v":{"$error":"#REF!"}},{"$f":"VLOOKUP(#REF!,'Points Lookup'!$A:$B,2,FALSE)","v":{"$error":"#REF!"}},{"$f":"VLOOKUP(#REF!,'Points Lookup'!$A:$B,2,FALSE)","v":{"$error":"#REF!"}},{"$f":"VLOOKUP(#REF!,'Points Lookup'!$A:$B,2,FALSE)","v":{"$error":"#REF!"}},{"$f":"VLOOKUP(#REF!,'Points Lookup'!$A:$B,2,FALSE)","v":{"$error":"#REF!"}},{"$f":"VLOOKUP(#REF!,'Points Lookup'!$A:$B,2,FALSE)","v":{"$error":"#REF!"}},{"$f":"VLOOKUP(#REF!,'Points Lookup'!$A:$B,2,FALSE)","v":{"$error":"#REF!"}},null,{"$error":"#REF!"},{"$error":"#REF!"},{"$error":"#REF!"},{"$error":"#REF!"},{"$error":"#REF!"},{"$error":"#REF!"},{"$error":"#REF!"},{"$error":"#REF!"}]
[{"$error":"#REF!"},{"$f":"#REF!","v":{"$error":"#REF!"}},{"$f":"IF(ISBLANK(#REF!),\"\",#REF!)","v":{"$error":"#REF!"}},{"$error":"#REF!"},{"$f":"VLOOKUP(#REF!,'Points Lookup'!$A:$B,2,FALSE)","v":{"$error":"#REF!"}},{"$f":"VLOOKUP(#REF!,'Points Lookup'!$A:$B,2,FALSE)","v":{"$error":"#REF!"}},{"$f":"VLOOKUP(#REF!,'Points Lookup'!$A:$B,2,FALSE)","v":{"$error":"#REF!"}},{"$f":"VLOOKUP(#REF!,'Points Lookup'!$A:$B,2,FALSE)","v":{"$error":"#REF!"}},{"$f":"VLOOKUP(#REF!,'Points Lookup'!$A:$B,2,FALSE)","v":{"$error":"#REF!"}},{"$f":"VLOOKUP(#REF!,'Points Lookup'!$A:$B,2,FALSE)","v":{"$error":"#REF!"}},{"$f":"VLOOKUP(#REF!,'Points Lookup'!$A:$B,2,FALSE)","v":{"$error":"#REF!"}},{"$f":"VLOOKUP(#REF!,'Points Lookup'!$A:$B,2,FALSE)","v":{"$error":"#REF!"}},{"$f":"VLOOKUP(#REF!,'Points Lookup'!$A:$B,2,FALSE)","v":{"$error":"#REF!"}},{"$f":"VLOOKUP(#REF!,'Points Lookup'!$A:$B,2,FALSE)","v":{"$error":"#REF!"}},{"$f":"VLOOKUP(#REF!,'Points Lookup'!$A:$B,2,FALSE)","v":{"$error":"#REF!"}},{"$f":"VLOOKUP(#REF!,'Points Lookup'!$A:$B,2,FALSE)","v":{"$error":"#REF!"}},{"$f":"VLOOKUP(#REF!,'Points Lookup'!$A:$B,2,FALSE)","v":{"$error":"#REF!"}},{"$f":"VLOOKUP(#REF!,'Points Lookup'!$A:$B,2,FALSE)","v":{"$error":"#REF!"}},{"$f":"VLOOKUP(#REF!,'Points Lookup'!$A:$B,2,FALSE)","v":{"$error":"#REF!"}},{"$f":"VLOOKUP(#REF!,'Points Lookup'!$A:$B,2,FALSE)","v":{"$error":"#REF!"}},{"$f":"VLOOKUP(#REF!,'Points Lookup'!$A:$B,2,FALSE)","v":{"$error":"#REF!"}},{"$f":"VLOOKUP(#REF!,'Points Lookup'!$A:$B,2,FALSE)","v":{"$error":"#REF!"}},{"$f":"VLOOKUP(#REF!,'Points Lookup'!$A:$B,2,FALSE)","v":{"$error":"#REF!"}},{"$f":"VLOOKUP(#REF!,'Points Lookup'!$A:$B,2,FALSE)","v":{"$error":"#REF!"}},null,{"$error":"#REF!"},{"$error":"#REF!"},{"$error":"#REF!"},{"$error":"#REF!"},{"$error":"#REF!"},{"$error":"#REF!"},{"$error":"#REF!"},{"$error":"#REF!"}]
[{"$error":"#REF!"},{"$f":"#REF!","v":{"$error":"#REF!"}},{"$f":"IF(ISBLANK(#REF!),\"\",#REF!)","v":{"$error":"#REF!"}},{"$error":"#REF!"},{"$f":"VLOOKUP(#REF!,'Points Lookup'!$A:$B,2,FALSE)","v":{"$error":"#REF!"}},{"$f":"VLOOKUP(#REF!,'Points Lookup'!$A:$B,2,FALSE)","v":{"$error":"#REF!"}},{"$f":"VLOOKUP(#REF!,'Points Lookup'!$A:$B,2,FALSE)","v":{"$error":"#REF!"}},{"$f":"VLOOKUP(#REF!,'Points Lookup'!$A:$B,2,FALSE)","v":{"$error":"#REF!"}},{"$f":"VLOOKUP(#REF!,'Points Lookup'!$A:$B,2,FALSE)","v":{"$error":"#REF!"}},{"$f":"VLOOKUP(#REF!,'Points Lookup'!$A:$B,2,FALSE)","v":{"$error":"#REF!"}},{"$f":"VLOOKUP(#REF!,'Points Lookup'!$A:$B,2,FALSE)","v":{"$error":"#REF!"}},{"$f":"VLOOKUP(#REF!,'Points Lookup'!$A:$B,2,FALSE)","v":{"$error":"#REF!"}},{"$f":"VLOOKUP(#REF!,'Points Lookup'!$A:$B,2,FALSE)","v":{"$error":"#REF!"}},{"$f":"VLOOKUP(#REF!,'Points Lookup'!$A:$B,2,FALSE)","v":{"$error":"#REF!"}},{"$f":"VLOOKUP(#REF!,'Points Lookup'!$A:$B,2,FALSE)","v":{"$error":"#REF!"}},{"$f":"VLOOKUP(#REF!,'Points Lookup'!$A:$B,2,FALSE)","v":{"$error":"#REF!"}},{"$f":"VLOOKUP(#REF!,'Points Lookup'!$A:$B,2,FALSE)","v":{"$error":"#REF!"}},{"$f":"VLOOKUP(#REF!,'Points Lookup'!$A:$B,2,FALSE)","v":{"$error":"#REF!"}},{"$f":"VLOOKUP(#REF!,'Points Lookup'!$A:$B,2,FALSE)","v":{"$error":"#REF!"}},{"$f":"VLOOKUP(#REF!,'Points Lookup'!$A:$B,2,FALSE)","v":{"$error":"#REF!"}},{"$f":"VLOOKUP(#REF!,'Points Lookup'!$A:$B,2,FALSE)","v":{"$error":"#REF!"}},{"$f":"VLOOKUP(#REF!,'Points Lookup'!$A:$B,2,FALSE)","v":{"$error":"#REF!"}},{"$f":"VLOOKUP(#REF!,'Points Lookup'!$A:$B,2,FALSE)","v":{"$error":"#REF!"}},{"$f":"VLOOKUP(#REF!,'Points Lookup'!$A:$B,2,FALSE)","v":{"$error":"#REF!"}},null,{"$error":"#REF!"},{"$error":"#REF!"},{"$error":"#REF!"},{"$error":"#REF!"},{"$error":"#REF!"},{"$error":"#REF!"},{"$error":"#REF!"},{"$error":"#REF!"}]
[{"$error":"#REF!"},{"$f":"#REF!","v":{"$error":"#REF!"}},{"$f":"IF(ISBLANK(#REF!),\"\",#REF!)","v":{"$error":"#REF!"}},{"$error":"#REF!"},{"$f":"VLOOKUP(#REF!,'Points Lookup'!$A:$B,2,FALSE)","v":{"$error":"#REF!"}},{"$f":"VLOOKUP(#REF!,'Points Lookup'!$A:$B,2,FALSE)","v":{"$error":"#REF!"}},{"$f":"VLOOKUP(#REF!,'Points Lookup'!$A:$B,2,FALSE)","v":{"$error":"#REF!"}},{"$f":"VLOOKUP(#REF!,'Points Lookup'!$A:$B,2,FALSE)","v":{"$error":"#REF!"}},{"$f":"VLOOKUP(#REF!,'Points Lookup'!$A:$B,2,FALSE)","v":{"$error":"#REF!"}},{"$f":"VLOOKUP(#REF!,'Points Lookup'!$A:$B,2,FALSE)","v":{"$error":"#REF!"}},{"$f":"VLOOKUP(#REF!,'Points Lookup'!$A:$B,2,FALSE)","v":{"$error":"#REF!"}},{"$f":"VLOOKUP(#REF!,'Points Lookup'!$A:$B,2,FALSE)","v":{"$error":"#REF!"}},{"$f":"VLOOKUP(#REF!,'Points Lookup'!$A:$B,2,FALSE)","v":{"$error":"#REF!"}},{"$f":"VLOOKUP(#REF!,'Points Lookup'!$A:$B,2,FALSE)","v":{"$error":"#REF!"}},{"$f":"VLOOKUP(#REF!,'Points Lookup'!$A:$B,2,FALSE)","v":{"$error":"#REF!"}},{"$f":"VLOOKUP(#REF!,'Points Lookup'!$A:$B,2,FALSE)","v":{"$error":"#REF!"}},{"$f":"VLOOKUP(#REF!,'Points Lookup'!$A:$B,2,FALSE)","v":{"$error":"#REF!"}},{"$f":"VLOOKUP(#REF!,'Points Lookup'!$A:$B,2,FALSE)","v":{"$error":"#REF!"}},{"$f":"VLOOKUP(#REF!,'Points Lookup'!$A:$B,2,FALSE)","v":{"$error":"#REF!"}},{"$f":"VLOOKUP(#REF!,'Points Lookup'!$A:$B,2,FALSE)","v":{"$error":"#REF!"}},{"$f":"VLOOKUP(#REF!,'Points Lookup'!$A:$B,2,FALSE)","v":{"$error":"#REF!"}},{"$f":"VLOOKUP(#REF!,'Points Lookup'!$A:$B,2,FALSE)","v":{"$error":"#REF!"}},{"$f":"VLOOKUP(#REF!,'Points Lookup'!$A:$B,2,FALSE)","v":{"$error":"#REF!"}},{"$f":"VLOOKUP(#REF!,'Points Lookup'!$A:$B,2,FALSE)","v":{"$error":"#REF!"}},null,{"$error":"#REF!"},{"$error":"#REF!"},{"$error":"#REF!"},{"$error":"#REF!"},{"$error":"#REF!"},{"$error":"#REF!"},{"$error":"#REF!"},{"$error":"#REF!"}]
[{"$error":"#REF!"},{"$f":"#REF!","v":{"$error":"#REF!"}},{"$f":"IF(ISBLANK(#REF!),\"\",#REF!)","v":{"$error":"#REF!"}},{"$error":"#REF!"},{"$f":"VLOOKUP(#REF!,'Points Lookup'!$A:$B,2,FALSE)","v":{"$error":"#REF!"}},{"$f":"VLOOKUP(#REF!,'Points Lookup'!$A:$B,2,FALSE)","v":{"$error":"#REF!"}},{"$f":"VLOOKUP(#REF!,'Points Lookup'!$A:$B,2,FALSE)","v":{"$error":"#REF!"}},{"$f":"VLOOKUP(#REF!,'Points Lookup'!$A:$B,2,FALSE)","v":{"$error":"#REF!"}},{"$f":"VLOOKUP(#REF!,'Points Lookup'!$A:$B,2,FALSE)","v":{"$error":"#REF!"}},{"$f":"VLOOKUP(#REF!,'Points Lookup'!$A:$B,2,FALSE)","v":{"$error":"#REF!"}},{"$f":"VLOOKUP(#REF!,'Points Lookup'!$A:$B,2,FALSE)","v":{"$error":"#REF!"}},{"$f":"VLOOKUP(#REF!,'Points Lookup'!$A:$B,2,FALSE)","v":{"$error":"#REF!"}},{"$f":"VLOOKUP(#REF!,'Points Lookup'!$A:$B,2,FALSE)","v":{"$error":"#REF!"}},{"$f":"VLOOKUP(#REF!,'Points Lookup'!$A:$B,2,FALSE)","v":{"$error":"#REF!"}},{"$f":"VLOOKUP(#REF!,'Points Lookup'!$A:$B,2,FALSE)","v":{"$error":"#REF!"}},{"$f":"VLOOKUP(#REF!,'Points Lookup'!$A:$B,2,FALSE)","v":{"$error":"#REF!"}},{"$f":"VLOOKUP(#REF!,'Points Lookup'!$A:$B,2,FALSE)","v":{"$error":"#REF!"}},{"$f":"VLOOKUP(#REF!,'Points Lookup'!$A:$B,2,FALSE)","v":{"$error":"#REF!"}},{"$f":"VLOOKUP(#REF!,'Points Lookup'!$A:$B,2,FALSE)","v":{"$error":"#REF!"}},{"$f":"VLOOKUP(#REF!,'Points Lookup'!$A:$B,2,FALSE)","v":{"$error":"#REF!"}},{"$f":"VLOOKUP(#REF!,'Points Lookup'!$A:$B,2,FALSE)","v":{"$error":"#REF!"}},{"$f":"VLOOKUP(#REF!,'Points Lookup'!$A:$B,2,FALSE)","v":{"$error":"#REF!"}},{"$f":"VLOOKUP(#REF!,'Points Lookup'!$A:$B,2,FALSE)","v":{"$error":"#REF!"}},{"$f":"VLOOKUP(#REF!,'Points Lookup'!$A:$B,2,FALSE)","v":{"$error":"#REF!"}},null,{"$error":"#REF!"},{"$error":"#REF!"},{"$error":"#REF!"},{"$error":"#REF!"},{"$error":"#REF!"},{"$error":"#REF!"},{"$error":"#REF!"},{"$error":"#REF!"}]
[{"$error":"#REF!"},{"$f":"#REF!","v":{"$error":"#REF!"}},{"$f":"IF(ISBLANK(#REF!),\"\",#REF!)","v":{"$error":"#REF!"}},{"$error":"#REF!"},{"$f":"VLOOKUP(#REF!,'Points Lookup'!$A:$B,2,FALSE)","v":{"$error":"#REF!"}},{"$f":"VLOOKUP(#REF!,'Points Lookup'!$A:$B,2,FALSE)","v":{"$error":"#REF!"}},{"$f":"VLOOKUP(#REF!,'Points Lookup'!$A:$B,2,FALSE)","v":{"$error":"#REF!"}},{"$f":"VLOOKUP(#REF!,'Points Lookup'!$A:$B,2,FALSE)","v":{"$error":"#REF!"}},{"$f":"VLOOKUP(#REF!,'Points Lookup'!$A:$B,2,FALSE)","v":{"$error":"#REF!"}},{"$f":"VLOOKUP(#REF!,'Points Lookup'!$A:$B,2,FALSE)","v":{"$error":"#REF!"}},{"$f":"VLOOKUP(#REF!,'Points Lookup'!$A:$B,2,FALSE)","v":{"$error":"#REF!"}},{"$f":"VLOOKUP(#REF!,'Points Lookup'!$A:$B,2,FALSE)","v":{"$error":"#REF!"}},{"$f":"VLOOKUP(#REF!,'Points Lookup'!$A:$B,2,FALSE)","v":{"$error":"#REF!"}},{"$f":"VLOOKUP(#REF!,'Points Lookup'!$A:$B,2,FALSE)","v":{"$error":"#REF!"}},{"$f":"VLOOKUP(#REF!,'Points Lookup'!$A:$B,2,FALSE)","v":{"$error":"#REF!"}},{"$f":"VLOOKUP(#REF!,'Points Lookup'!$A:$B,2,FALSE)","v":{"$error":"#REF!"}},{"$f":"VLOOKUP(#REF!,'Points Lookup'!$A:$B,2,FALSE)","v":{"$error":"#REF!"}},{"$f":"VLOOKUP(#REF!,'Points Lookup'!$A:$B,2,FALSE)","v":{"$error":"#REF!"}},{"$f":"VLOOKUP(#REF!,'Points Lookup'!$A:$B,2,FALSE)","v":{"$error":"#REF!"}},{"$f":"VLOOKUP(#REF!,'Points Lookup'!$A:$B,2,FALSE)","v":{"$error":"#REF!"}},{"$f":"VLOOKUP(#REF!,'Points Lookup'!$A:$B,2,FALSE)","v":{"$error":"#REF!"}},{"$f":"VLOOKUP(#REF!,'Points Lookup'!$A:$B,2,FALSE)","v":{"$error":"#REF!"}},{"$f":"VLOOKUP(#REF!,'Points Lookup'!$A:$B,2,FALSE)","v":{"$error":"#REF!"}},{"$f":"VLOOKUP(#REF!,'Points Lookup'!$A:$B,2,FALSE)","v":{"$error":"#REF!"}},null,{"$error":"#REF!"},{"$error":"#REF!"},{"$error":"#REF!"},{"$error":"#REF!"},{"$error":"#REF!"},{"$error":"#REF!"},{"$error":"#REF!"},{"$error":"#REF!"}]
[{"$error":"#REF!"},{"$f":"#REF!","v":{"$error":"#REF!"}},{"$f":"IF(ISBLANK(#REF!),\"\",#REF!)","v":{"$error":"#REF!"}},{"$error":"#REF!"},{"$f":"VLOOKUP(#REF!,'Points Lookup'!$A:$B,2,FALSE)","v":{"$error":"#REF!"}},{"$f":"VLOOKUP(#REF!,'Points Lookup'!$A:$B,2,FALSE)","v":{"$error":"#REF!"}},{"$f":"VLOOKUP(#REF!,'Points Lookup'!$A:$B,2,FALSE)","v":{"$error":"#REF!"}},{"$f":"VLOOKUP(#REF!,'Points Lookup'!$A:$B,2,FALSE)","v":{"$error":"#REF!"}},{"$f":"VLOOKUP(#REF!,'Points Lookup'!$A:$B,2,FALSE)","v":{"$error":"#REF!"}},{"$f":"VLOOKUP(#REF!,'Points Lookup'!$A:$B,2,FALSE)","v":{"$error":"#REF!"}},{"$f":"VLOOKUP(#REF!,'Points Lookup'!$A:$B,2,FALSE)","v":{"$error":"#REF!"}},{"$f":"VLOOKUP(#REF!,'Points Lookup'!$A:$B,2,FALSE)","v":{"$error":"#REF!"}},{"$f":"VLOOKUP(#REF!,'Points Lookup'!$A:$B,2,FALSE)","v":{"$error":"#REF!"}},{"$f":"VLOOKUP(#REF!,'Points Lookup'!$A:$B,2,FALSE)","v":{"$error":"#REF!"}},{"$f":"VLOOKUP(#REF!,'Points Lookup'!$A:$B,2,FALSE)","v":{"$error":"#REF!"}},{"$f":"VLOOKUP(#REF!,'Points Lookup'!$A:$B,2,FALSE)","v":{"$error":"#REF!"}},{"$f":"VLOOKUP(#REF!,'Points Lookup'!$A:$B,2,FALSE)","v":{"$error":"#REF!"}},{"$f":"VLOOKUP(#REF!,'Points Lookup'!$A:$B,2,FALSE)","v":{"$error":"#REF!"}},{"$f":"VLOOKUP(#REF!,'Points Lookup'!$A:$B,2,FALSE)","v":{"$error":"#REF!"}},{"$f":"VLOOKUP(#REF!,'Points Lookup'!$A:$B,2,FALSE)","v":{"$error":"#REF!"}},{"$f":"VLOOKUP(#REF!,'Points Lookup'!$A:$B,2,FALSE)","v":{"$error":"#REF!"}},{"$f":"VLOOKUP(#REF!,'Points Lookup'!$A:$B,2,FALSE)","v":{"$error":"#REF!"}},{"$f":"VLOOKUP(#REF!,'Points Lookup'!$A:$B,2,FALSE)","v":{"$error":"#REF!"}},{"$f":"VLOOKUP(#REF!,'Points Lookup'!$A:$B,2,FALSE)","v":{"$error":"#REF!"}},null,{"$error":"#REF!"},{"$error":"#REF!"},{"$error":"#REF!"},{"$error":"#REF!"},{"$error":"#REF!"},{"$error":"#REF!"},{"$error":"#REF!"},{"$error":"#REF!"}]
[{"$error":"#REF!"},{"$f":"#REF!","v":{"$error":"#REF!"}},{"$f":"IF(ISBLANK(#REF!),\"\",#REF!)","v":{"$error":"#REF!"}},{"$error":"#REF!"},{"$f":"VLOOKUP(#REF!,'Points Lookup'!$A:$B,2,FALSE)","v":{"$error":"#REF!"}},{"$f":"VLOOKUP(#REF!,'Points Lookup'!$A:$B,2,FALSE)","v":{"$error":"#REF!"}},{"$f":"VLOOKUP(#REF!,'Points Lookup'!$A:$B,2,FALSE)","v":{"$error":"#REF!"}},{"$f":"VLOOKUP(#REF!,'Points Lookup'!$A:$B,2,FALSE)","v":{"$error":"#REF!"}},{"$f":"VLOOKUP(#REF!,'Points Lookup'!$A:$B,2,FALSE)","v":{"$error":"#REF!"}},{"$f":"VLOOKUP(#REF!,'Points Lookup'!$A:$B,2,FALSE)","v":{"$error":"#REF!"}},{"$f":"VLOOKUP(#REF!,'Points Lookup'!$A:$B,2,FALSE)","v":{"$error":"#REF!"}},{"$f":"VLOOKUP(#REF!,'Points Lookup'!$A:$B,2,FALSE)","v":{"$error":"#REF!"}},{"$f":"VLOOKUP(#REF!,'Points Lookup'!$A:$B,2,FALSE)","v":{"$error":"#REF!"}},{"$f":"VLOOKUP(#REF!,'Points Lookup'!$A:$B,2,FALSE)","v":{"$error":"#REF!"}},{"$f":"VLOOKUP(#REF!,'Points Lookup'!$A:$B,2,FALSE)","v":{"$error":"#REF!"}},{"$f":"VLOOKUP(#REF!,'Points Lookup'!$A:$B,2,FALSE)","v":{"$error":"#REF!"}},{"$f":"VLOOKUP(#REF!,'Points Lookup'!$A:$B,2,FALSE)","v":{"$error":"#REF!"}},{"$f":"VLOOKUP(#REF!,'Points Lookup'!$A:$B,2,FALSE)","v":{"$error":"#REF!"}},{"$f":"VLOOKUP(#REF!,'Points Lookup'!$A:$B,2,FALSE)","v":{"$error":"#REF!"}},{"$f":"VLOOKUP(#REF!,'Points Lookup'!$A:$B,2,FALSE)","v":{"$error":"#REF!"}},{"$f":"VLOOKUP(#REF!,'Points Lookup'!$A:$B,2,FALSE)","v":{"$error":"#REF!"}},{"$f":"VLOOKUP(#REF!,'Points Lookup'!$A:$B,2,FALSE)","v":{"$error":"#REF!"}},{"$f":"VLOOKUP(#REF!,'Points Lookup'!$A:$B,2,FALSE)","v":{"$error":"#REF!"}},{"$f":"VLOOKUP(#REF!,'Points Lookup'!$A:$B,2,FALSE)","v":{"$error":"#REF!"}},null,{"$error":"#REF!"},{"$error":"#REF!"},{"$error":"#REF!"},{"$error":"#REF!"},{"$error":"#REF!"},{"$error":"#REF!"},{"$error":"#REF!"},{"$error":"#REF!"}]
[{"$error":"#REF!"},{"$f":"#REF!","v":{"$error":"#REF!"}},{"$f":"IF(ISBLANK(#REF!),\"\",#REF!)","v":{"$error":"#REF!"}},{"$error":"#REF!"},{"$f":"VLOOKUP(#REF!,'Points Lookup'!$A:$B,2,FALSE)","v":{"$error":"#REF!"}},{"$f":"VLOOKUP(#REF!,'Points Lookup'!$A:$B,2,FALSE)","v":{"$error":"#REF!"}},{"$f":"VLOOKUP(#REF!,'Points Lookup'!$A:$B,2,FALSE)","v":{"$error":"#REF!"}},{"$f":"VLOOKUP(#REF!,'Points Lookup'!$A:$B,2,FALSE)","v":{"$error":"#REF!"}},{"$f":"VLOOKUP(#REF!,'Points Lookup'!$A:$B,2,FALSE)","v":{"$error":"#REF!"}},{"$f":"VLOOKUP(#REF!,'Points Lookup'!$A:$B,2,FALSE)","v":{"$error":"#REF!"}},{"$f":"VLOOKUP(#REF!,'Points Lookup'!$A:$B,2,FALSE)","v":{"$error":"#REF!"}},{"$f":"VLOOKUP(#REF!,'Points Lookup'!$A:$B,2,FALSE)","v":{"$error":"#REF!"}},{"$f":"VLOOKUP(#REF!,'Points Lookup'!$A:$B,2,FALSE)","v":{"$error":"#REF!"}},{"$f":"VLOOKUP(#REF!,'Points Lookup'!$A:$B,2,FALSE)","v":{"$error":"#REF!"}},{"$f":"VLOOKUP(#REF!,'Points Lookup'!$A:$B,2,FALSE)","v":{"$error":"#REF!"}},{"$f":"VLOOKUP(#REF!,'Points Lookup'!$A:$B,2,FALSE)","v":{"$error":"#REF!"}},{"$f":"VLOOKUP(#REF!,'Points Lookup'!$A:$B,2,FALSE)","v":{"$error":"#REF!"}},{"$f":"VLOOKUP(#REF!,'Points Lookup'!$A:$B,2,FALSE)","v":{"$error":"#REF!"}},{"$f":"VLOOKUP(#REF!,'Points Lookup'!$A:$B,2,FALSE)","v":{"$error":"#REF!"}},{"$f":"VLOOKUP(#REF!,'Points Lookup'!$A:$B,2,FALSE)","v":{"$error":"#REF!"}},{"$f":"VLOOKUP(#REF!,'Points Lookup'!$A:$B,2,FALSE)","v":{"$error":"#REF!"}},{"$f":"VLOOKUP(#REF!,'Points Lookup'!$A:$B,2,FALSE)","v":{"$error":"#REF!"}},{"$f":"VLOOKUP(#REF!,'Points Lookup'!$A:$B,2,FALSE)","v":{"$error":"#REF!"}},{"$f":"VLOOKUP(#REF!,'Points Lookup'!$A:$B,2,FALSE)","v":{"$error":"#REF!"}},null,{"$f":"LARGE($E142:$X142,Z$1)","v":{"$error":"#REF!"}},{"$error":"#REF!"},{"$error":"#REF!"},{"$error":"#REF!"},{"$error":"#REF!"},{"$error":"#REF!"},{"$error":"#REF!"},{"$error":"#REF!"}]
[{"$error":"#REF!"},{"$f":"#REF!","v":{"$error":"#REF!"}},{"$f":"IF(ISBLANK(#REF!),\"\",#REF!)","v":{"$error":"#REF!"}},{"$error":"#REF!"},{"$f":"VLOOKUP(#REF!,'Points Lookup'!$A:$B,2,FALSE)","v":{"$error":"#REF!"}},{"$f":"VLOOKUP(#REF!,'Points Lookup'!$A:$B,2,FALSE)","v":{"$error":"#REF!"}},{"$f":"VLOOKUP(#REF!,'Points Lookup'!$A:$B,2,FALSE)","v":{"$error":"#REF!"}},{"$f":"VLOOKUP(#REF!,'Points Lookup'!$A:$B,2,FALSE)","v":{"$error":"#REF!"}},{"$f":"VLOOKUP(#REF!,'Points Lookup'!$A:$B,2,FALSE)","v":{"$error":"#REF!"}},{"$f":"VLOOKUP(#REF!,'Points Lookup'!$A:$B,2,FALSE)","v":{"$error":"#REF!"}},{"$f":"VLOOKUP(#REF!,'Points Lookup'!$A:$B,2,FALSE)","v":{"$error":"#REF!"}},{"$f":"VLOOKUP(#REF!,'Points Lookup'!$A:$B,2,FALSE)","v":{"$error":"#REF!"}},{"$f":"VLOOKUP(#REF!,'Points Lookup'!$A:$B,2,FALSE)","v":{"$error":"#REF!"}},{"$f":"VLOOKUP(#REF!,'Points Lookup'!$A:$B,2,FALSE)","v":{"$error":"#REF!"}},{"$f":"VLOOKUP(#REF!,'Points Lookup'!$A:$B,2,FALSE)","v":{"$error":"#REF!"}},{"$f":"VLOOKUP(#REF!,'Points Lookup'!$A:$B,2,FALSE)","v":{"$error":"#REF!"}},{"$f":"VLOOKUP(#REF!,'Points Lookup'!$A:$B,2,FALSE)","v":{"$error":"#REF!"}},{"$f":"VLOOKUP(#REF!,'Points Lookup'!$A:$B,2,FALSE)","v":{"$error":"#REF!"}},{"$f":"VLOOKUP(#REF!,'Points Lookup'!$A:$B,2,FALSE)","v":{"$error":"#REF!"}},{"$f":"VLOOKUP(#REF!,'Points Lookup'!$A:$B,2,FALSE)","v":{"$error":"#REF!"}},{"$f":"VLOOKUP(#REF!,'Points Lookup'!$A:$B,2,FALSE)","v":{"$error":"#REF!"}},{"$f":"VLOOKUP(#REF!,'Points Lookup'!$A:$B,2,FALSE)","v":{"$error":"#REF!"}},{"$f":"VLOOKUP(#REF!,'Points Lookup'!$A:$B,2,FALSE)","v":{"$error":"#REF!"}},{"$f":"VLOOKUP(#REF!,'Points Lookup'!$A:$B,2,FALSE)","v":{"$error":"#REF!"}},null,{"$error":"#REF!"},{"$error":"#REF!"},{"$error":"#REF!"},{"$error":"#REF!"},{"$error":"#REF!"},{"$error":"#REF!"},{"$error":"#REF!"},{"$error":"#REF!"}]
[{"$error":"#REF!"},{"$f":"#REF!","v":{"$error":"#REF!"}},{"$f":"IF(ISBLANK(#REF!),\"\",#REF!)","v":{"$error":"#REF!"}},{"$error":"#REF!"},{"$f":"VLOOKUP(#REF!,'Points Lookup'!$A:$B,2,FALSE)","v":{"$error":"#REF!"}},{"$f":"VLOOKUP(#REF!,'Points Lookup'!$A:$B,2,FALSE)","v":{"$error":"#REF!"}},{"$f":"VLOOKUP(#REF!,'Points Lookup'!$A:$B,2,FALSE)","v":{"$error":"#REF!"}},{"$f":"VLOOKUP(#REF!,'Points Lookup'!$A:$B,2,FALSE)","v":{"$error":"#REF!"}},{"$f":"VLOOKUP(#REF!,'Points Lookup'!$A:$B,2,FALSE)","v":{"$error":"#REF!"}},{"$f":"VLOOKUP(#REF!,'Points Lookup'!$A:$B,2,FALSE)","v":{"$error":"#REF!"}},{"$f":"VLOOKUP(#REF!,'Points Lookup'!$A:$B,2,FALSE)","v":{"$error":"#REF!"}},{"$f":"VLOOKUP(#REF!,'Points Lookup'!$A:$B,2,FALSE)","v":{"$error":"#REF!"}},{"$f":"VLOOKUP(#REF!,'Points Lookup'!$A:$B,2,FALSE)","v":{"$error":"#REF!"}},{"$f":"VLOOKUP(#REF!,'Points Lookup'!$A:$B,2,FALSE)","v":{"$error":"#REF!"}},{"$f":"VLOOKUP(#REF!,'Points Lookup'!$A:$B,2,FALSE)","v":{"$error":"#REF!"}},{"$f":"VLOOKUP(#REF!,'Points Lookup'!$A:$B,2,FALSE)","v":{"$error":"#REF!"}},{"$f":"VLOOKUP(#REF!,'Points Lookup'!$A:$B,2,FALSE)","v":{"$error":"#REF!"}},{"$f":"VLOOKUP(#REF!,'Points Lookup'!$A:$B,2,FALSE)","v":{"$error":"#REF!"}},{"$f":"VLOOKUP(#REF!,'Points Lookup'!$A:$B,2,FALSE)","v":{"$error":"#REF!"}},{"$f":"VLOOKUP(#REF!,'Points Lookup'!$A:$B,2,FALSE)","v":{"$error":"#REF!"}},{"$f":"VLOOKUP(#REF!,'Points Lookup'!$A:$B,2,FALSE)","v":{"$error":"#REF!"}},{"$f":"VLOOKUP(#REF!,'Points Lookup'!$A:$B,2,FALSE)","v":{"$error":"#REF!"}},{"$f":"VLOOKUP(#REF!,'Points Lookup'!$A:$B,2,FALSE)","v":{"$error":"#REF!"}},{"$f":"VLOOKUP(#REF!,'Points Lookup'!$A:$B,2,FALSE)","v":{"$error":"#REF!"}},null,{"$error":"#REF!"},{"$error":"#REF!"},{"$error":"#REF!"},{"$error":"#REF!"},{"$error":"#REF!"},{"$error":"#REF!"},{"$error":"#REF!"},{"$error":"#REF!"}]
[{"$error":"#REF!"},{"$f":"#REF!","v":{"$error":"#REF!"}},{"$f":"IF(ISBLANK(#REF!),\"\",#REF!)","v":{"$error":"#REF!"}},{"$error":"#REF!"},{"$f":"VLOOKUP(#REF!,'Points Lookup'!$A:$B,2,FALSE)","v":{"$error":"#REF!"}},{"$f":"VLOOKUP(#REF!,'Points Lookup'!$A:$B,2,FALSE)","v":{"$error":"#REF!"}},{"$f":"VLOOKUP(#REF!,'Points Lookup'!$A:$B,2,FALSE)","v":{"$error":"#REF!"}},{"$f":"VLOOKUP(#REF!,'Points Lookup'!$A:$B,2,FALSE)","v":{"$error":"#REF!"}},{"$f":"VLOOKUP(#REF!,'Points Lookup'!$A:$B,2,FALSE)","v":{"$error":"#REF!"}},{"$f":"VLOOKUP(#REF!,'Points Lookup'!$A:$B,2,FALSE)","v":{"$error":"#REF!"}},{"$f":"VLOOKUP(#REF!,'Points Lookup'!$A:$B,2,FALSE)","v":{"$error":"#REF!"}},{"$f":"VLOOKUP(#REF!,'Points Lookup'!$A:$B,2,FALSE)","v":{"$error":"#REF!"}},{"$f":"VLOOKUP(#REF!,'Points Lookup'!$A:$B,2,FALSE)","v":{"$error":"#REF!"}},{"$f":"VLOOKUP(#REF!,'Points Lookup'!$A:$B,2,FALSE)","v":{"$error":"#REF!"}},{"$f":"VLOOKUP(#REF!,'Points Lookup'!$A:$B,2,FALSE)","v":{"$error":"#REF!"}},{"$f":"VLOOKUP(#REF!,'Points Lookup'!$A:$B,2,FALSE)","v":{"$error":"#REF!"}},{"$f":"VLOOKUP(#REF!,'Points Lookup'!$A:$B,2,FALSE)","v":{"$error":"#REF!"}},{"$f":"VLOOKUP(#REF!,'Points Lookup'!$A:$B,2,FALSE)","v":{"$error":"#REF!"}},{"$f":"VLOOKUP(#REF!,'Points Lookup'!$A:$B,2,FALSE)","v":{"$error":"#REF!"}},{"$f":"VLOOKUP(#REF!,'Points Lookup'!$A:$B,2,FALSE)","v":{"$error":"#REF!"}},{"$f":"VLOOKUP(#REF!,'Points Lookup'!$A:$B,2,FALSE)","v":{"$error":"#REF!"}},{"$f":"VLOOKUP(#REF!,'Points Lookup'!$A:$B,2,FALSE)","v":{"$error":"#REF!"}},{"$f":"VLOOKUP(#REF!,'Points Lookup'!$A:$B,2,FALSE)","v":{"$error":"#REF!"}},{"$f":"VLOOKUP(#REF!,'Points Lookup'!$A:$B,2,FALSE)","v":{"$error":"#REF!"}},null,{"$error":"#REF!"},{"$error":"#REF!"},{"$error":"#REF!"},{"$error":"#REF!"},{"$error":"#REF!"},{"$error":"#REF!"},{"$error":"#REF!"},{"$error":"#REF!"}]
[{"$error":"#REF!"},{"$f":"#REF!","v":{"$error":"#REF!"}},{"$f":"IF(ISBLANK(#REF!),\"\",#REF!)","v":{"$error":"#REF!"}},{"$error":"#REF!"},{"$f":"VLOOKUP(#REF!,'Points Lookup'!$A:$B,2,FALSE)","v":{"$error":"#REF!"}},{"$f":"VLOOKUP(#REF!,'Points Lookup'!$A:$B,2,FALSE)","v":{"$error":"#REF!"}},{"$f":"VLOOKUP(#REF!,'Points Lookup'!$A:$B,2,FALSE)","v":{"$error":"#REF!"}},{"$f":"VLOOKUP(#REF!,'Points Lookup'!$A:$B,2,FALSE)","v":{"$error":"#REF!"}},{"$f":"VLOOKUP(#REF!,'Points Lookup'!$A:$B,2,FALSE)","v":{"$error":"#REF!"}},{"$f":"VLOOKUP(#REF!,'Points Lookup'!$A:$B,2,FALSE)","v":{"$error":"#REF!"}},{"$f":"VLOOKUP(#REF!,'Points Lookup'!$A:$B,2,FALSE)","v":{"$error":"#REF!"}},{"$f":"VLOOKUP(#REF!,'Points Lookup'!$A:$B,2,FALSE)","v":{"$error":"#REF!"}},{"$f":"VLOOKUP(#REF!,'Points Lookup'!$A:$B,2,FALSE)","v":{"$error":"#REF!"}},{"$f":"VLOOKUP(#REF!,'Points Lookup'!$A:$B,2,FALSE)","v":{"$error":"#REF!"}},{"$f":"VLOOKUP(#REF!,'Points Lookup'!$A:$B,2,FALSE)","v":{"$error":"#REF!"}},{"$f":"VLOOKUP(#REF!,'Points Lookup'!$A:$B,2,FALSE)","v":{"$error":"#REF!"}},{"$f":"VLOOKUP(#REF!,'Points Lookup'!$A:$B,2,FALSE)","v":{"$error":"#REF!"}},{"$f":"VLOOKUP(#REF!,'Points Lookup'!$A:$B,2,FALSE)","v":{"$error":"#REF!"}},{"$f":"VLOOKUP(#REF!,'Points Lookup'!$A:$B,2,FALSE)","v":{"$error":"#REF!"}},{"$f":"VLOOKUP(#REF!,'Points Lookup'!$A:$B,2,FALSE)","v":{"$error":"#REF!"}},{"$f":"VLOOKUP(#REF!,'Points Lookup'!$A:$B,2,FALSE)","v":{"$error":"#REF!"}},{"$f":"VLOOKUP(#REF!,'Points Lookup'!$A:$B,2,FALSE)","v":{"$error":"#REF!"}},{"$f":"VLOOKUP(#REF!,'Points Lookup'!$A:$B,2,FALSE)","v":{"$error":"#REF!"}},{"$f":"VLOOKUP(#REF!,'Points Lookup'!$A:$B,2,FALSE)","v":{"$error":"#REF!"}},null,{"$error":"#REF!"},{"$error":"#REF!"},{"$error":"#REF!"},{"$error":"#REF!"},{"$error":"#REF!"},{"$error":"#REF!"},{"$error":"#REF!"},{"$error":"#REF!"}]
[{"$error":"#REF!"},{"$f":"#REF!","v":{"$error":"#REF!"}},{"$f":"IF(ISBLANK(#REF!),\"\",#REF!)","v":{"$error":"#REF!"}},{"$error":"#REF!"},{"$f":"VLOOKUP(#REF!,'Points Lookup'!$A:$B,2,FALSE)","v":{"$error":"#REF!"}},{"$f":"VLOOKUP(#REF!,'Points Lookup'!$A:$B,2,FALSE)","v":{"$error":"#REF!"}},{"$f":"VLOOKUP(#REF!,'Points Lookup'!$A:$B,2,FALSE)","v":{"$error":"#REF!"}},{"$f":"VLOOKUP(#REF!,'Points Lookup'!$A:$B,2,FALSE)","v":{"$error":"#REF!"}},{"$f":"VLOOKUP(#REF!,'Points Lookup'!$A:$B,2,FALSE)","v":{"$error":"#REF!"}},{"$f":"VLOOKUP(#REF!,'Points Lookup'!$A:$B,2,FALSE)","v":{"$error":"#REF!"}},{"$f":"VLOOKUP(#REF!,'Points Lookup'!$A:$B,2,FALSE)","v":{"$error":"#REF!"}},{"$f":"VLOOKUP(#REF!,'Points Lookup'!$A:$B,2,FALSE)","v":{"$error":"#REF!"}},{"$f":"VLOOKUP(#REF!,'Points Lookup'!$A:$B,2,FALSE)","v":{"$error":"#REF!"}},{"$f":"VLOOKUP(#REF!,'Points Lookup'!$A:$B,2,FALSE)","v":{"$error":"#REF!"}},{"$f":"VLOOKUP(#REF!,'Points Lookup'!$A:$B,2,FALSE)","v":{"$error":"#REF!"}},{"$f":"VLOOKUP(#REF!,'Points Lookup'!$A:$B,2,FALSE)","v":{"$error":"#REF!"}},{"$f":"VLOOKUP(#REF!,'Points Lookup'!$A:$B,2,FALSE)","v":{"$error":"#REF!"}},{"$f":"VLOOKUP(#REF!,'Points Lookup'!$A:$B,2,FALSE)","v":{"$error":"#REF!"}},{"$f":"VLOOKUP(#REF!,'Points Lookup'!$A:$B,2,FALSE)","v":{"$error":"#REF!"}},{"$f":"VLOOKUP(#REF!,'Points Lookup'!$A:$B,2,FALSE)","v":{"$error":"#REF!"}},{"$f":"VLOOKUP(#REF!,'Points Lookup'!$A:$B,2,FALSE)","v":{"$error":"#REF!"}},{"$f":"VLOOKUP(#REF!,'Points Lookup'!$A:$B,2,FALSE)","v":{"$error":"#REF!"}},{"$f":"VLOOKUP(#REF!,'Points Lookup'!$A:$B,2,FALSE)","v":{"$error":"#REF!"}},{"$f":"VLOOKUP(#REF!,'Points Lookup'!$A:$B,2,FALSE)","v":{"$error":"#REF!"}},null,{"$error":"#REF!"},{"$error":"#REF!"},{"$error":"#REF!"},{"$error":"#REF!"},{"$error":"#REF!"},{"$error":"#REF!"},{"$error":"#REF!"},{"$error":"#REF!"}]
[{"$error":"#REF!"},{"$f":"#REF!","v":{"$error":"#REF!"}},{"$f":"IF(ISBLANK(#REF!),\"\",#REF!)","v":{"$error":"#REF!"}},{"$error":"#REF!"},{"$f":"VLOOKUP(#REF!,'Points Lookup'!$A:$B,2,FALSE)","v":{"$error":"#REF!"}},{"$f":"VLOOKUP(#REF!,'Points Lookup'!$A:$B,2,FALSE)","v":{"$error":"#REF!"}},{"$f":"VLOOKUP(#REF!,'Points Lookup'!$A:$B,2,FALSE)","v":{"$error":"#REF!"}},{"$f":"VLOOKUP(#REF!,'Points Lookup'!$A:$B,2,FALSE)","v":{"$error":"#REF!"}},{"$f":"VLOOKUP(#REF!,'Points Lookup'!$A:$B,2,FALSE)","v":{"$error":"#REF!"}},{"$f":"VLOOKUP(#REF!,'Points Lookup'!$A:$B,2,FALSE)","v":{"$error":"#REF!"}},{"$f":"VLOOKUP(#REF!,'Points Lookup'!$A:$B,2,FALSE)","v":{"$error":"#REF!"}},{"$f":"VLOOKUP(#REF!,'Points Lookup'!$A:$B,2,FALSE)","v":{"$error":"#REF!"}},{"$f":"VLOOKUP(#REF!,'Points Lookup'!$A:$B,2,FALSE)","v":{"$error":"#REF!"}},{"$f":"VLOOKUP(#REF!,'Points Lookup'!$A:$B,2,FALSE)","v":{"$error":"#REF!"}},{"$f":"VLOOKUP(#REF!,'Points Lookup'!$A:$B,2,FALSE)","v":{"$error":"#REF!"}},{"$f":"VLOOKUP(#REF!,'Points Lookup'!$A:$B,2,FALSE)","v":{"$error":"#REF!"}},{"$f":"VLOOKUP(#REF!,'Points Lookup'!$A:$B,2,FALSE)","v":{"$error":"#REF!"}},{"$f":"VLOOKUP(#REF!,'Points Lookup'!$A:$B,2,FALSE)","v":{"$error":"#REF!"}},{"$f":"VLOOKUP(#REF!,'Points Lookup'!$A:$B,2,FALSE)","v":{"$error":"#REF!"}},{"$f":"VLOOKUP(#REF!,'Points Lookup'!$A:$B,2,FALSE)","v":{"$error":"#REF!"}},{"$f":"VLOOKUP(#REF!,'Points Lookup'!$A:$B,2,FALSE)","v":{"$error":"#REF!"}},{"$f":"VLOOKUP(#REF!,'Points Lookup'!$A:$B,2,FALSE)","v":{"$error":"#REF!"}},{"$f":"VLOOKUP(#REF!,'Points Lookup'!$A:$B,2,FALSE)","v":{"$error":"#REF!"}},{"$f":"VLOOKUP(#REF!,'Points Lookup'!$A:$B,2,FALSE)","v":{"$error":"#REF!"}},null,{"$error":"#REF!"},{"$error":"#REF!"},{"$error":"#REF!"},{"$error":"#REF!"},{"$error":"#REF!"},{"$error":"#REF!"},{"$error":"#REF!"},{"$error":"#REF!"}]
[{"$error":"#REF!"},{"$f":"#REF!","v":{"$error":"#REF!"}},{"$f":"IF(ISBLANK(#REF!),\"\",#REF!)","v":{"$error":"#REF!"}},{"$error":"#REF!"},{"$f":"VLOOKUP(#REF!,'Points Lookup'!$A:$B,2,FALSE)","v":{"$error":"#REF!"}},{"$f":"VLOOKUP(#REF!,'Points Lookup'!$A:$B,2,FALSE)","v":{"$error":"#REF!"}},{"$f":"VLOOKUP(#REF!,'Points Lookup'!$A:$B,2,FALSE)","v":{"$error":"#REF!"}},{"$f":"VLOOKUP(#REF!,'Points Lookup'!$A:$B,2,FALSE)","v":{"$error":"#REF!"}},{"$f":"VLOOKUP(#REF!,'Points Lookup'!$A:$B,2,FALSE)","v":{"$error":"#REF!"}},{"$f":"VLOOKUP(#REF!,'Points Lookup'!$A:$B,2,FALSE)","v":{"$error":"#REF!"}},{"$f":"VLOOKUP(#REF!,'Points Lookup'!$A:$B,2,FALSE)","v":{"$error":"#REF!"}},{"$f":"VLOOKUP(#REF!,'Points Lookup'!$A:$B,2,FALSE)","v":{"$error":"#REF!"}},{"$f":"VLOOKUP(#REF!,'Points Lookup'!$A:$B,2,FALSE)","v":{"$error":"#REF!"}},{"$f":"VLOOKUP(#REF!,'Points Lookup'!$A:$B,2,FALSE)","v":{"$error":"#REF!"}},{"$f":"VLOOKUP(#REF!,'Points Lookup'!$A:$B,2,FALSE)","v":{"$error":"#REF!"}},{"$f":"VLOOKUP(#REF!,'Points Lookup'!$A:$B,2,FALSE)","v":{"$error":"#REF!"}},{"$f":"VLOOKUP(#REF!,'Points Lookup'!$A:$B,2,FALSE)","v":{"$error":"#REF!"}},{"$f":"VLOOKUP(#REF!,'Points Lookup'!$A:$B,2,FALSE)","v":{"$error":"#REF!"}},{"$f":"VLOOKUP(#REF!,'Points Lookup'!$A:$B,2,FALSE)","v":{"$error":"#REF!"}},{"$f":"VLOOKUP(#REF!,'Points Lookup'!$A:$B,2,FALSE)","v":{"$error":"#REF!"}},{"$f":"VLOOKUP(#REF!,'Points Lookup'!$A:$B,2,FALSE)","v":{"$error":"#REF!"}},{"$f":"VLOOKUP(#REF!,'Points Lookup'!$A:$B,2,FALSE)","v":{"$error":"#REF!"}},{"$f":"VLOOKUP(#REF!,'Points Lookup'!$A:$B,2,FALSE)","v":{"$error":"#REF!"}},{"$f":"VLOOKUP(#REF!,'Points Lookup'!$A:$B,2,FALSE)","v":{"$error":"#REF!"}},null,{"$error":"#REF!"},{"$error":"#REF!"},{"$error":"#REF!"},{"$error":"#REF!"},{"$error":"#REF!"},{"$error":"#REF!"},{"$error":"#REF!"},{"$error":"#REF!"}]
[{"$error":"#REF!"},{"$f":"#REF!","v":{"$error":"#REF!"}},{"$f":"IF(ISBLANK(#REF!),\"\",#REF!)","v":{"$error":"#REF!"}},{"$error":"#REF!"},{"$f":"VLOOKUP(#REF!,'Points Lookup'!$A:$B,2,FALSE)","v":{"$error":"#REF!"}},{"$f":"VLOOKUP(#REF!,'Points Lookup'!$A:$B,2,FALSE)","v":{"$error":"#REF!"}},{"$f":"VLOOKUP(#REF!,'Points Lookup'!$A:$B,2,FALSE)","v":{"$error":"#REF!"}},{"$f":"VLOOKUP(#REF!,'Points Lookup'!$A:$B,2,FALSE)","v":{"$error":"#REF!"}},{"$f":"VLOOKUP(#REF!,'Points Lookup'!$A:$B,2,FALSE)","v":{"$error":"#REF!"}},{"$f":"VLOOKUP(#REF!,'Points Lookup'!$A:$B,2,FALSE)","v":{"$error":"#REF!"}},{"$f":"VLOOKUP(#REF!,'Points Lookup'!$A:$B,2,FALSE)","v":{"$error":"#REF!"}},{"$f":"VLOOKUP(#REF!,'Points Lookup'!$A:$B,2,FALSE)","v":{"$error":"#REF!"}},{"$f":"VLOOKUP(#REF!,'Points Lookup'!$A:$B,2,FALSE)","v":{"$error":"#REF!"}},{"$f":"VLOOKUP(#REF!,'Points Lookup'!$A:$B,2,FALSE)","v":{"$error":"#REF!"}},{"$f":"VLOOKUP(#REF!,'Points Lookup'!$A:$B,2,FALSE)","v":{"$error":"#REF!"}},{"$f":"VLOOKUP(#REF!,'Points Lookup'!$A:$B,2,FALSE)","v":{"$error":"#REF!"}},{"$f":"VLOOKUP(#REF!,'Points Lookup'!$A:$B,2,FALSE)","v":{"$error":"#REF!"}},{"$f":"VLOOKUP(#REF!,'Points Lookup'!$A:$B,2,FALSE)","v":{"$error":"#REF!"}},{"$f":"VLOOKUP(#REF!,'Points Lookup'!$A:$B,2,FALSE)","v":{"$error":"#REF!"}},{"$f":"VLOOKUP(#REF!,'Points Lookup'!$A:$B,2,FALSE)","v":{"$error":"#REF!"}},{"$f":"VLOOKUP(#REF!,'Points Lookup'!$A:$B,2,FALSE)","v":{"$error":"#REF!"}},{"$f":"VLOOKUP(#REF!,'Points Lookup'!$A:$B,2,FALSE)","v":{"$error":"#REF!"}},{"$f":"VLOOKUP(#REF!,'Points Lookup'!$A:$B,2,FALSE)","v":{"$error":"#REF!"}},{"$f":"VLOOKUP(#REF!,'Points Lookup'!$A:$B,2,FALSE)","v":{"$error":"#REF!"}},null,{"$error":"#REF!"},{"$error":"#REF!"},{"$error":"#REF!"},{"$error":"#REF!"},{"$error":"#REF!"},{"$error":"#REF!"},{"$error":"#REF!"},{"$error":"#REF!"}]
[{"$error":"#REF!"},{"$f":"#REF!","v":{"$error":"#REF!"}},{"$f":"IF(ISBLANK(#REF!),\"\",#REF!)","v":{"$error":"#REF!"}},{"$error":"#REF!"},{"$f":"VLOOKUP(#REF!,'Points Lookup'!$A:$B,2,FALSE)","v":{"$error":"#REF!"}},{"$f":"VLOOKUP(#REF!,'Points Lookup'!$A:$B,2,FALSE)","v":{"$error":"#REF!"}},{"$f":"VLOOKUP(#REF!,'Points Lookup'!$A:$B,2,FALSE)","v":{"$error":"#REF!"}},{"$f":"VLOOKUP(#REF!,'Points Lookup'!$A:$B,2,FALSE)","v":{"$error":"#REF!"}},{"$f":"VLOOKUP(#REF!,'Points Lookup'!$A:$B,2,FALSE)","v":{"$error":"#REF!"}},{"$f":"VLOOKUP(#REF!,'Points Lookup'!$A:$B,2,FALSE)","v":{"$error":"#REF!"}},{"$f":"VLOOKUP(#REF!,'Points Lookup'!$A:$B,2,FALSE)","v":{"$error":"#REF!"}},{"$f":"VLOOKUP(#REF!,'Points Lookup'!$A:$B,2,FALSE)","v":{"$error":"#REF!"}},{"$f":"VLOOKUP(#REF!,'Points Lookup'!$A:$B,2,FALSE)","v":{"$error":"#REF!"}},{"$f":"VLOOKUP(#REF!,'Points Lookup'!$A:$B,2,FALSE)","v":{"$error":"#REF!"}},{"$f":"VLOOKUP(#REF!,'Points Lookup'!$A:$B,2,FALSE)","v":{"$error":"#REF!"}},{"$f":"VLOOKUP(#REF!,'Points Lookup'!$A:$B,2,FALSE)","v":{"$error":"#REF!"}},{"$f":"VLOOKUP(#REF!,'Points Lookup'!$A:$B,2,FALSE)","v":{"$error":"#REF!"}},{"$f":"VLOOKUP(#REF!,'Points Lookup'!$A:$B,2,FALSE)","v":{"$error":"#REF!"}},{"$f":"VLOOKUP(#REF!,'Points Lookup'!$A:$B,2,FALSE)","v":{"$error":"#REF!"}},{"$f":"VLOOKUP(#REF!,'Points Lookup'!$A:$B,2,FALSE)","v":{"$error":"#REF!"}},{"$f":"VLOOKUP(#REF!,'Points Lookup'!$A:$B,2,FALSE)","v":{"$error":"#REF!"}},{"$f":"VLOOKUP(#REF!,'Points Lookup'!$A:$B,2,FALSE)","v":{"$error":"#REF!"}},{"$f":"VLOOKUP(#REF!,'Points Lookup'!$A:$B,2,FALSE)","v":{"$error":"#REF!"}},{"$f":"VLOOKUP(#REF!,'Points Lookup'!$A:$B,2,FALSE)","v":{"$error":"#REF!"}},null,{"$error":"#REF!"},{"$error":"#REF!"},{"$error":"#REF!"},{"$error":"#REF!"},{"$error":"#REF!"},{"$error":"#REF!"},{"$error":"#REF!"},{"$error":"#REF!"}]
[{"$error":"#REF!"},{"$f":"#REF!","v":{"$error":"#REF!"}},{"$f":"IF(ISBLANK(#REF!),\"\",#REF!)","v":{"$error":"#REF!"}},{"$error":"#REF!"},{"$f":"VLOOKUP(#REF!,'Points Lookup'!$A:$B,2,FALSE)","v":{"$error":"#REF!"}},{"$f":"VLOOKUP(#REF!,'Points Lookup'!$A:$B,2,FALSE)","v":{"$error":"#REF!"}},{"$f":"VLOOKUP(#REF!,'Points Lookup'!$A:$B,2,FALSE)","v":{"$error":"#REF!"}},{"$f":"VLOOKUP(#REF!,'Points Lookup'!$A:$B,2,FALSE)","v":{"$error":"#REF!"}},{"$f":"VLOOKUP(#REF!,'Points Lookup'!$A:$B,2,FALSE)","v":{"$error":"#REF!"}},{"$f":"VLOOKUP(#REF!,'Points Lookup'!$A:$B,2,FALSE)","v":{"$error":"#REF!"}},{"$f":"VLOOKUP(#REF!,'Points Lookup'!$A:$B,2,FALSE)","v":{"$error":"#REF!"}},{"$f":"VLOOKUP(#REF!,'Points Lookup'!$A:$B,2,FALSE)","v":{"$error":"#REF!"}},{"$f":"VLOOKUP(#REF!,'Points Lookup'!$A:$B,2,FALSE)","v":{"$error":"#REF!"}},{"$f":"VLOOKUP(#REF!,'Points Lookup'!$A:$B,2,FALSE)","v":{"$error":"#REF!"}},{"$f":"VLOOKUP(#REF!,'Points Lookup'!$A:$B,2,FALSE)","v":{"$error":"#REF!"}},{"$f":"VLOOKUP(#REF!,'Points Lookup'!$A:$B,2,FALSE)","v":{"$error":"#REF!"}},{"$f":"VLOOKUP(#REF!,'Points Lookup'!$A:$B,2,FALSE)","v":{"$error":"#REF!"}},{"$f":"VLOOKUP(#REF!,'Points Lookup'!$A:$B,2,FALSE)","v":{"$error":"#REF!"}},{"$f":"VLOOKUP(#REF!,'Points Lookup'!$A:$B,2,FALSE)","v":{"$error":"#REF!"}},{"$f":"VLOOKUP(#REF!,'Points Lookup'!$A:$B,2,FALSE)","v":{"$error":"#REF!"}},{"$f":"VLOOKUP(#REF!,'Points Lookup'!$A:$B,2,FALSE)","v":{"$error":"#REF!"}},{"$f":"VLOOKUP(#REF!,'Points Lookup'!$A:$B,2,FALSE)","v":{"$error":"#REF!"}},{"$f":"VLOOKUP(#REF!,'Points Lookup'!$A:$B,2,FALSE)","v":{"$error":"#REF!"}},{"$f":"VLOOKUP(#REF!,'Points Lookup'!$A:$B,2,FALSE)","v":{"$error":"#REF!"}},null,{"$f":"LARGE($E152:$X152,Z$1)","v":{"$error":"#REF!"}},{"$error":"#REF!"},{"$error":"#REF!"},{"$error":"#REF!"},{"$error":"#REF!"},{"$error":"#REF!"},{"$error":"#REF!"},{"$error":"#REF!"}]
[{"$error":"#REF!"},{"$f":"#REF!","v":{"$error":"#REF!"}},{"$f":"IF(ISBLANK(#REF!),\"\",#REF!)","v":{"$error":"#REF!"}},{"$error":"#REF!"},{"$f":"VLOOKUP(#REF!,'Points Lookup'!$A:$B,2,FALSE)","v":{"$error":"#REF!"}},{"$f":"VLOOKUP(#REF!,'Points Lookup'!$A:$B,2,FALSE)","v":{"$error":"#REF!"}},{"$f":"VLOOKUP(#REF!,'Points Lookup'!$A:$B,2,FALSE)","v":{"$error":"#REF!"}},{"$f":"VLOOKUP(#REF!,'Points Lookup'!$A:$B,2,FALSE)","v":{"$error":"#REF!"}},{"$f":"VLOOKUP(#REF!,'Points Lookup'!$A:$B,2,FALSE)","v":{"$error":"#REF!"}},{"$f":"VLOOKUP(#REF!,'Points Lookup'!$A:$B,2,FALSE)","v":{"$error":"#REF!"}},{"$f":"VLOOKUP(#REF!,'Points Lookup'!$A:$B,2,FALSE)","v":{"$error":"#REF!"}},{"$f":"VLOOKUP(#REF!,'Points Lookup'!$A:$B,2,FALSE)","v":{"$error":"#REF!"}},{"$f":"VLOOKUP(#REF!,'Points Lookup'!$A:$B,2,FALSE)","v":{"$error":"#REF!"}},{"$f":"VLOOKUP(#REF!,'Points Lookup'!$A:$B,2,FALSE)","v":{"$error":"#REF!"}},{"$f":"VLOOKUP(#REF!,'Points Lookup'!$A:$B,2,FALSE)","v":{"$error":"#REF!"}},{"$f":"VLOOKUP(#REF!,'Points Lookup'!$A:$B,2,FALSE)","v":{"$error":"#REF!"}},{"$f":"VLOOKUP(#REF!,'Points Lookup'!$A:$B,2,FALSE)","v":{"$error":"#REF!"}},{"$f":"VLOOKUP(#REF!,'Points Lookup'!$A:$B,2,FALSE)","v":{"$error":"#REF!"}},{"$f":"VLOOKUP(#REF!,'Points Lookup'!$A:$B,2,FALSE)","v":{"$error":"#REF!"}},{"$f":"VLOOKUP(#REF!,'Points Lookup'!$A:$B,2,FALSE)","v":{"$error":"#REF!"}},{"$f":"VLOOKUP(#REF!,'Points Lookup'!$A:$B,2,FALSE)","v":{"$error":"#REF!"}},{"$f":"VLOOKUP(#REF!,'Points Lookup'!$A:$B,2,FALSE)","v":{"$error":"#REF!"}},{"$f":"VLOOKUP(#REF!,'Points Lookup'!$A:$B,2,FALSE)","v":{"$error":"#REF!"}},{"$f":"VLOOKUP(#REF!,'Points Lookup'!$A:$B,2,FALSE)","v":{"$error":"#REF!"}},null,{"$error":"#REF!"},{"$error":"#REF!"},{"$error":"#REF!"},{"$error":"#REF!"},{"$error":"#REF!"},{"$error":"#REF!"},{"$error":"#REF!"},{"$error":"#REF!"}]
[{"$error":"#REF!"},{"$f":"#REF!","v":{"$error":"#REF!"}},{"$f":"IF(ISBLANK(#REF!),\"\",#REF!)","v":{"$error":"#REF!"}},{"$error":"#REF!"},{"$f":"VLOOKUP(#REF!,'Points Lookup'!$A:$B,2,FALSE)","v":{"$error":"#REF!"}},{"$f":"VLOOKUP(#REF!,'Points Lookup'!$A:$B,2,FALSE)","v":{"$error":"#REF!"}},{"$f":"VLOOKUP(#REF!,'Points Lookup'!$A:$B,2,FALSE)","v":{"$error":"#REF!"}},{"$f":"VLOOKUP(#REF!,'Points Lookup'!$A:$B,2,FALSE)","v":{"$error":"#REF!"}},{"$f":"VLOOKUP(#REF!,'Points Lookup'!$A:$B,2,FALSE)","v":{"$error":"#REF!"}},{"$f":"VLOOKUP(#REF!,'Points Lookup'!$A:$B,2,FALSE)","v":{"$error":"#REF!"}},{"$f":"VLOOKUP(#REF!,'Points Lookup'!$A:$B,2,FALSE)","v":{"$error":"#REF!"}},{"$f":"VLOOKUP(#REF!,'Points Lookup'!$A:$B,2,FALSE)","v":{"$error":"#REF!"}},{"$f":"VLOOKUP(#REF!,'Points Lookup'!$A:$B,2,FALSE)","v":{"$error":"#REF!"}},{"$f":"VLOOKUP(#REF!,'Points Lookup'!$A:$B,2,FALSE)","v":{"$error":"#REF!"}},{"$f":"VLOOKUP(#REF!,'Points Lookup'!$A:$B,2,FALSE)","v":{"$error":"#REF!"}},{"$f":"VLOOKUP(#REF!,'Points Lookup'!$A:$B,2,FALSE)","v":{"$error":"#REF!"}},{"$f":"VLOOKUP(#REF!,'Points Lookup'!$A:$B,2,FALSE)","v":{"$error":"#REF!"}},{"$f":"VLOOKUP(#REF!,'Points Lookup'!$A:$B,2,FALSE)","v":{"$error":"#REF!"}},{"$f":"VLOOKUP(#REF!,'Points Lookup'!$A:$B,2,FALSE)","v":{"$error":"#REF!"}},{"$f":"VLOOKUP(#REF!,'Points Lookup'!$A:$B,2,FALSE)","v":{"$error":"#REF!"}},{"$f":"VLOOKUP(#REF!,'Points Lookup'!$A:$B,2,FALSE)","v":{"$error":"#REF!"}},{"$f":"VLOOKUP(#REF!,'Points Lookup'!$A:$B,2,FALSE)","v":{"$error":"#REF!"}},{"$f":"VLOOKUP(#REF!,'Points Lookup'!$A:$B,2,FALSE)","v":{"$error":"#REF!"}},{"$f":"VLOOKUP(#REF!,'Points Lookup'!$A:$B,2,FALSE)","v":{"$error":"#REF!"}},null,{"$error":"#REF!"},{"$error":"#REF!"},{"$error":"#REF!"},{"$error":"#REF!"},{"$error":"#REF!"},{"$error":"#REF!"},{"$error":"#REF!"},{"$error":"#REF!"}]
[{"$error":"#REF!"},{"$f":"#REF!","v":{"$error":"#REF!"}},{"$f":"IF(ISBLANK(#REF!),\"\",#REF!)","v":{"$error":"#REF!"}},{"$error":"#REF!"},{"$f":"VLOOKUP(#REF!,'Points Lookup'!$A:$B,2,FALSE)","v":{"$error":"#REF!"}},{"$f":"VLOOKUP(#REF!,'Points Lookup'!$A:$B,2,FALSE)","v":{"$error":"#REF!"}},{"$f":"VLOOKUP(#REF!,'Points Lookup'!$A:$B,2,FALSE)","v":{"$error":"#REF!"}},{"$f":"VLOOKUP(#REF!,'Points Lookup'!$A:$B,2,FALSE)","v":{"$error":"#REF!"}},{"$f":"VLOOKUP(#REF!,'Points Lookup'!$A:$B,2,FALSE)","v":{"$error":"#REF!"}},{"$f":"VLOOKUP(#REF!,'Points Lookup'!$A:$B,2,FALSE)","v":{"$error":"#REF!"}},{"$f":"VLOOKUP(#REF!,'Points Lookup'!$A:$B,2,FALSE)","v":{"$error":"#REF!"}},{"$f":"VLOOKUP(#REF!,'Points Lookup'!$A:$B,2,FALSE)","v":{"$error":"#REF!"}},{"$f":"VLOOKUP(#REF!,'Points Lookup'!$A:$B,2,FALSE)","v":{"$error":"#REF!"}},{"$f":"VLOOKUP(#REF!,'Points Lookup'!$A:$B,2,FALSE)","v":{"$error":"#REF!"}},{"$f":"VLOOKUP(#REF!,'Points Lookup'!$A:$B,2,FALSE)","v":{"$error":"#REF!"}},{"$f":"VLOOKUP(#REF!,'Points Lookup'!$A:$B,2,FALSE)","v":{"$error":"#REF!"}},{"$f":"VLOOKUP(#REF!,'Points Lookup'!$A:$B,2,FALSE)","v":{"$error":"#REF!"}},{"$f":"VLOOKUP(#REF!,'Points Lookup'!$A:$B,2,FALSE)","v":{"$error":"#REF!"}},{"$f":"VLOOKUP(#REF!,'Points Lookup'!$A:$B,2,FALSE)","v":{"$error":"#REF!"}},{"$f":"VLOOKUP(#REF!,'Points Lookup'!$A:$B,2,FALSE)","v":{"$error":"#REF!"}},{"$f":"VLOOKUP(#REF!,'Points Lookup'!$A:$B,2,FALSE)","v":{"$error":"#REF!"}},{"$f":"VLOOKUP(#REF!,'Points Lookup'!$A:$B,2,FALSE)","v":{"$error":"#REF!"}},{"$f":"VLOOKUP(#REF!,'Points Lookup'!$A:$B,2,FALSE)","v":{"$error":"#REF!"}},{"$f":"VLOOKUP(#REF!,'Points Lookup'!$A:$B,2,FALSE)","v":{"$error":"#REF!"}},null,{"$error":"#REF!"},{"$error":"#REF!"},{"$error":"#REF!"},{"$error":"#REF!"},{"$error":"#REF!"},{"$error":"#REF!"},{"$error":"#REF!"},{"$error":"#REF!"}]
[{"$error":"#REF!"},{"$f":"#REF!","v":{"$error":"#REF!"}},{"$f":"IF(ISBLANK(#REF!),\"\",#REF!)","v":{"$error":"#REF!"}},{"$error":"#REF!"},{"$f":"VLOOKUP(#REF!,'Points Lookup'!$A:$B,2,FALSE)","v":{"$error":"#REF!"}},{"$f":"VLOOKUP(#REF!,'Points Lookup'!$A:$B,2,FALSE)","v":{"$error":"#REF!"}},{"$f":"VLOOKUP(#REF!,'Points Lookup'!$A:$B,2,FALSE)","v":{"$error":"#REF!"}},{"$f":"VLOOKUP(#REF!,'Points Lookup'!$A:$B,2,FALSE)","v":{"$error":"#REF!"}},{"$f":"VLOOKUP(#REF!,'Points Lookup'!$A:$B,2,FALSE)","v":{"$error":"#REF!"}},{"$f":"VLOOKUP(#REF!,'Points Lookup'!$A:$B,2,FALSE)","v":{"$error":"#REF!"}},{"$f":"VLOOKUP(#REF!,'Points Lookup'!$A:$B,2,FALSE)","v":{"$error":"#REF!"}},{"$f":"VLOOKUP(#REF!,'Points Lookup'!$A:$B,2,FALSE)","v":{"$error":"#REF!"}},{"$f":"VLOOKUP(#REF!,'Points Lookup'!$A:$B,2,FALSE)","v":{"$error":"#REF!"}},{"$f":"VLOOKUP(#REF!,'Points Lookup'!$A:$B,2,FALSE)","v":{"$error":"#REF!"}},{"$f":"VLOOKUP(#REF!,'Points Lookup'!$A:$B,2,FALSE)","v":{"$error":"#REF!"}},{"$f":"VLOOKUP(#REF!,'Points Lookup'!$A:$B,2,FALSE)","v":{"$error":"#REF!"}},{"$f":"VLOOKUP(#REF!,'Points Lookup'!$A:$B,2,FALSE)","v":{"$error":"#REF!"}},{"$f":"VLOOKUP(#REF!,'Points Lookup'!$A:$B,2,FALSE)","v":{"$error":"#REF!"}},{"$f":"VLOOKUP(#REF!,'Points Lookup'!$A:$B,2,FALSE)","v":{"$error":"#REF!"}},{"$f":"VLOOKUP(#REF!,'Points Lookup'!$A:$B,2,FALSE)","v":{"$error":"#REF!"}},{"$f":"VLOOKUP(#REF!,'Points Lookup'!$A:$B,2,FALSE)","v":{"$error":"#REF!"}},{"$f":"VLOOKUP(#REF!,'Points Lookup'!$A:$B,2,FALSE)","v":{"$error":"#REF!"}},{"$f":"VLOOKUP(#REF!,'Points Lookup'!$A:$B,2,FALSE)","v":{"$error":"#REF!"}},{"$f":"VLOOKUP(#REF!,'Points Lookup'!$A:$B,2,FALSE)","v":{"$error":"#REF!"}},null,{"$error":"#REF!"},{"$error":"#REF!"},{"$error":"#REF!"},{"$error":"#REF!"},{"$error":"#REF!"},{"$error":"#REF!"},{"$error":"#REF!"},{"$error":"#REF!"}]
[{"$error":"#REF!"},{"$f":"#REF!","v":{"$error":"#REF!"}},{"$f":"IF(ISBLANK(#REF!),\"\",#REF!)","v":{"$error":"#REF!"}},{"$error":"#REF!"},{"$f":"VLOOKUP(#REF!,'Points Lookup'!$A:$B,2,FALSE)","v":{"$error":"#REF!"}},{"$f":"VLOOKUP(#REF!,'Points Lookup'!$A:$B,2,FALSE)","v":{"$error":"#REF!"}},{"$f":"VLOOKUP(#REF!,'Points Lookup'!$A:$B,2,FALSE)","v":{"$error":"#REF!"}},{"$f":"VLOOKUP(#REF!,'Points Lookup'!$A:$B,2,FALSE)","v":{"$error":"#REF!"}},{"$f":"VLOOKUP(#REF!,'Points Lookup'!$A:$B,2,FALSE)","v":{"$error":"#REF!"}},{"$f":"VLOOKUP(#REF!,'Points Lookup'!$A:$B,2,FALSE)","v":{"$error":"#REF!"}},{"$f":"VLOOKUP(#REF!,'Points Lookup'!$A:$B,2,FALSE)","v":{"$error":"#REF!"}},{"$f":"VLOOKUP(#REF!,'Points Lookup'!$A:$B,2,FALSE)","v":{"$error":"#REF!"}},{"$f":"VLOOKUP(#REF!,'Points Lookup'!$A:$B,2,FALSE)","v":{"$error":"#REF!"}},{"$f":"VLOOKUP(#REF!,'Points Lookup'!$A:$B,2,FALSE)","v":{"$error":"#REF!"}},{"$f":"VLOOKUP(#REF!,'Points Lookup'!$A:$B,2,FALSE)","v":{"$error":"#REF!"}},{"$f":"VLOOKUP(#REF!,'Points Lookup'!$A:$B,2,FALSE)","v":{"$error":"#REF!"}},{"$f":"VLOOKUP(#REF!,'Points Lookup'!$A:$B,2,FALSE)","v":{"$error":"#REF!"}},{"$f":"VLOOKUP(#REF!,'Points Lookup'!$A:$B,2,FALSE)","v":{"$error":"#REF!"}},{"$f":"VLOOKUP(#REF!,'Points Lookup'!$A:$B,2,FALSE)","v":{"$error":"#REF!"}},{"$f":"VLOOKUP(#REF!,'Points Lookup'!$A:$B,2,FALSE)","v":{"$error":"#REF!"}},{"$f":"VLOOKUP(#REF!,'Points Lookup'!$A:$B,2,FALSE)","v":{"$error":"#REF!"}},{"$f":"VLOOKUP(#REF!,'Points Lookup'!$A:$B,2,FALSE)","v":{"$error":"#REF!"}},{"$f":"VLOOKUP(#REF!,'Points Lookup'!$A:$B,2,FALSE)","v":{"$error":"#REF!"}},{"$f":"VLOOKUP(#REF!,'Points Lookup'!$A:$B,2,FALSE)","v":{"$error":"#REF!"}},null,{"$error":"#REF!"},{"$error":"#REF!"},{"$error":"#REF!"},{"$error":"#REF!"},{"$error":"#REF!"},{"$error":"#REF!"},{"$error":"#REF!"},{"$error":"#REF!"}]
[{"$error":"#REF!"},{"$f":"#REF!","v":{"$error":"#REF!"}},{"$f":"IF(ISBLANK(#REF!),\"\",#REF!)","v":{"$error":"#REF!"}},{"$error":"#REF!"},{"$f":"VLOOKUP(#REF!,'Points Lookup'!$A:$B,2,FALSE)","v":{"$error":"#REF!"}},{"$f":"VLOOKUP(#REF!,'Points Lookup'!$A:$B,2,FALSE)","v":{"$error":"#REF!"}},{"$f":"VLOOKUP(#REF!,'Points Lookup'!$A:$B,2,FALSE)","v":{"$error":"#REF!"}},{"$f":"VLOOKUP(#REF!,'Points Lookup'!$A:$B,2,FALSE)","v":{"$error":"#REF!"}},{"$f":"VLOOKUP(#REF!,'Points Lookup'!$A:$B,2,FALSE)","v":{"$error":"#REF!"}},{"$f":"VLOOKUP(#REF!,'Points Lookup'!$A:$B,2,FALSE)","v":{"$error":"#REF!"}},{"$f":"VLOOKUP(#REF!,'Points Lookup'!$A:$B,2,FALSE)","v":{"$error":"#REF!"}},{"$f":"VLOOKUP(#REF!,'Points Lookup'!$A:$B,2,FALSE)","v":{"$error":"#REF!"}},{"$f":"VLOOKUP(#REF!,'Points Lookup'!$A:$B,2,FALSE)","v":{"$error":"#REF!"}},{"$f":"VLOOKUP(#REF!,'Points Lookup'!$A:$B,2,FALSE)","v":{"$error":"#REF!"}},{"$f":"VLOOKUP(#REF!,'Points Lookup'!$A:$B,2,FALSE)","v":{"$error":"#REF!"}},{"$f":"VLOOKUP(#REF!,'Points Lookup'!$A:$B,2,FALSE)","v":{"$error":"#REF!"}},{"$f":"VLOOKUP(#REF!,'Points Lookup'!$A:$B,2,FALSE)","v":{"$error":"#REF!"}},{"$f":"VLOOKUP(#REF!,'Points Lookup'!$A:$B,2,FALSE)","v":{"$error":"#REF!"}},{"$f":"VLOOKUP(#REF!,'Points Lookup'!$A:$B,2,FALSE)","v":{"$error":"#REF!"}},{"$f":"VLOOKUP(#REF!,'Points Lookup'!$A:$B,2,FALSE)","v":{"$error":"#REF!"}},{"$f":"VLOOKUP(#REF!,'Points Lookup'!$A:$B,2,FALSE)","v":{"$error":"#REF!"}},{"$f":"VLOOKUP(#REF!,'Points Lookup'!$A:$B,2,FALSE)","v":{"$error":"#REF!"}},{"$f":"VLOOKUP(#REF!,'Points Lookup'!$A:$B,2,FALSE)","v":{"$error":"#REF!"}},{"$f":"VLOOKUP(#REF!,'Points Lookup'!$A:$B,2,FALSE)","v":{"$error":"#REF!"}},null,{"$error":"#REF!"},{"$error":"#REF!"},{"$error":"#REF!"},{"$error":"#REF!"},{"$error":"#REF!"},{"$error":"#REF!"},{"$error":"#REF!"},{"$error":"#REF!"}]
[{"$error":"#REF!"},{"$f":"#REF!","v":{"$error":"#REF!"}},{"$f":"IF(ISBLANK(#REF!),\"\",#REF!)","v":{"$error":"#REF!"}},{"$error":"#REF!"},{"$f":"VLOOKUP(#REF!,'Points Lookup'!$A:$B,2,FALSE)","v":{"$error":"#REF!"}},{"$f":"VLOOKUP(#REF!,'Points Lookup'!$A:$B,2,FALSE)","v":{"$error":"#REF!"}},{"$f":"VLOOKUP(#REF!,'Points Lookup'!$A:$B,2,FALSE)","v":{"$error":"#REF!"}},{"$f":"VLOOKUP(#REF!,'Points Lookup'!$A:$B,2,FALSE)","v":{"$error":"#REF!"}},{"$f":"VLOOKUP(#REF!,'Points Lookup'!$A:$B,2,FALSE)","v":{"$error":"#REF!"}},{"$f":"VLOOKUP(#REF!,'Points Lookup'!$A:$B,2,FALSE)","v":{"$error":"#REF!"}},{"$f":"VLOOKUP(#REF!,'Points Lookup'!$A:$B,2,FALSE)","v":{"$error":"#REF!"}},{"$f":"VLOOKUP(#REF!,'Points Lookup'!$A:$B,2,FALSE)","v":{"$error":"#REF!"}},{"$f":"VLOOKUP(#REF!,'Points Lookup'!$A:$B,2,FALSE)","v":{"$error":"#REF!"}},{"$f":"VLOOKUP(#REF!,'Points Lookup'!$A:$B,2,FALSE)","v":{"$error":"#REF!"}},{"$f":"VLOOKUP(#REF!,'Points Lookup'!$A:$B,2,FALSE)","v":{"$error":"#REF!"}},{"$f":"VLOOKUP(#REF!,'Points Lookup'!$A:$B,2,FALSE)","v":{"$error":"#REF!"}},{"$f":"VLOOKUP(#REF!,'Points Lookup'!$A:$B,2,FALSE)","v":{"$error":"#REF!"}},{"$f":"VLOOKUP(#REF!,'Points Lookup'!$A:$B,2,FALSE)","v":{"$error":"#REF!"}},{"$f":"VLOOKUP(#REF!,'Points Lookup'!$A:$B,2,FALSE)","v":{"$error":"#REF!"}},{"$f":"VLOOKUP(#REF!,'Points Lookup'!$A:$B,2,FALSE)","v":{"$error":"#REF!"}},{"$f":"VLOOKUP(#REF!,'Points Lookup'!$A:$B,2,FALSE)","v":{"$error":"#REF!"}},{"$f":"VLOOKUP(#REF!,'Points Lookup'!$A:$B,2,FALSE)","v":{"$error":"#REF!"}},{"$f":"VLOOKUP(#REF!,'Points Lookup'!$A:$B,2,FALSE)","v":{"$error":"#REF!"}},{"$f":"VLOOKUP(#REF!,'Points Lookup'!$A:$B,2,FALSE)","v":{"$error":"#REF!"}},null,{"$error":"#REF!"},{"$error":"#REF!"},{"$error":"#REF!"},{"$error":"#REF!"},{"$error":"#REF!"},{"$error":"#REF!"},{"$error":"#REF!"},{"$error":"#REF!"}]
[{"$error":"#REF!"},{"$f":"#REF!","v":{"$error":"#REF!"}},{"$f":"IF(ISBLANK(#REF!),\"\",#REF!)","v":{"$error":"#REF!"}},{"$error":"#REF!"},{"$f":"VLOOKUP(#REF!,'Points Lookup'!$A:$B,2,FALSE)","v":{"$error":"#REF!"}},{"$f":"VLOOKUP(#REF!,'Points Lookup'!$A:$B,2,FALSE)","v":{"$error":"#REF!"}},{"$f":"VLOOKUP(#REF!,'Points Lookup'!$A:$B,2,FALSE)","v":{"$error":"#REF!"}},{"$f":"VLOOKUP(#REF!,'Points Lookup'!$A:$B,2,FALSE)","v":{"$error":"#REF!"}},{"$f":"VLOOKUP(#REF!,'Points Lookup'!$A:$B,2,FALSE)","v":{"$error":"#REF!"}},{"$f":"VLOOKUP(#REF!,'Points Lookup'!$A:$B,2,FALSE)","v":{"$error":"#REF!"}},{"$f":"VLOOKUP(#REF!,'Points Lookup'!$A:$B,2,FALSE)","v":{"$error":"#REF!"}},{"$f":"VLOOKUP(#REF!,'Points Lookup'!$A:$B,2,FALSE)","v":{"$error":"#REF!"}},{"$f":"VLOOKUP(#REF!,'Points Lookup'!$A:$B,2,FALSE)","v":{"$error":"#REF!"}},{"$f":"VLOOKUP(#REF!,'Points Lookup'!$A:$B,2,FALSE)","v":{"$error":"#REF!"}},{"$f":"VLOOKUP(#REF!,'Points Lookup'!$A:$B,2,FALSE)","v":{"$error":"#REF!"}},{"$f":"VLOOKUP(#REF!,'Points Lookup'!$A:$B,2,FALSE)","v":{"$error":"#REF!"}},{"$f":"VLOOKUP(#REF!,'Points Lookup'!$A:$B,2,FALSE)","v":{"$error":"#REF!"}},{"$f":"VLOOKUP(#REF!,'Points Lookup'!$A:$B,2,FALSE)","v":{"$error":"#REF!"}},{"$f":"VLOOKUP(#REF!,'Points Lookup'!$A:$B,2,FALSE)","v":{"$error":"#REF!"}},{"$f":"VLOOKUP(#REF!,'Points Lookup'!$A:$B,2,FALSE)","v":{"$error":"#REF!"}},{"$f":"VLOOKUP(#REF!,'Points Lookup'!$A:$B,2,FALSE)","v":{"$error":"#REF!"}},{"$f":"VLOOKUP(#REF!,'Points Lookup'!$A:$B,2,FALSE)","v":{"$error":"#REF!"}},{"$f":"VLOOKUP(#REF!,'Points Lookup'!$A:$B,2,FALSE)","v":{"$error":"#REF!"}},{"$f":"VLOOKUP(#REF!,'Points Lookup'!$A:$B,2,FALSE)","v":{"$error":"#REF!"}},null,{"$error":"#REF!"},{"$error":"#REF!"},{"$error":"#REF!"},{"$error":"#REF!"},{"$error":"#REF!"},{"$error":"#REF!"},{"$error":"#REF!"},{"$error":"#REF!"}]
[{"$error":"#REF!"},{"$f":"#REF!","v":{"$error":"#REF!"}},{"$f":"IF(ISBLANK(#REF!),\"\",#REF!)","v":{"$error":"#REF!"}},{"$error":"#REF!"},{"$f":"VLOOKUP(#REF!,'Points Lookup'!$A:$B,2,FALSE)","v":{"$error":"#REF!"}},{"$f":"VLOOKUP(#REF!,'Points Lookup'!$A:$B,2,FALSE)","v":{"$error":"#REF!"}},{"$f":"VLOOKUP(#REF!,'Points Lookup'!$A:$B,2,FALSE)","v":{"$error":"#REF!"}},{"$f":"VLOOKUP(#REF!,'Points Lookup'!$A:$B,2,FALSE)","v":{"$error":"#REF!"}},{"$f":"VLOOKUP(#REF!,'Points Lookup'!$A:$B,2,FALSE)","v":{"$error":"#REF!"}},{"$f":"VLOOKUP(#REF!,'Points Lookup'!$A:$B,2,FALSE)","v":{"$error":"#REF!"}},{"$f":"VLOOKUP(#REF!,'Points Lookup'!$A:$B,2,FALSE)","v":{"$error":"#REF!"}},{"$f":"VLOOKUP(#REF!,'Points Lookup'!$A:$B,2,FALSE)","v":{"$error":"#REF!"}},{"$f":"VLOOKUP(#REF!,'Points Lookup'!$A:$B,2,FALSE)","v":{"$error":"#REF!"}},{"$f":"VLOOKUP(#REF!,'Points Lookup'!$A:$B,2,FALSE)","v":{"$error":"#REF!"}},{"$f":"VLOOKUP(#REF!,'Points Lookup'!$A:$B,2,FALSE)","v":{"$error":"#REF!"}},{"$f":"VLOOKUP(#REF!,'Points Lookup'!$A:$B,2,FALSE)","v":{"$error":"#REF!"}},{"$f":"VLOOKUP(#REF!,'Points Lookup'!$A:$B,2,FALSE)","v":{"$error":"#REF!"}},{"$f":"VLOOKUP(#REF!,'Points Lookup'!$A:$B,2,FALSE)","v":{"$error":"#REF!"}},{"$f":"VLOOKUP(#REF!,'Points Lookup'!$A:$B,2,FALSE)","v":{"$error":"#REF!"}},{"$f":"VLOOKUP(#REF!,'Points Lookup'!$A:$B,2,FALSE)","v":{"$error":"#REF!"}},{"$f":"VLOOKUP(#REF!,'Points Lookup'!$A:$B,2,FALSE)","v":{"$error":"#REF!"}},{"$f":"VLOOKUP(#REF!,'Points Lookup'!$A:$B,2,FALSE)","v":{"$error":"#REF!"}},{"$f":"VLOOKUP(#REF!,'Points Lookup'!$A:$B,2,FALSE)","v":{"$error":"#REF!"}},{"$f":"VLOOKUP(#REF!,'Points Lookup'!$A:$B,2,FALSE)","v":{"$error":"#REF!"}},null,{"$error":"#REF!"},{"$error":"#REF!"},{"$error":"#REF!"},{"$error":"#REF!"},{"$error":"#REF!"},{"$error":"#REF!"},{"$error":"#REF!"},{"$error":"#REF!"}]
[{"$f":"RANK(D162,D:D)","v":{"$error":"#REF!"}},{"$f":"#REF!","v":{"$error":"#REF!"}},{"$f":"IF(ISBLANK(#REF!),\"\",#REF!)","v":{"$error":"#REF!"}},{"$error":"#REF!"},{"$f":"VLOOKUP(#REF!,'Points Lookup'!$A:$B,2,FALSE)","v":{"$error":"#REF!"}},{"$f":"VLOOKUP(#REF!,'Points Lookup'!$A:$B,2,FALSE)","v":{"$error":"#REF!"}},{"$f":"VLOOKUP(#REF!,'Points Lookup'!$A:$B,2,FALSE)","v":{"$error":"#REF!"}},{"$f":"VLOOKUP(#REF!,'Points Lookup'!$A:$B,2,FALSE)","v":{"$error":"#REF!"}},{"$f":"VLOOKUP(#REF!,'Points Lookup'!$A:$B,2,FALSE)","v":{"$error":"#REF!"}},{"$f":"VLOOKUP(#REF!,'Points Lookup'!$A:$B,2,FALSE)","v":{"$error":"#REF!"}},{"$f":"VLOOKUP(#REF!,'Points Lookup'!$A:$B,2,FALSE)","v":{"$error":"#REF!"}},{"$f":"VLOOKUP(#REF!,'Points Lookup'!$A:$B,2,FALSE)","v":{"$error":"#REF!"}},{"$f":"VLOOKUP(#REF!,'Points Lookup'!$A:$B,2,FALSE)","v":{"$error":"#REF!"}},{"$f":"VLOOKUP(#REF!,'Points Lookup'!$A:$B,2,FALSE)","v":{"$error":"#REF!"}},{"$f":"VLOOKUP(#REF!,'Points Lookup'!$A:$B,2,FALSE)","v":{"$error":"#REF!"}},{"$f":"VLOOKUP(#REF!,'Points Lookup'!$A:$B,2,FALSE)","v":{"$error":"#REF!"}},{"$f":"VLOOKUP(#REF!,'Points Lookup'!$A:$B,2,FALSE)","v":{"$error":"#REF!"}},{"$f":"VLOOKUP(#REF!,'Points Lookup'!$A:$B,2,FALSE)","v":{"$error":"#REF!"}},{"$f":"VLOOKUP(#REF!,'Points Lookup'!$A:$B,2,FALSE)","v":{"$error":"#REF!"}},{"$f":"VLOOKUP(#REF!,'Points Lookup'!$A:$B,2,FALSE)","v":{"$error":"#REF!"}},{"$f":"VLOOKUP(#REF!,'Points Lookup'!$A:$B,2,FALSE)","v":{"$error":"#REF!"}},{"$f":"VLOOKUP(#REF!,'Points Lookup'!$A:$B,2,FALSE)","v":{"$error":"#REF!"}},{"$f":"VLOOKUP(#REF!,'Points Lookup'!$A:$B,2,FALSE)","v":{"$error":"#REF!"}},{"$f":"VLOOKUP(#REF!,'Points Lookup'!$A:$B,2,FALSE)","v":{"$error":"#REF!"}},null,{"$f":"LARGE($E162:$X162,Z$1)","v":{"$error":"#REF!"}},{"$error":"#REF!"},{"$error":"#REF!"},{"$error":"#REF!"},{"$error":"#REF!"},{"$error":"#REF!"},{"$error":"#REF!"},{"$error":"#REF!"}]
[{"$error":"#REF!"},{"$f":"#REF!","v":{"$error":"#REF!"}},{"$f":"IF(ISBLANK(#REF!),\"\",#REF!)","v":{"$error":"#REF!"}},{"$error":"#REF!"},{"$f":"VLOOKUP(#REF!,'Points Lookup'!$A:$B,2,FALSE)","v":{"$error":"#REF!"}},{"$f":"VLOOKUP(#REF!,'Points Lookup'!$A:$B,2,FALSE)","v":{"$error":"#REF!"}},{"$f":"VLOOKUP(#REF!,'Points Lookup'!$A:$B,2,FALSE)","v":{"$error":"#REF!"}},{"$f":"VLOOKUP(#REF!,'Points Lookup'!$A:$B,2,FALSE)","v":{"$error":"#REF!"}},{"$f":"VLOOKUP(#REF!,'Points Lookup'!$A:$B,2,FALSE)","v":{"$error":"#REF!"}},{"$f":"VLOOKUP(#REF!,'Points Lookup'!$A:$B,2,FALSE)","v":{"$error":"#REF!"}},{"$f":"VLOOKUP(#REF!,'Points Lookup'!$A:$B,2,FALSE)","v":{"$error":"#REF!"}},{"$f":"VLOOKUP(#REF!,'Points Lookup'!$A:$B,2,FALSE)","v":{"$error":"#REF!"}},{"$f":"VLOOKUP(#REF!,'Points Lookup'!$A:$B,2,FALSE)","v":{"$error":"#REF!"}},{"$f":"VLOOKUP(#REF!,'Points Lookup'!$A:$B,2,FALSE)","v":{"$error":"#REF!"}},{"$f":"VLOOKUP(#REF!,'Points Lookup'!$A:$B,2,FALSE)","v":{"$error":"#REF!"}},{"$f":"VLOOKUP(#REF!,'Points Lookup'!$A:$B,2,FALSE)","v":{"$error":"#REF!"}},{"$f":"VLOOKUP(#REF!,'Points Lookup'!$A:$B,2,FALSE)","v":{"$error":"#REF!"}},{"$f":"VLOOKUP(#REF!,'Points Lookup'!$A:$B,2,FALSE)","v":{"$error":"#REF!"}},{"$f":"VLOOKUP(#REF!,'Points Lookup'!$A:$B,2,FALSE)","v":{"$error":"#REF!"}},{"$f":"VLOOKUP(#REF!,'Points Lookup'!$A:$B,2,FALSE)","v":{"$error":"#REF!"}},{"$f":"VLOOKUP(#REF!,'Points Lookup'!$A:$B,2,FALSE)","v":{"$error":"#REF!"}},{"$f":"VLOOKUP(#REF!,'Points Lookup'!$A:$B,2,FALSE)","v":{"$error":"#REF!"}},{"$f":"VLOOKUP(#REF!,'Points Lookup'!$A:$B,2,FALSE)","v":{"$error":"#REF!"}},{"$f":"VLOOKUP(#REF!,'Points Lookup'!$A:$B,2,FALSE)","v":{"$error":"#REF!"}},null,{"$error":"#REF!"},{"$error":"#REF!"},{"$error":"#REF!"},{"$error":"#REF!"},{"$error":"#REF!"},{"$error":"#REF!"},{"$error":"#REF!"},{"$error":"#REF!"}]
[{"$error":"#REF!"},{"$f":"#REF!","v":{"$error":"#REF!"}},{"$f":"IF(ISBLANK(#REF!),\"\",#REF!)","v":{"$error":"#REF!"}},{"$error":"#REF!"},{"$f":"VLOOKUP(#REF!,'Points Lookup'!$A:$B,2,FALSE)","v":{"$error":"#REF!"}},{"$f":"VLOOKUP(#REF!,'Points Lookup'!$A:$B,2,FALSE)","v":{"$error":"#REF!"}},{"$f":"VLOOKUP(#REF!,'Points Lookup'!$A:$B,2,FALSE)","v":{"$error":"#REF!"}},{"$f":"VLOOKUP(#REF!,'Points Lookup'!$A:$B,2,FALSE)","v":{"$error":"#REF!"}},{"$f":"VLOOKUP(#REF!,'Points Lookup'!$A:$B,2,FALSE)","v":{"$error":"#REF!"}},{"$f":"VLOOKUP(#REF!,'Points Lookup'!$A:$B,2,FALSE)","v":{"$error":"#REF!"}},{"$f":"VLOOKUP(#REF!,'Points Lookup'!$A:$B,2,FALSE)","v":{"$error":"#REF!"}},{"$f":"VLOOKUP(#REF!,'Points Lookup'!$A:$B,2,FALSE)","v":{"$error":"#REF!"}},{"$f":"VLOOKUP(#REF!,'Points Lookup'!$A:$B,2,FALSE)","v":{"$error":"#REF!"}},{"$f":"VLOOKUP(#REF!,'Points Lookup'!$A:$B,2,FALSE)","v":{"$error":"#REF!"}},{"$f":"VLOOKUP(#REF!,'Points Lookup'!$A:$B,2,FALSE)","v":{"$error":"#REF!"}},{"$f":"VLOOKUP(#REF!,'Points Lookup'!$A:$B,2,FALSE)","v":{"$error":"#REF!"}},{"$f":"VLOOKUP(#REF!,'Points Lookup'!$A:$B,2,FALSE)","v":{"$error":"#REF!"}},{"$f":"VLOOKUP(#REF!,'Points Lookup'!$A:$B,2,FALSE)","v":{"$error":"#REF!"}},{"$f":"VLOOKUP(#REF!,'Points Lookup'!$A:$B,2,FALSE)","v":{"$error":"#REF!"}},{"$f":"VLOOKUP(#REF!,'Points Lookup'!$A:$B,2,FALSE)","v":{"$error":"#REF!"}},{"$f":"VLOOKUP(#REF!,'Points Lookup'!$A:$B,2,FALSE)","v":{"$error":"#REF!"}},{"$f":"VLOOKUP(#REF!,'Points Lookup'!$A:$B,2,FALSE)","v":{"$error":"#REF!"}},{"$f":"VLOOKUP(#REF!,'Points Lookup'!$A:$B,2,FALSE)","v":{"$error":"#REF!"}},{"$f":"VLOOKUP(#REF!,'Points Lookup'!$A:$B,2,FALSE)","v":{"$error":"#REF!"}},null,{"$error":"#REF!"},{"$error":"#REF!"},{"$error":"#REF!"},{"$error":"#REF!"},{"$error":"#REF!"},{"$error":"#REF!"},{"$error":"#REF!"},{"$error":"#REF!"}]
[{"$error":"#REF!"},{"$f":"#REF!","v":{"$error":"#REF!"}},{"$f":"IF(ISBLANK(#REF!),\"\",#REF!)","v":{"$error":"#REF!"}},{"$error":"#REF!"},{"$f":"VLOOKUP(#REF!,'Points Lookup'!$A:$B,2,FALSE)","v":{"$error":"#REF!"}},{"$f":"VLOOKUP(#REF!,'Points Lookup'!$A:$B,2,FALSE)","v":{"$error":"#REF!"}},{"$f":"VLOOKUP(#REF!,'Points Lookup'!$A:$B,2,FALSE)","v":{"$error":"#REF!"}},{"$f":"VLOOKUP(#REF!,'Points Lookup'!$A:$B,2,FALSE)","v":{"$error":"#REF!"}},{"$f":"VLOOKUP(#REF!,'Points Lookup'!$A:$B,2,FALSE)","v":{"$error":"#REF!"}},{"$f":"VLOOKUP(#REF!,'Points Lookup'!$A:$B,2,FALSE)","v":{"$error":"#REF!"}},{"$f":"VLOOKUP(#REF!,'Points Lookup'!$A:$B,2,FALSE)","v":{"$error":"#REF!"}},{"$f":"VLOOKUP(#REF!,'Points Lookup'!$A:$B,2,FALSE)","v":{"$error":"#REF!"}},{"$f":"VLOOKUP(#REF!,'Points Lookup'!$A:$B,2,FALSE)","v":{"$error":"#REF!"}},{"$f":"VLOOKUP(#REF!,'Points Lookup'!$A:$B,2,FALSE)","v":{"$error":"#REF!"}},{"$f":"VLOOKUP(#REF!,'Points Lookup'!$A:$B,2,FALSE)","v":{"$error":"#REF!"}},{"$f":"VLOOKUP(#REF!,'Points Lookup'!$A:$B,2,FALSE)","v":{"$error":"#REF!"}},{"$f":"VLOOKUP(#REF!,'Points Lookup'!$A:$B,2,FALSE)","v":{"$error":"#REF!"}},{"$f":"VLOOKUP(#REF!,'Points Lookup'!$A:$B,2,FALSE)","v":{"$error":"#REF!"}},{"$f":"VLOOKUP(#REF!,'Points Lookup'!$A:$B,2,FALSE)","v":{"$error":"#REF!"}},{"$f":"VLOOKUP(#REF!,'Points Lookup'!$A:$B,2,FALSE)","v":{"$error":"#REF!"}},{"$f":"VLOOKUP(#REF!,'Points Lookup'!$A:$B,2,FALSE)","v":{"$error":"#REF!"}},{"$f":"VLOOKUP(#REF!,'Points Lookup'!$A:$B,2,FALSE)","v":{"$error":"#REF!"}},{"$f":"VLOOKUP(#REF!,'Points Lookup'!$A:$B,2,FALSE)","v":{"$error":"#REF!"}},{"$f":"VLOOKUP(#REF!,'Points Lookup'!$A:$B,2,FALSE)","v":{"$error":"#REF!"}},null,{"$error":"#REF!"},{"$error":"#REF!"},{"$error":"#REF!"},{"$error":"#REF!"},{"$error":"#REF!"},{"$error":"#REF!"},{"$error":"#REF!"},{"$error":"#REF!"}]
[{"$error":"#REF!"},{"$f":"#REF!","v":{"$error":"#REF!"}},{"$f":"IF(ISBLANK(#REF!),\"\",#REF!)","v":{"$error":"#REF!"}},{"$error":"#REF!"},{"$f":"VLOOKUP(#REF!,'Points Lookup'!$A:$B,2,FALSE)","v":{"$error":"#REF!"}},{"$f":"VLOOKUP(#REF!,'Points Lookup'!$A:$B,2,FALSE)","v":{"$error":"#REF!"}},{"$f":"VLOOKUP(#REF!,'Points Lookup'!$A:$B,2,FALSE)","v":{"$error":"#REF!"}},{"$f":"VLOOKUP(#REF!,'Points Lookup'!$A:$B,2,FALSE)","v":{"$error":"#REF!"}},{"$f":"VLOOKUP(#REF!,'Points Lookup'!$A:$B,2,FALSE)","v":{"$error":"#REF!"}},{"$f":"VLOOKUP(#REF!,'Points Lookup'!$A:$B,2,FALSE)","v":{"$error":"#REF!"}},{"$f":"VLOOKUP(#REF!,'Points Lookup'!$A:$B,2,FALSE)","v":{"$error":"#REF!"}},{"$f":"VLOOKUP(#REF!,'Points Lookup'!$A:$B,2,FALSE)","v":{"$error":"#REF!"}},{"$f":"VLOOKUP(#REF!,'Points Lookup'!$A:$B,2,FALSE)","v":{"$error":"#REF!"}},{"$f":"VLOOKUP(#REF!,'Points Lookup'!$A:$B,2,FALSE)","v":{"$error":"#REF!"}},{"$f":"VLOOKUP(#REF!,'Points Lookup'!$A:$B,2,FALSE)","v":{"$error":"#REF!"}},{"$f":"VLOOKUP(#REF!,'Points Lookup'!$A:$B,2,FALSE)","v":{"$error":"#REF!"}},{"$f":"VLOOKUP(#REF!,'Points Lookup'!$A:$B,2,FALSE)","v":{"$error":"#REF!"}},{"$f":"VLOOKUP(#REF!,'Points Lookup'!$A:$B,2,FALSE)","v":{"$error":"#REF!"}},{"$f":"VLOOKUP(#REF!,'Points Lookup'!$A:$B,2,FALSE)","v":{"$error":"#REF!"}},{"$f":"VLOOKUP(#REF!,'Points Lookup'!$A:$B,2,FALSE)","v":{"$error":"#REF!"}},{"$f":"VLOOKUP(#REF!,'Points Lookup'!$A:$B,2,FALSE)","v":{"$error":"#REF!"}},{"$f":"VLOOKUP(#REF!,'Points Lookup'!$A:$B,2,FALSE)","v":{"$error":"#REF!"}},{"$f":"VLOOKUP(#REF!,'Points Lookup'!$A:$B,2,FALSE)","v":{"$error":"#REF!"}},{"$f":"VLOOKUP(#REF!,'Points Lookup'!$A:$B,2,FALSE)","v":{"$error":"#REF!"}},null,{"$error":"#REF!"},{"$error":"#REF!"},{"$error":"#REF!"},{"$error":"#REF!"},{"$error":"#REF!"},{"$error":"#REF!"},{"$error":"#REF!"},{"$error":"#REF!"}]
[{"$error":"#REF!"},{"$f":"#REF!","v":{"$error":"#REF!"}},{"$f":"IF(ISBLANK(#REF!),\"\",#REF!)","v":{"$error":"#REF!"}},{"$error":"#REF!"},{"$f":"VLOOKUP(#REF!,'Points Lookup'!$A:$B,2,FALSE)","v":{"$error":"#REF!"}},{"$f":"VLOOKUP(#REF!,'Points Lookup'!$A:$B,2,FALSE)","v":{"$error":"#REF!"}},{"$f":"VLOOKUP(#REF!,'Points Lookup'!$A:$B,2,FALSE)","v":{"$error":"#REF!"}},{"$f":"VLOOKUP(#REF!,'Points Lookup'!$A:$B,2,FALSE)","v":{"$error":"#REF!"}},{"$f":"VLOOKUP(#REF!,'Points Lookup'!$A:$B,2,FALSE)","v":{"$error":"#REF!"}},{"$f":"VLOOKUP(#REF!,'Points Lookup'!$A:$B,2,FALSE)","v":{"$error":"#REF!"}},{"$f":"VLOOKUP(#REF!,'Points Lookup'!$A:$B,2,FALSE)","v":{"$error":"#REF!"}},{"$f":"VLOOKUP(#REF!,'Points Lookup'!$A:$B,2,FALSE)","v":{"$error":"#REF!"}},{"$f":"VLOOKUP(#REF!,'Points Lookup'!$A:$B,2,FALSE)","v":{"$error":"#REF!"}},{"$f":"VLOOKUP(#REF!,'Points Lookup'!$A:$B,2,FALSE)","v":{"$error":"#REF!"}},{"$f":"VLOOKUP(#REF!,'Points Lookup'!$A:$B,2,FALSE)","v":{"$error":"#REF!"}},{"$f":"VLOOKUP(#REF!,'Points Lookup'!$A:$B,2,FALSE)","v":{"$error":"#REF!"}},{"$f":"VLOOKUP(#REF!,'Points Lookup'!$A:$B,2,FALSE)","v":{"$error":"#REF!"}},{"$f":"VLOOKUP(#REF!,'Points Lookup'!$A:$B,2,FALSE)","v":{"$error":"#REF!"}},{"$f":"VLOOKUP(#REF!,'Points Lookup'!$A:$B,2,FALSE)","v":{"$error":"#REF!"}},{"$f":"VLOOKUP(#REF!,'Points Lookup'!$A:$B,2,FALSE)","v":{"$error":"#REF!"}},{"$f":"VLOOKUP(#REF!,'Points Lookup'!$A:$B,2,FALSE)","v":{"$error":"#REF!"}},{"$f":"VLOOKUP(#REF!,'Points Lookup'!$A:$B,2,FALSE)","v":{"$error":"#REF!"}},{"$f":"VLOOKUP(#REF!,'Points Lookup'!$A:$B,2,FALSE)","v":{"$error":"#REF!"}},{"$f":"VLOOKUP(#REF!,'Points Lookup'!$A:$B,2,FALSE)","v":{"$error":"#REF!"}},null,{"$error":"#REF!"},{"$error":"#REF!"},{"$error":"#REF!"},{"$error":"#REF!"},{"$error":"#REF!"},{"$error":"#REF!"},{"$error":"#REF!"},{"$error":"#REF!"}]
[{"$error":"#REF!"},{"$f":"#REF!","v":{"$error":"#REF!"}},{"$f":"IF(ISBLANK(#REF!),\"\",#REF!)","v":{"$error":"#REF!"}},{"$error":"#REF!"},{"$f":"VLOOKUP(#REF!,'Points Lookup'!$A:$B,2,FALSE)","v":{"$error":"#REF!"}},{"$f":"VLOOKUP(#REF!,'Points Lookup'!$A:$B,2,FALSE)","v":{"$error":"#REF!"}},{"$f":"VLOOKUP(#REF!,'Points Lookup'!$A:$B,2,FALSE)","v":{"$error":"#REF!"}},{"$f":"VLOOKUP(#REF!,'Points Lookup'!$A:$B,2,FALSE)","v":{"$error":"#REF!"}},{"$f":"VLOOKUP(#REF!,'Points Lookup'!$A:$B,2,FALSE)","v":{"$error":"#REF!"}},{"$f":"VLOOKUP(#REF!,'Points Lookup'!$A:$B,2,FALSE)","v":{"$error":"#REF!"}},{"$f":"VLOOKUP(#REF!,'Points Lookup'!$A:$B,2,FALSE)","v":{"$error":"#REF!"}},{"$f":"VLOOKUP(#REF!,'Points Lookup'!$A:$B,2,FALSE)","v":{"$error":"#REF!"}},{"$f":"VLOOKUP(#REF!,'Points Lookup'!$A:$B,2,FALSE)","v":{"$error":"#REF!"}},{"$f":"VLOOKUP(#REF!,'Points Lookup'!$A:$B,2,FALSE)","v":{"$error":"#REF!"}},{"$f":"VLOOKUP(#REF!,'Points Lookup'!$A:$B,2,FALSE)","v":{"$error":"#REF!"}},{"$f":"VLOOKUP(#REF!,'Points Lookup'!$A:$B,2,FALSE)","v":{"$error":"#REF!"}},{"$f":"VLOOKUP(#REF!,'Points Lookup'!$A:$B,2,FALSE)","v":{"$error":"#REF!"}},{"$f":"VLOOKUP(#REF!,'Points Lookup'!$A:$B,2,FALSE)","v":{"$error":"#REF!"}},{"$f":"VLOOKUP(#REF!,'Points Lookup'!$A:$B,2,FALSE)","v":{"$error":"#REF!"}},{"$f":"VLOOKUP(#REF!,'Points Lookup'!$A:$B,2,FALSE)","v":{"$error":"#REF!"}},{"$f":"VLOOKUP(#REF!,'Points Lookup'!$A:$B,2,FALSE)","v":{"$error":"#REF!"}},{"$f":"VLOOKUP(#REF!,'Points Lookup'!$A:$B,2,FALSE)","v":{"$error":"#REF!"}},{"$f":"VLOOKUP(#REF!,'Points Lookup'!$A:$B,2,FALSE)","v":{"$error":"#REF!"}},{"$f":"VLOOKUP(#REF!,'Points Lookup'!$A:$B,2,FALSE)","v":{"$error":"#REF!"}},null,{"$error":"#REF!"},{"$error":"#REF!"},{"$error":"#REF!"},{"$error":"#REF!"},{"$error":"#REF!"},{"$error":"#REF!"},{"$error":"#REF!"},{"$error":"#REF!"}]
[{"$error":"#REF!"},{"$f":"#REF!","v":{"$error":"#REF!"}},{"$f":"IF(ISBLANK(#REF!),\"\",#REF!)","v":{"$error":"#REF!"}},{"$error":"#REF!"},{"$f":"VLOOKUP(#REF!,'Points Lookup'!$A:$B,2,FALSE)","v":{"$error":"#REF!"}},{"$f":"VLOOKUP(#REF!,'Points Lookup'!$A:$B,2,FALSE)","v":{"$error":"#REF!"}},{"$f":"VLOOKUP(#REF!,'Points Lookup'!$A:$B,2,FALSE)","v":{"$error":"#REF!"}},{"$f":"VLOOKUP(#REF!,'Points Lookup'!$A:$B,2,FALSE)","v":{"$error":"#REF!"}},{"$f":"VLOOKUP(#REF!,'Points Lookup'!$A:$B,2,FALSE)","v":{"$error":"#REF!"}},{"$f":"VLOOKUP(#REF!,'Points Lookup'!$A:$B,2,FALSE)","v":{"$error":"#REF!"}},{"$f":"VLOOKUP(#REF!,'Points Lookup'!$A:$B,2,FALSE)","v":{"$error":"#REF!"}},{"$f":"VLOOKUP(#REF!,'Points Lookup'!$A:$B,2,FALSE)","v":{"$error":"#REF!"}},{"$f":"VLOOKUP(#REF!,'Points Lookup'!$A:$B,2,FALSE)","v":{"$error":"#REF!"}},{"$f":"VLOOKUP(#REF!,'Points Lookup'!$A:$B,2,FALSE)","v":{"$error":"#REF!"}},{"$f":"VLOOKUP(#REF!,'Points Lookup'!$A:$B,2,FALSE)","v":{"$error":"#REF!"}},{"$f":"VLOOKUP(#REF!,'Points Lookup'!$A:$B,2,FALSE)","v":{"$error":"#REF!"}},{"$f":"VLOOKUP(#REF!,'Points Lookup'!$A:$B,2,FALSE)","v":{"$error":"#REF!"}},{"$f":"VLOOKUP(#REF!,'Points Lookup'!$A:$B,2,FALSE)","v":{"$error":"#REF!"}},{"$f":"VLOOKUP(#REF!,'Points Lookup'!$A:$B,2,FALSE)","v":{"$error":"#REF!"}},{"$f":"VLOOKUP(#REF!,'Points Lookup'!$A:$B,2,FALSE)","v":{"$error":"#REF!"}},{"$f":"VLOOKUP(#REF!,'Points Lookup'!$A:$B,2,FALSE)","v":{"$error":"#REF!"}},{"$f":"VLOOKUP(#REF!,'Points Lookup'!$A:$B,2,FALSE)","v":{"$error":"#REF!"}},{"$f":"VLOOKUP(#REF!,'Points Lookup'!$A:$B,2,FALSE)","v":{"$error":"#REF!"}},{"$f":"VLOOKUP(#REF!,'Points Lookup'!$A:$B,2,FALSE)","v":{"$error":"#REF!"}},null,{"$error":"#REF!"},{"$error":"#REF!"},{"$error":"#REF!"},{"$error":"#REF!"},{"$error":"#REF!"},{"$error":"#REF!"},{"$error":"#REF!"},{"$error":"#REF!"}]
[{"$error":"#REF!"},{"$f":"#REF!","v":{"$error":"#REF!"}},{"$f":"IF(ISBLANK(#REF!),\"\",#REF!)","v":{"$error":"#REF!"}},{"$error":"#REF!"},{"$f":"VLOOKUP(#REF!,'Points Lookup'!$A:$B,2,FALSE)","v":{"$error":"#REF!"}},{"$f":"VLOOKUP(#REF!,'Points Lookup'!$A:$B,2,FALSE)","v":{"$error":"#REF!"}},{"$f":"VLOOKUP(#REF!,'Points Lookup'!$A:$B,2,FALSE)","v":{"$error":"#REF!"}},{"$f":"VLOOKUP(#REF!,'Points Lookup'!$A:$B,2,FALSE)","v":{"$error":"#REF!"}},{"$f":"VLOOKUP(#REF!,'Points Lookup'!$A:$B,2,FALSE)","v":{"$error":"#REF!"}},{"$f":"VLOOKUP(#REF!,'Points Lookup'!$A:$B,2,FALSE)","v":{"$error":"#REF!"}},{"$f":"VLOOKUP(#REF!,'Points Lookup'!$A:$B,2,FALSE)","v":{"$error":"#REF!"}},{"$f":"VLOOKUP(#REF!,'Points Lookup'!$A:$B,2,FALSE)","v":{"$error":"#REF!"}},{"$f":"VLOOKUP(#REF!,'Points Lookup'!$A:$B,2,FALSE)","v":{"$error":"#REF!"}},{"$f":"VLOOKUP(#REF!,'Points Lookup'!$A:$B,2,FALSE)","v":{"$error":"#REF!"}},{"$f":"VLOOKUP(#REF!,'Points Lookup'!$A:$B,2,FALSE)","v":{"$error":"#REF!"}},{"$f":"VLOOKUP(#REF!,'Points Lookup'!$A:$B,2,FALSE)","v":{"$error":"#REF!"}},{"$f":"VLOOKUP(#REF!,'Points Lookup'!$A:$B,2,FALSE)","v":{"$error":"#REF!"}},{"$f":"VLOOKUP(#REF!,'Points Lookup'!$A:$B,2,FALSE)","v":{"$error":"#REF!"}},{"$f":"VLOOKUP(#REF!,'Points Lookup'!$A:$B,2,FALSE)","v":{"$error":"#REF!"}},{"$f":"VLOOKUP(#REF!,'Points Lookup'!$A:$B,2,FALSE)","v":{"$error":"#REF!"}},{"$f":"VLOOKUP(#REF!,'Points Lookup'!$A:$B,2,FALSE)","v":{"$error":"#REF!"}},{"$f":"VLOOKUP(#REF!,'Points Lookup'!$A:$B,2,FALSE)","v":{"$error":"#REF!"}},{"$f":"VLOOKUP(#REF!,'Points Lookup'!$A:$B,2,FALSE)","v":{"$error":"#REF!"}},{"$f":"VLOOKUP(#REF!,'Points Lookup'!$A:$B,2,FALSE)","v":{"$error":"#REF!"}},null,{"$error":"#REF!"},{"$error":"#REF!"},{"$error":"#REF!"},{"$error":"#REF!"},{"$error":"#REF!"},{"$error":"#REF!"},{"$error":"#REF!"},{"$error":"#REF!"}]
[{"$error":"#REF!"},{"$f":"#REF!","v":{"$error":"#REF!"}},{"$f":"IF(ISBLANK(#REF!),\"\",#REF!)","v":{"$error":"#REF!"}},{"$error":"#REF!"},{"$f":"VLOOKUP(#REF!,'Points Lookup'!$A:$B,2,FALSE)","v":{"$error":"#REF!"}},{"$f":"VLOOKUP(#REF!,'Points Lookup'!$A:$B,2,FALSE)","v":{"$error":"#REF!"}},{"$f":"VLOOKUP(#REF!,'Points Lookup'!$A:$B,2,FALSE)","v":{"$error":"#REF!"}},{"$f":"VLOOKUP(#REF!,'Points Lookup'!$A:$B,2,FALSE)","v":{"$error":"#REF!"}},{"$f":"VLOOKUP(#REF!,'Points Lookup'!$A:$B,2,FALSE)","v":{"$error":"#REF!"}},{"$f":"VLOOKUP(#REF!,'Points Lookup'!$A:$B,2,FALSE)","v":{"$error":"#REF!"}},{"$f":"VLOOKUP(#REF!,'Points Lookup'!$A:$B,2,FALSE)","v":{"$error":"#REF!"}},{"$f":"VLOOKUP(#REF!,'Points Lookup'!$A:$B,2,FALSE)","v":{"$error":"#REF!"}},{"$f":"VLOOKUP(#REF!,'Points Lookup'!$A:$B,2,FALSE)","v":{"$error":"#REF!"}},{"$f":"VLOOKUP(#REF!,'Points Lookup'!$A:$B,2,FALSE)","v":{"$error":"#REF!"}},{"$f":"VLOOKUP(#REF!,'Points Lookup'!$A:$B,2,FALSE)","v":{"$error":"#REF!"}},{"$f":"VLOOKUP(#REF!,'Points Lookup'!$A:$B,2,FALSE)","v":{"$error":"#REF!"}},{"$f":"VLOOKUP(#REF!,'Points Lookup'!$A:$B,2,FALSE)","v":{"$error":"#REF!"}},{"$f":"VLOOKUP(#REF!,'Points Lookup'!$A:$B,2,FALSE)","v":{"$error":"#REF!"}},{"$f":"VLOOKUP(#REF!,'Points Lookup'!$A:$B,2,FALSE)","v":{"$error":"#REF!"}},{"$f":"VLOOKUP(#REF!,'Points Lookup'!$A:$B,2,FALSE)","v":{"$error":"#REF!"}},{"$f":"VLOOKUP(#REF!,'Points Lookup'!$A:$B,2,FALSE)","v":{"$error":"#REF!"}},{"$f":"VLOOKUP(#REF!,'Points Lookup'!$A:$B,2,FALSE)","v":{"$error":"#REF!"}},{"$f":"VLOOKUP(#REF!,'Points Lookup'!$A:$B,2,FALSE)","v":{"$error":"#REF!"}},{"$f":"VLOOKUP(#REF!,'Points Lookup'!$A:$B,2,FALSE)","v":{"$error":"#REF!"}},null,{"$error":"#REF!"},{"$error":"#REF!"},{"$error":"#REF!"},{"$error":"#REF!"},{"$error":"#REF!"},{"$error":"#REF!"},{"$error":"#REF!"},{"$error":"#REF!"}]
[{"$error":"#REF!"},{"$f":"#REF!","v":{"$error":"#REF!"}},{"$f":"IF(ISBLANK(#REF!),\"\",#REF!)","v":{"$error":"#REF!"}},{"$error":"#REF!"},{"$f":"VLOOKUP(#REF!,'Points Lookup'!$A:$B,2,FALSE)","v":{"$error":"#REF!"}},{"$f":"VLOOKUP(#REF!,'Points Lookup'!$A:$B,2,FALSE)","v":{"$error":"#REF!"}},{"$f":"VLOOKUP(#REF!,'Points Lookup'!$A:$B,2,FALSE)","v":{"$error":"#REF!"}},{"$f":"VLOOKUP(#REF!,'Points Lookup'!$A:$B,2,FALSE)","v":{"$error":"#REF!"}},{"$f":"VLOOKUP(#REF!,'Points Lookup'!$A:$B,2,FALSE)","v":{"$error":"#REF!"}},{"$f":"VLOOKUP(#REF!,'Points Lookup'!$A:$B,2,FALSE)","v":{"$error":"#REF!"}},{"$f":"VLOOKUP(#REF!,'Points Lookup'!$A:$B,2,FALSE)","v":{"$error":"#REF!"}},{"$f":"VLOOKUP(#REF!,'Points Lookup'!$A:$B,2,FALSE)","v":{"$error":"#REF!"}},{"$f":"VLOOKUP(#REF!,'Points Lookup'!$A:$B,2,FALSE)","v":{"$error":"#REF!"}},{"$f":"VLOOKUP(#REF!,'Points Lookup'!$A:$B,2,FALSE)","v":{"$error":"#REF!"}},{"$f":"VLOOKUP(#REF!,'Points Lookup'!$A:$B,2,FALSE)","v":{"$error":"#REF!"}},{"$f":"VLOOKUP(#REF!,'Points Lookup'!$A:$B,2,FALSE)","v":{"$error":"#REF!"}},{"$f":"VLOOKUP(#REF!,'Points Lookup'!$A:$B,2,FALSE)","v":{"$error":"#REF!"}},{"$f":"VLOOKUP(#REF!,'Points Lookup'!$A:$B,2,FALSE)","v":{"$error":"#REF!"}},{"$f":"VLOOKUP(#REF!,'Points Lookup'!$A:$B,2,FALSE)","v":{"$error":"#REF!"}},{"$f":"VLOOKUP(#REF!,'Points Lookup'!$A:$B,2,FALSE)","v":{"$error":"#REF!"}},{"$f":"VLOOKUP(#REF!,'Points Lookup'!$A:$B,2,FALSE)","v":{"$error":"#REF!"}},{"$f":"VLOOKUP(#REF!,'Points Lookup'!$A:$B,2,FALSE)","v":{"$error":"#REF!"}},{"$f":"VLOOKUP(#REF!,'Points Lookup'!$A:$B,2,FALSE)","v":{"$error":"#REF!"}},{"$f":"VLOOKUP(#REF!,'Points Lookup'!$A:$B,2,FALSE)","v":{"$error":"#REF!"}},null,{"$f":"LARGE($E172:$X172,Z$1)","v":{"$error":"#REF!"}},{"$error":"#REF!"},{"$error":"#REF!"},{"$error":"#REF!"},{"$error":"#REF!"},{"$error":"#REF!"},{"$error":"#REF!"},{"$error":"#REF!"}]
[{"$error":"#REF!"},{"$f":"#REF!","v":{"$error":"#REF!"}},{"$f":"IF(ISBLANK(#REF!),\"\",#REF!)","v":{"$error":"#REF!"}},{"$error":"#REF!"},{"$f":"VLOOKUP(#REF!,'Points Lookup'!$A:$B,2,FALSE)","v":{"$error":"#REF!"}},{"$f":"VLOOKUP(#REF!,'Points Lookup'!$A:$B,2,FALSE)","v":{"$error":"#REF!"}},{"$f":"VLOOKUP(#REF!,'Points Lookup'!$A:$B,2,FALSE)","v":{"$error":"#REF!"}},{"$f":"VLOOKUP(#REF!,'Points Lookup'!$A:$B,2,FALSE)","v":{"$error":"#REF!"}},{"$f":"VLOOKUP(#REF!,'Points Lookup'!$A:$B,2,FALSE)","v":{"$error":"#REF!"}},{"$f":"VLOOKUP(#REF!,'Points Lookup'!$A:$B,2,FALSE)","v":{"$error":"#REF!"}},{"$f":"VLOOKUP(#REF!,'Points Lookup'!$A:$B,2,FALSE)","v":{"$error":"#REF!"}},{"$f":"VLOOKUP(#REF!,'Points Lookup'!$A:$B,2,FALSE)","v":{"$error":"#REF!"}},{"$f":"VLOOKUP(#REF!,'Points Lookup'!$A:$B,2,FALSE)","v":{"$error":"#REF!"}},{"$f":"VLOOKUP(#REF!,'Points Lookup'!$A:$B,2,FALSE)","v":{"$error":"#REF!"}},{"$f":"VLOOKUP(#REF!,'Points Lookup'!$A:$B,2,FALSE)","v":{"$error":"#REF!"}},{"$f":"VLOOKUP(#REF!,'Points Lookup'!$A:$B,2,FALSE)","v":{"$error":"#REF!"}},{"$f":"VLOOKUP(#REF!,'Points Lookup'!$A:$B,2,FALSE)","v":{"$error":"#REF!"}},{"$f":"VLOOKUP(#REF!,'Points Lookup'!$A:$B,2,FALSE)","v":{"$error":"#REF!"}},{"$f":"VLOOKUP(#REF!,'Points Lookup'!$A:$B,2,FALSE)","v":{"$error":"#REF!"}},{"$f":"VLOOKUP(#REF!,'Points Lookup'!$A:$B,2,FALSE)","v":{"$error":"#REF!"}},{"$f":"VLOOKUP(#REF!,'Points Lookup'!$A:$B,2,FALSE)","v":{"$error":"#REF!"}},{"$f":"VLOOKUP(#REF!,'Points Lookup'!$A:$B,2,FALSE)","v":{"$error":"#REF!"}},{"$f":"VLOOKUP(#REF!,'Points Lookup'!$A:$B,2,FALSE)","v":{"$error":"#REF!"}},{"$f":"VLOOKUP(#REF!,'Points Lookup'!$A:$B,2,FALSE)","v":{"$error":"#REF!"}},null,{"$error":"#REF!"},{"$error":"#REF!"},{"$error":"#REF!"},{"$error":"#REF!"},{"$error":"#REF!"},{"$error":"#REF!"},{"$error":"#REF!"},{"$error":"#REF!"}]
[{"$error":"#REF!"},{"$f":"#REF!","v":{"$error":"#REF!"}},{"$f":"IF(ISBLANK(#REF!),\"\",#REF!)","v":{"$error":"#REF!"}},{"$error":"#REF!"},{"$f":"VLOOKUP(#REF!,'Points Lookup'!$A:$B,2,FALSE)","v":{"$error":"#REF!"}},{"$f":"VLOOKUP(#REF!,'Points Lookup'!$A:$B,2,FALSE)","v":{"$error":"#REF!"}},{"$f":"VLOOKUP(#REF!,'Points Lookup'!$A:$B,2,FALSE)","v":{"$error":"#REF!"}},{"$f":"VLOOKUP(#REF!,'Points Lookup'!$A:$B,2,FALSE)","v":{"$error":"#REF!"}},{"$f":"VLOOKUP(#REF!,'Points Lookup'!$A:$B,2,FALSE)","v":{"$error":"#REF!"}},{"$f":"VLOOKUP(#REF!,'Points Lookup'!$A:$B,2,FALSE)","v":{"$error":"#REF!"}},{"$f":"VLOOKUP(#REF!,'Points Lookup'!$A:$B,2,FALSE)","v":{"$error":"#REF!"}},{"$f":"VLOOKUP(#REF!,'Points Lookup'!$A:$B,2,FALSE)","v":{"$error":"#REF!"}},{"$f":"VLOOKUP(#REF!,'Points Lookup'!$A:$B,2,FALSE)","v":{"$error":"#REF!"}},{"$f":"VLOOKUP(#REF!,'Points Lookup'!$A:$B,2,FALSE)","v":{"$error":"#REF!"}},{"$f":"VLOOKUP(#REF!,'Points Lookup'!$A:$B,2,FALSE)","v":{"$error":"#REF!"}},{"$f":"VLOOKUP(#REF!,'Points Lookup'!$A:$B,2,FALSE)","v":{"$error":"#REF!"}},{"$f":"VLOOKUP(#REF!,'Points Lookup'!$A:$B,2,FALSE)","v":{"$error":"#REF!"}},{"$f":"VLOOKUP(#REF!,'Points Lookup'!$A:$B,2,FALSE)","v":{"$error":"#REF!"}},{"$f":"VLOOKUP(#REF!,'Points Lookup'!$A:$B,2,FALSE)","v":{"$error":"#REF!"}},{"$f":"VLOOKUP(#REF!,'Points Lookup'!$A:$B,2,FALSE)","v":{"$error":"#REF!"}},{"$f":"VLOOKUP(#REF!,'Points Lookup'!$A:$B,2,FALSE)","v":{"$error":"#REF!"}},{"$f":"VLOOKUP(#REF!,'Points Lookup'!$A:$B,2,FALSE)","v":{"$error":"#REF!"}},{"$f":"VLOOKUP(#REF!,'Points Lookup'!$A:$B,2,FALSE)","v":{"$error":"#REF!"}},{"$f":"VLOOKUP(#REF!,'Points Lookup'!$A:$B,2,FALSE)","v":{"$error":"#REF!"}},null,{"$error":"#REF!"},{"$error":"#REF!"},{"$error":"#REF!"},{"$error":"#REF!"},{"$error":"#REF!"},{"$error":"#REF!"},{"$error":"#REF!"},{"$error":"#REF!"}]
[{"$error":"#REF!"},{"$f":"#REF!","v":{"$error":"#REF!"}},{"$f":"IF(ISBLANK(#REF!),\"\",#REF!)","v":{"$error":"#REF!"}},{"$error":"#REF!"},{"$f":"VLOOKUP(#REF!,'Points Lookup'!$A:$B,2,FALSE)","v":{"$error":"#REF!"}},{"$f":"VLOOKUP(#REF!,'Points Lookup'!$A:$B,2,FALSE)","v":{"$error":"#REF!"}},{"$f":"VLOOKUP(#REF!,'Points Lookup'!$A:$B,2,FALSE)","v":{"$error":"#REF!"}},{"$f":"VLOOKUP(#REF!,'Points Lookup'!$A:$B,2,FALSE)","v":{"$error":"#REF!"}},{"$f":"VLOOKUP(#REF!,'Points Lookup'!$A:$B,2,FALSE)","v":{"$error":"#REF!"}},{"$f":"VLOOKUP(#REF!,'Points Lookup'!$A:$B,2,FALSE)","v":{"$error":"#REF!"}},{"$f":"VLOOKUP(#REF!,'Points Lookup'!$A:$B,2,FALSE)","v":{"$error":"#REF!"}},{"$f":"VLOOKUP(#REF!,'Points Lookup'!$A:$B,2,FALSE)","v":{"$error":"#REF!"}},{"$f":"VLOOKUP(#REF!,'Points Lookup'!$A:$B,2,FALSE)","v":{"$error":"#REF!"}},{"$f":"VLOOKUP(#REF!,'Points Lookup'!$A:$B,2,FALSE)","v":{"$error":"#REF!"}},{"$f":"VLOOKUP(#REF!,'Points Lookup'!$A:$B,2,FALSE)","v":{"$error":"#REF!"}},{"$f":"VLOOKUP(#REF!,'Points Lookup'!$A:$B,2,FALSE)","v":{"$error":"#REF!"}},{"$f":"VLOOKUP(#REF!,'Points Lookup'!$A:$B,2,FALSE)","v":{"$error":"#REF!"}},{"$f":"VLOOKUP(#REF!,'Points Lookup'!$A:$B,2,FALSE)","v":{"$error":"#REF!"}},{"$f":"VLOOKUP(#REF!,'Points Lookup'!$A:$B,2,FALSE)","v":{"$error":"#REF!"}},{"$f":"VLOOKUP(#REF!,'Points Lookup'!$A:$B,2,FALSE)","v":{"$error":"#REF!"}},{"$f":"VLOOKUP(#REF!,'Points Lookup'!$A:$B,2,FALSE)","v":{"$error":"#REF!"}},{"$f":"VLOOKUP(#REF!,'Points Lookup'!$A:$B,2,FALSE)","v":{"$error":"#REF!"}},{"$f":"VLOOKUP(#REF!,'Points Lookup'!$A:$B,2,FALSE)","v":{"$error":"#REF!"}},{"$f":"VLOOKUP(#REF!,'Points Lookup'!$A:$B,2,FALSE)","v":{"$error":"#REF!"}},null,{"$error":"#REF!"},{"$error":"#REF!"},{"$error":"#REF!"},{"$error":"#REF!"},{"$error":"#REF!"},{"$error":"#REF!"},{"$error":"#REF!"},{"$error":"#REF!"}]
[{"$error":"#REF!"},{"$f":"#REF!","v":{"$error":"#REF!"}},{"$f":"IF(ISBLANK(#REF!),\"\",#REF!)","v":{"$error":"#REF!"}},{"$error":"#REF!"},{"$f":"VLOOKUP(#REF!,'Points Lookup'!$A:$B,2,FALSE)","v":{"$error":"#REF!"}},{"$f":"VLOOKUP(#REF!,'Points Lookup'!$A:$B,2,FALSE)","v":{"$error":"#REF!"}},{"$f":"VLOOKUP(#REF!,'Points Lookup'!$A:$B,2,FALSE)","v":{"$error":"#REF!"}},{"$f":"VLOOKUP(#REF!,'Points Lookup'!$A:$B,2,FALSE)","v":{"$error":"#REF!"}},{"$f":"VLOOKUP(#REF!,'Points Lookup'!$A:$B,2,FALSE)","v":{"$error":"#REF!"}},{"$f":"VLOOKUP(#REF!,'Points Lookup'!$A:$B,2,FALSE)","v":{"$error":"#REF!"}},{"$f":"VLOOKUP(#REF!,'Points Lookup'!$A:$B,2,FALSE)","v":{"$error":"#REF!"}},{"$f":"VLOOKUP(#REF!,'Points Lookup'!$A:$B,2,FALSE)","v":{"$error":"#REF!"}},{"$f":"VLOOKUP(#REF!,'Points Lookup'!$A:$B,2,FALSE)","v":{"$error":"#REF!"}},{"$f":"VLOOKUP(#REF!,'Points Lookup'!$A:$B,2,FALSE)","v":{"$error":"#REF!"}},{"$f":"VLOOKUP(#REF!,'Points Lookup'!$A:$B,2,FALSE)","v":{"$error":"#REF!"}},{"$f":"VLOOKUP(#REF!,'Points Lookup'!$A:$B,2,FALSE)","v":{"$error":"#REF!"}},{"$f":"VLOOKUP(#REF!,'Points Lookup'!$A:$B,2,FALSE)","v":{"$error":"#REF!"}},{"$f":"VLOOKUP(#REF!,'Points Lookup'!$A:$B,2,FALSE)","v":{"$error":"#REF!"}},{"$f":"VLOOKUP(#REF!,'Points Lookup'!$A:$B,2,FALSE)","v":{"$error":"#REF!"}},{"$f":"VLOOKUP(#REF!,'Points Lookup'!$A:$B,2,FALSE)","v":{"$error":"#REF!"}},{"$f":"VLOOKUP(#REF!,'Points Lookup'!$A:$B,2,FALSE)","v":{"$error":"#REF!"}},{"$f":"VLOOKUP(#REF!,'Points Lookup'!$A:$B,2,FALSE)","v":{"$error":"#REF!"}},{"$f":"VLOOKUP(#REF!,'Points Lookup'!$A:$B,2,FALSE)","v":{"$error":"#REF!"}},{"$f":"VLOOKUP(#REF!,'Points Lookup'!$A:$B,2,FALSE)","v":{"$error":"#REF!"}},null,{"$error":"#REF!"},{"$error":"#REF!"},{"$error":"#REF!"},{"$error":"#REF!"},{"$error":"#REF!"},{"$error":"#REF!"},{"$error":"#REF!"},{"$error":"#REF!"}]
[{"$error":"#REF!"},{"$f":"#REF!","v":{"$error":"#REF!"}},{"$f":"IF(ISBLANK(#REF!),\"\",#REF!)","v":{"$error":"#REF!"}},{"$error":"#REF!"},{"$f":"VLOOKUP(#REF!,'Points Lookup'!$A:$B,2,FALSE)","v":{"$error":"#REF!"}},{"$f":"VLOOKUP(#REF!,'Points Lookup'!$A:$B,2,FALSE)","v":{"$error":"#REF!"}},{"$f":"VLOOKUP(#REF!,'Points Lookup'!$A:$B,2,FALSE)","v":{"$error":"#REF!"}},{"$f":"VLOOKUP(#REF!,'Points Lookup'!$A:$B,2,FALSE)","v":{"$error":"#REF!"}},{"$f":"VLOOKUP(#REF!,'Points Lookup'!$A:$B,2,FALSE)","v":{"$error":"#REF!"}},{"$f":"VLOOKUP(#REF!,'Points Lookup'!$A:$B,2,FALSE)","v":{"$error":"#REF!"}},{"$f":"VLOOKUP(#REF!,'Points Lookup'!$A:$B,2,FALSE)","v":{"$error":"#REF!"}},{"$f":"VLOOKUP(#REF!,'Points Lookup'!$A:$B,2,FALSE)","v":{"$error":"#REF!"}},{"$f":"VLOOKUP(#REF!,'Points Lookup'!$A:$B,2,FALSE)","v":{"$error":"#REF!"}},{"$f":"VLOOKUP(#REF!,'Points Lookup'!$A:$B,2,FALSE)","v":{"$error":"#REF!"}},{"$f":"VLOOKUP(#REF!,'Points Lookup'!$A:$B,2,FALSE)","v":{"$error":"#REF!"}},{"$f":"VLOOKUP(#REF!,'Points Lookup'!$A:$B,2,FALSE)","v":{"$error":"#REF!"}},{"$f":"VLOOKUP(#REF!,'Points Lookup'!$A:$B,2,FALSE)","v":{"$error":"#REF!"}},{"$f":"VLOOKUP(#REF!,'Points Lookup'!$A:$B,2,FALSE)","v":{"$error":"#REF!"}},{"$f":"VLOOKUP(#REF!,'Points Lookup'!$A:$B,2,FALSE)","v":{"$error":"#REF!"}},{"$f":"VLOOKUP(#REF!,'Points Lookup'!$A:$B,2,FALSE)","v":{"$error":"#REF!"}},{"$f":"VLOOKUP(#REF!,'Points Lookup'!$A:$B,2,FALSE)","v":{"$error":"#REF!"}},{"$f":"VLOOKUP(#REF!,'Points Lookup'!$A:$B,2,FALSE)","v":{"$error":"#REF!"}},{"$f":"VLOOKUP(#REF!,'Points Lookup'!$A:$B,2,FALSE)","v":{"$error":"#REF!"}},{"$f":"VLOOKUP(#REF!,'Points Lookup'!$A:$B,2,FALSE)","v":{"$error":"#REF!"}},null,{"$error":"#REF!"},{"$error":"#REF!"},{"$error":"#REF!"},{"$error":"#REF!"},{"$error":"#REF!"},{"$error":"#REF!"},{"$error":"#REF!"},{"$error":"#REF!"}]
[{"$error":"#REF!"},{"$f":"#REF!","v":{"$error":"#REF!"}},{"$f":"IF(ISBLANK(#REF!),\"\",#REF!)","v":{"$error":"#REF!"}},{"$error":"#REF!"},{"$f":"VLOOKUP(#REF!,'Points Lookup'!$A:$B,2,FALSE)","v":{"$error":"#REF!"}},{"$f":"VLOOKUP(#REF!,'Points Lookup'!$A:$B,2,FALSE)","v":{"$error":"#REF!"}},{"$f":"VLOOKUP(#REF!,'Points Lookup'!$A:$B,2,FALSE)","v":{"$error":"#REF!"}},{"$f":"VLOOKUP(#REF!,'Points Lookup'!$A:$B,2,FALSE)","v":{"$error":"#REF!"}},{"$f":"VLOOKUP(#REF!,'Points Lookup'!$A:$B,2,FALSE)","v":{"$error":"#REF!"}},{"$f":"VLOOKUP(#REF!,'Points Lookup'!$A:$B,2,FALSE)","v":{"$error":"#REF!"}},{"$f":"VLOOKUP(#REF!,'Points Lookup'!$A:$B,2,FALSE)","v":{"$error":"#REF!"}},{"$f":"VLOOKUP(#REF!,'Points Lookup'!$A:$B,2,FALSE)","v":{"$error":"#REF!"}},{"$f":"VLOOKUP(#REF!,'Points Lookup'!$A:$B,2,FALSE)","v":{"$error":"#REF!"}},{"$f":"VLOOKUP(#REF!,'Points Lookup'!$A:$B,2,FALSE)","v":{"$error":"#REF!"}},{"$f":"VLOOKUP(#REF!,'Points Lookup'!$A:$B,2,FALSE)","v":{"$error":"#REF!"}},{"$f":"VLOOKUP(#REF!,'Points Lookup'!$A:$B,2,FALSE)","v":{"$error":"#REF!"}},{"$f":"VLOOKUP(#REF!,'Points Lookup'!$A:$B,2,FALSE)","v":{"$error":"#REF!"}},{"$f":"VLOOKUP(#REF!,'Points Lookup'!$A:$B,2,FALSE)","v":{"$error":"#REF!"}},{"$f":"VLOOKUP(#REF!,'Points Lookup'!$A:$B,2,FALSE)","v":{"$error":"#REF!"}},{"$f":"VLOOKUP(#REF!,'Points Lookup'!$A:$B,2,FALSE)","v":{"$error":"#REF!"}},{"$f":"VLOOKUP(#REF!,'Points Lookup'!$A:$B,2,FALSE)","v":{"$error":"#REF!"}},{"$f":"VLOOKUP(#REF!,'Points Lookup'!$A:$B,2,FALSE)","v":{"$error":"#REF!"}},{"$f":"VLOOKUP(#REF!,'Points Lookup'!$A:$B,2,FALSE)","v":{"$error":"#REF!"}},{"$f":"VLOOKUP(#REF!,'Points Lookup'!$A:$B,2,FALSE)","v":{"$error":"#REF!"}},null,{"$error":"#REF!"},{"$error":"#REF!"},{"$error":"#REF!"},{"$error":"#REF!"},{"$error":"#REF!"},{"$error":"#REF!"},{"$error":"#REF!"},{"$error":"#REF!"}]
[{"$error":"#REF!"},{"$f":"#REF!","v":{"$error":"#REF!"}},{"$f":"IF(ISBLANK(#REF!),\"\",#REF!)","v":{"$error":"#REF!"}},{"$error":"#REF!"},{"$f":"VLOOKUP(#REF!,'Points Lookup'!$A:$B,2,FALSE)","v":{"$error":"#REF!"}},{"$f":"VLOOKUP(#REF!,'Points Lookup'!$A:$B,2,FALSE)","v":{"$error":"#REF!"}},{"$f":"VLOOKUP(#REF!,'Points Lookup'!$A:$B,2,FALSE)","v":{"$error":"#REF!"}},{"$f":"VLOOKUP(#REF!,'Points Lookup'!$A:$B,2,FALSE)","v":{"$error":"#REF!"}},{"$f":"VLOOKUP(#REF!,'Points Lookup'!$A:$B,2,FALSE)","v":{"$error":"#REF!"}},{"$f":"VLOOKUP(#REF!,'Points Lookup'!$A:$B,2,FALSE)","v":{"$error":"#REF!"}},{"$f":"VLOOKUP(#REF!,'Points Lookup'!$A:$B,2,FALSE)","v":{"$error":"#REF!"}},{"$f":"VLOOKUP(#REF!,'Points Lookup'!$A:$B,2,FALSE)","v":{"$error":"#REF!"}},{"$f":"VLOOKUP(#REF!,'Points Lookup'!$A:$B,2,FALSE)","v":{"$error":"#REF!"}},{"$f":"VLOOKUP(#REF!,'Points Lookup'!$A:$B,2,FALSE)","v":{"$error":"#REF!"}},{"$f":"VLOOKUP(#REF!,'Points Lookup'!$A:$B,2,FALSE)","v":{"$error":"#REF!"}},{"$f":"VLOOKUP(#REF!,'Points Lookup'!$A:$B,2,FALSE)","v":{"$error":"#REF!"}},{"$f":"VLOOKUP(#REF!,'Points Lookup'!$A:$B,2,FALSE)","v":{"$error":"#REF!"}},{"$f":"VLOOKUP(#REF!,'Points Lookup'!$A:$B,2,FALSE)","v":{"$error":"#REF!"}},{"$f":"VLOOKUP(#REF!,'Points Lookup'!$A:$B,2,FALSE)","v":{"$error":"#REF!"}},{"$f":"VLOOKUP(#REF!,'Points Lookup'!$A:$B,2,FALSE)","v":{"$error":"#REF!"}},{"$f":"VLOOKUP(#REF!,'Points Lookup'!$A:$B,2,FALSE)","v":{"$error":"#REF!"}},{"$f":"VLOOKUP(#REF!,'Points Lookup'!$A:$B,2,FALSE)","v":{"$error":"#REF!"}},{"$f":"VLOOKUP(#REF!,'Points Lookup'!$A:$B,2,FALSE)","v":{"$error":"#REF!"}},{"$f":"VLOOKUP(#REF!,'Points Lookup'!$A:$B,2,FALSE)","v":{"$error":"#REF!"}},null,{"$error":"#REF!"},{"$error":"#REF!"},{"$error":"#REF!"},{"$error":"#REF!"},{"$error":"#REF!"},{"$error":"#REF!"},{"$error":"#REF!"},{"$error":"#REF!"}]
[{"$error":"#REF!"},{"$f":"#REF!","v":{"$error":"#REF!"}},{"$f":"IF(ISBLANK(#REF!),\"\",#REF!)","v":{"$error":"#REF!"}},{"$error":"#REF!"},{"$f":"VLOOKUP(#REF!,'Points Lookup'!$A:$B,2,FALSE)","v":{"$error":"#REF!"}},{"$f":"VLOOKUP(#REF!,'Points Lookup'!$A:$B,2,FALSE)","v":{"$error":"#REF!"}},{"$f":"VLOOKUP(#REF!,'Points Lookup'!$A:$B,2,FALSE)","v":{"$error":"#REF!"}},{"$f":"VLOOKUP(#REF!,'Points Lookup'!$A:$B,2,FALSE)","v":{"$error":"#REF!"}},{"$f":"VLOOKUP(#REF!,'Points Lookup'!$A:$B,2,FALSE)","v":{"$error":"#REF!"}},{"$f":"VLOOKUP(#REF!,'Points Lookup'!$A:$B,2,FALSE)","v":{"$error":"#REF!"}},{"$f":"VLOOKUP(#REF!,'Points Lookup'!$A:$B,2,FALSE)","v":{"$error":"#REF!"}},{"$f":"VLOOKUP(#REF!,'Points Lookup'!$A:$B,2,FALSE)","v":{"$error":"#REF!"}},{"$f":"VLOOKUP(#REF!,'Points Lookup'!$A:$B,2,FALSE)","v":{"$error":"#REF!"}},{"$f":"VLOOKUP(#REF!,'Points Lookup'!$A:$B,2,FALSE)","v":{"$error":"#REF!"}},{"$f":"VLOOKUP(#REF!,'Points Lookup'!$A:$B,2,FALSE)","v":{"$error":"#REF!"}},{"$f":"VLOOKUP(#REF!,'Points Lookup'!$A:$B,2,FALSE)","v":{"$error":"#REF!"}},{"$f":"VLOOKUP(#REF!,'Points Lookup'!$A:$B,2,FALSE)","v":{"$error":"#REF!"}},{"$f":"VLOOKUP(#REF!,'Points Lookup'!$A:$B,2,FALSE)","v":{"$error":"#REF!"}},{"$f":"VLOOKUP(#REF!,'Points Lookup'!$A:$B,2,FALSE)","v":{"$error":"#REF!"}},{"$f":"VLOOKUP(#REF!,'Points Lookup'!$A:$B,2,FALSE)","v":{"$error":"#REF!"}},{"$f":"VLOOKUP(#REF!,'Points Lookup'!$A:$B,2,FALSE)","v":{"$error":"#REF!"}},{"$f":"VLOOKUP(#REF!,'Points Lookup'!$A:$B,2,FALSE)","v":{"$error":"#REF!"}},{"$f":"VLOOKUP(#REF!,'Points Lookup'!$A:$B,2,FALSE)","v":{"$error":"#REF!"}},{"$f":"VLOOKUP(#REF!,'Points Lookup'!$A:$B,2,FALSE)","v":{"$error":"#REF!"}},null,{"$error":"#REF!"},{"$error":"#REF!"},{"$error":"#REF!"},{"$error":"#REF!"},{"$error":"#REF!"},{"$error":"#REF!"},{"$error":"#REF!"},{"$error":"#REF!"}]
[{"$error":"#REF!"},{"$f":"#REF!","v":{"$error":"#REF!"}},{"$f":"IF(ISBLANK(#REF!),\"\",#REF!)","v":{"$error":"#REF!"}},{"$error":"#REF!"},{"$f":"VLOOKUP(#REF!,'Points Lookup'!$A:$B,2,FALSE)","v":{"$error":"#REF!"}},{"$f":"VLOOKUP(#REF!,'Points Lookup'!$A:$B,2,FALSE)","v":{"$error":"#REF!"}},{"$f":"VLOOKUP(#REF!,'Points Lookup'!$A:$B,2,FALSE)","v":{"$error":"#REF!"}},{"$f":"VLOOKUP(#REF!,'Points Lookup'!$A:$B,2,FALSE)","v":{"$error":"#REF!"}},{"$f":"VLOOKUP(#REF!,'Points Lookup'!$A:$B,2,FALSE)","v":{"$error":"#REF!"}},{"$f":"VLOOKUP(#REF!,'Points Lookup'!$A:$B,2,FALSE)","v":{"$error":"#REF!"}},{"$f":"VLOOKUP(#REF!,'Points Lookup'!$A:$B,2,FALSE)","v":{"$error":"#REF!"}},{"$f":"VLOOKUP(#REF!,'Points Lookup'!$A:$B,2,FALSE)","v":{"$error":"#REF!"}},{"$f":"VLOOKUP(#REF!,'Points Lookup'!$A:$B,2,FALSE)","v":{"$error":"#REF!"}},{"$f":"VLOOKUP(#REF!,'Points Lookup'!$A:$B,2,FALSE)","v":{"$error":"#REF!"}},{"$f":"VLOOKUP(#REF!,'Points Lookup'!$A:$B,2,FALSE)","v":{"$error":"#REF!"}},{"$f":"VLOOKUP(#REF!,'Points Lookup'!$A:$B,2,FALSE)","v":{"$error":"#REF!"}},{"$f":"VLOOKUP(#REF!,'Points Lookup'!$A:$B,2,FALSE)","v":{"$error":"#REF!"}},{"$f":"VLOOKUP(#REF!,'Points Lookup'!$A:$B,2,FALSE)","v":{"$error":"#REF!"}},{"$f":"VLOOKUP(#REF!,'Points Lookup'!$A:$B,2,FALSE)","v":{"$error":"#REF!"}},{"$f":"VLOOKUP(#REF!,'Points Lookup'!$A:$B,2,FALSE)","v":{"$error":"#REF!"}},{"$f":"VLOOKUP(#REF!,'Points Lookup'!$A:$B,2,FALSE)","v":{"$error":"#REF!"}},{"$f":"VLOOKUP(#REF!,'Points Lookup'!$A:$B,2,FALSE)","v":{"$error":"#REF!"}},{"$f":"VLOOKUP(#REF!,'Points Lookup'!$A:$B,2,FALSE)","v":{"$error":"#REF!"}},{"$f":"VLOOKUP(#REF!,'Points Lookup'!$A:$B,2,FALSE)","v":{"$error":"#REF!"}},null,{"$error":"#REF!"},{"$error":"#REF!"},{"$error":"#REF!"},{"$error":"#REF!"},{"$error":"#REF!"},{"$error":"#REF!"},{"$error":"#REF!"},{"$error":"#REF!"}]
[{"$error":"#REF!"},{"$f":"#REF!","v":{"$error":"#REF!"}},{"$f":"IF(ISBLANK(#REF!),\"\",#REF!)","v":{"$error":"#REF!"}},{"$error":"#REF!"},{"$f":"VLOOKUP(#REF!,'Points Lookup'!$A:$B,2,FALSE)","v":{"$error":"#REF!"}},{"$f":"VLOOKUP(#REF!,'Points Lookup'!$A:$B,2,FALSE)","v":{"$error":"#REF!"}},{"$f":"VLOOKUP(#REF!,'Points Lookup'!$A:$B,2,FALSE)","v":{"$error":"#REF!"}},{"$f":"VLOOKUP(#REF!,'Points Lookup'!$A:$B,2,FALSE)","v":{"$error":"#REF!"}},{"$f":"VLOOKUP(#REF!,'Points Lookup'!$A:$B,2,FALSE)","v":{"$error":"#REF!"}},{"$f":"VLOOKUP(#REF!,'Points Lookup'!$A:$B,2,FALSE)","v":{"$error":"#REF!"}},{"$f":"VLOOKUP(#REF!,'Points Lookup'!$A:$B,2,FALSE)","v":{"$error":"#REF!"}},{"$f":"VLOOKUP(#REF!,'Points Lookup'!$A:$B,2,FALSE)","v":{"$error":"#REF!"}},{"$f":"VLOOKUP(#REF!,'Points Lookup'!$A:$B,2,FALSE)","v":{"$error":"#REF!"}},{"$f":"VLOOKUP(#REF!,'Points Lookup'!$A:$B,2,FALSE)","v":{"$error":"#REF!"}},{"$f":"VLOOKUP(#REF!,'Points Lookup'!$A:$B,2,FALSE)","v":{"$error":"#REF!"}},{"$f":"VLOOKUP(#REF!,'Points Lookup'!$A:$B,2,FALSE)","v":{"$error":"#REF!"}},{"$f":"VLOOKUP(#REF!,'Points Lookup'!$A:$B,2,FALSE)","v":{"$error":"#REF!"}},{"$f":"VLOOKUP(#REF!,'Points Lookup'!$A:$B,2,FALSE)","v":{"$error":"#REF!"}},{"$f":"VLOOKUP(#REF!,'Points Lookup'!$A:$B,2,FALSE)","v":{"$error":"#REF!"}},{"$f":"VLOOKUP(#REF!,'Points Lookup'!$A:$B,2,FALSE)","v":{"$error":"#REF!"}},{"$f":"VLOOKUP(#REF!,'Points Lookup'!$A:$B,2,FALSE)","v":{"$error":"#REF!"}},{"$f":"VLOOKUP(#REF!,'Points Lookup'!$A:$B,2,FALSE)","v":{"$error":"#REF!"}},{"$f":"VLOOKUP(#REF!,'Points Lookup'!$A:$B,2,FALSE)","v":{"$error":"#REF!"}},{"$f":"VLOOKUP(#REF!,'Points Lookup'!$A:$B,2,FALSE)","v":{"$error":"#REF!"}},null,{"$f":"LARGE($E182:$X182,Z$1)","v":{"$error":"#REF!"}},{"$error":"#REF!"},{"$error":"#REF!"},{"$error":"#REF!"},{"$error":"#REF!"},{"$error":"#REF!"},{"$error":"#REF!"},{"$error":"#REF!"}]
[{"$error":"#REF!"},{"$f":"#REF!","v":{"$error":"#REF!"}},{"$f":"IF(ISBLANK(#REF!),\"\",#REF!)","v":{"$error":"#REF!"}},{"$error":"#REF!"},{"$f":"VLOOKUP(#REF!,'Points Lookup'!$A:$B,2,FALSE)","v":{"$error":"#REF!"}},{"$f":"VLOOKUP(#REF!,'Points Lookup'!$A:$B,2,FALSE)","v":{"$error":"#REF!"}},{"$f":"VLOOKUP(#REF!,'Points Lookup'!$A:$B,2,FALSE)","v":{"$error":"#REF!"}},{"$f":"VLOOKUP(#REF!,'Points Lookup'!$A:$B,2,FALSE)","v":{"$error":"#REF!"}},{"$f":"VLOOKUP(#REF!,'Points Lookup'!$A:$B,2,FALSE)","v":{"$error":"#REF!"}},{"$f":"VLOOKUP(#REF!,'Points Lookup'!$A:$B,2,FALSE)","v":{"$error":"#REF!"}},{"$f":"VLOOKUP(#REF!,'Points Lookup'!$A:$B,2,FALSE)","v":{"$error":"#REF!"}},{"$f":"VLOOKUP(#REF!,'Points Lookup'!$A:$B,2,FALSE)","v":{"$error":"#REF!"}},{"$f":"VLOOKUP(#REF!,'Points Lookup'!$A:$B,2,FALSE)","v":{"$error":"#REF!"}},{"$f":"VLOOKUP(#REF!,'Points Lookup'!$A:$B,2,FALSE)","v":{"$error":"#REF!"}},{"$f":"VLOOKUP(#REF!,'Points Lookup'!$A:$B,2,FALSE)","v":{"$error":"#REF!"}},{"$f":"VLOOKUP(#REF!,'Points Lookup'!$A:$B,2,FALSE)","v":{"$error":"#REF!"}},{"$f":"VLOOKUP(#REF!,'Points Lookup'!$A:$B,2,FALSE)","v":{"$error":"#REF!"}},{"$f":"VLOOKUP(#REF!,'Points Lookup'!$A:$B,2,FALSE)","v":{"$error":"#REF!"}},{"$f":"VLOOKUP(#REF!,'Points Lookup'!$A:$B,2,FALSE)","v":{"$error":"#REF!"}},{"$f":"VLOOKUP(#REF!,'Points Lookup'!$A:$B,2,FALSE)","v":{"$error":"#REF!"}},{"$f":"VLOOKUP(#REF!,'Points Lookup'!$A:$B,2,FALSE)","v":{"$error":"#REF!"}},{"$f":"VLOOKUP(#REF!,'Points Lookup'!$A:$B,2,FALSE)","v":{"$error":"#REF!"}},{"$f":"VLOOKUP(#REF!,'Points Lookup'!$A:$B,2,FALSE)","v":{"$error":"#REF!"}},{"$f":"VLOOKUP(#REF!,'Points Lookup'!$A:$B,2,FALSE)","v":{"$error":"#REF!"}},null,{"$error":"#REF!"},{"$error":"#REF!"},{"$error":"#REF!"},{"$error":"#REF!"},{"$error":"#REF!"},{"$error":"#REF!"},{"$error":"#REF!"},{"$error":"#REF!"}]
[{"$error":"#REF!"},{"$f":"#REF!","v":{"$error":"#REF!"}},{"$f":"IF(ISBLANK(#REF!),\"\",#REF!)","v":{"$error":"#REF!"}},{"$error":"#REF!"},{"$f":"VLOOKUP(#REF!,'Points Lookup'!$A:$B,2,FALSE)","v":{"$error":"#REF!"}},{"$f":"VLOOKUP(#REF!,'Points Lookup'!$A:$B,2,FALSE)","v":{"$error":"#REF!"}},{"$f":"VLOOKUP(#REF!,'Points Lookup'!$A:$B,2,FALSE)","v":{"$error":"#REF!"}},{"$f":"VLOOKUP(#REF!,'Points Lookup'!$A:$B,2,FALSE)","v":{"$error":"#REF!"}},{"$f":"VLOOKUP(#REF!,'Points Lookup'!$A:$B,2,FALSE)","v":{"$error":"#REF!"}},{"$f":"VLOOKUP(#REF!,'Points Lookup'!$A:$B,2,FALSE)","v":{"$error":"#REF!"}},{"$f":"VLOOKUP(#REF!,'Points Lookup'!$A:$B,2,FALSE)","v":{"$error":"#REF!"}},{"$f":"VLOOKUP(#REF!,'Points Lookup'!$A:$B,2,FALSE)","v":{"$error":"#REF!"}},{"$f":"VLOOKUP(#REF!,'Points Lookup'!$A:$B,2,FALSE)","v":{"$error":"#REF!"}},{"$f":"VLOOKUP(#REF!,'Points Lookup'!$A:$B,2,FALSE)","v":{"$error":"#REF!"}},{"$f":"VLOOKUP(#REF!,'Points Lookup'!$A:$B,2,FALSE)","v":{"$error":"#REF!"}},{"$f":"VLOOKUP(#REF!,'Points Lookup'!$A:$B,2,FALSE)","v":{"$error":"#REF!"}},{"$f":"VLOOKUP(#REF!,'Points Lookup'!$A:$B,2,FALSE)","v":{"$error":"#REF!"}},{"$f":"VLOOKUP(#REF!,'Points Lookup'!$A:$B,2,FALSE)","v":{"$error":"#REF!"}},{"$f":"VLOOKUP(#REF!,'Points Lookup'!$A:$B,2,FALSE)","v":{"$error":"#REF!"}},{"$f":"VLOOKUP(#REF!,'Points Lookup'!$A:$B,2,FALSE)","v":{"$error":"#REF!"}},{"$f":"VLOOKUP(#REF!,'Points Lookup'!$A:$B,2,FALSE)","v":{"$error":"#REF!"}},{"$f":"VLOOKUP(#REF!,'Points Lookup'!$A:$B,2,FALSE)","v":{"$error":"#REF!"}},{"$f":"VLOOKUP(#REF!,'Points Lookup'!$A:$B,2,FALSE)","v":{"$error":"#REF!"}},{"$f":"VLOOKUP(#REF!,'Points Lookup'!$A:$B,2,FALSE)","v":{"$error":"#REF!"}},null,{"$error":"#REF!"},{"$error":"#REF!"},{"$error":"#REF!"},{"$error":"#REF!"},{"$error":"#REF!"},{"$error":"#REF!"},{"$error":"#REF!"},{"$error":"#REF!"}]
[{"$error":"#REF!"},{"$f":"#REF!","v":{"$error":"#REF!"}},{"$f":"IF(ISBLANK(#REF!),\"\",#REF!)","v":{"$error":"#REF!"}},{"$error":"#REF!"},{"$f":"VLOOKUP(#REF!,'Points Lookup'!$A:$B,2,FALSE)","v":{"$error":"#REF!"}},{"$f":"VLOOKUP(#REF!,'Points Lookup'!$A:$B,2,FALSE)","v":{"$error":"#REF!"}},{"$f":"VLOOKUP(#REF!,'Points Lookup'!$A:$B,2,FALSE)","v":{"$error":"#REF!"}},{"$f":"VLOOKUP(#REF!,'Points Lookup'!$A:$B,2,FALSE)","v":{"$error":"#REF!"}},{"$f":"VLOOKUP(#REF!,'Points Lookup'!$A:$B,2,FALSE)","v":{"$error":"#REF!"}},{"$f":"VLOOKUP(#REF!,'Points Lookup'!$A:$B,2,FALSE)","v":{"$error":"#REF!"}},{"$f":"VLOOKUP(#REF!,'Points Lookup'!$A:$B,2,FALSE)","v":{"$error":"#REF!"}},{"$f":"VLOOKUP(#REF!,'Points Lookup'!$A:$B,2,FALSE)","v":{"$error":"#REF!"}},{"$f":"VLOOKUP(#REF!,'Points Lookup'!$A:$B,2,FALSE)","v":{"$error":"#REF!"}},{"$f":"VLOOKUP(#REF!,'Points Lookup'!$A:$B,2,FALSE)","v":{"$error":"#REF!"}},{"$f":"VLOOKUP(#REF!,'Points Lookup'!$A:$B,2,FALSE)","v":{"$error":"#REF!"}},{"$f":"VLOOKUP(#REF!,'Points Lookup'!$A:$B,2,FALSE)","v":{"$error":"#REF!"}},{"$f":"VLOOKUP(#REF!,'Points Lookup'!$A:$B,2,FALSE)","v":{"$error":"#REF!"}},{"$f":"VLOOKUP(#REF!,'Points Lookup'!$A:$B,2,FALSE)","v":{"$error":"#REF!"}},{"$f":"VLOOKUP(#REF!,'Points Lookup'!$A:$B,2,FALSE)","v":{"$error":"#REF!"}},{"$f":"VLOOKUP(#REF!,'Points Lookup'!$A:$B,2,FALSE)","v":{"$error":"#REF!"}},{"$f":"VLOOKUP(#REF!,'Points Lookup'!$A:$B,2,FALSE)","v":{"$error":"#REF!"}},{"$f":"VLOOKUP(#REF!,'Points Lookup'!$A:$B,2,FALSE)","v":{"$error":"#REF!"}},{"$f":"VLOOKUP(#REF!,'Points Lookup'!$A:$B,2,FALSE)","v":{"$error":"#REF!"}},{"$f":"VLOOKUP(#REF!,'Points Lookup'!$A:$B,2,FALSE)","v":{"$error":"#REF!"}},null,{"$error":"#REF!"},{"$error":"#REF!"},{"$error":"#REF!"},{"$error":"#REF!"},{"$error":"#REF!"},{"$error":"#REF!"},{"$error":"#REF!"},{"$error":"#REF!"}]
[{"$error":"#REF!"},{"$f":"#REF!","v":{"$error":"#REF!"}},{"$f":"IF(ISBLANK(#REF!),\"\",#REF!)","v":{"$error":"#REF!"}},{"$error":"#REF!"},{"$f":"VLOOKUP(#REF!,'Points Lookup'!$A:$B,2,FALSE)","v":{"$error":"#REF!"}},{"$f":"VLOOKUP(#REF!,'Points Lookup'!$A:$B,2,FALSE)","v":{"$error":"#REF!"}},{"$f":"VLOOKUP(#REF!,'Points Lookup'!$A:$B,2,FALSE)","v":{"$error":"#REF!"}},{"$f":"VLOOKUP(#REF!,'Points Lookup'!$A:$B,2,FALSE)","v":{"$error":"#REF!"}},{"$f":"VLOOKUP(#REF!,'Points Lookup'!$A:$B,2,FALSE)","v":{"$error":"#REF!"}},{"$f":"VLOOKUP(#REF!,'Points Lookup'!$A:$B,2,FALSE)","v":{"$error":"#REF!"}},{"$f":"VLOOKUP(#REF!,'Points Lookup'!$A:$B,2,FALSE)","v":{"$error":"#REF!"}},{"$f":"VLOOKUP(#REF!,'Points Lookup'!$A:$B,2,FALSE)","v":{"$error":"#REF!"}},{"$f":"VLOOKUP(#REF!,'Points Lookup'!$A:$B,2,FALSE)","v":{"$error":"#REF!"}},{"$f":"VLOOKUP(#REF!,'Points Lookup'!$A:$B,2,FALSE)","v":{"$error":"#REF!"}},{"$f":"VLOOKUP(#REF!,'Points Lookup'!$A:$B,2,FALSE)","v":{"$error":"#REF!"}},{"$f":"VLOOKUP(#REF!,'Points Lookup'!$A:$B,2,FALSE)","v":{"$error":"#REF!"}},{"$f":"VLOOKUP(#REF!,'Points Lookup'!$A:$B,2,FALSE)","v":{"$error":"#REF!"}},{"$f":"VLOOKUP(#REF!,'Points Lookup'!$A:$B,2,FALSE)","v":{"$error":"#REF!"}},{"$f":"VLOOKUP(#REF!,'Points Lookup'!$A:$B,2,FALSE)","v":{"$error":"#REF!"}},{"$f":"VLOOKUP(#REF!,'Points Lookup'!$A:$B,2,FALSE)","v":{"$error":"#REF!"}},{"$f":"VLOOKUP(#REF!,'Points Lookup'!$A:$B,2,FALSE)","v":{"$error":"#REF!"}},{"$f":"VLOOKUP(#REF!,'Points Lookup'!$A:$B,2,FALSE)","v":{"$error":"#REF!"}},{"$f":"VLOOKUP(#REF!,'Points Lookup'!$A:$B,2,FALSE)","v":{"$error":"#REF!"}},{"$f":"VLOOKUP(#REF!,'Points Lookup'!$A:$B,2,FALSE)","v":{"$error":"#REF!"}},null,{"$error":"#REF!"},{"$error":"#REF!"},{"$error":"#REF!"},{"$error":"#REF!"},{"$error":"#REF!"},{"$error":"#REF!"},{"$error":"#REF!"},{"$error":"#REF!"}]
[{"$error":"#REF!"},{"$f":"#REF!","v":{"$error":"#REF!"}},{"$f":"IF(ISBLANK(#REF!),\"\",#REF!)","v":{"$error":"#REF!"}},{"$error":"#REF!"},{"$f":"VLOOKUP(#REF!,'Points Lookup'!$A:$B,2,FALSE)","v":{"$error":"#REF!"}},{"$f":"VLOOKUP(#REF!,'Points Lookup'!$A:$B,2,FALSE)","v":{"$error":"#REF!"}},{"$f":"VLOOKUP(#REF!,'Points Lookup'!$A:$B,2,FALSE)","v":{"$error":"#REF!"}},{"$f":"VLOOKUP(#REF!,'Points Lookup'!$A:$B,2,FALSE)","v":{"$error":"#REF!"}},{"$f":"VLOOKUP(#REF!,'Points Lookup'!$A:$B,2,FALSE)","v":{"$error":"#REF!"}},{"$f":"VLOOKUP(#REF!,'Points Lookup'!$A:$B,2,FALSE)","v":{"$error":"#REF!"}},{"$f":"VLOOKUP(#REF!,'Points Lookup'!$A:$B,2,FALSE)","v":{"$error":"#REF!"}},{"$f":"VLOOKUP(#REF!,'Points Lookup'!$A:$B,2,FALSE)","v":{"$error":"#REF!"}},{"$f":"VLOOKUP(#REF!,'Points Lookup'!$A:$B,2,FALSE)","v":{"$error":"#REF!"}},{"$f":"VLOOKUP(#REF!,'Points Lookup'!$A:$B,2,FALSE)","v":{"$error":"#REF!"}},{"$f":"VLOOKUP(#REF!,'Points Lookup'!$A:$B,2,FALSE)","v":{"$error":"#REF!"}},{"$f":"VLOOKUP(#REF!,'Points Lookup'!$A:$B,2,FALSE)","v":{"$error":"#REF!"}},{"$f":"VLOOKUP(#REF!,'Points Lookup'!$A:$B,2,FALSE)","v":{"$error":"#REF!"}},{"$f":"VLOOKUP(#REF!,'Points Lookup'!$A:$B,2,FALSE)","v":{"$error":"#REF!"}},{"$f":"VLOOKUP(#REF!,'Points Lookup'!$A:$B,2,FALSE)","v":{"$error":"#REF!"}},{"$f":"VLOOKUP(#REF!,'Points Lookup'!$A:$B,2,FALSE)","v":{"$error":"#REF!"}},{"$f":"VLOOKUP(#REF!,'Points Lookup'!$A:$B,2,FALSE)","v":{"$error":"#REF!"}},{"$f":"VLOOKUP(#REF!,'Points Lookup'!$A:$B,2,FALSE)","v":{"$error":"#REF!"}},{"$f":"VLOOKUP(#REF!,'Points Lookup'!$A:$B,2,FALSE)","v":{"$error":"#REF!"}},{"$f":"VLOOKUP(#REF!,'Points Lookup'!$A:$B,2,FALSE)","v":{"$error":"#REF!"}},null,{"$error":"#REF!"},{"$error":"#REF!"},{"$error":"#REF!"},{"$error":"#REF!"},{"$error":"#REF!"},{"$error":"#REF!"},{"$error":"#REF!"},{"$error":"#REF!"}]
[{"$error":"#REF!"},{"$f":"#REF!","v":{"$error":"#REF!"}},{"$f":"IF(ISBLANK(#REF!),\"\",#REF!)","v":{"$error":"#REF!"}},{"$error":"#REF!"},{"$f":"VLOOKUP(#REF!,'Points Lookup'!$A:$B,2,FALSE)","v":{"$error":"#REF!"}},{"$f":"VLOOKUP(#REF!,'Points Lookup'!$A:$B,2,FALSE)","v":{"$error":"#REF!"}},{"$f":"VLOOKUP(#REF!,'Points Lookup'!$A:$B,2,FALSE)","v":{"$error":"#REF!"}},{"$f":"VLOOKUP(#REF!,'Points Lookup'!$A:$B,2,FALSE)","v":{"$error":"#REF!"}},{"$f":"VLOOKUP(#REF!,'Points Lookup'!$A:$B,2,FALSE)","v":{"$error":"#REF!"}},{"$f":"VLOOKUP(#REF!,'Points Lookup'!$A:$B,2,FALSE)","v":{"$error":"#REF!"}},{"$f":"VLOOKUP(#REF!,'Points Lookup'!$A:$B,2,FALSE)","v":{"$error":"#REF!"}},{"$f":"VLOOKUP(#REF!,'Points Lookup'!$A:$B,2,FALSE)","v":{"$error":"#REF!"}},{"$f":"VLOOKUP(#REF!,'Points Lookup'!$A:$B,2,FALSE)","v":{"$error":"#REF!"}},{"$f":"VLOOKUP(#REF!,'Points Lookup'!$A:$B,2,FALSE)","v":{"$error":"#REF!"}},{"$f":"VLOOKUP(#REF!,'Points Lookup'!$A:$B,2,FALSE)","v":{"$error":"#REF!"}},{"$f":"VLOOKUP(#REF!,'Points Lookup'!$A:$B,2,FALSE)","v":{"$error":"#REF!"}},{"$f":"VLOOKUP(#REF!,'Points Lookup'!$A:$B,2,FALSE)","v":{"$error":"#REF!"}},{"$f":"VLOOKUP(#REF!,'Points Lookup'!$A:$B,2,FALSE)","v":{"$error":"#REF!"}},{"$f":"VLOOKUP(#REF!,'Points Lookup'!$A:$B,2,FALSE)","v":{"$error":"#REF!"}},{"$f":"VLOOKUP(#REF!,'Points Lookup'!$A:$B,2,FALSE)","v":{"$error":"#REF!"}},{"$f":"VLOOKUP(#REF!,'Points Lookup'!$A:$B,2,FALSE)","v":{"$error":"#REF!"}},{"$f":"VLOOKUP(#REF!,'Points Lookup'!$A:$B,2,FALSE)","v":{"$error":"#REF!"}},{"$f":"VLOOKUP(#REF!,'Points Lookup'!$A:$B,2,FALSE)","v":{"$error":"#REF!"}},{"$f":"VLOOKUP(#REF!,'Points Lookup'!$A:$B,2,FALSE)","v":{"$error":"#REF!"}},null,{"$error":"#REF!"},{"$error":"#REF!"},{"$error":"#REF!"},{"$error":"#REF!"},{"$error":"#REF!"},{"$error":"#REF!"},{"$error":"#REF!"},{"$error":"#REF!"}]
[{"$error":"#REF!"},{"$f":"#REF!","v":{"$error":"#REF!"}},{"$f":"IF(ISBLANK(#REF!),\"\",#REF!)","v":{"$error":"#REF!"}},{"$error":"#REF!"},{"$f":"VLOOKUP(#REF!,'Points Lookup'!$A:$B,2,FALSE)","v":{"$error":"#REF!"}},{"$f":"VLOOKUP(#REF!,'Points Lookup'!$A:$B,2,FALSE)","v":{"$error":"#REF!"}},{"$f":"VLOOKUP(#REF!,'Points Lookup'!$A:$B,2,FALSE)","v":{"$error":"#REF!"}},{"$f":"VLOOKUP(#REF!,'Points Lookup'!$A:$B,2,FALSE)","v":{"$error":"#REF!"}},{"$f":"VLOOKUP(#REF!,'Points Lookup'!$A:$B,2,FALSE)","v":{"$error":"#REF!"}},{"$f":"VLOOKUP(#REF!,'Points Lookup'!$A:$B,2,FALSE)","v":{"$error":"#REF!"}},{"$f":"VLOOKUP(#REF!,'Points Lookup'!$A:$B,2,FALSE)","v":{"$error":"#REF!"}},{"$f":"VLOOKUP(#REF!,'Points Lookup'!$A:$B,2,FALSE)","v":{"$error":"#REF!"}},{"$f":"VLOOKUP(#REF!,'Points Lookup'!$A:$B,2,FALSE)","v":{"$error":"#REF!"}},{"$f":"VLOOKUP(#REF!,'Points Lookup'!$A:$B,2,FALSE)","v":{"$error":"#REF!"}},{"$f":"VLOOKUP(#REF!,'Points Lookup'!$A:$B,2,FALSE)","v":{"$error":"#REF!"}},{"$f":"VLOOKUP(#REF!,'Points Lookup'!$A:$B,2,FALSE)","v":{"$error":"#REF!"}},{"$f":"VLOOKUP(#REF!,'Points Lookup'!$A:$B,2,FALSE)","v":{"$error":"#REF!"}},{"$f":"VLOOKUP(#REF!,'Points Lookup'!$A:$B,2,FALSE)","v":{"$error":"#REF!"}},{"$f":"VLOOKUP(#REF!,'Points Lookup'!$A:$B,2,FALSE)","v":{"$error":"#REF!"}},{"$f":"VLOOKUP(#REF!,'Points Lookup'!$A:$B,2,FALSE)","v":{"$error":"#REF!"}},{"$f":"VLOOKUP(#REF!,'Points Lookup'!$A:$B,2,FALSE)","v":{"$error":"#REF!"}},{"$f":"VLOOKUP(#REF!,'Points Lookup'!$A:$B,2,FALSE)","v":{"$error":"#REF!"}},{"$f":"VLOOKUP(#REF!,'Points Lookup'!$A:$B,2,FALSE)","v":{"$error":"#REF!"}},{"$f":"VLOOKUP(#REF!,'Points Lookup'!$A:$B,2,FALSE)","v":{"$error":"#REF!"}},null,{"$error":"#REF!"},{"$error":"#REF!"},{"$error":"#REF!"},{"$error":"#REF!"},{"$error":"#REF!"},{"$error":"#REF!"},{"$error":"#REF!"},{"$error":"#REF!"}]
[{"$error":"#REF!"},{"$f":"#REF!","v":{"$error":"#REF!"}},{"$f":"IF(ISBLANK(#REF!),\"\",#REF!)","v":{"$error":"#REF!"}},{"$error":"#REF!"},{"$f":"VLOOKUP(#REF!,'Points Lookup'!$A:$B,2,FALSE)","v":{"$error":"#REF!"}},{"$f":"VLOOKUP(#REF!,'Points Lookup'!$A:$B,2,FALSE)","v":{"$error":"#REF!"}},{"$f":"VLOOKUP(#REF!,'Points Lookup'!$A:$B,2,FALSE)","v":{"$error":"#REF!"}},{"$f":"VLOOKUP(#REF!,'Points Lookup'!$A:$B,2,FALSE)","v":{"$error":"#REF!"}},{"$f":"VLOOKUP(#REF!,'Points Lookup'!$A:$B,2,FALSE)","v":{"$error":"#REF!"}},{"$f":"VLOOKUP(#REF!,'Points Lookup'!$A:$B,2,FALSE)","v":{"$error":"#REF!"}},{"$f":"VLOOKUP(#REF!,'Points Lookup'!$A:$B,2,FALSE)","v":{"$error":"#REF!"}},{"$f":"VLOOKUP(#REF!,'Points Lookup'!$A:$B,2,FALSE)","v":{"$error":"#REF!"}},{"$f":"VLOOKUP(#REF!,'Points Lookup'!$A:$B,2,FALSE)","v":{"$error":"#REF!"}},{"$f":"VLOOKUP(#REF!,'Points Lookup'!$A:$B,2,FALSE)","v":{"$error":"#REF!"}},{"$f":"VLOOKUP(#REF!,'Points Lookup'!$A:$B,2,FALSE)","v":{"$error":"#REF!"}},{"$f":"VLOOKUP(#REF!,'Points Lookup'!$A:$B,2,FALSE)","v":{"$error":"#REF!"}},{"$f":"VLOOKUP(#REF!,'Points Lookup'!$A:$B,2,FALSE)","v":{"$error":"#REF!"}},{"$f":"VLOOKUP(#REF!,'Points Lookup'!$A:$B,2,FALSE)","v":{"$error":"#REF!"}},{"$f":"VLOOKUP(#REF!,'Points Lookup'!$A:$B,2,FALSE)","v":{"$error":"#REF!"}},{"$f":"VLOOKUP(#REF!,'Points Lookup'!$A:$B,2,FALSE)","v":{"$error":"#REF!"}},{"$f":"VLOOKUP(#REF!,'Points Lookup'!$A:$B,2,FALSE)","v":{"$error":"#REF!"}},{"$f":"VLOOKUP(#REF!,'Points Lookup'!$A:$B,2,FALSE)","v":{"$error":"#REF!"}},{"$f":"VLOOKUP(#REF!,'Points Lookup'!$A:$B,2,FALSE)","v":{"$error":"#REF!"}},{"$f":"VLOOKUP(#REF!,'Points Lookup'!$A:$B,2,FALSE)","v":{"$error":"#REF!"}},null,{"$error":"#REF!"},{"$error":"#REF!"},{"$error":"#REF!"},{"$error":"#REF!"},{"$error":"#REF!"},{"$error":"#REF!"},{"$error":"#REF!"},{"$error":"#REF!"}]
[{"$error":"#REF!"},{"$f":"#REF!","v":{"$error":"#REF!"}},{"$f":"IF(ISBLANK(#REF!),\"\",#REF!)","v":{"$error":"#REF!"}},{"$error":"#REF!"},{"$f":"VLOOKUP(#REF!,'Points Lookup'!$A:$B,2,FALSE)","v":{"$error":"#REF!"}},{"$f":"VLOOKUP(#REF!,'Points Lookup'!$A:$B,2,FALSE)","v":{"$error":"#REF!"}},{"$f":"VLOOKUP(#REF!,'Points Lookup'!$A:$B,2,FALSE)","v":{"$error":"#REF!"}},{"$f":"VLOOKUP(#REF!,'Points Lookup'!$A:$B,2,FALSE)","v":{"$error":"#REF!"}},{"$f":"VLOOKUP(#REF!,'Points Lookup'!$A:$B,2,FALSE)","v":{"$error":"#REF!"}},{"$f":"VLOOKUP(#REF!,'Points Lookup'!$A:$B,2,FALSE)","v":{"$error":"#REF!"}},{"$f":"VLOOKUP(#REF!,'Points Lookup'!$A:$B,2,FALSE)","v":{"$error":"#REF!"}},{"$f":"VLOOKUP(#REF!,'Points Lookup'!$A:$B,2,FALSE)","v":{"$error":"#REF!"}},{"$f":"VLOOKUP(#REF!,'Points Lookup'!$A:$B,2,FALSE)","v":{"$error":"#REF!"}},{"$f":"VLOOKUP(#REF!,'Points Lookup'!$A:$B,2,FALSE)","v":{"$error":"#REF!"}},{"$f":"VLOOKUP(#REF!,'Points Lookup'!$A:$B,2,FALSE)","v":{"$error":"#REF!"}},{"$f":"VLOOKUP(#REF!,'Points Lookup'!$A:$B,2,FALSE)","v":{"$error":"#REF!"}},{"$f":"VLOOKUP(#REF!,'Points Lookup'!$A:$B,2,FALSE)","v":{"$error":"#REF!"}},{"$f":"VLOOKUP(#REF!,'Points Lookup'!$A:$B,2,FALSE)","v":{"$error":"#REF!"}},{"$f":"VLOOKUP(#REF!,'Points Lookup'!$A:$B,2,FALSE)","v":{"$error":"#REF!"}},{"$f":"VLOOKUP(#REF!,'Points Lookup'!$A:$B,2,FALSE)","v":{"$error":"#REF!"}},{"$f":"VLOOKUP(#REF!,'Points Lookup'!$A:$B,2,FALSE)","v":{"$error":"#REF!"}},{"$f":"VLOOKUP(#REF!,'Points Lookup'!$A:$B,2,FALSE)","v":{"$error":"#REF!"}},{"$f":"VLOOKUP(#REF!,'Points Lookup'!$A:$B,2,FALSE)","v":{"$error":"#REF!"}},{"$f":"VLOOKUP(#REF!,'Points Lookup'!$A:$B,2,FALSE)","v":{"$error":"#REF!"}},null,{"$error":"#REF!"},{"$error":"#REF!"},{"$error":"#REF!"},{"$error":"#REF!"},{"$error":"#REF!"},{"$error":"#REF!"},{"$error":"#REF!"},{"$error":"#REF!"}]
[{"$error":"#REF!"},{"$f":"#REF!","v":{"$error":"#REF!"}},{"$f":"IF(ISBLANK(#REF!),\"\",#REF!)","v":{"$error":"#REF!"}},{"$error":"#REF!"},{"$f":"VLOOKUP(#REF!,'Points Lookup'!$A:$B,2,FALSE)","v":{"$error":"#REF!"}},{"$f":"VLOOKUP(#REF!,'Points Lookup'!$A:$B,2,FALSE)","v":{"$error":"#REF!"}},{"$f":"VLOOKUP(#REF!,'Points Lookup'!$A:$B,2,FALSE)","v":{"$error":"#REF!"}},{"$f":"VLOOKUP(#REF!,'Points Lookup'!$A:$B,2,FALSE)","v":{"$error":"#REF!"}},{"$f":"VLOOKUP(#REF!,'Points Lookup'!$A:$B,2,FALSE)","v":{"$error":"#REF!"}},{"$f":"VLOOKUP(#REF!,'Points Lookup'!$A:$B,2,FALSE)","v":{"$error":"#REF!"}},{"$f":"VLOOKUP(#REF!,'Points Lookup'!$A:$B,2,FALSE)","v":{"$error":"#REF!"}},{"$f":"VLOOKUP(#REF!,'Points Lookup'!$A:$B,2,FALSE)","v":{"$error":"#REF!"}},{"$f":"VLOOKUP(#REF!,'Points Lookup'!$A:$B,2,FALSE)","v":{"$error":"#REF!"}},{"$f":"VLOOKUP(#REF!,'Points Lookup'!$A:$B,2,FALSE)","v":{"$error":"#REF!"}},{"$f":"VLOOKUP(#REF!,'Points Lookup'!$A:$B,2,FALSE)","v":{"$error":"#REF!"}},{"$f":"VLOOKUP(#REF!,'Points Lookup'!$A:$B,2,FALSE)","v":{"$error":"#REF!"}},{"$f":"VLOOKUP(#REF!,'Points Lookup'!$A:$B,2,FALSE)","v":{"$error":"#REF!"}},{"$f":"VLOOKUP(#REF!,'Points Lookup'!$A:$B,2,FALSE)","v":{"$error":"#REF!"}},{"$f":"VLOOKUP(#REF!,'Points Lookup'!$A:$B,2,FALSE)","v":{"$error":"#REF!"}},{"$f":"VLOOKUP(#REF!,'Points Lookup'!$A:$B,2,FALSE)","v":{"$error":"#REF!"}},{"$f":"VLOOKUP(#REF!,'Points Lookup'!$A:$B,2,FALSE)","v":{"$error":"#REF!"}},{"$f":"VLOOKUP(#REF!,'Points Lookup'!$A:$B,2,FALSE)","v":{"$error":"#REF!"}},{"$f":"VLOOKUP(#REF!,'Points Lookup'!$A:$B,2,FALSE)","v":{"$error":"#REF!"}},{"$f":"VLOOKUP(#REF!,'Points Lookup'!$A:$B,2,FALSE)","v":{"$error":"#REF!"}},null,{"$f":"LARGE($E192:$X192,Z$1)","v":{"$error":"#REF!"}},{"$error":"#REF!"},{"$error":"#REF!"},{"$error":"#REF!"},{"$error":"#REF!"},{"$error":"#REF!"},{"$error":"#REF!"},{"$error":"#REF!"}]
[{"$error":"#REF!"},{"$f":"#REF!","v":{"$error":"#REF!"}},{"$f":"IF(ISBLANK(#REF!),\"\",#REF!)","v":{"$error":"#REF!"}},{"$error":"#REF!"},{"$f":"VLOOKUP(#REF!,'Points Lookup'!$A:$B,2,FALSE)","v":{"$error":"#REF!"}},{"$f":"VLOOKUP(#REF!,'Points Lookup'!$A:$B,2,FALSE)","v":{"$error":"#REF!"}},{"$f":"VLOOKUP(#REF!,'Points Lookup'!$A:$B,2,FALSE)","v":{"$error":"#REF!"}},{"$f":"VLOOKUP(#REF!,'Points Lookup'!$A:$B,2,FALSE)","v":{"$error":"#REF!"}},{"$f":"VLOOKUP(#REF!,'Points Lookup'!$A:$B,2,FALSE)","v":{"$error":"#REF!"}},{"$f":"VLOOKUP(#REF!,'Points Lookup'!$A:$B,2,FALSE)","v":{"$error":"#REF!"}},{"$f":"VLOOKUP(#REF!,'Points Lookup'!$A:$B,2,FALSE)","v":{"$error":"#REF!"}},{"$f":"VLOOKUP(#REF!,'Points Lookup'!$A:$B,2,FALSE)","v":{"$error":"#REF!"}},{"$f":"VLOOKUP(#REF!,'Points Lookup'!$A:$B,2,FALSE)","v":{"$error":"#REF!"}},{"$f":"VLOOKUP(#REF!,'Points Lookup'!$A:$B,2,FALSE)","v":{"$error":"#REF!"}},{"$f":"VLOOKUP(#REF!,'Points Lookup'!$A:$B,2,FALSE)","v":{"$error":"#REF!"}},{"$f":"VLOOKUP(#REF!,'Points Lookup'!$A:$B,2,FALSE)","v":{"$error":"#REF!"}},{"$f":"VLOOKUP(#REF!,'Points Lookup'!$A:$B,2,FALSE)","v":{"$error":"#REF!"}},{"$f":"VLOOKUP(#REF!,'Points Lookup'!$A:$B,2,FALSE)","v":{"$error":"#REF!"}},{"$f":"VLOOKUP(#REF!,'Points Lookup'!$A:$B,2,FALSE)","v":{"$error":"#REF!"}},{"$f":"VLOOKUP(#REF!,'Points Lookup'!$A:$B,2,FALSE)","v":{"$error":"#REF!"}},{"$f":"VLOOKUP(#REF!,'Points Lookup'!$A:$B,2,FALSE)","v":{"$error":"#REF!"}},{"$f":"VLOOKUP(#REF!,'Points Lookup'!$A:$B,2,FALSE)","v":{"$error":"#REF!"}},{"$f":"VLOOKUP(#REF!,'Points Lookup'!$A:$B,2,FALSE)","v":{"$error":"#REF!"}},{"$f":"VLOOKUP(#REF!,'Points Lookup'!$A:$B,2,FALSE)","v":{"$error":"#REF!"}},null,{"$error":"#REF!"},{"$error":"#REF!"},{"$error":"#REF!"},{"$error":"#REF!"},{"$error":"#REF!"},{"$error":"#REF!"},{"$error":"#REF!"},{"$error":"#REF!"}]
[{"$error":"#REF!"},{"$f":"#REF!","v":{"$error":"#REF!"}},{"$f":"IF(ISBLANK(#REF!),\"\",#REF!)","v":{"$error":"#REF!"}},{"$error":"#REF!"},{"$f":"VLOOKUP(#REF!,'Points Lookup'!$A:$B,2,FALSE)","v":{"$error":"#REF!"}},{"$f":"VLOOKUP(#REF!,'Points Lookup'!$A:$B,2,FALSE)","v":{"$error":"#REF!"}},{"$f":"VLOOKUP(#REF!,'Points Lookup'!$A:$B,2,FALSE)","v":{"$error":"#REF!"}},{"$f":"VLOOKUP(#REF!,'Points Lookup'!$A:$B,2,FALSE)","v":{"$error":"#REF!"}},{"$f":"VLOOKUP(#REF!,'Points Lookup'!$A:$B,2,FALSE)","v":{"$error":"#REF!"}},{"$f":"VLOOKUP(#REF!,'Points Lookup'!$A:$B,2,FALSE)","v":{"$error":"#REF!"}},{"$f":"VLOOKUP(#REF!,'Points Lookup'!$A:$B,2,FALSE)","v":{"$error":"#REF!"}},{"$f":"VLOOKUP(#REF!,'Points Lookup'!$A:$B,2,FALSE)","v":{"$error":"#REF!"}},{"$f":"VLOOKUP(#REF!,'Points Lookup'!$A:$B,2,FALSE)","v":{"$error":"#REF!"}},{"$f":"VLOOKUP(#REF!,'Points Lookup'!$A:$B,2,FALSE)","v":{"$error":"#REF!"}},{"$f":"VLOOKUP(#REF!,'Points Lookup'!$A:$B,2,FALSE)","v":{"$error":"#REF!"}},{"$f":"VLOOKUP(#REF!,'Points Lookup'!$A:$B,2,FALSE)","v":{"$error":"#REF!"}},{"$f":"VLOOKUP(#REF!,'Points Lookup'!$A:$B,2,FALSE)","v":{"$error":"#REF!"}},{"$f":"VLOOKUP(#REF!,'Points Lookup'!$A:$B,2,FALSE)","v":{"$error":"#REF!"}},{"$f":"VLOOKUP(#REF!,'Points Lookup'!$A:$B,2,FALSE)","v":{"$error":"#REF!"}},{"$f":"VLOOKUP(#REF!,'Points Lookup'!$A:$B,2,FALSE)","v":{"$error":"#REF!"}},{"$f":"VLOOKUP(#REF!,'Points Lookup'!$A:$B,2,FALSE)","v":{"$error":"#REF!"}},{"$f":"VLOOKUP(#REF!,'Points Lookup'!$A:$B,2,FALSE)","v":{"$error":"#REF!"}},{"$f":"VLOOKUP(#REF!,'Points Lookup'!$A:$B,2,FALSE)","v":{"$error":"#REF!"}},{"$f":"VLOOKUP(#REF!,'Points Lookup'!$A:$B,2,FALSE)","v":{"$error":"#REF!"}},null,{"$error":"#REF!"},{"$error":"#REF!"},{"$error":"#REF!"},{"$error":"#REF!"},{"$error":"#REF!"},{"$error":"#REF!"},{"$error":"#REF!"},{"$error":"#REF!"}]
[{"$error":"#REF!"},{"$f":"#REF!","v":{"$error":"#REF!"}},{"$f":"IF(ISBLANK(#REF!),\"\",#REF!)","v":{"$error":"#REF!"}},{"$f":"SUM(Z195:AG195)","v":{"$error":"#REF!"}},{"$f":"VLOOKUP(#REF!,'Points Lookup'!$A:$B,2,FALSE)","v":{"$error":"#REF!"}},{"$f":"VLOOKUP(#REF!,'Points Lookup'!$A:$B,2,FALSE)","v":{"$error":"#REF!"}},{"$f":"VLOOKUP(#REF!,'Points Lookup'!$A:$B,2,FALSE)","v":{"$error":"#REF!"}},{"$f":"VLOOKUP(#REF!,'Points Lookup'!$A:$B,2,FALSE)","v":{"$error":"#REF!"}},{"$f":"VLOOKUP(#REF!,'Points Lookup'!$A:$B,2,FALSE)","v":{"$error":"#REF!"}},{"$f":"VLOOKUP(#REF!,'Points Lookup'!$A:$B,2,FALSE)","v":{"$error":"#REF!"}},{"$f":"VLOOKUP(#REF!,'Points Lookup'!$A:$B,2,FALSE)","v":{"$error":"#REF!"}},{"$f":"VLOOKUP(#REF!,'Points Lookup'!$A:$B,2,FALSE)","v":{"$error":"#REF!"}},{"$f":"VLOOKUP(#REF!,'Points Lookup'!$A:$B,2,FALSE)","v":{"$error":"#REF!"}},{"$f":"VLOOKUP(#REF!,'Points Lookup'!$A:$B,2,FALSE)","v":{"$error":"#REF!"}},{"$f":"VLOOKUP(#REF!,'Points Lookup'!$A:$B,2,FALSE)","v":{"$error":"#REF!"}},{"$f":"VLOOKUP(#REF!,'Points Lookup'!$A:$B,2,FALSE)","v":{"$error":"#REF!"}},{"$f":"VLOOKUP(#REF!,'Points Lookup'!$A:$B,2,FALSE)","v":{"$error":"#REF!"}},{"$f":"VLOOKUP(#REF!,'Points Lookup'!$A:$B,2,FALSE)","v":{"$error":"#REF!"}},{"$f":"VLOOKUP(#REF!,'Points Lookup'!$A:$B,2,FALSE)","v":{"$error":"#REF!"}},{"$f":"VLOOKUP(#REF!,'Points Lookup'!$A:$B,2,FALSE)","v":{"$error":"#REF!"}},{"$f":"VLOOKUP(#REF!,'Points Lookup'!$A:$B,2,FALSE)","v":{"$error":"#REF!"}},{"$f":"VLOOKUP(#REF!,'Points Lookup'!$A:$B,2,FALSE)","v":{"$error":"#REF!"}},{"$f":"VLOOKUP(#REF!,'Points Lookup'!$A:$B,2,FALSE)","v":{"$error":"#REF!"}},{"$f":"VLOOKUP(#REF!,'Points Lookup'!$A:$B,2,FALSE)","v":{"$error":"#REF!"}},null,{"$error":"#REF!"},{"$error":"#REF!"},{"$error":"#REF!"},{"$error":"#REF!"},{"$error":"#REF!"},{"$error":"#REF!"},{"$error":"#REF!"},{"$error":"#REF!"}]
[{"$error":"#REF!"},{"$f":"#REF!","v":{"$error":"#REF!"}},{"$f":"IF(ISBLANK(#REF!),\"\",#REF!)","v":{"$error":"#REF!"}},{"$error":"#REF!"},{"$f":"VLOOKUP(#REF!,'Points Lookup'!$A:$B,2,FALSE)","v":{"$error":"#REF!"}},{"$f":"VLOOKUP(#REF!,'Points Lookup'!$A:$B,2,FALSE)","v":{"$error":"#REF!"}},{"$f":"VLOOKUP(#REF!,'Points Lookup'!$A:$B,2,FALSE)","v":{"$error":"#REF!"}},{"$f":"VLOOKUP(#REF!,'Points Lookup'!$A:$B,2,FALSE)","v":{"$error":"#REF!"}},{"$f":"VLOOKUP(#REF!,'Points Lookup'!$A:$B,2,FALSE)","v":{"$error":"#REF!"}},{"$f":"VLOOKUP(#REF!,'Points Lookup'!$A:$B,2,FALSE)","v":{"$error":"#REF!"}},{"$f":"VLOOKUP(#REF!,'Points Lookup'!$A:$B,2,FALSE)","v":{"$error":"#REF!"}},{"$f":"VLOOKUP(#REF!,'Points Lookup'!$A:$B,2,FALSE)","v":{"$error":"#REF!"}},{"$f":"VLOOKUP(#REF!,'Points Lookup'!$A:$B,2,FALSE)","v":{"$error":"#REF!"}},{"$f":"VLOOKUP(#REF!,'Points Lookup'!$A:$B,2,FALSE)","v":{"$error":"#REF!"}},{"$f":"VLOOKUP(#REF!,'Points Lookup'!$A:$B,2,FALSE)","v":{"$error":"#REF!"}},{"$f":"VLOOKUP(#REF!,'Points Lookup'!$A:$B,2,FALSE)","v":{"$error":"#REF!"}},{"$f":"VLOOKUP(#REF!,'Points Lookup'!$A:$B,2,FALSE)","v":{"$error":"#REF!"}},{"$f":"VLOOKUP(#REF!,'Points Lookup'!$A:$B,2,FALSE)","v":{"$error":"#REF!"}},{"$f":"VLOOKUP(#REF!,'Points Lookup'!$A:$B,2,FALSE)","v":{"$error":"#REF!"}},{"$f":"VLOOKUP(#REF!,'Points Lookup'!$A:$B,2,FALSE)","v":{"$error":"#REF!"}},{"$f":"VLOOKUP(#REF!,'Points Lookup'!$A:$B,2,FALSE)","v":{"$error":"#REF!"}},{"$f":"VLOOKUP(#REF!,'Points Lookup'!$A:$B,2,FALSE)","v":{"$error":"#REF!"}},{"$f":"VLOOKUP(#REF!,'Points Lookup'!$A:$B,2,FALSE)","v":{"$error":"#REF!"}},{"$f":"VLOOKUP(#REF!,'Points Lookup'!$A:$B,2,FALSE)","v":{"$error":"#REF!"}},null,{"$error":"#REF!"},{"$error":"#REF!"},{"$error":"#REF!"},{"$error":"#REF!"},{"$error":"#REF!"},{"$error":"#REF!"},{"$error":"#REF!"},{"$error":"#REF!"}]
[{"$error":"#REF!"},{"$f":"#REF!","v":{"$error":"#REF!"}},{"$f":"IF(ISBLANK(#REF!),\"\",#REF!)","v":{"$error":"#REF!"}},{"$error":"#REF!"},{"$f":"VLOOKUP(#REF!,'Points Lookup'!$A:$B,2,FALSE)","v":{"$error":"#REF!"}},{"$f":"VLOOKUP(#REF!,'Points Lookup'!$A:$B,2,FALSE)","v":{"$error":"#REF!"}},{"$f":"VLOOKUP(#REF!,'Points Lookup'!$A:$B,2,FALSE)","v":{"$error":"#REF!"}},{"$f":"VLOOKUP(#REF!,'Points Lookup'!$A:$B,2,FALSE)","v":{"$error":"#REF!"}},{"$f":"VLOOKUP(#REF!,'Points Lookup'!$A:$B,2,FALSE)","v":{"$error":"#REF!"}},{"$f":"VLOOKUP(#REF!,'Points Lookup'!$A:$B,2,FALSE)","v":{"$error":"#REF!"}},{"$f":"VLOOKUP(#REF!,'Points Lookup'!$A:$B,2,FALSE)","v":{"$error":"#REF!"}},{"$f":"VLOOKUP(#REF!,'Points Lookup'!$A:$B,2,FALSE)","v":{"$error":"#REF!"}},{"$f":"VLOOKUP(#REF!,'Points Lookup'!$A:$B,2,FALSE)","v":{"$error":"#REF!"}},{"$f":"VLOOKUP(#REF!,'Points Lookup'!$A:$B,2,FALSE)","v":{"$error":"#REF!"}},{"$f":"VLOOKUP(#REF!,'Points Lookup'!$A:$B,2,FALSE)","v":{"$error":"#REF!"}},{"$f":"VLOOKUP(#REF!,'Points Lookup'!$A:$B,2,FALSE)","v":{"$error":"#REF!"}},{"$f":"VLOOKUP(#REF!,'Points Lookup'!$A:$B,2,FALSE)","v":{"$error":"#REF!"}},{"$f":"VLOOKUP(#REF!,'Points Lookup'!$A:$B,2,FALSE)","v":{"$error":"#REF!"}},{"$f":"VLOOKUP(#REF!,'Points Lookup'!$A:$B,2,FALSE)","v":{"$error":"#REF!"}},{"$f":"VLOOKUP(#REF!,'Points Lookup'!$A:$B,2,FALSE)","v":{"$error":"#REF!"}},{"$f":"VLOOKUP(#REF!,'Points Lookup'!$A:$B,2,FALSE)","v":{"$error":"#REF!"}},{"$f":"VLOOKUP(#REF!,'Points Lookup'!$A:$B,2,FALSE)","v":{"$error":"#REF!"}},{"$f":"VLOOKUP(#REF!,'Points Lookup'!$A:$B,2,FALSE)","v":{"$error":"#REF!"}},{"$f":"VLOOKUP(#REF!,'Points Lookup'!$A:$B,2,FALSE)","v":{"$error":"#REF!"}},null,{"$error":"#REF!"},{"$error":"#REF!"},{"$error":"#REF!"},{"$error":"#REF!"},{"$error":"#REF!"},{"$error":"#REF!"},{"$error":"#REF!"},{"$error":"#REF!"}]
[{"$error":"#REF!"},{"$f":"#REF!","v":{"$error":"#REF!"}},{"$f":"IF(ISBLANK(#REF!),\"\",#REF!)","v":{"$error":"#REF!"}},{"$error":"#REF!"},{"$f":"VLOOKUP(#REF!,'Points Lookup'!$A:$B,2,FALSE)","v":{"$error":"#REF!"}},{"$f":"VLOOKUP(#REF!,'Points Lookup'!$A:$B,2,FALSE)","v":{"$error":"#REF!"}},{"$f":"VLOOKUP(#REF!,'Points Lookup'!$A:$B,2,FALSE)","v":{"$error":"#REF!"}},{"$f":"VLOOKUP(#REF!,'Points Lookup'!$A:$B,2,FALSE)","v":{"$error":"#REF!"}},{"$f":"VLOOKUP(#REF!,'Points Lookup'!$A:$B,2,FALSE)","v":{"$error":"#REF!"}},{"$f":"VLOOKUP(#REF!,'Points Lookup'!$A:$B,2,FALSE)","v":{"$error":"#REF!"}},{"$f":"VLOOKUP(#REF!,'Points Lookup'!$A:$B,2,FALSE)","v":{"$error":"#REF!"}},{"$f":"VLOOKUP(#REF!,'Points Lookup'!$A:$B,2,FALSE)","v":{"$error":"#REF!"}},{"$f":"VLOOKUP(#REF!,'Points Lookup'!$A:$B,2,FALSE)","v":{"$error":"#REF!"}},{"$f":"VLOOKUP(#REF!,'Points Lookup'!$A:$B,2,FALSE)","v":{"$error":"#REF!"}},{"$f":"VLOOKUP(#REF!,'Points Lookup'!$A:$B,2,FALSE)","v":{"$error":"#REF!"}},{"$f":"VLOOKUP(#REF!,'Points Lookup'!$A:$B,2,FALSE)","v":{"$error":"#REF!"}},{"$f":"VLOOKUP(#REF!,'Points Lookup'!$A:$B,2,FALSE)","v":{"$error":"#REF!"}},{"$f":"VLOOKUP(#REF!,'Points Lookup'!$A:$B,2,FALSE)","v":{"$error":"#REF!"}},{"$f":"VLOOKUP(#REF!,'Points Lookup'!$A:$B,2,FALSE)","v":{"$error":"#REF!"}},{"$f":"VLOOKUP(#REF!,'Points Lookup'!$A:$B,2,FALSE)","v":{"$error":"#REF!"}},{"$f":"VLOOKUP(#REF!,'Points Lookup'!$A:$B,2,FALSE)","v":{"$error":"#REF!"}},{"$f":"VLOOKUP(#REF!,'Points Lookup'!$A:$B,2,FALSE)","v":{"$error":"#REF!"}},{"$f":"VLOOKUP(#REF!,'Points Lookup'!$A:$B,2,FALSE)","v":{"$error":"#REF!"}},{"$f":"VLOOKUP(#REF!,'Points Lookup'!$A:$B,2,FALSE)","v":{"$error":"#REF!"}},null,{"$error":"#REF!"},{"$error":"#REF!"},{"$error":"#REF!"},{"$error":"#REF!"},{"$error":"#REF!"},{"$error":"#REF!"},{"$error":"#REF!"},{"$error":"#REF!"}]
[{"$error":"#REF!"},{"$f":"#REF!","v":{"$error":"#REF!"}},{"$f":"IF(ISBLANK(#REF!),\"\",#REF!)","v":{"$error":"#REF!"}},{"$error":"#REF!"},{"$f":"VLOOKUP(#REF!,'Points Lookup'!$A:$B,2,FALSE)","v":{"$error":"#REF!"}},{"$f":"VLOOKUP(#REF!,'Points Lookup'!$A:$B,2,FALSE)","v":{"$error":"#REF!"}},{"$f":"VLOOKUP(#REF!,'Points Lookup'!$A:$B,2,FALSE)","v":{"$error":"#REF!"}},{"$f":"VLOOKUP(#REF!,'Points Lookup'!$A:$B,2,FALSE)","v":{"$error":"#REF!"}},{"$f":"VLOOKUP(#REF!,'Points Lookup'!$A:$B,2,FALSE)","v":{"$error":"#REF!"}},{"$f":"VLOOKUP(#REF!,'Points Lookup'!$A:$B,2,FALSE)","v":{"$error":"#REF!"}},{"$f":"VLOOKUP(#REF!,'Points Lookup'!$A:$B,2,FALSE)","v":{"$error":"#REF!"}},{"$f":"VLOOKUP(#REF!,'Points Lookup'!$A:$B,2,FALSE)","v":{"$error":"#REF!"}},{"$f":"VLOOKUP(#REF!,'Points Lookup'!$A:$B,2,FALSE)","v":{"$error":"#REF!"}},{"$f":"VLOOKUP(#REF!,'Points Lookup'!$A:$B,2,FALSE)","v":{"$error":"#REF!"}},{"$f":"VLOOKUP(#REF!,'Points Lookup'!$A:$B,2,FALSE)","v":{"$error":"#REF!"}},{"$f":"VLOOKUP(#REF!,'Points Lookup'!$A:$B,2,FALSE)","v":{"$error":"#REF!"}},{"$f":"VLOOKUP(#REF!,'Points Lookup'!$A:$B,2,FALSE)","v":{"$error":"#REF!"}},{"$f":"VLOOKUP(#REF!,'Points Lookup'!$A:$B,2,FALSE)","v":{"$error":"#REF!"}},{"$f":"VLOOKUP(#REF!,'Points Lookup'!$A:$B,2,FALSE)","v":{"$error":"#REF!"}},{"$f":"VLOOKUP(#REF!,'Points Lookup'!$A:$B,2,FALSE)","v":{"$error":"#REF!"}},{"$f":"VLOOKUP(#REF!,'Points Lookup'!$A:$B,2,FALSE)","v":{"$error":"#REF!"}},{"$f":"VLOOKUP(#REF!,'Points Lookup'!$A:$B,2,FALSE)","v":{"$error":"#REF!"}},{"$f":"VLOOKUP(#REF!,'Points Lookup'!$A:$B,2,FALSE)","v":{"$error":"#REF!"}},{"$f":"VLOOKUP(#REF!,'Points Lookup'!$A:$B,2,FALSE)","v":{"$error":"#REF!"}},null,{"$error":"#REF!"},{"$error":"#REF!"},{"$error":"#REF!"},{"$error":"#REF!"},{"$error":"#REF!"},{"$error":"#REF!"},{"$error":"#REF!"},{"$error":"#REF!"}]
[{"$error":"#REF!"},{"$f":"#REF!","v":{"$error":"#REF!"}},{"$f":"IF(ISBLANK(#REF!),\"\",#REF!)","v":{"$error":"#REF!"}},{"$error":"#REF!"},{"$f":"VLOOKUP(#REF!,'Points Lookup'!$A:$B,2,FALSE)","v":{"$error":"#REF!"}},{"$f":"VLOOKUP(#REF!,'Points Lookup'!$A:$B,2,FALSE)","v":{"$error":"#REF!"}},{"$f":"VLOOKUP(#REF!,'Points Lookup'!$A:$B,2,FALSE)","v":{"$error":"#REF!"}},{"$f":"VLOOKUP(#REF!,'Points Lookup'!$A:$B,2,FALSE)","v":{"$error":"#REF!"}},{"$f":"VLOOKUP(#REF!,'Points Lookup'!$A:$B,2,FALSE)","v":{"$error":"#REF!"}},{"$f":"VLOOKUP(#REF!,'Points Lookup'!$A:$B,2,FALSE)","v":{"$error":"#REF!"}},{"$f":"VLOOKUP(#REF!,'Points Lookup'!$A:$B,2,FALSE)","v":{"$error":"#REF!"}},{"$f":"VLOOKUP(#REF!,'Points Lookup'!$A:$B,2,FALSE)","v":{"$error":"#REF!"}},{"$f":"VLOOKUP(#REF!,'Points Lookup'!$A:$B,2,FALSE)","v":{"$error":"#REF!"}},{"$f":"VLOOKUP(#REF!,'Points Lookup'!$A:$B,2,FALSE)","v":{"$error":"#REF!"}},{"$f":"VLOOKUP(#REF!,'Points Lookup'!$A:$B,2,FALSE)","v":{"$error":"#REF!"}},{"$f":"VLOOKUP(#REF!,'Points Lookup'!$A:$B,2,FALSE)","v":{"$error":"#REF!"}},{"$f":"VLOOKUP(#REF!,'Points Lookup'!$A:$B,2,FALSE)","v":{"$error":"#REF!"}},{"$f":"VLOOKUP(#REF!,'Points Lookup'!$A:$B,2,FALSE)","v":{"$error":"#REF!"}},{"$f":"VLOOKUP(#REF!,'Points Lookup'!$A:$B,2,FALSE)","v":{"$error":"#REF!"}},{"$f":"VLOOKUP(#REF!,'Points Lookup'!$A:$B,2,FALSE)","v":{"$error":"#REF!"}},{"$f":"VLOOKUP(#REF!,'Points Lookup'!$A:$B,2,FALSE)","v":{"$error":"#REF!"}},{"$f":"VLOOKUP(#REF!,'Points Lookup'!$A:$B,2,FALSE)","v":{"$error":"#REF!"}},{"$f":"VLOOKUP(#REF!,'Points Lookup'!$A:$B,2,FALSE)","v":{"$error":"#REF!"}},{"$f":"VLOOKUP(#REF!,'Points Lookup'!$A:$B,2,FALSE)","v":{"$error":"#REF!"}},null,{"$error":"#REF!"},{"$error":"#REF!"},{"$error":"#REF!"},{"$error":"#REF!"},{"$error":"#REF!"},{"$error":"#REF!"},{"$error":"#REF!"},{"$error":"#REF!"}]
[{"$error":"#REF!"},{"$f":"#REF!","v":{"$error":"#REF!"}},{"$f":"IF(ISBLANK(#REF!),\"\",#REF!)","v":{"$error":"#REF!"}},{"$error":"#REF!"},{"$f":"VLOOKUP(#REF!,'Points Lookup'!$A:$B,2,FALSE)","v":{"$error":"#REF!"}},{"$f":"VLOOKUP(#REF!,'Points Lookup'!$A:$B,2,FALSE)","v":{"$error":"#REF!"}},{"$f":"VLOOKUP(#REF!,'Points Lookup'!$A:$B,2,FALSE)","v":{"$error":"#REF!"}},{"$f":"VLOOKUP(#REF!,'Points Lookup'!$A:$B,2,FALSE)","v":{"$error":"#REF!"}},{"$f":"VLOOKUP(#REF!,'Points Lookup'!$A:$B,2,FALSE)","v":{"$error":"#REF!"}},{"$f":"VLOOKUP(#REF!,'Points Lookup'!$A:$B,2,FALSE)","v":{"$error":"#REF!"}},{"$f":"VLOOKUP(#REF!,'Points Lookup'!$A:$B,2,FALSE)","v":{"$error":"#REF!"}},{"$f":"VLOOKUP(#REF!,'Points Lookup'!$A:$B,2,FALSE)","v":{"$error":"#REF!"}},{"$f":"VLOOKUP(#REF!,'Points Lookup'!$A:$B,2,FALSE)","v":{"$error":"#REF!"}},{"$f":"VLOOKUP(#REF!,'Points Lookup'!$A:$B,2,FALSE)","v":{"$error":"#REF!"}},{"$f":"VLOOKUP(#REF!,'Points Lookup'!$A:$B,2,FALSE)","v":{"$error":"#REF!"}},{"$f":"VLOOKUP(#REF!,'Points Lookup'!$A:$B,2,FALSE)","v":{"$error":"#REF!"}},{"$f":"VLOOKUP(#REF!,'Points Lookup'!$A:$B,2,FALSE)","v":{"$error":"#REF!"}},{"$f":"VLOOKUP(#REF!,'Points Lookup'!$A:$B,2,FALSE)","v":{"$error":"#REF!"}},{"$f":"VLOOKUP(#REF!,'Points Lookup'!$A:$B,2,FALSE)","v":{"$error":"#REF!"}},{"$f":"VLOOKUP(#REF!,'Points Lookup'!$A:$B,2,FALSE)","v":{"$error":"#REF!"}},{"$f":"VLOOKUP(#REF!,'Points Lookup'!$A:$B,2,FALSE)","v":{"$error":"#REF!"}},{"$f":"VLOOKUP(#REF!,'Points Lookup'!$A:$B,2,FALSE)","v":{"$error":"#REF!"}},{"$f":"VLOOKUP(#REF!,'Points Lookup'!$A:$B,2,FALSE)","v":{"$error":"#REF!"}},{"$f":"VLOOKUP(#REF!,'Points Lookup'!$A:$B,2,FALSE)","v":{"$error":"#REF!"}},null,{"$error":"#REF!"},{"$error":"#REF!"},{"$error":"#REF!"},{"$error":"#REF!"},{"$error":"#REF!"},{"$error":"#REF!"},{"$error":"#REF!"},{"$error":"#REF!"}]
[{"$error":"#REF!"},{"$f":"#REF!","v":{"$error":"#REF!"}},{"$f":"IF(ISBLANK(#REF!),\"\",#REF!)","v":{"$error":"#REF!"}},{"$error":"#REF!"},{"$f":"VLOOKUP(#REF!,'Points Lookup'!$A:$B,2,FALSE)","v":{"$error":"#REF!"}},{"$f":"VLOOKUP(#REF!,'Points Lookup'!$A:$B,2,FALSE)","v":{"$error":"#REF!"}},{"$f":"VLOOKUP(#REF!,'Points Lookup'!$A:$B,2,FALSE)","v":{"$error":"#REF!"}},{"$f":"VLOOKUP(#REF!,'Points Lookup'!$A:$B,2,FALSE)","v":{"$error":"#REF!"}},{"$f":"VLOOKUP(#REF!,'Points Lookup'!$A:$B,2,FALSE)","v":{"$error":"#REF!"}},{"$f":"VLOOKUP(#REF!,'Points Lookup'!$A:$B,2,FALSE)","v":{"$error":"#REF!"}},{"$f":"VLOOKUP(#REF!,'Points Lookup'!$A:$B,2,FALSE)","v":{"$error":"#REF!"}},{"$f":"VLOOKUP(#REF!,'Points Lookup'!$A:$B,2,FALSE)","v":{"$error":"#REF!"}},{"$f":"VLOOKUP(#REF!,'Points Lookup'!$A:$B,2,FALSE)","v":{"$error":"#REF!"}},{"$f":"VLOOKUP(#REF!,'Points Lookup'!$A:$B,2,FALSE)","v":{"$error":"#REF!"}},{"$f":"VLOOKUP(#REF!,'Points Lookup'!$A:$B,2,FALSE)","v":{"$error":"#REF!"}},{"$f":"VLOOKUP(#REF!,'Points Lookup'!$A:$B,2,FALSE)","v":{"$error":"#REF!"}},{"$f":"VLOOKUP(#REF!,'Points Lookup'!$A:$B,2,FALSE)","v":{"$error":"#REF!"}},{"$f":"VLOOKUP(#REF!,'Points Lookup'!$A:$B,2,FALSE)","v":{"$error":"#REF!"}},{"$f":"VLOOKUP(#REF!,'Points Lookup'!$A:$B,2,FALSE)","v":{"$error":"#REF!"}},{"$f":"VLOOKUP(#REF!,'Points Lookup'!$A:$B,2,FALSE)","v":{"$error":"#REF!"}},{"$f":"VLOOKUP(#REF!,'Points Lookup'!$A:$B,2,FALSE)","v":{"$error":"#REF!"}},{"$f":"VLOOKUP(#REF!,'Points Lookup'!$A:$B,2,FALSE)","v":{"$error":"#REF!"}},{"$f":"VLOOKUP(#REF!,'Points Lookup'!$A:$B,2,FALSE)","v":{"$error":"#REF!"}},{"$f":"VLOOKUP(#REF!,'Points Lookup'!$A:$B,2,FALSE)","v":{"$error":"#REF!"}},null,{"$f":"LARGE($E202:$X202,Z$1)","v":{"$error":"#REF!"}},{"$error":"#REF!"},{"$error":"#REF!"},{"$error":"#REF!"},{"$error":"#REF!"},{"$error":"#REF!"},{"$error":"#REF!"},{"$error":"#REF!"}]
[{"$error":"#REF!"},{"$f":"#REF!","v":{"$error":"#REF!"}},{"$f":"IF(ISBLANK(#REF!),\"\",#REF!)","v":{"$error":"#REF!"}},{"$error":"#REF!"},{"$f":"VLOOKUP(#REF!,'Points Lookup'!$A:$B,2,FALSE)","v":{"$error":"#REF!"}},{"$f":"VLOOKUP(#REF!,'Points Lookup'!$A:$B,2,FALSE)","v":{"$error":"#REF!"}},{"$f":"VLOOKUP(#REF!,'Points Lookup'!$A:$B,2,FALSE)","v":{"$error":"#REF!"}},{"$f":"VLOOKUP(#REF!,'Points Lookup'!$A:$B,2,FALSE)","v":{"$error":"#REF!"}},{"$f":"VLOOKUP(#REF!,'Points Lookup'!$A:$B,2,FALSE)","v":{"$error":"#REF!"}},{"$f":"VLOOKUP(#REF!,'Points Lookup'!$A:$B,2,FALSE)","v":{"$error":"#REF!"}},{"$f":"VLOOKUP(#REF!,'Points Lookup'!$A:$B,2,FALSE)","v":{"$error":"#REF!"}},{"$f":"VLOOKUP(#REF!,'Points Lookup'!$A:$B,2,FALSE)","v":{"$error":"#REF!"}},{"$f":"VLOOKUP(#REF!,'Points Lookup'!$A:$B,2,FALSE)","v":{"$error":"#REF!"}},{"$f":"VLOOKUP(#REF!,'Points Lookup'!$A:$B,2,FALSE)","v":{"$error":"#REF!"}},{"$f":"VLOOKUP(#REF!,'Points Lookup'!$A:$B,2,FALSE)","v":{"$error":"#REF!"}},{"$f":"VLOOKUP(#REF!,'Points Lookup'!$A:$B,2,FALSE)","v":{"$error":"#REF!"}},{"$f":"VLOOKUP(#REF!,'Points Lookup'!$A:$B,2,FALSE)","v":{"$error":"#REF!"}},{"$f":"VLOOKUP(#REF!,'Points Lookup'!$A:$B,2,FALSE)","v":{"$error":"#REF!"}},{"$f":"VLOOKUP(#REF!,'Points Lookup'!$A:$B,2,FALSE)","v":{"$error":"#REF!"}},{"$f":"VLOOKUP(#REF!,'Points Lookup'!$A:$B,2,FALSE)","v":{"$error":"#REF!"}},{"$f":"VLOOKUP(#REF!,'Points Lookup'!$A:$B,2,FALSE)","v":{"$error":"#REF!"}},{"$f":"VLOOKUP(#REF!,'Points Lookup'!$A:$B,2,FALSE)","v":{"$error":"#REF!"}},{"$f":"VLOOKUP(#REF!,'Points Lookup'!$A:$B,2,FALSE)","v":{"$error":"#REF!"}},{"$f":"VLOOKUP(#REF!,'Points Lookup'!$A:$B,2,FALSE)","v":{"$error":"#REF!"}},null,{"$error":"#REF!"},{"$error":"#REF!"},{"$error":"#REF!"},{"$error":"#REF!"},{"$error":"#REF!"},{"$error":"#REF!"},{"$error":"#REF!"},{"$error":"#REF!"}]
[{"$error":"#REF!"},{"$f":"#REF!","v":{"$error":"#REF!"}},{"$f":"IF(ISBLANK(#REF!),\"\",#REF!)","v":{"$error":"#REF!"}},{"$error":"#REF!"},{"$f":"VLOOKUP(#REF!,'Points Lookup'!$A:$B,2,FALSE)","v":{"$error":"#REF!"}},{"$f":"VLOOKUP(#REF!,'Points Lookup'!$A:$B,2,FALSE)","v":{"$error":"#REF!"}},{"$f":"VLOOKUP(#REF!,'Points Lookup'!$A:$B,2,FALSE)","v":{"$error":"#REF!"}},{"$f":"VLOOKUP(#REF!,'Points Lookup'!$A:$B,2,FALSE)","v":{"$error":"#REF!"}},{"$f":"VLOOKUP(#REF!,'Points Lookup'!$A:$B,2,FALSE)","v":{"$error":"#REF!"}},{"$f":"VLOOKUP(#REF!,'Points Lookup'!$A:$B,2,FALSE)","v":{"$error":"#REF!"}},{"$f":"VLOOKUP(#REF!,'Points Lookup'!$A:$B,2,FALSE)","v":{"$error":"#REF!"}},{"$f":"VLOOKUP(#REF!,'Points Lookup'!$A:$B,2,FALSE)","v":{"$error":"#REF!"}},{"$f":"VLOOKUP(#REF!,'Points Lookup'!$A:$B,2,FALSE)","v":{"$error":"#REF!"}},{"$f":"VLOOKUP(#REF!,'Points Lookup'!$A:$B,2,FALSE)","v":{"$error":"#REF!"}},{"$f":"VLOOKUP(#REF!,'Points Lookup'!$A:$B,2,FALSE)","v":{"$error":"#REF!"}},{"$f":"VLOOKUP(#REF!,'Points Lookup'!$A:$B,2,FALSE)","v":{"$error":"#REF!"}},{"$f":"VLOOKUP(#REF!,'Points Lookup'!$A:$B,2,FALSE)","v":{"$error":"#REF!"}},{"$f":"VLOOKUP(#REF!,'Points Lookup'!$A:$B,2,FALSE)","v":{"$error":"#REF!"}},{"$f":"VLOOKUP(#REF!,'Points Lookup'!$A:$B,2,FALSE)","v":{"$error":"#REF!"}},{"$f":"VLOOKUP(#REF!,'Points Lookup'!$A:$B,2,FALSE)","v":{"$error":"#REF!"}},{"$f":"VLOOKUP(#REF!,'Points Lookup'!$A:$B,2,FALSE)","v":{"$error":"#REF!"}},{"$f":"VLOOKUP(#REF!,'Points Lookup'!$A:$B,2,FALSE)","v":{"$error":"#REF!"}},{"$f":"VLOOKUP(#REF!,'Points Lookup'!$A:$B,2,FALSE)","v":{"$error":"#REF!"}},{"$f":"VLOOKUP(#REF!,'Points Lookup'!$A:$B,2,FALSE)","v":{"$error":"#REF!"}},null,{"$error":"#REF!"},{"$error":"#REF!"},{"$error":"#REF!"},{"$error":"#REF!"},{"$error":"#REF!"},{"$error":"#REF!"},{"$error":"#REF!"},{"$error":"#REF!"}]
[{"$error":"#REF!"},{"$f":"#REF!","v":{"$error":"#REF!"}},{"$f":"IF(ISBLANK(#REF!),\"\",#REF!)","v":{"$error":"#REF!"}},{"$error":"#REF!"},{"$f":"VLOOKUP(#REF!,'Points Lookup'!$A:$B,2,FALSE)","v":{"$error":"#REF!"}},{"$f":"VLOOKUP(#REF!,'Points Lookup'!$A:$B,2,FALSE)","v":{"$error":"#REF!"}},{"$f":"VLOOKUP(#REF!,'Points Lookup'!$A:$B,2,FALSE)","v":{"$error":"#REF!"}},{"$f":"VLOOKUP(#REF!,'Points Lookup'!$A:$B,2,FALSE)","v":{"$error":"#REF!"}},{"$f":"VLOOKUP(#REF!,'Points Lookup'!$A:$B,2,FALSE)","v":{"$error":"#REF!"}},{"$f":"VLOOKUP(#REF!,'Points Lookup'!$A:$B,2,FALSE)","v":{"$error":"#REF!"}},{"$f":"VLOOKUP(#REF!,'Points Lookup'!$A:$B,2,FALSE)","v":{"$error":"#REF!"}},{"$f":"VLOOKUP(#REF!,'Points Lookup'!$A:$B,2,FALSE)","v":{"$error":"#REF!"}},{"$f":"VLOOKUP(#REF!,'Points Lookup'!$A:$B,2,FALSE)","v":{"$error":"#REF!"}},{"$f":"VLOOKUP(#REF!,'Points Lookup'!$A:$B,2,FALSE)","v":{"$error":"#REF!"}},{"$f":"VLOOKUP(#REF!,'Points Lookup'!$A:$B,2,FALSE)","v":{"$error":"#REF!"}},{"$f":"VLOOKUP(#REF!,'Points Lookup'!$A:$B,2,FALSE)","v":{"$error":"#REF!"}},{"$f":"VLOOKUP(#REF!,'Points Lookup'!$A:$B,2,FALSE)","v":{"$error":"#REF!"}},{"$f":"VLOOKUP(#REF!,'Points Lookup'!$A:$B,2,FALSE)","v":{"$error":"#REF!"}},{"$f":"VLOOKUP(#REF!,'Points Lookup'!$A:$B,2,FALSE)","v":{"$error":"#REF!"}},{"$f":"VLOOKUP(#REF!,'Points Lookup'!$A:$B,2,FALSE)","v":{"$error":"#REF!"}},{"$f":"VLOOKUP(#REF!,'Points Lookup'!$A:$B,2,FALSE)","v":{"$error":"#REF!"}},{"$f":"VLOOKUP(#REF!,'Points Lookup'!$A:$B,2,FALSE)","v":{"$error":"#REF!"}},{"$f":"VLOOKUP(#REF!,'Points Lookup'!$A:$B,2,FALSE)","v":{"$error":"#REF!"}},{"$f":"VLOOKUP(#REF!,'Points Lookup'!$A:$B,2,FALSE)","v":{"$error":"#REF!"}},null,{"$error":"#REF!"},{"$error":"#REF!"},{"$error":"#REF!"},{"$error":"#REF!"},{"$error":"#REF!"},{"$error":"#REF!"},{"$error":"#REF!"},{"$error":"#REF!"}]
[{"$error":"#REF!"},{"$f":"#REF!","v":{"$error":"#REF!"}},{"$f":"IF(ISBLANK(#REF!),\"\",#REF!)","v":{"$error":"#REF!"}},{"$error":"#REF!"},{"$f":"VLOOKUP(#REF!,'Points Lookup'!$A:$B,2,FALSE)","v":{"$error":"#REF!"}},{"$f":"VLOOKUP(#REF!,'Points Lookup'!$A:$B,2,FALSE)","v":{"$error":"#REF!"}},{"$f":"VLOOKUP(#REF!,'Points Lookup'!$A:$B,2,FALSE)","v":{"$error":"#REF!"}},{"$f":"VLOOKUP(#REF!,'Points Lookup'!$A:$B,2,FALSE)","v":{"$error":"#REF!"}},{"$f":"VLOOKUP(#REF!,'Points Lookup'!$A:$B,2,FALSE)","v":{"$error":"#REF!"}},{"$f":"VLOOKUP(#REF!,'Points Lookup'!$A:$B,2,FALSE)","v":{"$error":"#REF!"}},{"$f":"VLOOKUP(#REF!,'Points Lookup'!$A:$B,2,FALSE)","v":{"$error":"#REF!"}},{"$f":"VLOOKUP(#REF!,'Points Lookup'!$A:$B,2,FALSE)","v":{"$error":"#REF!"}},{"$f":"VLOOKUP(#REF!,'Points Lookup'!$A:$B,2,FALSE)","v":{"$error":"#REF!"}},{"$f":"VLOOKUP(#REF!,'Points Lookup'!$A:$B,2,FALSE)","v":{"$error":"#REF!"}},{"$f":"VLOOKUP(#REF!,'Points Lookup'!$A:$B,2,FALSE)","v":{"$error":"#REF!"}},{"$f":"VLOOKUP(#REF!,'Points Lookup'!$A:$B,2,FALSE)","v":{"$error":"#REF!"}},{"$f":"VLOOKUP(#REF!,'Points Lookup'!$A:$B,2,FALSE)","v":{"$error":"#REF!"}},{"$f":"VLOOKUP(#REF!,'Points Lookup'!$A:$B,2,FALSE)","v":{"$error":"#REF!"}},{"$f":"VLOOKUP(#REF!,'Points Lookup'!$A:$B,2,FALSE)","v":{"$error":"#REF!"}},{"$f":"VLOOKUP(#REF!,'Points Lookup'!$A:$B,2,FALSE)","v":{"$error":"#REF!"}},{"$f":"VLOOKUP(#REF!,'Points Lookup'!$A:$B,2,FALSE)","v":{"$error":"#REF!"}},{"$f":"VLOOKUP(#REF!,'Points Lookup'!$A:$B,2,FALSE)","v":{"$error":"#REF!"}},{"$f":"VLOOKUP(#REF!,'Points Lookup'!$A:$B,2,FALSE)","v":{"$error":"#REF!"}},{"$f":"VLOOKUP(#REF!,'Points Lookup'!$A:$B,2,FALSE)","v":{"$error":"#REF!"}},null,{"$error":"#REF!"},{"$error":"#REF!"},{"$error":"#REF!"},{"$error":"#REF!"},{"$error":"#REF!"},{"$error":"#REF!"},{"$error":"#REF!"},{"$error":"#REF!"}]
[{"$error":"#REF!"},{"$f":"#REF!","v":{"$error":"#REF!"}},{"$f":"IF(ISBLANK(#REF!),\"\",#REF!)","v":{"$error":"#REF!"}},{"$error":"#REF!"},{"$f":"VLOOKUP(#REF!,'Points Lookup'!$A:$B,2,FALSE)","v":{"$error":"#REF!"}},{"$f":"VLOOKUP(#REF!,'Points Lookup'!$A:$B,2,FALSE)","v":{"$error":"#REF!"}},{"$f":"VLOOKUP(#REF!,'Points Lookup'!$A:$B,2,FALSE)","v":{"$error":"#REF!"}},{"$f":"VLOOKUP(#REF!,'Points Lookup'!$A:$B,2,FALSE)","v":{"$error":"#REF!"}},{"$f":"VLOOKUP(#REF!,'Points Lookup'!$A:$B,2,FALSE)","v":{"$error":"#REF!"}},{"$f":"VLOOKUP(#REF!,'Points Lookup'!$A:$B,2,FALSE)","v":{"$error":"#REF!"}},{"$f":"VLOOKUP(#REF!,'Points Lookup'!$A:$B,2,FALSE)","v":{"$error":"#REF!"}},{"$f":"VLOOKUP(#REF!,'Points Lookup'!$A:$B,2,FALSE)","v":{"$error":"#REF!"}},{"$f":"VLOOKUP(#REF!,'Points Lookup'!$A:$B,2,FALSE)","v":{"$error":"#REF!"}},{"$f":"VLOOKUP(#REF!,'Points Lookup'!$A:$B,2,FALSE)","v":{"$error":"#REF!"}},{"$f":"VLOOKUP(#REF!,'Points Lookup'!$A:$B,2,FALSE)","v":{"$error":"#REF!"}},{"$f":"VLOOKUP(#REF!,'Points Lookup'!$A:$B,2,FALSE)","v":{"$error":"#REF!"}},{"$f":"VLOOKUP(#REF!,'Points Lookup'!$A:$B,2,FALSE)","v":{"$error":"#REF!"}},{"$f":"VLOOKUP(#REF!,'Points Lookup'!$A:$B,2,FALSE)","v":{"$error":"#REF!"}},{"$f":"VLOOKUP(#REF!,'Points Lookup'!$A:$B,2,FALSE)","v":{"$error":"#REF!"}},{"$f":"VLOOKUP(#REF!,'Points Lookup'!$A:$B,2,FALSE)","v":{"$error":"#REF!"}},{"$f":"VLOOKUP(#REF!,'Points Lookup'!$A:$B,2,FALSE)","v":{"$error":"#REF!"}},{"$f":"VLOOKUP(#REF!,'Points Lookup'!$A:$B,2,FALSE)","v":{"$error":"#REF!"}},{"$f":"VLOOKUP(#REF!,'Points Lookup'!$A:$B,2,FALSE)","v":{"$error":"#REF!"}},{"$f":"VLOOKUP(#REF!,'Points Lookup'!$A:$B,2,FALSE)","v":{"$error":"#REF!"}},null,{"$error":"#REF!"},{"$error":"#REF!"},{"$error":"#REF!"},{"$error":"#REF!"},{"$error":"#REF!"},{"$error":"#REF!"},{"$error":"#REF!"},{"$error":"#REF!"}]
[{"$error":"#REF!"},{"$f":"#REF!","v":{"$error":"#REF!"}},{"$f":"IF(ISBLANK(#REF!),\"\",#REF!)","v":{"$error":"#REF!"}},{"$error":"#REF!"},{"$f":"VLOOKUP(#REF!,'Points Lookup'!$A:$B,2,FALSE)","v":{"$error":"#REF!"}},{"$f":"VLOOKUP(#REF!,'Points Lookup'!$A:$B,2,FALSE)","v":{"$error":"#REF!"}},{"$f":"VLOOKUP(#REF!,'Points Lookup'!$A:$B,2,FALSE)","v":{"$error":"#REF!"}},{"$f":"VLOOKUP(#REF!,'Points Lookup'!$A:$B,2,FALSE)","v":{"$error":"#REF!"}},{"$f":"VLOOKUP(#REF!,'Points Lookup'!$A:$B,2,FALSE)","v":{"$error":"#REF!"}},{"$f":"VLOOKUP(#REF!,'Points Lookup'!$A:$B,2,FALSE)","v":{"$error":"#REF!"}},{"$f":"VLOOKUP(#REF!,'Points Lookup'!$A:$B,2,FALSE)","v":{"$error":"#REF!"}},{"$f":"VLOOKUP(#REF!,'Points Lookup'!$A:$B,2,FALSE)","v":{"$error":"#REF!"}},{"$f":"VLOOKUP(#REF!,'Points Lookup'!$A:$B,2,FALSE)","v":{"$error":"#REF!"}},{"$f":"VLOOKUP(#REF!,'Points Lookup'!$A:$B,2,FALSE)","v":{"$error":"#REF!"}},{"$f":"VLOOKUP(#REF!,'Points Lookup'!$A:$B,2,FALSE)","v":{"$error":"#REF!"}},{"$f":"VLOOKUP(#REF!,'Points Lookup'!$A:$B,2,FALSE)","v":{"$error":"#REF!"}},{"$f":"VLOOKUP(#REF!,'Points Lookup'!$A:$B,2,FALSE)","v":{"$error":"#REF!"}},{"$f":"VLOOKUP(#REF!,'Points Lookup'!$A:$B,2,FALSE)","v":{"$error":"#REF!"}},{"$f":"VLOOKUP(#REF!,'Points Lookup'!$A:$B,2,FALSE)","v":{"$error":"#REF!"}},{"$f":"VLOOKUP(#REF!,'Points Lookup'!$A:$B,2,FALSE)","v":{"$error":"#REF!"}},{"$f":"VLOOKUP(#REF!,'Points Lookup'!$A:$B,2,FALSE)","v":{"$error":"#REF!"}},{"$f":"VLOOKUP(#REF!,'Points Lookup'!$A:$B,2,FALSE)","v":{"$error":"#REF!"}},{"$f":"VLOOKUP(#REF!,'Points Lookup'!$A:$B,2,FALSE)","v":{"$error":"#REF!"}},{"$f":"VLOOKUP(#REF!,'Points Lookup'!$A:$B,2,FALSE)","v":{"$error":"#REF!"}},null,{"$error":"#REF!"},{"$error":"#REF!"},{"$error":"#REF!"},{"$error":"#REF!"},{"$error":"#REF!"},{"$error":"#REF!"},{"$error":"#REF!"},{"$error":"#REF!"}]
[{"$error":"#REF!"},{"$f":"#REF!","v":{"$error":"#REF!"}},{"$f":"IF(ISBLANK(#REF!),\"\",#REF!)","v":{"$error":"#REF!"}},{"$error":"#REF!"},{"$f":"VLOOKUP(#REF!,'Points Lookup'!$A:$B,2,FALSE)","v":{"$error":"#REF!"}},{"$f":"VLOOKUP(#REF!,'Points Lookup'!$A:$B,2,FALSE)","v":{"$error":"#REF!"}},{"$f":"VLOOKUP(#REF!,'Points Lookup'!$A:$B,2,FALSE)","v":{"$error":"#REF!"}},{"$f":"VLOOKUP(#REF!,'Points Lookup'!$A:$B,2,FALSE)","v":{"$error":"#REF!"}},{"$f":"VLOOKUP(#REF!,'Points Lookup'!$A:$B,2,FALSE)","v":{"$error":"#REF!"}},{"$f":"VLOOKUP(#REF!,'Points Lookup'!$A:$B,2,FALSE)","v":{"$error":"#REF!"}},{"$f":"VLOOKUP(#REF!,'Points Lookup'!$A:$B,2,FALSE)","v":{"$error":"#REF!"}},{"$f":"VLOOKUP(#REF!,'Points Lookup'!$A:$B,2,FALSE)","v":{"$error":"#REF!"}},{"$f":"VLOOKUP(#REF!,'Points Lookup'!$A:$B,2,FALSE)","v":{"$error":"#REF!"}},{"$f":"VLOOKUP(#REF!,'Points Lookup'!$A:$B,2,FALSE)","v":{"$error":"#REF!"}},{"$f":"VLOOKUP(#REF!,'Points Lookup'!$A:$B,2,FALSE)","v":{"$error":"#REF!"}},{"$f":"VLOOKUP(#REF!,'Points Lookup'!$A:$B,2,FALSE)","v":{"$error":"#REF!"}},{"$f":"VLOOKUP(#REF!,'Points Lookup'!$A:$B,2,FALSE)","v":{"$error":"#REF!"}},{"$f":"VLOOKUP(#REF!,'Points Lookup'!$A:$B,2,FALSE)","v":{"$error":"#REF!"}},{"$f":"VLOOKUP(#REF!,'Points Lookup'!$A:$B,2,FALSE)","v":{"$error":"#REF!"}},{"$f":"VLOOKUP(#REF!,'Points Lookup'!$A:$B,2,FALSE)","v":{"$error":"#REF!"}},{"$f":"VLOOKUP(#REF!,'Points Lookup'!$A:$B,2,FALSE)","v":{"$error":"#REF!"}},{"$f":"VLOOKUP(#REF!,'Points Lookup'!$A:$B,2,FALSE)","v":{"$error":"#REF!"}},{"$f":"VLOOKUP(#REF!,'Points Lookup'!$A:$B,2,FALSE)","v":{"$error":"#REF!"}},{"$f":"VLOOKUP(#REF!,'Points Lookup'!$A:$B,2,FALSE)","v":{"$error":"#REF!"}},null,{"$error":"#REF!"},{"$error":"#REF!"},{"$error":"#REF!"},{"$error":"#REF!"},{"$error":"#REF!"},{"$error":"#REF!"},{"$error":"#REF!"},{"$error":"#REF!"}]
[{"$error":"#REF!"},{"$f":"#REF!","v":{"$error":"#REF!"}},{"$f":"IF(ISBLANK(#REF!),\"\",#REF!)","v":{"$error":"#REF!"}},{"$error":"#REF!"},{"$f":"VLOOKUP(#REF!,'Points Lookup'!$A:$B,2,FALSE)","v":{"$error":"#REF!"}},{"$f":"VLOOKUP(#REF!,'Points Lookup'!$A:$B,2,FALSE)","v":{"$error":"#REF!"}},{"$f":"VLOOKUP(#REF!,'Points Lookup'!$A:$B,2,FALSE)","v":{"$error":"#REF!"}},{"$f":"VLOOKUP(#REF!,'Points Lookup'!$A:$B,2,FALSE)","v":{"$error":"#REF!"}},{"$f":"VLOOKUP(#REF!,'Points Lookup'!$A:$B,2,FALSE)","v":{"$error":"#REF!"}},{"$f":"VLOOKUP(#REF!,'Points Lookup'!$A:$B,2,FALSE)","v":{"$error":"#REF!"}},{"$f":"VLOOKUP(#REF!,'Points Lookup'!$A:$B,2,FALSE)","v":{"$error":"#REF!"}},{"$f":"VLOOKUP(#REF!,'Points Lookup'!$A:$B,2,FALSE)","v":{"$error":"#REF!"}},{"$f":"VLOOKUP(#REF!,'Points Lookup'!$A:$B,2,FALSE)","v":{"$error":"#REF!"}},{"$f":"VLOOKUP(#REF!,'Points Lookup'!$A:$B,2,FALSE)","v":{"$error":"#REF!"}},{"$f":"VLOOKUP(#REF!,'Points Lookup'!$A:$B,2,FALSE)","v":{"$error":"#REF!"}},{"$f":"VLOOKUP(#REF!,'Points Lookup'!$A:$B,2,FALSE)","v":{"$error":"#REF!"}},{"$f":"VLOOKUP(#REF!,'Points Lookup'!$A:$B,2,FALSE)","v":{"$error":"#REF!"}},{"$f":"VLOOKUP(#REF!,'Points Lookup'!$A:$B,2,FALSE)","v":{"$error":"#REF!"}},{"$f":"VLOOKUP(#REF!,'Points Lookup'!$A:$B,2,FALSE)","v":{"$error":"#REF!"}},{"$f":"VLOOKUP(#REF!,'Points Lookup'!$A:$B,2,FALSE)","v":{"$error":"#REF!"}},{"$f":"VLOOKUP(#REF!,'Points Lookup'!$A:$B,2,FALSE)","v":{"$error":"#REF!"}},{"$f":"VLOOKUP(#REF!,'Points Lookup'!$A:$B,2,FALSE)","v":{"$error":"#REF!"}},{"$f":"VLOOKUP(#REF!,'Points Lookup'!$A:$B,2,FALSE)","v":{"$error":"#REF!"}},{"$f":"VLOOKUP(#REF!,'Points Lookup'!$A:$B,2,FALSE)","v":{"$error":"#REF!"}},null,{"$error":"#REF!"},{"$error":"#REF!"},{"$error":"#REF!"},{"$error":"#REF!"},{"$error":"#REF!"},{"$error":"#REF!"},{"$error":"#REF!"},{"$error":"#REF!"}]
[{"$error":"#REF!"},{"$f":"#REF!","v":{"$error":"#REF!"}},{"$f":"IF(ISBLANK(#REF!),\"\",#REF!)","v":{"$error":"#REF!"}},{"$error":"#REF!"},{"$f":"VLOOKUP(#REF!,'Points Lookup'!$A:$B,2,FALSE)","v":{"$error":"#REF!"}},{"$f":"VLOOKUP(#REF!,'Points Lookup'!$A:$B,2,FALSE)","v":{"$error":"#REF!"}},{"$f":"VLOOKUP(#REF!,'Points Lookup'!$A:$B,2,FALSE)","v":{"$error":"#REF!"}},{"$f":"VLOOKUP(#REF!,'Points Lookup'!$A:$B,2,FALSE)","v":{"$error":"#REF!"}},{"$f":"VLOOKUP(#REF!,'Points Lookup'!$A:$B,2,FALSE)","v":{"$error":"#REF!"}},{"$f":"VLOOKUP(#REF!,'Points Lookup'!$A:$B,2,FALSE)","v":{"$error":"#REF!"}},{"$f":"VLOOKUP(#REF!,'Points Lookup'!$A:$B,2,FALSE)","v":{"$error":"#REF!"}},{"$f":"VLOOKUP(#REF!,'Points Lookup'!$A:$B,2,FALSE)","v":{"$error":"#REF!"}},{"$f":"VLOOKUP(#REF!,'Points Lookup'!$A:$B,2,FALSE)","v":{"$error":"#REF!"}},{"$f":"VLOOKUP(#REF!,'Points Lookup'!$A:$B,2,FALSE)","v":{"$error":"#REF!"}},{"$f":"VLOOKUP(#REF!,'Points Lookup'!$A:$B,2,FALSE)","v":{"$error":"#REF!"}},{"$f":"VLOOKUP(#REF!,'Points Lookup'!$A:$B,2,FALSE)","v":{"$error":"#REF!"}},{"$f":"VLOOKUP(#REF!,'Points Lookup'!$A:$B,2,FALSE)","v":{"$error":"#REF!"}},{"$f":"VLOOKUP(#REF!,'Points Lookup'!$A:$B,2,FALSE)","v":{"$error":"#REF!"}},{"$f":"VLOOKUP(#REF!,'Points Lookup'!$A:$B,2,FALSE)","v":{"$error":"#REF!"}},{"$f":"VLOOKUP(#REF!,'Points Lookup'!$A:$B,2,FALSE)","v":{"$error":"#REF!"}},{"$f":"VLOOKUP(#REF!,'Points Lookup'!$A:$B,2,FALSE)","v":{"$error":"#REF!"}},{"$f":"VLOOKUP(#REF!,'Points Lookup'!$A:$B,2,FALSE)","v":{"$error":"#REF!"}},{"$f":"VLOOKUP(#REF!,'Points Lookup'!$A:$B,2,FALSE)","v":{"$error":"#REF!"}},{"$f":"VLOOKUP(#REF!,'Points Lookup'!$A:$B,2,FALSE)","v":{"$error":"#REF!"}},null,{"$error":"#REF!"},{"$error":"#REF!"},{"$error":"#REF!"},{"$error":"#REF!"},{"$error":"#REF!"},{"$error":"#REF!"},{"$error":"#REF!"},{"$error":"#REF!"}]
[{"$error":"#REF!"},{"$f":"#REF!","v":{"$error":"#REF!"}},{"$f":"IF(ISBLANK(#REF!),\"\",#REF!)","v":{"$error":"#REF!"}},{"$error":"#REF!"},{"$f":"VLOOKUP(#REF!,'Points Lookup'!$A:$B,2,FALSE)","v":{"$error":"#REF!"}},{"$f":"VLOOKUP(#REF!,'Points Lookup'!$A:$B,2,FALSE)","v":{"$error":"#REF!"}},{"$f":"VLOOKUP(#REF!,'Points Lookup'!$A:$B,2,FALSE)","v":{"$error":"#REF!"}},{"$f":"VLOOKUP(#REF!,'Points Lookup'!$A:$B,2,FALSE)","v":{"$error":"#REF!"}},{"$f":"VLOOKUP(#REF!,'Points Lookup'!$A:$B,2,FALSE)","v":{"$error":"#REF!"}},{"$f":"VLOOKUP(#REF!,'Points Lookup'!$A:$B,2,FALSE)","v":{"$error":"#REF!"}},{"$f":"VLOOKUP(#REF!,'Points Lookup'!$A:$B,2,FALSE)","v":{"$error":"#REF!"}},{"$f":"VLOOKUP(#REF!,'Points Lookup'!$A:$B,2,FALSE)","v":{"$error":"#REF!"}},{"$f":"VLOOKUP(#REF!,'Points Lookup'!$A:$B,2,FALSE)","v":{"$error":"#REF!"}},{"$f":"VLOOKUP(#REF!,'Points Lookup'!$A:$B,2,FALSE)","v":{"$error":"#REF!"}},{"$f":"VLOOKUP(#REF!,'Points Lookup'!$A:$B,2,FALSE)","v":{"$error":"#REF!"}},{"$f":"VLOOKUP(#REF!,'Points Lookup'!$A:$B,2,FALSE)","v":{"$error":"#REF!"}},{"$f":"VLOOKUP(#REF!,'Points Lookup'!$A:$B,2,FALSE)","v":{"$error":"#REF!"}},{"$f":"VLOOKUP(#REF!,'Points Lookup'!$A:$B,2,FALSE)","v":{"$error":"#REF!"}},{"$f":"VLOOKUP(#REF!,'Points Lookup'!$A:$B,2,FALSE)","v":{"$error":"#REF!"}},{"$f":"VLOOKUP(#REF!,'Points Lookup'!$A:$B,2,FALSE)","v":{"$error":"#REF!"}},{"$f":"VLOOKUP(#REF!,'Points Lookup'!$A:$B,2,FALSE)","v":{"$error":"#REF!"}},{"$f":"VLOOKUP(#REF!,'Points Lookup'!$A:$B,2,FALSE)","v":{"$error":"#REF!"}},{"$f":"VLOOKUP(#REF!,'Points Lookup'!$A:$B,2,FALSE)","v":{"$error":"#REF!"}},{"$f":"VLOOKUP(#REF!,'Points Lookup'!$A:$B,2,FALSE)","v":{"$error":"#REF!"}},null,{"$f":"LARGE($E212:$X212,Z$1)","v":{"$error":"#REF!"}},{"$error":"#REF!"},{"$error":"#REF!"},{"$error":"#REF!"},{"$error":"#REF!"},{"$error":"#REF!"},{"$error":"#REF!"},{"$error":"#REF!"}]
[{"$error":"#REF!"},{"$f":"#REF!","v":{"$error":"#REF!"}},{"$f":"IF(ISBLANK(#REF!),\"\",#REF!)","v":{"$error":"#REF!"}},{"$error":"#REF!"},{"$f":"VLOOKUP(#REF!,'Points Lookup'!$A:$B,2,FALSE)","v":{"$error":"#REF!"}},{"$f":"VLOOKUP(#REF!,'Points Lookup'!$A:$B,2,FALSE)","v":{"$error":"#REF!"}},{"$f":"VLOOKUP(#REF!,'Points Lookup'!$A:$B,2,FALSE)","v":{"$error":"#REF!"}},{"$f":"VLOOKUP(#REF!,'Points Lookup'!$A:$B,2,FALSE)","v":{"$error":"#REF!"}},{"$f":"VLOOKUP(#REF!,'Points Lookup'!$A:$B,2,FALSE)","v":{"$error":"#REF!"}},{"$f":"VLOOKUP(#REF!,'Points Lookup'!$A:$B,2,FALSE)","v":{"$error":"#REF!"}},{"$f":"VLOOKUP(#REF!,'Points Lookup'!$A:$B,2,FALSE)","v":{"$error":"#REF!"}},{"$f":"VLOOKUP(#REF!,'Points Lookup'!$A:$B,2,FALSE)","v":{"$error":"#REF!"}},{"$f":"VLOOKUP(#REF!,'Points Lookup'!$A:$B,2,FALSE)","v":{"$error":"#REF!"}},{"$f":"VLOOKUP(#REF!,'Points Lookup'!$A:$B,2,FALSE)","v":{"$error":"#REF!"}},{"$f":"VLOOKUP(#REF!,'Points Lookup'!$A:$B,2,FALSE)","v":{"$error":"#REF!"}},{"$f":"VLOOKUP(#REF!,'Points Lookup'!$A:$B,2,FALSE)","v":{"$error":"#REF!"}},{"$f":"VLOOKUP(#REF!,'Points Lookup'!$A:$B,2,FALSE)","v":{"$error":"#REF!"}},{"$f":"VLOOKUP(#REF!,'Points Lookup'!$A:$B,2,FALSE)","v":{"$error":"#REF!"}},{"$f":"VLOOKUP(#REF!,'Points Lookup'!$A:$B,2,FALSE)","v":{"$error":"#REF!"}},{"$f":"VLOOKUP(#REF!,'Points Lookup'!$A:$B,2,FALSE)","v":{"$error":"#REF!"}},{"$f":"VLOOKUP(#REF!,'Points Lookup'!$A:$B,2,FALSE)","v":{"$error":"#REF!"}},{"$f":"VLOOKUP(#REF!,'Points Lookup'!$A:$B,2,FALSE)","v":{"$error":"#REF!"}},{"$f":"VLOOKUP(#REF!,'Points Lookup'!$A:$B,2,FALSE)","v":{"$error":"#REF!"}},{"$f":"VLOOKUP(#REF!,'Points Lookup'!$A:$B,2,FALSE)","v":{"$error":"#REF!"}},null,{"$error":"#REF!"},{"$error":"#REF!"},{"$error":"#REF!"},{"$error":"#REF!"},{"$error":"#REF!"},{"$error":"#REF!"},{"$error":"#REF!"},{"$error":"#REF!"}]
[{"$error":"#REF!"},{"$f":"#REF!","v":{"$error":"#REF!"}},{"$f":"IF(ISBLANK(#REF!),\"\",#REF!)","v":{"$error":"#REF!"}},{"$error":"#REF!"},{"$f":"VLOOKUP(#REF!,'Points Lookup'!$A:$B,2,FALSE)","v":{"$error":"#REF!"}},{"$f":"VLOOKUP(#REF!,'Points Lookup'!$A:$B,2,FALSE)","v":{"$error":"#REF!"}},{"$f":"VLOOKUP(#REF!,'Points Lookup'!$A:$B,2,FALSE)","v":{"$error":"#REF!"}},{"$f":"VLOOKUP(#REF!,'Points Lookup'!$A:$B,2,FALSE)","v":{"$error":"#REF!"}},{"$f":"VLOOKUP(#REF!,'Points Lookup'!$A:$B,2,FALSE)","v":{"$error":"#REF!"}},{"$f":"VLOOKUP(#REF!,'Points Lookup'!$A:$B,2,FALSE)","v":{"$error":"#REF!"}},{"$f":"VLOOKUP(#REF!,'Points Lookup'!$A:$B,2,FALSE)","v":{"$error":"#REF!"}},{"$f":"VLOOKUP(#REF!,'Points Lookup'!$A:$B,2,FALSE)","v":{"$error":"#REF!"}},{"$f":"VLOOKUP(#REF!,'Points Lookup'!$A:$B,2,FALSE)","v":{"$error":"#REF!"}},{"$f":"VLOOKUP(#REF!,'Points Lookup'!$A:$B,2,FALSE)","v":{"$error":"#REF!"}},{"$f":"VLOOKUP(#REF!,'Points Lookup'!$A:$B,2,FALSE)","v":{"$error":"#REF!"}},{"$f":"VLOOKUP(#REF!,'Points Lookup'!$A:$B,2,FALSE)","v":{"$error":"#REF!"}},{"$f":"VLOOKUP(#REF!,'Points Lookup'!$A:$B,2,FALSE)","v":{"$error":"#REF!"}},{"$f":"VLOOKUP(#REF!,'Points Lookup'!$A:$B,2,FALSE)","v":{"$error":"#REF!"}},{"$f":"VLOOKUP(#REF!,'Points Lookup'!$A:$B,2,FALSE)","v":{"$error":"#REF!"}},{"$f":"VLOOKUP(#REF!,'Points Lookup'!$A:$B,2,FALSE)","v":{"$error":"#REF!"}},{"$f":"VLOOKUP(#REF!,'Points Lookup'!$A:$B,2,FALSE)","v":{"$error":"#REF!"}},{"$f":"VLOOKUP(#REF!,'Points Lookup'!$A:$B,2,FALSE)","v":{"$error":"#REF!"}},{"$f":"VLOOKUP(#REF!,'Points Lookup'!$A:$B,2,FALSE)","v":{"$error":"#REF!"}},{"$f":"VLOOKUP(#REF!,'Points Lookup'!$A:$B,2,FALSE)","v":{"$error":"#REF!"}},null,{"$error":"#REF!"},{"$error":"#REF!"},{"$error":"#REF!"},{"$error":"#REF!"},{"$error":"#REF!"},{"$error":"#REF!"},{"$error":"#REF!"},{"$error":"#REF!"}]
[{"$error":"#REF!"},{"$f":"#REF!","v":{"$error":"#REF!"}},{"$f":"IF(ISBLANK(#REF!),\"\",#REF!)","v":{"$error":"#REF!"}},{"$error":"#REF!"},{"$f":"VLOOKUP(#REF!,'Points Lookup'!$A:$B,2,FALSE)","v":{"$error":"#REF!"}},{"$f":"VLOOKUP(#REF!,'Points Lookup'!$A:$B,2,FALSE)","v":{"$error":"#REF!"}},{"$f":"VLOOKUP(#REF!,'Points Lookup'!$A:$B,2,FALSE)","v":{"$error":"#REF!"}},{"$f":"VLOOKUP(#REF!,'Points Lookup'!$A:$B,2,FALSE)","v":{"$error":"#REF!"}},{"$f":"VLOOKUP(#REF!,'Points Lookup'!$A:$B,2,FALSE)","v":{"$error":"#REF!"}},{"$f":"VLOOKUP(#REF!,'Points Lookup'!$A:$B,2,FALSE)","v":{"$error":"#REF!"}},{"$f":"VLOOKUP(#REF!,'Points Lookup'!$A:$B,2,FALSE)","v":{"$error":"#REF!"}},{"$f":"VLOOKUP(#REF!,'Points Lookup'!$A:$B,2,FALSE)","v":{"$error":"#REF!"}},{"$f":"VLOOKUP(#REF!,'Points Lookup'!$A:$B,2,FALSE)","v":{"$error":"#REF!"}},{"$f":"VLOOKUP(#REF!,'Points Lookup'!$A:$B,2,FALSE)","v":{"$error":"#REF!"}},{"$f":"VLOOKUP(#REF!,'Points Lookup'!$A:$B,2,FALSE)","v":{"$error":"#REF!"}},{"$f":"VLOOKUP(#REF!,'Points Lookup'!$A:$B,2,FALSE)","v":{"$error":"#REF!"}},{"$f":"VLOOKUP(#REF!,'Points Lookup'!$A:$B,2,FALSE)","v":{"$error":"#REF!"}},{"$f":"VLOOKUP(#REF!,'Points Lookup'!$A:$B,2,FALSE)","v":{"$error":"#REF!"}},{"$f":"VLOOKUP(#REF!,'Points Lookup'!$A:$B,2,FALSE)","v":{"$error":"#REF!"}},{"$f":"VLOOKUP(#REF!,'Points Lookup'!$A:$B,2,FALSE)","v":{"$error":"#REF!"}},{"$f":"VLOOKUP(#REF!,'Points Lookup'!$A:$B,2,FALSE)","v":{"$error":"#REF!"}},{"$f":"VLOOKUP(#REF!,'Points Lookup'!$A:$B,2,FALSE)","v":{"$error":"#REF!"}},{"$f":"VLOOKUP(#REF!,'Points Lookup'!$A:$B,2,FALSE)","v":{"$error":"#REF!"}},{"$f":"VLOOKUP(#REF!,'Points Lookup'!$A:$B,2,FALSE)","v":{"$error":"#REF!"}},null,{"$error":"#REF!"},{"$error":"#REF!"},{"$error":"#REF!"},{"$error":"#REF!"},{"$error":"#REF!"},{"$error":"#REF!"},{"$error":"#REF!"},{"$error":"#REF!"}]
[{"$error":"#REF!"},{"$f":"#REF!","v":{"$error":"#REF!"}},{"$f":"IF(ISBLANK(#REF!),\"\",#REF!)","v":{"$error":"#REF!"}},{"$error":"#REF!"},{"$f":"VLOOKUP(#REF!,'Points Lookup'!$A:$B,2,FALSE)","v":{"$error":"#REF!"}},{"$f":"VLOOKUP(#REF!,'Points Lookup'!$A:$B,2,FALSE)","v":{"$error":"#REF!"}},{"$f":"VLOOKUP(#REF!,'Points Lookup'!$A:$B,2,FALSE)","v":{"$error":"#REF!"}},{"$f":"VLOOKUP(#REF!,'Points Lookup'!$A:$B,2,FALSE)","v":{"$error":"#REF!"}},{"$f":"VLOOKUP(#REF!,'Points Lookup'!$A:$B,2,FALSE)","v":{"$error":"#REF!"}},{"$f":"VLOOKUP(#REF!,'Points Lookup'!$A:$B,2,FALSE)","v":{"$error":"#REF!"}},{"$f":"VLOOKUP(#REF!,'Points Lookup'!$A:$B,2,FALSE)","v":{"$error":"#REF!"}},{"$f":"VLOOKUP(#REF!,'Points Lookup'!$A:$B,2,FALSE)","v":{"$error":"#REF!"}},{"$f":"VLOOKUP(#REF!,'Points Lookup'!$A:$B,2,FALSE)","v":{"$error":"#REF!"}},{"$f":"VLOOKUP(#REF!,'Points Lookup'!$A:$B,2,FALSE)","v":{"$error":"#REF!"}},{"$f":"VLOOKUP(#REF!,'Points Lookup'!$A:$B,2,FALSE)","v":{"$error":"#REF!"}},{"$f":"VLOOKUP(#REF!,'Points Lookup'!$A:$B,2,FALSE)","v":{"$error":"#REF!"}},{"$f":"VLOOKUP(#REF!,'Points Lookup'!$A:$B,2,FALSE)","v":{"$error":"#REF!"}},{"$f":"VLOOKUP(#REF!,'Points Lookup'!$A:$B,2,FALSE)","v":{"$error":"#REF!"}},{"$f":"VLOOKUP(#REF!,'Points Lookup'!$A:$B,2,FALSE)","v":{"$error":"#REF!"}},{"$f":"VLOOKUP(#REF!,'Points Lookup'!$A:$B,2,FALSE)","v":{"$error":"#REF!"}},{"$f":"VLOOKUP(#REF!,'Points Lookup'!$A:$B,2,FALSE)","v":{"$error":"#REF!"}},{"$f":"VLOOKUP(#REF!,'Points Lookup'!$A:$B,2,FALSE)","v":{"$error":"#REF!"}},{"$f":"VLOOKUP(#REF!,'Points Lookup'!$A:$B,2,FALSE)","v":{"$error":"#REF!"}},{"$f":"VLOOKUP(#REF!,'Points Lookup'!$A:$B,2,FALSE)","v":{"$error":"#REF!"}},null,{"$error":"#REF!"},{"$error":"#REF!"},{"$error":"#REF!"},{"$error":"#REF!"},{"$error":"#REF!"},{"$error":"#REF!"},{"$error":"#REF!"},{"$error":"#REF!"}]
[{"$error":"#REF!"},{"$f":"#REF!","v":{"$error":"#REF!"}},{"$f":"IF(ISBLANK(#REF!),\"\",#REF!)","v":{"$error":"#REF!"}},{"$error":"#REF!"},{"$f":"VLOOKUP(#REF!,'Points Lookup'!$A:$B,2,FALSE)","v":{"$error":"#REF!"}},{"$f":"VLOOKUP(#REF!,'Points Lookup'!$A:$B,2,FALSE)","v":{"$error":"#REF!"}},{"$f":"VLOOKUP(#REF!,'Points Lookup'!$A:$B,2,FALSE)","v":{"$error":"#REF!"}},{"$f":"VLOOKUP(#REF!,'Points Lookup'!$A:$B,2,FALSE)","v":{"$error":"#REF!"}},{"$f":"VLOOKUP(#REF!,'Points Lookup'!$A:$B,2,FALSE)","v":{"$error":"#REF!"}},{"$f":"VLOOKUP(#REF!,'Points Lookup'!$A:$B,2,FALSE)","v":{"$error":"#REF!"}},{"$f":"VLOOKUP(#REF!,'Points Lookup'!$A:$B,2,FALSE)","v":{"$error":"#REF!"}},{"$f":"VLOOKUP(#REF!,'Points Lookup'!$A:$B,2,FALSE)","v":{"$error":"#REF!"}},{"$f":"VLOOKUP(#REF!,'Points Lookup'!$A:$B,2,FALSE)","v":{"$error":"#REF!"}},{"$f":"VLOOKUP(#REF!,'Points Lookup'!$A:$B,2,FALSE)","v":{"$error":"#REF!"}},{"$f":"VLOOKUP(#REF!,'Points Lookup'!$A:$B,2,FALSE)","v":{"$error":"#REF!"}},{"$f":"VLOOKUP(#REF!,'Points Lookup'!$A:$B,2,FALSE)","v":{"$error":"#REF!"}},{"$f":"VLOOKUP(#REF!,'Points Lookup'!$A:$B,2,FALSE)","v":{"$error":"#REF!"}},{"$f":"VLOOKUP(#REF!,'Points Lookup'!$A:$B,2,FALSE)","v":{"$error":"#REF!"}},{"$f":"VLOOKUP(#REF!,'Points Lookup'!$A:$B,2,FALSE)","v":{"$error":"#REF!"}},{"$f":"VLOOKUP(#REF!,'Points Lookup'!$A:$B,2,FALSE)","v":{"$error":"#REF!"}},{"$f":"VLOOKUP(#REF!,'Points Lookup'!$A:$B,2,FALSE)","v":{"$error":"#REF!"}},{"$f":"VLOOKUP(#REF!,'Points Lookup'!$A:$B,2,FALSE)","v":{"$error":"#REF!"}},{"$f":"VLOOKUP(#REF!,'Points Lookup'!$A:$B,2,FALSE)","v":{"$error":"#REF!"}},{"$f":"VLOOKUP(#REF!,'Points Lookup'!$A:$B,2,FALSE)","v":{"$error":"#REF!"}},null,{"$error":"#REF!"},{"$error":"#REF!"},{"$error":"#REF!"},{"$error":"#REF!"},{"$error":"#REF!"},{"$error":"#REF!"},{"$error":"#REF!"},{"$error":"#REF!"}]
[{"$error":"#REF!"},{"$f":"#REF!","v":{"$error":"#REF!"}},{"$f":"IF(ISBLANK(#REF!),\"\",#REF!)","v":{"$error":"#REF!"}},{"$error":"#REF!"},{"$f":"VLOOKUP(#REF!,'Points Lookup'!$A:$B,2,FALSE)","v":{"$error":"#REF!"}},{"$f":"VLOOKUP(#REF!,'Points Lookup'!$A:$B,2,FALSE)","v":{"$error":"#REF!"}},{"$f":"VLOOKUP(#REF!,'Points Lookup'!$A:$B,2,FALSE)","v":{"$error":"#REF!"}},{"$f":"VLOOKUP(#REF!,'Points Lookup'!$A:$B,2,FALSE)","v":{"$error":"#REF!"}},{"$f":"VLOOKUP(#REF!,'Points Lookup'!$A:$B,2,FALSE)","v":{"$error":"#REF!"}},{"$f":"VLOOKUP(#REF!,'Points Lookup'!$A:$B,2,FALSE)","v":{"$error":"#REF!"}},{"$f":"VLOOKUP(#REF!,'Points Lookup'!$A:$B,2,FALSE)","v":{"$error":"#REF!"}},{"$f":"VLOOKUP(#REF!,'Points Lookup'!$A:$B,2,FALSE)","v":{"$error":"#REF!"}},{"$f":"VLOOKUP(#REF!,'Points Lookup'!$A:$B,2,FALSE)","v":{"$error":"#REF!"}},{"$f":"VLOOKUP(#REF!,'Points Lookup'!$A:$B,2,FALSE)","v":{"$error":"#REF!"}},{"$f":"VLOOKUP(#REF!,'Points Lookup'!$A:$B,2,FALSE)","v":{"$error":"#REF!"}},{"$f":"VLOOKUP(#REF!,'Points Lookup'!$A:$B,2,FALSE)","v":{"$error":"#REF!"}},{"$f":"VLOOKUP(#REF!,'Points Lookup'!$A:$B,2,FALSE)","v":{"$error":"#REF!"}},{"$f":"VLOOKUP(#REF!,'Points Lookup'!$A:$B,2,FALSE)","v":{"$error":"#REF!"}},{"$f":"VLOOKUP(#REF!,'Points Lookup'!$A:$B,2,FALSE)","v":{"$error":"#REF!"}},{"$f":"VLOOKUP(#REF!,'Points Lookup'!$A:$B,2,FALSE)","v":{"$error":"#REF!"}},{"$f":"VLOOKUP(#REF!,'Points Lookup'!$A:$B,2,FALSE)","v":{"$error":"#REF!"}},{"$f":"VLOOKUP(#REF!,'Points Lookup'!$A:$B,2,FALSE)","v":{"$error":"#REF!"}},{"$f":"VLOOKUP(#REF!,'Points Lookup'!$A:$B,2,FALSE)","v":{"$error":"#REF!"}},{"$f":"VLOOKUP(#REF!,'Points Lookup'!$A:$B,2,FALSE)","v":{"$error":"#REF!"}},null,{"$error":"#REF!"},{"$error":"#REF!"},{"$error":"#REF!"},{"$error":"#REF!"},{"$error":"#REF!"},{"$error":"#REF!"},{"$error":"#REF!"},{"$error":"#REF!"}]
[{"$error":"#REF!"},{"$f":"#REF!","v":{"$error":"#REF!"}},{"$f":"IF(ISBLANK(#REF!),\"\",#REF!)","v":{"$error":"#REF!"}},{"$error":"#REF!"},{"$f":"VLOOKUP(#REF!,'Points Lookup'!$A:$B,2,FALSE)","v":{"$error":"#REF!"}},{"$f":"VLOOKUP(#REF!,'Points Lookup'!$A:$B,2,FALSE)","v":{"$error":"#REF!"}},{"$f":"VLOOKUP(#REF!,'Points Lookup'!$A:$B,2,FALSE)","v":{"$error":"#REF!"}},{"$f":"VLOOKUP(#REF!,'Points Lookup'!$A:$B,2,FALSE)","v":{"$error":"#REF!"}},{"$f":"VLOOKUP(#REF!,'Points Lookup'!$A:$B,2,FALSE)","v":{"$error":"#REF!"}},{"$f":"VLOOKUP(#REF!,'Points Lookup'!$A:$B,2,FALSE)","v":{"$error":"#REF!"}},{"$f":"VLOOKUP(#REF!,'Points Lookup'!$A:$B,2,FALSE)","v":{"$error":"#REF!"}},{"$f":"VLOOKUP(#REF!,'Points Lookup'!$A:$B,2,FALSE)","v":{"$error":"#REF!"}},{"$f":"VLOOKUP(#REF!,'Points Lookup'!$A:$B,2,FALSE)","v":{"$error":"#REF!"}},{"$f":"VLOOKUP(#REF!,'Points Lookup'!$A:$B,2,FALSE)","v":{"$error":"#REF!"}},{"$f":"VLOOKUP(#REF!,'Points Lookup'!$A:$B,2,FALSE)","v":{"$error":"#REF!"}},{"$f":"VLOOKUP(#REF!,'Points Lookup'!$A:$B,2,FALSE)","v":{"$error":"#REF!"}},{"$f":"VLOOKUP(#REF!,'Points Lookup'!$A:$B,2,FALSE)","v":{"$error":"#REF!"}},{"$f":"VLOOKUP(#REF!,'Points Lookup'!$A:$B,2,FALSE)","v":{"$error":"#REF!"}},{"$f":"VLOOKUP(#REF!,'Points Lookup'!$A:$B,2,FALSE)","v":{"$error":"#REF!"}},{"$f":"VLOOKUP(#REF!,'Points Lookup'!$A:$B,2,FALSE)","v":{"$error":"#REF!"}},{"$f":"VLOOKUP(#REF!,'Points Lookup'!$A:$B,2,FALSE)","v":{"$error":"#REF!"}},{"$f":"VLOOKUP(#REF!,'Points Lookup'!$A:$B,2,FALSE)","v":{"$error":"#REF!"}},{"$f":"VLOOKUP(#REF!,'Points Lookup'!$A:$B,2,FALSE)","v":{"$error":"#REF!"}},{"$f":"VLOOKUP(#REF!,'Points Lookup'!$A:$B,2,FALSE)","v":{"$error":"#REF!"}},null,{"$error":"#REF!"},{"$error":"#REF!"},{"$error":"#REF!"},{"$error":"#REF!"},{"$error":"#REF!"},{"$error":"#REF!"},{"$error":"#REF!"},{"$error":"#REF!"}]
[{"$error":"#REF!"},{"$f":"#REF!","v":{"$error":"#REF!"}},{"$f":"IF(ISBLANK(#REF!),\"\",#REF!)","v":{"$error":"#REF!"}},{"$error":"#REF!"},{"$f":"VLOOKUP(#REF!,'Points Lookup'!$A:$B,2,FALSE)","v":{"$error":"#REF!"}},{"$f":"VLOOKUP(#REF!,'Points Lookup'!$A:$B,2,FALSE)","v":{"$error":"#REF!"}},{"$f":"VLOOKUP(#REF!,'Points Lookup'!$A:$B,2,FALSE)","v":{"$error":"#REF!"}},{"$f":"VLOOKUP(#REF!,'Points Lookup'!$A:$B,2,FALSE)","v":{"$error":"#REF!"}},{"$f":"VLOOKUP(#REF!,'Points Lookup'!$A:$B,2,FALSE)","v":{"$error":"#REF!"}},{"$f":"VLOOKUP(#REF!,'Points Lookup'!$A:$B,2,FALSE)","v":{"$error":"#REF!"}},{"$f":"VLOOKUP(#REF!,'Points Lookup'!$A:$B,2,FALSE)","v":{"$error":"#REF!"}},{"$f":"VLOOKUP(#REF!,'Points Lookup'!$A:$B,2,FALSE)","v":{"$error":"#REF!"}},{"$f":"VLOOKUP(#REF!,'Points Lookup'!$A:$B,2,FALSE)","v":{"$error":"#REF!"}},{"$f":"VLOOKUP(#REF!,'Points Lookup'!$A:$B,2,FALSE)","v":{"$error":"#REF!"}},{"$f":"VLOOKUP(#REF!,'Points Lookup'!$A:$B,2,FALSE)","v":{"$error":"#REF!"}},{"$f":"VLOOKUP(#REF!,'Points Lookup'!$A:$B,2,FALSE)","v":{"$error":"#REF!"}},{"$f":"VLOOKUP(#REF!,'Points Lookup'!$A:$B,2,FALSE)","v":{"$error":"#REF!"}},{"$f":"VLOOKUP(#REF!,'Points Lookup'!$A:$B,2,FALSE)","v":{"$error":"#REF!"}},{"$f":"VLOOKUP(#REF!,'Points Lookup'!$A:$B,2,FALSE)","v":{"$error":"#REF!"}},{"$f":"VLOOKUP(#REF!,'Points Lookup'!$A:$B,2,FALSE)","v":{"$error":"#REF!"}},{"$f":"VLOOKUP(#REF!,'Points Lookup'!$A:$B,2,FALSE)","v":{"$error":"#REF!"}},{"$f":"VLOOKUP(#REF!,'Points Lookup'!$A:$B,2,FALSE)","v":{"$error":"#REF!"}},{"$f":"VLOOKUP(#REF!,'Points Lookup'!$A:$B,2,FALSE)","v":{"$error":"#REF!"}},{"$f":"VLOOKUP(#REF!,'Points Lookup'!$A:$B,2,FALSE)","v":{"$error":"#REF!"}},null,{"$error":"#REF!"},{"$error":"#REF!"},{"$error":"#REF!"},{"$error":"#REF!"},{"$error":"#REF!"},{"$error":"#REF!"},{"$error":"#REF!"},{"$error":"#REF!"}]
[{"$error":"#REF!"},{"$f":"#REF!","v":{"$error":"#REF!"}},{"$f":"IF(ISBLANK(#REF!),\"\",#REF!)","v":{"$error":"#REF!"}},{"$error":"#REF!"},{"$f":"VLOOKUP(#REF!,'Points Lookup'!$A:$B,2,FALSE)","v":{"$error":"#REF!"}},{"$f":"VLOOKUP(#REF!,'Points Lookup'!$A:$B,2,FALSE)","v":{"$error":"#REF!"}},{"$f":"VLOOKUP(#REF!,'Points Lookup'!$A:$B,2,FALSE)","v":{"$error":"#REF!"}},{"$f":"VLOOKUP(#REF!,'Points Lookup'!$A:$B,2,FALSE)","v":{"$error":"#REF!"}},{"$f":"VLOOKUP(#REF!,'Points Lookup'!$A:$B,2,FALSE)","v":{"$error":"#REF!"}},{"$f":"VLOOKUP(#REF!,'Points Lookup'!$A:$B,2,FALSE)","v":{"$error":"#REF!"}},{"$f":"VLOOKUP(#REF!,'Points Lookup'!$A:$B,2,FALSE)","v":{"$error":"#REF!"}},{"$f":"VLOOKUP(#REF!,'Points Lookup'!$A:$B,2,FALSE)","v":{"$error":"#REF!"}},{"$f":"VLOOKUP(#REF!,'Points Lookup'!$A:$B,2,FALSE)","v":{"$error":"#REF!"}},{"$f":"VLOOKUP(#REF!,'Points Lookup'!$A:$B,2,FALSE)","v":{"$error":"#REF!"}},{"$f":"VLOOKUP(#REF!,'Points Lookup'!$A:$B,2,FALSE)","v":{"$error":"#REF!"}},{"$f":"VLOOKUP(#REF!,'Points Lookup'!$A:$B,2,FALSE)","v":{"$error":"#REF!"}},{"$f":"VLOOKUP(#REF!,'Points Lookup'!$A:$B,2,FALSE)","v":{"$error":"#REF!"}},{"$f":"VLOOKUP(#REF!,'Points Lookup'!$A:$B,2,FALSE)","v":{"$error":"#REF!"}},{"$f":"VLOOKUP(#REF!,'Points Lookup'!$A:$B,2,FALSE)","v":{"$error":"#REF!"}},{"$f":"VLOOKUP(#REF!,'Points Lookup'!$A:$B,2,FALSE)","v":{"$error":"#REF!"}},{"$f":"VLOOKUP(#REF!,'Points Lookup'!$A:$B,2,FALSE)","v":{"$error":"#REF!"}},{"$f":"VLOOKUP(#REF!,'Points Lookup'!$A:$B,2,FALSE)","v":{"$error":"#REF!"}},{"$f":"VLOOKUP(#REF!,'Points Lookup'!$A:$B,2,FALSE)","v":{"$error":"#REF!"}},{"$f":"VLOOKUP(#REF!,'Points Lookup'!$A:$B,2,FALSE)","v":{"$error":"#REF!"}},null,{"$error":"#REF!"},{"$error":"#REF!"},{"$error":"#REF!"},{"$error":"#REF!"},{"$error":"#REF!"},{"$error":"#REF!"},{"$error":"#REF!"},{"$error":"#REF!"}]
[{"$error":"#REF!"},{"$f":"#REF!","v":{"$error":"#REF!"}},{"$f":"IF(ISBLANK(#REF!),\"\",#REF!)","v":{"$error":"#REF!"}},{"$error":"#REF!"},{"$f":"VLOOKUP(#REF!,'Points Lookup'!$A:$B,2,FALSE)","v":{"$error":"#REF!"}},{"$f":"VLOOKUP(#REF!,'Points Lookup'!$A:$B,2,FALSE)","v":{"$error":"#REF!"}},{"$f":"VLOOKUP(#REF!,'Points Lookup'!$A:$B,2,FALSE)","v":{"$error":"#REF!"}},{"$f":"VLOOKUP(#REF!,'Points Lookup'!$A:$B,2,FALSE)","v":{"$error":"#REF!"}},{"$f":"VLOOKUP(#REF!,'Points Lookup'!$A:$B,2,FALSE)","v":{"$error":"#REF!"}},{"$f":"VLOOKUP(#REF!,'Points Lookup'!$A:$B,2,FALSE)","v":{"$error":"#REF!"}},{"$f":"VLOOKUP(#REF!,'Points Lookup'!$A:$B,2,FALSE)","v":{"$error":"#REF!"}},{"$f":"VLOOKUP(#REF!,'Points Lookup'!$A:$B,2,FALSE)","v":{"$error":"#REF!"}},{"$f":"VLOOKUP(#REF!,'Points Lookup'!$A:$B,2,FALSE)","v":{"$error":"#REF!"}},{"$f":"VLOOKUP(#REF!,'Points Lookup'!$A:$B,2,FALSE)","v":{"$error":"#REF!"}},{"$f":"VLOOKUP(#REF!,'Points Lookup'!$A:$B,2,FALSE)","v":{"$error":"#REF!"}},{"$f":"VLOOKUP(#REF!,'Points Lookup'!$A:$B,2,FALSE)","v":{"$error":"#REF!"}},{"$f":"VLOOKUP(#REF!,'Points Lookup'!$A:$B,2,FALSE)","v":{"$error":"#REF!"}},{"$f":"VLOOKUP(#REF!,'Points Lookup'!$A:$B,2,FALSE)","v":{"$error":"#REF!"}},{"$f":"VLOOKUP(#REF!,'Points Lookup'!$A:$B,2,FALSE)","v":{"$error":"#REF!"}},{"$f":"VLOOKUP(#REF!,'Points Lookup'!$A:$B,2,FALSE)","v":{"$error":"#REF!"}},{"$f":"VLOOKUP(#REF!,'Points Lookup'!$A:$B,2,FALSE)","v":{"$error":"#REF!"}},{"$f":"VLOOKUP(#REF!,'Points Lookup'!$A:$B,2,FALSE)","v":{"$error":"#REF!"}},{"$f":"VLOOKUP(#REF!,'Points Lookup'!$A:$B,2,FALSE)","v":{"$error":"#REF!"}},{"$f":"VLOOKUP(#REF!,'Points Lookup'!$A:$B,2,FALSE)","v":{"$error":"#REF!"}},null,{"$f":"LARGE($E222:$X222,Z$1)","v":{"$error":"#REF!"}},{"$error":"#REF!"},{"$error":"#REF!"},{"$error":"#REF!"},{"$error":"#REF!"},{"$error":"#REF!"},{"$error":"#REF!"},{"$error":"#REF!"}]
[{"$error":"#REF!"},{"$f":"#REF!","v":{"$error":"#REF!"}},{"$f":"IF(ISBLANK(#REF!),\"\",#REF!)","v":{"$error":"#REF!"}},{"$error":"#REF!"},{"$f":"VLOOKUP(#REF!,'Points Lookup'!$A:$B,2,FALSE)","v":{"$error":"#REF!"}},{"$f":"VLOOKUP(#REF!,'Points Lookup'!$A:$B,2,FALSE)","v":{"$error":"#REF!"}},{"$f":"VLOOKUP(#REF!,'Points Lookup'!$A:$B,2,FALSE)","v":{"$error":"#REF!"}},{"$f":"VLOOKUP(#REF!,'Points Lookup'!$A:$B,2,FALSE)","v":{"$error":"#REF!"}},{"$f":"VLOOKUP(#REF!,'Points Lookup'!$A:$B,2,FALSE)","v":{"$error":"#REF!"}},{"$f":"VLOOKUP(#REF!,'Points Lookup'!$A:$B,2,FALSE)","v":{"$error":"#REF!"}},{"$f":"VLOOKUP(#REF!,'Points Lookup'!$A:$B,2,FALSE)","v":{"$error":"#REF!"}},{"$f":"VLOOKUP(#REF!,'Points Lookup'!$A:$B,2,FALSE)","v":{"$error":"#REF!"}},{"$f":"VLOOKUP(#REF!,'Points Lookup'!$A:$B,2,FALSE)","v":{"$error":"#REF!"}},{"$f":"VLOOKUP(#REF!,'Points Lookup'!$A:$B,2,FALSE)","v":{"$error":"#REF!"}},{"$f":"VLOOKUP(#REF!,'Points Lookup'!$A:$B,2,FALSE)","v":{"$error":"#REF!"}},{"$f":"VLOOKUP(#REF!,'Points Lookup'!$A:$B,2,FALSE)","v":{"$error":"#REF!"}},{"$f":"VLOOKUP(#REF!,'Points Lookup'!$A:$B,2,FALSE)","v":{"$error":"#REF!"}},{"$f":"VLOOKUP(#REF!,'Points Lookup'!$A:$B,2,FALSE)","v":{"$error":"#REF!"}},{"$f":"VLOOKUP(#REF!,'Points Lookup'!$A:$B,2,FALSE)","v":{"$error":"#REF!"}},{"$f":"VLOOKUP(#REF!,'Points Lookup'!$A:$B,2,FALSE)","v":{"$error":"#REF!"}},{"$f":"VLOOKUP(#REF!,'Points Lookup'!$A:$B,2,FALSE)","v":{"$error":"#REF!"}},{"$f":"VLOOKUP(#REF!,'Points Lookup'!$A:$B,2,FALSE)","v":{"$error":"#REF!"}},{"$f":"VLOOKUP(#REF!,'Points Lookup'!$A:$B,2,FALSE)","v":{"$error":"#REF!"}},{"$f":"VLOOKUP(#REF!,'Points Lookup'!$A:$B,2,FALSE)","v":{"$error":"#REF!"}},null,{"$error":"#REF!"},{"$error":"#REF!"},{"$error":"#REF!"},{"$error":"#REF!"},{"$error":"#REF!"},{"$error":"#REF!"},{"$error":"#REF!"},{"$error":"#REF!"}]
[{"$error":"#REF!"},{"$f":"#REF!","v":{"$error":"#REF!"}},{"$f":"IF(ISBLANK(#REF!),\"\",#REF!)","v":{"$error":"#REF!"}},{"$error":"#REF!"},{"$f":"VLOOKUP(#REF!,'Points Lookup'!$A:$B,2,FALSE)","v":{"$error":"#REF!"}},{"$f":"VLOOKUP(#REF!,'Points Lookup'!$A:$B,2,FALSE)","v":{"$error":"#REF!"}},{"$f":"VLOOKUP(#REF!,'Points Lookup'!$A:$B,2,FALSE)","v":{"$error":"#REF!"}},{"$f":"VLOOKUP(#REF!,'Points Lookup'!$A:$B,2,FALSE)","v":{"$error":"#REF!"}},{"$f":"VLOOKUP(#REF!,'Points Lookup'!$A:$B,2,FALSE)","v":{"$error":"#REF!"}},{"$f":"VLOOKUP(#REF!,'Points Lookup'!$A:$B,2,FALSE)","v":{"$error":"#REF!"}},{"$f":"VLOOKUP(#REF!,'Points Lookup'!$A:$B,2,FALSE)","v":{"$error":"#REF!"}},{"$f":"VLOOKUP(#REF!,'Points Lookup'!$A:$B,2,FALSE)","v":{"$error":"#REF!"}},{"$f":"VLOOKUP(#REF!,'Points Lookup'!$A:$B,2,FALSE)","v":{"$error":"#REF!"}},{"$f":"VLOOKUP(#REF!,'Points Lookup'!$A:$B,2,FALSE)","v":{"$error":"#REF!"}},{"$f":"VLOOKUP(#REF!,'Points Lookup'!$A:$B,2,FALSE)","v":{"$error":"#REF!"}},{"$f":"VLOOKUP(#REF!,'Points Lookup'!$A:$B,2,FALSE)","v":{"$error":"#REF!"}},{"$f":"VLOOKUP(#REF!,'Points Lookup'!$A:$B,2,FALSE)","v":{"$error":"#REF!"}},{"$f":"VLOOKUP(#REF!,'Points Lookup'!$A:$B,2,FALSE)","v":{"$error":"#REF!"}},{"$f":"VLOOKUP(#REF!,'Points Lookup'!$A:$B,2,FALSE)","v":{"$error":"#REF!"}},{"$f":"VLOOKUP(#REF!,'Points Lookup'!$A:$B,2,FALSE)","v":{"$error":"#REF!"}},{"$f":"VLOOKUP(#REF!,'Points Lookup'!$A:$B,2,FALSE)","v":{"$error":"#REF!"}},{"$f":"VLOOKUP(#REF!,'Points Lookup'!$A:$B,2,FALSE)","v":{"$error":"#REF!"}},{"$f":"VLOOKUP(#REF!,'Points Lookup'!$A:$B,2,FALSE)","v":{"$error":"#REF!"}},{"$f":"VLOOKUP(#REF!,'Points Lookup'!$A:$B,2,FALSE)","v":{"$error":"#REF!"}},null,{"$error":"#REF!"},{"$error":"#REF!"},{"$error":"#REF!"},{"$error":"#REF!"},{"$error":"#REF!"},{"$error":"#REF!"},{"$error":"#REF!"},{"$error":"#REF!"}]
[{"$error":"#REF!"},{"$f":"#REF!","v":{"$error":"#REF!"}},{"$f":"IF(ISBLANK(#REF!),\"\",#REF!)","v":{"$error":"#REF!"}},{"$error":"#REF!"},{"$f":"VLOOKUP(#REF!,'Points Lookup'!$A:$B,2,FALSE)","v":{"$error":"#REF!"}},{"$f":"VLOOKUP(#REF!,'Points Lookup'!$A:$B,2,FALSE)","v":{"$error":"#REF!"}},{"$f":"VLOOKUP(#REF!,'Points Lookup'!$A:$B,2,FALSE)","v":{"$error":"#REF!"}},{"$f":"VLOOKUP(#REF!,'Points Lookup'!$A:$B,2,FALSE)","v":{"$error":"#REF!"}},{"$f":"VLOOKUP(#REF!,'Points Lookup'!$A:$B,2,FALSE)","v":{"$error":"#REF!"}},{"$f":"VLOOKUP(#REF!,'Points Lookup'!$A:$B,2,FALSE)","v":{"$error":"#REF!"}},{"$f":"VLOOKUP(#REF!,'Points Lookup'!$A:$B,2,FALSE)","v":{"$error":"#REF!"}},{"$f":"VLOOKUP(#REF!,'Points Lookup'!$A:$B,2,FALSE)","v":{"$error":"#REF!"}},{"$f":"VLOOKUP(#REF!,'Points Lookup'!$A:$B,2,FALSE)","v":{"$error":"#REF!"}},{"$f":"VLOOKUP(#REF!,'Points Lookup'!$A:$B,2,FALSE)","v":{"$error":"#REF!"}},{"$f":"VLOOKUP(#REF!,'Points Lookup'!$A:$B,2,FALSE)","v":{"$error":"#REF!"}},{"$f":"VLOOKUP(#REF!,'Points Lookup'!$A:$B,2,FALSE)","v":{"$error":"#REF!"}},{"$f":"VLOOKUP(#REF!,'Points Lookup'!$A:$B,2,FALSE)","v":{"$error":"#REF!"}},{"$f":"VLOOKUP(#REF!,'Points Lookup'!$A:$B,2,FALSE)","v":{"$error":"#REF!"}},{"$f":"VLOOKUP(#REF!,'Points Lookup'!$A:$B,2,FALSE)","v":{"$error":"#REF!"}},{"$f":"VLOOKUP(#REF!,'Points Lookup'!$A:$B,2,FALSE)","v":{"$error":"#REF!"}},{"$f":"VLOOKUP(#REF!,'Points Lookup'!$A:$B,2,FALSE)","v":{"$error":"#REF!"}},{"$f":"VLOOKUP(#REF!,'Points Lookup'!$A:$B,2,FALSE)","v":{"$error":"#REF!"}},{"$f":"VLOOKUP(#REF!,'Points Lookup'!$A:$B,2,FALSE)","v":{"$error":"#REF!"}},{"$f":"VLOOKUP(#REF!,'Points Lookup'!$A:$B,2,FALSE)","v":{"$error":"#REF!"}},null,{"$error":"#REF!"},{"$error":"#REF!"},{"$error":"#REF!"},{"$error":"#REF!"},{"$error":"#REF!"},{"$error":"#REF!"},{"$error":"#REF!"},{"$error":"#REF!"}]
[{"$f":"RANK(D226,D:D)","v":{"$error":"#REF!"}},{"$f":"#REF!","v":{"$error":"#REF!"}},{"$f":"IF(ISBLANK(#REF!),\"\",#REF!)","v":{"$error":"#REF!"}},{"$error":"#REF!"},{"$f":"VLOOKUP(#REF!,'Points Lookup'!$A:$B,2,FALSE)","v":{"$error":"#REF!"}},{"$f":"VLOOKUP(#REF!,'Points Lookup'!$A:$B,2,FALSE)","v":{"$error":"#REF!"}},{"$f":"VLOOKUP(#REF!,'Points Lookup'!$A:$B,2,FALSE)","v":{"$error":"#REF!"}},{"$f":"VLOOKUP(#REF!,'Points Lookup'!$A:$B,2,FALSE)","v":{"$error":"#REF!"}},{"$f":"VLOOKUP(#REF!,'Points Lookup'!$A:$B,2,FALSE)","v":{"$error":"#REF!"}},{"$f":"VLOOKUP(#REF!,'Points Lookup'!$A:$B,2,FALSE)","v":{"$error":"#REF!"}},{"$f":"VLOOKUP(#REF!,'Points Lookup'!$A:$B,2,FALSE)","v":{"$error":"#REF!"}},{"$f":"VLOOKUP(#REF!,'Points Lookup'!$A:$B,2,FALSE)","v":{"$error":"#REF!"}},{"$f":"VLOOKUP(#REF!,'Points Lookup'!$A:$B,2,FALSE)","v":{"$error":"#REF!"}},{"$f":"VLOOKUP(#REF!,'Points Lookup'!$A:$B,2,FALSE)","v":{"$error":"#REF!"}},{"$f":"VLOOKUP(#REF!,'Points Lookup'!$A:$B,2,FALSE)","v":{"$error":"#REF!"}},{"$f":"VLOOKUP(#REF!,'Points Lookup'!$A:$B,2,FALSE)","v":{"$error":"#REF!"}},{"$f":"VLOOKUP(#REF!,'Points Lookup'!$A:$B,2,FALSE)","v":{"$error":"#REF!"}},{"$f":"VLOOKUP(#REF!,'Points Lookup'!$A:$B,2,FALSE)","v":{"$error":"#REF!"}},{"$f":"VLOOKUP(#REF!,'Points Lookup'!$A:$B,2,FALSE)","v":{"$error":"#REF!"}},{"$f":"VLOOKUP(#REF!,'Points Lookup'!$A:$B,2,FALSE)","v":{"$error":"#REF!"}},{"$f":"VLOOKUP(#REF!,'Points Lookup'!$A:$B,2,FALSE)","v":{"$error":"#REF!"}},{"$f":"VLOOKUP(#REF!,'Points Lookup'!$A:$B,2,FALSE)","v":{"$error":"#REF!"}},{"$f":"VLOOKUP(#REF!,'Points Lookup'!$A:$B,2,FALSE)","v":{"$error":"#REF!"}},{"$f":"VLOOKUP(#REF!,'Points Lookup'!$A:$B,2,FALSE)","v":{"$error":"#REF!"}},null,{"$error":"#REF!"},{"$error":"#REF!"},{"$error":"#REF!"},{"$error":"#REF!"},{"$error":"#REF!"},{"$error":"#REF!"},{"$error":"#REF!"},{"$error":"#REF!"}]
[{"$error":"#REF!"},{"$f":"#REF!","v":{"$error":"#REF!"}},{"$f":"IF(ISBLANK(#REF!),\"\",#REF!)","v":{"$error":"#REF!"}},{"$error":"#REF!"},{"$f":"VLOOKUP(#REF!,'Points Lookup'!$A:$B,2,FALSE)","v":{"$error":"#REF!"}},{"$f":"VLOOKUP(#REF!,'Points Lookup'!$A:$B,2,FALSE)","v":{"$error":"#REF!"}},{"$f":"VLOOKUP(#REF!,'Points Lookup'!$A:$B,2,FALSE)","v":{"$error":"#REF!"}},{"$f":"VLOOKUP(#REF!,'Points Lookup'!$A:$B,2,FALSE)","v":{"$error":"#REF!"}},{"$f":"VLOOKUP(#REF!,'Points Lookup'!$A:$B,2,FALSE)","v":{"$error":"#REF!"}},{"$f":"VLOOKUP(#REF!,'Points Lookup'!$A:$B,2,FALSE)","v":{"$error":"#REF!"}},{"$f":"VLOOKUP(#REF!,'Points Lookup'!$A:$B,2,FALSE)","v":{"$error":"#REF!"}},{"$f":"VLOOKUP(#REF!,'Points Lookup'!$A:$B,2,FALSE)","v":{"$error":"#REF!"}},{"$f":"VLOOKUP(#REF!,'Points Lookup'!$A:$B,2,FALSE)","v":{"$error":"#REF!"}},{"$f":"VLOOKUP(#REF!,'Points Lookup'!$A:$B,2,FALSE)","v":{"$error":"#REF!"}},{"$f":"VLOOKUP(#REF!,'Points Lookup'!$A:$B,2,FALSE)","v":{"$error":"#REF!"}},{"$f":"VLOOKUP(#REF!,'Points Lookup'!$A:$B,2,FALSE)","v":{"$error":"#REF!"}},{"$f":"VLOOKUP(#REF!,'Points Lookup'!$A:$B,2,FALSE)","v":{"$error":"#REF!"}},{"$f":"VLOOKUP(#REF!,'Points Lookup'!$A:$B,2,FALSE)","v":{"$error":"#REF!"}},{"$f":"VLOOKUP(#REF!,'Points Lookup'!$A:$B,2,FALSE)","v":{"$error":"#REF!"}},{"$f":"VLOOKUP(#REF!,'Points Lookup'!$A:$B,2,FALSE)","v":{"$error":"#REF!"}},{"$f":"VLOOKUP(#REF!,'Points Lookup'!$A:$B,2,FALSE)","v":{"$error":"#REF!"}},{"$f":"VLOOKUP(#REF!,'Points Lookup'!$A:$B,2,FALSE)","v":{"$error":"#REF!"}},{"$f":"VLOOKUP(#REF!,'Points Lookup'!$A:$B,2,FALSE)","v":{"$error":"#REF!"}},{"$f":"VLOOKUP(#REF!,'Points Lookup'!$A:$B,2,FALSE)","v":{"$error":"#REF!"}},null,{"$error":"#REF!"},{"$error":"#REF!"},{"$error":"#REF!"},{"$error":"#REF!"},{"$error":"#REF!"},{"$error":"#REF!"},{"$error":"#REF!"},{"$error":"#REF!"}]
[{"$error":"#REF!"},{"$f":"#REF!","v":{"$error":"#REF!"}},{"$f":"IF(ISBLANK(#REF!),\"\",#REF!)","v":{"$error":"#REF!"}},{"$error":"#REF!"},{"$f":"VLOOKUP(#REF!,'Points Lookup'!$A:$B,2,FALSE)","v":{"$error":"#REF!"}},{"$f":"VLOOKUP(#REF!,'Points Lookup'!$A:$B,2,FALSE)","v":{"$error":"#REF!"}},{"$f":"VLOOKUP(#REF!,'Points Lookup'!$A:$B,2,FALSE)","v":{"$error":"#REF!"}},{"$f":"VLOOKUP(#REF!,'Points Lookup'!$A:$B,2,FALSE)","v":{"$error":"#REF!"}},{"$f":"VLOOKUP(#REF!,'Points Lookup'!$A:$B,2,FALSE)","v":{"$error":"#REF!"}},{"$f":"VLOOKUP(#REF!,'Points Lookup'!$A:$B,2,FALSE)","v":{"$error":"#REF!"}},{"$f":"VLOOKUP(#REF!,'Points Lookup'!$A:$B,2,FALSE)","v":{"$error":"#REF!"}},{"$f":"VLOOKUP(#REF!,'Points Lookup'!$A:$B,2,FALSE)","v":{"$error":"#REF!"}},{"$f":"VLOOKUP(#REF!,'Points Lookup'!$A:$B,2,FALSE)","v":{"$error":"#REF!"}},{"$f":"VLOOKUP(#REF!,'Points Lookup'!$A:$B,2,FALSE)","v":{"$error":"#REF!"}},{"$f":"VLOOKUP(#REF!,'Points Lookup'!$A:$B,2,FALSE)","v":{"$error":"#REF!"}},{"$f":"VLOOKUP(#REF!,'Points Lookup'!$A:$B,2,FALSE)","v":{"$error":"#REF!"}},{"$f":"VLOOKUP(#REF!,'Points Lookup'!$A:$B,2,FALSE)","v":{"$error":"#REF!"}},{"$f":"VLOOKUP(#REF!,'Points Lookup'!$A:$B,2,FALSE)","v":{"$error":"#REF!"}},{"$f":"VLOOKUP(#REF!,'Points Lookup'!$A:$B,2,FALSE)","v":{"$error":"#REF!"}},{"$f":"VLOOKUP(#REF!,'Points Lookup'!$A:$B,2,FALSE)","v":{"$error":"#REF!"}},{"$f":"VLOOKUP(#REF!,'Points Lookup'!$A:$B,2,FALSE)","v":{"$error":"#REF!"}},{"$f":"VLOOKUP(#REF!,'Points Lookup'!$A:$B,2,FALSE)","v":{"$error":"#REF!"}},{"$f":"VLOOKUP(#REF!,'Points Lookup'!$A:$B,2,FALSE)","v":{"$error":"#REF!"}},{"$f":"VLOOKUP(#REF!,'Points Lookup'!$A:$B,2,FALSE)","v":{"$error":"#REF!"}},null,{"$error":"#REF!"},{"$error":"#REF!"},{"$error":"#REF!"},{"$error":"#REF!"},{"$error":"#REF!"},{"$error":"#REF!"},{"$error":"#REF!"},{"$error":"#REF!"}]
[{"$error":"#REF!"},{"$f":"#REF!","v":{"$error":"#REF!"}},{"$f":"IF(ISBLANK(#REF!),\"\",#REF!)","v":{"$error":"#REF!"}},{"$error":"#REF!"},{"$f":"VLOOKUP(#REF!,'Points Lookup'!$A:$B,2,FALSE)","v":{"$error":"#REF!"}},{"$f":"VLOOKUP(#REF!,'Points Lookup'!$A:$B,2,FALSE)","v":{"$error":"#REF!"}},{"$f":"VLOOKUP(#REF!,'Points Lookup'!$A:$B,2,FALSE)","v":{"$error":"#REF!"}},{"$f":"VLOOKUP(#REF!,'Points Lookup'!$A:$B,2,FALSE)","v":{"$error":"#REF!"}},{"$f":"VLOOKUP(#REF!,'Points Lookup'!$A:$B,2,FALSE)","v":{"$error":"#REF!"}},{"$f":"VLOOKUP(#REF!,'Points Lookup'!$A:$B,2,FALSE)","v":{"$error":"#REF!"}},{"$f":"VLOOKUP(#REF!,'Points Lookup'!$A:$B,2,FALSE)","v":{"$error":"#REF!"}},{"$f":"VLOOKUP(#REF!,'Points Lookup'!$A:$B,2,FALSE)","v":{"$error":"#REF!"}},{"$f":"VLOOKUP(#REF!,'Points Lookup'!$A:$B,2,FALSE)","v":{"$error":"#REF!"}},{"$f":"VLOOKUP(#REF!,'Points Lookup'!$A:$B,2,FALSE)","v":{"$error":"#REF!"}},{"$f":"VLOOKUP(#REF!,'Points Lookup'!$A:$B,2,FALSE)","v":{"$error":"#REF!"}},{"$f":"VLOOKUP(#REF!,'Points Lookup'!$A:$B,2,FALSE)","v":{"$error":"#REF!"}},{"$f":"VLOOKUP(#REF!,'Points Lookup'!$A:$B,2,FALSE)","v":{"$error":"#REF!"}},{"$f":"VLOOKUP(#REF!,'Points Lookup'!$A:$B,2,FALSE)","v":{"$error":"#REF!"}},{"$f":"VLOOKUP(#REF!,'Points Lookup'!$A:$B,2,FALSE)","v":{"$error":"#REF!"}},{"$f":"VLOOKUP(#REF!,'Points Lookup'!$A:$B,2,FALSE)","v":{"$error":"#REF!"}},{"$f":"VLOOKUP(#REF!,'Points Lookup'!$A:$B,2,FALSE)","v":{"$error":"#REF!"}},{"$f":"VLOOKUP(#REF!,'Points Lookup'!$A:$B,2,FALSE)","v":{"$error":"#REF!"}},{"$f":"VLOOKUP(#REF!,'Points Lookup'!$A:$B,2,FALSE)","v":{"$error":"#REF!"}},{"$f":"VLOOKUP(#REF!,'Points Lookup'!$A:$B,2,FALSE)","v":{"$error":"#REF!"}},null,{"$error":"#REF!"},{"$error":"#REF!"},{"$error":"#REF!"},{"$error":"#REF!"},{"$error":"#REF!"},{"$error":"#REF!"},{"$error":"#REF!"},{"$error":"#REF!"}]
[{"$error":"#REF!"},{"$f":"#REF!","v":{"$error":"#REF!"}},{"$f":"IF(ISBLANK(#REF!),\"\",#REF!)","v":{"$error":"#REF!"}},{"$error":"#REF!"},{"$f":"VLOOKUP(#REF!,'Points Lookup'!$A:$B,2,FALSE)","v":{"$error":"#REF!"}},{"$f":"VLOOKUP(#REF!,'Points Lookup'!$A:$B,2,FALSE)","v":{"$error":"#REF!"}},{"$f":"VLOOKUP(#REF!,'Points Lookup'!$A:$B,2,FALSE)","v":{"$error":"#REF!"}},{"$f":"VLOOKUP(#REF!,'Points Lookup'!$A:$B,2,FALSE)","v":{"$error":"#REF!"}},{"$f":"VLOOKUP(#REF!,'Points Lookup'!$A:$B,2,FALSE)","v":{"$error":"#REF!"}},{"$f":"VLOOKUP(#REF!,'Points Lookup'!$A:$B,2,FALSE)","v":{"$error":"#REF!"}},{"$f":"VLOOKUP(#REF!,'Points Lookup'!$A:$B,2,FALSE)","v":{"$error":"#REF!"}},{"$f":"VLOOKUP(#REF!,'Points Lookup'!$A:$B,2,FALSE)","v":{"$error":"#REF!"}},{"$f":"VLOOKUP(#REF!,'Points Lookup'!$A:$B,2,FALSE)","v":{"$error":"#REF!"}},{"$f":"VLOOKUP(#REF!,'Points Lookup'!$A:$B,2,FALSE)","v":{"$error":"#REF!"}},{"$f":"VLOOKUP(#REF!,'Points Lookup'!$A:$B,2,FALSE)","v":{"$error":"#REF!"}},{"$f":"VLOOKUP(#REF!,'Points Lookup'!$A:$B,2,FALSE)","v":{"$error":"#REF!"}},{"$f":"VLOOKUP(#REF!,'Points Lookup'!$A:$B,2,FALSE)","v":{"$error":"#REF!"}},{"$f":"VLOOKUP(#REF!,'Points Lookup'!$A:$B,2,FALSE)","v":{"$error":"#REF!"}},{"$f":"VLOOKUP(#REF!,'Points Lookup'!$A:$B,2,FALSE)","v":{"$error":"#REF!"}},{"$f":"VLOOKUP(#REF!,'Points Lookup'!$A:$B,2,FALSE)","v":{"$error":"#REF!"}},{"$f":"VLOOKUP(#REF!,'Points Lookup'!$A:$B,2,FALSE)","v":{"$error":"#REF!"}},{"$f":"VLOOKUP(#REF!,'Points Lookup'!$A:$B,2,FALSE)","v":{"$error":"#REF!"}},{"$f":"VLOOKUP(#REF!,'Points Lookup'!$A:$B,2,FALSE)","v":{"$error":"#REF!"}},{"$f":"VLOOKUP(#REF!,'Points Lookup'!$A:$B,2,FALSE)","v":{"$error":"#REF!"}},null,{"$error":"#REF!"},{"$error":"#REF!"},{"$error":"#REF!"},{"$error":"#REF!"},{"$error":"#REF!"},{"$error":"#REF!"},{"$error":"#REF!"},{"$error":"#REF!"}]
[{"$error":"#REF!"},{"$f":"#REF!","v":{"$error":"#REF!"}},{"$f":"IF(ISBLANK(#REF!),\"\",#REF!)","v":{"$error":"#REF!"}},{"$error":"#REF!"},{"$f":"VLOOKUP(#REF!,'Points Lookup'!$A:$B,2,FALSE)","v":{"$error":"#REF!"}},{"$f":"VLOOKUP(#REF!,'Points Lookup'!$A:$B,2,FALSE)","v":{"$error":"#REF!"}},{"$f":"VLOOKUP(#REF!,'Points Lookup'!$A:$B,2,FALSE)","v":{"$error":"#REF!"}},{"$f":"VLOOKUP(#REF!,'Points Lookup'!$A:$B,2,FALSE)","v":{"$error":"#REF!"}},{"$f":"VLOOKUP(#REF!,'Points Lookup'!$A:$B,2,FALSE)","v":{"$error":"#REF!"}},{"$f":"VLOOKUP(#REF!,'Points Lookup'!$A:$B,2,FALSE)","v":{"$error":"#REF!"}},{"$f":"VLOOKUP(#REF!,'Points Lookup'!$A:$B,2,FALSE)","v":{"$error":"#REF!"}},{"$f":"VLOOKUP(#REF!,'Points Lookup'!$A:$B,2,FALSE)","v":{"$error":"#REF!"}},{"$f":"VLOOKUP(#REF!,'Points Lookup'!$A:$B,2,FALSE)","v":{"$error":"#REF!"}},{"$f":"VLOOKUP(#REF!,'Points Lookup'!$A:$B,2,FALSE)","v":{"$error":"#REF!"}},{"$f":"VLOOKUP(#REF!,'Points Lookup'!$A:$B,2,FALSE)","v":{"$error":"#REF!"}},{"$f":"VLOOKUP(#REF!,'Points Lookup'!$A:$B,2,FALSE)","v":{"$error":"#REF!"}},{"$f":"VLOOKUP(#REF!,'Points Lookup'!$A:$B,2,FALSE)","v":{"$error":"#REF!"}},{"$f":"VLOOKUP(#REF!,'Points Lookup'!$A:$B,2,FALSE)","v":{"$error":"#REF!"}},{"$f":"VLOOKUP(#REF!,'Points Lookup'!$A:$B,2,FALSE)","v":{"$error":"#REF!"}},{"$f":"VLOOKUP(#REF!,'Points Lookup'!$A:$B,2,FALSE)","v":{"$error":"#REF!"}},{"$f":"VLOOKUP(#REF!,'Points Lookup'!$A:$B,2,FALSE)","v":{"$error":"#REF!"}},{"$f":"VLOOKUP(#REF!,'Points Lookup'!$A:$B,2,FALSE)","v":{"$error":"#REF!"}},{"$f":"VLOOKUP(#REF!,'Points Lookup'!$A:$B,2,FALSE)","v":{"$error":"#REF!"}},{"$f":"VLOOKUP(#REF!,'Points Lookup'!$A:$B,2,FALSE)","v":{"$error":"#REF!"}},null,{"$error":"#REF!"},{"$error":"#REF!"},{"$error":"#REF!"},{"$error":"#REF!"},{"$error":"#REF!"},{"$error":"#REF!"},{"$error":"#REF!"},{"$error":"#REF!"}]
[{"$error":"#REF!"},{"$f":"#REF!","v":{"$error":"#REF!"}},{"$f":"IF(ISBLANK(#REF!),\"\",#REF!)","v":{"$error":"#REF!"}},{"$error":"#REF!"},{"$f":"VLOOKUP(#REF!,'Points Lookup'!$A:$B,2,FALSE)","v":{"$error":"#REF!"}},{"$f":"VLOOKUP(#REF!,'Points Lookup'!$A:$B,2,FALSE)","v":{"$error":"#REF!"}},{"$f":"VLOOKUP(#REF!,'Points Lookup'!$A:$B,2,FALSE)","v":{"$error":"#REF!"}},{"$f":"VLOOKUP(#REF!,'Points Lookup'!$A:$B,2,FALSE)","v":{"$error":"#REF!"}},{"$f":"VLOOKUP(#REF!,'Points Lookup'!$A:$B,2,FALSE)","v":{"$error":"#REF!"}},{"$f":"VLOOKUP(#REF!,'Points Lookup'!$A:$B,2,FALSE)","v":{"$error":"#REF!"}},{"$f":"VLOOKUP(#REF!,'Points Lookup'!$A:$B,2,FALSE)","v":{"$error":"#REF!"}},{"$f":"VLOOKUP(#REF!,'Points Lookup'!$A:$B,2,FALSE)","v":{"$error":"#REF!"}},{"$f":"VLOOKUP(#REF!,'Points Lookup'!$A:$B,2,FALSE)","v":{"$error":"#REF!"}},{"$f":"VLOOKUP(#REF!,'Points Lookup'!$A:$B,2,FALSE)","v":{"$error":"#REF!"}},{"$f":"VLOOKUP(#REF!,'Points Lookup'!$A:$B,2,FALSE)","v":{"$error":"#REF!"}},{"$f":"VLOOKUP(#REF!,'Points Lookup'!$A:$B,2,FALSE)","v":{"$error":"#REF!"}},{"$f":"VLOOKUP(#REF!,'Points Lookup'!$A:$B,2,FALSE)","v":{"$error":"#REF!"}},{"$f":"VLOOKUP(#REF!,'Points Lookup'!$A:$B,2,FALSE)","v":{"$error":"#REF!"}},{"$f":"VLOOKUP(#REF!,'Points Lookup'!$A:$B,2,FALSE)","v":{"$error":"#REF!"}},{"$f":"VLOOKUP(#REF!,'Points Lookup'!$A:$B,2,FALSE)","v":{"$error":"#REF!"}},{"$f":"VLOOKUP(#REF!,'Points Lookup'!$A:$B,2,FALSE)","v":{"$error":"#REF!"}},{"$f":"VLOOKUP(#REF!,'Points Lookup'!$A:$B,2,FALSE)","v":{"$error":"#REF!"}},{"$f":"VLOOKUP(#REF!,'Points Lookup'!$A:$B,2,FALSE)","v":{"$error":"#REF!"}},{"$f":"VLOOKUP(#REF!,'Points Lookup'!$A:$B,2,FALSE)","v":{"$error":"#REF!"}},null,{"$f":"LARGE($E232:$X232,Z$1)","v":{"$error":"#REF!"}},{"$error":"#REF!"},{"$error":"#REF!"},{"$error":"#REF!"},{"$error":"#REF!"},{"$error":"#REF!"},{"$error":"#REF!"},{"$error":"#REF!"}]
[{"$error":"#REF!"},{"$f":"#REF!","v":{"$error":"#REF!"}},{"$f":"IF(ISBLANK(#REF!),\"\",#REF!)","v":{"$error":"#REF!"}},{"$error":"#REF!"},{"$f":"VLOOKUP(#REF!,'Points Lookup'!$A:$B,2,FALSE)","v":{"$error":"#REF!"}},{"$f":"VLOOKUP(#REF!,'Points Lookup'!$A:$B,2,FALSE)","v":{"$error":"#REF!"}},{"$f":"VLOOKUP(#REF!,'Points Lookup'!$A:$B,2,FALSE)","v":{"$error":"#REF!"}},{"$f":"VLOOKUP(#REF!,'Points Lookup'!$A:$B,2,FALSE)","v":{"$error":"#REF!"}},{"$f":"VLOOKUP(#REF!,'Points Lookup'!$A:$B,2,FALSE)","v":{"$error":"#REF!"}},{"$f":"VLOOKUP(#REF!,'Points Lookup'!$A:$B,2,FALSE)","v":{"$error":"#REF!"}},{"$f":"VLOOKUP(#REF!,'Points Lookup'!$A:$B,2,FALSE)","v":{"$error":"#REF!"}},{"$f":"VLOOKUP(#REF!,'Points Lookup'!$A:$B,2,FALSE)","v":{"$error":"#REF!"}},{"$f":"VLOOKUP(#REF!,'Points Lookup'!$A:$B,2,FALSE)","v":{"$error":"#REF!"}},{"$f":"VLOOKUP(#REF!,'Points Lookup'!$A:$B,2,FALSE)","v":{"$error":"#REF!"}},{"$f":"VLOOKUP(#REF!,'Points Lookup'!$A:$B,2,FALSE)","v":{"$error":"#REF!"}},{"$f":"VLOOKUP(#REF!,'Points Lookup'!$A:$B,2,FALSE)","v":{"$error":"#REF!"}},{"$f":"VLOOKUP(#REF!,'Points Lookup'!$A:$B,2,FALSE)","v":{"$error":"#REF!"}},{"$f":"VLOOKUP(#REF!,'Points Lookup'!$A:$B,2,FALSE)","v":{"$error":"#REF!"}},{"$f":"VLOOKUP(#REF!,'Points Lookup'!$A:$B,2,FALSE)","v":{"$error":"#REF!"}},{"$f":"VLOOKUP(#REF!,'Points Lookup'!$A:$B,2,FALSE)","v":{"$error":"#REF!"}},{"$f":"VLOOKUP(#REF!,'Points Lookup'!$A:$B,2,FALSE)","v":{"$error":"#REF!"}},{"$f":"VLOOKUP(#REF!,'Points Lookup'!$A:$B,2,FALSE)","v":{"$error":"#REF!"}},{"$f":"VLOOKUP(#REF!,'Points Lookup'!$A:$B,2,FALSE)","v":{"$error":"#REF!"}},{"$f":"VLOOKUP(#REF!,'Points Lookup'!$A:$B,2,FALSE)","v":{"$error":"#REF!"}},null,{"$error":"#REF!"},{"$error":"#REF!"},{"$error":"#REF!"},{"$error":"#REF!"},{"$error":"#REF!"},{"$error":"#REF!"},{"$error":"#REF!"},{"$error":"#REF!"}]
[{"$error":"#REF!"},{"$f":"#REF!","v":{"$error":"#REF!"}},{"$f":"IF(ISBLANK(#REF!),\"\",#REF!)","v":{"$error":"#REF!"}},{"$error":"#REF!"},{"$f":"VLOOKUP(#REF!,'Points Lookup'!$A:$B,2,FALSE)","v":{"$error":"#REF!"}},{"$f":"VLOOKUP(#REF!,'Points Lookup'!$A:$B,2,FALSE)","v":{"$error":"#REF!"}},{"$f":"VLOOKUP(#REF!,'Points Lookup'!$A:$B,2,FALSE)","v":{"$error":"#REF!"}},{"$f":"VLOOKUP(#REF!,'Points Lookup'!$A:$B,2,FALSE)","v":{"$error":"#REF!"}},{"$f":"VLOOKUP(#REF!,'Points Lookup'!$A:$B,2,FALSE)","v":{"$error":"#REF!"}},{"$f":"VLOOKUP(#REF!,'Points Lookup'!$A:$B,2,FALSE)","v":{"$error":"#REF!"}},{"$f":"VLOOKUP(#REF!,'Points Lookup'!$A:$B,2,FALSE)","v":{"$error":"#REF!"}},{"$f":"VLOOKUP(#REF!,'Points Lookup'!$A:$B,2,FALSE)","v":{"$error":"#REF!"}},{"$f":"VLOOKUP(#REF!,'Points Lookup'!$A:$B,2,FALSE)","v":{"$error":"#REF!"}},{"$f":"VLOOKUP(#REF!,'Points Lookup'!$A:$B,2,FALSE)","v":{"$error":"#REF!"}},{"$f":"VLOOKUP(#REF!,'Points Lookup'!$A:$B,2,FALSE)","v":{"$error":"#REF!"}},{"$f":"VLOOKUP(#REF!,'Points Lookup'!$A:$B,2,FALSE)","v":{"$error":"#REF!"}},{"$f":"VLOOKUP(#REF!,'Points Lookup'!$A:$B,2,FALSE)","v":{"$error":"#REF!"}},{"$f":"VLOOKUP(#REF!,'Points Lookup'!$A:$B,2,FALSE)","v":{"$error":"#REF!"}},{"$f":"VLOOKUP(#REF!,'Points Lookup'!$A:$B,2,FALSE)","v":{"$error":"#REF!"}},{"$f":"VLOOKUP(#REF!,'Points Lookup'!$A:$B,2,FALSE)","v":{"$error":"#REF!"}},{"$f":"VLOOKUP(#REF!,'Points Lookup'!$A:$B,2,FALSE)","v":{"$error":"#REF!"}},{"$f":"VLOOKUP(#REF!,'Points Lookup'!$A:$B,2,FALSE)","v":{"$error":"#REF!"}},{"$f":"VLOOKUP(#REF!,'Points Lookup'!$A:$B,2,FALSE)","v":{"$error":"#REF!"}},{"$f":"VLOOKUP(#REF!,'Points Lookup'!$A:$B,2,FALSE)","v":{"$error":"#REF!"}},null,{"$error":"#REF!"},{"$error":"#REF!"},{"$error":"#REF!"},{"$error":"#REF!"},{"$error":"#REF!"},{"$error":"#REF!"},{"$error":"#REF!"},{"$error":"#REF!"}]
[{"$error":"#REF!"},{"$f":"#REF!","v":{"$error":"#REF!"}},{"$f":"IF(ISBLANK(#REF!),\"\",#REF!)","v":{"$error":"#REF!"}},{"$error":"#REF!"},{"$f":"VLOOKUP(#REF!,'Points Lookup'!$A:$B,2,FALSE)","v":{"$error":"#REF!"}},{"$f":"VLOOKUP(#REF!,'Points Lookup'!$A:$B,2,FALSE)","v":{"$error":"#REF!"}},{"$f":"VLOOKUP(#REF!,'Points Lookup'!$A:$B,2,FALSE)","v":{"$error":"#REF!"}},{"$f":"VLOOKUP(#REF!,'Points Lookup'!$A:$B,2,FALSE)","v":{"$error":"#REF!"}},{"$f":"VLOOKUP(#REF!,'Points Lookup'!$A:$B,2,FALSE)","v":{"$error":"#REF!"}},{"$f":"VLOOKUP(#REF!,'Points Lookup'!$A:$B,2,FALSE)","v":{"$error":"#REF!"}},{"$f":"VLOOKUP(#REF!,'Points Lookup'!$A:$B,2,FALSE)","v":{"$error":"#REF!"}},{"$f":"VLOOKUP(#REF!,'Points Lookup'!$A:$B,2,FALSE)","v":{"$error":"#REF!"}},{"$f":"VLOOKUP(#REF!,'Points Lookup'!$A:$B,2,FALSE)","v":{"$error":"#REF!"}},{"$f":"VLOOKUP(#REF!,'Points Lookup'!$A:$B,2,FALSE)","v":{"$error":"#REF!"}},{"$f":"VLOOKUP(#REF!,'Points Lookup'!$A:$B,2,FALSE)","v":{"$error":"#REF!"}},{"$f":"VLOOKUP(#REF!,'Points Lookup'!$A:$B,2,FALSE)","v":{"$error":"#REF!"}},{"$f":"VLOOKUP(#REF!,'Points Lookup'!$A:$B,2,FALSE)","v":{"$error":"#REF!"}},{"$f":"VLOOKUP(#REF!,'Points Lookup'!$A:$B,2,FALSE)","v":{"$error":"#REF!"}},{"$f":"VLOOKUP(#REF!,'Points Lookup'!$A:$B,2,FALSE)","v":{"$error":"#REF!"}},{"$f":"VLOOKUP(#REF!,'Points Lookup'!$A:$B,2,FALSE)","v":{"$error":"#REF!"}},{"$f":"VLOOKUP(#REF!,'Points Lookup'!$A:$B,2,FALSE)","v":{"$error":"#REF!"}},{"$f":"VLOOKUP(#REF!,'Points Lookup'!$A:$B,2,FALSE)","v":{"$error":"#REF!"}},{"$f":"VLOOKUP(#REF!,'Points Lookup'!$A:$B,2,FALSE)","v":{"$error":"#REF!"}},{"$f":"VLOOKUP(#REF!,'Points Lookup'!$A:$B,2,FALSE)","v":{"$error":"#REF!"}},null,{"$error":"#REF!"},{"$error":"#REF!"},{"$error":"#REF!"},{"$error":"#REF!"},{"$error":"#REF!"},{"$error":"#REF!"},{"$error":"#REF!"},{"$error":"#REF!"}]
[{"$error":"#REF!"},{"$f":"#REF!","v":{"$error":"#REF!"}},{"$f":"IF(ISBLANK(#REF!),\"\",#REF!)","v":{"$error":"#REF!"}},{"$error":"#REF!"},{"$f":"VLOOKUP(#REF!,'Points Lookup'!$A:$B,2,FALSE)","v":{"$error":"#REF!"}},{"$f":"VLOOKUP(#REF!,'Points Lookup'!$A:$B,2,FALSE)","v":{"$error":"#REF!"}},{"$f":"VLOOKUP(#REF!,'Points Lookup'!$A:$B,2,FALSE)","v":{"$error":"#REF!"}},{"$f":"VLOOKUP(#REF!,'Points Lookup'!$A:$B,2,FALSE)","v":{"$error":"#REF!"}},{"$f":"VLOOKUP(#REF!,'Points Lookup'!$A:$B,2,FALSE)","v":{"$error":"#REF!"}},{"$f":"VLOOKUP(#REF!,'Points Lookup'!$A:$B,2,FALSE)","v":{"$error":"#REF!"}},{"$f":"VLOOKUP(#REF!,'Points Lookup'!$A:$B,2,FALSE)","v":{"$error":"#REF!"}},{"$f":"VLOOKUP(#REF!,'Points Lookup'!$A:$B,2,FALSE)","v":{"$error":"#REF!"}},{"$f":"VLOOKUP(#REF!,'Points Lookup'!$A:$B,2,FALSE)","v":{"$error":"#REF!"}},{"$f":"VLOOKUP(#REF!,'Points Lookup'!$A:$B,2,FALSE)","v":{"$error":"#REF!"}},{"$f":"VLOOKUP(#REF!,'Points Lookup'!$A:$B,2,FALSE)","v":{"$error":"#REF!"}},{"$f":"VLOOKUP(#REF!,'Points Lookup'!$A:$B,2,FALSE)","v":{"$error":"#REF!"}},{"$f":"VLOOKUP(#REF!,'Points Lookup'!$A:$B,2,FALSE)","v":{"$error":"#REF!"}},{"$f":"VLOOKUP(#REF!,'Points Lookup'!$A:$B,2,FALSE)","v":{"$error":"#REF!"}},{"$f":"VLOOKUP(#REF!,'Points Lookup'!$A:$B,2,FALSE)","v":{"$error":"#REF!"}},{"$f":"VLOOKUP(#REF!,'Points Lookup'!$A:$B,2,FALSE)","v":{"$error":"#REF!"}},{"$f":"VLOOKUP(#REF!,'Points Lookup'!$A:$B,2,FALSE)","v":{"$error":"#REF!"}},{"$f":"VLOOKUP(#REF!,'Points Lookup'!$A:$B,2,FALSE)","v":{"$error":"#REF!"}},{"$f":"VLOOKUP(#REF!,'Points Lookup'!$A:$B,2,FALSE)","v":{"$error":"#REF!"}},{"$f":"VLOOKUP(#REF!,'Points Lookup'!$A:$B,2,FALSE)","v":{"$error":"#REF!"}},null,{"$error":"#REF!"},{"$error":"#REF!"},{"$error":"#REF!"},{"$error":"#REF!"},{"$error":"#REF!"},{"$error":"#REF!"},{"$error":"#REF!"},{"$error":"#REF!"}]
[{"$error":"#REF!"},{"$f":"#REF!","v":{"$error":"#REF!"}},{"$f":"IF(ISBLANK(#REF!),\"\",#REF!)","v":{"$error":"#REF!"}},{"$error":"#REF!"},{"$f":"VLOOKUP(#REF!,'Points Lookup'!$A:$B,2,FALSE)","v":{"$error":"#REF!"}},{"$f":"VLOOKUP(#REF!,'Points Lookup'!$A:$B,2,FALSE)","v":{"$error":"#REF!"}},{"$f":"VLOOKUP(#REF!,'Points Lookup'!$A:$B,2,FALSE)","v":{"$error":"#REF!"}},{"$f":"VLOOKUP(#REF!,'Points Lookup'!$A:$B,2,FALSE)","v":{"$error":"#REF!"}},{"$f":"VLOOKUP(#REF!,'Points Lookup'!$A:$B,2,FALSE)","v":{"$error":"#REF!"}},{"$f":"VLOOKUP(#REF!,'Points Lookup'!$A:$B,2,FALSE)","v":{"$error":"#REF!"}},{"$f":"VLOOKUP(#REF!,'Points Lookup'!$A:$B,2,FALSE)","v":{"$error":"#REF!"}},{"$f":"VLOOKUP(#REF!,'Points Lookup'!$A:$B,2,FALSE)","v":{"$error":"#REF!"}},{"$f":"VLOOKUP(#REF!,'Points Lookup'!$A:$B,2,FALSE)","v":{"$error":"#REF!"}},{"$f":"VLOOKUP(#REF!,'Points Lookup'!$A:$B,2,FALSE)","v":{"$error":"#REF!"}},{"$f":"VLOOKUP(#REF!,'Points Lookup'!$A:$B,2,FALSE)","v":{"$error":"#REF!"}},{"$f":"VLOOKUP(#REF!,'Points Lookup'!$A:$B,2,FALSE)","v":{"$error":"#REF!"}},{"$f":"VLOOKUP(#REF!,'Points Lookup'!$A:$B,2,FALSE)","v":{"$error":"#REF!"}},{"$f":"VLOOKUP(#REF!,'Points Lookup'!$A:$B,2,FALSE)","v":{"$error":"#REF!"}},{"$f":"VLOOKUP(#REF!,'Points Lookup'!$A:$B,2,FALSE)","v":{"$error":"#REF!"}},{"$f":"VLOOKUP(#REF!,'Points Lookup'!$A:$B,2,FALSE)","v":{"$error":"#REF!"}},{"$f":"VLOOKUP(#REF!,'Points Lookup'!$A:$B,2,FALSE)","v":{"$error":"#REF!"}},{"$f":"VLOOKUP(#REF!,'Points Lookup'!$A:$B,2,FALSE)","v":{"$error":"#REF!"}},{"$f":"VLOOKUP(#REF!,'Points Lookup'!$A:$B,2,FALSE)","v":{"$error":"#REF!"}},{"$f":"VLOOKUP(#REF!,'Points Lookup'!$A:$B,2,FALSE)","v":{"$error":"#REF!"}},null,{"$error":"#REF!"},{"$error":"#REF!"},{"$error":"#REF!"},{"$error":"#REF!"},{"$error":"#REF!"},{"$error":"#REF!"},{"$error":"#REF!"},{"$error":"#REF!"}]
[{"$error":"#REF!"},{"$f":"#REF!","v":{"$error":"#REF!"}},{"$f":"IF(ISBLANK(#REF!),\"\",#REF!)","v":{"$error":"#REF!"}},{"$error":"#REF!"},{"$f":"VLOOKUP(#REF!,'Points Lookup'!$A:$B,2,FALSE)","v":{"$error":"#REF!"}},{"$f":"VLOOKUP(#REF!,'Points Lookup'!$A:$B,2,FALSE)","v":{"$error":"#REF!"}},{"$f":"VLOOKUP(#REF!,'Points Lookup'!$A:$B,2,FALSE)","v":{"$error":"#REF!"}},{"$f":"VLOOKUP(#REF!,'Points Lookup'!$A:$B,2,FALSE)","v":{"$error":"#REF!"}},{"$f":"VLOOKUP(#REF!,'Points Lookup'!$A:$B,2,FALSE)","v":{"$error":"#REF!"}},{"$f":"VLOOKUP(#REF!,'Points Lookup'!$A:$B,2,FALSE)","v":{"$error":"#REF!"}},{"$f":"VLOOKUP(#REF!,'Points Lookup'!$A:$B,2,FALSE)","v":{"$error":"#REF!"}},{"$f":"VLOOKUP(#REF!,'Points Lookup'!$A:$B,2,FALSE)","v":{"$error":"#REF!"}},{"$f":"VLOOKUP(#REF!,'Points Lookup'!$A:$B,2,FALSE)","v":{"$error":"#REF!"}},{"$f":"VLOOKUP(#REF!,'Points Lookup'!$A:$B,2,FALSE)","v":{"$error":"#REF!"}},{"$f":"VLOOKUP(#REF!,'Points Lookup'!$A:$B,2,FALSE)","v":{"$error":"#REF!"}},{"$f":"VLOOKUP(#REF!,'Points Lookup'!$A:$B,2,FALSE)","v":{"$error":"#REF!"}},{"$f":"VLOOKUP(#REF!,'Points Lookup'!$A:$B,2,FALSE)","v":{"$error":"#REF!"}},{"$f":"VLOOKUP(#REF!,'Points Lookup'!$A:$B,2,FALSE)","v":{"$error":"#REF!"}},{"$f":"VLOOKUP(#REF!,'Points Lookup'!$A:$B,2,FALSE)","v":{"$error":"#REF!"}},{"$f":"VLOOKUP(#REF!,'Points Lookup'!$A:$B,2,FALSE)","v":{"$error":"#REF!"}},{"$f":"VLOOKUP(#REF!,'Points Lookup'!$A:$B,2,FALSE)","v":{"$error":"#REF!"}},{"$f":"VLOOKUP(#REF!,'Points Lookup'!$A:$B,2,FALSE)","v":{"$error":"#REF!"}},{"$f":"VLOOKUP(#REF!,'Points Lookup'!$A:$B,2,FALSE)","v":{"$error":"#REF!"}},{"$f":"VLOOKUP(#REF!,'Points Lookup'!$A:$B,2,FALSE)","v":{"$error":"#REF!"}},null,{"$error":"#REF!"},{"$error":"#REF!"},{"$error":"#REF!"},{"$error":"#REF!"},{"$error":"#REF!"},{"$error":"#REF!"},{"$error":"#REF!"},{"$error":"#REF!"}]
[{"$error":"#REF!"},{"$f":"#REF!","v":{"$error":"#REF!"}},{"$f":"IF(ISBLANK(#REF!),\"\",#REF!)","v":{"$error":"#REF!"}},{"$error":"#REF!"},{"$f":"VLOOKUP(#REF!,'Points Lookup'!$A:$B,2,FALSE)","v":{"$error":"#REF!"}},{"$f":"VLOOKUP(#REF!,'Points Lookup'!$A:$B,2,FALSE)","v":{"$error":"#REF!"}},{"$f":"VLOOKUP(#REF!,'Points Lookup'!$A:$B,2,FALSE)","v":{"$error":"#REF!"}},{"$f":"VLOOKUP(#REF!,'Points Lookup'!$A:$B,2,FALSE)","v":{"$error":"#REF!"}},{"$f":"VLOOKUP(#REF!,'Points Lookup'!$A:$B,2,FALSE)","v":{"$error":"#REF!"}},{"$f":"VLOOKUP(#REF!,'Points Lookup'!$A:$B,2,FALSE)","v":{"$error":"#REF!"}},{"$f":"VLOOKUP(#REF!,'Points Lookup'!$A:$B,2,FALSE)","v":{"$error":"#REF!"}},{"$f":"VLOOKUP(#REF!,'Points Lookup'!$A:$B,2,FALSE)","v":{"$error":"#REF!"}},{"$f":"VLOOKUP(#REF!,'Points Lookup'!$A:$B,2,FALSE)","v":{"$error":"#REF!"}},{"$f":"VLOOKUP(#REF!,'Points Lookup'!$A:$B,2,FALSE)","v":{"$error":"#REF!"}},{"$f":"VLOOKUP(#REF!,'Points Lookup'!$A:$B,2,FALSE)","v":{"$error":"#REF!"}},{"$f":"VLOOKUP(#REF!,'Points Lookup'!$A:$B,2,FALSE)","v":{"$error":"#REF!"}},{"$f":"VLOOKUP(#REF!,'Points Lookup'!$A:$B,2,FALSE)","v":{"$error":"#REF!"}},{"$f":"VLOOKUP(#REF!,'Points Lookup'!$A:$B,2,FALSE)","v":{"$error":"#REF!"}},{"$f":"VLOOKUP(#REF!,'Points Lookup'!$A:$B,2,FALSE)","v":{"$error":"#REF!"}},{"$f":"VLOOKUP(#REF!,'Points Lookup'!$A:$B,2,FALSE)","v":{"$error":"#REF!"}},{"$f":"VLOOKUP(#REF!,'Points Lookup'!$A:$B,2,FALSE)","v":{"$error":"#REF!"}},{"$f":"VLOOKUP(#REF!,'Points Lookup'!$A:$B,2,FALSE)","v":{"$error":"#REF!"}},{"$f":"VLOOKUP(#REF!,'Points Lookup'!$A:$B,2,FALSE)","v":{"$error":"#REF!"}},{"$f":"VLOOKUP(#REF!,'Points Lookup'!$A:$B,2,FALSE)","v":{"$error":"#REF!"}},null,{"$error":"#REF!"},{"$error":"#REF!"},{"$error":"#REF!"},{"$error":"#REF!"},{"$error":"#REF!"},{"$error":"#REF!"},{"$error":"#REF!"},{"$error":"#REF!"}]
[{"$error":"#REF!"},{"$f":"#REF!","v":{"$error":"#REF!"}},{"$f":"IF(ISBLANK(#REF!),\"\",#REF!)","v":{"$error":"#REF!"}},{"$error":"#REF!"},{"$f":"VLOOKUP(#REF!,'Points Lookup'!$A:$B,2,FALSE)","v":{"$error":"#REF!"}},{"$f":"VLOOKUP(#REF!,'Points Lookup'!$A:$B,2,FALSE)","v":{"$error":"#REF!"}},{"$f":"VLOOKUP(#REF!,'Points Lookup'!$A:$B,2,FALSE)","v":{"$error":"#REF!"}},{"$f":"VLOOKUP(#REF!,'Points Lookup'!$A:$B,2,FALSE)","v":{"$error":"#REF!"}},{"$f":"VLOOKUP(#REF!,'Points Lookup'!$A:$B,2,FALSE)","v":{"$error":"#REF!"}},{"$f":"VLOOKUP(#REF!,'Points Lookup'!$A:$B,2,FALSE)","v":{"$error":"#REF!"}},{"$f":"VLOOKUP(#REF!,'Points Lookup'!$A:$B,2,FALSE)","v":{"$error":"#REF!"}},{"$f":"VLOOKUP(#REF!,'Points Lookup'!$A:$B,2,FALSE)","v":{"$error":"#REF!"}},{"$f":"VLOOKUP(#REF!,'Points Lookup'!$A:$B,2,FALSE)","v":{"$error":"#REF!"}},{"$f":"VLOOKUP(#REF!,'Points Lookup'!$A:$B,2,FALSE)","v":{"$error":"#REF!"}},{"$f":"VLOOKUP(#REF!,'Points Lookup'!$A:$B,2,FALSE)","v":{"$error":"#REF!"}},{"$f":"VLOOKUP(#REF!,'Points Lookup'!$A:$B,2,FALSE)","v":{"$error":"#REF!"}},{"$f":"VLOOKUP(#REF!,'Points Lookup'!$A:$B,2,FALSE)","v":{"$error":"#REF!"}},{"$f":"VLOOKUP(#REF!,'Points Lookup'!$A:$B,2,FALSE)","v":{"$error":"#REF!"}},{"$f":"VLOOKUP(#REF!,'Points Lookup'!$A:$B,2,FALSE)","v":{"$error":"#REF!"}},{"$f":"VLOOKUP(#REF!,'Points Lookup'!$A:$B,2,FALSE)","v":{"$error":"#REF!"}},{"$f":"VLOOKUP(#REF!,'Points Lookup'!$A:$B,2,FALSE)","v":{"$error":"#REF!"}},{"$f":"VLOOKUP(#REF!,'Points Lookup'!$A:$B,2,FALSE)","v":{"$error":"#REF!"}},{"$f":"VLOOKUP(#REF!,'Points Lookup'!$A:$B,2,FALSE)","v":{"$error":"#REF!"}},{"$f":"VLOOKUP(#REF!,'Points Lookup'!$A:$B,2,FALSE)","v":{"$error":"#REF!"}},null,{"$error":"#REF!"},{"$error":"#REF!"},{"$error":"#REF!"},{"$error":"#REF!"},{"$error":"#REF!"},{"$error":"#REF!"},{"$error":"#REF!"},{"$error":"#REF!"}]
[{"$error":"#REF!"},{"$f":"#REF!","v":{"$error":"#REF!"}},{"$f":"IF(ISBLANK(#REF!),\"\",#REF!)","v":{"$error":"#REF!"}},{"$error":"#REF!"},{"$f":"VLOOKUP(#REF!,'Points Lookup'!$A:$B,2,FALSE)","v":{"$error":"#REF!"}},{"$f":"VLOOKUP(#REF!,'Points Lookup'!$A:$B,2,FALSE)","v":{"$error":"#REF!"}},{"$f":"VLOOKUP(#REF!,'Points Lookup'!$A:$B,2,FALSE)","v":{"$error":"#REF!"}},{"$f":"VLOOKUP(#REF!,'Points Lookup'!$A:$B,2,FALSE)","v":{"$error":"#REF!"}},{"$f":"VLOOKUP(#REF!,'Points Lookup'!$A:$B,2,FALSE)","v":{"$error":"#REF!"}},{"$f":"VLOOKUP(#REF!,'Points Lookup'!$A:$B,2,FALSE)","v":{"$error":"#REF!"}},{"$f":"VLOOKUP(#REF!,'Points Lookup'!$A:$B,2,FALSE)","v":{"$error":"#REF!"}},{"$f":"VLOOKUP(#REF!,'Points Lookup'!$A:$B,2,FALSE)","v":{"$error":"#REF!"}},{"$f":"VLOOKUP(#REF!,'Points Lookup'!$A:$B,2,FALSE)","v":{"$error":"#REF!"}},{"$f":"VLOOKUP(#REF!,'Points Lookup'!$A:$B,2,FALSE)","v":{"$error":"#REF!"}},{"$f":"VLOOKUP(#REF!,'Points Lookup'!$A:$B,2,FALSE)","v":{"$error":"#REF!"}},{"$f":"VLOOKUP(#REF!,'Points Lookup'!$A:$B,2,FALSE)","v":{"$error":"#REF!"}},{"$f":"VLOOKUP(#REF!,'Points Lookup'!$A:$B,2,FALSE)","v":{"$error":"#REF!"}},{"$f":"VLOOKUP(#REF!,'Points Lookup'!$A:$B,2,FALSE)","v":{"$error":"#REF!"}},{"$f":"VLOOKUP(#REF!,'Points Lookup'!$A:$B,2,FALSE)","v":{"$error":"#REF!"}},{"$f":"VLOOKUP(#REF!,'Points Lookup'!$A:$B,2,FALSE)","v":{"$error":"#REF!"}},{"$f":"VLOOKUP(#REF!,'Points Lookup'!$A:$B,2,FALSE)","v":{"$error":"#REF!"}},{"$f":"VLOOKUP(#REF!,'Points Lookup'!$A:$B,2,FALSE)","v":{"$error":"#REF!"}},{"$f":"VLOOKUP(#REF!,'Points Lookup'!$A:$B,2,FALSE)","v":{"$error":"#REF!"}},{"$f":"VLOOKUP(#REF!,'Points Lookup'!$A:$B,2,FALSE)","v":{"$error":"#REF!"}},null,{"$error":"#REF!"},{"$error":"#REF!"},{"$error":"#REF!"},{"$error":"#REF!"},{"$error":"#REF!"},{"$error":"#REF!"},{"$error":"#REF!"},{"$error":"#REF!"}]
[{"$error":"#REF!"},{"$f":"#REF!","v":{"$error":"#REF!"}},{"$f":"IF(ISBLANK(#REF!),\"\",#REF!)","v":{"$error":"#REF!"}},{"$error":"#REF!"},{"$f":"VLOOKUP(#REF!,'Points Lookup'!$A:$B,2,FALSE)","v":{"$error":"#REF!"}},{"$f":"VLOOKUP(#REF!,'Points Lookup'!$A:$B,2,FALSE)","v":{"$error":"#REF!"}},{"$f":"VLOOKUP(#REF!,'Points Lookup'!$A:$B,2,FALSE)","v":{"$error":"#REF!"}},{"$f":"VLOOKUP(#REF!,'Points Lookup'!$A:$B,2,FALSE)","v":{"$error":"#REF!"}},{"$f":"VLOOKUP(#REF!,'Points Lookup'!$A:$B,2,FALSE)","v":{"$error":"#REF!"}},{"$f":"VLOOKUP(#REF!,'Points Lookup'!$A:$B,2,FALSE)","v":{"$error":"#REF!"}},{"$f":"VLOOKUP(#REF!,'Points Lookup'!$A:$B,2,FALSE)","v":{"$error":"#REF!"}},{"$f":"VLOOKUP(#REF!,'Points Lookup'!$A:$B,2,FALSE)","v":{"$error":"#REF!"}},{"$f":"VLOOKUP(#REF!,'Points Lookup'!$A:$B,2,FALSE)","v":{"$error":"#REF!"}},{"$f":"VLOOKUP(#REF!,'Points Lookup'!$A:$B,2,FALSE)","v":{"$error":"#REF!"}},{"$f":"VLOOKUP(#REF!,'Points Lookup'!$A:$B,2,FALSE)","v":{"$error":"#REF!"}},{"$f":"VLOOKUP(#REF!,'Points Lookup'!$A:$B,2,FALSE)","v":{"$error":"#REF!"}},{"$f":"VLOOKUP(#REF!,'Points Lookup'!$A:$B,2,FALSE)","v":{"$error":"#REF!"}},{"$f":"VLOOKUP(#REF!,'Points Lookup'!$A:$B,2,FALSE)","v":{"$error":"#REF!"}},{"$f":"VLOOKUP(#REF!,'Points Lookup'!$A:$B,2,FALSE)","v":{"$error":"#REF!"}},{"$f":"VLOOKUP(#REF!,'Points Lookup'!$A:$B,2,FALSE)","v":{"$error":"#REF!"}},{"$f":"VLOOKUP(#REF!,'Points Lookup'!$A:$B,2,FALSE)","v":{"$error":"#REF!"}},{"$f":"VLOOKUP(#REF!,'Points Lookup'!$A:$B,2,FALSE)","v":{"$error":"#REF!"}},{"$f":"VLOOKUP(#REF!,'Points Lookup'!$A:$B,2,FALSE)","v":{"$error":"#REF!"}},{"$f":"VLOOKUP(#REF!,'Points Lookup'!$A:$B,2,FALSE)","v":{"$error":"#REF!"}},null,{"$f":"LARGE($E242:$X242,Z$1)","v":{"$error":"#REF!"}},{"$error":"#REF!"},{"$error":"#REF!"},{"$error":"#REF!"},{"$error":"#REF!"},{"$error":"#REF!"},{"$error":"#REF!"},{"$error":"#REF!"}]
[{"$error":"#REF!"},{"$f":"#REF!","v":{"$error":"#REF!"}},{"$f":"IF(ISBLANK(#REF!),\"\",#REF!)","v":{"$error":"#REF!"}},{"$error":"#REF!"},{"$f":"VLOOKUP(#REF!,'Points Lookup'!$A:$B,2,FALSE)","v":{"$error":"#REF!"}},{"$f":"VLOOKUP(#REF!,'Points Lookup'!$A:$B,2,FALSE)","v":{"$error":"#REF!"}},{"$f":"VLOOKUP(#REF!,'Points Lookup'!$A:$B,2,FALSE)","v":{"$error":"#REF!"}},{"$f":"VLOOKUP(#REF!,'Points Lookup'!$A:$B,2,FALSE)","v":{"$error":"#REF!"}},{"$f":"VLOOKUP(#REF!,'Points Lookup'!$A:$B,2,FALSE)","v":{"$error":"#REF!"}},{"$f":"VLOOKUP(#REF!,'Points Lookup'!$A:$B,2,FALSE)","v":{"$error":"#REF!"}},{"$f":"VLOOKUP(#REF!,'Points Lookup'!$A:$B,2,FALSE)","v":{"$error":"#REF!"}},{"$f":"VLOOKUP(#REF!,'Points Lookup'!$A:$B,2,FALSE)","v":{"$error":"#REF!"}},{"$f":"VLOOKUP(#REF!,'Points Lookup'!$A:$B,2,FALSE)","v":{"$error":"#REF!"}},{"$f":"VLOOKUP(#REF!,'Points Lookup'!$A:$B,2,FALSE)","v":{"$error":"#REF!"}},{"$f":"VLOOKUP(#REF!,'Points Lookup'!$A:$B,2,FALSE)","v":{"$error":"#REF!"}},{"$f":"VLOOKUP(#REF!,'Points Lookup'!$A:$B,2,FALSE)","v":{"$error":"#REF!"}},{"$f":"VLOOKUP(#REF!,'Points Lookup'!$A:$B,2,FALSE)","v":{"$error":"#REF!"}},{"$f":"VLOOKUP(#REF!,'Points Lookup'!$A:$B,2,FALSE)","v":{"$error":"#REF!"}},{"$f":"VLOOKUP(#REF!,'Points Lookup'!$A:$B,2,FALSE)","v":{"$error":"#REF!"}},{"$f":"VLOOKUP(#REF!,'Points Lookup'!$A:$B,2,FALSE)","v":{"$error":"#REF!"}},{"$f":"VLOOKUP(#REF!,'Points Lookup'!$A:$B,2,FALSE)","v":{"$error":"#REF!"}},{"$f":"VLOOKUP(#REF!,'Points Lookup'!$A:$B,2,FALSE)","v":{"$error":"#REF!"}},{"$f":"VLOOKUP(#REF!,'Points Lookup'!$A:$B,2,FALSE)","v":{"$error":"#REF!"}},{"$f":"VLOOKUP(#REF!,'Points Lookup'!$A:$B,2,FALSE)","v":{"$error":"#REF!"}},null,{"$error":"#REF!"},{"$error":"#REF!"},{"$error":"#REF!"},{"$error":"#REF!"},{"$error":"#REF!"},{"$error":"#REF!"},{"$error":"#REF!"},{"$error":"#REF!"}]
[{"$error":"#REF!"},{"$f":"#REF!","v":{"$error":"#REF!"}},{"$f":"IF(ISBLANK(#REF!),\"\",#REF!)","v":{"$error":"#REF!"}},{"$error":"#REF!"},{"$f":"VLOOKUP(#REF!,'Points Lookup'!$A:$B,2,FALSE)","v":{"$error":"#REF!"}},{"$f":"VLOOKUP(#REF!,'Points Lookup'!$A:$B,2,FALSE)","v":{"$error":"#REF!"}},{"$f":"VLOOKUP(#REF!,'Points Lookup'!$A:$B,2,FALSE)","v":{"$error":"#REF!"}},{"$f":"VLOOKUP(#REF!,'Points Lookup'!$A:$B,2,FALSE)","v":{"$error":"#REF!"}},{"$f":"VLOOKUP(#REF!,'Points Lookup'!$A:$B,2,FALSE)","v":{"$error":"#REF!"}},{"$f":"VLOOKUP(#REF!,'Points Lookup'!$A:$B,2,FALSE)","v":{"$error":"#REF!"}},{"$f":"VLOOKUP(#REF!,'Points Lookup'!$A:$B,2,FALSE)","v":{"$error":"#REF!"}},{"$f":"VLOOKUP(#REF!,'Points Lookup'!$A:$B,2,FALSE)","v":{"$error":"#REF!"}},{"$f":"VLOOKUP(#REF!,'Points Lookup'!$A:$B,2,FALSE)","v":{"$error":"#REF!"}},{"$f":"VLOOKUP(#REF!,'Points Lookup'!$A:$B,2,FALSE)","v":{"$error":"#REF!"}},{"$f":"VLOOKUP(#REF!,'Points Lookup'!$A:$B,2,FALSE)","v":{"$error":"#REF!"}},{"$f":"VLOOKUP(#REF!,'Points Lookup'!$A:$B,2,FALSE)","v":{"$error":"#REF!"}},{"$f":"VLOOKUP(#REF!,'Points Lookup'!$A:$B,2,FALSE)","v":{"$error":"#REF!"}},{"$f":"VLOOKUP(#REF!,'Points Lookup'!$A:$B,2,FALSE)","v":{"$error":"#REF!"}},{"$f":"VLOOKUP(#REF!,'Points Lookup'!$A:$B,2,FALSE)","v":{"$error":"#REF!"}},{"$f":"VLOOKUP(#REF!,'Points Lookup'!$A:$B,2,FALSE)","v":{"$error":"#REF!"}},{"$f":"VLOOKUP(#REF!,'Points Lookup'!$A:$B,2,FALSE)","v":{"$error":"#REF!"}},{"$f":"VLOOKUP(#REF!,'Points Lookup'!$A:$B,2,FALSE)","v":{"$error":"#REF!"}},{"$f":"VLOOKUP(#REF!,'Points Lookup'!$A:$B,2,FALSE)","v":{"$error":"#REF!"}},{"$f":"VLOOKUP(#REF!,'Points Lookup'!$A:$B,2,FALSE)","v":{"$error":"#REF!"}},null,{"$error":"#REF!"},{"$error":"#REF!"},{"$error":"#REF!"},{"$error":"#REF!"},{"$error":"#REF!"},{"$error":"#REF!"},{"$error":"#REF!"},{"$error":"#REF!"}]
[{"$error":"#REF!"},{"$f":"#REF!","v":{"$error":"#REF!"}},{"$f":"IF(ISBLANK(#REF!),\"\",#REF!)","v":{"$error":"#REF!"}},{"$error":"#REF!"},{"$f":"VLOOKUP(#REF!,'Points Lookup'!$A:$B,2,FALSE)","v":{"$error":"#REF!"}},{"$f":"VLOOKUP(#REF!,'Points Lookup'!$A:$B,2,FALSE)","v":{"$error":"#REF!"}},{"$f":"VLOOKUP(#REF!,'Points Lookup'!$A:$B,2,FALSE)","v":{"$error":"#REF!"}},{"$f":"VLOOKUP(#REF!,'Points Lookup'!$A:$B,2,FALSE)","v":{"$error":"#REF!"}},{"$f":"VLOOKUP(#REF!,'Points Lookup'!$A:$B,2,FALSE)","v":{"$error":"#REF!"}},{"$f":"VLOOKUP(#REF!,'Points Lookup'!$A:$B,2,FALSE)","v":{"$error":"#REF!"}},{"$f":"VLOOKUP(#REF!,'Points Lookup'!$A:$B,2,FALSE)","v":{"$error":"#REF!"}},{"$f":"VLOOKUP(#REF!,'Points Lookup'!$A:$B,2,FALSE)","v":{"$error":"#REF!"}},{"$f":"VLOOKUP(#REF!,'Points Lookup'!$A:$B,2,FALSE)","v":{"$error":"#REF!"}},{"$f":"VLOOKUP(#REF!,'Points Lookup'!$A:$B,2,FALSE)","v":{"$error":"#REF!"}},{"$f":"VLOOKUP(#REF!,'Points Lookup'!$A:$B,2,FALSE)","v":{"$error":"#REF!"}},{"$f":"VLOOKUP(#REF!,'Points Lookup'!$A:$B,2,FALSE)","v":{"$error":"#REF!"}},{"$f":"VLOOKUP(#REF!,'Points Lookup'!$A:$B,2,FALSE)","v":{"$error":"#REF!"}},{"$f":"VLOOKUP(#REF!,'Points Lookup'!$A:$B,2,FALSE)","v":{"$error":"#REF!"}},{"$f":"VLOOKUP(#REF!,'Points Lookup'!$A:$B,2,FALSE)","v":{"$error":"#REF!"}},{"$f":"VLOOKUP(#REF!,'Points Lookup'!$A:$B,2,FALSE)","v":{"$error":"#REF!"}},{"$f":"VLOOKUP(#REF!,'Points Lookup'!$A:$B,2,FALSE)","v":{"$error":"#REF!"}},{"$f":"VLOOKUP(#REF!,'Points Lookup'!$A:$B,2,FALSE)","v":{"$error":"#REF!"}},{"$f":"VLOOKUP(#REF!,'Points Lookup'!$A:$B,2,FALSE)","v":{"$error":"#REF!"}},{"$f":"VLOOKUP(#REF!,'Points Lookup'!$A:$B,2,FALSE)","v":{"$error":"#REF!"}},null,{"$error":"#REF!"},{"$error":"#REF!"},{"$error":"#REF!"},{"$error":"#REF!"},{"$error":"#REF!"},{"$error":"#REF!"},{"$error":"#REF!"},{"$error":"#REF!"}]
[{"$error":"#REF!"},{"$f":"#REF!","v":{"$error":"#REF!"}},{"$f":"IF(ISBLANK(#REF!),\"\",#REF!)","v":{"$error":"#REF!"}},{"$error":"#REF!"},{"$f":"VLOOKUP(#REF!,'Points Lookup'!$A:$B,2,FALSE)","v":{"$error":"#REF!"}},{"$f":"VLOOKUP(#REF!,'Points Lookup'!$A:$B,2,FALSE)","v":{"$error":"#REF!"}},{"$f":"VLOOKUP(#REF!,'Points Lookup'!$A:$B,2,FALSE)","v":{"$error":"#REF!"}},{"$f":"VLOOKUP(#REF!,'Points Lookup'!$A:$B,2,FALSE)","v":{"$error":"#REF!"}},{"$f":"VLOOKUP(#REF!,'Points Lookup'!$A:$B,2,FALSE)","v":{"$error":"#REF!"}},{"$f":"VLOOKUP(#REF!,'Points Lookup'!$A:$B,2,FALSE)","v":{"$error":"#REF!"}},{"$f":"VLOOKUP(#REF!,'Points Lookup'!$A:$B,2,FALSE)","v":{"$error":"#REF!"}},{"$f":"VLOOKUP(#REF!,'Points Lookup'!$A:$B,2,FALSE)","v":{"$error":"#REF!"}},{"$f":"VLOOKUP(#REF!,'Points Lookup'!$A:$B,2,FALSE)","v":{"$error":"#REF!"}},{"$f":"VLOOKUP(#REF!,'Points Lookup'!$A:$B,2,FALSE)","v":{"$error":"#REF!"}},{"$f":"VLOOKUP(#REF!,'Points Lookup'!$A:$B,2,FALSE)","v":{"$error":"#REF!"}},{"$f":"VLOOKUP(#REF!,'Points Lookup'!$A:$B,2,FALSE)","v":{"$error":"#REF!"}},{"$f":"VLOOKUP(#REF!,'Points Lookup'!$A:$B,2,FALSE)","v":{"$error":"#REF!"}},{"$f":"VLOOKUP(#REF!,'Points Lookup'!$A:$B,2,FALSE)","v":{"$error":"#REF!"}},{"$f":"VLOOKUP(#REF!,'Points Lookup'!$A:$B,2,FALSE)","v":{"$error":"#REF!"}},{"$f":"VLOOKUP(#REF!,'Points Lookup'!$A:$B,2,FALSE)","v":{"$error":"#REF!"}},{"$f":"VLOOKUP(#REF!,'Points Lookup'!$A:$B,2,FALSE)","v":{"$error":"#REF!"}},{"$f":"VLOOKUP(#REF!,'Points Lookup'!$A:$B,2,FALSE)","v":{"$error":"#REF!"}},{"$f":"VLOOKUP(#REF!,'Points Lookup'!$A:$B,2,FALSE)","v":{"$error":"#REF!"}},{"$f":"VLOOKUP(#REF!,'Points Lookup'!$A:$B,2,FALSE)","v":{"$error":"#REF!"}},null,{"$error":"#REF!"},{"$error":"#REF!"},{"$error":"#REF!"},{"$error":"#REF!"},{"$error":"#REF!"},{"$error":"#REF!"},{"$error":"#REF!"},{"$error":"#REF!"}]
[{"$error":"#REF!"},{"$f":"#REF!","v":{"$error":"#REF!"}},{"$f":"IF(ISBLANK(#REF!),\"\",#REF!)","v":{"$error":"#REF!"}},{"$error":"#REF!"},{"$f":"VLOOKUP(#REF!,'Points Lookup'!$A:$B,2,FALSE)","v":{"$error":"#REF!"}},{"$f":"VLOOKUP(#REF!,'Points Lookup'!$A:$B,2,FALSE)","v":{"$error":"#REF!"}},{"$f":"VLOOKUP(#REF!,'Points Lookup'!$A:$B,2,FALSE)","v":{"$error":"#REF!"}},{"$f":"VLOOKUP(#REF!,'Points Lookup'!$A:$B,2,FALSE)","v":{"$error":"#REF!"}},{"$f":"VLOOKUP(#REF!,'Points Lookup'!$A:$B,2,FALSE)","v":{"$error":"#REF!"}},{"$f":"VLOOKUP(#REF!,'Points Lookup'!$A:$B,2,FALSE)","v":{"$error":"#REF!"}},{"$f":"VLOOKUP(#REF!,'Points Lookup'!$A:$B,2,FALSE)","v":{"$error":"#REF!"}},{"$f":"VLOOKUP(#REF!,'Points Lookup'!$A:$B,2,FALSE)","v":{"$error":"#REF!"}},{"$f":"VLOOKUP(#REF!,'Points Lookup'!$A:$B,2,FALSE)","v":{"$error":"#REF!"}},{"$f":"VLOOKUP(#REF!,'Points Lookup'!$A:$B,2,FALSE)","v":{"$error":"#REF!"}},{"$f":"VLOOKUP(#REF!,'Points Lookup'!$A:$B,2,FALSE)","v":{"$error":"#REF!"}},{"$f":"VLOOKUP(#REF!,'Points Lookup'!$A:$B,2,FALSE)","v":{"$error":"#REF!"}},{"$f":"VLOOKUP(#REF!,'Points Lookup'!$A:$B,2,FALSE)","v":{"$error":"#REF!"}},{"$f":"VLOOKUP(#REF!,'Points Lookup'!$A:$B,2,FALSE)","v":{"$error":"#REF!"}},{"$f":"VLOOKUP(#REF!,'Points Lookup'!$A:$B,2,FALSE)","v":{"$error":"#REF!"}},{"$f":"VLOOKUP(#REF!,'Points Lookup'!$A:$B,2,FALSE)","v":{"$error":"#REF!"}},{"$f":"VLOOKUP(#REF!,'Points Lookup'!$A:$B,2,FALSE)","v":{"$error":"#REF!"}},{"$f":"VLOOKUP(#REF!,'Points Lookup'!$A:$B,2,FALSE)","v":{"$error":"#REF!"}},{"$f":"VLOOKUP(#REF!,'Points Lookup'!$A:$B,2,FALSE)","v":{"$error":"#REF!"}},{"$f":"VLOOKUP(#REF!,'Points Lookup'!$A:$B,2,FALSE)","v":{"$error":"#REF!"}},null,{"$error":"#REF!"},{"$error":"#REF!"},{"$error":"#REF!"},{"$error":"#REF!"},{"$error":"#REF!"},{"$error":"#REF!"},{"$error":"#REF!"},{"$error":"#REF!"}]
[{"$error":"#REF!"},{"$f":"#REF!","v":{"$error":"#REF!"}},{"$f":"IF(ISBLANK(#REF!),\"\",#REF!)","v":{"$error":"#REF!"}},{"$error":"#REF!"},{"$f":"VLOOKUP(#REF!,'Points Lookup'!$A:$B,2,FALSE)","v":{"$error":"#REF!"}},{"$f":"VLOOKUP(#REF!,'Points Lookup'!$A:$B,2,FALSE)","v":{"$error":"#REF!"}},{"$f":"VLOOKUP(#REF!,'Points Lookup'!$A:$B,2,FALSE)","v":{"$error":"#REF!"}},{"$f":"VLOOKUP(#REF!,'Points Lookup'!$A:$B,2,FALSE)","v":{"$error":"#REF!"}},{"$f":"VLOOKUP(#REF!,'Points Lookup'!$A:$B,2,FALSE)","v":{"$error":"#REF!"}},{"$f":"VLOOKUP(#REF!,'Points Lookup'!$A:$B,2,FALSE)","v":{"$error":"#REF!"}},{"$f":"VLOOKUP(#REF!,'Points Lookup'!$A:$B,2,FALSE)","v":{"$error":"#REF!"}},{"$f":"VLOOKUP(#REF!,'Points Lookup'!$A:$B,2,FALSE)","v":{"$error":"#REF!"}},{"$f":"VLOOKUP(#REF!,'Points Lookup'!$A:$B,2,FALSE)","v":{"$error":"#REF!"}},{"$f":"VLOOKUP(#REF!,'Points Lookup'!$A:$B,2,FALSE)","v":{"$error":"#REF!"}},{"$f":"VLOOKUP(#REF!,'Points Lookup'!$A:$B,2,FALSE)","v":{"$error":"#REF!"}},{"$f":"VLOOKUP(#REF!,'Points Lookup'!$A:$B,2,FALSE)","v":{"$error":"#REF!"}},{"$f":"VLOOKUP(#REF!,'Points Lookup'!$A:$B,2,FALSE)","v":{"$error":"#REF!"}},{"$f":"VLOOKUP(#REF!,'Points Lookup'!$A:$B,2,FALSE)","v":{"$error":"#REF!"}},{"$f":"VLOOKUP(#REF!,'Points Lookup'!$A:$B,2,FALSE)","v":{"$error":"#REF!"}},{"$f":"VLOOKUP(#REF!,'Points Lookup'!$A:$B,2,FALSE)","v":{"$error":"#REF!"}},{"$f":"VLOOKUP(#REF!,'Points Lookup'!$A:$B,2,FALSE)","v":{"$error":"#REF!"}},{"$f":"VLOOKUP(#REF!,'Points Lookup'!$A:$B,2,FALSE)","v":{"$error":"#REF!"}},{"$f":"VLOOKUP(#REF!,'Points Lookup'!$A:$B,2,FALSE)","v":{"$error":"#REF!"}},{"$f":"VLOOKUP(#REF!,'Points Lookup'!$A:$B,2,FALSE)","v":{"$error":"#REF!"}},null,{"$error":"#REF!"},{"$error":"#REF!"},{"$error":"#REF!"},{"$error":"#REF!"},{"$error":"#REF!"},{"$error":"#REF!"},{"$error":"#REF!"},{"$error":"#REF!"}]
[{"$error":"#REF!"},{"$f":"#REF!","v":{"$error":"#REF!"}},{"$f":"IF(ISBLANK(#REF!),\"\",#REF!)","v":{"$error":"#REF!"}},{"$error":"#REF!"},{"$f":"VLOOKUP(#REF!,'Points Lookup'!$A:$B,2,FALSE)","v":{"$error":"#REF!"}},{"$f":"VLOOKUP(#REF!,'Points Lookup'!$A:$B,2,FALSE)","v":{"$error":"#REF!"}},{"$f":"VLOOKUP(#REF!,'Points Lookup'!$A:$B,2,FALSE)","v":{"$error":"#REF!"}},{"$f":"VLOOKUP(#REF!,'Points Lookup'!$A:$B,2,FALSE)","v":{"$error":"#REF!"}},{"$f":"VLOOKUP(#REF!,'Points Lookup'!$A:$B,2,FALSE)","v":{"$error":"#REF!"}},{"$f":"VLOOKUP(#REF!,'Points Lookup'!$A:$B,2,FALSE)","v":{"$error":"#REF!"}},{"$f":"VLOOKUP(#REF!,'Points Lookup'!$A:$B,2,FALSE)","v":{"$error":"#REF!"}},{"$f":"VLOOKUP(#REF!,'Points Lookup'!$A:$B,2,FALSE)","v":{"$error":"#REF!"}},{"$f":"VLOOKUP(#REF!,'Points Lookup'!$A:$B,2,FALSE)","v":{"$error":"#REF!"}},{"$f":"VLOOKUP(#REF!,'Points Lookup'!$A:$B,2,FALSE)","v":{"$error":"#REF!"}},{"$f":"VLOOKUP(#REF!,'Points Lookup'!$A:$B,2,FALSE)","v":{"$error":"#REF!"}},{"$f":"VLOOKUP(#REF!,'Points Lookup'!$A:$B,2,FALSE)","v":{"$error":"#REF!"}},{"$f":"VLOOKUP(#REF!,'Points Lookup'!$A:$B,2,FALSE)","v":{"$error":"#REF!"}},{"$f":"VLOOKUP(#REF!,'Points Lookup'!$A:$B,2,FALSE)","v":{"$error":"#REF!"}},{"$f":"VLOOKUP(#REF!,'Points Lookup'!$A:$B,2,FALSE)","v":{"$error":"#REF!"}},{"$f":"VLOOKUP(#REF!,'Points Lookup'!$A:$B,2,FALSE)","v":{"$error":"#REF!"}},{"$f":"VLOOKUP(#REF!,'Points Lookup'!$A:$B,2,FALSE)","v":{"$error":"#REF!"}},{"$f":"VLOOKUP(#REF!,'Points Lookup'!$A:$B,2,FALSE)","v":{"$error":"#REF!"}},{"$f":"VLOOKUP(#REF!,'Points Lookup'!$A:$B,2,FALSE)","v":{"$error":"#REF!"}},{"$f":"VLOOKUP(#REF!,'Points Lookup'!$A:$B,2,FALSE)","v":{"$error":"#REF!"}},null,{"$error":"#REF!"},{"$error":"#REF!"},{"$error":"#REF!"},{"$error":"#REF!"},{"$error":"#REF!"},{"$error":"#REF!"},{"$error":"#REF!"},{"$error":"#REF!"}]
[{"$error":"#REF!"},{"$f":"#REF!","v":{"$error":"#REF!"}},{"$f":"IF(ISBLANK(#REF!),\"\",#REF!)","v":{"$error":"#REF!"}},{"$error":"#REF!"},{"$f":"VLOOKUP(#REF!,'Points Lookup'!$A:$B,2,FALSE)","v":{"$error":"#REF!"}},{"$f":"VLOOKUP(#REF!,'Points Lookup'!$A:$B,2,FALSE)","v":{"$error":"#REF!"}},{"$f":"VLOOKUP(#REF!,'Points Lookup'!$A:$B,2,FALSE)","v":{"$error":"#REF!"}},{"$f":"VLOOKUP(#REF!,'Points Lookup'!$A:$B,2,FALSE)","v":{"$error":"#REF!"}},{"$f":"VLOOKUP(#REF!,'Points Lookup'!$A:$B,2,FALSE)","v":{"$error":"#REF!"}},{"$f":"VLOOKUP(#REF!,'Points Lookup'!$A:$B,2,FALSE)","v":{"$error":"#REF!"}},{"$f":"VLOOKUP(#REF!,'Points Lookup'!$A:$B,2,FALSE)","v":{"$error":"#REF!"}},{"$f":"VLOOKUP(#REF!,'Points Lookup'!$A:$B,2,FALSE)","v":{"$error":"#REF!"}},{"$f":"VLOOKUP(#REF!,'Points Lookup'!$A:$B,2,FALSE)","v":{"$error":"#REF!"}},{"$f":"VLOOKUP(#REF!,'Points Lookup'!$A:$B,2,FALSE)","v":{"$error":"#REF!"}},{"$f":"VLOOKUP(#REF!,'Points Lookup'!$A:$B,2,FALSE)","v":{"$error":"#REF!"}},{"$f":"VLOOKUP(#REF!,'Points Lookup'!$A:$B,2,FALSE)","v":{"$error":"#REF!"}},{"$f":"VLOOKUP(#REF!,'Points Lookup'!$A:$B,2,FALSE)","v":{"$error":"#REF!"}},{"$f":"VLOOKUP(#REF!,'Points Lookup'!$A:$B,2,FALSE)","v":{"$error":"#REF!"}},{"$f":"VLOOKUP(#REF!,'Points Lookup'!$A:$B,2,FALSE)","v":{"$error":"#REF!"}},{"$f":"VLOOKUP(#REF!,'Points Lookup'!$A:$B,2,FALSE)","v":{"$error":"#REF!"}},{"$f":"VLOOKUP(#REF!,'Points Lookup'!$A:$B,2,FALSE)","v":{"$error":"#REF!"}},{"$f":"VLOOKUP(#REF!,'Points Lookup'!$A:$B,2,FALSE)","v":{"$error":"#REF!"}},{"$f":"VLOOKUP(#REF!,'Points Lookup'!$A:$B,2,FALSE)","v":{"$error":"#REF!"}},{"$f":"VLOOKUP(#REF!,'Points Lookup'!$A:$B,2,FALSE)","v":{"$error":"#REF!"}},null,{"$error":"#REF!"},{"$error":"#REF!"},{"$error":"#REF!"},{"$error":"#REF!"},{"$error":"#REF!"},{"$error":"#REF!"},{"$error":"#REF!"},{"$error":"#REF!"}]
[{"$error":"#REF!"},{"$f":"#REF!","v":{"$error":"#REF!"}},{"$f":"IF(ISBLANK(#REF!),\"\",#REF!)","v":{"$error":"#REF!"}},{"$error":"#REF!"},{"$f":"VLOOKUP(#REF!,'Points Lookup'!$A:$B,2,FALSE)","v":{"$error":"#REF!"}},{"$f":"VLOOKUP(#REF!,'Points Lookup'!$A:$B,2,FALSE)","v":{"$error":"#REF!"}},{"$f":"VLOOKUP(#REF!,'Points Lookup'!$A:$B,2,FALSE)","v":{"$error":"#REF!"}},{"$f":"VLOOKUP(#REF!,'Points Lookup'!$A:$B,2,FALSE)","v":{"$error":"#REF!"}},{"$f":"VLOOKUP(#REF!,'Points Lookup'!$A:$B,2,FALSE)","v":{"$error":"#REF!"}},{"$f":"VLOOKUP(#REF!,'Points Lookup'!$A:$B,2,FALSE)","v":{"$error":"#REF!"}},{"$f":"VLOOKUP(#REF!,'Points Lookup'!$A:$B,2,FALSE)","v":{"$error":"#REF!"}},{"$f":"VLOOKUP(#REF!,'Points Lookup'!$A:$B,2,FALSE)","v":{"$error":"#REF!"}},{"$f":"VLOOKUP(#REF!,'Points Lookup'!$A:$B,2,FALSE)","v":{"$error":"#REF!"}},{"$f":"VLOOKUP(#REF!,'Points Lookup'!$A:$B,2,FALSE)","v":{"$error":"#REF!"}},{"$f":"VLOOKUP(#REF!,'Points Lookup'!$A:$B,2,FALSE)","v":{"$error":"#REF!"}},{"$f":"VLOOKUP(#REF!,'Points Lookup'!$A:$B,2,FALSE)","v":{"$error":"#REF!"}},{"$f":"VLOOKUP(#REF!,'Points Lookup'!$A:$B,2,FALSE)","v":{"$error":"#REF!"}},{"$f":"VLOOKUP(#REF!,'Points Lookup'!$A:$B,2,FALSE)","v":{"$error":"#REF!"}},{"$f":"VLOOKUP(#REF!,'Points Lookup'!$A:$B,2,FALSE)","v":{"$error":"#REF!"}},{"$f":"VLOOKUP(#REF!,'Points Lookup'!$A:$B,2,FALSE)","v":{"$error":"#REF!"}},{"$f":"VLOOKUP(#REF!,'Points Lookup'!$A:$B,2,FALSE)","v":{"$error":"#REF!"}},{"$f":"VLOOKUP(#REF!,'Points Lookup'!$A:$B,2,FALSE)","v":{"$error":"#REF!"}},{"$f":"VLOOKUP(#REF!,'Points Lookup'!$A:$B,2,FALSE)","v":{"$error":"#REF!"}},{"$f":"VLOOKUP(#REF!,'Points Lookup'!$A:$B,2,FALSE)","v":{"$error":"#REF!"}},null,{"$error":"#REF!"},{"$error":"#REF!"},{"$error":"#REF!"},{"$error":"#REF!"},{"$error":"#REF!"},{"$error":"#REF!"},{"$error":"#REF!"},{"$error":"#REF!"}]
[{"$error":"#REF!"},{"$f":"#REF!","v":{"$error":"#REF!"}},{"$f":"IF(ISBLANK(#REF!),\"\",#REF!)","v":{"$error":"#REF!"}},{"$error":"#REF!"},{"$f":"VLOOKUP(#REF!,'Points Lookup'!$A:$B,2,FALSE)","v":{"$error":"#REF!"}},{"$f":"VLOOKUP(#REF!,'Points Lookup'!$A:$B,2,FALSE)","v":{"$error":"#REF!"}},{"$f":"VLOOKUP(#REF!,'Points Lookup'!$A:$B,2,FALSE)","v":{"$error":"#REF!"}},{"$f":"VLOOKUP(#REF!,'Points Lookup'!$A:$B,2,FALSE)","v":{"$error":"#REF!"}},{"$f":"VLOOKUP(#REF!,'Points Lookup'!$A:$B,2,FALSE)","v":{"$error":"#REF!"}},{"$f":"VLOOKUP(#REF!,'Points Lookup'!$A:$B,2,FALSE)","v":{"$error":"#REF!"}},{"$f":"VLOOKUP(#REF!,'Points Lookup'!$A:$B,2,FALSE)","v":{"$error":"#REF!"}},{"$f":"VLOOKUP(#REF!,'Points Lookup'!$A:$B,2,FALSE)","v":{"$error":"#REF!"}},{"$f":"VLOOKUP(#REF!,'Points Lookup'!$A:$B,2,FALSE)","v":{"$error":"#REF!"}},{"$f":"VLOOKUP(#REF!,'Points Lookup'!$A:$B,2,FALSE)","v":{"$error":"#REF!"}},{"$f":"VLOOKUP(#REF!,'Points Lookup'!$A:$B,2,FALSE)","v":{"$error":"#REF!"}},{"$f":"VLOOKUP(#REF!,'Points Lookup'!$A:$B,2,FALSE)","v":{"$error":"#REF!"}},{"$f":"VLOOKUP(#REF!,'Points Lookup'!$A:$B,2,FALSE)","v":{"$error":"#REF!"}},{"$f":"VLOOKUP(#REF!,'Points Lookup'!$A:$B,2,FALSE)","v":{"$error":"#REF!"}},{"$f":"VLOOKUP(#REF!,'Points Lookup'!$A:$B,2,FALSE)","v":{"$error":"#REF!"}},{"$f":"VLOOKUP(#REF!,'Points Lookup'!$A:$B,2,FALSE)","v":{"$error":"#REF!"}},{"$f":"VLOOKUP(#REF!,'Points Lookup'!$A:$B,2,FALSE)","v":{"$error":"#REF!"}},{"$f":"VLOOKUP(#REF!,'Points Lookup'!$A:$B,2,FALSE)","v":{"$error":"#REF!"}},{"$f":"VLOOKUP(#REF!,'Points Lookup'!$A:$B,2,FALSE)","v":{"$error":"#REF!"}},{"$f":"VLOOKUP(#REF!,'Points Lookup'!$A:$B,2,FALSE)","v":{"$error":"#REF!"}},null,{"$f":"LARGE($E252:$X252,Z$1)","v":{"$error":"#REF!"}},{"$error":"#REF!"},{"$error":"#REF!"},{"$error":"#REF!"},{"$error":"#REF!"},{"$error":"#REF!"},{"$error":"#REF!"},{"$error":"#REF!"}]
[{"$error":"#REF!"},{"$f":"#REF!","v":{"$error":"#REF!"}},{"$f":"IF(ISBLANK(#REF!),\"\",#REF!)","v":{"$error":"#REF!"}},{"$error":"#REF!"},{"$f":"VLOOKUP(#REF!,'Points Lookup'!$A:$B,2,FALSE)","v":{"$error":"#REF!"}},{"$f":"VLOOKUP(#REF!,'Points Lookup'!$A:$B,2,FALSE)","v":{"$error":"#REF!"}},{"$f":"VLOOKUP(#REF!,'Points Lookup'!$A:$B,2,FALSE)","v":{"$error":"#REF!"}},{"$f":"VLOOKUP(#REF!,'Points Lookup'!$A:$B,2,FALSE)","v":{"$error":"#REF!"}},{"$f":"VLOOKUP(#REF!,'Points Lookup'!$A:$B,2,FALSE)","v":{"$error":"#REF!"}},{"$f":"VLOOKUP(#REF!,'Points Lookup'!$A:$B,2,FALSE)","v":{"$error":"#REF!"}},{"$f":"VLOOKUP(#REF!,'Points Lookup'!$A:$B,2,FALSE)","v":{"$error":"#REF!"}},{"$f":"VLOOKUP(#REF!,'Points Lookup'!$A:$B,2,FALSE)","v":{"$error":"#REF!"}},{"$f":"VLOOKUP(#REF!,'Points Lookup'!$A:$B,2,FALSE)","v":{"$error":"#REF!"}},{"$f":"VLOOKUP(#REF!,'Points Lookup'!$A:$B,2,FALSE)","v":{"$error":"#REF!"}},{"$f":"VLOOKUP(#REF!,'Points Lookup'!$A:$B,2,FALSE)","v":{"$error":"#REF!"}},{"$f":"VLOOKUP(#REF!,'Points Lookup'!$A:$B,2,FALSE)","v":{"$error":"#REF!"}},{"$f":"VLOOKUP(#REF!,'Points Lookup'!$A:$B,2,FALSE)","v":{"$error":"#REF!"}},{"$f":"VLOOKUP(#REF!,'Points Lookup'!$A:$B,2,FALSE)","v":{"$error":"#REF!"}},{"$f":"VLOOKUP(#REF!,'Points Lookup'!$A:$B,2,FALSE)","v":{"$error":"#REF!"}},{"$f":"VLOOKUP(#REF!,'Points Lookup'!$A:$B,2,FALSE)","v":{"$error":"#REF!"}},{"$f":"VLOOKUP(#REF!,'Points Lookup'!$A:$B,2,FALSE)","v":{"$error":"#REF!"}},{"$f":"VLOOKUP(#REF!,'Points Lookup'!$A:$B,2,FALSE)","v":{"$error":"#REF!"}},{"$f":"VLOOKUP(#REF!,'Points Lookup'!$A:$B,2,FALSE)","v":{"$error":"#REF!"}},{"$f":"VLOOKUP(#REF!,'Points Lookup'!$A:$B,2,FALSE)","v":{"$error":"#REF!"}},null,{"$error":"#REF!"},{"$error":"#REF!"},{"$error":"#REF!"},{"$error":"#REF!"},{"$error":"#REF!"},{"$error":"#REF!"},{"$error":"#REF!"},{"$error":"#REF!"}]
[{"$error":"#REF!"},{"$f":"#REF!","v":{"$error":"#REF!"}},{"$f":"IF(ISBLANK(#REF!),\"\",#REF!)","v":{"$error":"#REF!"}},{"$error":"#REF!"},{"$f":"VLOOKUP(#REF!,'Points Lookup'!$A:$B,2,FALSE)","v":{"$error":"#REF!"}},{"$f":"VLOOKUP(#REF!,'Points Lookup'!$A:$B,2,FALSE)","v":{"$error":"#REF!"}},{"$f":"VLOOKUP(#REF!,'Points Lookup'!$A:$B,2,FALSE)","v":{"$error":"#REF!"}},{"$f":"VLOOKUP(#REF!,'Points Lookup'!$A:$B,2,FALSE)","v":{"$error":"#REF!"}},{"$f":"VLOOKUP(#REF!,'Points Lookup'!$A:$B,2,FALSE)","v":{"$error":"#REF!"}},{"$f":"VLOOKUP(#REF!,'Points Lookup'!$A:$B,2,FALSE)","v":{"$error":"#REF!"}},{"$f":"VLOOKUP(#REF!,'Points Lookup'!$A:$B,2,FALSE)","v":{"$error":"#REF!"}},{"$f":"VLOOKUP(#REF!,'Points Lookup'!$A:$B,2,FALSE)","v":{"$error":"#REF!"}},{"$f":"VLOOKUP(#REF!,'Points Lookup'!$A:$B,2,FALSE)","v":{"$error":"#REF!"}},{"$f":"VLOOKUP(#REF!,'Points Lookup'!$A:$B,2,FALSE)","v":{"$error":"#REF!"}},{"$f":"VLOOKUP(#REF!,'Points Lookup'!$A:$B,2,FALSE)","v":{"$error":"#REF!"}},{"$f":"VLOOKUP(#REF!,'Points Lookup'!$A:$B,2,FALSE)","v":{"$error":"#REF!"}},{"$f":"VLOOKUP(#REF!,'Points Lookup'!$A:$B,2,FALSE)","v":{"$error":"#REF!"}},{"$f":"VLOOKUP(#REF!,'Points Lookup'!$A:$B,2,FALSE)","v":{"$error":"#REF!"}},{"$f":"VLOOKUP(#REF!,'Points Lookup'!$A:$B,2,FALSE)","v":{"$error":"#REF!"}},{"$f":"VLOOKUP(#REF!,'Points Lookup'!$A:$B,2,FALSE)","v":{"$error":"#REF!"}},{"$f":"VLOOKUP(#REF!,'Points Lookup'!$A:$B,2,FALSE)","v":{"$error":"#REF!"}},{"$f":"VLOOKUP(#REF!,'Points Lookup'!$A:$B,2,FALSE)","v":{"$error":"#REF!"}},{"$f":"VLOOKUP(#REF!,'Points Lookup'!$A:$B,2,FALSE)","v":{"$error":"#REF!"}},{"$f":"VLOOKUP(#REF!,'Points Lookup'!$A:$B,2,FALSE)","v":{"$error":"#REF!"}},null,{"$error":"#REF!"},{"$error":"#REF!"},{"$error":"#REF!"},{"$error":"#REF!"},{"$error":"#REF!"},{"$error":"#REF!"},{"$error":"#REF!"},{"$error":"#REF!"}]
[{"$error":"#REF!"},{"$f":"#REF!","v":{"$error":"#REF!"}},{"$f":"IF(ISBLANK(#REF!),\"\",#REF!)","v":{"$error":"#REF!"}},{"$error":"#REF!"},{"$f":"VLOOKUP(#REF!,'Points Lookup'!$A:$B,2,FALSE)","v":{"$error":"#REF!"}},{"$f":"VLOOKUP(#REF!,'Points Lookup'!$A:$B,2,FALSE)","v":{"$error":"#REF!"}},{"$f":"VLOOKUP(#REF!,'Points Lookup'!$A:$B,2,FALSE)","v":{"$error":"#REF!"}},{"$f":"VLOOKUP(#REF!,'Points Lookup'!$A:$B,2,FALSE)","v":{"$error":"#REF!"}},{"$f":"VLOOKUP(#REF!,'Points Lookup'!$A:$B,2,FALSE)","v":{"$error":"#REF!"}},{"$f":"VLOOKUP(#REF!,'Points Lookup'!$A:$B,2,FALSE)","v":{"$error":"#REF!"}},{"$f":"VLOOKUP(#REF!,'Points Lookup'!$A:$B,2,FALSE)","v":{"$error":"#REF!"}},{"$f":"VLOOKUP(#REF!,'Points Lookup'!$A:$B,2,FALSE)","v":{"$error":"#REF!"}},{"$f":"VLOOKUP(#REF!,'Points Lookup'!$A:$B,2,FALSE)","v":{"$error":"#REF!"}},{"$f":"VLOOKUP(#REF!,'Points Lookup'!$A:$B,2,FALSE)","v":{"$error":"#REF!"}},{"$f":"VLOOKUP(#REF!,'Points Lookup'!$A:$B,2,FALSE)","v":{"$error":"#REF!"}},{"$f":"VLOOKUP(#REF!,'Points Lookup'!$A:$B,2,FALSE)","v":{"$error":"#REF!"}},{"$f":"VLOOKUP(#REF!,'Points Lookup'!$A:$B,2,FALSE)","v":{"$error":"#REF!"}},{"$f":"VLOOKUP(#REF!,'Points Lookup'!$A:$B,2,FALSE)","v":{"$error":"#REF!"}},{"$f":"VLOOKUP(#REF!,'Points Lookup'!$A:$B,2,FALSE)","v":{"$error":"#REF!"}},{"$f":"VLOOKUP(#REF!,'Points Lookup'!$A:$B,2,FALSE)","v":{"$error":"#REF!"}},{"$f":"VLOOKUP(#REF!,'Points Lookup'!$A:$B,2,FALSE)","v":{"$error":"#REF!"}},{"$f":"VLOOKUP(#REF!,'Points Lookup'!$A:$B,2,FALSE)","v":{"$error":"#REF!"}},{"$f":"VLOOKUP(#REF!,'Points Lookup'!$A:$B,2,FALSE)","v":{"$error":"#REF!"}},{"$f":"VLOOKUP(#REF!,'Points Lookup'!$A:$B,2,FALSE)","v":{"$error":"#REF!"}},null,{"$error":"#REF!"},{"$error":"#REF!"},{"$error":"#REF!"},{"$error":"#REF!"},{"$error":"#REF!"},{"$error":"#REF!"},{"$error":"#REF!"},{"$error":"#REF!"}]
[{"$error":"#REF!"},{"$f":"#REF!","v":{"$error":"#REF!"}},{"$f":"IF(ISBLANK(#REF!),\"\",#REF!)","v":{"$error":"#REF!"}},{"$error":"#REF!"},{"$f":"VLOOKUP(#REF!,'Points Lookup'!$A:$B,2,FALSE)","v":{"$error":"#REF!"}},{"$f":"VLOOKUP(#REF!,'Points Lookup'!$A:$B,2,FALSE)","v":{"$error":"#REF!"}},{"$f":"VLOOKUP(#REF!,'Points Lookup'!$A:$B,2,FALSE)","v":{"$error":"#REF!"}},{"$f":"VLOOKUP(#REF!,'Points Lookup'!$A:$B,2,FALSE)","v":{"$error":"#REF!"}},{"$f":"VLOOKUP(#REF!,'Points Lookup'!$A:$B,2,FALSE)","v":{"$error":"#REF!"}},{"$f":"VLOOKUP(#REF!,'Points Lookup'!$A:$B,2,FALSE)","v":{"$error":"#REF!"}},{"$f":"VLOOKUP(#REF!,'Points Lookup'!$A:$B,2,FALSE)","v":{"$error":"#REF!"}},{"$f":"VLOOKUP(#REF!,'Points Lookup'!$A:$B,2,FALSE)","v":{"$error":"#REF!"}},{"$f":"VLOOKUP(#REF!,'Points Lookup'!$A:$B,2,FALSE)","v":{"$error":"#REF!"}},{"$f":"VLOOKUP(#REF!,'Points Lookup'!$A:$B,2,FALSE)","v":{"$error":"#REF!"}},{"$f":"VLOOKUP(#REF!,'Points Lookup'!$A:$B,2,FALSE)","v":{"$error":"#REF!"}},{"$f":"VLOOKUP(#REF!,'Points Lookup'!$A:$B,2,FALSE)","v":{"$error":"#REF!"}},{"$f":"VLOOKUP(#REF!,'Points Lookup'!$A:$B,2,FALSE)","v":{"$error":"#REF!"}},{"$f":"VLOOKUP(#REF!,'Points Lookup'!$A:$B,2,FALSE)","v":{"$error":"#REF!"}},{"$f":"VLOOKUP(#REF!,'Points Lookup'!$A:$B,2,FALSE)","v":{"$error":"#REF!"}},{"$f":"VLOOKUP(#REF!,'Points Lookup'!$A:$B,2,FALSE)","v":{"$error":"#REF!"}},{"$f":"VLOOKUP(#REF!,'Points Lookup'!$A:$B,2,FALSE)","v":{"$error":"#REF!"}},{"$f":"VLOOKUP(#REF!,'Points Lookup'!$A:$B,2,FALSE)","v":{"$error":"#REF!"}},{"$f":"VLOOKUP(#REF!,'Points Lookup'!$A:$B,2,FALSE)","v":{"$error":"#REF!"}},{"$f":"VLOOKUP(#REF!,'Points Lookup'!$A:$B,2,FALSE)","v":{"$error":"#REF!"}},null,{"$error":"#REF!"},{"$error":"#REF!"},{"$error":"#REF!"},{"$error":"#REF!"},{"$error":"#REF!"},{"$error":"#REF!"},{"$error":"#REF!"},{"$error":"#REF!"}]
[{"$error":"#REF!"},{"$f":"#REF!","v":{"$error":"#REF!"}},{"$f":"IF(ISBLANK(#REF!),\"\",#REF!)","v":{"$error":"#REF!"}},{"$error":"#REF!"},{"$f":"VLOOKUP(#REF!,'Points Lookup'!$A:$B,2,FALSE)","v":{"$error":"#REF!"}},{"$f":"VLOOKUP(#REF!,'Points Lookup'!$A:$B,2,FALSE)","v":{"$error":"#REF!"}},{"$f":"VLOOKUP(#REF!,'Points Lookup'!$A:$B,2,FALSE)","v":{"$error":"#REF!"}},{"$f":"VLOOKUP(#REF!,'Points Lookup'!$A:$B,2,FALSE)","v":{"$error":"#REF!"}},{"$f":"VLOOKUP(#REF!,'Points Lookup'!$A:$B,2,FALSE)","v":{"$error":"#REF!"}},{"$f":"VLOOKUP(#REF!,'Points Lookup'!$A:$B,2,FALSE)","v":{"$error":"#REF!"}},{"$f":"VLOOKUP(#REF!,'Points Lookup'!$A:$B,2,FALSE)","v":{"$error":"#REF!"}},{"$f":"VLOOKUP(#REF!,'Points Lookup'!$A:$B,2,FALSE)","v":{"$error":"#REF!"}},{"$f":"VLOOKUP(#REF!,'Points Lookup'!$A:$B,2,FALSE)","v":{"$error":"#REF!"}},{"$f":"VLOOKUP(#REF!,'Points Lookup'!$A:$B,2,FALSE)","v":{"$error":"#REF!"}},{"$f":"VLOOKUP(#REF!,'Points Lookup'!$A:$B,2,FALSE)","v":{"$error":"#REF!"}},{"$f":"VLOOKUP(#REF!,'Points Lookup'!$A:$B,2,FALSE)","v":{"$error":"#REF!"}},{"$f":"VLOOKUP(#REF!,'Points Lookup'!$A:$B,2,FALSE)","v":{"$error":"#REF!"}},{"$f":"VLOOKUP(#REF!,'Points Lookup'!$A:$B,2,FALSE)","v":{"$error":"#REF!"}},{"$f":"VLOOKUP(#REF!,'Points Lookup'!$A:$B,2,FALSE)","v":{"$error":"#REF!"}},{"$f":"VLOOKUP(#REF!,'Points Lookup'!$A:$B,2,FALSE)","v":{"$error":"#REF!"}},{"$f":"VLOOKUP(#REF!,'Points Lookup'!$A:$B,2,FALSE)","v":{"$error":"#REF!"}},{"$f":"VLOOKUP(#REF!,'Points Lookup'!$A:$B,2,FALSE)","v":{"$error":"#REF!"}},{"$f":"VLOOKUP(#REF!,'Points Lookup'!$A:$B,2,FALSE)","v":{"$error":"#REF!"}},{"$f":"VLOOKUP(#REF!,'Points Lookup'!$A:$B,2,FALSE)","v":{"$error":"#REF!"}},null,{"$error":"#REF!"},{"$error":"#REF!"},{"$error":"#REF!"},{"$error":"#REF!"},{"$error":"#REF!"},{"$error":"#REF!"},{"$error":"#REF!"},{"$error":"#REF!"}]
[{"$error":"#REF!"},{"$f":"#REF!","v":{"$error":"#REF!"}},{"$f":"IF(ISBLANK(#REF!),\"\",#REF!)","v":{"$error":"#REF!"}},{"$error":"#REF!"},{"$f":"VLOOKUP(#REF!,'Points Lookup'!$A:$B,2,FALSE)","v":{"$error":"#REF!"}},{"$f":"VLOOKUP(#REF!,'Points Lookup'!$A:$B,2,FALSE)","v":{"$error":"#REF!"}},{"$f":"VLOOKUP(#REF!,'Points Lookup'!$A:$B,2,FALSE)","v":{"$error":"#REF!"}},{"$f":"VLOOKUP(#REF!,'Points Lookup'!$A:$B,2,FALSE)","v":{"$error":"#REF!"}},{"$f":"VLOOKUP(#REF!,'Points Lookup'!$A:$B,2,FALSE)","v":{"$error":"#REF!"}},{"$f":"VLOOKUP(#REF!,'Points Lookup'!$A:$B,2,FALSE)","v":{"$error":"#REF!"}},{"$f":"VLOOKUP(#REF!,'Points Lookup'!$A:$B,2,FALSE)","v":{"$error":"#REF!"}},{"$f":"VLOOKUP(#REF!,'Points Lookup'!$A:$B,2,FALSE)","v":{"$error":"#REF!"}},{"$f":"VLOOKUP(#REF!,'Points Lookup'!$A:$B,2,FALSE)","v":{"$error":"#REF!"}},{"$f":"VLOOKUP(#REF!,'Points Lookup'!$A:$B,2,FALSE)","v":{"$error":"#REF!"}},{"$f":"VLOOKUP(#REF!,'Points Lookup'!$A:$B,2,FALSE)","v":{"$error":"#REF!"}},{"$f":"VLOOKUP(#REF!,'Points Lookup'!$A:$B,2,FALSE)","v":{"$error":"#REF!"}},{"$f":"VLOOKUP(#REF!,'Points Lookup'!$A:$B,2,FALSE)","v":{"$error":"#REF!"}},{"$f":"VLOOKUP(#REF!,'Points Lookup'!$A:$B,2,FALSE)","v":{"$error":"#REF!"}},{"$f":"VLOOKUP(#REF!,'Points Lookup'!$A:$B,2,FALSE)","v":{"$error":"#REF!"}},{"$f":"VLOOKUP(#REF!,'Points Lookup'!$A:$B,2,FALSE)","v":{"$error":"#REF!"}},{"$f":"VLOOKUP(#REF!,'Points Lookup'!$A:$B,2,FALSE)","v":{"$error":"#REF!"}},{"$f":"VLOOKUP(#REF!,'Points Lookup'!$A:$B,2,FALSE)","v":{"$error":"#REF!"}},{"$f":"VLOOKUP(#REF!,'Points Lookup'!$A:$B,2,FALSE)","v":{"$error":"#REF!"}},{"$f":"VLOOKUP(#REF!,'Points Lookup'!$A:$B,2,FALSE)","v":{"$error":"#REF!"}},null,{"$error":"#REF!"},{"$error":"#REF!"},{"$error":"#REF!"},{"$error":"#REF!"},{"$error":"#REF!"},{"$error":"#REF!"},{"$error":"#REF!"},{"$error":"#REF!"}]
[{"$error":"#REF!"},{"$f":"#REF!","v":{"$error":"#REF!"}},{"$f":"IF(ISBLANK(#REF!),\"\",#REF!)","v":{"$error":"#REF!"}},{"$f":"SUM(Z259:AG259)","v":{"$error":"#REF!"}},{"$f":"VLOOKUP(#REF!,'Points Lookup'!$A:$B,2,FALSE)","v":{"$error":"#REF!"}},{"$f":"VLOOKUP(#REF!,'Points Lookup'!$A:$B,2,FALSE)","v":{"$error":"#REF!"}},{"$f":"VLOOKUP(#REF!,'Points Lookup'!$A:$B,2,FALSE)","v":{"$error":"#REF!"}},{"$f":"VLOOKUP(#REF!,'Points Lookup'!$A:$B,2,FALSE)","v":{"$error":"#REF!"}},{"$f":"VLOOKUP(#REF!,'Points Lookup'!$A:$B,2,FALSE)","v":{"$error":"#REF!"}},{"$f":"VLOOKUP(#REF!,'Points Lookup'!$A:$B,2,FALSE)","v":{"$error":"#REF!"}},{"$f":"VLOOKUP(#REF!,'Points Lookup'!$A:$B,2,FALSE)","v":{"$error":"#REF!"}},{"$f":"VLOOKUP(#REF!,'Points Lookup'!$A:$B,2,FALSE)","v":{"$error":"#REF!"}},{"$f":"VLOOKUP(#REF!,'Points Lookup'!$A:$B,2,FALSE)","v":{"$error":"#REF!"}},{"$f":"VLOOKUP(#REF!,'Points Lookup'!$A:$B,2,FALSE)","v":{"$error":"#REF!"}},{"$f":"VLOOKUP(#REF!,'Points Lookup'!$A:$B,2,FALSE)","v":{"$error":"#REF!"}},{"$f":"VLOOKUP(#REF!,'Points Lookup'!$A:$B,2,FALSE)","v":{"$error":"#REF!"}},{"$f":"VLOOKUP(#REF!,'Points Lookup'!$A:$B,2,FALSE)","v":{"$error":"#REF!"}},{"$f":"VLOOKUP(#REF!,'Points Lookup'!$A:$B,2,FALSE)","v":{"$error":"#REF!"}},{"$f":"VLOOKUP(#REF!,'Points Lookup'!$A:$B,2,FALSE)","v":{"$error":"#REF!"}},{"$f":"VLOOKUP(#REF!,'Points Lookup'!$A:$B,2,FALSE)","v":{"$error":"#REF!"}},{"$f":"VLOOKUP(#REF!,'Points Lookup'!$A:$B,2,FALSE)","v":{"$error":"#REF!"}},{"$f":"VLOOKUP(#REF!,'Points Lookup'!$A:$B,2,FALSE)","v":{"$error":"#REF!"}},{"$f":"VLOOKUP(#REF!,'Points Lookup'!$A:$B,2,FALSE)","v":{"$error":"#REF!"}},{"$f":"VLOOKUP(#REF!,'Points Lookup'!$A:$B,2,FALSE)","v":{"$error":"#REF!"}},null,{"$error":"#REF!"},{"$error":"#REF!"},{"$error":"#REF!"},{"$error":"#REF!"},{"$error":"#REF!"},{"$error":"#REF!"},{"$error":"#REF!"},{"$error":"#REF!"}]
[{"$error":"#REF!"},{"$f":"#REF!","v":{"$error":"#REF!"}},{"$f":"IF(ISBLANK(#REF!),\"\",#REF!)","v":{"$error":"#REF!"}},{"$error":"#REF!"},{"$f":"VLOOKUP(#REF!,'Points Lookup'!$A:$B,2,FALSE)","v":{"$error":"#REF!"}},{"$f":"VLOOKUP(#REF!,'Points Lookup'!$A:$B,2,FALSE)","v":{"$error":"#REF!"}},{"$f":"VLOOKUP(#REF!,'Points Lookup'!$A:$B,2,FALSE)","v":{"$error":"#REF!"}},{"$f":"VLOOKUP(#REF!,'Points Lookup'!$A:$B,2,FALSE)","v":{"$error":"#REF!"}},{"$f":"VLOOKUP(#REF!,'Points Lookup'!$A:$B,2,FALSE)","v":{"$error":"#REF!"}},{"$f":"VLOOKUP(#REF!,'Points Lookup'!$A:$B,2,FALSE)","v":{"$error":"#REF!"}},{"$f":"VLOOKUP(#REF!,'Points Lookup'!$A:$B,2,FALSE)","v":{"$error":"#REF!"}},{"$f":"VLOOKUP(#REF!,'Points Lookup'!$A:$B,2,FALSE)","v":{"$error":"#REF!"}},{"$f":"VLOOKUP(#REF!,'Points Lookup'!$A:$B,2,FALSE)","v":{"$error":"#REF!"}},{"$f":"VLOOKUP(#REF!,'Points Lookup'!$A:$B,2,FALSE)","v":{"$error":"#REF!"}},{"$f":"VLOOKUP(#REF!,'Points Lookup'!$A:$B,2,FALSE)","v":{"$error":"#REF!"}},{"$f":"VLOOKUP(#REF!,'Points Lookup'!$A:$B,2,FALSE)","v":{"$error":"#REF!"}},{"$f":"VLOOKUP(#REF!,'Points Lookup'!$A:$B,2,FALSE)","v":{"$error":"#REF!"}},{"$f":"VLOOKUP(#REF!,'Points Lookup'!$A:$B,2,FALSE)","v":{"$error":"#REF!"}},{"$f":"VLOOKUP(#REF!,'Points Lookup'!$A:$B,2,FALSE)","v":{"$error":"#REF!"}},{"$f":"VLOOKUP(#REF!,'Points Lookup'!$A:$B,2,FALSE)","v":{"$error":"#REF!"}},{"$f":"VLOOKUP(#REF!,'Points Lookup'!$A:$B,2,FALSE)","v":{"$error":"#REF!"}},{"$f":"VLOOKUP(#REF!,'Points Lookup'!$A:$B,2,FALSE)","v":{"$error":"#REF!"}},{"$f":"VLOOKUP(#REF!,'Points Lookup'!$A:$B,2,FALSE)","v":{"$error":"#REF!"}},{"$f":"VLOOKUP(#REF!,'Points Lookup'!$A:$B,2,FALSE)","v":{"$error":"#REF!"}},null,{"$error":"#REF!"},{"$error":"#REF!"},{"$error":"#REF!"},{"$error":"#REF!"},{"$error":"#REF!"},{"$error":"#REF!"},{"$error":"#REF!"},{"$error":"#REF!"}]
[{"$error":"#REF!"},{"$f":"#REF!","v":{"$error":"#REF!"}},{"$f":"IF(ISBLANK(#REF!),\"\",#REF!)","v":{"$error":"#REF!"}},{"$error":"#REF!"},{"$f":"VLOOKUP(#REF!,'Points Lookup'!$A:$B,2,FALSE)","v":{"$error":"#REF!"}},{"$f":"VLOOKUP(#REF!,'Points Lookup'!$A:$B,2,FALSE)","v":{"$error":"#REF!"}},{"$f":"VLOOKUP(#REF!,'Points Lookup'!$A:$B,2,FALSE)","v":{"$error":"#REF!"}},{"$f":"VLOOKUP(#REF!,'Points Lookup'!$A:$B,2,FALSE)","v":{"$error":"#REF!"}},{"$f":"VLOOKUP(#REF!,'Points Lookup'!$A:$B,2,FALSE)","v":{"$error":"#REF!"}},{"$f":"VLOOKUP(#REF!,'Points Lookup'!$A:$B,2,FALSE)","v":{"$error":"#REF!"}},{"$f":"VLOOKUP(#REF!,'Points Lookup'!$A:$B,2,FALSE)","v":{"$error":"#REF!"}},{"$f":"VLOOKUP(#REF!,'Points Lookup'!$A:$B,2,FALSE)","v":{"$error":"#REF!"}},{"$f":"VLOOKUP(#REF!,'Points Lookup'!$A:$B,2,FALSE)","v":{"$error":"#REF!"}},{"$f":"VLOOKUP(#REF!,'Points Lookup'!$A:$B,2,FALSE)","v":{"$error":"#REF!"}},{"$f":"VLOOKUP(#REF!,'Points Lookup'!$A:$B,2,FALSE)","v":{"$error":"#REF!"}},{"$f":"VLOOKUP(#REF!,'Points Lookup'!$A:$B,2,FALSE)","v":{"$error":"#REF!"}},{"$f":"VLOOKUP(#REF!,'Points Lookup'!$A:$B,2,FALSE)","v":{"$error":"#REF!"}},{"$f":"VLOOKUP(#REF!,'Points Lookup'!$A:$B,2,FALSE)","v":{"$error":"#REF!"}},{"$f":"VLOOKUP(#REF!,'Points Lookup'!$A:$B,2,FALSE)","v":{"$error":"#REF!"}},{"$f":"VLOOKUP(#REF!,'Points Lookup'!$A:$B,2,FALSE)","v":{"$error":"#REF!"}},{"$f":"VLOOKUP(#REF!,'Points Lookup'!$A:$B,2,FALSE)","v":{"$error":"#REF!"}},{"$f":"VLOOKUP(#REF!,'Points Lookup'!$A:$B,2,FALSE)","v":{"$error":"#REF!"}},{"$f":"VLOOKUP(#REF!,'Points Lookup'!$A:$B,2,FALSE)","v":{"$error":"#REF!"}},{"$f":"VLOOKUP(#REF!,'Points Lookup'!$A:$B,2,FALSE)","v":{"$error":"#REF!"}},null,{"$error":"#REF!"},{"$error":"#REF!"},{"$error":"#REF!"},{"$error":"#REF!"},{"$error":"#REF!"},{"$error":"#REF!"},{"$error":"#REF!"},{"$error":"#REF!"}]
[{"$error":"#REF!"},{"$f":"#REF!","v":{"$error":"#REF!"}},{"$f":"IF(ISBLANK(#REF!),\"\",#REF!)","v":{"$error":"#REF!"}},{"$error":"#REF!"},{"$f":"VLOOKUP(#REF!,'Points Lookup'!$A:$B,2,FALSE)","v":{"$error":"#REF!"}},{"$f":"VLOOKUP(#REF!,'Points Lookup'!$A:$B,2,FALSE)","v":{"$error":"#REF!"}},{"$f":"VLOOKUP(#REF!,'Points Lookup'!$A:$B,2,FALSE)","v":{"$error":"#REF!"}},{"$f":"VLOOKUP(#REF!,'Points Lookup'!$A:$B,2,FALSE)","v":{"$error":"#REF!"}},{"$f":"VLOOKUP(#REF!,'Points Lookup'!$A:$B,2,FALSE)","v":{"$error":"#REF!"}},{"$f":"VLOOKUP(#REF!,'Points Lookup'!$A:$B,2,FALSE)","v":{"$error":"#REF!"}},{"$f":"VLOOKUP(#REF!,'Points Lookup'!$A:$B,2,FALSE)","v":{"$error":"#REF!"}},{"$f":"VLOOKUP(#REF!,'Points Lookup'!$A:$B,2,FALSE)","v":{"$error":"#REF!"}},{"$f":"VLOOKUP(#REF!,'Points Lookup'!$A:$B,2,FALSE)","v":{"$error":"#REF!"}},{"$f":"VLOOKUP(#REF!,'Points Lookup'!$A:$B,2,FALSE)","v":{"$error":"#REF!"}},{"$f":"VLOOKUP(#REF!,'Points Lookup'!$A:$B,2,FALSE)","v":{"$error":"#REF!"}},{"$f":"VLOOKUP(#REF!,'Points Lookup'!$A:$B,2,FALSE)","v":{"$error":"#REF!"}},{"$f":"VLOOKUP(#REF!,'Points Lookup'!$A:$B,2,FALSE)","v":{"$error":"#REF!"}},{"$f":"VLOOKUP(#REF!,'Points Lookup'!$A:$B,2,FALSE)","v":{"$error":"#REF!"}},{"$f":"VLOOKUP(#REF!,'Points Lookup'!$A:$B,2,FALSE)","v":{"$error":"#REF!"}},{"$f":"VLOOKUP(#REF!,'Points Lookup'!$A:$B,2,FALSE)","v":{"$error":"#REF!"}},{"$f":"VLOOKUP(#REF!,'Points Lookup'!$A:$B,2,FALSE)","v":{"$error":"#REF!"}},{"$f":"VLOOKUP(#REF!,'Points Lookup'!$A:$B,2,FALSE)","v":{"$error":"#REF!"}},{"$f":"VLOOKUP(#REF!,'Points Lookup'!$A:$B,2,FALSE)","v":{"$error":"#REF!"}},{"$f":"VLOOKUP(#REF!,'Points Lookup'!$A:$B,2,FALSE)","v":{"$error":"#REF!"}},null,{"$f":"LARGE($E262:$X262,Z$1)","v":{"$error":"#REF!"}},{"$error":"#REF!"},{"$error":"#REF!"},{"$error":"#REF!"},{"$error":"#REF!"},{"$error":"#REF!"},{"$error":"#REF!"},{"$error":"#REF!"}]
[{"$error":"#REF!"},{"$f":"#REF!","v":{"$error":"#REF!"}},{"$f":"IF(ISBLANK(#REF!),\"\",#REF!)","v":{"$error":"#REF!"}},{"$error":"#REF!"},{"$f":"VLOOKUP(#REF!,'Points Lookup'!$A:$B,2,FALSE)","v":{"$error":"#REF!"}},{"$f":"VLOOKUP(#REF!,'Points Lookup'!$A:$B,2,FALSE)","v":{"$error":"#REF!"}},{"$f":"VLOOKUP(#REF!,'Points Lookup'!$A:$B,2,FALSE)","v":{"$error":"#REF!"}},{"$f":"VLOOKUP(#REF!,'Points Lookup'!$A:$B,2,FALSE)","v":{"$error":"#REF!"}},{"$f":"VLOOKUP(#REF!,'Points Lookup'!$A:$B,2,FALSE)","v":{"$error":"#REF!"}},{"$f":"VLOOKUP(#REF!,'Points Lookup'!$A:$B,2,FALSE)","v":{"$error":"#REF!"}},{"$f":"VLOOKUP(#REF!,'Points Lookup'!$A:$B,2,FALSE)","v":{"$error":"#REF!"}},{"$f":"VLOOKUP(#REF!,'Points Lookup'!$A:$B,2,FALSE)","v":{"$error":"#REF!"}},{"$f":"VLOOKUP(#REF!,'Points Lookup'!$A:$B,2,FALSE)","v":{"$error":"#REF!"}},{"$f":"VLOOKUP(#REF!,'Points Lookup'!$A:$B,2,FALSE)","v":{"$error":"#REF!"}},{"$f":"VLOOKUP(#REF!,'Points Lookup'!$A:$B,2,FALSE)","v":{"$error":"#REF!"}},{"$f":"VLOOKUP(#REF!,'Points Lookup'!$A:$B,2,FALSE)","v":{"$error":"#REF!"}},{"$f":"VLOOKUP(#REF!,'Points Lookup'!$A:$B,2,FALSE)","v":{"$error":"#REF!"}},{"$f":"VLOOKUP(#REF!,'Points Lookup'!$A:$B,2,FALSE)","v":{"$error":"#REF!"}},{"$f":"VLOOKUP(#REF!,'Points Lookup'!$A:$B,2,FALSE)","v":{"$error":"#REF!"}},{"$f":"VLOOKUP(#REF!,'Points Lookup'!$A:$B,2,FALSE)","v":{"$error":"#REF!"}},{"$f":"VLOOKUP(#REF!,'Points Lookup'!$A:$B,2,FALSE)","v":{"$error":"#REF!"}},{"$f":"VLOOKUP(#REF!,'Points Lookup'!$A:$B,2,FALSE)","v":{"$error":"#REF!"}},{"$f":"VLOOKUP(#REF!,'Points Lookup'!$A:$B,2,FALSE)","v":{"$error":"#REF!"}},{"$f":"VLOOKUP(#REF!,'Points Lookup'!$A:$B,2,FALSE)","v":{"$error":"#REF!"}},null,{"$error":"#REF!"},{"$error":"#REF!"},{"$error":"#REF!"},{"$error":"#REF!"},{"$error":"#REF!"},{"$error":"#REF!"},{"$error":"#REF!"},{"$error":"#REF!"}]
[{"$error":"#REF!"},{"$f":"#REF!","v":{"$error":"#REF!"}},{"$f":"IF(ISBLANK(#REF!),\"\",#REF!)","v":{"$error":"#REF!"}},{"$error":"#REF!"},{"$f":"VLOOKUP(#REF!,'Points Lookup'!$A:$B,2,FALSE)","v":{"$error":"#REF!"}},{"$f":"VLOOKUP(#REF!,'Points Lookup'!$A:$B,2,FALSE)","v":{"$error":"#REF!"}},{"$f":"VLOOKUP(#REF!,'Points Lookup'!$A:$B,2,FALSE)","v":{"$error":"#REF!"}},{"$f":"VLOOKUP(#REF!,'Points Lookup'!$A:$B,2,FALSE)","v":{"$error":"#REF!"}},{"$f":"VLOOKUP(#REF!,'Points Lookup'!$A:$B,2,FALSE)","v":{"$error":"#REF!"}},{"$f":"VLOOKUP(#REF!,'Points Lookup'!$A:$B,2,FALSE)","v":{"$error":"#REF!"}},{"$f":"VLOOKUP(#REF!,'Points Lookup'!$A:$B,2,FALSE)","v":{"$error":"#REF!"}},{"$f":"VLOOKUP(#REF!,'Points Lookup'!$A:$B,2,FALSE)","v":{"$error":"#REF!"}},{"$f":"VLOOKUP(#REF!,'Points Lookup'!$A:$B,2,FALSE)","v":{"$error":"#REF!"}},{"$f":"VLOOKUP(#REF!,'Points Lookup'!$A:$B,2,FALSE)","v":{"$error":"#REF!"}},{"$f":"VLOOKUP(#REF!,'Points Lookup'!$A:$B,2,FALSE)","v":{"$error":"#REF!"}},{"$f":"VLOOKUP(#REF!,'Points Lookup'!$A:$B,2,FALSE)","v":{"$error":"#REF!"}},{"$f":"VLOOKUP(#REF!,'Points Lookup'!$A:$B,2,FALSE)","v":{"$error":"#REF!"}},{"$f":"VLOOKUP(#REF!,'Points Lookup'!$A:$B,2,FALSE)","v":{"$error":"#REF!"}},{"$f":"VLOOKUP(#REF!,'Points Lookup'!$A:$B,2,FALSE)","v":{"$error":"#REF!"}},{"$f":"VLOOKUP(#REF!,'Points Lookup'!$A:$B,2,FALSE)","v":{"$error":"#REF!"}},{"$f":"VLOOKUP(#REF!,'Points Lookup'!$A:$B,2,FALSE)","v":{"$error":"#REF!"}},{"$f":"VLOOKUP(#REF!,'Points Lookup'!$A:$B,2,FALSE)","v":{"$error":"#REF!"}},{"$f":"VLOOKUP(#REF!,'Points Lookup'!$A:$B,2,FALSE)","v":{"$error":"#REF!"}},{"$f":"VLOOKUP(#REF!,'Points Lookup'!$A:$B,2,FALSE)","v":{"$error":"#REF!"}},null,{"$error":"#REF!"},{"$error":"#REF!"},{"$error":"#REF!"},{"$error":"#REF!"},{"$error":"#REF!"},{"$error":"#REF!"},{"$error":"#REF!"},{"$error":"#REF!"}]
[{"$error":"#REF!"},{"$f":"#REF!","v":{"$error":"#REF!"}},{"$f":"IF(ISBLANK(#REF!),\"\",#REF!)","v":{"$error":"#REF!"}},{"$error":"#REF!"},{"$f":"VLOOKUP(#REF!,'Points Lookup'!$A:$B,2,FALSE)","v":{"$error":"#REF!"}},{"$f":"VLOOKUP(#REF!,'Points Lookup'!$A:$B,2,FALSE)","v":{"$error":"#REF!"}},{"$f":"VLOOKUP(#REF!,'Points Lookup'!$A:$B,2,FALSE)","v":{"$error":"#REF!"}},{"$f":"VLOOKUP(#REF!,'Points Lookup'!$A:$B,2,FALSE)","v":{"$error":"#REF!"}},{"$f":"VLOOKUP(#REF!,'Points Lookup'!$A:$B,2,FALSE)","v":{"$error":"#REF!"}},{"$f":"VLOOKUP(#REF!,'Points Lookup'!$A:$B,2,FALSE)","v":{"$error":"#REF!"}},{"$f":"VLOOKUP(#REF!,'Points Lookup'!$A:$B,2,FALSE)","v":{"$error":"#REF!"}},{"$f":"VLOOKUP(#REF!,'Points Lookup'!$A:$B,2,FALSE)","v":{"$error":"#REF!"}},{"$f":"VLOOKUP(#REF!,'Points Lookup'!$A:$B,2,FALSE)","v":{"$error":"#REF!"}},{"$f":"VLOOKUP(#REF!,'Points Lookup'!$A:$B,2,FALSE)","v":{"$error":"#REF!"}},{"$f":"VLOOKUP(#REF!,'Points Lookup'!$A:$B,2,FALSE)","v":{"$error":"#REF!"}},{"$f":"VLOOKUP(#REF!,'Points Lookup'!$A:$B,2,FALSE)","v":{"$error":"#REF!"}},{"$f":"VLOOKUP(#REF!,'Points Lookup'!$A:$B,2,FALSE)","v":{"$error":"#REF!"}},{"$f":"VLOOKUP(#REF!,'Points Lookup'!$A:$B,2,FALSE)","v":{"$error":"#REF!"}},{"$f":"VLOOKUP(#REF!,'Points Lookup'!$A:$B,2,FALSE)","v":{"$error":"#REF!"}},{"$f":"VLOOKUP(#REF!,'Points Lookup'!$A:$B,2,FALSE)","v":{"$error":"#REF!"}},{"$f":"VLOOKUP(#REF!,'Points Lookup'!$A:$B,2,FALSE)","v":{"$error":"#REF!"}},{"$f":"VLOOKUP(#REF!,'Points Lookup'!$A:$B,2,FALSE)","v":{"$error":"#REF!"}},{"$f":"VLOOKUP(#REF!,'Points Lookup'!$A:$B,2,FALSE)","v":{"$error":"#REF!"}},{"$f":"VLOOKUP(#REF!,'Points Lookup'!$A:$B,2,FALSE)","v":{"$error":"#REF!"}},null,{"$error":"#REF!"},{"$error":"#REF!"},{"$error":"#REF!"},{"$error":"#REF!"},{"$error":"#REF!"},{"$error":"#REF!"},{"$error":"#REF!"},{"$error":"#REF!"}]
[{"$error":"#REF!"},{"$f":"#REF!","v":{"$error":"#REF!"}},{"$f":"IF(ISBLANK(#REF!),\"\",#REF!)","v":{"$error":"#REF!"}},{"$error":"#REF!"},{"$f":"VLOOKUP(#REF!,'Points Lookup'!$A:$B,2,FALSE)","v":{"$error":"#REF!"}},{"$f":"VLOOKUP(#REF!,'Points Lookup'!$A:$B,2,FALSE)","v":{"$error":"#REF!"}},{"$f":"VLOOKUP(#REF!,'Points Lookup'!$A:$B,2,FALSE)","v":{"$error":"#REF!"}},{"$f":"VLOOKUP(#REF!,'Points Lookup'!$A:$B,2,FALSE)","v":{"$error":"#REF!"}},{"$f":"VLOOKUP(#REF!,'Points Lookup'!$A:$B,2,FALSE)","v":{"$error":"#REF!"}},{"$f":"VLOOKUP(#REF!,'Points Lookup'!$A:$B,2,FALSE)","v":{"$error":"#REF!"}},{"$f":"VLOOKUP(#REF!,'Points Lookup'!$A:$B,2,FALSE)","v":{"$error":"#REF!"}},{"$f":"VLOOKUP(#REF!,'Points Lookup'!$A:$B,2,FALSE)","v":{"$error":"#REF!"}},{"$f":"VLOOKUP(#REF!,'Points Lookup'!$A:$B,2,FALSE)","v":{"$error":"#REF!"}},{"$f":"VLOOKUP(#REF!,'Points Lookup'!$A:$B,2,FALSE)","v":{"$error":"#REF!"}},{"$f":"VLOOKUP(#REF!,'Points Lookup'!$A:$B,2,FALSE)","v":{"$error":"#REF!"}},{"$f":"VLOOKUP(#REF!,'Points Lookup'!$A:$B,2,FALSE)","v":{"$error":"#REF!"}},{"$f":"VLOOKUP(#REF!,'Points Lookup'!$A:$B,2,FALSE)","v":{"$error":"#REF!"}},{"$f":"VLOOKUP(#REF!,'Points Lookup'!$A:$B,2,FALSE)","v":{"$error":"#REF!"}},{"$f":"VLOOKUP(#REF!,'Points Lookup'!$A:$B,2,FALSE)","v":{"$error":"#REF!"}},{"$f":"VLOOKUP(#REF!,'Points Lookup'!$A:$B,2,FALSE)","v":{"$error":"#REF!"}},{"$f":"VLOOKUP(#REF!,'Points Lookup'!$A:$B,2,FALSE)","v":{"$error":"#REF!"}},{"$f":"VLOOKUP(#REF!,'Points Lookup'!$A:$B,2,FALSE)","v":{"$error":"#REF!"}},{"$f":"VLOOKUP(#REF!,'Points Lookup'!$A:$B,2,FALSE)","v":{"$error":"#REF!"}},{"$f":"VLOOKUP(#REF!,'Points Lookup'!$A:$B,2,FALSE)","v":{"$error":"#REF!"}},null,{"$error":"#REF!"},{"$error":"#REF!"},{"$error":"#REF!"},{"$error":"#REF!"},{"$error":"#REF!"},{"$error":"#REF!"},{"$error":"#REF!"},{"$error":"#REF!"}]
[{"$error":"#REF!"},{"$f":"#REF!","v":{"$error":"#REF!"}},{"$f":"IF(ISBLANK(#REF!),\"\",#REF!)","v":{"$error":"#REF!"}},{"$error":"#REF!"},{"$f":"VLOOKUP(#REF!,'Points Lookup'!$A:$B,2,FALSE)","v":{"$error":"#REF!"}},{"$f":"VLOOKUP(#REF!,'Points Lookup'!$A:$B,2,FALSE)","v":{"$error":"#REF!"}},{"$f":"VLOOKUP(#REF!,'Points Lookup'!$A:$B,2,FALSE)","v":{"$error":"#REF!"}},{"$f":"VLOOKUP(#REF!,'Points Lookup'!$A:$B,2,FALSE)","v":{"$error":"#REF!"}},{"$f":"VLOOKUP(#REF!,'Points Lookup'!$A:$B,2,FALSE)","v":{"$error":"#REF!"}},{"$f":"VLOOKUP(#REF!,'Points Lookup'!$A:$B,2,FALSE)","v":{"$error":"#REF!"}},{"$f":"VLOOKUP(#REF!,'Points Lookup'!$A:$B,2,FALSE)","v":{"$error":"#REF!"}},{"$f":"VLOOKUP(#REF!,'Points Lookup'!$A:$B,2,FALSE)","v":{"$error":"#REF!"}},{"$f":"VLOOKUP(#REF!,'Points Lookup'!$A:$B,2,FALSE)","v":{"$error":"#REF!"}},{"$f":"VLOOKUP(#REF!,'Points Lookup'!$A:$B,2,FALSE)","v":{"$error":"#REF!"}},{"$f":"VLOOKUP(#REF!,'Points Lookup'!$A:$B,2,FALSE)","v":{"$error":"#REF!"}},{"$f":"VLOOKUP(#REF!,'Points Lookup'!$A:$B,2,FALSE)","v":{"$error":"#REF!"}},{"$f":"VLOOKUP(#REF!,'Points Lookup'!$A:$B,2,FALSE)","v":{"$error":"#REF!"}},{"$f":"VLOOKUP(#REF!,'Points Lookup'!$A:$B,2,FALSE)","v":{"$error":"#REF!"}},{"$f":"VLOOKUP(#REF!,'Points Lookup'!$A:$B,2,FALSE)","v":{"$error":"#REF!"}},{"$f":"VLOOKUP(#REF!,'Points Lookup'!$A:$B,2,FALSE)","v":{"$error":"#REF!"}},{"$f":"VLOOKUP(#REF!,'Points Lookup'!$A:$B,2,FALSE)","v":{"$error":"#REF!"}},{"$f":"VLOOKUP(#REF!,'Points Lookup'!$A:$B,2,FALSE)","v":{"$error":"#REF!"}},{"$f":"VLOOKUP(#REF!,'Points Lookup'!$A:$B,2,FALSE)","v":{"$error":"#REF!"}},{"$f":"VLOOKUP(#REF!,'Points Lookup'!$A:$B,2,FALSE)","v":{"$error":"#REF!"}},null,{"$error":"#REF!"},{"$error":"#REF!"},{"$error":"#REF!"},{"$error":"#REF!"},{"$error":"#REF!"},{"$error":"#REF!"},{"$error":"#REF!"},{"$error":"#REF!"}]
[{"$error":"#REF!"},{"$f":"#REF!","v":{"$error":"#REF!"}},{"$f":"IF(ISBLANK(#REF!),\"\",#REF!)","v":{"$error":"#REF!"}},{"$error":"#REF!"},{"$f":"VLOOKUP(#REF!,'Points Lookup'!$A:$B,2,FALSE)","v":{"$error":"#REF!"}},{"$f":"VLOOKUP(#REF!,'Points Lookup'!$A:$B,2,FALSE)","v":{"$error":"#REF!"}},{"$f":"VLOOKUP(#REF!,'Points Lookup'!$A:$B,2,FALSE)","v":{"$error":"#REF!"}},{"$f":"VLOOKUP(#REF!,'Points Lookup'!$A:$B,2,FALSE)","v":{"$error":"#REF!"}},{"$f":"VLOOKUP(#REF!,'Points Lookup'!$A:$B,2,FALSE)","v":{"$error":"#REF!"}},{"$f":"VLOOKUP(#REF!,'Points Lookup'!$A:$B,2,FALSE)","v":{"$error":"#REF!"}},{"$f":"VLOOKUP(#REF!,'Points Lookup'!$A:$B,2,FALSE)","v":{"$error":"#REF!"}},{"$f":"VLOOKUP(#REF!,'Points Lookup'!$A:$B,2,FALSE)","v":{"$error":"#REF!"}},{"$f":"VLOOKUP(#REF!,'Points Lookup'!$A:$B,2,FALSE)","v":{"$error":"#REF!"}},{"$f":"VLOOKUP(#REF!,'Points Lookup'!$A:$B,2,FALSE)","v":{"$error":"#REF!"}},{"$f":"VLOOKUP(#REF!,'Points Lookup'!$A:$B,2,FALSE)","v":{"$error":"#REF!"}},{"$f":"VLOOKUP(#REF!,'Points Lookup'!$A:$B,2,FALSE)","v":{"$error":"#REF!"}},{"$f":"VLOOKUP(#REF!,'Points Lookup'!$A:$B,2,FALSE)","v":{"$error":"#REF!"}},{"$f":"VLOOKUP(#REF!,'Points Lookup'!$A:$B,2,FALSE)","v":{"$error":"#REF!"}},{"$f":"VLOOKUP(#REF!,'Points Lookup'!$A:$B,2,FALSE)","v":{"$error":"#REF!"}},{"$f":"VLOOKUP(#REF!,'Points Lookup'!$A:$B,2,FALSE)","v":{"$error":"#REF!"}},{"$f":"VLOOKUP(#REF!,'Points Lookup'!$A:$B,2,FALSE)","v":{"$error":"#REF!"}},{"$f":"VLOOKUP(#REF!,'Points Lookup'!$A:$B,2,FALSE)","v":{"$error":"#REF!"}},{"$f":"VLOOKUP(#REF!,'Points Lookup'!$A:$B,2,FALSE)","v":{"$error":"#REF!"}},{"$f":"VLOOKUP(#REF!,'Points Lookup'!$A:$B,2,FALSE)","v":{"$error":"#REF!"}},null,{"$error":"#REF!"},{"$error":"#REF!"},{"$error":"#REF!"},{"$error":"#REF!"},{"$error":"#REF!"},{"$error":"#REF!"},{"$error":"#REF!"},{"$error":"#REF!"}]
[{"$error":"#REF!"},{"$f":"#REF!","v":{"$error":"#REF!"}},{"$f":"IF(ISBLANK(#REF!),\"\",#REF!)","v":{"$error":"#REF!"}},{"$error":"#REF!"},{"$f":"VLOOKUP(#REF!,'Points Lookup'!$A:$B,2,FALSE)","v":{"$error":"#REF!"}},{"$f":"VLOOKUP(#REF!,'Points Lookup'!$A:$B,2,FALSE)","v":{"$error":"#REF!"}},{"$f":"VLOOKUP(#REF!,'Points Lookup'!$A:$B,2,FALSE)","v":{"$error":"#REF!"}},{"$f":"VLOOKUP(#REF!,'Points Lookup'!$A:$B,2,FALSE)","v":{"$error":"#REF!"}},{"$f":"VLOOKUP(#REF!,'Points Lookup'!$A:$B,2,FALSE)","v":{"$error":"#REF!"}},{"$f":"VLOOKUP(#REF!,'Points Lookup'!$A:$B,2,FALSE)","v":{"$error":"#REF!"}},{"$f":"VLOOKUP(#REF!,'Points Lookup'!$A:$B,2,FALSE)","v":{"$error":"#REF!"}},{"$f":"VLOOKUP(#REF!,'Points Lookup'!$A:$B,2,FALSE)","v":{"$error":"#REF!"}},{"$f":"VLOOKUP(#REF!,'Points Lookup'!$A:$B,2,FALSE)","v":{"$error":"#REF!"}},{"$f":"VLOOKUP(#REF!,'Points Lookup'!$A:$B,2,FALSE)","v":{"$error":"#REF!"}},{"$f":"VLOOKUP(#REF!,'Points Lookup'!$A:$B,2,FALSE)","v":{"$error":"#REF!"}},{"$f":"VLOOKUP(#REF!,'Points Lookup'!$A:$B,2,FALSE)","v":{"$error":"#REF!"}},{"$f":"VLOOKUP(#REF!,'Points Lookup'!$A:$B,2,FALSE)","v":{"$error":"#REF!"}},{"$f":"VLOOKUP(#REF!,'Points Lookup'!$A:$B,2,FALSE)","v":{"$error":"#REF!"}},{"$f":"VLOOKUP(#REF!,'Points Lookup'!$A:$B,2,FALSE)","v":{"$error":"#REF!"}},{"$f":"VLOOKUP(#REF!,'Points Lookup'!$A:$B,2,FALSE)","v":{"$error":"#REF!"}},{"$f":"VLOOKUP(#REF!,'Points Lookup'!$A:$B,2,FALSE)","v":{"$error":"#REF!"}},{"$f":"VLOOKUP(#REF!,'Points Lookup'!$A:$B,2,FALSE)","v":{"$error":"#REF!"}},{"$f":"VLOOKUP(#REF!,'Points Lookup'!$A:$B,2,FALSE)","v":{"$error":"#REF!"}},{"$f":"VLOOKUP(#REF!,'Points Lookup'!$A:$B,2,FALSE)","v":{"$error":"#REF!"}},null,{"$error":"#REF!"},{"$error":"#REF!"},{"$error":"#REF!"},{"$error":"#REF!"},{"$error":"#REF!"},{"$error":"#REF!"},{"$error":"#REF!"},{"$error":"#REF!"}]
[{"$error":"#REF!"},{"$f":"#REF!","v":{"$error":"#REF!"}},{"$f":"IF(ISBLANK(#REF!),\"\",#REF!)","v":{"$error":"#REF!"}},{"$error":"#REF!"},{"$f":"VLOOKUP(#REF!,'Points Lookup'!$A:$B,2,FALSE)","v":{"$error":"#REF!"}},{"$f":"VLOOKUP(#REF!,'Points Lookup'!$A:$B,2,FALSE)","v":{"$error":"#REF!"}},{"$f":"VLOOKUP(#REF!,'Points Lookup'!$A:$B,2,FALSE)","v":{"$error":"#REF!"}},{"$f":"VLOOKUP(#REF!,'Points Lookup'!$A:$B,2,FALSE)","v":{"$error":"#REF!"}},{"$f":"VLOOKUP(#REF!,'Points Lookup'!$A:$B,2,FALSE)","v":{"$error":"#REF!"}},{"$f":"VLOOKUP(#REF!,'Points Lookup'!$A:$B,2,FALSE)","v":{"$error":"#REF!"}},{"$f":"VLOOKUP(#REF!,'Points Lookup'!$A:$B,2,FALSE)","v":{"$error":"#REF!"}},{"$f":"VLOOKUP(#REF!,'Points Lookup'!$A:$B,2,FALSE)","v":{"$error":"#REF!"}},{"$f":"VLOOKUP(#REF!,'Points Lookup'!$A:$B,2,FALSE)","v":{"$error":"#REF!"}},{"$f":"VLOOKUP(#REF!,'Points Lookup'!$A:$B,2,FALSE)","v":{"$error":"#REF!"}},{"$f":"VLOOKUP(#REF!,'Points Lookup'!$A:$B,2,FALSE)","v":{"$error":"#REF!"}},{"$f":"VLOOKUP(#REF!,'Points Lookup'!$A:$B,2,FALSE)","v":{"$error":"#REF!"}},{"$f":"VLOOKUP(#REF!,'Points Lookup'!$A:$B,2,FALSE)","v":{"$error":"#REF!"}},{"$f":"VLOOKUP(#REF!,'Points Lookup'!$A:$B,2,FALSE)","v":{"$error":"#REF!"}},{"$f":"VLOOKUP(#REF!,'Points Lookup'!$A:$B,2,FALSE)","v":{"$error":"#REF!"}},{"$f":"VLOOKUP(#REF!,'Points Lookup'!$A:$B,2,FALSE)","v":{"$error":"#REF!"}},{"$f":"VLOOKUP(#REF!,'Points Lookup'!$A:$B,2,FALSE)","v":{"$error":"#REF!"}},{"$f":"VLOOKUP(#REF!,'Points Lookup'!$A:$B,2,FALSE)","v":{"$error":"#REF!"}},{"$f":"VLOOKUP(#REF!,'Points Lookup'!$A:$B,2,FALSE)","v":{"$error":"#REF!"}},{"$f":"VLOOKUP(#REF!,'Points Lookup'!$A:$B,2,FALSE)","v":{"$error":"#REF!"}},null,{"$error":"#REF!"},{"$error":"#REF!"},{"$error":"#REF!"},{"$error":"#REF!"},{"$error":"#REF!"},{"$error":"#REF!"},{"$error":"#REF!"},{"$error":"#REF!"}]
[{"$error":"#REF!"},{"$f":"#REF!","v":{"$error":"#REF!"}},{"$f":"IF(ISBLANK(#REF!),\"\",#REF!)","v":{"$error":"#REF!"}},{"$error":"#REF!"},{"$f":"VLOOKUP(#REF!,'Points Lookup'!$A:$B,2,FALSE)","v":{"$error":"#REF!"}},{"$f":"VLOOKUP(#REF!,'Points Lookup'!$A:$B,2,FALSE)","v":{"$error":"#REF!"}},{"$f":"VLOOKUP(#REF!,'Points Lookup'!$A:$B,2,FALSE)","v":{"$error":"#REF!"}},{"$f":"VLOOKUP(#REF!,'Points Lookup'!$A:$B,2,FALSE)","v":{"$error":"#REF!"}},{"$f":"VLOOKUP(#REF!,'Points Lookup'!$A:$B,2,FALSE)","v":{"$error":"#REF!"}},{"$f":"VLOOKUP(#REF!,'Points Lookup'!$A:$B,2,FALSE)","v":{"$error":"#REF!"}},{"$f":"VLOOKUP(#REF!,'Points Lookup'!$A:$B,2,FALSE)","v":{"$error":"#REF!"}},{"$f":"VLOOKUP(#REF!,'Points Lookup'!$A:$B,2,FALSE)","v":{"$error":"#REF!"}},{"$f":"VLOOKUP(#REF!,'Points Lookup'!$A:$B,2,FALSE)","v":{"$error":"#REF!"}},{"$f":"VLOOKUP(#REF!,'Points Lookup'!$A:$B,2,FALSE)","v":{"$error":"#REF!"}},{"$f":"VLOOKUP(#REF!,'Points Lookup'!$A:$B,2,FALSE)","v":{"$error":"#REF!"}},{"$f":"VLOOKUP(#REF!,'Points Lookup'!$A:$B,2,FALSE)","v":{"$error":"#REF!"}},{"$f":"VLOOKUP(#REF!,'Points Lookup'!$A:$B,2,FALSE)","v":{"$error":"#REF!"}},{"$f":"VLOOKUP(#REF!,'Points Lookup'!$A:$B,2,FALSE)","v":{"$error":"#REF!"}},{"$f":"VLOOKUP(#REF!,'Points Lookup'!$A:$B,2,FALSE)","v":{"$error":"#REF!"}},{"$f":"VLOOKUP(#REF!,'Points Lookup'!$A:$B,2,FALSE)","v":{"$error":"#REF!"}},{"$f":"VLOOKUP(#REF!,'Points Lookup'!$A:$B,2,FALSE)","v":{"$error":"#REF!"}},{"$f":"VLOOKUP(#REF!,'Points Lookup'!$A:$B,2,FALSE)","v":{"$error":"#REF!"}},{"$f":"VLOOKUP(#REF!,'Points Lookup'!$A:$B,2,FALSE)","v":{"$error":"#REF!"}},{"$f":"VLOOKUP(#REF!,'Points Lookup'!$A:$B,2,FALSE)","v":{"$error":"#REF!"}},null,{"$error":"#REF!"},{"$error":"#REF!"},{"$error":"#REF!"},{"$error":"#REF!"},{"$error":"#REF!"},{"$error":"#REF!"},{"$error":"#REF!"},{"$error":"#REF!"}]
[{"$error":"#REF!"},{"$f":"#REF!","v":{"$error":"#REF!"}},{"$f":"IF(ISBLANK(#REF!),\"\",#REF!)","v":{"$error":"#REF!"}},{"$error":"#REF!"},{"$f":"VLOOKUP(#REF!,'Points Lookup'!$A:$B,2,FALSE)","v":{"$error":"#REF!"}},{"$f":"VLOOKUP(#REF!,'Points Lookup'!$A:$B,2,FALSE)","v":{"$error":"#REF!"}},{"$f":"VLOOKUP(#REF!,'Points Lookup'!$A:$B,2,FALSE)","v":{"$error":"#REF!"}},{"$f":"VLOOKUP(#REF!,'Points Lookup'!$A:$B,2,FALSE)","v":{"$error":"#REF!"}},{"$f":"VLOOKUP(#REF!,'Points Lookup'!$A:$B,2,FALSE)","v":{"$error":"#REF!"}},{"$f":"VLOOKUP(#REF!,'Points Lookup'!$A:$B,2,FALSE)","v":{"$error":"#REF!"}},{"$f":"VLOOKUP(#REF!,'Points Lookup'!$A:$B,2,FALSE)","v":{"$error":"#REF!"}},{"$f":"VLOOKUP(#REF!,'Points Lookup'!$A:$B,2,FALSE)","v":{"$error":"#REF!"}},{"$f":"VLOOKUP(#REF!,'Points Lookup'!$A:$B,2,FALSE)","v":{"$error":"#REF!"}},{"$f":"VLOOKUP(#REF!,'Points Lookup'!$A:$B,2,FALSE)","v":{"$error":"#REF!"}},{"$f":"VLOOKUP(#REF!,'Points Lookup'!$A:$B,2,FALSE)","v":{"$error":"#REF!"}},{"$f":"VLOOKUP(#REF!,'Points Lookup'!$A:$B,2,FALSE)","v":{"$error":"#REF!"}},{"$f":"VLOOKUP(#REF!,'Points Lookup'!$A:$B,2,FALSE)","v":{"$error":"#REF!"}},{"$f":"VLOOKUP(#REF!,'Points Lookup'!$A:$B,2,FALSE)","v":{"$error":"#REF!"}},{"$f":"VLOOKUP(#REF!,'Points Lookup'!$A:$B,2,FALSE)","v":{"$error":"#REF!"}},{"$f":"VLOOKUP(#REF!,'Points Lookup'!$A:$B,2,FALSE)","v":{"$error":"#REF!"}},{"$f":"VLOOKUP(#REF!,'Points Lookup'!$A:$B,2,FALSE)","v":{"$error":"#REF!"}},{"$f":"VLOOKUP(#REF!,'Points Lookup'!$A:$B,2,FALSE)","v":{"$error":"#REF!"}},{"$f":"VLOOKUP(#REF!,'Points Lookup'!$A:$B,2,FALSE)","v":{"$error":"#REF!"}},{"$f":"VLOOKUP(#REF!,'Points Lookup'!$A:$B,2,FALSE)","v":{"$error":"#REF!"}},null,{"$f":"LARGE($E272:$X272,Z$1)","v":{"$error":"#REF!"}},{"$error":"#REF!"},{"$error":"#REF!"},{"$error":"#REF!"},{"$error":"#REF!"},{"$error":"#REF!"},{"$error":"#REF!"},{"$error":"#REF!"}]
[{"$error":"#REF!"},{"$f":"#REF!","v":{"$error":"#REF!"}},{"$f":"IF(ISBLANK(#REF!),\"\",#REF!)","v":{"$error":"#REF!"}},{"$error":"#REF!"},{"$f":"VLOOKUP(#REF!,'Points Lookup'!$A:$B,2,FALSE)","v":{"$error":"#REF!"}},{"$f":"VLOOKUP(#REF!,'Points Lookup'!$A:$B,2,FALSE)","v":{"$error":"#REF!"}},{"$f":"VLOOKUP(#REF!,'Points Lookup'!$A:$B,2,FALSE)","v":{"$error":"#REF!"}},{"$f":"VLOOKUP(#REF!,'Points Lookup'!$A:$B,2,FALSE)","v":{"$error":"#REF!"}},{"$f":"VLOOKUP(#REF!,'Points Lookup'!$A:$B,2,FALSE)","v":{"$error":"#REF!"}},{"$f":"VLOOKUP(#REF!,'Points Lookup'!$A:$B,2,FALSE)","v":{"$error":"#REF!"}},{"$f":"VLOOKUP(#REF!,'Points Lookup'!$A:$B,2,FALSE)","v":{"$error":"#REF!"}},{"$f":"VLOOKUP(#REF!,'Points Lookup'!$A:$B,2,FALSE)","v":{"$error":"#REF!"}},{"$f":"VLOOKUP(#REF!,'Points Lookup'!$A:$B,2,FALSE)","v":{"$error":"#REF!"}},{"$f":"VLOOKUP(#REF!,'Points Lookup'!$A:$B,2,FALSE)","v":{"$error":"#REF!"}},{"$f":"VLOOKUP(#REF!,'Points Lookup'!$A:$B,2,FALSE)","v":{"$error":"#REF!"}},{"$f":"VLOOKUP(#REF!,'Points Lookup'!$A:$B,2,FALSE)","v":{"$error":"#REF!"}},{"$f":"VLOOKUP(#REF!,'Points Lookup'!$A:$B,2,FALSE)","v":{"$error":"#REF!"}},{"$f":"VLOOKUP(#REF!,'Points Lookup'!$A:$B,2,FALSE)","v":{"$error":"#REF!"}},{"$f":"VLOOKUP(#REF!,'Points Lookup'!$A:$B,2,FALSE)","v":{"$error":"#REF!"}},{"$f":"VLOOKUP(#REF!,'Points Lookup'!$A:$B,2,FALSE)","v":{"$error":"#REF!"}},{"$f":"VLOOKUP(#REF!,'Points Lookup'!$A:$B,2,FALSE)","v":{"$error":"#REF!"}},{"$f":"VLOOKUP(#REF!,'Points Lookup'!$A:$B,2,FALSE)","v":{"$error":"#REF!"}},{"$f":"VLOOKUP(#REF!,'Points Lookup'!$A:$B,2,FALSE)","v":{"$error":"#REF!"}},{"$f":"VLOOKUP(#REF!,'Points Lookup'!$A:$B,2,FALSE)","v":{"$error":"#REF!"}},null,{"$error":"#REF!"},{"$error":"#REF!"},{"$error":"#REF!"},{"$error":"#REF!"},{"$error":"#REF!"},{"$error":"#REF!"},{"$error":"#REF!"},{"$error":"#REF!"}]
[{"$error":"#REF!"},{"$f":"#REF!","v":{"$error":"#REF!"}},{"$f":"IF(ISBLANK(#REF!),\"\",#REF!)","v":{"$error":"#REF!"}},{"$error":"#REF!"},{"$f":"VLOOKUP(#REF!,'Points Lookup'!$A:$B,2,FALSE)","v":{"$error":"#REF!"}},{"$f":"VLOOKUP(#REF!,'Points Lookup'!$A:$B,2,FALSE)","v":{"$error":"#REF!"}},{"$f":"VLOOKUP(#REF!,'Points Lookup'!$A:$B,2,FALSE)","v":{"$error":"#REF!"}},{"$f":"VLOOKUP(#REF!,'Points Lookup'!$A:$B,2,FALSE)","v":{"$error":"#REF!"}},{"$f":"VLOOKUP(#REF!,'Points Lookup'!$A:$B,2,FALSE)","v":{"$error":"#REF!"}},{"$f":"VLOOKUP(#REF!,'Points Lookup'!$A:$B,2,FALSE)","v":{"$error":"#REF!"}},{"$f":"VLOOKUP(#REF!,'Points Lookup'!$A:$B,2,FALSE)","v":{"$error":"#REF!"}},{"$f":"VLOOKUP(#REF!,'Points Lookup'!$A:$B,2,FALSE)","v":{"$error":"#REF!"}},{"$f":"VLOOKUP(#REF!,'Points Lookup'!$A:$B,2,FALSE)","v":{"$error":"#REF!"}},{"$f":"VLOOKUP(#REF!,'Points Lookup'!$A:$B,2,FALSE)","v":{"$error":"#REF!"}},{"$f":"VLOOKUP(#REF!,'Points Lookup'!$A:$B,2,FALSE)","v":{"$error":"#REF!"}},{"$f":"VLOOKUP(#REF!,'Points Lookup'!$A:$B,2,FALSE)","v":{"$error":"#REF!"}},{"$f":"VLOOKUP(#REF!,'Points Lookup'!$A:$B,2,FALSE)","v":{"$error":"#REF!"}},{"$f":"VLOOKUP(#REF!,'Points Lookup'!$A:$B,2,FALSE)","v":{"$error":"#REF!"}},{"$f":"VLOOKUP(#REF!,'Points Lookup'!$A:$B,2,FALSE)","v":{"$error":"#REF!"}},{"$f":"VLOOKUP(#REF!,'Points Lookup'!$A:$B,2,FALSE)","v":{"$error":"#REF!"}},{"$f":"VLOOKUP(#REF!,'Points Lookup'!$A:$B,2,FALSE)","v":{"$error":"#REF!"}},{"$f":"VLOOKUP(#REF!,'Points Lookup'!$A:$B,2,FALSE)","v":{"$error":"#REF!"}},{"$f":"VLOOKUP(#REF!,'Points Lookup'!$A:$B,2,FALSE)","v":{"$error":"#REF!"}},{"$f":"VLOOKUP(#REF!,'Points Lookup'!$A:$B,2,FALSE)","v":{"$error":"#REF!"}},null,{"$error":"#REF!"},{"$error":"#REF!"},{"$error":"#REF!"},{"$error":"#REF!"},{"$error":"#REF!"},{"$error":"#REF!"},{"$error":"#REF!"},{"$error":"#REF!"}]
[{"$error":"#REF!"},{"$f":"#REF!","v":{"$error":"#REF!"}},{"$f":"IF(ISBLANK(#REF!),\"\",#REF!)","v":{"$error":"#REF!"}},{"$error":"#REF!"},{"$f":"VLOOKUP(#REF!,'Points Lookup'!$A:$B,2,FALSE)","v":{"$error":"#REF!"}},{"$f":"VLOOKUP(#REF!,'Points Lookup'!$A:$B,2,FALSE)","v":{"$error":"#REF!"}},{"$f":"VLOOKUP(#REF!,'Points Lookup'!$A:$B,2,FALSE)","v":{"$error":"#REF!"}},{"$f":"VLOOKUP(#REF!,'Points Lookup'!$A:$B,2,FALSE)","v":{"$error":"#REF!"}},{"$f":"VLOOKUP(#REF!,'Points Lookup'!$A:$B,2,FALSE)","v":{"$error":"#REF!"}},{"$f":"VLOOKUP(#REF!,'Points Lookup'!$A:$B,2,FALSE)","v":{"$error":"#REF!"}},{"$f":"VLOOKUP(#REF!,'Points Lookup'!$A:$B,2,FALSE)","v":{"$error":"#REF!"}},{"$f":"VLOOKUP(#REF!,'Points Lookup'!$A:$B,2,FALSE)","v":{"$error":"#REF!"}},{"$f":"VLOOKUP(#REF!,'Points Lookup'!$A:$B,2,FALSE)","v":{"$error":"#REF!"}},{"$f":"VLOOKUP(#REF!,'Points Lookup'!$A:$B,2,FALSE)","v":{"$error":"#REF!"}},{"$f":"VLOOKUP(#REF!,'Points Lookup'!$A:$B,2,FALSE)","v":{"$error":"#REF!"}},{"$f":"VLOOKUP(#REF!,'Points Lookup'!$A:$B,2,FALSE)","v":{"$error":"#REF!"}},{"$f":"VLOOKUP(#REF!,'Points Lookup'!$A:$B,2,FALSE)","v":{"$error":"#REF!"}},{"$f":"VLOOKUP(#REF!,'Points Lookup'!$A:$B,2,FALSE)","v":{"$error":"#REF!"}},{"$f":"VLOOKUP(#REF!,'Points Lookup'!$A:$B,2,FALSE)","v":{"$error":"#REF!"}},{"$f":"VLOOKUP(#REF!,'Points Lookup'!$A:$B,2,FALSE)","v":{"$error":"#REF!"}},{"$f":"VLOOKUP(#REF!,'Points Lookup'!$A:$B,2,FALSE)","v":{"$error":"#REF!"}},{"$f":"VLOOKUP(#REF!,'Points Lookup'!$A:$B,2,FALSE)","v":{"$error":"#REF!"}},{"$f":"VLOOKUP(#REF!,'Points Lookup'!$A:$B,2,FALSE)","v":{"$error":"#REF!"}},{"$f":"VLOOKUP(#REF!,'Points Lookup'!$A:$B,2,FALSE)","v":{"$error":"#REF!"}},null,{"$error":"#REF!"},{"$error":"#REF!"},{"$error":"#REF!"},{"$error":"#REF!"},{"$error":"#REF!"},{"$error":"#REF!"},{"$error":"#REF!"},{"$error":"#REF!"}]
[{"$error":"#REF!"},{"$f":"#REF!","v":{"$error":"#REF!"}},{"$f":"IF(ISBLANK(#REF!),\"\",#REF!)","v":{"$error":"#REF!"}},{"$error":"#REF!"},{"$f":"VLOOKUP(#REF!,'Points Lookup'!$A:$B,2,FALSE)","v":{"$error":"#REF!"}},{"$f":"VLOOKUP(#REF!,'Points Lookup'!$A:$B,2,FALSE)","v":{"$error":"#REF!"}},{"$f":"VLOOKUP(#REF!,'Points Lookup'!$A:$B,2,FALSE)","v":{"$error":"#REF!"}},{"$f":"VLOOKUP(#REF!,'Points Lookup'!$A:$B,2,FALSE)","v":{"$error":"#REF!"}},{"$f":"VLOOKUP(#REF!,'Points Lookup'!$A:$B,2,FALSE)","v":{"$error":"#REF!"}},{"$f":"VLOOKUP(#REF!,'Points Lookup'!$A:$B,2,FALSE)","v":{"$error":"#REF!"}},{"$f":"VLOOKUP(#REF!,'Points Lookup'!$A:$B,2,FALSE)","v":{"$error":"#REF!"}},{"$f":"VLOOKUP(#REF!,'Points Lookup'!$A:$B,2,FALSE)","v":{"$error":"#REF!"}},{"$f":"VLOOKUP(#REF!,'Points Lookup'!$A:$B,2,FALSE)","v":{"$error":"#REF!"}},{"$f":"VLOOKUP(#REF!,'Points Lookup'!$A:$B,2,FALSE)","v":{"$error":"#REF!"}},{"$f":"VLOOKUP(#REF!,'Points Lookup'!$A:$B,2,FALSE)","v":{"$error":"#REF!"}},{"$f":"VLOOKUP(#REF!,'Points Lookup'!$A:$B,2,FALSE)","v":{"$error":"#REF!"}},{"$f":"VLOOKUP(#REF!,'Points Lookup'!$A:$B,2,FALSE)","v":{"$error":"#REF!"}},{"$f":"VLOOKUP(#REF!,'Points Lookup'!$A:$B,2,FALSE)","v":{"$error":"#REF!"}},{"$f":"VLOOKUP(#REF!,'Points Lookup'!$A:$B,2,FALSE)","v":{"$error":"#REF!"}},{"$f":"VLOOKUP(#REF!,'Points Lookup'!$A:$B,2,FALSE)","v":{"$error":"#REF!"}},{"$f":"VLOOKUP(#REF!,'Points Lookup'!$A:$B,2,FALSE)","v":{"$error":"#REF!"}},{"$f":"VLOOKUP(#REF!,'Points Lookup'!$A:$B,2,FALSE)","v":{"$error":"#REF!"}},{"$f":"VLOOKUP(#REF!,'Points Lookup'!$A:$B,2,FALSE)","v":{"$error":"#REF!"}},{"$f":"VLOOKUP(#REF!,'Points Lookup'!$A:$B,2,FALSE)","v":{"$error":"#REF!"}},null,{"$error":"#REF!"},{"$error":"#REF!"},{"$error":"#REF!"},{"$error":"#REF!"},{"$error":"#REF!"},{"$error":"#REF!"},{"$error":"#REF!"},{"$error":"#REF!"}]
[{"$error":"#REF!"},{"$f":"#REF!","v":{"$error":"#REF!"}},{"$f":"IF(ISBLANK(#REF!),\"\",#REF!)","v":{"$error":"#REF!"}},{"$error":"#REF!"},{"$f":"VLOOKUP(#REF!,'Points Lookup'!$A:$B,2,FALSE)","v":{"$error":"#REF!"}},{"$f":"VLOOKUP(#REF!,'Points Lookup'!$A:$B,2,FALSE)","v":{"$error":"#REF!"}},{"$f":"VLOOKUP(#REF!,'Points Lookup'!$A:$B,2,FALSE)","v":{"$error":"#REF!"}},{"$f":"VLOOKUP(#REF!,'Points Lookup'!$A:$B,2,FALSE)","v":{"$error":"#REF!"}},{"$f":"VLOOKUP(#REF!,'Points Lookup'!$A:$B,2,FALSE)","v":{"$error":"#REF!"}},{"$f":"VLOOKUP(#REF!,'Points Lookup'!$A:$B,2,FALSE)","v":{"$error":"#REF!"}},{"$f":"VLOOKUP(#REF!,'Points Lookup'!$A:$B,2,FALSE)","v":{"$error":"#REF!"}},{"$f":"VLOOKUP(#REF!,'Points Lookup'!$A:$B,2,FALSE)","v":{"$error":"#REF!"}},{"$f":"VLOOKUP(#REF!,'Points Lookup'!$A:$B,2,FALSE)","v":{"$error":"#REF!"}},{"$f":"VLOOKUP(#REF!,'Points Lookup'!$A:$B,2,FALSE)","v":{"$error":"#REF!"}},{"$f":"VLOOKUP(#REF!,'Points Lookup'!$A:$B,2,FALSE)","v":{"$error":"#REF!"}},{"$f":"VLOOKUP(#REF!,'Points Lookup'!$A:$B,2,FALSE)","v":{"$error":"#REF!"}},{"$f":"VLOOKUP(#REF!,'Points Lookup'!$A:$B,2,FALSE)","v":{"$error":"#REF!"}},{"$f":"VLOOKUP(#REF!,'Points Lookup'!$A:$B,2,FALSE)","v":{"$error":"#REF!"}},{"$f":"VLOOKUP(#REF!,'Points Lookup'!$A:$B,2,FALSE)","v":{"$error":"#REF!"}},{"$f":"VLOOKUP(#REF!,'Points Lookup'!$A:$B,2,FALSE)","v":{"$error":"#REF!"}},{"$f":"VLOOKUP(#REF!,'Points Lookup'!$A:$B,2,FALSE)","v":{"$error":"#REF!"}},{"$f":"VLOOKUP(#REF!,'Points Lookup'!$A:$B,2,FALSE)","v":{"$error":"#REF!"}},{"$f":"VLOOKUP(#REF!,'Points Lookup'!$A:$B,2,FALSE)","v":{"$error":"#REF!"}},{"$f":"VLOOKUP(#REF!,'Points Lookup'!$A:$B,2,FALSE)","v":{"$error":"#REF!"}},null,{"$error":"#REF!"},{"$error":"#REF!"},{"$error":"#REF!"},{"$error":"#REF!"},{"$error":"#REF!"},{"$error":"#REF!"},{"$error":"#REF!"},{"$error":"#REF!"}]
[{"$error":"#REF!"},{"$f":"#REF!","v":{"$error":"#REF!"}},{"$f":"IF(ISBLANK(#REF!),\"\",#REF!)","v":{"$error":"#REF!"}},{"$error":"#REF!"},{"$f":"VLOOKUP(#REF!,'Points Lookup'!$A:$B,2,FALSE)","v":{"$error":"#REF!"}},{"$f":"VLOOKUP(#REF!,'Points Lookup'!$A:$B,2,FALSE)","v":{"$error":"#REF!"}},{"$f":"VLOOKUP(#REF!,'Points Lookup'!$A:$B,2,FALSE)","v":{"$error":"#REF!"}},{"$f":"VLOOKUP(#REF!,'Points Lookup'!$A:$B,2,FALSE)","v":{"$error":"#REF!"}},{"$f":"VLOOKUP(#REF!,'Points Lookup'!$A:$B,2,FALSE)","v":{"$error":"#REF!"}},{"$f":"VLOOKUP(#REF!,'Points Lookup'!$A:$B,2,FALSE)","v":{"$error":"#REF!"}},{"$f":"VLOOKUP(#REF!,'Points Lookup'!$A:$B,2,FALSE)","v":{"$error":"#REF!"}},{"$f":"VLOOKUP(#REF!,'Points Lookup'!$A:$B,2,FALSE)","v":{"$error":"#REF!"}},{"$f":"VLOOKUP(#REF!,'Points Lookup'!$A:$B,2,FALSE)","v":{"$error":"#REF!"}},{"$f":"VLOOKUP(#REF!,'Points Lookup'!$A:$B,2,FALSE)","v":{"$error":"#REF!"}},{"$f":"VLOOKUP(#REF!,'Points Lookup'!$A:$B,2,FALSE)","v":{"$error":"#REF!"}},{"$f":"VLOOKUP(#REF!,'Points Lookup'!$A:$B,2,FALSE)","v":{"$error":"#REF!"}},{"$f":"VLOOKUP(#REF!,'Points Lookup'!$A:$B,2,FALSE)","v":{"$error":"#REF!"}},{"$f":"VLOOKUP(#REF!,'Points Lookup'!$A:$B,2,FALSE)","v":{"$error":"#REF!"}},{"$f":"VLOOKUP(#REF!,'Points Lookup'!$A:$B,2,FALSE)","v":{"$error":"#REF!"}},{"$f":"VLOOKUP(#REF!,'Points Lookup'!$A:$B,2,FALSE)","v":{"$error":"#REF!"}},{"$f":"VLOOKUP(#REF!,'Points Lookup'!$A:$B,2,FALSE)","v":{"$error":"#REF!"}},{"$f":"VLOOKUP(#REF!,'Points Lookup'!$A:$B,2,FALSE)","v":{"$error":"#REF!"}},{"$f":"VLOOKUP(#REF!,'Points Lookup'!$A:$B,2,FALSE)","v":{"$error":"#REF!"}},{"$f":"VLOOKUP(#REF!,'Points Lookup'!$A:$B,2,FALSE)","v":{"$error":"#REF!"}},null,{"$error":"#REF!"},{"$error":"#REF!"},{"$error":"#REF!"},{"$error":"#REF!"},{"$error":"#REF!"},{"$error":"#REF!"},{"$error":"#REF!"},{"$error":"#REF!"}]
[{"$error":"#REF!"},{"$f":"#REF!","v":{"$error":"#REF!"}},{"$f":"IF(ISBLANK(#REF!),\"\",#REF!)","v":{"$error":"#REF!"}},{"$error":"#REF!"},{"$f":"VLOOKUP(#REF!,'Points Lookup'!$A:$B,2,FALSE)","v":{"$error":"#REF!"}},{"$f":"VLOOKUP(#REF!,'Points Lookup'!$A:$B,2,FALSE)","v":{"$error":"#REF!"}},{"$f":"VLOOKUP(#REF!,'Points Lookup'!$A:$B,2,FALSE)","v":{"$error":"#REF!"}},{"$f":"VLOOKUP(#REF!,'Points Lookup'!$A:$B,2,FALSE)","v":{"$error":"#REF!"}},{"$f":"VLOOKUP(#REF!,'Points Lookup'!$A:$B,2,FALSE)","v":{"$error":"#REF!"}},{"$f":"VLOOKUP(#REF!,'Points Lookup'!$A:$B,2,FALSE)","v":{"$error":"#REF!"}},{"$f":"VLOOKUP(#REF!,'Points Lookup'!$A:$B,2,FALSE)","v":{"$error":"#REF!"}},{"$f":"VLOOKUP(#REF!,'Points Lookup'!$A:$B,2,FALSE)","v":{"$error":"#REF!"}},{"$f":"VLOOKUP(#REF!,'Points Lookup'!$A:$B,2,FALSE)","v":{"$error":"#REF!"}},{"$f":"VLOOKUP(#REF!,'Points Lookup'!$A:$B,2,FALSE)","v":{"$error":"#REF!"}},{"$f":"VLOOKUP(#REF!,'Points Lookup'!$A:$B,2,FALSE)","v":{"$error":"#REF!"}},{"$f":"VLOOKUP(#REF!,'Points Lookup'!$A:$B,2,FALSE)","v":{"$error":"#REF!"}},{"$f":"VLOOKUP(#REF!,'Points Lookup'!$A:$B,2,FALSE)","v":{"$error":"#REF!"}},{"$f":"VLOOKUP(#REF!,'Points Lookup'!$A:$B,2,FALSE)","v":{"$error":"#REF!"}},{"$f":"VLOOKUP(#REF!,'Points Lookup'!$A:$B,2,FALSE)","v":{"$error":"#REF!"}},{"$f":"VLOOKUP(#REF!,'Points Lookup'!$A:$B,2,FALSE)","v":{"$error":"#REF!"}},{"$f":"VLOOKUP(#REF!,'Points Lookup'!$A:$B,2,FALSE)","v":{"$error":"#REF!"}},{"$f":"VLOOKUP(#REF!,'Points Lookup'!$A:$B,2,FALSE)","v":{"$error":"#REF!"}},{"$f":"VLOOKUP(#REF!,'Points Lookup'!$A:$B,2,FALSE)","v":{"$error":"#REF!"}},{"$f":"VLOOKUP(#REF!,'Points Lookup'!$A:$B,2,FALSE)","v":{"$error":"#REF!"}},null,{"$error":"#REF!"},{"$error":"#REF!"},{"$error":"#REF!"},{"$error":"#REF!"},{"$error":"#REF!"},{"$error":"#REF!"},{"$error":"#REF!"},{"$error":"#REF!"}]
[{"$error":"#REF!"},{"$f":"#REF!","v":{"$error":"#REF!"}},{"$f":"IF(ISBLANK(#REF!),\"\",#REF!)","v":{"$error":"#REF!"}},{"$error":"#REF!"},{"$f":"VLOOKUP(#REF!,'Points Lookup'!$A:$B,2,FALSE)","v":{"$error":"#REF!"}},{"$f":"VLOOKUP(#REF!,'Points Lookup'!$A:$B,2,FALSE)","v":{"$error":"#REF!"}},{"$f":"VLOOKUP(#REF!,'Points Lookup'!$A:$B,2,FALSE)","v":{"$error":"#REF!"}},{"$f":"VLOOKUP(#REF!,'Points Lookup'!$A:$B,2,FALSE)","v":{"$error":"#REF!"}},{"$f":"VLOOKUP(#REF!,'Points Lookup'!$A:$B,2,FALSE)","v":{"$error":"#REF!"}},{"$f":"VLOOKUP(#REF!,'Points Lookup'!$A:$B,2,FALSE)","v":{"$error":"#REF!"}},{"$f":"VLOOKUP(#REF!,'Points Lookup'!$A:$B,2,FALSE)","v":{"$error":"#REF!"}},{"$f":"VLOOKUP(#REF!,'Points Lookup'!$A:$B,2,FALSE)","v":{"$error":"#REF!"}},{"$f":"VLOOKUP(#REF!,'Points Lookup'!$A:$B,2,FALSE)","v":{"$error":"#REF!"}},{"$f":"VLOOKUP(#REF!,'Points Lookup'!$A:$B,2,FALSE)","v":{"$error":"#REF!"}},{"$f":"VLOOKUP(#REF!,'Points Lookup'!$A:$B,2,FALSE)","v":{"$error":"#REF!"}},{"$f":"VLOOKUP(#REF!,'Points Lookup'!$A:$B,2,FALSE)","v":{"$error":"#REF!"}},{"$f":"VLOOKUP(#REF!,'Points Lookup'!$A:$B,2,FALSE)","v":{"$error":"#REF!"}},{"$f":"VLOOKUP(#REF!,'Points Lookup'!$A:$B,2,FALSE)","v":{"$error":"#REF!"}},{"$f":"VLOOKUP(#REF!,'Points Lookup'!$A:$B,2,FALSE)","v":{"$error":"#REF!"}},{"$f":"VLOOKUP(#REF!,'Points Lookup'!$A:$B,2,FALSE)","v":{"$error":"#REF!"}},{"$f":"VLOOKUP(#REF!,'Points Lookup'!$A:$B,2,FALSE)","v":{"$error":"#REF!"}},{"$f":"VLOOKUP(#REF!,'Points Lookup'!$A:$B,2,FALSE)","v":{"$error":"#REF!"}},{"$f":"VLOOKUP(#REF!,'Points Lookup'!$A:$B,2,FALSE)","v":{"$error":"#REF!"}},{"$f":"VLOOKUP(#REF!,'Points Lookup'!$A:$B,2,FALSE)","v":{"$error":"#REF!"}},null,{"$error":"#REF!"},{"$error":"#REF!"},{"$error":"#REF!"},{"$error":"#REF!"},{"$error":"#REF!"},{"$error":"#REF!"},{"$error":"#REF!"},{"$error":"#REF!"}]
[{"$error":"#REF!"},{"$f":"#REF!","v":{"$error":"#REF!"}},{"$f":"IF(ISBLANK(#REF!),\"\",#REF!)","v":{"$error":"#REF!"}},{"$error":"#REF!"},{"$f":"VLOOKUP(#REF!,'Points Lookup'!$A:$B,2,FALSE)","v":{"$error":"#REF!"}},{"$f":"VLOOKUP(#REF!,'Points Lookup'!$A:$B,2,FALSE)","v":{"$error":"#REF!"}},{"$f":"VLOOKUP(#REF!,'Points Lookup'!$A:$B,2,FALSE)","v":{"$error":"#REF!"}},{"$f":"VLOOKUP(#REF!,'Points Lookup'!$A:$B,2,FALSE)","v":{"$error":"#REF!"}},{"$f":"VLOOKUP(#REF!,'Points Lookup'!$A:$B,2,FALSE)","v":{"$error":"#REF!"}},{"$f":"VLOOKUP(#REF!,'Points Lookup'!$A:$B,2,FALSE)","v":{"$error":"#REF!"}},{"$f":"VLOOKUP(#REF!,'Points Lookup'!$A:$B,2,FALSE)","v":{"$error":"#REF!"}},{"$f":"VLOOKUP(#REF!,'Points Lookup'!$A:$B,2,FALSE)","v":{"$error":"#REF!"}},{"$f":"VLOOKUP(#REF!,'Points Lookup'!$A:$B,2,FALSE)","v":{"$error":"#REF!"}},{"$f":"VLOOKUP(#REF!,'Points Lookup'!$A:$B,2,FALSE)","v":{"$error":"#REF!"}},{"$f":"VLOOKUP(#REF!,'Points Lookup'!$A:$B,2,FALSE)","v":{"$error":"#REF!"}},{"$f":"VLOOKUP(#REF!,'Points Lookup'!$A:$B,2,FALSE)","v":{"$error":"#REF!"}},{"$f":"VLOOKUP(#REF!,'Points Lookup'!$A:$B,2,FALSE)","v":{"$error":"#REF!"}},{"$f":"VLOOKUP(#REF!,'Points Lookup'!$A:$B,2,FALSE)","v":{"$error":"#REF!"}},{"$f":"VLOOKUP(#REF!,'Points Lookup'!$A:$B,2,FALSE)","v":{"$error":"#REF!"}},{"$f":"VLOOKUP(#REF!,'Points Lookup'!$A:$B,2,FALSE)","v":{"$error":"#REF!"}},{"$f":"VLOOKUP(#REF!,'Points Lookup'!$A:$B,2,FALSE)","v":{"$error":"#REF!"}},{"$f":"VLOOKUP(#REF!,'Points Lookup'!$A:$B,2,FALSE)","v":{"$error":"#REF!"}},{"$f":"VLOOKUP(#REF!,'Points Lookup'!$A:$B,2,FALSE)","v":{"$error":"#REF!"}},{"$f":"VLOOKUP(#REF!,'Points Lookup'!$A:$B,2,FALSE)","v":{"$error":"#REF!"}},null,{"$error":"#REF!"},{"$error":"#REF!"},{"$error":"#REF!"},{"$error":"#REF!"},{"$error":"#REF!"},{"$error":"#REF!"},{"$error":"#REF!"},{"$error":"#REF!"}]
[{"$error":"#REF!"},{"$f":"#REF!","v":{"$error":"#REF!"}},{"$f":"IF(ISBLANK(#REF!),\"\",#REF!)","v":{"$error":"#REF!"}},{"$error":"#REF!"},{"$f":"VLOOKUP(#REF!,'Points Lookup'!$A:$B,2,FALSE)","v":{"$error":"#REF!"}},{"$f":"VLOOKUP(#REF!,'Points Lookup'!$A:$B,2,FALSE)","v":{"$error":"#REF!"}},{"$f":"VLOOKUP(#REF!,'Points Lookup'!$A:$B,2,FALSE)","v":{"$error":"#REF!"}},{"$f":"VLOOKUP(#REF!,'Points Lookup'!$A:$B,2,FALSE)","v":{"$error":"#REF!"}},{"$f":"VLOOKUP(#REF!,'Points Lookup'!$A:$B,2,FALSE)","v":{"$error":"#REF!"}},{"$f":"VLOOKUP(#REF!,'Points Lookup'!$A:$B,2,FALSE)","v":{"$error":"#REF!"}},{"$f":"VLOOKUP(#REF!,'Points Lookup'!$A:$B,2,FALSE)","v":{"$error":"#REF!"}},{"$f":"VLOOKUP(#REF!,'Points Lookup'!$A:$B,2,FALSE)","v":{"$error":"#REF!"}},{"$f":"VLOOKUP(#REF!,'Points Lookup'!$A:$B,2,FALSE)","v":{"$error":"#REF!"}},{"$f":"VLOOKUP(#REF!,'Points Lookup'!$A:$B,2,FALSE)","v":{"$error":"#REF!"}},{"$f":"VLOOKUP(#REF!,'Points Lookup'!$A:$B,2,FALSE)","v":{"$error":"#REF!"}},{"$f":"VLOOKUP(#REF!,'Points Lookup'!$A:$B,2,FALSE)","v":{"$error":"#REF!"}},{"$f":"VLOOKUP(#REF!,'Points Lookup'!$A:$B,2,FALSE)","v":{"$error":"#REF!"}},{"$f":"VLOOKUP(#REF!,'Points Lookup'!$A:$B,2,FALSE)","v":{"$error":"#REF!"}},{"$f":"VLOOKUP(#REF!,'Points Lookup'!$A:$B,2,FALSE)","v":{"$error":"#REF!"}},{"$f":"VLOOKUP(#REF!,'Points Lookup'!$A:$B,2,FALSE)","v":{"$error":"#REF!"}},{"$f":"VLOOKUP(#REF!,'Points Lookup'!$A:$B,2,FALSE)","v":{"$error":"#REF!"}},{"$f":"VLOOKUP(#REF!,'Points Lookup'!$A:$B,2,FALSE)","v":{"$error":"#REF!"}},{"$f":"VLOOKUP(#REF!,'Points Lookup'!$A:$B,2,FALSE)","v":{"$error":"#REF!"}},{"$f":"VLOOKUP(#REF!,'Points Lookup'!$A:$B,2,FALSE)","v":{"$error":"#REF!"}},null,{"$f":"LARGE($E282:$X282,Z$1)","v":{"$error":"#REF!"}},{"$error":"#REF!"},{"$error":"#REF!"},{"$error":"#REF!"},{"$error":"#REF!"},{"$error":"#REF!"},{"$error":"#REF!"},{"$error":"#REF!"}]
[{"$error":"#REF!"},{"$f":"#REF!","v":{"$error":"#REF!"}},{"$f":"IF(ISBLANK(#REF!),\"\",#REF!)","v":{"$error":"#REF!"}},{"$error":"#REF!"},{"$f":"VLOOKUP(#REF!,'Points Lookup'!$A:$B,2,FALSE)","v":{"$error":"#REF!"}},{"$f":"VLOOKUP(#REF!,'Points Lookup'!$A:$B,2,FALSE)","v":{"$error":"#REF!"}},{"$f":"VLOOKUP(#REF!,'Points Lookup'!$A:$B,2,FALSE)","v":{"$error":"#REF!"}},{"$f":"VLOOKUP(#REF!,'Points Lookup'!$A:$B,2,FALSE)","v":{"$error":"#REF!"}},{"$f":"VLOOKUP(#REF!,'Points Lookup'!$A:$B,2,FALSE)","v":{"$error":"#REF!"}},{"$f":"VLOOKUP(#REF!,'Points Lookup'!$A:$B,2,FALSE)","v":{"$error":"#REF!"}},{"$f":"VLOOKUP(#REF!,'Points Lookup'!$A:$B,2,FALSE)","v":{"$error":"#REF!"}},{"$f":"VLOOKUP(#REF!,'Points Lookup'!$A:$B,2,FALSE)","v":{"$error":"#REF!"}},{"$f":"VLOOKUP(#REF!,'Points Lookup'!$A:$B,2,FALSE)","v":{"$error":"#REF!"}},{"$f":"VLOOKUP(#REF!,'Points Lookup'!$A:$B,2,FALSE)","v":{"$error":"#REF!"}},{"$f":"VLOOKUP(#REF!,'Points Lookup'!$A:$B,2,FALSE)","v":{"$error":"#REF!"}},{"$f":"VLOOKUP(#REF!,'Points Lookup'!$A:$B,2,FALSE)","v":{"$error":"#REF!"}},{"$f":"VLOOKUP(#REF!,'Points Lookup'!$A:$B,2,FALSE)","v":{"$error":"#REF!"}},{"$f":"VLOOKUP(#REF!,'Points Lookup'!$A:$B,2,FALSE)","v":{"$error":"#REF!"}},{"$f":"VLOOKUP(#REF!,'Points Lookup'!$A:$B,2,FALSE)","v":{"$error":"#REF!"}},{"$f":"VLOOKUP(#REF!,'Points Lookup'!$A:$B,2,FALSE)","v":{"$error":"#REF!"}},{"$f":"VLOOKUP(#REF!,'Points Lookup'!$A:$B,2,FALSE)","v":{"$error":"#REF!"}},{"$f":"VLOOKUP(#REF!,'Points Lookup'!$A:$B,2,FALSE)","v":{"$error":"#REF!"}},{"$f":"VLOOKUP(#REF!,'Points Lookup'!$A:$B,2,FALSE)","v":{"$error":"#REF!"}},{"$f":"VLOOKUP(#REF!,'Points Lookup'!$A:$B,2,FALSE)","v":{"$error":"#REF!"}},null,{"$error":"#REF!"},{"$error":"#REF!"},{"$error":"#REF!"},{"$error":"#REF!"},{"$error":"#REF!"},{"$error":"#REF!"},{"$error":"#REF!"},{"$error":"#REF!"}]
[{"$error":"#REF!"},{"$f":"#REF!","v":{"$error":"#REF!"}},{"$f":"IF(ISBLANK(#REF!),\"\",#REF!)","v":{"$error":"#REF!"}},{"$error":"#REF!"},{"$f":"VLOOKUP(#REF!,'Points Lookup'!$A:$B,2,FALSE)","v":{"$error":"#REF!"}},{"$f":"VLOOKUP(#REF!,'Points Lookup'!$A:$B,2,FALSE)","v":{"$error":"#REF!"}},{"$f":"VLOOKUP(#REF!,'Points Lookup'!$A:$B,2,FALSE)","v":{"$error":"#REF!"}},{"$f":"VLOOKUP(#REF!,'Points Lookup'!$A:$B,2,FALSE)","v":{"$error":"#REF!"}},{"$f":"VLOOKUP(#REF!,'Points Lookup'!$A:$B,2,FALSE)","v":{"$error":"#REF!"}},{"$f":"VLOOKUP(#REF!,'Points Lookup'!$A:$B,2,FALSE)","v":{"$error":"#REF!"}},{"$f":"VLOOKUP(#REF!,'Points Lookup'!$A:$B,2,FALSE)","v":{"$error":"#REF!"}},{"$f":"VLOOKUP(#REF!,'Points Lookup'!$A:$B,2,FALSE)","v":{"$error":"#REF!"}},{"$f":"VLOOKUP(#REF!,'Points Lookup'!$A:$B,2,FALSE)","v":{"$error":"#REF!"}},{"$f":"VLOOKUP(#REF!,'Points Lookup'!$A:$B,2,FALSE)","v":{"$error":"#REF!"}},{"$f":"VLOOKUP(#REF!,'Points Lookup'!$A:$B,2,FALSE)","v":{"$error":"#REF!"}},{"$f":"VLOOKUP(#REF!,'Points Lookup'!$A:$B,2,FALSE)","v":{"$error":"#REF!"}},{"$f":"VLOOKUP(#REF!,'Points Lookup'!$A:$B,2,FALSE)","v":{"$error":"#REF!"}},{"$f":"VLOOKUP(#REF!,'Points Lookup'!$A:$B,2,FALSE)","v":{"$error":"#REF!"}},{"$f":"VLOOKUP(#REF!,'Points Lookup'!$A:$B,2,FALSE)","v":{"$error":"#REF!"}},{"$f":"VLOOKUP(#REF!,'Points Lookup'!$A:$B,2,FALSE)","v":{"$error":"#REF!"}},{"$f":"VLOOKUP(#REF!,'Points Lookup'!$A:$B,2,FALSE)","v":{"$error":"#REF!"}},{"$f":"VLOOKUP(#REF!,'Points Lookup'!$A:$B,2,FALSE)","v":{"$error":"#REF!"}},{"$f":"VLOOKUP(#REF!,'Points Lookup'!$A:$B,2,FALSE)","v":{"$error":"#REF!"}},{"$f":"VLOOKUP(#REF!,'Points Lookup'!$A:$B,2,FALSE)","v":{"$error":"#REF!"}},null,{"$error":"#REF!"},{"$error":"#REF!"},{"$error":"#REF!"},{"$error":"#REF!"},{"$error":"#REF!"},{"$error":"#REF!"},{"$error":"#REF!"},{"$error":"#REF!"}]
[{"$error":"#REF!"},{"$f":"#REF!","v":{"$error":"#REF!"}},{"$f":"IF(ISBLANK(#REF!),\"\",#REF!)","v":{"$error":"#REF!"}},{"$error":"#REF!"},{"$f":"VLOOKUP(#REF!,'Points Lookup'!$A:$B,2,FALSE)","v":{"$error":"#REF!"}},{"$f":"VLOOKUP(#REF!,'Points Lookup'!$A:$B,2,FALSE)","v":{"$error":"#REF!"}},{"$f":"VLOOKUP(#REF!,'Points Lookup'!$A:$B,2,FALSE)","v":{"$error":"#REF!"}},{"$f":"VLOOKUP(#REF!,'Points Lookup'!$A:$B,2,FALSE)","v":{"$error":"#REF!"}},{"$f":"VLOOKUP(#REF!,'Points Lookup'!$A:$B,2,FALSE)","v":{"$error":"#REF!"}},{"$f":"VLOOKUP(#REF!,'Points Lookup'!$A:$B,2,FALSE)","v":{"$error":"#REF!"}},{"$f":"VLOOKUP(#REF!,'Points Lookup'!$A:$B,2,FALSE)","v":{"$error":"#REF!"}},{"$f":"VLOOKUP(#REF!,'Points Lookup'!$A:$B,2,FALSE)","v":{"$error":"#REF!"}},{"$f":"VLOOKUP(#REF!,'Points Lookup'!$A:$B,2,FALSE)","v":{"$error":"#REF!"}},{"$f":"VLOOKUP(#REF!,'Points Lookup'!$A:$B,2,FALSE)","v":{"$error":"#REF!"}},{"$f":"VLOOKUP(#REF!,'Points Lookup'!$A:$B,2,FALSE)","v":{"$error":"#REF!"}},{"$f":"VLOOKUP(#REF!,'Points Lookup'!$A:$B,2,FALSE)","v":{"$error":"#REF!"}},{"$f":"VLOOKUP(#REF!,'Points Lookup'!$A:$B,2,FALSE)","v":{"$error":"#REF!"}},{"$f":"VLOOKUP(#REF!,'Points Lookup'!$A:$B,2,FALSE)","v":{"$error":"#REF!"}},{"$f":"VLOOKUP(#REF!,'Points Lookup'!$A:$B,2,FALSE)","v":{"$error":"#REF!"}},{"$f":"VLOOKUP(#REF!,'Points Lookup'!$A:$B,2,FALSE)","v":{"$error":"#REF!"}},{"$f":"VLOOKUP(#REF!,'Points Lookup'!$A:$B,2,FALSE)","v":{"$error":"#REF!"}},{"$f":"VLOOKUP(#REF!,'Points Lookup'!$A:$B,2,FALSE)","v":{"$error":"#REF!"}},{"$f":"VLOOKUP(#REF!,'Points Lookup'!$A:$B,2,FALSE)","v":{"$error":"#REF!"}},{"$f":"VLOOKUP(#REF!,'Points Lookup'!$A:$B,2,FALSE)","v":{"$error":"#REF!"}},null,{"$error":"#REF!"},{"$error":"#REF!"},{"$error":"#REF!"},{"$error":"#REF!"},{"$error":"#REF!"},{"$error":"#REF!"},{"$error":"#REF!"},{"$error":"#REF!"}]
[{"$error":"#REF!"},{"$f":"#REF!","v":{"$error":"#REF!"}},{"$f":"IF(ISBLANK(#REF!),\"\",#REF!)","v":{"$error":"#REF!"}},{"$error":"#REF!"},{"$f":"VLOOKUP(#REF!,'Points Lookup'!$A:$B,2,FALSE)","v":{"$error":"#REF!"}},{"$f":"VLOOKUP(#REF!,'Points Lookup'!$A:$B,2,FALSE)","v":{"$error":"#REF!"}},{"$f":"VLOOKUP(#REF!,'Points Lookup'!$A:$B,2,FALSE)","v":{"$error":"#REF!"}},{"$f":"VLOOKUP(#REF!,'Points Lookup'!$A:$B,2,FALSE)","v":{"$error":"#REF!"}},{"$f":"VLOOKUP(#REF!,'Points Lookup'!$A:$B,2,FALSE)","v":{"$error":"#REF!"}},{"$f":"VLOOKUP(#REF!,'Points Lookup'!$A:$B,2,FALSE)","v":{"$error":"#REF!"}},{"$f":"VLOOKUP(#REF!,'Points Lookup'!$A:$B,2,FALSE)","v":{"$error":"#REF!"}},{"$f":"VLOOKUP(#REF!,'Points Lookup'!$A:$B,2,FALSE)","v":{"$error":"#REF!"}},{"$f":"VLOOKUP(#REF!,'Points Lookup'!$A:$B,2,FALSE)","v":{"$error":"#REF!"}},{"$f":"VLOOKUP(#REF!,'Points Lookup'!$A:$B,2,FALSE)","v":{"$error":"#REF!"}},{"$f":"VLOOKUP(#REF!,'Points Lookup'!$A:$B,2,FALSE)","v":{"$error":"#REF!"}},{"$f":"VLOOKUP(#REF!,'Points Lookup'!$A:$B,2,FALSE)","v":{"$error":"#REF!"}},{"$f":"VLOOKUP(#REF!,'Points Lookup'!$A:$B,2,FALSE)","v":{"$error":"#REF!"}},{"$f":"VLOOKUP(#REF!,'Points Lookup'!$A:$B,2,FALSE)","v":{"$error":"#REF!"}},{"$f":"VLOOKUP(#REF!,'Points Lookup'!$A:$B,2,FALSE)","v":{"$error":"#REF!"}},{"$f":"VLOOKUP(#REF!,'Points Lookup'!$A:$B,2,FALSE)","v":{"$error":"#REF!"}},{"$f":"VLOOKUP(#REF!,'Points Lookup'!$A:$B,2,FALSE)","v":{"$error":"#REF!"}},{"$f":"VLOOKUP(#REF!,'Points Lookup'!$A:$B,2,FALSE)","v":{"$error":"#REF!"}},{"$f":"VLOOKUP(#REF!,'Points Lookup'!$A:$B,2,FALSE)","v":{"$error":"#REF!"}},{"$f":"VLOOKUP(#REF!,'Points Lookup'!$A:$B,2,FALSE)","v":{"$error":"#REF!"}},null,{"$error":"#REF!"},{"$error":"#REF!"},{"$error":"#REF!"},{"$error":"#REF!"},{"$error":"#REF!"},{"$error":"#REF!"},{"$error":"#REF!"},{"$error":"#REF!"}]
[{"$error":"#REF!"},{"$f":"#REF!","v":{"$error":"#REF!"}},{"$f":"IF(ISBLANK(#REF!),\"\",#REF!)","v":{"$error":"#REF!"}},{"$error":"#REF!"},{"$f":"VLOOKUP(#REF!,'Points Lookup'!$A:$B,2,FALSE)","v":{"$error":"#REF!"}},{"$f":"VLOOKUP(#REF!,'Points Lookup'!$A:$B,2,FALSE)","v":{"$error":"#REF!"}},{"$f":"VLOOKUP(#REF!,'Points Lookup'!$A:$B,2,FALSE)","v":{"$error":"#REF!"}},{"$f":"VLOOKUP(#REF!,'Points Lookup'!$A:$B,2,FALSE)","v":{"$error":"#REF!"}},{"$f":"VLOOKUP(#REF!,'Points Lookup'!$A:$B,2,FALSE)","v":{"$error":"#REF!"}},{"$f":"VLOOKUP(#REF!,'Points Lookup'!$A:$B,2,FALSE)","v":{"$error":"#REF!"}},{"$f":"VLOOKUP(#REF!,'Points Lookup'!$A:$B,2,FALSE)","v":{"$error":"#REF!"}},{"$f":"VLOOKUP(#REF!,'Points Lookup'!$A:$B,2,FALSE)","v":{"$error":"#REF!"}},{"$f":"VLOOKUP(#REF!,'Points Lookup'!$A:$B,2,FALSE)","v":{"$error":"#REF!"}},{"$f":"VLOOKUP(#REF!,'Points Lookup'!$A:$B,2,FALSE)","v":{"$error":"#REF!"}},{"$f":"VLOOKUP(#REF!,'Points Lookup'!$A:$B,2,FALSE)","v":{"$error":"#REF!"}},{"$f":"VLOOKUP(#REF!,'Points Lookup'!$A:$B,2,FALSE)","v":{"$error":"#REF!"}},{"$f":"VLOOKUP(#REF!,'Points Lookup'!$A:$B,2,FALSE)","v":{"$error":"#REF!"}},{"$f":"VLOOKUP(#REF!,'Points Lookup'!$A:$B,2,FALSE)","v":{"$error":"#REF!"}},{"$f":"VLOOKUP(#REF!,'Points Lookup'!$A:$B,2,FALSE)","v":{"$error":"#REF!"}},{"$f":"VLOOKUP(#REF!,'Points Lookup'!$A:$B,2,FALSE)","v":{"$error":"#REF!"}},{"$f":"VLOOKUP(#REF!,'Points Lookup'!$A:$B,2,FALSE)","v":{"$error":"#REF!"}},{"$f":"VLOOKUP(#REF!,'Points Lookup'!$A:$B,2,FALSE)","v":{"$error":"#REF!"}},{"$f":"VLOOKUP(#REF!,'Points Lookup'!$A:$B,2,FALSE)","v":{"$error":"#REF!"}},{"$f":"VLOOKUP(#REF!,'Points Lookup'!$A:$B,2,FALSE)","v":{"$error":"#REF!"}},null,{"$error":"#REF!"},{"$error":"#REF!"},{"$error":"#REF!"},{"$error":"#REF!"},{"$error":"#REF!"},{"$error":"#REF!"},{"$error":"#REF!"},{"$error":"#REF!"}]
[{"$error":"#REF!"},{"$f":"#REF!","v":{"$error":"#REF!"}},{"$f":"IF(ISBLANK(#REF!),\"\",#REF!)","v":{"$error":"#REF!"}},{"$error":"#REF!"},{"$f":"VLOOKUP(#REF!,'Points Lookup'!$A:$B,2,FALSE)","v":{"$error":"#REF!"}},{"$f":"VLOOKUP(#REF!,'Points Lookup'!$A:$B,2,FALSE)","v":{"$error":"#REF!"}},{"$f":"VLOOKUP(#REF!,'Points Lookup'!$A:$B,2,FALSE)","v":{"$error":"#REF!"}},{"$f":"VLOOKUP(#REF!,'Points Lookup'!$A:$B,2,FALSE)","v":{"$error":"#REF!"}},{"$f":"VLOOKUP(#REF!,'Points Lookup'!$A:$B,2,FALSE)","v":{"$error":"#REF!"}},{"$f":"VLOOKUP(#REF!,'Points Lookup'!$A:$B,2,FALSE)","v":{"$error":"#REF!"}},{"$f":"VLOOKUP(#REF!,'Points Lookup'!$A:$B,2,FALSE)","v":{"$error":"#REF!"}},{"$f":"VLOOKUP(#REF!,'Points Lookup'!$A:$B,2,FALSE)","v":{"$error":"#REF!"}},{"$f":"VLOOKUP(#REF!,'Points Lookup'!$A:$B,2,FALSE)","v":{"$error":"#REF!"}},{"$f":"VLOOKUP(#REF!,'Points Lookup'!$A:$B,2,FALSE)","v":{"$error":"#REF!"}},{"$f":"VLOOKUP(#REF!,'Points Lookup'!$A:$B,2,FALSE)","v":{"$error":"#REF!"}},{"$f":"VLOOKUP(#REF!,'Points Lookup'!$A:$B,2,FALSE)","v":{"$error":"#REF!"}},{"$f":"VLOOKUP(#REF!,'Points Lookup'!$A:$B,2,FALSE)","v":{"$error":"#REF!"}},{"$f":"VLOOKUP(#REF!,'Points Lookup'!$A:$B,2,FALSE)","v":{"$error":"#REF!"}},{"$f":"VLOOKUP(#REF!,'Points Lookup'!$A:$B,2,FALSE)","v":{"$error":"#REF!"}},{"$f":"VLOOKUP(#REF!,'Points Lookup'!$A:$B,2,FALSE)","v":{"$error":"#REF!"}},{"$f":"VLOOKUP(#REF!,'Points Lookup'!$A:$B,2,FALSE)","v":{"$error":"#REF!"}},{"$f":"VLOOKUP(#REF!,'Points Lookup'!$A:$B,2,FALSE)","v":{"$error":"#REF!"}},{"$f":"VLOOKUP(#REF!,'Points Lookup'!$A:$B,2,FALSE)","v":{"$error":"#REF!"}},{"$f":"VLOOKUP(#REF!,'Points Lookup'!$A:$B,2,FALSE)","v":{"$error":"#REF!"}},null,{"$error":"#REF!"},{"$error":"#REF!"},{"$error":"#REF!"},{"$error":"#REF!"},{"$error":"#REF!"},{"$error":"#REF!"},{"$error":"#REF!"},{"$error":"#REF!"}]
[{"$error":"#REF!"},{"$f":"#REF!","v":{"$error":"#REF!"}},{"$f":"IF(ISBLANK(#REF!),\"\",#REF!)","v":{"$error":"#REF!"}},{"$error":"#REF!"},{"$f":"VLOOKUP(#REF!,'Points Lookup'!$A:$B,2,FALSE)","v":{"$error":"#REF!"}},{"$f":"VLOOKUP(#REF!,'Points Lookup'!$A:$B,2,FALSE)","v":{"$error":"#REF!"}},{"$f":"VLOOKUP(#REF!,'Points Lookup'!$A:$B,2,FALSE)","v":{"$error":"#REF!"}},{"$f":"VLOOKUP(#REF!,'Points Lookup'!$A:$B,2,FALSE)","v":{"$error":"#REF!"}},{"$f":"VLOOKUP(#REF!,'Points Lookup'!$A:$B,2,FALSE)","v":{"$error":"#REF!"}},{"$f":"VLOOKUP(#REF!,'Points Lookup'!$A:$B,2,FALSE)","v":{"$error":"#REF!"}},{"$f":"VLOOKUP(#REF!,'Points Lookup'!$A:$B,2,FALSE)","v":{"$error":"#REF!"}},{"$f":"VLOOKUP(#REF!,'Points Lookup'!$A:$B,2,FALSE)","v":{"$error":"#REF!"}},{"$f":"VLOOKUP(#REF!,'Points Lookup'!$A:$B,2,FALSE)","v":{"$error":"#REF!"}},{"$f":"VLOOKUP(#REF!,'Points Lookup'!$A:$B,2,FALSE)","v":{"$error":"#REF!"}},{"$f":"VLOOKUP(#REF!,'Points Lookup'!$A:$B,2,FALSE)","v":{"$error":"#REF!"}},{"$f":"VLOOKUP(#REF!,'Points Lookup'!$A:$B,2,FALSE)","v":{"$error":"#REF!"}},{"$f":"VLOOKUP(#REF!,'Points Lookup'!$A:$B,2,FALSE)","v":{"$error":"#REF!"}},{"$f":"VLOOKUP(#REF!,'Points Lookup'!$A:$B,2,FALSE)","v":{"$error":"#REF!"}},{"$f":"VLOOKUP(#REF!,'Points Lookup'!$A:$B,2,FALSE)","v":{"$error":"#REF!"}},{"$f":"VLOOKUP(#REF!,'Points Lookup'!$A:$B,2,FALSE)","v":{"$error":"#REF!"}},{"$f":"VLOOKUP(#REF!,'Points Lookup'!$A:$B,2,FALSE)","v":{"$error":"#REF!"}},{"$f":"VLOOKUP(#REF!,'Points Lookup'!$A:$B,2,FALSE)","v":{"$error":"#REF!"}},{"$f":"VLOOKUP(#REF!,'Points Lookup'!$A:$B,2,FALSE)","v":{"$error":"#REF!"}},{"$f":"VLOOKUP(#REF!,'Points Lookup'!$A:$B,2,FALSE)","v":{"$error":"#REF!"}},null,{"$error":"#REF!"},{"$error":"#REF!"},{"$error":"#REF!"},{"$error":"#REF!"},{"$error":"#REF!"},{"$error":"#REF!"},{"$error":"#REF!"},{"$error":"#REF!"}]
[{"$f":"RANK(D290,D:D)","v":{"$error":"#REF!"}},{"$f":"#REF!","v":{"$error":"#REF!"}},{"$f":"IF(ISBLANK(#REF!),\"\",#REF!)","v":{"$error":"#REF!"}},{"$error":"#REF!"},{"$f":"VLOOKUP(#REF!,'Points Lookup'!$A:$B,2,FALSE)","v":{"$error":"#REF!"}},{"$f":"VLOOKUP(#REF!,'Points Lookup'!$A:$B,2,FALSE)","v":{"$error":"#REF!"}},{"$f":"VLOOKUP(#REF!,'Points Lookup'!$A:$B,2,FALSE)","v":{"$error":"#REF!"}},{"$f":"VLOOKUP(#REF!,'Points Lookup'!$A:$B,2,FALSE)","v":{"$error":"#REF!"}},{"$f":"VLOOKUP(#REF!,'Points Lookup'!$A:$B,2,FALSE)","v":{"$error":"#REF!"}},{"$f":"VLOOKUP(#REF!,'Points Lookup'!$A:$B,2,FALSE)","v":{"$error":"#REF!"}},{"$f":"VLOOKUP(#REF!,'Points Lookup'!$A:$B,2,FALSE)","v":{"$error":"#REF!"}},{"$f":"VLOOKUP(#REF!,'Points Lookup'!$A:$B,2,FALSE)","v":{"$error":"#REF!"}},{"$f":"VLOOKUP(#REF!,'Points Lookup'!$A:$B,2,FALSE)","v":{"$error":"#REF!"}},{"$f":"VLOOKUP(#REF!,'Points Lookup'!$A:$B,2,FALSE)","v":{"$error":"#REF!"}},{"$f":"VLOOKUP(#REF!,'Points Lookup'!$A:$B,2,FALSE)","v":{"$error":"#REF!"}},{"$f":"VLOOKUP(#REF!,'Points Lookup'!$A:$B,2,FALSE)","v":{"$error":"#REF!"}},{"$f":"VLOOKUP(#REF!,'Points Lookup'!$A:$B,2,FALSE)","v":{"$error":"#REF!"}},{"$f":"VLOOKUP(#REF!,'Points Lookup'!$A:$B,2,FALSE)","v":{"$error":"#REF!"}},{"$f":"VLOOKUP(#REF!,'Points Lookup'!$A:$B,2,FALSE)","v":{"$error":"#REF!"}},{"$f":"VLOOKUP(#REF!,'Points Lookup'!$A:$B,2,FALSE)","v":{"$error":"#REF!"}},{"$f":"VLOOKUP(#REF!,'Points Lookup'!$A:$B,2,FALSE)","v":{"$error":"#REF!"}},{"$f":"VLOOKUP(#REF!,'Points Lookup'!$A:$B,2,FALSE)","v":{"$error":"#REF!"}},{"$f":"VLOOKUP(#REF!,'Points Lookup'!$A:$B,2,FALSE)","v":{"$error":"#REF!"}},{"$f":"VLOOKUP(#REF!,'Points Lookup'!$A:$B,2,FALSE)","v":{"$error":"#REF!"}},null,{"$error":"#REF!"},{"$error":"#REF!"},{"$error":"#REF!"},{"$error":"#REF!"},{"$error":"#REF!"},{"$error":"#REF!"},{"$error":"#REF!"},{"$error":"#REF!"}]
[{"$error":"#REF!"},{"$f":"#REF!","v":{"$error":"#REF!"}},{"$f":"IF(ISBLANK(#REF!),\"\",#REF!)","v":{"$error":"#REF!"}},{"$error":"#REF!"},{"$f":"VLOOKUP(#REF!,'Points Lookup'!$A:$B,2,FALSE)","v":{"$error":"#REF!"}},{"$f":"VLOOKUP(#REF!,'Points Lookup'!$A:$B,2,FALSE)","v":{"$error":"#REF!"}},{"$f":"VLOOKUP(#REF!,'Points Lookup'!$A:$B,2,FALSE)","v":{"$error":"#REF!"}},{"$f":"VLOOKUP(#REF!,'Points Lookup'!$A:$B,2,FALSE)","v":{"$error":"#REF!"}},{"$f":"VLOOKUP(#REF!,'Points Lookup'!$A:$B,2,FALSE)","v":{"$error":"#REF!"}},{"$f":"VLOOKUP(#REF!,'Points Lookup'!$A:$B,2,FALSE)","v":{"$error":"#REF!"}},{"$f":"VLOOKUP(#REF!,'Points Lookup'!$A:$B,2,FALSE)","v":{"$error":"#REF!"}},{"$f":"VLOOKUP(#REF!,'Points Lookup'!$A:$B,2,FALSE)","v":{"$error":"#REF!"}},{"$f":"VLOOKUP(#REF!,'Points Lookup'!$A:$B,2,FALSE)","v":{"$error":"#REF!"}},{"$f":"VLOOKUP(#REF!,'Points Lookup'!$A:$B,2,FALSE)","v":{"$error":"#REF!"}},{"$f":"VLOOKUP(#REF!,'Points Lookup'!$A:$B,2,FALSE)","v":{"$error":"#REF!"}},{"$f":"VLOOKUP(#REF!,'Points Lookup'!$A:$B,2,FALSE)","v":{"$error":"#REF!"}},{"$f":"VLOOKUP(#REF!,'Points Lookup'!$A:$B,2,FALSE)","v":{"$error":"#REF!"}},{"$f":"VLOOKUP(#REF!,'Points Lookup'!$A:$B,2,FALSE)","v":{"$error":"#REF!"}},{"$f":"VLOOKUP(#REF!,'Points Lookup'!$A:$B,2,FALSE)","v":{"$error":"#REF!"}},{"$f":"VLOOKUP(#REF!,'Points Lookup'!$A:$B,2,FALSE)","v":{"$error":"#REF!"}},{"$f":"VLOOKUP(#REF!,'Points Lookup'!$A:$B,2,FALSE)","v":{"$error":"#REF!"}},{"$f":"VLOOKUP(#REF!,'Points Lookup'!$A:$B,2,FALSE)","v":{"$error":"#REF!"}},{"$f":"VLOOKUP(#REF!,'Points Lookup'!$A:$B,2,FALSE)","v":{"$error":"#REF!"}},{"$f":"VLOOKUP(#REF!,'Points Lookup'!$A:$B,2,FALSE)","v":{"$error":"#REF!"}},null,{"$error":"#REF!"},{"$error":"#REF!"},{"$error":"#REF!"},{"$error":"#REF!"},{"$error":"#REF!"},{"$error":"#REF!"},{"$error":"#REF!"},{"$error":"#REF!"}]
[{"$error":"#REF!"},{"$f":"#REF!","v":{"$error":"#REF!"}},{"$f":"IF(ISBLANK(#REF!),\"\",#REF!)","v":{"$error":"#REF!"}},{"$error":"#REF!"},{"$f":"VLOOKUP(#REF!,'Points Lookup'!$A:$B,2,FALSE)","v":{"$error":"#REF!"}},{"$f":"VLOOKUP(#REF!,'Points Lookup'!$A:$B,2,FALSE)","v":{"$error":"#REF!"}},{"$f":"VLOOKUP(#REF!,'Points Lookup'!$A:$B,2,FALSE)","v":{"$error":"#REF!"}},{"$f":"VLOOKUP(#REF!,'Points Lookup'!$A:$B,2,FALSE)","v":{"$error":"#REF!"}},{"$f":"VLOOKUP(#REF!,'Points Lookup'!$A:$B,2,FALSE)","v":{"$error":"#REF!"}},{"$f":"VLOOKUP(#REF!,'Points Lookup'!$A:$B,2,FALSE)","v":{"$error":"#REF!"}},{"$f":"VLOOKUP(#REF!,'Points Lookup'!$A:$B,2,FALSE)","v":{"$error":"#REF!"}},{"$f":"VLOOKUP(#REF!,'Points Lookup'!$A:$B,2,FALSE)","v":{"$error":"#REF!"}},{"$f":"VLOOKUP(#REF!,'Points Lookup'!$A:$B,2,FALSE)","v":{"$error":"#REF!"}},{"$f":"VLOOKUP(#REF!,'Points Lookup'!$A:$B,2,FALSE)","v":{"$error":"#REF!"}},{"$f":"VLOOKUP(#REF!,'Points Lookup'!$A:$B,2,FALSE)","v":{"$error":"#REF!"}},{"$f":"VLOOKUP(#REF!,'Points Lookup'!$A:$B,2,FALSE)","v":{"$error":"#REF!"}},{"$f":"VLOOKUP(#REF!,'Points Lookup'!$A:$B,2,FALSE)","v":{"$error":"#REF!"}},{"$f":"VLOOKUP(#REF!,'Points Lookup'!$A:$B,2,FALSE)","v":{"$error":"#REF!"}},{"$f":"VLOOKUP(#REF!,'Points Lookup'!$A:$B,2,FALSE)","v":{"$error":"#REF!"}},{"$f":"VLOOKUP(#REF!,'Points Lookup'!$A:$B,2,FALSE)","v":{"$error":"#REF!"}},{"$f":"VLOOKUP(#REF!,'Points Lookup'!$A:$B,2,FALSE)","v":{"$error":"#REF!"}},{"$f":"VLOOKUP(#REF!,'Points Lookup'!$A:$B,2,FALSE)","v":{"$error":"#REF!"}},{"$f":"VLOOKUP(#REF!,'Points Lookup'!$A:$B,2,FALSE)","v":{"$error":"#REF!"}},{"$f":"VLOOKUP(#REF!,'Points Lookup'!$A:$B,2,FALSE)","v":{"$error":"#REF!"}},null,{"$f":"LARGE($E292:$X292,Z$1)","v":{"$error":"#REF!"}},{"$error":"#REF!"},{"$error":"#REF!"},{"$error":"#REF!"},{"$error":"#REF!"},{"$error":"#REF!"},{"$error":"#REF!"},{"$error":"#REF!"}]
[{"$error":"#REF!"},{"$f":"#REF!","v":{"$error":"#REF!"}},{"$f":"IF(ISBLANK(#REF!),\"\",#REF!)","v":{"$error":"#REF!"}},{"$error":"#REF!"},{"$f":"VLOOKUP(#REF!,'Points Lookup'!$A:$B,2,FALSE)","v":{"$error":"#REF!"}},{"$f":"VLOOKUP(#REF!,'Points Lookup'!$A:$B,2,FALSE)","v":{"$error":"#REF!"}},{"$f":"VLOOKUP(#REF!,'Points Lookup'!$A:$B,2,FALSE)","v":{"$error":"#REF!"}},{"$f":"VLOOKUP(#REF!,'Points Lookup'!$A:$B,2,FALSE)","v":{"$error":"#REF!"}},{"$f":"VLOOKUP(#REF!,'Points Lookup'!$A:$B,2,FALSE)","v":{"$error":"#REF!"}},{"$f":"VLOOKUP(#REF!,'Points Lookup'!$A:$B,2,FALSE)","v":{"$error":"#REF!"}},{"$f":"VLOOKUP(#REF!,'Points Lookup'!$A:$B,2,FALSE)","v":{"$error":"#REF!"}},{"$f":"VLOOKUP(#REF!,'Points Lookup'!$A:$B,2,FALSE)","v":{"$error":"#REF!"}},{"$f":"VLOOKUP(#REF!,'Points Lookup'!$A:$B,2,FALSE)","v":{"$error":"#REF!"}},{"$f":"VLOOKUP(#REF!,'Points Lookup'!$A:$B,2,FALSE)","v":{"$error":"#REF!"}},{"$f":"VLOOKUP(#REF!,'Points Lookup'!$A:$B,2,FALSE)","v":{"$error":"#REF!"}},{"$f":"VLOOKUP(#REF!,'Points Lookup'!$A:$B,2,FALSE)","v":{"$error":"#REF!"}},{"$f":"VLOOKUP(#REF!,'Points Lookup'!$A:$B,2,FALSE)","v":{"$error":"#REF!"}},{"$f":"VLOOKUP(#REF!,'Points Lookup'!$A:$B,2,FALSE)","v":{"$error":"#REF!"}},{"$f":"VLOOKUP(#REF!,'Points Lookup'!$A:$B,2,FALSE)","v":{"$error":"#REF!"}},{"$f":"VLOOKUP(#REF!,'Points Lookup'!$A:$B,2,FALSE)","v":{"$error":"#REF!"}},{"$f":"VLOOKUP(#REF!,'Points Lookup'!$A:$B,2,FALSE)","v":{"$error":"#REF!"}},{"$f":"VLOOKUP(#REF!,'Points Lookup'!$A:$B,2,FALSE)","v":{"$error":"#REF!"}},{"$f":"VLOOKUP(#REF!,'Points Lookup'!$A:$B,2,FALSE)","v":{"$error":"#REF!"}},{"$f":"VLOOKUP(#REF!,'Points Lookup'!$A:$B,2,FALSE)","v":{"$error":"#REF!"}},null,{"$error":"#REF!"},{"$error":"#REF!"},{"$error":"#REF!"},{"$error":"#REF!"},{"$error":"#REF!"},{"$error":"#REF!"},{"$error":"#REF!"},{"$error":"#REF!"}]
[{"$error":"#REF!"},{"$f":"#REF!","v":{"$error":"#REF!"}},{"$f":"IF(ISBLANK(#REF!),\"\",#REF!)","v":{"$error":"#REF!"}},{"$error":"#REF!"},{"$f":"VLOOKUP(#REF!,'Points Lookup'!$A:$B,2,FALSE)","v":{"$error":"#REF!"}},{"$f":"VLOOKUP(#REF!,'Points Lookup'!$A:$B,2,FALSE)","v":{"$error":"#REF!"}},{"$f":"VLOOKUP(#REF!,'Points Lookup'!$A:$B,2,FALSE)","v":{"$error":"#REF!"}},{"$f":"VLOOKUP(#REF!,'Points Lookup'!$A:$B,2,FALSE)","v":{"$error":"#REF!"}},{"$f":"VLOOKUP(#REF!,'Points Lookup'!$A:$B,2,FALSE)","v":{"$error":"#REF!"}},{"$f":"VLOOKUP(#REF!,'Points Lookup'!$A:$B,2,FALSE)","v":{"$error":"#REF!"}},{"$f":"VLOOKUP(#REF!,'Points Lookup'!$A:$B,2,FALSE)","v":{"$error":"#REF!"}},{"$f":"VLOOKUP(#REF!,'Points Lookup'!$A:$B,2,FALSE)","v":{"$error":"#REF!"}},{"$f":"VLOOKUP(#REF!,'Points Lookup'!$A:$B,2,FALSE)","v":{"$error":"#REF!"}},{"$f":"VLOOKUP(#REF!,'Points Lookup'!$A:$B,2,FALSE)","v":{"$error":"#REF!"}},{"$f":"VLOOKUP(#REF!,'Points Lookup'!$A:$B,2,FALSE)","v":{"$error":"#REF!"}},{"$f":"VLOOKUP(#REF!,'Points Lookup'!$A:$B,2,FALSE)","v":{"$error":"#REF!"}},{"$f":"VLOOKUP(#REF!,'Points Lookup'!$A:$B,2,FALSE)","v":{"$error":"#REF!"}},{"$f":"VLOOKUP(#REF!,'Points Lookup'!$A:$B,2,FALSE)","v":{"$error":"#REF!"}},{"$f":"VLOOKUP(#REF!,'Points Lookup'!$A:$B,2,FALSE)","v":{"$error":"#REF!"}},{"$f":"VLOOKUP(#REF!,'Points Lookup'!$A:$B,2,FALSE)","v":{"$error":"#REF!"}},{"$f":"VLOOKUP(#REF!,'Points Lookup'!$A:$B,2,FALSE)","v":{"$error":"#REF!"}},{"$f":"VLOOKUP(#REF!,'Points Lookup'!$A:$B,2,FALSE)","v":{"$error":"#REF!"}},{"$f":"VLOOKUP(#REF!,'Points Lookup'!$A:$B,2,FALSE)","v":{"$error":"#REF!"}},{"$f":"VLOOKUP(#REF!,'Points Lookup'!$A:$B,2,FALSE)","v":{"$error":"#REF!"}},null,{"$error":"#REF!"},{"$error":"#REF!"},{"$error":"#REF!"},{"$error":"#REF!"},{"$error":"#REF!"},{"$error":"#REF!"},{"$error":"#REF!"},{"$error":"#REF!"}]
[{"$error":"#REF!"},{"$f":"#REF!","v":{"$error":"#REF!"}},{"$f":"IF(ISBLANK(#REF!),\"\",#REF!)","v":{"$error":"#REF!"}},{"$error":"#REF!"},{"$f":"VLOOKUP(#REF!,'Points Lookup'!$A:$B,2,FALSE)","v":{"$error":"#REF!"}},{"$f":"VLOOKUP(#REF!,'Points Lookup'!$A:$B,2,FALSE)","v":{"$error":"#REF!"}},{"$f":"VLOOKUP(#REF!,'Points Lookup'!$A:$B,2,FALSE)","v":{"$error":"#REF!"}},{"$f":"VLOOKUP(#REF!,'Points Lookup'!$A:$B,2,FALSE)","v":{"$error":"#REF!"}},{"$f":"VLOOKUP(#REF!,'Points Lookup'!$A:$B,2,FALSE)","v":{"$error":"#REF!"}},{"$f":"VLOOKUP(#REF!,'Points Lookup'!$A:$B,2,FALSE)","v":{"$error":"#REF!"}},{"$f":"VLOOKUP(#REF!,'Points Lookup'!$A:$B,2,FALSE)","v":{"$error":"#REF!"}},{"$f":"VLOOKUP(#REF!,'Points Lookup'!$A:$B,2,FALSE)","v":{"$error":"#REF!"}},{"$f":"VLOOKUP(#REF!,'Points Lookup'!$A:$B,2,FALSE)","v":{"$error":"#REF!"}},{"$f":"VLOOKUP(#REF!,'Points Lookup'!$A:$B,2,FALSE)","v":{"$error":"#REF!"}},{"$f":"VLOOKUP(#REF!,'Points Lookup'!$A:$B,2,FALSE)","v":{"$error":"#REF!"}},{"$f":"VLOOKUP(#REF!,'Points Lookup'!$A:$B,2,FALSE)","v":{"$error":"#REF!"}},{"$f":"VLOOKUP(#REF!,'Points Lookup'!$A:$B,2,FALSE)","v":{"$error":"#REF!"}},{"$f":"VLOOKUP(#REF!,'Points Lookup'!$A:$B,2,FALSE)","v":{"$error":"#REF!"}},{"$f":"VLOOKUP(#REF!,'Points Lookup'!$A:$B,2,FALSE)","v":{"$error":"#REF!"}},{"$f":"VLOOKUP(#REF!,'Points Lookup'!$A:$B,2,FALSE)","v":{"$error":"#REF!"}},{"$f":"VLOOKUP(#REF!,'Points Lookup'!$A:$B,2,FALSE)","v":{"$error":"#REF!"}},{"$f":"VLOOKUP(#REF!,'Points Lookup'!$A:$B,2,FALSE)","v":{"$error":"#REF!"}},{"$f":"VLOOKUP(#REF!,'Points Lookup'!$A:$B,2,FALSE)","v":{"$error":"#REF!"}},{"$f":"VLOOKUP(#REF!,'Points Lookup'!$A:$B,2,FALSE)","v":{"$error":"#REF!"}},null,{"$error":"#REF!"},{"$error":"#REF!"},{"$error":"#REF!"},{"$error":"#REF!"},{"$error":"#REF!"},{"$error":"#REF!"},{"$error":"#REF!"},{"$error":"#REF!"}]
[{"$error":"#REF!"},{"$f":"#REF!","v":{"$error":"#REF!"}},{"$f":"IF(ISBLANK(#REF!),\"\",#REF!)","v":{"$error":"#REF!"}},{"$error":"#REF!"},{"$f":"VLOOKUP(#REF!,'Points Lookup'!$A:$B,2,FALSE)","v":{"$error":"#REF!"}},{"$f":"VLOOKUP(#REF!,'Points Lookup'!$A:$B,2,FALSE)","v":{"$error":"#REF!"}},{"$f":"VLOOKUP(#REF!,'Points Lookup'!$A:$B,2,FALSE)","v":{"$error":"#REF!"}},{"$f":"VLOOKUP(#REF!,'Points Lookup'!$A:$B,2,FALSE)","v":{"$error":"#REF!"}},{"$f":"VLOOKUP(#REF!,'Points Lookup'!$A:$B,2,FALSE)","v":{"$error":"#REF!"}},{"$f":"VLOOKUP(#REF!,'Points Lookup'!$A:$B,2,FALSE)","v":{"$error":"#REF!"}},{"$f":"VLOOKUP(#REF!,'Points Lookup'!$A:$B,2,FALSE)","v":{"$error":"#REF!"}},{"$f":"VLOOKUP(#REF!,'Points Lookup'!$A:$B,2,FALSE)","v":{"$error":"#REF!"}},{"$f":"VLOOKUP(#REF!,'Points Lookup'!$A:$B,2,FALSE)","v":{"$error":"#REF!"}},{"$f":"VLOOKUP(#REF!,'Points Lookup'!$A:$B,2,FALSE)","v":{"$error":"#REF!"}},{"$f":"VLOOKUP(#REF!,'Points Lookup'!$A:$B,2,FALSE)","v":{"$error":"#REF!"}},{"$f":"VLOOKUP(#REF!,'Points Lookup'!$A:$B,2,FALSE)","v":{"$error":"#REF!"}},{"$f":"VLOOKUP(#REF!,'Points Lookup'!$A:$B,2,FALSE)","v":{"$error":"#REF!"}},{"$f":"VLOOKUP(#REF!,'Points Lookup'!$A:$B,2,FALSE)","v":{"$error":"#REF!"}},{"$f":"VLOOKUP(#REF!,'Points Lookup'!$A:$B,2,FALSE)","v":{"$error":"#REF!"}},{"$f":"VLOOKUP(#REF!,'Points Lookup'!$A:$B,2,FALSE)","v":{"$error":"#REF!"}},{"$f":"VLOOKUP(#REF!,'Points Lookup'!$A:$B,2,FALSE)","v":{"$error":"#REF!"}},{"$f":"VLOOKUP(#REF!,'Points Lookup'!$A:$B,2,FALSE)","v":{"$error":"#REF!"}},{"$f":"VLOOKUP(#REF!,'Points Lookup'!$A:$B,2,FALSE)","v":{"$error":"#REF!"}},{"$f":"VLOOKUP(#REF!,'Points Lookup'!$A:$B,2,FALSE)","v":{"$error":"#REF!"}},null,{"$error":"#REF!"},{"$error":"#REF!"},{"$error":"#REF!"},{"$error":"#REF!"},{"$error":"#REF!"},{"$error":"#REF!"},{"$error":"#REF!"},{"$error":"#REF!"}]
[{"$error":"#REF!"},{"$f":"#REF!","v":{"$error":"#REF!"}},{"$f":"IF(ISBLANK(#REF!),\"\",#REF!)","v":{"$error":"#REF!"}},{"$error":"#REF!"},{"$f":"VLOOKUP(#REF!,'Points Lookup'!$A:$B,2,FALSE)","v":{"$error":"#REF!"}},{"$f":"VLOOKUP(#REF!,'Points Lookup'!$A:$B,2,FALSE)","v":{"$error":"#REF!"}},{"$f":"VLOOKUP(#REF!,'Points Lookup'!$A:$B,2,FALSE)","v":{"$error":"#REF!"}},{"$f":"VLOOKUP(#REF!,'Points Lookup'!$A:$B,2,FALSE)","v":{"$error":"#REF!"}},{"$f":"VLOOKUP(#REF!,'Points Lookup'!$A:$B,2,FALSE)","v":{"$error":"#REF!"}},{"$f":"VLOOKUP(#REF!,'Points Lookup'!$A:$B,2,FALSE)","v":{"$error":"#REF!"}},{"$f":"VLOOKUP(#REF!,'Points Lookup'!$A:$B,2,FALSE)","v":{"$error":"#REF!"}},{"$f":"VLOOKUP(#REF!,'Points Lookup'!$A:$B,2,FALSE)","v":{"$error":"#REF!"}},{"$f":"VLOOKUP(#REF!,'Points Lookup'!$A:$B,2,FALSE)","v":{"$error":"#REF!"}},{"$f":"VLOOKUP(#REF!,'Points Lookup'!$A:$B,2,FALSE)","v":{"$error":"#REF!"}},{"$f":"VLOOKUP(#REF!,'Points Lookup'!$A:$B,2,FALSE)","v":{"$error":"#REF!"}},{"$f":"VLOOKUP(#REF!,'Points Lookup'!$A:$B,2,FALSE)","v":{"$error":"#REF!"}},{"$f":"VLOOKUP(#REF!,'Points Lookup'!$A:$B,2,FALSE)","v":{"$error":"#REF!"}},{"$f":"VLOOKUP(#REF!,'Points Lookup'!$A:$B,2,FALSE)","v":{"$error":"#REF!"}},{"$f":"VLOOKUP(#REF!,'Points Lookup'!$A:$B,2,FALSE)","v":{"$error":"#REF!"}},{"$f":"VLOOKUP(#REF!,'Points Lookup'!$A:$B,2,FALSE)","v":{"$error":"#REF!"}},{"$f":"VLOOKUP(#REF!,'Points Lookup'!$A:$B,2,FALSE)","v":{"$error":"#REF!"}},{"$f":"VLOOKUP(#REF!,'Points Lookup'!$A:$B,2,FALSE)","v":{"$error":"#REF!"}},{"$f":"VLOOKUP(#REF!,'Points Lookup'!$A:$B,2,FALSE)","v":{"$error":"#REF!"}},{"$f":"VLOOKUP(#REF!,'Points Lookup'!$A:$B,2,FALSE)","v":{"$error":"#REF!"}},null,{"$error":"#REF!"},{"$error":"#REF!"},{"$error":"#REF!"},{"$error":"#REF!"},{"$error":"#REF!"},{"$error":"#REF!"},{"$error":"#REF!"},{"$error":"#REF!"}]
[{"$error":"#REF!"},{"$f":"#REF!","v":{"$error":"#REF!"}},{"$f":"IF(ISBLANK(#REF!),\"\",#REF!)","v":{"$error":"#REF!"}},{"$error":"#REF!"},{"$f":"VLOOKUP(#REF!,'Points Lookup'!$A:$B,2,FALSE)","v":{"$error":"#REF!"}},{"$f":"VLOOKUP(#REF!,'Points Lookup'!$A:$B,2,FALSE)","v":{"$error":"#REF!"}},{"$f":"VLOOKUP(#REF!,'Points Lookup'!$A:$B,2,FALSE)","v":{"$error":"#REF!"}},{"$f":"VLOOKUP(#REF!,'Points Lookup'!$A:$B,2,FALSE)","v":{"$error":"#REF!"}},{"$f":"VLOOKUP(#REF!,'Points Lookup'!$A:$B,2,FALSE)","v":{"$error":"#REF!"}},{"$f":"VLOOKUP(#REF!,'Points Lookup'!$A:$B,2,FALSE)","v":{"$error":"#REF!"}},{"$f":"VLOOKUP(#REF!,'Points Lookup'!$A:$B,2,FALSE)","v":{"$error":"#REF!"}},{"$f":"VLOOKUP(#REF!,'Points Lookup'!$A:$B,2,FALSE)","v":{"$error":"#REF!"}},{"$f":"VLOOKUP(#REF!,'Points Lookup'!$A:$B,2,FALSE)","v":{"$error":"#REF!"}},{"$f":"VLOOKUP(#REF!,'Points Lookup'!$A:$B,2,FALSE)","v":{"$error":"#REF!"}},{"$f":"VLOOKUP(#REF!,'Points Lookup'!$A:$B,2,FALSE)","v":{"$error":"#REF!"}},{"$f":"VLOOKUP(#REF!,'Points Lookup'!$A:$B,2,FALSE)","v":{"$error":"#REF!"}},{"$f":"VLOOKUP(#REF!,'Points Lookup'!$A:$B,2,FALSE)","v":{"$error":"#REF!"}},{"$f":"VLOOKUP(#REF!,'Points Lookup'!$A:$B,2,FALSE)","v":{"$error":"#REF!"}},{"$f":"VLOOKUP(#REF!,'Points Lookup'!$A:$B,2,FALSE)","v":{"$error":"#REF!"}},{"$f":"VLOOKUP(#REF!,'Points Lookup'!$A:$B,2,FALSE)","v":{"$error":"#REF!"}},{"$f":"VLOOKUP(#REF!,'Points Lookup'!$A:$B,2,FALSE)","v":{"$error":"#REF!"}},{"$f":"VLOOKUP(#REF!,'Points Lookup'!$A:$B,2,FALSE)","v":{"$error":"#REF!"}},{"$f":"VLOOKUP(#REF!,'Points Lookup'!$A:$B,2,FALSE)","v":{"$error":"#REF!"}},{"$f":"VLOOKUP(#REF!,'Points Lookup'!$A:$B,2,FALSE)","v":{"$error":"#REF!"}},null,{"$error":"#REF!"},{"$error":"#REF!"},{"$error":"#REF!"},{"$error":"#REF!"},{"$error":"#REF!"},{"$error":"#REF!"},{"$error":"#REF!"},{"$error":"#REF!"}]
[{"$error":"#REF!"},{"$f":"#REF!","v":{"$error":"#REF!"}},{"$f":"IF(ISBLANK(#REF!),\"\",#REF!)","v":{"$error":"#REF!"}},{"$error":"#REF!"},{"$f":"VLOOKUP(#REF!,'Points Lookup'!$A:$B,2,FALSE)","v":{"$error":"#REF!"}},{"$f":"VLOOKUP(#REF!,'Points Lookup'!$A:$B,2,FALSE)","v":{"$error":"#REF!"}},{"$f":"VLOOKUP(#REF!,'Points Lookup'!$A:$B,2,FALSE)","v":{"$error":"#REF!"}},{"$f":"VLOOKUP(#REF!,'Points Lookup'!$A:$B,2,FALSE)","v":{"$error":"#REF!"}},{"$f":"VLOOKUP(#REF!,'Points Lookup'!$A:$B,2,FALSE)","v":{"$error":"#REF!"}},{"$f":"VLOOKUP(#REF!,'Points Lookup'!$A:$B,2,FALSE)","v":{"$error":"#REF!"}},{"$f":"VLOOKUP(#REF!,'Points Lookup'!$A:$B,2,FALSE)","v":{"$error":"#REF!"}},{"$f":"VLOOKUP(#REF!,'Points Lookup'!$A:$B,2,FALSE)","v":{"$error":"#REF!"}},{"$f":"VLOOKUP(#REF!,'Points Lookup'!$A:$B,2,FALSE)","v":{"$error":"#REF!"}},{"$f":"VLOOKUP(#REF!,'Points Lookup'!$A:$B,2,FALSE)","v":{"$error":"#REF!"}},{"$f":"VLOOKUP(#REF!,'Points Lookup'!$A:$B,2,FALSE)","v":{"$error":"#REF!"}},{"$f":"VLOOKUP(#REF!,'Points Lookup'!$A:$B,2,FALSE)","v":{"$error":"#REF!"}},{"$f":"VLOOKUP(#REF!,'Points Lookup'!$A:$B,2,FALSE)","v":{"$error":"#REF!"}},{"$f":"VLOOKUP(#REF!,'Points Lookup'!$A:$B,2,FALSE)","v":{"$error":"#REF!"}},{"$f":"VLOOKUP(#REF!,'Points Lookup'!$A:$B,2,FALSE)","v":{"$error":"#REF!"}},{"$f":"VLOOKUP(#REF!,'Points Lookup'!$A:$B,2,FALSE)","v":{"$error":"#REF!"}},{"$f":"VLOOKUP(#REF!,'Points Lookup'!$A:$B,2,FALSE)","v":{"$error":"#REF!"}},{"$f":"VLOOKUP(#REF!,'Points Lookup'!$A:$B,2,FALSE)","v":{"$error":"#REF!"}},{"$f":"VLOOKUP(#REF!,'Points Lookup'!$A:$B,2,FALSE)","v":{"$error":"#REF!"}},{"$f":"VLOOKUP(#REF!,'Points Lookup'!$A:$B,2,FALSE)","v":{"$error":"#REF!"}},null,{"$error":"#REF!"},{"$error":"#REF!"},{"$error":"#REF!"},{"$error":"#REF!"},{"$error":"#REF!"},{"$error":"#REF!"},{"$error":"#REF!"},{"$error":"#REF!"}]
[{"$error":"#REF!"},{"$f":"#REF!","v":{"$error":"#REF!"}},{"$f":"IF(ISBLANK(#REF!),\"\",#REF!)","v":{"$error":"#REF!"}},{"$error":"#REF!"},{"$f":"VLOOKUP(#REF!,'Points Lookup'!$A:$B,2,FALSE)","v":{"$error":"#REF!"}},{"$f":"VLOOKUP(#REF!,'Points Lookup'!$A:$B,2,FALSE)","v":{"$error":"#REF!"}},{"$f":"VLOOKUP(#REF!,'Points Lookup'!$A:$B,2,FALSE)","v":{"$error":"#REF!"}},{"$f":"VLOOKUP(#REF!,'Points Lookup'!$A:$B,2,FALSE)","v":{"$error":"#REF!"}},{"$f":"VLOOKUP(#REF!,'Points Lookup'!$A:$B,2,FALSE)","v":{"$error":"#REF!"}},{"$f":"VLOOKUP(#REF!,'Points Lookup'!$A:$B,2,FALSE)","v":{"$error":"#REF!"}},{"$f":"VLOOKUP(#REF!,'Points Lookup'!$A:$B,2,FALSE)","v":{"$error":"#REF!"}},{"$f":"VLOOKUP(#REF!,'Points Lookup'!$A:$B,2,FALSE)","v":{"$error":"#REF!"}},{"$f":"VLOOKUP(#REF!,'Points Lookup'!$A:$B,2,FALSE)","v":{"$error":"#REF!"}},{"$f":"VLOOKUP(#REF!,'Points Lookup'!$A:$B,2,FALSE)","v":{"$error":"#REF!"}},{"$f":"VLOOKUP(#REF!,'Points Lookup'!$A:$B,2,FALSE)","v":{"$error":"#REF!"}},{"$f":"VLOOKUP(#REF!,'Points Lookup'!$A:$B,2,FALSE)","v":{"$error":"#REF!"}},{"$f":"VLOOKUP(#REF!,'Points Lookup'!$A:$B,2,FALSE)","v":{"$error":"#REF!"}},{"$f":"VLOOKUP(#REF!,'Points Lookup'!$A:$B,2,FALSE)","v":{"$error":"#REF!"}},{"$f":"VLOOKUP(#REF!,'Points Lookup'!$A:$B,2,FALSE)","v":{"$error":"#REF!"}},{"$f":"VLOOKUP(#REF!,'Points Lookup'!$A:$B,2,FALSE)","v":{"$error":"#REF!"}},{"$f":"VLOOKUP(#REF!,'Points Lookup'!$A:$B,2,FALSE)","v":{"$error":"#REF!"}},{"$f":"VLOOKUP(#REF!,'Points Lookup'!$A:$B,2,FALSE)","v":{"$error":"#REF!"}},{"$f":"VLOOKUP(#REF!,'Points Lookup'!$A:$B,2,FALSE)","v":{"$error":"#REF!"}},{"$f":"VLOOKUP(#REF!,'Points Lookup'!$A:$B,2,FALSE)","v":{"$error":"#REF!"}},null,{"$error":"#REF!"},{"$error":"#REF!"},{"$error":"#REF!"},{"$error":"#REF!"},{"$error":"#REF!"},{"$error":"#REF!"},{"$error":"#REF!"},{"$error":"#REF!"}]
[{"$f":"RANK(D301,D:D)","v":{"$error":"#REF!"}},{"$f":"#REF!","v":{"$error":"#REF!"}},{"$f":"IF(ISBLANK(#REF!),\"\",#REF!)","v":{"$error":"#REF!"}},{"$f":"SUM(Z301:AG301)","v":{"$error":"#REF!"}},{"$f":"VLOOKUP(#REF!,'Points Lookup'!$A:$B,2,FALSE)","v":{"$error":"#REF!"}},{"$f":"VLOOKUP(#REF!,'Points Lookup'!$A:$B,2,FALSE)","v":{"$error":"#REF!"}},{"$f":"VLOOKUP(#REF!,'Points Lookup'!$A:$B,2,FALSE)","v":{"$error":"#REF!"}},{"$f":"VLOOKUP(#REF!,'Points Lookup'!$A:$B,2,FALSE)","v":{"$error":"#REF!"}},{"$f":"VLOOKUP(#REF!,'Points Lookup'!$A:$B,2,FALSE)","v":{"$error":"#REF!"}},{"$f":"VLOOKUP(#REF!,'Points Lookup'!$A:$B,2,FALSE)","v":{"$error":"#REF!"}},{"$f":"VLOOKUP(#REF!,'Points Lookup'!$A:$B,2,FALSE)","v":{"$error":"#REF!"}},{"$f":"VLOOKUP(#REF!,'Points Lookup'!$A:$B,2,FALSE)","v":{"$error":"#REF!"}},{"$f":"VLOOKUP(#REF!,'Points Lookup'!$A:$B,2,FALSE)","v":{"$error":"#REF!"}},{"$f":"VLOOKUP(#REF!,'Points Lookup'!$A:$B,2,FALSE)","v":{"$error":"#REF!"}},{"$f":"VLOOKUP(#REF!,'Points Lookup'!$A:$B,2,FALSE)","v":{"$error":"#REF!"}},{"$f":"VLOOKUP(#REF!,'Points Lookup'!$A:$B,2,FALSE)","v":{"$error":"#REF!"}},{"$f":"VLOOKUP(#REF!,'Points Lookup'!$A:$B,2,FALSE)","v":{"$error":"#REF!"}},{"$f":"VLOOKUP(#REF!,'Points Lookup'!$A:$B,2,FALSE)","v":{"$error":"#REF!"}},{"$f":"VLOOKUP(#REF!,'Points Lookup'!$A:$B,2,FALSE)","v":{"$error":"#REF!"}},{"$f":"VLOOKUP(#REF!,'Points Lookup'!$A:$B,2,FALSE)","v":{"$error":"#REF!"}},{"$f":"VLOOKUP(#REF!,'Points Lookup'!$A:$B,2,FALSE)","v":{"$error":"#REF!"}},{"$f":"VLOOKUP(#REF!,'Points Lookup'!$A:$B,2,FALSE)","v":{"$error":"#REF!"}},{"$f":"VLOOKUP(#REF!,'Points Lookup'!$A:$B,2,FALSE)","v":{"$error":"#REF!"}},{"$f":"VLOOKUP(#REF!,'Points Lookup'!$A:$B,2,FALSE)","v":{"$error":"#REF!"}},null,{"$f":"LARGE($E301:$X301,Z$1)","v":{"$error":"#REF!"}},{"$error":"#REF!"},{"$error":"#REF!"},{"$error":"#REF!"},{"$error":"#REF!"},{"$error":"#REF!"},{"$error":"#REF!"},{"$error":"#REF!"}]
[{"$error":"#REF!"},{"$f":"#REF!","v":{"$error":"#REF!"}},{"$f":"IF(ISBLANK(#REF!),\"\",#REF!)","v":{"$error":"#REF!"}},{"$error":"#REF!"},{"$f":"VLOOKUP(#REF!,'Points Lookup'!$A:$B,2,FALSE)","v":{"$error":"#REF!"}},{"$f":"VLOOKUP(#REF!,'Points Lookup'!$A:$B,2,FALSE)","v":{"$error":"#REF!"}},{"$f":"VLOOKUP(#REF!,'Points Lookup'!$A:$B,2,FALSE)","v":{"$error":"#REF!"}},{"$f":"VLOOKUP(#REF!,'Points Lookup'!$A:$B,2,FALSE)","v":{"$error":"#REF!"}},{"$f":"VLOOKUP(#REF!,'Points Lookup'!$A:$B,2,FALSE)","v":{"$error":"#REF!"}},{"$f":"VLOOKUP(#REF!,'Points Lookup'!$A:$B,2,FALSE)","v":{"$error":"#REF!"}},{"$f":"VLOOKUP(#REF!,'Points Lookup'!$A:$B,2,FALSE)","v":{"$error":"#REF!"}},{"$f":"VLOOKUP(#REF!,'Points Lookup'!$A:$B,2,FALSE)","v":{"$error":"#REF!"}},{"$f":"VLOOKUP(#REF!,'Points Lookup'!$A:$B,2,FALSE)","v":{"$error":"#REF!"}},{"$f":"VLOOKUP(#REF!,'Points Lookup'!$A:$B,2,FALSE)","v":{"$error":"#REF!"}},{"$f":"VLOOKUP(#REF!,'Points Lookup'!$A:$B,2,FALSE)","v":{"$error":"#REF!"}},{"$f":"VLOOKUP(#REF!,'Points Lookup'!$A:$B,2,FALSE)","v":{"$error":"#REF!"}},{"$f":"VLOOKUP(#REF!,'Points Lookup'!$A:$B,2,FALSE)","v":{"$error":"#REF!"}},{"$f":"VLOOKUP(#REF!,'Points Lookup'!$A:$B,2,FALSE)","v":{"$error":"#REF!"}},{"$f":"VLOOKUP(#REF!,'Points Lookup'!$A:$B,2,FALSE)","v":{"$error":"#REF!"}},{"$f":"VLOOKUP(#REF!,'Points Lookup'!$A:$B,2,FALSE)","v":{"$error":"#REF!"}},{"$f":"VLOOKUP(#REF!,'Points Lookup'!$A:$B,2,FALSE)","v":{"$error":"#REF!"}},{"$f":"VLOOKUP(#REF!,'Points Lookup'!$A:$B,2,FALSE)","v":{"$error":"#REF!"}},{"$f":"VLOOKUP(#REF!,'Points Lookup'!$A:$B,2,FALSE)","v":{"$error":"#REF!"}},{"$f":"VLOOKUP(#REF!,'Points Lookup'!$A:$B,2,FALSE)","v":{"$error":"#REF!"}},null,{"$error":"#REF!"},{"$error":"#REF!"},{"$error":"#REF!"},{"$error":"#REF!"},{"$error":"#REF!"},{"$error":"#REF!"},{"$error":"#REF!"},{"$error":"#REF!"}]
[{"$error":"#REF!"},{"$f":"#REF!","v":{"$error":"#REF!"}},{"$f":"IF(ISBLANK(#REF!),\"\",#REF!)","v":{"$error":"#REF!"}},{"$error":"#REF!"},{"$f":"VLOOKUP(#REF!,'Points Lookup'!$A:$B,2,FALSE)","v":{"$error":"#REF!"}},{"$f":"VLOOKUP(#REF!,'Points Lookup'!$A:$B,2,FALSE)","v":{"$error":"#REF!"}},{"$f":"VLOOKUP(#REF!,'Points Lookup'!$A:$B,2,FALSE)","v":{"$error":"#REF!"}},{"$f":"VLOOKUP(#REF!,'Points Lookup'!$A:$B,2,FALSE)","v":{"$error":"#REF!"}},{"$f":"VLOOKUP(#REF!,'Points Lookup'!$A:$B,2,FALSE)","v":{"$error":"#REF!"}},{"$f":"VLOOKUP(#REF!,'Points Lookup'!$A:$B,2,FALSE)","v":{"$error":"#REF!"}},{"$f":"VLOOKUP(#REF!,'Points Lookup'!$A:$B,2,FALSE)","v":{"$error":"#REF!"}},{"$f":"VLOOKUP(#REF!,'Points Lookup'!$A:$B,2,FALSE)","v":{"$error":"#REF!"}},{"$f":"VLOOKUP(#REF!,'Points Lookup'!$A:$B,2,FALSE)","v":{"$error":"#REF!"}},{"$f":"VLOOKUP(#REF!,'Points Lookup'!$A:$B,2,FALSE)","v":{"$error":"#REF!"}},{"$f":"VLOOKUP(#REF!,'Points Lookup'!$A:$B,2,FALSE)","v":{"$error":"#REF!"}},{"$f":"VLOOKUP(#REF!,'Points Lookup'!$A:$B,2,FALSE)","v":{"$error":"#REF!"}},{"$f":"VLOOKUP(#REF!,'Points Lookup'!$A:$B,2,FALSE)","v":{"$error":"#REF!"}},{"$f":"VLOOKUP(#REF!,'Points Lookup'!$A:$B,2,FALSE)","v":{"$error":"#REF!"}},{"$f":"VLOOKUP(#REF!,'Points Lookup'!$A:$B,2,FALSE)","v":{"$error":"#REF!"}},{"$f":"VLOOKUP(#REF!,'Points Lookup'!$A:$B,2,FALSE)","v":{"$error":"#REF!"}},{"$f":"VLOOKUP(#REF!,'Points Lookup'!$A:$B,2,FALSE)","v":{"$error":"#REF!"}},{"$f":"VLOOKUP(#REF!,'Points Lookup'!$A:$B,2,FALSE)","v":{"$error":"#REF!"}},{"$f":"VLOOKUP(#REF!,'Points Lookup'!$A:$B,2,FALSE)","v":{"$error":"#REF!"}},{"$f":"VLOOKUP(#REF!,'Points Lookup'!$A:$B,2,FALSE)","v":{"$error":"#REF!"}},null,{"$error":"#REF!"},{"$error":"#REF!"},{"$error":"#REF!"},{"$error":"#REF!"},{"$error":"#REF!"},{"$error":"#REF!"},{"$error":"#REF!"},{"$error":"#REF!"}]
[{"$error":"#REF!"},{"$f":"#REF!","v":{"$error":"#REF!"}},{"$f":"IF(ISBLANK(#REF!),\"\",#REF!)","v":{"$error":"#REF!"}},{"$error":"#REF!"},{"$f":"VLOOKUP(#REF!,'Points Lookup'!$A:$B,2,FALSE)","v":{"$error":"#REF!"}},{"$f":"VLOOKUP(#REF!,'Points Lookup'!$A:$B,2,FALSE)","v":{"$error":"#REF!"}},{"$f":"VLOOKUP(#REF!,'Points Lookup'!$A:$B,2,FALSE)","v":{"$error":"#REF!"}},{"$f":"VLOOKUP(#REF!,'Points Lookup'!$A:$B,2,FALSE)","v":{"$error":"#REF!"}},{"$f":"VLOOKUP(#REF!,'Points Lookup'!$A:$B,2,FALSE)","v":{"$error":"#REF!"}},{"$f":"VLOOKUP(#REF!,'Points Lookup'!$A:$B,2,FALSE)","v":{"$error":"#REF!"}},{"$f":"VLOOKUP(#REF!,'Points Lookup'!$A:$B,2,FALSE)","v":{"$error":"#REF!"}},{"$f":"VLOOKUP(#REF!,'Points Lookup'!$A:$B,2,FALSE)","v":{"$error":"#REF!"}},{"$f":"VLOOKUP(#REF!,'Points Lookup'!$A:$B,2,FALSE)","v":{"$error":"#REF!"}},{"$f":"VLOOKUP(#REF!,'Points Lookup'!$A:$B,2,FALSE)","v":{"$error":"#REF!"}},{"$f":"VLOOKUP(#REF!,'Points Lookup'!$A:$B,2,FALSE)","v":{"$error":"#REF!"}},{"$f":"VLOOKUP(#REF!,'Points Lookup'!$A:$B,2,FALSE)","v":{"$error":"#REF!"}},{"$f":"VLOOKUP(#REF!,'Points Lookup'!$A:$B,2,FALSE)","v":{"$error":"#REF!"}},{"$f":"VLOOKUP(#REF!,'Points Lookup'!$A:$B,2,FALSE)","v":{"$error":"#REF!"}},{"$f":"VLOOKUP(#REF!,'Points Lookup'!$A:$B,2,FALSE)","v":{"$error":"#REF!"}},{"$f":"VLOOKUP(#REF!,'Points Lookup'!$A:$B,2,FALSE)","v":{"$error":"#REF!"}},{"$f":"VLOOKUP(#REF!,'Points Lookup'!$A:$B,2,FALSE)","v":{"$error":"#REF!"}},{"$f":"VLOOKUP(#REF!,'Points Lookup'!$A:$B,2,FALSE)","v":{"$error":"#REF!"}},{"$f":"VLOOKUP(#REF!,'Points Lookup'!$A:$B,2,FALSE)","v":{"$error":"#REF!"}},{"$f":"VLOOKUP(#REF!,'Points Lookup'!$A:$B,2,FALSE)","v":{"$error":"#REF!"}},null,{"$error":"#REF!"},{"$error":"#REF!"},{"$error":"#REF!"},{"$error":"#REF!"},{"$error":"#REF!"},{"$error":"#REF!"},{"$error":"#REF!"},{"$error":"#REF!"}]
[{"$error":"#REF!"},{"$f":"#REF!","v":{"$error":"#REF!"}},{"$f":"IF(ISBLANK(#REF!),\"\",#REF!)","v":{"$error":"#REF!"}},{"$error":"#REF!"},{"$f":"VLOOKUP(#REF!,'Points Lookup'!$A:$B,2,FALSE)","v":{"$error":"#REF!"}},{"$f":"VLOOKUP(#REF!,'Points Lookup'!$A:$B,2,FALSE)","v":{"$error":"#REF!"}},{"$f":"VLOOKUP(#REF!,'Points Lookup'!$A:$B,2,FALSE)","v":{"$error":"#REF!"}},{"$f":"VLOOKUP(#REF!,'Points Lookup'!$A:$B,2,FALSE)","v":{"$error":"#REF!"}},{"$f":"VLOOKUP(#REF!,'Points Lookup'!$A:$B,2,FALSE)","v":{"$error":"#REF!"}},{"$f":"VLOOKUP(#REF!,'Points Lookup'!$A:$B,2,FALSE)","v":{"$error":"#REF!"}},{"$f":"VLOOKUP(#REF!,'Points Lookup'!$A:$B,2,FALSE)","v":{"$error":"#REF!"}},{"$f":"VLOOKUP(#REF!,'Points Lookup'!$A:$B,2,FALSE)","v":{"$error":"#REF!"}},{"$f":"VLOOKUP(#REF!,'Points Lookup'!$A:$B,2,FALSE)","v":{"$error":"#REF!"}},{"$f":"VLOOKUP(#REF!,'Points Lookup'!$A:$B,2,FALSE)","v":{"$error":"#REF!"}},{"$f":"VLOOKUP(#REF!,'Points Lookup'!$A:$B,2,FALSE)","v":{"$error":"#REF!"}},{"$f":"VLOOKUP(#REF!,'Points Lookup'!$A:$B,2,FALSE)","v":{"$error":"#REF!"}},{"$f":"VLOOKUP(#REF!,'Points Lookup'!$A:$B,2,FALSE)","v":{"$error":"#REF!"}},{"$f":"VLOOKUP(#REF!,'Points Lookup'!$A:$B,2,FALSE)","v":{"$error":"#REF!"}},{"$f":"VLOOKUP(#REF!,'Points Lookup'!$A:$B,2,FALSE)","v":{"$error":"#REF!"}},{"$f":"VLOOKUP(#REF!,'Points Lookup'!$A:$B,2,FALSE)","v":{"$error":"#REF!"}},{"$f":"VLOOKUP(#REF!,'Points Lookup'!$A:$B,2,FALSE)","v":{"$error":"#REF!"}},{"$f":"VLOOKUP(#REF!,'Points Lookup'!$A:$B,2,FALSE)","v":{"$error":"#REF!"}},{"$f":"VLOOKUP(#REF!,'Points Lookup'!$A:$B,2,FALSE)","v":{"$error":"#REF!"}},{"$f":"VLOOKUP(#REF!,'Points Lookup'!$A:$B,2,FALSE)","v":{"$error":"#REF!"}},null,{"$error":"#REF!"},{"$error":"#REF!"},{"$error":"#REF!"},{"$error":"#REF!"},{"$error":"#REF!"},{"$error":"#REF!"},{"$error":"#REF!"},{"$error":"#REF!"}]
[{"$error":"#REF!"},{"$f":"#REF!","v":{"$error":"#REF!"}},{"$f":"IF(ISBLANK(#REF!),\"\",#REF!)","v":{"$error":"#REF!"}},{"$error":"#REF!"},{"$f":"VLOOKUP(#REF!,'Points Lookup'!$A:$B,2,FALSE)","v":{"$error":"#REF!"}},{"$f":"VLOOKUP(#REF!,'Points Lookup'!$A:$B,2,FALSE)","v":{"$error":"#REF!"}},{"$f":"VLOOKUP(#REF!,'Points Lookup'!$A:$B,2,FALSE)","v":{"$error":"#REF!"}},{"$f":"VLOOKUP(#REF!,'Points Lookup'!$A:$B,2,FALSE)","v":{"$error":"#REF!"}},{"$f":"VLOOKUP(#REF!,'Points Lookup'!$A:$B,2,FALSE)","v":{"$error":"#REF!"}},{"$f":"VLOOKUP(#REF!,'Points Lookup'!$A:$B,2,FALSE)","v":{"$error":"#REF!"}},{"$f":"VLOOKUP(#REF!,'Points Lookup'!$A:$B,2,FALSE)","v":{"$error":"#REF!"}},{"$f":"VLOOKUP(#REF!,'Points Lookup'!$A:$B,2,FALSE)","v":{"$error":"#REF!"}},{"$f":"VLOOKUP(#REF!,'Points Lookup'!$A:$B,2,FALSE)","v":{"$error":"#REF!"}},{"$f":"VLOOKUP(#REF!,'Points Lookup'!$A:$B,2,FALSE)","v":{"$error":"#REF!"}},{"$f":"VLOOKUP(#REF!,'Points Lookup'!$A:$B,2,FALSE)","v":{"$error":"#REF!"}},{"$f":"VLOOKUP(#REF!,'Points Lookup'!$A:$B,2,FALSE)","v":{"$error":"#REF!"}},{"$f":"VLOOKUP(#REF!,'Points Lookup'!$A:$B,2,FALSE)","v":{"$error":"#REF!"}},{"$f":"VLOOKUP(#REF!,'Points Lookup'!$A:$B,2,FALSE)","v":{"$error":"#REF!"}},{"$f":"VLOOKUP(#REF!,'Points Lookup'!$A:$B,2,FALSE)","v":{"$error":"#REF!"}},{"$f":"VLOOKUP(#REF!,'Points Lookup'!$A:$B,2,FALSE)","v":{"$error":"#REF!"}},{"$f":"VLOOKUP(#REF!,'Points Lookup'!$A:$B,2,FALSE)","v":{"$error":"#REF!"}},{"$f":"VLOOKUP(#REF!,'Points Lookup'!$A:$B,2,FALSE)","v":{"$error":"#REF!"}},{"$f":"VLOOKUP(#REF!,'Points Lookup'!$A:$B,2,FALSE)","v":{"$error":"#REF!"}},{"$f":"VLOOKUP(#REF!,'Points Lookup'!$A:$B,2,FALSE)","v":{"$error":"#REF!"}},null,{"$error":"#REF!"},{"$error":"#REF!"},{"$error":"#REF!"},{"$error":"#REF!"},{"$error":"#REF!"},{"$error":"#REF!"},{"$error":"#REF!"},{"$error":"#REF!"}]
[{"$error":"#REF!"},{"$f":"#REF!","v":{"$error":"#REF!"}},{"$f":"IF(ISBLANK(#REF!),\"\",#REF!)","v":{"$error":"#REF!"}},{"$error":"#REF!"},{"$f":"VLOOKUP(#REF!,'Points Lookup'!$A:$B,2,FALSE)","v":{"$error":"#REF!"}},{"$f":"VLOOKUP(#REF!,'Points Lookup'!$A:$B,2,FALSE)","v":{"$error":"#REF!"}},{"$f":"VLOOKUP(#REF!,'Points Lookup'!$A:$B,2,FALSE)","v":{"$error":"#REF!"}},{"$f":"VLOOKUP(#REF!,'Points Lookup'!$A:$B,2,FALSE)","v":{"$error":"#REF!"}},{"$f":"VLOOKUP(#REF!,'Points Lookup'!$A:$B,2,FALSE)","v":{"$error":"#REF!"}},{"$f":"VLOOKUP(#REF!,'Points Lookup'!$A:$B,2,FALSE)","v":{"$error":"#REF!"}},{"$f":"VLOOKUP(#REF!,'Points Lookup'!$A:$B,2,FALSE)","v":{"$error":"#REF!"}},{"$f":"VLOOKUP(#REF!,'Points Lookup'!$A:$B,2,FALSE)","v":{"$error":"#REF!"}},{"$f":"VLOOKUP(#REF!,'Points Lookup'!$A:$B,2,FALSE)","v":{"$error":"#REF!"}},{"$f":"VLOOKUP(#REF!,'Points Lookup'!$A:$B,2,FALSE)","v":{"$error":"#REF!"}},{"$f":"VLOOKUP(#REF!,'Points Lookup'!$A:$B,2,FALSE)","v":{"$error":"#REF!"}},{"$f":"VLOOKUP(#REF!,'Points Lookup'!$A:$B,2,FALSE)","v":{"$error":"#REF!"}},{"$f":"VLOOKUP(#REF!,'Points Lookup'!$A:$B,2,FALSE)","v":{"$error":"#REF!"}},{"$f":"VLOOKUP(#REF!,'Points Lookup'!$A:$B,2,FALSE)","v":{"$error":"#REF!"}},{"$f":"VLOOKUP(#REF!,'Points Lookup'!$A:$B,2,FALSE)","v":{"$error":"#REF!"}},{"$f":"VLOOKUP(#REF!,'Points Lookup'!$A:$B,2,FALSE)","v":{"$error":"#REF!"}},{"$f":"VLOOKUP(#REF!,'Points Lookup'!$A:$B,2,FALSE)","v":{"$error":"#REF!"}},{"$f":"VLOOKUP(#REF!,'Points Lookup'!$A:$B,2,FALSE)","v":{"$error":"#REF!"}},{"$f":"VLOOKUP(#REF!,'Points Lookup'!$A:$B,2,FALSE)","v":{"$error":"#REF!"}},{"$f":"VLOOKUP(#REF!,'Points Lookup'!$A:$B,2,FALSE)","v":{"$error":"#REF!"}},null,{"$error":"#REF!"},{"$error":"#REF!"},{"$error":"#REF!"},{"$error":"#REF!"},{"$error":"#REF!"},{"$error":"#REF!"},{"$error":"#REF!"},{"$error":"#REF!"}]
[{"$error":"#REF!"},{"$f":"#REF!","v":{"$error":"#REF!"}},{"$f":"IF(ISBLANK(#REF!),\"\",#REF!)","v":{"$error":"#REF!"}},{"$error":"#REF!"},{"$f":"VLOOKUP(#REF!,'Points Lookup'!$A:$B,2,FALSE)","v":{"$error":"#REF!"}},{"$f":"VLOOKUP(#REF!,'Points Lookup'!$A:$B,2,FALSE)","v":{"$error":"#REF!"}},{"$f":"VLOOKUP(#REF!,'Points Lookup'!$A:$B,2,FALSE)","v":{"$error":"#REF!"}},{"$f":"VLOOKUP(#REF!,'Points Lookup'!$A:$B,2,FALSE)","v":{"$error":"#REF!"}},{"$f":"VLOOKUP(#REF!,'Points Lookup'!$A:$B,2,FALSE)","v":{"$error":"#REF!"}},{"$f":"VLOOKUP(#REF!,'Points Lookup'!$A:$B,2,FALSE)","v":{"$error":"#REF!"}},{"$f":"VLOOKUP(#REF!,'Points Lookup'!$A:$B,2,FALSE)","v":{"$error":"#REF!"}},{"$f":"VLOOKUP(#REF!,'Points Lookup'!$A:$B,2,FALSE)","v":{"$error":"#REF!"}},{"$f":"VLOOKUP(#REF!,'Points Lookup'!$A:$B,2,FALSE)","v":{"$error":"#REF!"}},{"$f":"VLOOKUP(#REF!,'Points Lookup'!$A:$B,2,FALSE)","v":{"$error":"#REF!"}},{"$f":"VLOOKUP(#REF!,'Points Lookup'!$A:$B,2,FALSE)","v":{"$error":"#REF!"}},{"$f":"VLOOKUP(#REF!,'Points Lookup'!$A:$B,2,FALSE)","v":{"$error":"#REF!"}},{"$f":"VLOOKUP(#REF!,'Points Lookup'!$A:$B,2,FALSE)","v":{"$error":"#REF!"}},{"$f":"VLOOKUP(#REF!,'Points Lookup'!$A:$B,2,FALSE)","v":{"$error":"#REF!"}},{"$f":"VLOOKUP(#REF!,'Points Lookup'!$A:$B,2,FALSE)","v":{"$error":"#REF!"}},{"$f":"VLOOKUP(#REF!,'Points Lookup'!$A:$B,2,FALSE)","v":{"$error":"#REF!"}},{"$f":"VLOOKUP(#REF!,'Points Lookup'!$A:$B,2,FALSE)","v":{"$error":"#REF!"}},{"$f":"VLOOKUP(#REF!,'Points Lookup'!$A:$B,2,FALSE)","v":{"$error":"#REF!"}},{"$f":"VLOOKUP(#REF!,'Points Lookup'!$A:$B,2,FALSE)","v":{"$error":"#REF!"}},{"$f":"VLOOKUP(#REF!,'Points Lookup'!$A:$B,2,FALSE)","v":{"$error":"#REF!"}},null,{"$error":"#REF!"},{"$error":"#REF!"},{"$error":"#REF!"},{"$error":"#REF!"},{"$error":"#REF!"},{"$error":"#REF!"},{"$error":"#REF!"},{"$error":"#REF!"}]
[{"$error":"#REF!"},{"$f":"#REF!","v":{"$error":"#REF!"}},{"$f":"IF(ISBLANK(#REF!),\"\",#REF!)","v":{"$error":"#REF!"}},{"$error":"#REF!"},{"$f":"VLOOKUP(#REF!,'Points Lookup'!$A:$B,2,FALSE)","v":{"$error":"#REF!"}},{"$f":"VLOOKUP(#REF!,'Points Lookup'!$A:$B,2,FALSE)","v":{"$error":"#REF!"}},{"$f":"VLOOKUP(#REF!,'Points Lookup'!$A:$B,2,FALSE)","v":{"$error":"#REF!"}},{"$f":"VLOOKUP(#REF!,'Points Lookup'!$A:$B,2,FALSE)","v":{"$error":"#REF!"}},{"$f":"VLOOKUP(#REF!,'Points Lookup'!$A:$B,2,FALSE)","v":{"$error":"#REF!"}},{"$f":"VLOOKUP(#REF!,'Points Lookup'!$A:$B,2,FALSE)","v":{"$error":"#REF!"}},{"$f":"VLOOKUP(#REF!,'Points Lookup'!$A:$B,2,FALSE)","v":{"$error":"#REF!"}},{"$f":"VLOOKUP(#REF!,'Points Lookup'!$A:$B,2,FALSE)","v":{"$error":"#REF!"}},{"$f":"VLOOKUP(#REF!,'Points Lookup'!$A:$B,2,FALSE)","v":{"$error":"#REF!"}},{"$f":"VLOOKUP(#REF!,'Points Lookup'!$A:$B,2,FALSE)","v":{"$error":"#REF!"}},{"$f":"VLOOKUP(#REF!,'Points Lookup'!$A:$B,2,FALSE)","v":{"$error":"#REF!"}},{"$f":"VLOOKUP(#REF!,'Points Lookup'!$A:$B,2,FALSE)","v":{"$error":"#REF!"}},{"$f":"VLOOKUP(#REF!,'Points Lookup'!$A:$B,2,FALSE)","v":{"$error":"#REF!"}},{"$f":"VLOOKUP(#REF!,'Points Lookup'!$A:$B,2,FALSE)","v":{"$error":"#REF!"}},{"$f":"VLOOKUP(#REF!,'Points Lookup'!$A:$B,2,FALSE)","v":{"$error":"#REF!"}},{"$f":"VLOOKUP(#REF!,'Points Lookup'!$A:$B,2,FALSE)","v":{"$error":"#REF!"}},{"$f":"VLOOKUP(#REF!,'Points Lookup'!$A:$B,2,FALSE)","v":{"$error":"#REF!"}},{"$f":"VLOOKUP(#REF!,'Points Lookup'!$A:$B,2,FALSE)","v":{"$error":"#REF!"}},{"$f":"VLOOKUP(#REF!,'Points Lookup'!$A:$B,2,FALSE)","v":{"$error":"#REF!"}},{"$f":"VLOOKUP(#REF!,'Points Lookup'!$A:$B,2,FALSE)","v":{"$error":"#REF!"}},null,{"$error":"#REF!"},{"$error":"#REF!"},{"$error":"#REF!"},{"$error":"#REF!"},{"$error":"#REF!"},{"$error":"#REF!"},{"$error":"#REF!"},{"$error":"#REF!"}]
[{"$error":"#REF!"},{"$f":"#REF!","v":{"$error":"#REF!"}},{"$f":"IF(ISBLANK(#REF!),\"\",#REF!)","v":{"$error":"#REF!"}},{"$error":"#REF!"},{"$f":"VLOOKUP(#REF!,'Points Lookup'!$A:$B,2,FALSE)","v":{"$error":"#REF!"}},{"$f":"VLOOKUP(#REF!,'Points Lookup'!$A:$B,2,FALSE)","v":{"$error":"#REF!"}},{"$f":"VLOOKUP(#REF!,'Points Lookup'!$A:$B,2,FALSE)","v":{"$error":"#REF!"}},{"$f":"VLOOKUP(#REF!,'Points Lookup'!$A:$B,2,FALSE)","v":{"$error":"#REF!"}},{"$f":"VLOOKUP(#REF!,'Points Lookup'!$A:$B,2,FALSE)","v":{"$error":"#REF!"}},{"$f":"VLOOKUP(#REF!,'Points Lookup'!$A:$B,2,FALSE)","v":{"$error":"#REF!"}},{"$f":"VLOOKUP(#REF!,'Points Lookup'!$A:$B,2,FALSE)","v":{"$error":"#REF!"}},{"$f":"VLOOKUP(#REF!,'Points Lookup'!$A:$B,2,FALSE)","v":{"$error":"#REF!"}},{"$f":"VLOOKUP(#REF!,'Points Lookup'!$A:$B,2,FALSE)","v":{"$error":"#REF!"}},{"$f":"VLOOKUP(#REF!,'Points Lookup'!$A:$B,2,FALSE)","v":{"$error":"#REF!"}},{"$f":"VLOOKUP(#REF!,'Points Lookup'!$A:$B,2,FALSE)","v":{"$error":"#REF!"}},{"$f":"VLOOKUP(#REF!,'Points Lookup'!$A:$B,2,FALSE)","v":{"$error":"#REF!"}},{"$f":"VLOOKUP(#REF!,'Points Lookup'!$A:$B,2,FALSE)","v":{"$error":"#REF!"}},{"$f":"VLOOKUP(#REF!,'Points Lookup'!$A:$B,2,FALSE)","v":{"$error":"#REF!"}},{"$f":"VLOOKUP(#REF!,'Points Lookup'!$A:$B,2,FALSE)","v":{"$error":"#REF!"}},{"$f":"VLOOKUP(#REF!,'Points Lookup'!$A:$B,2,FALSE)","v":{"$error":"#REF!"}},{"$f":"VLOOKUP(#REF!,'Points Lookup'!$A:$B,2,FALSE)","v":{"$error":"#REF!"}},{"$f":"VLOOKUP(#REF!,'Points Lookup'!$A:$B,2,FALSE)","v":{"$error":"#REF!"}},{"$f":"VLOOKUP(#REF!,'Points Lookup'!$A:$B,2,FALSE)","v":{"$error":"#REF!"}},{"$f":"VLOOKUP(#REF!,'Points Lookup'!$A:$B,2,FALSE)","v":{"$error":"#REF!"}},null,{"$error":"#REF!"},{"$error":"#REF!"},{"$error":"#REF!"},{"$error":"#REF!"},{"$error":"#REF!"},{"$error":"#REF!"},{"$error":"#REF!"},{"$error":"#REF!"}]
[{"$error":"#REF!"},{"$f":"#REF!","v":{"$error":"#REF!"}},{"$f":"IF(ISBLANK(#REF!),\"\",#REF!)","v":{"$error":"#REF!"}},{"$error":"#REF!"},{"$f":"VLOOKUP(#REF!,'Points Lookup'!$A:$B,2,FALSE)","v":{"$error":"#REF!"}},{"$f":"VLOOKUP(#REF!,'Points Lookup'!$A:$B,2,FALSE)","v":{"$error":"#REF!"}},{"$f":"VLOOKUP(#REF!,'Points Lookup'!$A:$B,2,FALSE)","v":{"$error":"#REF!"}},{"$f":"VLOOKUP(#REF!,'Points Lookup'!$A:$B,2,FALSE)","v":{"$error":"#REF!"}},{"$f":"VLOOKUP(#REF!,'Points Lookup'!$A:$B,2,FALSE)","v":{"$error":"#REF!"}},{"$f":"VLOOKUP(#REF!,'Points Lookup'!$A:$B,2,FALSE)","v":{"$error":"#REF!"}},{"$f":"VLOOKUP(#REF!,'Points Lookup'!$A:$B,2,FALSE)","v":{"$error":"#REF!"}},{"$f":"VLOOKUP(#REF!,'Points Lookup'!$A:$B,2,FALSE)","v":{"$error":"#REF!"}},{"$f":"VLOOKUP(#REF!,'Points Lookup'!$A:$B,2,FALSE)","v":{"$error":"#REF!"}},{"$f":"VLOOKUP(#REF!,'Points Lookup'!$A:$B,2,FALSE)","v":{"$error":"#REF!"}},{"$f":"VLOOKUP(#REF!,'Points Lookup'!$A:$B,2,FALSE)","v":{"$error":"#REF!"}},{"$f":"VLOOKUP(#REF!,'Points Lookup'!$A:$B,2,FALSE)","v":{"$error":"#REF!"}},{"$f":"VLOOKUP(#REF!,'Points Lookup'!$A:$B,2,FALSE)","v":{"$error":"#REF!"}},{"$f":"VLOOKUP(#REF!,'Points Lookup'!$A:$B,2,FALSE)","v":{"$error":"#REF!"}},{"$f":"VLOOKUP(#REF!,'Points Lookup'!$A:$B,2,FALSE)","v":{"$error":"#REF!"}},{"$f":"VLOOKUP(#REF!,'Points Lookup'!$A:$B,2,FALSE)","v":{"$error":"#REF!"}},{"$f":"VLOOKUP(#REF!,'Points Lookup'!$A:$B,2,FALSE)","v":{"$error":"#REF!"}},{"$f":"VLOOKUP(#REF!,'Points Lookup'!$A:$B,2,FALSE)","v":{"$error":"#REF!"}},{"$f":"VLOOKUP(#REF!,'Points Lookup'!$A:$B,2,FALSE)","v":{"$error":"#REF!"}},{"$f":"VLOOKUP(#REF!,'Points Lookup'!$A:$B,2,FALSE)","v":{"$error":"#REF!"}},null,{"$error":"#REF!"},{"$error":"#REF!"},{"$error":"#REF!"},{"$error":"#REF!"},{"$error":"#REF!"},{"$error":"#REF!"},{"$error":"#REF!"},{"$error":"#REF!"}]
[{"$error":"#REF!"},{"$f":"#REF!","v":{"$error":"#REF!"}},{"$f":"IF(ISBLANK(#REF!),\"\",#REF!)","v":{"$error":"#REF!"}},{"$error":"#REF!"},{"$f":"VLOOKUP(#REF!,'Points Lookup'!$A:$B,2,FALSE)","v":{"$error":"#REF!"}},{"$f":"VLOOKUP(#REF!,'Points Lookup'!$A:$B,2,FALSE)","v":{"$error":"#REF!"}},{"$f":"VLOOKUP(#REF!,'Points Lookup'!$A:$B,2,FALSE)","v":{"$error":"#REF!"}},{"$f":"VLOOKUP(#REF!,'Points Lookup'!$A:$B,2,FALSE)","v":{"$error":"#REF!"}},{"$f":"VLOOKUP(#REF!,'Points Lookup'!$A:$B,2,FALSE)","v":{"$error":"#REF!"}},{"$f":"VLOOKUP(#REF!,'Points Lookup'!$A:$B,2,FALSE)","v":{"$error":"#REF!"}},{"$f":"VLOOKUP(#REF!,'Points Lookup'!$A:$B,2,FALSE)","v":{"$error":"#REF!"}},{"$f":"VLOOKUP(#REF!,'Points Lookup'!$A:$B,2,FALSE)","v":{"$error":"#REF!"}},{"$f":"VLOOKUP(#REF!,'Points Lookup'!$A:$B,2,FALSE)","v":{"$error":"#REF!"}},{"$f":"VLOOKUP(#REF!,'Points Lookup'!$A:$B,2,FALSE)","v":{"$error":"#REF!"}},{"$f":"VLOOKUP(#REF!,'Points Lookup'!$A:$B,2,FALSE)","v":{"$error":"#REF!"}},{"$f":"VLOOKUP(#REF!,'Points Lookup'!$A:$B,2,FALSE)","v":{"$error":"#REF!"}},{"$f":"VLOOKUP(#REF!,'Points Lookup'!$A:$B,2,FALSE)","v":{"$error":"#REF!"}},{"$f":"VLOOKUP(#REF!,'Points Lookup'!$A:$B,2,FALSE)","v":{"$error":"#REF!"}},{"$f":"VLOOKUP(#REF!,'Points Lookup'!$A:$B,2,FALSE)","v":{"$error":"#REF!"}},{"$f":"VLOOKUP(#REF!,'Points Lookup'!$A:$B,2,FALSE)","v":{"$error":"#REF!"}},{"$f":"VLOOKUP(#REF!,'Points Lookup'!$A:$B,2,FALSE)","v":{"$error":"#REF!"}},{"$f":"VLOOKUP(#REF!,'Points Lookup'!$A:$B,2,FALSE)","v":{"$error":"#REF!"}},{"$f":"VLOOKUP(#REF!,'Points Lookup'!$A:$B,2,FALSE)","v":{"$error":"#REF!"}},{"$f":"VLOOKUP(#REF!,'Points Lookup'!$A:$B,2,FALSE)","v":{"$error":"#REF!"}},null,{"$error":"#REF!"},{"$error":"#REF!"},{"$error":"#REF!"},{"$error":"#REF!"},{"$error":"#REF!"},{"$error":"#REF!"},{"$error":"#REF!"},{"$error":"#REF!"}]
[{"$error":"#REF!"},{"$f":"#REF!","v":{"$error":"#REF!"}},{"$f":"IF(ISBLANK(#REF!),\"\",#REF!)","v":{"$error":"#REF!"}},{"$error":"#REF!"},{"$f":"VLOOKUP(#REF!,'Points Lookup'!$A:$B,2,FALSE)","v":{"$error":"#REF!"}},{"$f":"VLOOKUP(#REF!,'Points Lookup'!$A:$B,2,FALSE)","v":{"$error":"#REF!"}},{"$f":"VLOOKUP(#REF!,'Points Lookup'!$A:$B,2,FALSE)","v":{"$error":"#REF!"}},{"$f":"VLOOKUP(#REF!,'Points Lookup'!$A:$B,2,FALSE)","v":{"$error":"#REF!"}},{"$f":"VLOOKUP(#REF!,'Points Lookup'!$A:$B,2,FALSE)","v":{"$error":"#REF!"}},{"$f":"VLOOKUP(#REF!,'Points Lookup'!$A:$B,2,FALSE)","v":{"$error":"#REF!"}},{"$f":"VLOOKUP(#REF!,'Points Lookup'!$A:$B,2,FALSE)","v":{"$error":"#REF!"}},{"$f":"VLOOKUP(#REF!,'Points Lookup'!$A:$B,2,FALSE)","v":{"$error":"#REF!"}},{"$f":"VLOOKUP(#REF!,'Points Lookup'!$A:$B,2,FALSE)","v":{"$error":"#REF!"}},{"$f":"VLOOKUP(#REF!,'Points Lookup'!$A:$B,2,FALSE)","v":{"$error":"#REF!"}},{"$f":"VLOOKUP(#REF!,'Points Lookup'!$A:$B,2,FALSE)","v":{"$error":"#REF!"}},{"$f":"VLOOKUP(#REF!,'Points Lookup'!$A:$B,2,FALSE)","v":{"$error":"#REF!"}},{"$f":"VLOOKUP(#REF!,'Points Lookup'!$A:$B,2,FALSE)","v":{"$error":"#REF!"}},{"$f":"VLOOKUP(#REF!,'Points Lookup'!$A:$B,2,FALSE)","v":{"$error":"#REF!"}},{"$f":"VLOOKUP(#REF!,'Points Lookup'!$A:$B,2,FALSE)","v":{"$error":"#REF!"}},{"$f":"VLOOKUP(#REF!,'Points Lookup'!$A:$B,2,FALSE)","v":{"$error":"#REF!"}},{"$f":"VLOOKUP(#REF!,'Points Lookup'!$A:$B,2,FALSE)","v":{"$error":"#REF!"}},{"$f":"VLOOKUP(#REF!,'Points Lookup'!$A:$B,2,FALSE)","v":{"$error":"#REF!"}},{"$f":"VLOOKUP(#REF!,'Points Lookup'!$A:$B,2,FALSE)","v":{"$error":"#REF!"}},{"$f":"VLOOKUP(#REF!,'Points Lookup'!$A:$B,2,FALSE)","v":{"$error":"#REF!"}},null,{"$error":"#REF!"},{"$error":"#REF!"},{"$error":"#REF!"},{"$error":"#REF!"},{"$error":"#REF!"},{"$error":"#REF!"},{"$error":"#REF!"},{"$error":"#REF!"}]
[{"$error":"#REF!"},{"$f":"#REF!","v":{"$error":"#REF!"}},{"$f":"IF(ISBLANK(#REF!),\"\",#REF!)","v":{"$error":"#REF!"}},{"$error":"#REF!"},{"$f":"VLOOKUP(#REF!,'Points Lookup'!$A:$B,2,FALSE)","v":{"$error":"#REF!"}},{"$f":"VLOOKUP(#REF!,'Points Lookup'!$A:$B,2,FALSE)","v":{"$error":"#REF!"}},{"$f":"VLOOKUP(#REF!,'Points Lookup'!$A:$B,2,FALSE)","v":{"$error":"#REF!"}},{"$f":"VLOOKUP(#REF!,'Points Lookup'!$A:$B,2,FALSE)","v":{"$error":"#REF!"}},{"$f":"VLOOKUP(#REF!,'Points Lookup'!$A:$B,2,FALSE)","v":{"$error":"#REF!"}},{"$f":"VLOOKUP(#REF!,'Points Lookup'!$A:$B,2,FALSE)","v":{"$error":"#REF!"}},{"$f":"VLOOKUP(#REF!,'Points Lookup'!$A:$B,2,FALSE)","v":{"$error":"#REF!"}},{"$f":"VLOOKUP(#REF!,'Points Lookup'!$A:$B,2,FALSE)","v":{"$error":"#REF!"}},{"$f":"VLOOKUP(#REF!,'Points Lookup'!$A:$B,2,FALSE)","v":{"$error":"#REF!"}},{"$f":"VLOOKUP(#REF!,'Points Lookup'!$A:$B,2,FALSE)","v":{"$error":"#REF!"}},{"$f":"VLOOKUP(#REF!,'Points Lookup'!$A:$B,2,FALSE)","v":{"$error":"#REF!"}},{"$f":"VLOOKUP(#REF!,'Points Lookup'!$A:$B,2,FALSE)","v":{"$error":"#REF!"}},{"$f":"VLOOKUP(#REF!,'Points Lookup'!$A:$B,2,FALSE)","v":{"$error":"#REF!"}},{"$f":"VLOOKUP(#REF!,'Points Lookup'!$A:$B,2,FALSE)","v":{"$error":"#REF!"}},{"$f":"VLOOKUP(#REF!,'Points Lookup'!$A:$B,2,FALSE)","v":{"$error":"#REF!"}},{"$f":"VLOOKUP(#REF!,'Points Lookup'!$A:$B,2,FALSE)","v":{"$error":"#REF!"}},{"$f":"VLOOKUP(#REF!,'Points Lookup'!$A:$B,2,FALSE)","v":{"$error":"#REF!"}},{"$f":"VLOOKUP(#REF!,'Points Lookup'!$A:$B,2,FALSE)","v":{"$error":"#REF!"}},{"$f":"VLOOKUP(#REF!,'Points Lookup'!$A:$B,2,FALSE)","v":{"$error":"#REF!"}},{"$f":"VLOOKUP(#REF!,'Points Lookup'!$A:$B,2,FALSE)","v":{"$error":"#REF!"}},null,{"$error":"#REF!"},{"$error":"#REF!"},{"$error":"#REF!"},{"$error":"#REF!"},{"$error":"#REF!"},{"$error":"#REF!"},{"$error":"#REF!"},{"$error":"#REF!"}]
[{"$error":"#REF!"},{"$f":"#REF!","v":{"$error":"#REF!"}},{"$f":"IF(ISBLANK(#REF!),\"\",#REF!)","v":{"$error":"#REF!"}},{"$error":"#REF!"},{"$f":"VLOOKUP(#REF!,'Points Lookup'!$A:$B,2,FALSE)","v":{"$error":"#REF!"}},{"$f":"VLOOKUP(#REF!,'Points Lookup'!$A:$B,2,FALSE)","v":{"$error":"#REF!"}},{"$f":"VLOOKUP(#REF!,'Points Lookup'!$A:$B,2,FALSE)","v":{"$error":"#REF!"}},{"$f":"VLOOKUP(#REF!,'Points Lookup'!$A:$B,2,FALSE)","v":{"$error":"#REF!"}},{"$f":"VLOOKUP(#REF!,'Points Lookup'!$A:$B,2,FALSE)","v":{"$error":"#REF!"}},{"$f":"VLOOKUP(#REF!,'Points Lookup'!$A:$B,2,FALSE)","v":{"$error":"#REF!"}},{"$f":"VLOOKUP(#REF!,'Points Lookup'!$A:$B,2,FALSE)","v":{"$error":"#REF!"}},{"$f":"VLOOKUP(#REF!,'Points Lookup'!$A:$B,2,FALSE)","v":{"$error":"#REF!"}},{"$f":"VLOOKUP(#REF!,'Points Lookup'!$A:$B,2,FALSE)","v":{"$error":"#REF!"}},{"$f":"VLOOKUP(#REF!,'Points Lookup'!$A:$B,2,FALSE)","v":{"$error":"#REF!"}},{"$f":"VLOOKUP(#REF!,'Points Lookup'!$A:$B,2,FALSE)","v":{"$error":"#REF!"}},{"$f":"VLOOKUP(#REF!,'Points Lookup'!$A:$B,2,FALSE)","v":{"$error":"#REF!"}},{"$f":"VLOOKUP(#REF!,'Points Lookup'!$A:$B,2,FALSE)","v":{"$error":"#REF!"}},{"$f":"VLOOKUP(#REF!,'Points Lookup'!$A:$B,2,FALSE)","v":{"$error":"#REF!"}},{"$f":"VLOOKUP(#REF!,'Points Lookup'!$A:$B,2,FALSE)","v":{"$error":"#REF!"}},{"$f":"VLOOKUP(#REF!,'Points Lookup'!$A:$B,2,FALSE)","v":{"$error":"#REF!"}},{"$f":"VLOOKUP(#REF!,'Points Lookup'!$A:$B,2,FALSE)","v":{"$error":"#REF!"}},{"$f":"VLOOKUP(#REF!,'Points Lookup'!$A:$B,2,FALSE)","v":{"$error":"#REF!"}},{"$f":"VLOOKUP(#REF!,'Points Lookup'!$A:$B,2,FALSE)","v":{"$error":"#REF!"}},{"$f":"VLOOKUP(#REF!,'Points Lookup'!$A:$B,2,FALSE)","v":{"$error":"#REF!"}},null,{"$error":"#REF!"},{"$error":"#REF!"},{"$error":"#REF!"},{"$error":"#REF!"},{"$error":"#REF!"},{"$error":"#REF!"},{"$error":"#REF!"},{"$error":"#REF!"}]
[{"$error":"#REF!"},{"$f":"#REF!","v":{"$error":"#REF!"}},{"$f":"IF(ISBLANK(#REF!),\"\",#REF!)","v":{"$error":"#REF!"}},{"$error":"#REF!"},{"$f":"VLOOKUP(#REF!,'Points Lookup'!$A:$B,2,FALSE)","v":{"$error":"#REF!"}},{"$f":"VLOOKUP(#REF!,'Points Lookup'!$A:$B,2,FALSE)","v":{"$error":"#REF!"}},{"$f":"VLOOKUP(#REF!,'Points Lookup'!$A:$B,2,FALSE)","v":{"$error":"#REF!"}},{"$f":"VLOOKUP(#REF!,'Points Lookup'!$A:$B,2,FALSE)","v":{"$error":"#REF!"}},{"$f":"VLOOKUP(#REF!,'Points Lookup'!$A:$B,2,FALSE)","v":{"$error":"#REF!"}},{"$f":"VLOOKUP(#REF!,'Points Lookup'!$A:$B,2,FALSE)","v":{"$error":"#REF!"}},{"$f":"VLOOKUP(#REF!,'Points Lookup'!$A:$B,2,FALSE)","v":{"$error":"#REF!"}},{"$f":"VLOOKUP(#REF!,'Points Lookup'!$A:$B,2,FALSE)","v":{"$error":"#REF!"}},{"$f":"VLOOKUP(#REF!,'Points Lookup'!$A:$B,2,FALSE)","v":{"$error":"#REF!"}},{"$f":"VLOOKUP(#REF!,'Points Lookup'!$A:$B,2,FALSE)","v":{"$error":"#REF!"}},{"$f":"VLOOKUP(#REF!,'Points Lookup'!$A:$B,2,FALSE)","v":{"$error":"#REF!"}},{"$f":"VLOOKUP(#REF!,'Points Lookup'!$A:$B,2,FALSE)","v":{"$error":"#REF!"}},{"$f":"VLOOKUP(#REF!,'Points Lookup'!$A:$B,2,FALSE)","v":{"$error":"#REF!"}},{"$f":"VLOOKUP(#REF!,'Points Lookup'!$A:$B,2,FALSE)","v":{"$error":"#REF!"}},{"$f":"VLOOKUP(#REF!,'Points Lookup'!$A:$B,2,FALSE)","v":{"$error":"#REF!"}},{"$f":"VLOOKUP(#REF!,'Points Lookup'!$A:$B,2,FALSE)","v":{"$error":"#REF!"}},{"$f":"VLOOKUP(#REF!,'Points Lookup'!$A:$B,2,FALSE)","v":{"$error":"#REF!"}},{"$f":"VLOOKUP(#REF!,'Points Lookup'!$A:$B,2,FALSE)","v":{"$error":"#REF!"}},{"$f":"VLOOKUP(#REF!,'Points Lookup'!$A:$B,2,FALSE)","v":{"$error":"#REF!"}},{"$f":"VLOOKUP(#REF!,'Points Lookup'!$A:$B,2,FALSE)","v":{"$error":"#REF!"}},null,{"$error":"#REF!"},{"$error":"#REF!"},{"$error":"#REF!"},{"$error":"#REF!"},{"$error":"#REF!"},{"$error":"#REF!"},{"$error":"#REF!"},{"$error":"#REF!"}]
[{"$error":"#REF!"},{"$f":"#REF!","v":{"$error":"#REF!"}},{"$f":"IF(ISBLANK(#REF!),\"\",#REF!)","v":{"$error":"#REF!"}},{"$error":"#REF!"},{"$f":"VLOOKUP(#REF!,'Points Lookup'!$A:$B,2,FALSE)","v":{"$error":"#REF!"}},{"$f":"VLOOKUP(#REF!,'Points Lookup'!$A:$B,2,FALSE)","v":{"$error":"#REF!"}},{"$f":"VLOOKUP(#REF!,'Points Lookup'!$A:$B,2,FALSE)","v":{"$error":"#REF!"}},{"$f":"VLOOKUP(#REF!,'Points Lookup'!$A:$B,2,FALSE)","v":{"$error":"#REF!"}},{"$f":"VLOOKUP(#REF!,'Points Lookup'!$A:$B,2,FALSE)","v":{"$error":"#REF!"}},{"$f":"VLOOKUP(#REF!,'Points Lookup'!$A:$B,2,FALSE)","v":{"$error":"#REF!"}},{"$f":"VLOOKUP(#REF!,'Points Lookup'!$A:$B,2,FALSE)","v":{"$error":"#REF!"}},{"$f":"VLOOKUP(#REF!,'Points Lookup'!$A:$B,2,FALSE)","v":{"$error":"#REF!"}},{"$f":"VLOOKUP(#REF!,'Points Lookup'!$A:$B,2,FALSE)","v":{"$error":"#REF!"}},{"$f":"VLOOKUP(#REF!,'Points Lookup'!$A:$B,2,FALSE)","v":{"$error":"#REF!"}},{"$f":"VLOOKUP(#REF!,'Points Lookup'!$A:$B,2,FALSE)","v":{"$error":"#REF!"}},{"$f":"VLOOKUP(#REF!,'Points Lookup'!$A:$B,2,FALSE)","v":{"$error":"#REF!"}},{"$f":"VLOOKUP(#REF!,'Points Lookup'!$A:$B,2,FALSE)","v":{"$error":"#REF!"}},{"$f":"VLOOKUP(#REF!,'Points Lookup'!$A:$B,2,FALSE)","v":{"$error":"#REF!"}},{"$f":"VLOOKUP(#REF!,'Points Lookup'!$A:$B,2,FALSE)","v":{"$error":"#REF!"}},{"$f":"VLOOKUP(#REF!,'Points Lookup'!$A:$B,2,FALSE)","v":{"$error":"#REF!"}},{"$f":"VLOOKUP(#REF!,'Points Lookup'!$A:$B,2,FALSE)","v":{"$error":"#REF!"}},{"$f":"VLOOKUP(#REF!,'Points Lookup'!$A:$B,2,FALSE)","v":{"$error":"#REF!"}},{"$f":"VLOOKUP(#REF!,'Points Lookup'!$A:$B,2,FALSE)","v":{"$error":"#REF!"}},{"$f":"VLOOKUP(#REF!,'Points Lookup'!$A:$B,2,FALSE)","v":{"$error":"#REF!"}},null,{"$error":"#REF!"},{"$error":"#REF!"},{"$error":"#REF!"},{"$error":"#REF!"},{"$error":"#REF!"},{"$error":"#REF!"},{"$error":"#REF!"},{"$error":"#REF!"}]
[{"$error":"#REF!"},{"$f":"#REF!","v":{"$error":"#REF!"}},{"$f":"IF(ISBLANK(#REF!),\"\",#REF!)","v":{"$error":"#REF!"}},{"$error":"#REF!"},{"$f":"VLOOKUP(#REF!,'Points Lookup'!$A:$B,2,FALSE)","v":{"$error":"#REF!"}},{"$f":"VLOOKUP(#REF!,'Points Lookup'!$A:$B,2,FALSE)","v":{"$error":"#REF!"}},{"$f":"VLOOKUP(#REF!,'Points Lookup'!$A:$B,2,FALSE)","v":{"$error":"#REF!"}},{"$f":"VLOOKUP(#REF!,'Points Lookup'!$A:$B,2,FALSE)","v":{"$error":"#REF!"}},{"$f":"VLOOKUP(#REF!,'Points Lookup'!$A:$B,2,FALSE)","v":{"$error":"#REF!"}},{"$f":"VLOOKUP(#REF!,'Points Lookup'!$A:$B,2,FALSE)","v":{"$error":"#REF!"}},{"$f":"VLOOKUP(#REF!,'Points Lookup'!$A:$B,2,FALSE)","v":{"$error":"#REF!"}},{"$f":"VLOOKUP(#REF!,'Points Lookup'!$A:$B,2,FALSE)","v":{"$error":"#REF!"}},{"$f":"VLOOKUP(#REF!,'Points Lookup'!$A:$B,2,FALSE)","v":{"$error":"#REF!"}},{"$f":"VLOOKUP(#REF!,'Points Lookup'!$A:$B,2,FALSE)","v":{"$error":"#REF!"}},{"$f":"VLOOKUP(#REF!,'Points Lookup'!$A:$B,2,FALSE)","v":{"$error":"#REF!"}},{"$f":"VLOOKUP(#REF!,'Points Lookup'!$A:$B,2,FALSE)","v":{"$error":"#REF!"}},{"$f":"VLOOKUP(#REF!,'Points Lookup'!$A:$B,2,FALSE)","v":{"$error":"#REF!"}},{"$f":"VLOOKUP(#REF!,'Points Lookup'!$A:$B,2,FALSE)","v":{"$error":"#REF!"}},{"$f":"VLOOKUP(#REF!,'Points Lookup'!$A:$B,2,FALSE)","v":{"$error":"#REF!"}},{"$f":"VLOOKUP(#REF!,'Points Lookup'!$A:$B,2,FALSE)","v":{"$error":"#REF!"}},{"$f":"VLOOKUP(#REF!,'Points Lookup'!$A:$B,2,FALSE)","v":{"$error":"#REF!"}},{"$f":"VLOOKUP(#REF!,'Points Lookup'!$A:$B,2,FALSE)","v":{"$error":"#REF!"}},{"$f":"VLOOKUP(#REF!,'Points Lookup'!$A:$B,2,FALSE)","v":{"$error":"#REF!"}},{"$f":"VLOOKUP(#REF!,'Points Lookup'!$A:$B,2,FALSE)","v":{"$error":"#REF!"}},null,{"$error":"#REF!"},{"$error":"#REF!"},{"$error":"#REF!"},{"$error":"#REF!"},{"$error":"#REF!"},{"$error":"#REF!"},{"$error":"#REF!"},{"$error":"#REF!"}]
[{"$error":"#REF!"},{"$f":"#REF!","v":{"$error":"#REF!"}},{"$f":"IF(ISBLANK(#REF!),\"\",#REF!)","v":{"$error":"#REF!"}},{"$error":"#REF!"},{"$f":"VLOOKUP(#REF!,'Points Lookup'!$A:$B,2,FALSE)","v":{"$error":"#REF!"}},{"$f":"VLOOKUP(#REF!,'Points Lookup'!$A:$B,2,FALSE)","v":{"$error":"#REF!"}},{"$f":"VLOOKUP(#REF!,'Points Lookup'!$A:$B,2,FALSE)","v":{"$error":"#REF!"}},{"$f":"VLOOKUP(#REF!,'Points Lookup'!$A:$B,2,FALSE)","v":{"$error":"#REF!"}},{"$f":"VLOOKUP(#REF!,'Points Lookup'!$A:$B,2,FALSE)","v":{"$error":"#REF!"}},{"$f":"VLOOKUP(#REF!,'Points Lookup'!$A:$B,2,FALSE)","v":{"$error":"#REF!"}},{"$f":"VLOOKUP(#REF!,'Points Lookup'!$A:$B,2,FALSE)","v":{"$error":"#REF!"}},{"$f":"VLOOKUP(#REF!,'Points Lookup'!$A:$B,2,FALSE)","v":{"$error":"#REF!"}},{"$f":"VLOOKUP(#REF!,'Points Lookup'!$A:$B,2,FALSE)","v":{"$error":"#REF!"}},{"$f":"VLOOKUP(#REF!,'Points Lookup'!$A:$B,2,FALSE)","v":{"$error":"#REF!"}},{"$f":"VLOOKUP(#REF!,'Points Lookup'!$A:$B,2,FALSE)","v":{"$error":"#REF!"}},{"$f":"VLOOKUP(#REF!,'Points Lookup'!$A:$B,2,FALSE)","v":{"$error":"#REF!"}},{"$f":"VLOOKUP(#REF!,'Points Lookup'!$A:$B,2,FALSE)","v":{"$error":"#REF!"}},{"$f":"VLOOKUP(#REF!,'Points Lookup'!$A:$B,2,FALSE)","v":{"$error":"#REF!"}},{"$f":"VLOOKUP(#REF!,'Points Lookup'!$A:$B,2,FALSE)","v":{"$error":"#REF!"}},{"$f":"VLOOKUP(#REF!,'Points Lookup'!$A:$B,2,FALSE)","v":{"$error":"#REF!"}},{"$f":"VLOOKUP(#REF!,'Points Lookup'!$A:$B,2,FALSE)","v":{"$error":"#REF!"}},{"$f":"VLOOKUP(#REF!,'Points Lookup'!$A:$B,2,FALSE)","v":{"$error":"#REF!"}},{"$f":"VLOOKUP(#REF!,'Points Lookup'!$A:$B,2,FALSE)","v":{"$error":"#REF!"}},{"$f":"VLOOKUP(#REF!,'Points Lookup'!$A:$B,2,FALSE)","v":{"$error":"#REF!"}},null,{"$error":"#REF!"},{"$error":"#REF!"},{"$error":"#REF!"},{"$error":"#REF!"},{"$error":"#REF!"},{"$error":"#REF!"},{"$error":"#REF!"},{"$error":"#REF!"}]
[{"$error":"#REF!"},{"$f":"#REF!","v":{"$error":"#REF!"}},{"$f":"IF(ISBLANK(#REF!),\"\",#REF!)","v":{"$error":"#REF!"}},{"$error":"#REF!"},{"$f":"VLOOKUP(#REF!,'Points Lookup'!$A:$B,2,FALSE)","v":{"$error":"#REF!"}},{"$f":"VLOOKUP(#REF!,'Points Lookup'!$A:$B,2,FALSE)","v":{"$error":"#REF!"}},{"$f":"VLOOKUP(#REF!,'Points Lookup'!$A:$B,2,FALSE)","v":{"$error":"#REF!"}},{"$f":"VLOOKUP(#REF!,'Points Lookup'!$A:$B,2,FALSE)","v":{"$error":"#REF!"}},{"$f":"VLOOKUP(#REF!,'Points Lookup'!$A:$B,2,FALSE)","v":{"$error":"#REF!"}},{"$f":"VLOOKUP(#REF!,'Points Lookup'!$A:$B,2,FALSE)","v":{"$error":"#REF!"}},{"$f":"VLOOKUP(#REF!,'Points Lookup'!$A:$B,2,FALSE)","v":{"$error":"#REF!"}},{"$f":"VLOOKUP(#REF!,'Points Lookup'!$A:$B,2,FALSE)","v":{"$error":"#REF!"}},{"$f":"VLOOKUP(#REF!,'Points Lookup'!$A:$B,2,FALSE)","v":{"$error":"#REF!"}},{"$f":"VLOOKUP(#REF!,'Points Lookup'!$A:$B,2,FALSE)","v":{"$error":"#REF!"}},{"$f":"VLOOKUP(#REF!,'Points Lookup'!$A:$B,2,FALSE)","v":{"$error":"#REF!"}},{"$f":"VLOOKUP(#REF!,'Points Lookup'!$A:$B,2,FALSE)","v":{"$error":"#REF!"}},{"$f":"VLOOKUP(#REF!,'Points Lookup'!$A:$B,2,FALSE)","v":{"$error":"#REF!"}},{"$f":"VLOOKUP(#REF!,'Points Lookup'!$A:$B,2,FALSE)","v":{"$error":"#REF!"}},{"$f":"VLOOKUP(#REF!,'Points Lookup'!$A:$B,2,FALSE)","v":{"$error":"#REF!"}},{"$f":"VLOOKUP(#REF!,'Points Lookup'!$A:$B,2,FALSE)","v":{"$error":"#REF!"}},{"$f":"VLOOKUP(#REF!,'Points Lookup'!$A:$B,2,FALSE)","v":{"$error":"#REF!"}},{"$f":"VLOOKUP(#REF!,'Points Lookup'!$A:$B,2,FALSE)","v":{"$error":"#REF!"}},{"$f":"VLOOKUP(#REF!,'Points Lookup'!$A:$B,2,FALSE)","v":{"$error":"#REF!"}},{"$f":"VLOOKUP(#REF!,'Points Lookup'!$A:$B,2,FALSE)","v":{"$error":"#REF!"}},null,{"$error":"#REF!"},{"$error":"#REF!"},{"$error":"#REF!"},{"$error":"#REF!"},{"$error":"#REF!"},{"$error":"#REF!"},{"$error":"#REF!"},{"$error":"#REF!"}]
[{"$error":"#REF!"},{"$f":"#REF!","v":{"$error":"#REF!"}},{"$f":"IF(ISBLANK(#REF!),\"\",#REF!)","v":{"$error":"#REF!"}},{"$error":"#REF!"},{"$f":"VLOOKUP(#REF!,'Points Lookup'!$A:$B,2,FALSE)","v":{"$error":"#REF!"}},{"$f":"VLOOKUP(#REF!,'Points Lookup'!$A:$B,2,FALSE)","v":{"$error":"#REF!"}},{"$f":"VLOOKUP(#REF!,'Points Lookup'!$A:$B,2,FALSE)","v":{"$error":"#REF!"}},{"$f":"VLOOKUP(#REF!,'Points Lookup'!$A:$B,2,FALSE)","v":{"$error":"#REF!"}},{"$f":"VLOOKUP(#REF!,'Points Lookup'!$A:$B,2,FALSE)","v":{"$error":"#REF!"}},{"$f":"VLOOKUP(#REF!,'Points Lookup'!$A:$B,2,FALSE)","v":{"$error":"#REF!"}},{"$f":"VLOOKUP(#REF!,'Points Lookup'!$A:$B,2,FALSE)","v":{"$error":"#REF!"}},{"$f":"VLOOKUP(#REF!,'Points Lookup'!$A:$B,2,FALSE)","v":{"$error":"#REF!"}},{"$f":"VLOOKUP(#REF!,'Points Lookup'!$A:$B,2,FALSE)","v":{"$error":"#REF!"}},{"$f":"VLOOKUP(#REF!,'Points Lookup'!$A:$B,2,FALSE)","v":{"$error":"#REF!"}},{"$f":"VLOOKUP(#REF!,'Points Lookup'!$A:$B,2,FALSE)","v":{"$error":"#REF!"}},{"$f":"VLOOKUP(#REF!,'Points Lookup'!$A:$B,2,FALSE)","v":{"$error":"#REF!"}},{"$f":"VLOOKUP(#REF!,'Points Lookup'!$A:$B,2,FALSE)","v":{"$error":"#REF!"}},{"$f":"VLOOKUP(#REF!,'Points Lookup'!$A:$B,2,FALSE)","v":{"$error":"#REF!"}},{"$f":"VLOOKUP(#REF!,'Points Lookup'!$A:$B,2,FALSE)","v":{"$error":"#REF!"}},{"$f":"VLOOKUP(#REF!,'Points Lookup'!$A:$B,2,FALSE)","v":{"$error":"#REF!"}},{"$f":"VLOOKUP(#REF!,'Points Lookup'!$A:$B,2,FALSE)","v":{"$error":"#REF!"}},{"$f":"VLOOKUP(#REF!,'Points Lookup'!$A:$B,2,FALSE)","v":{"$error":"#REF!"}},{"$f":"VLOOKUP(#REF!,'Points Lookup'!$A:$B,2,FALSE)","v":{"$error":"#REF!"}},{"$f":"VLOOKUP(#REF!,'Points Lookup'!$A:$B,2,FALSE)","v":{"$error":"#REF!"}},null,{"$error":"#REF!"},{"$error":"#REF!"},{"$error":"#REF!"},{"$error":"#REF!"},{"$error":"#REF!"},{"$error":"#REF!"},{"$error":"#REF!"},{"$error":"#REF!"}]
[{"$error":"#REF!"},{"$f":"#REF!","v":{"$error":"#REF!"}},{"$f":"IF(ISBLANK(#REF!),\"\",#REF!)","v":{"$error":"#REF!"}},{"$error":"#REF!"},{"$f":"VLOOKUP(#REF!,'Points Lookup'!$A:$B,2,FALSE)","v":{"$error":"#REF!"}},{"$f":"VLOOKUP(#REF!,'Points Lookup'!$A:$B,2,FALSE)","v":{"$error":"#REF!"}},{"$f":"VLOOKUP(#REF!,'Points Lookup'!$A:$B,2,FALSE)","v":{"$error":"#REF!"}},{"$f":"VLOOKUP(#REF!,'Points Lookup'!$A:$B,2,FALSE)","v":{"$error":"#REF!"}},{"$f":"VLOOKUP(#REF!,'Points Lookup'!$A:$B,2,FALSE)","v":{"$error":"#REF!"}},{"$f":"VLOOKUP(#REF!,'Points Lookup'!$A:$B,2,FALSE)","v":{"$error":"#REF!"}},{"$f":"VLOOKUP(#REF!,'Points Lookup'!$A:$B,2,FALSE)","v":{"$error":"#REF!"}},{"$f":"VLOOKUP(#REF!,'Points Lookup'!$A:$B,2,FALSE)","v":{"$error":"#REF!"}},{"$f":"VLOOKUP(#REF!,'Points Lookup'!$A:$B,2,FALSE)","v":{"$error":"#REF!"}},{"$f":"VLOOKUP(#REF!,'Points Lookup'!$A:$B,2,FALSE)","v":{"$error":"#REF!"}},{"$f":"VLOOKUP(#REF!,'Points Lookup'!$A:$B,2,FALSE)","v":{"$error":"#REF!"}},{"$f":"VLOOKUP(#REF!,'Points Lookup'!$A:$B,2,FALSE)","v":{"$error":"#REF!"}},{"$f":"VLOOKUP(#REF!,'Points Lookup'!$A:$B,2,FALSE)","v":{"$error":"#REF!"}},{"$f":"VLOOKUP(#REF!,'Points Lookup'!$A:$B,2,FALSE)","v":{"$error":"#REF!"}},{"$f":"VLOOKUP(#REF!,'Points Lookup'!$A:$B,2,FALSE)","v":{"$error":"#REF!"}},{"$f":"VLOOKUP(#REF!,'Points Lookup'!$A:$B,2,FALSE)","v":{"$error":"#REF!"}},{"$f":"VLOOKUP(#REF!,'Points Lookup'!$A:$B,2,FALSE)","v":{"$error":"#REF!"}},{"$f":"VLOOKUP(#REF!,'Points Lookup'!$A:$B,2,FALSE)","v":{"$error":"#REF!"}},{"$f":"VLOOKUP(#REF!,'Points Lookup'!$A:$B,2,FALSE)","v":{"$error":"#REF!"}},{"$f":"VLOOKUP(#REF!,'Points Lookup'!$A:$B,2,FALSE)","v":{"$error":"#REF!"}},null,{"$error":"#REF!"},{"$error":"#REF!"},{"$error":"#REF!"},{"$error":"#REF!"},{"$error":"#REF!"},{"$error":"#REF!"},{"$error":"#REF!"},{"$error":"#REF!"}]
[{"$error":"#REF!"},{"$f":"#REF!","v":{"$error":"#REF!"}},{"$f":"IF(ISBLANK(#REF!),\"\",#REF!)","v":{"$error":"#REF!"}},{"$error":"#REF!"},{"$f":"VLOOKUP(#REF!,'Points Lookup'!$A:$B,2,FALSE)","v":{"$error":"#REF!"}},{"$f":"VLOOKUP(#REF!,'Points Lookup'!$A:$B,2,FALSE)","v":{"$error":"#REF!"}},{"$f":"VLOOKUP(#REF!,'Points Lookup'!$A:$B,2,FALSE)","v":{"$error":"#REF!"}},{"$f":"VLOOKUP(#REF!,'Points Lookup'!$A:$B,2,FALSE)","v":{"$error":"#REF!"}},{"$f":"VLOOKUP(#REF!,'Points Lookup'!$A:$B,2,FALSE)","v":{"$error":"#REF!"}},{"$f":"VLOOKUP(#REF!,'Points Lookup'!$A:$B,2,FALSE)","v":{"$error":"#REF!"}},{"$f":"VLOOKUP(#REF!,'Points Lookup'!$A:$B,2,FALSE)","v":{"$error":"#REF!"}},{"$f":"VLOOKUP(#REF!,'Points Lookup'!$A:$B,2,FALSE)","v":{"$error":"#REF!"}},{"$f":"VLOOKUP(#REF!,'Points Lookup'!$A:$B,2,FALSE)","v":{"$error":"#REF!"}},{"$f":"VLOOKUP(#REF!,'Points Lookup'!$A:$B,2,FALSE)","v":{"$error":"#REF!"}},{"$f":"VLOOKUP(#REF!,'Points Lookup'!$A:$B,2,FALSE)","v":{"$error":"#REF!"}},{"$f":"VLOOKUP(#REF!,'Points Lookup'!$A:$B,2,FALSE)","v":{"$error":"#REF!"}},{"$f":"VLOOKUP(#REF!,'Points Lookup'!$A:$B,2,FALSE)","v":{"$error":"#REF!"}},{"$f":"VLOOKUP(#REF!,'Points Lookup'!$A:$B,2,FALSE)","v":{"$error":"#REF!"}},{"$f":"VLOOKUP(#REF!,'Points Lookup'!$A:$B,2,FALSE)","v":{"$error":"#REF!"}},{"$f":"VLOOKUP(#REF!,'Points Lookup'!$A:$B,2,FALSE)","v":{"$error":"#REF!"}},{"$f":"VLOOKUP(#REF!,'Points Lookup'!$A:$B,2,FALSE)","v":{"$error":"#REF!"}},{"$f":"VLOOKUP(#REF!,'Points Lookup'!$A:$B,2,FALSE)","v":{"$error":"#REF!"}},{"$f":"VLOOKUP(#REF!,'Points Lookup'!$A:$B,2,FALSE)","v":{"$error":"#REF!"}},{"$f":"VLOOKUP(#REF!,'Points Lookup'!$A:$B,2,FALSE)","v":{"$error":"#REF!"}},null,{"$error":"#REF!"},{"$error":"#REF!"},{"$error":"#REF!"},{"$error":"#REF!"},{"$error":"#REF!"},{"$error":"#REF!"},{"$error":"#REF!"},{"$error":"#REF!"}]
[{"$error":"#REF!"},{"$f":"#REF!","v":{"$error":"#REF!"}},{"$f":"IF(ISBLANK(#REF!),\"\",#REF!)","v":{"$error":"#REF!"}},{"$error":"#REF!"},{"$f":"VLOOKUP(#REF!,'Points Lookup'!$A:$B,2,FALSE)","v":{"$error":"#REF!"}},{"$f":"VLOOKUP(#REF!,'Points Lookup'!$A:$B,2,FALSE)","v":{"$error":"#REF!"}},{"$f":"VLOOKUP(#REF!,'Points Lookup'!$A:$B,2,FALSE)","v":{"$error":"#REF!"}},{"$f":"VLOOKUP(#REF!,'Points Lookup'!$A:$B,2,FALSE)","v":{"$error":"#REF!"}},{"$f":"VLOOKUP(#REF!,'Points Lookup'!$A:$B,2,FALSE)","v":{"$error":"#REF!"}},{"$f":"VLOOKUP(#REF!,'Points Lookup'!$A:$B,2,FALSE)","v":{"$error":"#REF!"}},{"$f":"VLOOKUP(#REF!,'Points Lookup'!$A:$B,2,FALSE)","v":{"$error":"#REF!"}},{"$f":"VLOOKUP(#REF!,'Points Lookup'!$A:$B,2,FALSE)","v":{"$error":"#REF!"}},{"$f":"VLOOKUP(#REF!,'Points Lookup'!$A:$B,2,FALSE)","v":{"$error":"#REF!"}},{"$f":"VLOOKUP(#REF!,'Points Lookup'!$A:$B,2,FALSE)","v":{"$error":"#REF!"}},{"$f":"VLOOKUP(#REF!,'Points Lookup'!$A:$B,2,FALSE)","v":{"$error":"#REF!"}},{"$f":"VLOOKUP(#REF!,'Points Lookup'!$A:$B,2,FALSE)","v":{"$error":"#REF!"}},{"$f":"VLOOKUP(#REF!,'Points Lookup'!$A:$B,2,FALSE)","v":{"$error":"#REF!"}},{"$f":"VLOOKUP(#REF!,'Points Lookup'!$A:$B,2,FALSE)","v":{"$error":"#REF!"}},{"$f":"VLOOKUP(#REF!,'Points Lookup'!$A:$B,2,FALSE)","v":{"$error":"#REF!"}},{"$f":"VLOOKUP(#REF!,'Points Lookup'!$A:$B,2,FALSE)","v":{"$error":"#REF!"}},{"$f":"VLOOKUP(#REF!,'Points Lookup'!$A:$B,2,FALSE)","v":{"$error":"#REF!"}},{"$f":"VLOOKUP(#REF!,'Points Lookup'!$A:$B,2,FALSE)","v":{"$error":"#REF!"}},{"$f":"VLOOKUP(#REF!,'Points Lookup'!$A:$B,2,FALSE)","v":{"$error":"#REF!"}},{"$f":"VLOOKUP(#REF!,'Points Lookup'!$A:$B,2,FALSE)","v":{"$error":"#REF!"}},null,{"$error":"#REF!"},{"$error":"#REF!"},{"$error":"#REF!"},{"$error":"#REF!"},{"$error":"#REF!"},{"$error":"#REF!"},{"$error":"#REF!"},{"$error":"#REF!"}]
[{"$error":"#REF!"},{"$f":"#REF!","v":{"$error":"#REF!"}},{"$f":"IF(ISBLANK(#REF!),\"\",#REF!)","v":{"$error":"#REF!"}},{"$error":"#REF!"},{"$f":"VLOOKUP(#REF!,'Points Lookup'!$A:$B,2,FALSE)","v":{"$error":"#REF!"}},{"$f":"VLOOKUP(#REF!,'Points Lookup'!$A:$B,2,FALSE)","v":{"$error":"#REF!"}},{"$f":"VLOOKUP(#REF!,'Points Lookup'!$A:$B,2,FALSE)","v":{"$error":"#REF!"}},{"$f":"VLOOKUP(#REF!,'Points Lookup'!$A:$B,2,FALSE)","v":{"$error":"#REF!"}},{"$f":"VLOOKUP(#REF!,'Points Lookup'!$A:$B,2,FALSE)","v":{"$error":"#REF!"}},{"$f":"VLOOKUP(#REF!,'Points Lookup'!$A:$B,2,FALSE)","v":{"$error":"#REF!"}},{"$f":"VLOOKUP(#REF!,'Points Lookup'!$A:$B,2,FALSE)","v":{"$error":"#REF!"}},{"$f":"VLOOKUP(#REF!,'Points Lookup'!$A:$B,2,FALSE)","v":{"$error":"#REF!"}},{"$f":"VLOOKUP(#REF!,'Points Lookup'!$A:$B,2,FALSE)","v":{"$error":"#REF!"}},{"$f":"VLOOKUP(#REF!,'Points Lookup'!$A:$B,2,FALSE)","v":{"$error":"#REF!"}},{"$f":"VLOOKUP(#REF!,'Points Lookup'!$A:$B,2,FALSE)","v":{"$error":"#REF!"}},{"$f":"VLOOKUP(#REF!,'Points Lookup'!$A:$B,2,FALSE)","v":{"$error":"#REF!"}},{"$f":"VLOOKUP(#REF!,'Points Lookup'!$A:$B,2,FALSE)","v":{"$error":"#REF!"}},{"$f":"VLOOKUP(#REF!,'Points Lookup'!$A:$B,2,FALSE)","v":{"$error":"#REF!"}},{"$f":"VLOOKUP(#REF!,'Points Lookup'!$A:$B,2,FALSE)","v":{"$error":"#REF!"}},{"$f":"VLOOKUP(#REF!,'Points Lookup'!$A:$B,2,FALSE)","v":{"$error":"#REF!"}},{"$f":"VLOOKUP(#REF!,'Points Lookup'!$A:$B,2,FALSE)","v":{"$error":"#REF!"}},{"$f":"VLOOKUP(#REF!,'Points Lookup'!$A:$B,2,FALSE)","v":{"$error":"#REF!"}},{"$f":"VLOOKUP(#REF!,'Points Lookup'!$A:$B,2,FALSE)","v":{"$error":"#REF!"}},{"$f":"VLOOKUP(#REF!,'Points Lookup'!$A:$B,2,FALSE)","v":{"$error":"#REF!"}},null,{"$error":"#REF!"},{"$error":"#REF!"},{"$error":"#REF!"},{"$error":"#REF!"},{"$error":"#REF!"},{"$error":"#REF!"},{"$error":"#REF!"},{"$error":"#REF!"}]
[{"$error":"#REF!"},{"$f":"#REF!","v":{"$error":"#REF!"}},{"$f":"IF(ISBLANK(#REF!),\"\",#REF!)","v":{"$error":"#REF!"}},{"$error":"#REF!"},{"$f":"VLOOKUP(#REF!,'Points Lookup'!$A:$B,2,FALSE)","v":{"$error":"#REF!"}},{"$f":"VLOOKUP(#REF!,'Points Lookup'!$A:$B,2,FALSE)","v":{"$error":"#REF!"}},{"$f":"VLOOKUP(#REF!,'Points Lookup'!$A:$B,2,FALSE)","v":{"$error":"#REF!"}},{"$f":"VLOOKUP(#REF!,'Points Lookup'!$A:$B,2,FALSE)","v":{"$error":"#REF!"}},{"$f":"VLOOKUP(#REF!,'Points Lookup'!$A:$B,2,FALSE)","v":{"$error":"#REF!"}},{"$f":"VLOOKUP(#REF!,'Points Lookup'!$A:$B,2,FALSE)","v":{"$error":"#REF!"}},{"$f":"VLOOKUP(#REF!,'Points Lookup'!$A:$B,2,FALSE)","v":{"$error":"#REF!"}},{"$f":"VLOOKUP(#REF!,'Points Lookup'!$A:$B,2,FALSE)","v":{"$error":"#REF!"}},{"$f":"VLOOKUP(#REF!,'Points Lookup'!$A:$B,2,FALSE)","v":{"$error":"#REF!"}},{"$f":"VLOOKUP(#REF!,'Points Lookup'!$A:$B,2,FALSE)","v":{"$error":"#REF!"}},{"$f":"VLOOKUP(#REF!,'Points Lookup'!$A:$B,2,FALSE)","v":{"$error":"#REF!"}},{"$f":"VLOOKUP(#REF!,'Points Lookup'!$A:$B,2,FALSE)","v":{"$error":"#REF!"}},{"$f":"VLOOKUP(#REF!,'Points Lookup'!$A:$B,2,FALSE)","v":{"$error":"#REF!"}},{"$f":"VLOOKUP(#REF!,'Points Lookup'!$A:$B,2,FALSE)","v":{"$error":"#REF!"}},{"$f":"VLOOKUP(#REF!,'Points Lookup'!$A:$B,2,FALSE)","v":{"$error":"#REF!"}},{"$f":"VLOOKUP(#REF!,'Points Lookup'!$A:$B,2,FALSE)","v":{"$error":"#REF!"}},{"$f":"VLOOKUP(#REF!,'Points Lookup'!$A:$B,2,FALSE)","v":{"$error":"#REF!"}},{"$f":"VLOOKUP(#REF!,'Points Lookup'!$A:$B,2,FALSE)","v":{"$error":"#REF!"}},{"$f":"VLOOKUP(#REF!,'Points Lookup'!$A:$B,2,FALSE)","v":{"$error":"#REF!"}},{"$f":"VLOOKUP(#REF!,'Points Lookup'!$A:$B,2,FALSE)","v":{"$error":"#REF!"}},null,{"$error":"#REF!"},{"$error":"#REF!"},{"$error":"#REF!"},{"$error":"#REF!"},{"$error":"#REF!"},{"$error":"#REF!"},{"$error":"#REF!"},{"$error":"#REF!"}]
[{"$error":"#REF!"},{"$f":"#REF!","v":{"$error":"#REF!"}},{"$f":"IF(ISBLANK(#REF!),\"\",#REF!)","v":{"$error":"#REF!"}},{"$error":"#REF!"},{"$f":"VLOOKUP(#REF!,'Points Lookup'!$A:$B,2,FALSE)","v":{"$error":"#REF!"}},{"$f":"VLOOKUP(#REF!,'Points Lookup'!$A:$B,2,FALSE)","v":{"$error":"#REF!"}},{"$f":"VLOOKUP(#REF!,'Points Lookup'!$A:$B,2,FALSE)","v":{"$error":"#REF!"}},{"$f":"VLOOKUP(#REF!,'Points Lookup'!$A:$B,2,FALSE)","v":{"$error":"#REF!"}},{"$f":"VLOOKUP(#REF!,'Points Lookup'!$A:$B,2,FALSE)","v":{"$error":"#REF!"}},{"$f":"VLOOKUP(#REF!,'Points Lookup'!$A:$B,2,FALSE)","v":{"$error":"#REF!"}},{"$f":"VLOOKUP(#REF!,'Points Lookup'!$A:$B,2,FALSE)","v":{"$error":"#REF!"}},{"$f":"VLOOKUP(#REF!,'Points Lookup'!$A:$B,2,FALSE)","v":{"$error":"#REF!"}},{"$f":"VLOOKUP(#REF!,'Points Lookup'!$A:$B,2,FALSE)","v":{"$error":"#REF!"}},{"$f":"VLOOKUP(#REF!,'Points Lookup'!$A:$B,2,FALSE)","v":{"$error":"#REF!"}},{"$f":"VLOOKUP(#REF!,'Points Lookup'!$A:$B,2,FALSE)","v":{"$error":"#REF!"}},{"$f":"VLOOKUP(#REF!,'Points Lookup'!$A:$B,2,FALSE)","v":{"$error":"#REF!"}},{"$f":"VLOOKUP(#REF!,'Points Lookup'!$A:$B,2,FALSE)","v":{"$error":"#REF!"}},{"$f":"VLOOKUP(#REF!,'Points Lookup'!$A:$B,2,FALSE)","v":{"$error":"#REF!"}},{"$f":"VLOOKUP(#REF!,'Points Lookup'!$A:$B,2,FALSE)","v":{"$error":"#REF!"}},{"$f":"VLOOKUP(#REF!,'Points Lookup'!$A:$B,2,FALSE)","v":{"$error":"#REF!"}},{"$f":"VLOOKUP(#REF!,'Points Lookup'!$A:$B,2,FALSE)","v":{"$error":"#REF!"}},{"$f":"VLOOKUP(#REF!,'Points Lookup'!$A:$B,2,FALSE)","v":{"$error":"#REF!"}},{"$f":"VLOOKUP(#REF!,'Points Lookup'!$A:$B,2,FALSE)","v":{"$error":"#REF!"}},{"$f":"VLOOKUP(#REF!,'Points Lookup'!$A:$B,2,FALSE)","v":{"$error":"#REF!"}},null,{"$error":"#REF!"},{"$error":"#REF!"},{"$error":"#REF!"},{"$error":"#REF!"},{"$error":"#REF!"},{"$error":"#REF!"},{"$error":"#REF!"},{"$error":"#REF!"}]
[{"$error":"#REF!"},{"$f":"#REF!","v":{"$error":"#REF!"}},{"$f":"IF(ISBLANK(#REF!),\"\",#REF!)","v":{"$error":"#REF!"}},{"$error":"#REF!"},{"$f":"VLOOKUP(#REF!,'Points Lookup'!$A:$B,2,FALSE)","v":{"$error":"#REF!"}},{"$f":"VLOOKUP(#REF!,'Points Lookup'!$A:$B,2,FALSE)","v":{"$error":"#REF!"}},{"$f":"VLOOKUP(#REF!,'Points Lookup'!$A:$B,2,FALSE)","v":{"$error":"#REF!"}},{"$f":"VLOOKUP(#REF!,'Points Lookup'!$A:$B,2,FALSE)","v":{"$error":"#REF!"}},{"$f":"VLOOKUP(#REF!,'Points Lookup'!$A:$B,2,FALSE)","v":{"$error":"#REF!"}},{"$f":"VLOOKUP(#REF!,'Points Lookup'!$A:$B,2,FALSE)","v":{"$error":"#REF!"}},{"$f":"VLOOKUP(#REF!,'Points Lookup'!$A:$B,2,FALSE)","v":{"$error":"#REF!"}},{"$f":"VLOOKUP(#REF!,'Points Lookup'!$A:$B,2,FALSE)","v":{"$error":"#REF!"}},{"$f":"VLOOKUP(#REF!,'Points Lookup'!$A:$B,2,FALSE)","v":{"$error":"#REF!"}},{"$f":"VLOOKUP(#REF!,'Points Lookup'!$A:$B,2,FALSE)","v":{"$error":"#REF!"}},{"$f":"VLOOKUP(#REF!,'Points Lookup'!$A:$B,2,FALSE)","v":{"$error":"#REF!"}},{"$f":"VLOOKUP(#REF!,'Points Lookup'!$A:$B,2,FALSE)","v":{"$error":"#REF!"}},{"$f":"VLOOKUP(#REF!,'Points Lookup'!$A:$B,2,FALSE)","v":{"$error":"#REF!"}},{"$f":"VLOOKUP(#REF!,'Points Lookup'!$A:$B,2,FALSE)","v":{"$error":"#REF!"}},{"$f":"VLOOKUP(#REF!,'Points Lookup'!$A:$B,2,FALSE)","v":{"$error":"#REF!"}},{"$f":"VLOOKUP(#REF!,'Points Lookup'!$A:$B,2,FALSE)","v":{"$error":"#REF!"}},{"$f":"VLOOKUP(#REF!,'Points Lookup'!$A:$B,2,FALSE)","v":{"$error":"#REF!"}},{"$f":"VLOOKUP(#REF!,'Points Lookup'!$A:$B,2,FALSE)","v":{"$error":"#REF!"}},{"$f":"VLOOKUP(#REF!,'Points Lookup'!$A:$B,2,FALSE)","v":{"$error":"#REF!"}},{"$f":"VLOOKUP(#REF!,'Points Lookup'!$A:$B,2,FALSE)","v":{"$error":"#REF!"}},null,{"$error":"#REF!"},{"$error":"#REF!"},{"$error":"#REF!"},{"$error":"#REF!"},{"$error":"#REF!"},{"$error":"#REF!"},{"$error":"#REF!"},{"$error":"#REF!"}]
[{"$error":"#REF!"},{"$f":"#REF!","v":{"$error":"#REF!"}},{"$f":"IF(ISBLANK(#REF!),\"\",#REF!)","v":{"$error":"#REF!"}},{"$error":"#REF!"},{"$f":"VLOOKUP(#REF!,'Points Lookup'!$A:$B,2,FALSE)","v":{"$error":"#REF!"}},{"$f":"VLOOKUP(#REF!,'Points Lookup'!$A:$B,2,FALSE)","v":{"$error":"#REF!"}},{"$f":"VLOOKUP(#REF!,'Points Lookup'!$A:$B,2,FALSE)","v":{"$error":"#REF!"}},{"$f":"VLOOKUP(#REF!,'Points Lookup'!$A:$B,2,FALSE)","v":{"$error":"#REF!"}},{"$f":"VLOOKUP(#REF!,'Points Lookup'!$A:$B,2,FALSE)","v":{"$error":"#REF!"}},{"$f":"VLOOKUP(#REF!,'Points Lookup'!$A:$B,2,FALSE)","v":{"$error":"#REF!"}},{"$f":"VLOOKUP(#REF!,'Points Lookup'!$A:$B,2,FALSE)","v":{"$error":"#REF!"}},{"$f":"VLOOKUP(#REF!,'Points Lookup'!$A:$B,2,FALSE)","v":{"$error":"#REF!"}},{"$f":"VLOOKUP(#REF!,'Points Lookup'!$A:$B,2,FALSE)","v":{"$error":"#REF!"}},{"$f":"VLOOKUP(#REF!,'Points Lookup'!$A:$B,2,FALSE)","v":{"$error":"#REF!"}},{"$f":"VLOOKUP(#REF!,'Points Lookup'!$A:$B,2,FALSE)","v":{"$error":"#REF!"}},{"$f":"VLOOKUP(#REF!,'Points Lookup'!$A:$B,2,FALSE)","v":{"$error":"#REF!"}},{"$f":"VLOOKUP(#REF!,'Points Lookup'!$A:$B,2,FALSE)","v":{"$error":"#REF!"}},{"$f":"VLOOKUP(#REF!,'Points Lookup'!$A:$B,2,FALSE)","v":{"$error":"#REF!"}},{"$f":"VLOOKUP(#REF!,'Points Lookup'!$A:$B,2,FALSE)","v":{"$error":"#REF!"}},{"$f":"VLOOKUP(#REF!,'Points Lookup'!$A:$B,2,FALSE)","v":{"$error":"#REF!"}},{"$f":"VLOOKUP(#REF!,'Points Lookup'!$A:$B,2,FALSE)","v":{"$error":"#REF!"}},{"$f":"VLOOKUP(#REF!,'Points Lookup'!$A:$B,2,FALSE)","v":{"$error":"#REF!"}},{"$f":"VLOOKUP(#REF!,'Points Lookup'!$A:$B,2,FALSE)","v":{"$error":"#REF!"}},{"$f":"VLOOKUP(#REF!,'Points Lookup'!$A:$B,2,FALSE)","v":{"$error":"#REF!"}},null,{"$error":"#REF!"},{"$error":"#REF!"},{"$error":"#REF!"},{"$f":"LARGE($E329:$X329,AC$1)","v":{"$error":"#REF!"}},{"$error":"#REF!"},{"$error":"#REF!"},{"$error":"#REF!"},{"$error":"#REF!"}]
[{"$error":"#REF!"},{"$f":"#REF!","v":{"$error":"#REF!"}},{"$f":"IF(ISBLANK(#REF!),\"\",#REF!)","v":{"$error":"#REF!"}},{"$error":"#REF!"},{"$f":"VLOOKUP(#REF!,'Points Lookup'!$A:$B,2,FALSE)","v":{"$error":"#REF!"}},{"$f":"VLOOKUP(#REF!,'Points Lookup'!$A:$B,2,FALSE)","v":{"$error":"#REF!"}},{"$f":"VLOOKUP(#REF!,'Points Lookup'!$A:$B,2,FALSE)","v":{"$error":"#REF!"}},{"$f":"VLOOKUP(#REF!,'Points Lookup'!$A:$B,2,FALSE)","v":{"$error":"#REF!"}},{"$f":"VLOOKUP(#REF!,'Points Lookup'!$A:$B,2,FALSE)","v":{"$error":"#REF!"}},{"$f":"VLOOKUP(#REF!,'Points Lookup'!$A:$B,2,FALSE)","v":{"$error":"#REF!"}},{"$f":"VLOOKUP(#REF!,'Points Lookup'!$A:$B,2,FALSE)","v":{"$error":"#REF!"}},{"$f":"VLOOKUP(#REF!,'Points Lookup'!$A:$B,2,FALSE)","v":{"$error":"#REF!"}},{"$f":"VLOOKUP(#REF!,'Points Lookup'!$A:$B,2,FALSE)","v":{"$error":"#REF!"}},{"$f":"VLOOKUP(#REF!,'Points Lookup'!$A:$B,2,FALSE)","v":{"$error":"#REF!"}},{"$f":"VLOOKUP(#REF!,'Points Lookup'!$A:$B,2,FALSE)","v":{"$error":"#REF!"}},{"$f":"VLOOKUP(#REF!,'Points Lookup'!$A:$B,2,FALSE)","v":{"$error":"#REF!"}},{"$f":"VLOOKUP(#REF!,'Points Lookup'!$A:$B,2,FALSE)","v":{"$error":"#REF!"}},{"$f":"VLOOKUP(#REF!,'Points Lookup'!$A:$B,2,FALSE)","v":{"$error":"#REF!"}},{"$f":"VLOOKUP(#REF!,'Points Lookup'!$A:$B,2,FALSE)","v":{"$error":"#REF!"}},{"$f":"VLOOKUP(#REF!,'Points Lookup'!$A:$B,2,FALSE)","v":{"$error":"#REF!"}},{"$f":"VLOOKUP(#REF!,'Points Lookup'!$A:$B,2,FALSE)","v":{"$error":"#REF!"}},{"$f":"VLOOKUP(#REF!,'Points Lookup'!$A:$B,2,FALSE)","v":{"$error":"#REF!"}},{"$f":"VLOOKUP(#REF!,'Points Lookup'!$A:$B,2,FALSE)","v":{"$error":"#REF!"}},{"$f":"VLOOKUP(#REF!,'Points Lookup'!$A:$B,2,FALSE)","v":{"$error":"#REF!"}},null,{"$f":"LARGE($E330:$X330,Z$1)","v":{"$error":"#REF!"}},{"$error":"#REF!"},{"$error":"#REF!"},{"$error":"#REF!"},{"$error":"#REF!"},{"$error":"#REF!"},{"$error":"#REF!"},{"$error":"#REF!"}]
[{"$error":"#REF!"},{"$f":"#REF!","v":{"$error":"#REF!"}},{"$f":"IF(ISBLANK(#REF!),\"\",#REF!)","v":{"$error":"#REF!"}},{"$error":"#REF!"},{"$f":"VLOOKUP(#REF!,'Points Lookup'!$A:$B,2,FALSE)","v":{"$error":"#REF!"}},{"$f":"VLOOKUP(#REF!,'Points Lookup'!$A:$B,2,FALSE)","v":{"$error":"#REF!"}},{"$f":"VLOOKUP(#REF!,'Points Lookup'!$A:$B,2,FALSE)","v":{"$error":"#REF!"}},{"$f":"VLOOKUP(#REF!,'Points Lookup'!$A:$B,2,FALSE)","v":{"$error":"#REF!"}},{"$f":"VLOOKUP(#REF!,'Points Lookup'!$A:$B,2,FALSE)","v":{"$error":"#REF!"}},{"$f":"VLOOKUP(#REF!,'Points Lookup'!$A:$B,2,FALSE)","v":{"$error":"#REF!"}},{"$f":"VLOOKUP(#REF!,'Points Lookup'!$A:$B,2,FALSE)","v":{"$error":"#REF!"}},{"$f":"VLOOKUP(#REF!,'Points Lookup'!$A:$B,2,FALSE)","v":{"$error":"#REF!"}},{"$f":"VLOOKUP(#REF!,'Points Lookup'!$A:$B,2,FALSE)","v":{"$error":"#REF!"}},{"$f":"VLOOKUP(#REF!,'Points Lookup'!$A:$B,2,FALSE)","v":{"$error":"#REF!"}},{"$f":"VLOOKUP(#REF!,'Points Lookup'!$A:$B,2,FALSE)","v":{"$error":"#REF!"}},{"$f":"VLOOKUP(#REF!,'Points Lookup'!$A:$B,2,FALSE)","v":{"$error":"#REF!"}},{"$f":"VLOOKUP(#REF!,'Points Lookup'!$A:$B,2,FALSE)","v":{"$error":"#REF!"}},{"$f":"VLOOKUP(#REF!,'Points Lookup'!$A:$B,2,FALSE)","v":{"$error":"#REF!"}},{"$f":"VLOOKUP(#REF!,'Points Lookup'!$A:$B,2,FALSE)","v":{"$error":"#REF!"}},{"$f":"VLOOKUP(#REF!,'Points Lookup'!$A:$B,2,FALSE)","v":{"$error":"#REF!"}},{"$f":"VLOOKUP(#REF!,'Points Lookup'!$A:$B,2,FALSE)","v":{"$error":"#REF!"}},{"$f":"VLOOKUP(#REF!,'Points Lookup'!$A:$B,2,FALSE)","v":{"$error":"#REF!"}},{"$f":"VLOOKUP(#REF!,'Points Lookup'!$A:$B,2,FALSE)","v":{"$error":"#REF!"}},{"$f":"VLOOKUP(#REF!,'Points Lookup'!$A:$B,2,FALSE)","v":{"$error":"#REF!"}},null,{"$error":"#REF!"},{"$error":"#REF!"},{"$error":"#REF!"},{"$error":"#REF!"},{"$error":"#REF!"},{"$error":"#REF!"},{"$error":"#REF!"},{"$error":"#REF!"}]
[{"$error":"#REF!"},{"$f":"#REF!","v":{"$error":"#REF!"}},{"$f":"IF(ISBLANK(#REF!),\"\",#REF!)","v":{"$error":"#REF!"}},{"$error":"#REF!"},{"$f":"VLOOKUP(#REF!,'Points Lookup'!$A:$B,2,FALSE)","v":{"$error":"#REF!"}},{"$f":"VLOOKUP(#REF!,'Points Lookup'!$A:$B,2,FALSE)","v":{"$error":"#REF!"}},{"$f":"VLOOKUP(#REF!,'Points Lookup'!$A:$B,2,FALSE)","v":{"$error":"#REF!"}},{"$f":"VLOOKUP(#REF!,'Points Lookup'!$A:$B,2,FALSE)","v":{"$error":"#REF!"}},{"$f":"VLOOKUP(#REF!,'Points Lookup'!$A:$B,2,FALSE)","v":{"$error":"#REF!"}},{"$f":"VLOOKUP(#REF!,'Points Lookup'!$A:$B,2,FALSE)","v":{"$error":"#REF!"}},{"$f":"VLOOKUP(#REF!,'Points Lookup'!$A:$B,2,FALSE)","v":{"$error":"#REF!"}},{"$f":"VLOOKUP(#REF!,'Points Lookup'!$A:$B,2,FALSE)","v":{"$error":"#REF!"}},{"$f":"VLOOKUP(#REF!,'Points Lookup'!$A:$B,2,FALSE)","v":{"$error":"#REF!"}},{"$f":"VLOOKUP(#REF!,'Points Lookup'!$A:$B,2,FALSE)","v":{"$error":"#REF!"}},{"$f":"VLOOKUP(#REF!,'Points Lookup'!$A:$B,2,FALSE)","v":{"$error":"#REF!"}},{"$f":"VLOOKUP(#REF!,'Points Lookup'!$A:$B,2,FALSE)","v":{"$error":"#REF!"}},{"$f":"VLOOKUP(#REF!,'Points Lookup'!$A:$B,2,FALSE)","v":{"$error":"#REF!"}},{"$f":"VLOOKUP(#REF!,'Points Lookup'!$A:$B,2,FALSE)","v":{"$error":"#REF!"}},{"$f":"VLOOKUP(#REF!,'Points Lookup'!$A:$B,2,FALSE)","v":{"$error":"#REF!"}},{"$f":"VLOOKUP(#REF!,'Points Lookup'!$A:$B,2,FALSE)","v":{"$error":"#REF!"}},{"$f":"VLOOKUP(#REF!,'Points Lookup'!$A:$B,2,FALSE)","v":{"$error":"#REF!"}},{"$f":"VLOOKUP(#REF!,'Points Lookup'!$A:$B,2,FALSE)","v":{"$error":"#REF!"}},{"$f":"VLOOKUP(#REF!,'Points Lookup'!$A:$B,2,FALSE)","v":{"$error":"#REF!"}},{"$f":"VLOOKUP(#REF!,'Points Lookup'!$A:$B,2,FALSE)","v":{"$error":"#REF!"}},null,{"$error":"#REF!"},{"$error":"#REF!"},{"$error":"#REF!"},{"$error":"#REF!"},{"$error":"#REF!"},{"$error":"#REF!"},{"$error":"#REF!"},{"$error":"#REF!"}]
[{"$error":"#REF!"},{"$f":"#REF!","v":{"$error":"#REF!"}},{"$f":"IF(ISBLANK(#REF!),\"\",#REF!)","v":{"$error":"#REF!"}},{"$error":"#REF!"},{"$f":"VLOOKUP(#REF!,'Points Lookup'!$A:$B,2,FALSE)","v":{"$error":"#REF!"}},{"$f":"VLOOKUP(#REF!,'Points Lookup'!$A:$B,2,FALSE)","v":{"$error":"#REF!"}},{"$f":"VLOOKUP(#REF!,'Points Lookup'!$A:$B,2,FALSE)","v":{"$error":"#REF!"}},{"$f":"VLOOKUP(#REF!,'Points Lookup'!$A:$B,2,FALSE)","v":{"$error":"#REF!"}},{"$f":"VLOOKUP(#REF!,'Points Lookup'!$A:$B,2,FALSE)","v":{"$error":"#REF!"}},{"$f":"VLOOKUP(#REF!,'Points Lookup'!$A:$B,2,FALSE)","v":{"$error":"#REF!"}},{"$f":"VLOOKUP(#REF!,'Points Lookup'!$A:$B,2,FALSE)","v":{"$error":"#REF!"}},{"$f":"VLOOKUP(#REF!,'Points Lookup'!$A:$B,2,FALSE)","v":{"$error":"#REF!"}},{"$f":"VLOOKUP(#REF!,'Points Lookup'!$A:$B,2,FALSE)","v":{"$error":"#REF!"}},{"$f":"VLOOKUP(#REF!,'Points Lookup'!$A:$B,2,FALSE)","v":{"$error":"#REF!"}},{"$f":"VLOOKUP(#REF!,'Points Lookup'!$A:$B,2,FALSE)","v":{"$error":"#REF!"}},{"$f":"VLOOKUP(#REF!,'Points Lookup'!$A:$B,2,FALSE)","v":{"$error":"#REF!"}},{"$f":"VLOOKUP(#REF!,'Points Lookup'!$A:$B,2,FALSE)","v":{"$error":"#REF!"}},{"$f":"VLOOKUP(#REF!,'Points Lookup'!$A:$B,2,FALSE)","v":{"$error":"#REF!"}},{"$f":"VLOOKUP(#REF!,'Points Lookup'!$A:$B,2,FALSE)","v":{"$error":"#REF!"}},{"$f":"VLOOKUP(#REF!,'Points Lookup'!$A:$B,2,FALSE)","v":{"$error":"#REF!"}},{"$f":"VLOOKUP(#REF!,'Points Lookup'!$A:$B,2,FALSE)","v":{"$error":"#REF!"}},{"$f":"VLOOKUP(#REF!,'Points Lookup'!$A:$B,2,FALSE)","v":{"$error":"#REF!"}},{"$f":"VLOOKUP(#REF!,'Points Lookup'!$A:$B,2,FALSE)","v":{"$error":"#REF!"}},{"$f":"VLOOKUP(#REF!,'Points Lookup'!$A:$B,2,FALSE)","v":{"$error":"#REF!"}},null,{"$error":"#REF!"},{"$error":"#REF!"},{"$error":"#REF!"},{"$error":"#REF!"},{"$error":"#REF!"},{"$error":"#REF!"},{"$error":"#REF!"},{"$error":"#REF!"}]
[{"$error":"#REF!"},{"$f":"#REF!","v":{"$error":"#REF!"}},{"$f":"IF(ISBLANK(#REF!),\"\",#REF!)","v":{"$error":"#REF!"}},{"$error":"#REF!"},{"$f":"VLOOKUP(#REF!,'Points Lookup'!$A:$B,2,FALSE)","v":{"$error":"#REF!"}},{"$f":"VLOOKUP(#REF!,'Points Lookup'!$A:$B,2,FALSE)","v":{"$error":"#REF!"}},{"$f":"VLOOKUP(#REF!,'Points Lookup'!$A:$B,2,FALSE)","v":{"$error":"#REF!"}},{"$f":"VLOOKUP(#REF!,'Points Lookup'!$A:$B,2,FALSE)","v":{"$error":"#REF!"}},{"$f":"VLOOKUP(#REF!,'Points Lookup'!$A:$B,2,FALSE)","v":{"$error":"#REF!"}},{"$f":"VLOOKUP(#REF!,'Points Lookup'!$A:$B,2,FALSE)","v":{"$error":"#REF!"}},{"$f":"VLOOKUP(#REF!,'Points Lookup'!$A:$B,2,FALSE)","v":{"$error":"#REF!"}},{"$f":"VLOOKUP(#REF!,'Points Lookup'!$A:$B,2,FALSE)","v":{"$error":"#REF!"}},{"$f":"VLOOKUP(#REF!,'Points Lookup'!$A:$B,2,FALSE)","v":{"$error":"#REF!"}},{"$f":"VLOOKUP(#REF!,'Points Lookup'!$A:$B,2,FALSE)","v":{"$error":"#REF!"}},{"$f":"VLOOKUP(#REF!,'Points Lookup'!$A:$B,2,FALSE)","v":{"$error":"#REF!"}},{"$f":"VLOOKUP(#REF!,'Points Lookup'!$A:$B,2,FALSE)","v":{"$error":"#REF!"}},{"$f":"VLOOKUP(#REF!,'Points Lookup'!$A:$B,2,FALSE)","v":{"$error":"#REF!"}},{"$f":"VLOOKUP(#REF!,'Points Lookup'!$A:$B,2,FALSE)","v":{"$error":"#REF!"}},{"$f":"VLOOKUP(#REF!,'Points Lookup'!$A:$B,2,FALSE)","v":{"$error":"#REF!"}},{"$f":"VLOOKUP(#REF!,'Points Lookup'!$A:$B,2,FALSE)","v":{"$error":"#REF!"}},{"$f":"VLOOKUP(#REF!,'Points Lookup'!$A:$B,2,FALSE)","v":{"$error":"#REF!"}},{"$f":"VLOOKUP(#REF!,'Points Lookup'!$A:$B,2,FALSE)","v":{"$error":"#REF!"}},{"$f":"VLOOKUP(#REF!,'Points Lookup'!$A:$B,2,FALSE)","v":{"$error":"#REF!"}},{"$f":"VLOOKUP(#REF!,'Points Lookup'!$A:$B,2,FALSE)","v":{"$error":"#REF!"}},null,{"$error":"#REF!"},{"$error":"#REF!"},{"$error":"#REF!"},{"$error":"#REF!"},{"$error":"#REF!"},{"$error":"#REF!"},{"$error":"#REF!"},{"$error":"#REF!"}]
[{"$error":"#REF!"},{"$f":"#REF!","v":{"$error":"#REF!"}},{"$f":"IF(ISBLANK(#REF!),\"\",#REF!)","v":{"$error":"#REF!"}},{"$error":"#REF!"},{"$f":"VLOOKUP(#REF!,'Points Lookup'!$A:$B,2,FALSE)","v":{"$error":"#REF!"}},{"$f":"VLOOKUP(#REF!,'Points Lookup'!$A:$B,2,FALSE)","v":{"$error":"#REF!"}},{"$f":"VLOOKUP(#REF!,'Points Lookup'!$A:$B,2,FALSE)","v":{"$error":"#REF!"}},{"$f":"VLOOKUP(#REF!,'Points Lookup'!$A:$B,2,FALSE)","v":{"$error":"#REF!"}},{"$f":"VLOOKUP(#REF!,'Points Lookup'!$A:$B,2,FALSE)","v":{"$error":"#REF!"}},{"$f":"VLOOKUP(#REF!,'Points Lookup'!$A:$B,2,FALSE)","v":{"$error":"#REF!"}},{"$f":"VLOOKUP(#REF!,'Points Lookup'!$A:$B,2,FALSE)","v":{"$error":"#REF!"}},{"$f":"VLOOKUP(#REF!,'Points Lookup'!$A:$B,2,FALSE)","v":{"$error":"#REF!"}},{"$f":"VLOOKUP(#REF!,'Points Lookup'!$A:$B,2,FALSE)","v":{"$error":"#REF!"}},{"$f":"VLOOKUP(#REF!,'Points Lookup'!$A:$B,2,FALSE)","v":{"$error":"#REF!"}},{"$f":"VLOOKUP(#REF!,'Points Lookup'!$A:$B,2,FALSE)","v":{"$error":"#REF!"}},{"$f":"VLOOKUP(#REF!,'Points Lookup'!$A:$B,2,FALSE)","v":{"$error":"#REF!"}},{"$f":"VLOOKUP(#REF!,'Points Lookup'!$A:$B,2,FALSE)","v":{"$error":"#REF!"}},{"$f":"VLOOKUP(#REF!,'Points Lookup'!$A:$B,2,FALSE)","v":{"$error":"#REF!"}},{"$f":"VLOOKUP(#REF!,'Points Lookup'!$A:$B,2,FALSE)","v":{"$error":"#REF!"}},{"$f":"VLOOKUP(#REF!,'Points Lookup'!$A:$B,2,FALSE)","v":{"$error":"#REF!"}},{"$f":"VLOOKUP(#REF!,'Points Lookup'!$A:$B,2,FALSE)","v":{"$error":"#REF!"}},{"$f":"VLOOKUP(#REF!,'Points Lookup'!$A:$B,2,FALSE)","v":{"$error":"#REF!"}},{"$f":"VLOOKUP(#REF!,'Points Lookup'!$A:$B,2,FALSE)","v":{"$error":"#REF!"}},{"$f":"VLOOKUP(#REF!,'Points Lookup'!$A:$B,2,FALSE)","v":{"$error":"#REF!"}},null,{"$error":"#REF!"},{"$error":"#REF!"},{"$error":"#REF!"},{"$error":"#REF!"},{"$error":"#REF!"},{"$error":"#REF!"},{"$error":"#REF!"},{"$error":"#REF!"}]
[{"$error":"#REF!"},{"$f":"#REF!","v":{"$error":"#REF!"}},{"$f":"IF(ISBLANK(#REF!),\"\",#REF!)","v":{"$error":"#REF!"}},{"$error":"#REF!"},{"$f":"VLOOKUP(#REF!,'Points Lookup'!$A:$B,2,FALSE)","v":{"$error":"#REF!"}},{"$f":"VLOOKUP(#REF!,'Points Lookup'!$A:$B,2,FALSE)","v":{"$error":"#REF!"}},{"$f":"VLOOKUP(#REF!,'Points Lookup'!$A:$B,2,FALSE)","v":{"$error":"#REF!"}},{"$f":"VLOOKUP(#REF!,'Points Lookup'!$A:$B,2,FALSE)","v":{"$error":"#REF!"}},{"$f":"VLOOKUP(#REF!,'Points Lookup'!$A:$B,2,FALSE)","v":{"$error":"#REF!"}},{"$f":"VLOOKUP(#REF!,'Points Lookup'!$A:$B,2,FALSE)","v":{"$error":"#REF!"}},{"$f":"VLOOKUP(#REF!,'Points Lookup'!$A:$B,2,FALSE)","v":{"$error":"#REF!"}},{"$f":"VLOOKUP(#REF!,'Points Lookup'!$A:$B,2,FALSE)","v":{"$error":"#REF!"}},{"$f":"VLOOKUP(#REF!,'Points Lookup'!$A:$B,2,FALSE)","v":{"$error":"#REF!"}},{"$f":"VLOOKUP(#REF!,'Points Lookup'!$A:$B,2,FALSE)","v":{"$error":"#REF!"}},{"$f":"VLOOKUP(#REF!,'Points Lookup'!$A:$B,2,FALSE)","v":{"$error":"#REF!"}},{"$f":"VLOOKUP(#REF!,'Points Lookup'!$A:$B,2,FALSE)","v":{"$error":"#REF!"}},{"$f":"VLOOKUP(#REF!,'Points Lookup'!$A:$B,2,FALSE)","v":{"$error":"#REF!"}},{"$f":"VLOOKUP(#REF!,'Points Lookup'!$A:$B,2,FALSE)","v":{"$error":"#REF!"}},{"$f":"VLOOKUP(#REF!,'Points Lookup'!$A:$B,2,FALSE)","v":{"$error":"#REF!"}},{"$f":"VLOOKUP(#REF!,'Points Lookup'!$A:$B,2,FALSE)","v":{"$error":"#REF!"}},{"$f":"VLOOKUP(#REF!,'Points Lookup'!$A:$B,2,FALSE)","v":{"$error":"#REF!"}},{"$f":"VLOOKUP(#REF!,'Points Lookup'!$A:$B,2,FALSE)","v":{"$error":"#REF!"}},{"$f":"VLOOKUP(#REF!,'Points Lookup'!$A:$B,2,FALSE)","v":{"$error":"#REF!"}},{"$f":"VLOOKUP(#REF!,'Points Lookup'!$A:$B,2,FALSE)","v":{"$error":"#REF!"}},null,{"$error":"#REF!"},{"$error":"#REF!"},{"$error":"#REF!"},{"$error":"#REF!"},{"$error":"#REF!"},{"$error":"#REF!"},{"$error":"#REF!"},{"$error":"#REF!"}]
[{"$error":"#REF!"},{"$f":"#REF!","v":{"$error":"#REF!"}},{"$f":"IF(ISBLANK(#REF!),\"\",#REF!)","v":{"$error":"#REF!"}},{"$error":"#REF!"},{"$f":"VLOOKUP(#REF!,'Points Lookup'!$A:$B,2,FALSE)","v":{"$error":"#REF!"}},{"$f":"VLOOKUP(#REF!,'Points Lookup'!$A:$B,2,FALSE)","v":{"$error":"#REF!"}},{"$f":"VLOOKUP(#REF!,'Points Lookup'!$A:$B,2,FALSE)","v":{"$error":"#REF!"}},{"$f":"VLOOKUP(#REF!,'Points Lookup'!$A:$B,2,FALSE)","v":{"$error":"#REF!"}},{"$f":"VLOOKUP(#REF!,'Points Lookup'!$A:$B,2,FALSE)","v":{"$error":"#REF!"}},{"$f":"VLOOKUP(#REF!,'Points Lookup'!$A:$B,2,FALSE)","v":{"$error":"#REF!"}},{"$f":"VLOOKUP(#REF!,'Points Lookup'!$A:$B,2,FALSE)","v":{"$error":"#REF!"}},{"$f":"VLOOKUP(#REF!,'Points Lookup'!$A:$B,2,FALSE)","v":{"$error":"#REF!"}},{"$f":"VLOOKUP(#REF!,'Points Lookup'!$A:$B,2,FALSE)","v":{"$error":"#REF!"}},{"$f":"VLOOKUP(#REF!,'Points Lookup'!$A:$B,2,FALSE)","v":{"$error":"#REF!"}},{"$f":"VLOOKUP(#REF!,'Points Lookup'!$A:$B,2,FALSE)","v":{"$error":"#REF!"}},{"$f":"VLOOKUP(#REF!,'Points Lookup'!$A:$B,2,FALSE)","v":{"$error":"#REF!"}},{"$f":"VLOOKUP(#REF!,'Points Lookup'!$A:$B,2,FALSE)","v":{"$error":"#REF!"}},{"$f":"VLOOKUP(#REF!,'Points Lookup'!$A:$B,2,FALSE)","v":{"$error":"#REF!"}},{"$f":"VLOOKUP(#REF!,'Points Lookup'!$A:$B,2,FALSE)","v":{"$error":"#REF!"}},{"$f":"VLOOKUP(#REF!,'Points Lookup'!$A:$B,2,FALSE)","v":{"$error":"#REF!"}},{"$f":"VLOOKUP(#REF!,'Points Lookup'!$A:$B,2,FALSE)","v":{"$error":"#REF!"}},{"$f":"VLOOKUP(#REF!,'Points Lookup'!$A:$B,2,FALSE)","v":{"$error":"#REF!"}},{"$f":"VLOOKUP(#REF!,'Points Lookup'!$A:$B,2,FALSE)","v":{"$error":"#REF!"}},{"$f":"VLOOKUP(#REF!,'Points Lookup'!$A:$B,2,FALSE)","v":{"$error":"#REF!"}},null,{"$error":"#REF!"},{"$error":"#REF!"},{"$error":"#REF!"},{"$error":"#REF!"},{"$error":"#REF!"},{"$error":"#REF!"},{"$error":"#REF!"},{"$error":"#REF!"}]
[{"$error":"#REF!"},{"$f":"#REF!","v":{"$error":"#REF!"}},{"$f":"IF(ISBLANK(#REF!),\"\",#REF!)","v":{"$error":"#REF!"}},{"$error":"#REF!"},{"$f":"VLOOKUP(#REF!,'Points Lookup'!$A:$B,2,FALSE)","v":{"$error":"#REF!"}},{"$f":"VLOOKUP(#REF!,'Points Lookup'!$A:$B,2,FALSE)","v":{"$error":"#REF!"}},{"$f":"VLOOKUP(#REF!,'Points Lookup'!$A:$B,2,FALSE)","v":{"$error":"#REF!"}},{"$f":"VLOOKUP(#REF!,'Points Lookup'!$A:$B,2,FALSE)","v":{"$error":"#REF!"}},{"$f":"VLOOKUP(#REF!,'Points Lookup'!$A:$B,2,FALSE)","v":{"$error":"#REF!"}},{"$f":"VLOOKUP(#REF!,'Points Lookup'!$A:$B,2,FALSE)","v":{"$error":"#REF!"}},{"$f":"VLOOKUP(#REF!,'Points Lookup'!$A:$B,2,FALSE)","v":{"$error":"#REF!"}},{"$f":"VLOOKUP(#REF!,'Points Lookup'!$A:$B,2,FALSE)","v":{"$error":"#REF!"}},{"$f":"VLOOKUP(#REF!,'Points Lookup'!$A:$B,2,FALSE)","v":{"$error":"#REF!"}},{"$f":"VLOOKUP(#REF!,'Points Lookup'!$A:$B,2,FALSE)","v":{"$error":"#REF!"}},{"$f":"VLOOKUP(#REF!,'Points Lookup'!$A:$B,2,FALSE)","v":{"$error":"#REF!"}},{"$f":"VLOOKUP(#REF!,'Points Lookup'!$A:$B,2,FALSE)","v":{"$error":"#REF!"}},{"$f":"VLOOKUP(#REF!,'Points Lookup'!$A:$B,2,FALSE)","v":{"$error":"#REF!"}},{"$f":"VLOOKUP(#REF!,'Points Lookup'!$A:$B,2,FALSE)","v":{"$error":"#REF!"}},{"$f":"VLOOKUP(#REF!,'Points Lookup'!$A:$B,2,FALSE)","v":{"$error":"#REF!"}},{"$f":"VLOOKUP(#REF!,'Points Lookup'!$A:$B,2,FALSE)","v":{"$error":"#REF!"}},{"$f":"VLOOKUP(#REF!,'Points Lookup'!$A:$B,2,FALSE)","v":{"$error":"#REF!"}},{"$f":"VLOOKUP(#REF!,'Points Lookup'!$A:$B,2,FALSE)","v":{"$error":"#REF!"}},{"$f":"VLOOKUP(#REF!,'Points Lookup'!$A:$B,2,FALSE)","v":{"$error":"#REF!"}},{"$f":"VLOOKUP(#REF!,'Points Lookup'!$A:$B,2,FALSE)","v":{"$error":"#REF!"}},null,{"$error":"#REF!"},{"$error":"#REF!"},{"$error":"#REF!"},{"$error":"#REF!"},{"$error":"#REF!"},{"$error":"#REF!"},{"$error":"#REF!"},{"$error":"#REF!"}]
[{"$error":"#REF!"},{"$f":"#REF!","v":{"$error":"#REF!"}},{"$f":"IF(ISBLANK(#REF!),\"\",#REF!)","v":{"$error":"#REF!"}},{"$error":"#REF!"},{"$f":"VLOOKUP(#REF!,'Points Lookup'!$A:$B,2,FALSE)","v":{"$error":"#REF!"}},{"$f":"VLOOKUP(#REF!,'Points Lookup'!$A:$B,2,FALSE)","v":{"$error":"#REF!"}},{"$f":"VLOOKUP(#REF!,'Points Lookup'!$A:$B,2,FALSE)","v":{"$error":"#REF!"}},{"$f":"VLOOKUP(#REF!,'Points Lookup'!$A:$B,2,FALSE)","v":{"$error":"#REF!"}},{"$f":"VLOOKUP(#REF!,'Points Lookup'!$A:$B,2,FALSE)","v":{"$error":"#REF!"}},{"$f":"VLOOKUP(#REF!,'Points Lookup'!$A:$B,2,FALSE)","v":{"$error":"#REF!"}},{"$f":"VLOOKUP(#REF!,'Points Lookup'!$A:$B,2,FALSE)","v":{"$error":"#REF!"}},{"$f":"VLOOKUP(#REF!,'Points Lookup'!$A:$B,2,FALSE)","v":{"$error":"#REF!"}},{"$f":"VLOOKUP(#REF!,'Points Lookup'!$A:$B,2,FALSE)","v":{"$error":"#REF!"}},{"$f":"VLOOKUP(#REF!,'Points Lookup'!$A:$B,2,FALSE)","v":{"$error":"#REF!"}},{"$f":"VLOOKUP(#REF!,'Points Lookup'!$A:$B,2,FALSE)","v":{"$error":"#REF!"}},{"$f":"VLOOKUP(#REF!,'Points Lookup'!$A:$B,2,FALSE)","v":{"$error":"#REF!"}},{"$f":"VLOOKUP(#REF!,'Points Lookup'!$A:$B,2,FALSE)","v":{"$error":"#REF!"}},{"$f":"VLOOKUP(#REF!,'Points Lookup'!$A:$B,2,FALSE)","v":{"$error":"#REF!"}},{"$f":"VLOOKUP(#REF!,'Points Lookup'!$A:$B,2,FALSE)","v":{"$error":"#REF!"}},{"$f":"VLOOKUP(#REF!,'Points Lookup'!$A:$B,2,FALSE)","v":{"$error":"#REF!"}},{"$f":"VLOOKUP(#REF!,'Points Lookup'!$A:$B,2,FALSE)","v":{"$error":"#REF!"}},{"$f":"VLOOKUP(#REF!,'Points Lookup'!$A:$B,2,FALSE)","v":{"$error":"#REF!"}},{"$f":"VLOOKUP(#REF!,'Points Lookup'!$A:$B,2,FALSE)","v":{"$error":"#REF!"}},{"$f":"VLOOKUP(#REF!,'Points Lookup'!$A:$B,2,FALSE)","v":{"$error":"#REF!"}},null,{"$error":"#REF!"},{"$error":"#REF!"},{"$error":"#REF!"},{"$error":"#REF!"},{"$error":"#REF!"},{"$error":"#REF!"},{"$error":"#REF!"},{"$error":"#REF!"}]
[{"$error":"#REF!"},{"$f":"#REF!","v":{"$error":"#REF!"}},{"$f":"IF(ISBLANK(#REF!),\"\",#REF!)","v":{"$error":"#REF!"}},{"$error":"#REF!"},{"$f":"VLOOKUP(#REF!,'Points Lookup'!$A:$B,2,FALSE)","v":{"$error":"#REF!"}},{"$f":"VLOOKUP(#REF!,'Points Lookup'!$A:$B,2,FALSE)","v":{"$error":"#REF!"}},{"$f":"VLOOKUP(#REF!,'Points Lookup'!$A:$B,2,FALSE)","v":{"$error":"#REF!"}},{"$f":"VLOOKUP(#REF!,'Points Lookup'!$A:$B,2,FALSE)","v":{"$error":"#REF!"}},{"$f":"VLOOKUP(#REF!,'Points Lookup'!$A:$B,2,FALSE)","v":{"$error":"#REF!"}},{"$f":"VLOOKUP(#REF!,'Points Lookup'!$A:$B,2,FALSE)","v":{"$error":"#REF!"}},{"$f":"VLOOKUP(#REF!,'Points Lookup'!$A:$B,2,FALSE)","v":{"$error":"#REF!"}},{"$f":"VLOOKUP(#REF!,'Points Lookup'!$A:$B,2,FALSE)","v":{"$error":"#REF!"}},{"$f":"VLOOKUP(#REF!,'Points Lookup'!$A:$B,2,FALSE)","v":{"$error":"#REF!"}},{"$f":"VLOOKUP(#REF!,'Points Lookup'!$A:$B,2,FALSE)","v":{"$error":"#REF!"}},{"$f":"VLOOKUP(#REF!,'Points Lookup'!$A:$B,2,FALSE)","v":{"$error":"#REF!"}},{"$f":"VLOOKUP(#REF!,'Points Lookup'!$A:$B,2,FALSE)","v":{"$error":"#REF!"}},{"$f":"VLOOKUP(#REF!,'Points Lookup'!$A:$B,2,FALSE)","v":{"$error":"#REF!"}},{"$f":"VLOOKUP(#REF!,'Points Lookup'!$A:$B,2,FALSE)","v":{"$error":"#REF!"}},{"$f":"VLOOKUP(#REF!,'Points Lookup'!$A:$B,2,FALSE)","v":{"$error":"#REF!"}},{"$f":"VLOOKUP(#REF!,'Points Lookup'!$A:$B,2,FALSE)","v":{"$error":"#REF!"}},{"$f":"VLOOKUP(#REF!,'Points Lookup'!$A:$B,2,FALSE)","v":{"$error":"#REF!"}},{"$f":"VLOOKUP(#REF!,'Points Lookup'!$A:$B,2,FALSE)","v":{"$error":"#REF!"}},{"$f":"VLOOKUP(#REF!,'Points Lookup'!$A:$B,2,FALSE)","v":{"$error":"#REF!"}},{"$f":"VLOOKUP(#REF!,'Points Lookup'!$A:$B,2,FALSE)","v":{"$error":"#REF!"}},null,{"$error":"#REF!"},{"$error":"#REF!"},{"$error":"#REF!"},{"$error":"#REF!"},{"$error":"#REF!"},{"$error":"#REF!"},{"$error":"#REF!"},{"$error":"#REF!"}]
[{"$error":"#REF!"},{"$f":"#REF!","v":{"$error":"#REF!"}},{"$f":"IF(ISBLANK(#REF!),\"\",#REF!)","v":{"$error":"#REF!"}},{"$error":"#REF!"},{"$f":"VLOOKUP(#REF!,'Points Lookup'!$A:$B,2,FALSE)","v":{"$error":"#REF!"}},{"$f":"VLOOKUP(#REF!,'Points Lookup'!$A:$B,2,FALSE)","v":{"$error":"#REF!"}},{"$f":"VLOOKUP(#REF!,'Points Lookup'!$A:$B,2,FALSE)","v":{"$error":"#REF!"}},{"$f":"VLOOKUP(#REF!,'Points Lookup'!$A:$B,2,FALSE)","v":{"$error":"#REF!"}},{"$f":"VLOOKUP(#REF!,'Points Lookup'!$A:$B,2,FALSE)","v":{"$error":"#REF!"}},{"$f":"VLOOKUP(#REF!,'Points Lookup'!$A:$B,2,FALSE)","v":{"$error":"#REF!"}},{"$f":"VLOOKUP(#REF!,'Points Lookup'!$A:$B,2,FALSE)","v":{"$error":"#REF!"}},{"$f":"VLOOKUP(#REF!,'Points Lookup'!$A:$B,2,FALSE)","v":{"$error":"#REF!"}},{"$f":"VLOOKUP(#REF!,'Points Lookup'!$A:$B,2,FALSE)","v":{"$error":"#REF!"}},{"$f":"VLOOKUP(#REF!,'Points Lookup'!$A:$B,2,FALSE)","v":{"$error":"#REF!"}},{"$f":"VLOOKUP(#REF!,'Points Lookup'!$A:$B,2,FALSE)","v":{"$error":"#REF!"}},{"$f":"VLOOKUP(#REF!,'Points Lookup'!$A:$B,2,FALSE)","v":{"$error":"#REF!"}},{"$f":"VLOOKUP(#REF!,'Points Lookup'!$A:$B,2,FALSE)","v":{"$error":"#REF!"}},{"$f":"VLOOKUP(#REF!,'Points Lookup'!$A:$B,2,FALSE)","v":{"$error":"#REF!"}},{"$f":"VLOOKUP(#REF!,'Points Lookup'!$A:$B,2,FALSE)","v":{"$error":"#REF!"}},{"$f":"VLOOKUP(#REF!,'Points Lookup'!$A:$B,2,FALSE)","v":{"$error":"#REF!"}},{"$f":"VLOOKUP(#REF!,'Points Lookup'!$A:$B,2,FALSE)","v":{"$error":"#REF!"}},{"$f":"VLOOKUP(#REF!,'Points Lookup'!$A:$B,2,FALSE)","v":{"$error":"#REF!"}},{"$f":"VLOOKUP(#REF!,'Points Lookup'!$A:$B,2,FALSE)","v":{"$error":"#REF!"}},{"$f":"VLOOKUP(#REF!,'Points Lookup'!$A:$B,2,FALSE)","v":{"$error":"#REF!"}},null,{"$error":"#REF!"},{"$error":"#REF!"},{"$error":"#REF!"},{"$error":"#REF!"},{"$error":"#REF!"},{"$error":"#REF!"},{"$error":"#REF!"},{"$error":"#REF!"}]
[{"$error":"#REF!"},{"$f":"#REF!","v":{"$error":"#REF!"}},{"$f":"IF(ISBLANK(#REF!),\"\",#REF!)","v":{"$error":"#REF!"}},{"$error":"#REF!"},{"$f":"VLOOKUP(#REF!,'Points Lookup'!$A:$B,2,FALSE)","v":{"$error":"#REF!"}},{"$f":"VLOOKUP(#REF!,'Points Lookup'!$A:$B,2,FALSE)","v":{"$error":"#REF!"}},{"$f":"VLOOKUP(#REF!,'Points Lookup'!$A:$B,2,FALSE)","v":{"$error":"#REF!"}},{"$f":"VLOOKUP(#REF!,'Points Lookup'!$A:$B,2,FALSE)","v":{"$error":"#REF!"}},{"$f":"VLOOKUP(#REF!,'Points Lookup'!$A:$B,2,FALSE)","v":{"$error":"#REF!"}},{"$f":"VLOOKUP(#REF!,'Points Lookup'!$A:$B,2,FALSE)","v":{"$error":"#REF!"}},{"$f":"VLOOKUP(#REF!,'Points Lookup'!$A:$B,2,FALSE)","v":{"$error":"#REF!"}},{"$f":"VLOOKUP(#REF!,'Points Lookup'!$A:$B,2,FALSE)","v":{"$error":"#REF!"}},{"$f":"VLOOKUP(#REF!,'Points Lookup'!$A:$B,2,FALSE)","v":{"$error":"#REF!"}},{"$f":"VLOOKUP(#REF!,'Points Lookup'!$A:$B,2,FALSE)","v":{"$error":"#REF!"}},{"$f":"VLOOKUP(#REF!,'Points Lookup'!$A:$B,2,FALSE)","v":{"$error":"#REF!"}},{"$f":"VLOOKUP(#REF!,'Points Lookup'!$A:$B,2,FALSE)","v":{"$error":"#REF!"}},{"$f":"VLOOKUP(#REF!,'Points Lookup'!$A:$B,2,FALSE)","v":{"$error":"#REF!"}},{"$f":"VLOOKUP(#REF!,'Points Lookup'!$A:$B,2,FALSE)","v":{"$error":"#REF!"}},{"$f":"VLOOKUP(#REF!,'Points Lookup'!$A:$B,2,FALSE)","v":{"$error":"#REF!"}},{"$f":"VLOOKUP(#REF!,'Points Lookup'!$A:$B,2,FALSE)","v":{"$error":"#REF!"}},{"$f":"VLOOKUP(#REF!,'Points Lookup'!$A:$B,2,FALSE)","v":{"$error":"#REF!"}},{"$f":"VLOOKUP(#REF!,'Points Lookup'!$A:$B,2,FALSE)","v":{"$error":"#REF!"}},{"$f":"VLOOKUP(#REF!,'Points Lookup'!$A:$B,2,FALSE)","v":{"$error":"#REF!"}},{"$f":"VLOOKUP(#REF!,'Points Lookup'!$A:$B,2,FALSE)","v":{"$error":"#REF!"}},null,{"$error":"#REF!"},{"$error":"#REF!"},{"$error":"#REF!"},{"$error":"#REF!"},{"$error":"#REF!"},{"$error":"#REF!"},{"$error":"#REF!"},{"$error":"#REF!"}]
[{"$error":"#REF!"},{"$f":"#REF!","v":{"$error":"#REF!"}},{"$f":"IF(ISBLANK(#REF!),\"\",#REF!)","v":{"$error":"#REF!"}},{"$error":"#REF!"},{"$f":"VLOOKUP(#REF!,'Points Lookup'!$A:$B,2,FALSE)","v":{"$error":"#REF!"}},{"$f":"VLOOKUP(#REF!,'Points Lookup'!$A:$B,2,FALSE)","v":{"$error":"#REF!"}},{"$f":"VLOOKUP(#REF!,'Points Lookup'!$A:$B,2,FALSE)","v":{"$error":"#REF!"}},{"$f":"VLOOKUP(#REF!,'Points Lookup'!$A:$B,2,FALSE)","v":{"$error":"#REF!"}},{"$f":"VLOOKUP(#REF!,'Points Lookup'!$A:$B,2,FALSE)","v":{"$error":"#REF!"}},{"$f":"VLOOKUP(#REF!,'Points Lookup'!$A:$B,2,FALSE)","v":{"$error":"#REF!"}},{"$f":"VLOOKUP(#REF!,'Points Lookup'!$A:$B,2,FALSE)","v":{"$error":"#REF!"}},{"$f":"VLOOKUP(#REF!,'Points Lookup'!$A:$B,2,FALSE)","v":{"$error":"#REF!"}},{"$f":"VLOOKUP(#REF!,'Points Lookup'!$A:$B,2,FALSE)","v":{"$error":"#REF!"}},{"$f":"VLOOKUP(#REF!,'Points Lookup'!$A:$B,2,FALSE)","v":{"$error":"#REF!"}},{"$f":"VLOOKUP(#REF!,'Points Lookup'!$A:$B,2,FALSE)","v":{"$error":"#REF!"}},{"$f":"VLOOKUP(#REF!,'Points Lookup'!$A:$B,2,FALSE)","v":{"$error":"#REF!"}},{"$f":"VLOOKUP(#REF!,'Points Lookup'!$A:$B,2,FALSE)","v":{"$error":"#REF!"}},{"$f":"VLOOKUP(#REF!,'Points Lookup'!$A:$B,2,FALSE)","v":{"$error":"#REF!"}},{"$f":"VLOOKUP(#REF!,'Points Lookup'!$A:$B,2,FALSE)","v":{"$error":"#REF!"}},{"$f":"VLOOKUP(#REF!,'Points Lookup'!$A:$B,2,FALSE)","v":{"$error":"#REF!"}},{"$f":"VLOOKUP(#REF!,'Points Lookup'!$A:$B,2,FALSE)","v":{"$error":"#REF!"}},{"$f":"VLOOKUP(#REF!,'Points Lookup'!$A:$B,2,FALSE)","v":{"$error":"#REF!"}},{"$f":"VLOOKUP(#REF!,'Points Lookup'!$A:$B,2,FALSE)","v":{"$error":"#REF!"}},{"$f":"VLOOKUP(#REF!,'Points Lookup'!$A:$B,2,FALSE)","v":{"$error":"#REF!"}},null,{"$error":"#REF!"},{"$error":"#REF!"},{"$error":"#REF!"},{"$error":"#REF!"},{"$error":"#REF!"},{"$error":"#REF!"},{"$error":"#REF!"},{"$error":"#REF!"}]
[{"$error":"#REF!"},{"$f":"#REF!","v":{"$error":"#REF!"}},{"$f":"IF(ISBLANK(#REF!),\"\",#REF!)","v":{"$error":"#REF!"}},{"$error":"#REF!"},{"$f":"VLOOKUP(#REF!,'Points Lookup'!$A:$B,2,FALSE)","v":{"$error":"#REF!"}},{"$f":"VLOOKUP(#REF!,'Points Lookup'!$A:$B,2,FALSE)","v":{"$error":"#REF!"}},{"$f":"VLOOKUP(#REF!,'Points Lookup'!$A:$B,2,FALSE)","v":{"$error":"#REF!"}},{"$f":"VLOOKUP(#REF!,'Points Lookup'!$A:$B,2,FALSE)","v":{"$error":"#REF!"}},{"$f":"VLOOKUP(#REF!,'Points Lookup'!$A:$B,2,FALSE)","v":{"$error":"#REF!"}},{"$f":"VLOOKUP(#REF!,'Points Lookup'!$A:$B,2,FALSE)","v":{"$error":"#REF!"}},{"$f":"VLOOKUP(#REF!,'Points Lookup'!$A:$B,2,FALSE)","v":{"$error":"#REF!"}},{"$f":"VLOOKUP(#REF!,'Points Lookup'!$A:$B,2,FALSE)","v":{"$error":"#REF!"}},{"$f":"VLOOKUP(#REF!,'Points Lookup'!$A:$B,2,FALSE)","v":{"$error":"#REF!"}},{"$f":"VLOOKUP(#REF!,'Points Lookup'!$A:$B,2,FALSE)","v":{"$error":"#REF!"}},{"$f":"VLOOKUP(#REF!,'Points Lookup'!$A:$B,2,FALSE)","v":{"$error":"#REF!"}},{"$f":"VLOOKUP(#REF!,'Points Lookup'!$A:$B,2,FALSE)","v":{"$error":"#REF!"}},{"$f":"VLOOKUP(#REF!,'Points Lookup'!$A:$B,2,FALSE)","v":{"$error":"#REF!"}},{"$f":"VLOOKUP(#REF!,'Points Lookup'!$A:$B,2,FALSE)","v":{"$error":"#REF!"}},{"$f":"VLOOKUP(#REF!,'Points Lookup'!$A:$B,2,FALSE)","v":{"$error":"#REF!"}},{"$f":"VLOOKUP(#REF!,'Points Lookup'!$A:$B,2,FALSE)","v":{"$error":"#REF!"}},{"$f":"VLOOKUP(#REF!,'Points Lookup'!$A:$B,2,FALSE)","v":{"$error":"#REF!"}},{"$f":"VLOOKUP(#REF!,'Points Lookup'!$A:$B,2,FALSE)","v":{"$error":"#REF!"}},{"$f":"VLOOKUP(#REF!,'Points Lookup'!$A:$B,2,FALSE)","v":{"$error":"#REF!"}},{"$f":"VLOOKUP(#REF!,'Points Lookup'!$A:$B,2,FALSE)","v":{"$error":"#REF!"}},null,{"$error":"#REF!"},{"$error":"#REF!"},{"$error":"#REF!"},{"$error":"#REF!"},{"$error":"#REF!"},{"$error":"#REF!"},{"$error":"#REF!"},{"$error":"#REF!"}]
[{"$error":"#REF!"},{"$f":"#REF!","v":{"$error":"#REF!"}},{"$f":"IF(ISBLANK(#REF!),\"\",#REF!)","v":{"$error":"#REF!"}},{"$error":"#REF!"},{"$f":"VLOOKUP(#REF!,'Points Lookup'!$A:$B,2,FALSE)","v":{"$error":"#REF!"}},{"$f":"VLOOKUP(#REF!,'Points Lookup'!$A:$B,2,FALSE)","v":{"$error":"#REF!"}},{"$f":"VLOOKUP(#REF!,'Points Lookup'!$A:$B,2,FALSE)","v":{"$error":"#REF!"}},{"$f":"VLOOKUP(#REF!,'Points Lookup'!$A:$B,2,FALSE)","v":{"$error":"#REF!"}},{"$f":"VLOOKUP(#REF!,'Points Lookup'!$A:$B,2,FALSE)","v":{"$error":"#REF!"}},{"$f":"VLOOKUP(#REF!,'Points Lookup'!$A:$B,2,FALSE)","v":{"$error":"#REF!"}},{"$f":"VLOOKUP(#REF!,'Points Lookup'!$A:$B,2,FALSE)","v":{"$error":"#REF!"}},{"$f":"VLOOKUP(#REF!,'Points Lookup'!$A:$B,2,FALSE)","v":{"$error":"#REF!"}},{"$f":"VLOOKUP(#REF!,'Points Lookup'!$A:$B,2,FALSE)","v":{"$error":"#REF!"}},{"$f":"VLOOKUP(#REF!,'Points Lookup'!$A:$B,2,FALSE)","v":{"$error":"#REF!"}},{"$f":"VLOOKUP(#REF!,'Points Lookup'!$A:$B,2,FALSE)","v":{"$error":"#REF!"}},{"$f":"VLOOKUP(#REF!,'Points Lookup'!$A:$B,2,FALSE)","v":{"$error":"#REF!"}},{"$f":"VLOOKUP(#REF!,'Points Lookup'!$A:$B,2,FALSE)","v":{"$error":"#REF!"}},{"$f":"VLOOKUP(#REF!,'Points Lookup'!$A:$B,2,FALSE)","v":{"$error":"#REF!"}},{"$f":"VLOOKUP(#REF!,'Points Lookup'!$A:$B,2,FALSE)","v":{"$error":"#REF!"}},{"$f":"VLOOKUP(#REF!,'Points Lookup'!$A:$B,2,FALSE)","v":{"$error":"#REF!"}},{"$f":"VLOOKUP(#REF!,'Points Lookup'!$A:$B,2,FALSE)","v":{"$error":"#REF!"}},{"$f":"VLOOKUP(#REF!,'Points Lookup'!$A:$B,2,FALSE)","v":{"$error":"#REF!"}},{"$f":"VLOOKUP(#REF!,'Points Lookup'!$A:$B,2,FALSE)","v":{"$error":"#REF!"}},{"$f":"VLOOKUP(#REF!,'Points Lookup'!$A:$B,2,FALSE)","v":{"$error":"#REF!"}},null,{"$error":"#REF!"},{"$error":"#REF!"},{"$error":"#REF!"},{"$error":"#REF!"},{"$error":"#REF!"},{"$error":"#REF!"},{"$error":"#REF!"},{"$error":"#REF!"}]
[{"$error":"#REF!"},{"$f":"#REF!","v":{"$error":"#REF!"}},{"$f":"IF(ISBLANK(#REF!),\"\",#REF!)","v":{"$error":"#REF!"}},{"$error":"#REF!"},{"$f":"VLOOKUP(#REF!,'Points Lookup'!$A:$B,2,FALSE)","v":{"$error":"#REF!"}},{"$f":"VLOOKUP(#REF!,'Points Lookup'!$A:$B,2,FALSE)","v":{"$error":"#REF!"}},{"$f":"VLOOKUP(#REF!,'Points Lookup'!$A:$B,2,FALSE)","v":{"$error":"#REF!"}},{"$f":"VLOOKUP(#REF!,'Points Lookup'!$A:$B,2,FALSE)","v":{"$error":"#REF!"}},{"$f":"VLOOKUP(#REF!,'Points Lookup'!$A:$B,2,FALSE)","v":{"$error":"#REF!"}},{"$f":"VLOOKUP(#REF!,'Points Lookup'!$A:$B,2,FALSE)","v":{"$error":"#REF!"}},{"$f":"VLOOKUP(#REF!,'Points Lookup'!$A:$B,2,FALSE)","v":{"$error":"#REF!"}},{"$f":"VLOOKUP(#REF!,'Points Lookup'!$A:$B,2,FALSE)","v":{"$error":"#REF!"}},{"$f":"VLOOKUP(#REF!,'Points Lookup'!$A:$B,2,FALSE)","v":{"$error":"#REF!"}},{"$f":"VLOOKUP(#REF!,'Points Lookup'!$A:$B,2,FALSE)","v":{"$error":"#REF!"}},{"$f":"VLOOKUP(#REF!,'Points Lookup'!$A:$B,2,FALSE)","v":{"$error":"#REF!"}},{"$f":"VLOOKUP(#REF!,'Points Lookup'!$A:$B,2,FALSE)","v":{"$error":"#REF!"}},{"$f":"VLOOKUP(#REF!,'Points Lookup'!$A:$B,2,FALSE)","v":{"$error":"#REF!"}},{"$f":"VLOOKUP(#REF!,'Points Lookup'!$A:$B,2,FALSE)","v":{"$error":"#REF!"}},{"$f":"VLOOKUP(#REF!,'Points Lookup'!$A:$B,2,FALSE)","v":{"$error":"#REF!"}},{"$f":"VLOOKUP(#REF!,'Points Lookup'!$A:$B,2,FALSE)","v":{"$error":"#REF!"}},{"$f":"VLOOKUP(#REF!,'Points Lookup'!$A:$B,2,FALSE)","v":{"$error":"#REF!"}},{"$f":"VLOOKUP(#REF!,'Points Lookup'!$A:$B,2,FALSE)","v":{"$error":"#REF!"}},{"$f":"VLOOKUP(#REF!,'Points Lookup'!$A:$B,2,FALSE)","v":{"$error":"#REF!"}},{"$f":"VLOOKUP(#REF!,'Points Lookup'!$A:$B,2,FALSE)","v":{"$error":"#REF!"}},null,{"$error":"#REF!"},{"$error":"#REF!"},{"$error":"#REF!"},{"$error":"#REF!"},{"$error":"#REF!"},{"$error":"#REF!"},{"$error":"#REF!"},{"$error":"#REF!"}]
[{"$error":"#REF!"},{"$f":"#REF!","v":{"$error":"#REF!"}},{"$f":"IF(ISBLANK(#REF!),\"\",#REF!)","v":{"$error":"#REF!"}},{"$error":"#REF!"},{"$f":"VLOOKUP(#REF!,'Points Lookup'!$A:$B,2,FALSE)","v":{"$error":"#REF!"}},{"$f":"VLOOKUP(#REF!,'Points Lookup'!$A:$B,2,FALSE)","v":{"$error":"#REF!"}},{"$f":"VLOOKUP(#REF!,'Points Lookup'!$A:$B,2,FALSE)","v":{"$error":"#REF!"}},{"$f":"VLOOKUP(#REF!,'Points Lookup'!$A:$B,2,FALSE)","v":{"$error":"#REF!"}},{"$f":"VLOOKUP(#REF!,'Points Lookup'!$A:$B,2,FALSE)","v":{"$error":"#REF!"}},{"$f":"VLOOKUP(#REF!,'Points Lookup'!$A:$B,2,FALSE)","v":{"$error":"#REF!"}},{"$f":"VLOOKUP(#REF!,'Points Lookup'!$A:$B,2,FALSE)","v":{"$error":"#REF!"}},{"$f":"VLOOKUP(#REF!,'Points Lookup'!$A:$B,2,FALSE)","v":{"$error":"#REF!"}},{"$f":"VLOOKUP(#REF!,'Points Lookup'!$A:$B,2,FALSE)","v":{"$error":"#REF!"}},{"$f":"VLOOKUP(#REF!,'Points Lookup'!$A:$B,2,FALSE)","v":{"$error":"#REF!"}},{"$f":"VLOOKUP(#REF!,'Points Lookup'!$A:$B,2,FALSE)","v":{"$error":"#REF!"}},{"$f":"VLOOKUP(#REF!,'Points Lookup'!$A:$B,2,FALSE)","v":{"$error":"#REF!"}},{"$f":"VLOOKUP(#REF!,'Points Lookup'!$A:$B,2,FALSE)","v":{"$error":"#REF!"}},{"$f":"VLOOKUP(#REF!,'Points Lookup'!$A:$B,2,FALSE)","v":{"$error":"#REF!"}},{"$f":"VLOOKUP(#REF!,'Points Lookup'!$A:$B,2,FALSE)","v":{"$error":"#REF!"}},{"$f":"VLOOKUP(#REF!,'Points Lookup'!$A:$B,2,FALSE)","v":{"$error":"#REF!"}},{"$f":"VLOOKUP(#REF!,'Points Lookup'!$A:$B,2,FALSE)","v":{"$error":"#REF!"}},{"$f":"VLOOKUP(#REF!,'Points Lookup'!$A:$B,2,FALSE)","v":{"$error":"#REF!"}},{"$f":"VLOOKUP(#REF!,'Points Lookup'!$A:$B,2,FALSE)","v":{"$error":"#REF!"}},{"$f":"VLOOKUP(#REF!,'Points Lookup'!$A:$B,2,FALSE)","v":{"$error":"#REF!"}},null,{"$error":"#REF!"},{"$error":"#REF!"},{"$error":"#REF!"},{"$error":"#REF!"},{"$error":"#REF!"},{"$error":"#REF!"},{"$error":"#REF!"},{"$error":"#REF!"}]
[{"$error":"#REF!"},{"$f":"#REF!","v":{"$error":"#REF!"}},{"$f":"IF(ISBLANK(#REF!),\"\",#REF!)","v":{"$error":"#REF!"}},{"$error":"#REF!"},{"$f":"VLOOKUP(#REF!,'Points Lookup'!$A:$B,2,FALSE)","v":{"$error":"#REF!"}},{"$f":"VLOOKUP(#REF!,'Points Lookup'!$A:$B,2,FALSE)","v":{"$error":"#REF!"}},{"$f":"VLOOKUP(#REF!,'Points Lookup'!$A:$B,2,FALSE)","v":{"$error":"#REF!"}},{"$f":"VLOOKUP(#REF!,'Points Lookup'!$A:$B,2,FALSE)","v":{"$error":"#REF!"}},{"$f":"VLOOKUP(#REF!,'Points Lookup'!$A:$B,2,FALSE)","v":{"$error":"#REF!"}},{"$f":"VLOOKUP(#REF!,'Points Lookup'!$A:$B,2,FALSE)","v":{"$error":"#REF!"}},{"$f":"VLOOKUP(#REF!,'Points Lookup'!$A:$B,2,FALSE)","v":{"$error":"#REF!"}},{"$f":"VLOOKUP(#REF!,'Points Lookup'!$A:$B,2,FALSE)","v":{"$error":"#REF!"}},{"$f":"VLOOKUP(#REF!,'Points Lookup'!$A:$B,2,FALSE)","v":{"$error":"#REF!"}},{"$f":"VLOOKUP(#REF!,'Points Lookup'!$A:$B,2,FALSE)","v":{"$error":"#REF!"}},{"$f":"VLOOKUP(#REF!,'Points Lookup'!$A:$B,2,FALSE)","v":{"$error":"#REF!"}},{"$f":"VLOOKUP(#REF!,'Points Lookup'!$A:$B,2,FALSE)","v":{"$error":"#REF!"}},{"$f":"VLOOKUP(#REF!,'Points Lookup'!$A:$B,2,FALSE)","v":{"$error":"#REF!"}},{"$f":"VLOOKUP(#REF!,'Points Lookup'!$A:$B,2,FALSE)","v":{"$error":"#REF!"}},{"$f":"VLOOKUP(#REF!,'Points Lookup'!$A:$B,2,FALSE)","v":{"$error":"#REF!"}},{"$f":"VLOOKUP(#REF!,'Points Lookup'!$A:$B,2,FALSE)","v":{"$error":"#REF!"}},{"$f":"VLOOKUP(#REF!,'Points Lookup'!$A:$B,2,FALSE)","v":{"$error":"#REF!"}},{"$f":"VLOOKUP(#REF!,'Points Lookup'!$A:$B,2,FALSE)","v":{"$error":"#REF!"}},{"$f":"VLOOKUP(#REF!,'Points Lookup'!$A:$B,2,FALSE)","v":{"$error":"#REF!"}},{"$f":"VLOOKUP(#REF!,'Points Lookup'!$A:$B,2,FALSE)","v":{"$error":"#REF!"}},null,{"$error":"#REF!"},{"$error":"#REF!"},{"$error":"#REF!"},{"$error":"#REF!"},{"$error":"#REF!"},{"$error":"#REF!"},{"$error":"#REF!"},{"$error":"#REF!"}]
[{"$error":"#REF!"},{"$f":"#REF!","v":{"$error":"#REF!"}},{"$f":"IF(ISBLANK(#REF!),\"\",#REF!)","v":{"$error":"#REF!"}},{"$error":"#REF!"},{"$f":"VLOOKUP(#REF!,'Points Lookup'!$A:$B,2,FALSE)","v":{"$error":"#REF!"}},{"$f":"VLOOKUP(#REF!,'Points Lookup'!$A:$B,2,FALSE)","v":{"$error":"#REF!"}},{"$f":"VLOOKUP(#REF!,'Points Lookup'!$A:$B,2,FALSE)","v":{"$error":"#REF!"}},{"$f":"VLOOKUP(#REF!,'Points Lookup'!$A:$B,2,FALSE)","v":{"$error":"#REF!"}},{"$f":"VLOOKUP(#REF!,'Points Lookup'!$A:$B,2,FALSE)","v":{"$error":"#REF!"}},{"$f":"VLOOKUP(#REF!,'Points Lookup'!$A:$B,2,FALSE)","v":{"$error":"#REF!"}},{"$f":"VLOOKUP(#REF!,'Points Lookup'!$A:$B,2,FALSE)","v":{"$error":"#REF!"}},{"$f":"VLOOKUP(#REF!,'Points Lookup'!$A:$B,2,FALSE)","v":{"$error":"#REF!"}},{"$f":"VLOOKUP(#REF!,'Points Lookup'!$A:$B,2,FALSE)","v":{"$error":"#REF!"}},{"$f":"VLOOKUP(#REF!,'Points Lookup'!$A:$B,2,FALSE)","v":{"$error":"#REF!"}},{"$f":"VLOOKUP(#REF!,'Points Lookup'!$A:$B,2,FALSE)","v":{"$error":"#REF!"}},{"$f":"VLOOKUP(#REF!,'Points Lookup'!$A:$B,2,FALSE)","v":{"$error":"#REF!"}},{"$f":"VLOOKUP(#REF!,'Points Lookup'!$A:$B,2,FALSE)","v":{"$error":"#REF!"}},{"$f":"VLOOKUP(#REF!,'Points Lookup'!$A:$B,2,FALSE)","v":{"$error":"#REF!"}},{"$f":"VLOOKUP(#REF!,'Points Lookup'!$A:$B,2,FALSE)","v":{"$error":"#REF!"}},{"$f":"VLOOKUP(#REF!,'Points Lookup'!$A:$B,2,FALSE)","v":{"$error":"#REF!"}},{"$f":"VLOOKUP(#REF!,'Points Lookup'!$A:$B,2,FALSE)","v":{"$error":"#REF!"}},{"$f":"VLOOKUP(#REF!,'Points Lookup'!$A:$B,2,FALSE)","v":{"$error":"#REF!"}},{"$f":"VLOOKUP(#REF!,'Points Lookup'!$A:$B,2,FALSE)","v":{"$error":"#REF!"}},{"$f":"VLOOKUP(#REF!,'Points Lookup'!$A:$B,2,FALSE)","v":{"$error":"#REF!"}},null,{"$error":"#REF!"},{"$error":"#REF!"},{"$error":"#REF!"},{"$error":"#REF!"},{"$error":"#REF!"},{"$error":"#REF!"},{"$error":"#REF!"},{"$error":"#REF!"}]
[{"$error":"#REF!"},{"$f":"#REF!","v":{"$error":"#REF!"}},{"$f":"IF(ISBLANK(#REF!),\"\",#REF!)","v":{"$error":"#REF!"}},{"$error":"#REF!"},{"$f":"VLOOKUP(#REF!,'Points Lookup'!$A:$B,2,FALSE)","v":{"$error":"#REF!"}},{"$f":"VLOOKUP(#REF!,'Points Lookup'!$A:$B,2,FALSE)","v":{"$error":"#REF!"}},{"$f":"VLOOKUP(#REF!,'Points Lookup'!$A:$B,2,FALSE)","v":{"$error":"#REF!"}},{"$f":"VLOOKUP(#REF!,'Points Lookup'!$A:$B,2,FALSE)","v":{"$error":"#REF!"}},{"$f":"VLOOKUP(#REF!,'Points Lookup'!$A:$B,2,FALSE)","v":{"$error":"#REF!"}},{"$f":"VLOOKUP(#REF!,'Points Lookup'!$A:$B,2,FALSE)","v":{"$error":"#REF!"}},{"$f":"VLOOKUP(#REF!,'Points Lookup'!$A:$B,2,FALSE)","v":{"$error":"#REF!"}},{"$f":"VLOOKUP(#REF!,'Points Lookup'!$A:$B,2,FALSE)","v":{"$error":"#REF!"}},{"$f":"VLOOKUP(#REF!,'Points Lookup'!$A:$B,2,FALSE)","v":{"$error":"#REF!"}},{"$f":"VLOOKUP(#REF!,'Points Lookup'!$A:$B,2,FALSE)","v":{"$error":"#REF!"}},{"$f":"VLOOKUP(#REF!,'Points Lookup'!$A:$B,2,FALSE)","v":{"$error":"#REF!"}},{"$f":"VLOOKUP(#REF!,'Points Lookup'!$A:$B,2,FALSE)","v":{"$error":"#REF!"}},{"$f":"VLOOKUP(#REF!,'Points Lookup'!$A:$B,2,FALSE)","v":{"$error":"#REF!"}},{"$f":"VLOOKUP(#REF!,'Points Lookup'!$A:$B,2,FALSE)","v":{"$error":"#REF!"}},{"$f":"VLOOKUP(#REF!,'Points Lookup'!$A:$B,2,FALSE)","v":{"$error":"#REF!"}},{"$f":"VLOOKUP(#REF!,'Points Lookup'!$A:$B,2,FALSE)","v":{"$error":"#REF!"}},{"$f":"VLOOKUP(#REF!,'Points Lookup'!$A:$B,2,FALSE)","v":{"$error":"#REF!"}},{"$f":"VLOOKUP(#REF!,'Points Lookup'!$A:$B,2,FALSE)","v":{"$error":"#REF!"}},{"$f":"VLOOKUP(#REF!,'Points Lookup'!$A:$B,2,FALSE)","v":{"$error":"#REF!"}},{"$f":"VLOOKUP(#REF!,'Points Lookup'!$A:$B,2,FALSE)","v":{"$error":"#REF!"}},null,{"$error":"#REF!"},{"$error":"#REF!"},{"$error":"#REF!"},{"$error":"#REF!"},{"$error":"#REF!"},{"$error":"#REF!"},{"$error":"#REF!"},{"$error":"#REF!"}]
[{"$error":"#REF!"},{"$f":"#REF!","v":{"$error":"#REF!"}},{"$f":"IF(ISBLANK(#REF!),\"\",#REF!)","v":{"$error":"#REF!"}},{"$error":"#REF!"},{"$f":"VLOOKUP(#REF!,'Points Lookup'!$A:$B,2,FALSE)","v":{"$error":"#REF!"}},{"$f":"VLOOKUP(#REF!,'Points Lookup'!$A:$B,2,FALSE)","v":{"$error":"#REF!"}},{"$f":"VLOOKUP(#REF!,'Points Lookup'!$A:$B,2,FALSE)","v":{"$error":"#REF!"}},{"$f":"VLOOKUP(#REF!,'Points Lookup'!$A:$B,2,FALSE)","v":{"$error":"#REF!"}},{"$f":"VLOOKUP(#REF!,'Points Lookup'!$A:$B,2,FALSE)","v":{"$error":"#REF!"}},{"$f":"VLOOKUP(#REF!,'Points Lookup'!$A:$B,2,FALSE)","v":{"$error":"#REF!"}},{"$f":"VLOOKUP(#REF!,'Points Lookup'!$A:$B,2,FALSE)","v":{"$error":"#REF!"}},{"$f":"VLOOKUP(#REF!,'Points Lookup'!$A:$B,2,FALSE)","v":{"$error":"#REF!"}},{"$f":"VLOOKUP(#REF!,'Points Lookup'!$A:$B,2,FALSE)","v":{"$error":"#REF!"}},{"$f":"VLOOKUP(#REF!,'Points Lookup'!$A:$B,2,FALSE)","v":{"$error":"#REF!"}},{"$f":"VLOOKUP(#REF!,'Points Lookup'!$A:$B,2,FALSE)","v":{"$error":"#REF!"}},{"$f":"VLOOKUP(#REF!,'Points Lookup'!$A:$B,2,FALSE)","v":{"$error":"#REF!"}},{"$f":"VLOOKUP(#REF!,'Points Lookup'!$A:$B,2,FALSE)","v":{"$error":"#REF!"}},{"$f":"VLOOKUP(#REF!,'Points Lookup'!$A:$B,2,FALSE)","v":{"$error":"#REF!"}},{"$f":"VLOOKUP(#REF!,'Points Lookup'!$A:$B,2,FALSE)","v":{"$error":"#REF!"}},{"$f":"VLOOKUP(#REF!,'Points Lookup'!$A:$B,2,FALSE)","v":{"$error":"#REF!"}},{"$f":"VLOOKUP(#REF!,'Points Lookup'!$A:$B,2,FALSE)","v":{"$error":"#REF!"}},{"$f":"VLOOKUP(#REF!,'Points Lookup'!$A:$B,2,FALSE)","v":{"$error":"#REF!"}},{"$f":"VLOOKUP(#REF!,'Points Lookup'!$A:$B,2,FALSE)","v":{"$error":"#REF!"}},{"$f":"VLOOKUP(#REF!,'Points Lookup'!$A:$B,2,FALSE)","v":{"$error":"#REF!"}},null,{"$error":"#REF!"},{"$error":"#REF!"},{"$error":"#REF!"},{"$error":"#REF!"},{"$error":"#REF!"},{"$error":"#REF!"},{"$error":"#REF!"},{"$error":"#REF!"}]
[{"$error":"#REF!"},{"$f":"#REF!","v":{"$error":"#REF!"}},{"$f":"IF(ISBLANK(#REF!),\"\",#REF!)","v":{"$error":"#REF!"}},{"$error":"#REF!"},{"$f":"VLOOKUP(#REF!,'Points Lookup'!$A:$B,2,FALSE)","v":{"$error":"#REF!"}},{"$f":"VLOOKUP(#REF!,'Points Lookup'!$A:$B,2,FALSE)","v":{"$error":"#REF!"}},{"$f":"VLOOKUP(#REF!,'Points Lookup'!$A:$B,2,FALSE)","v":{"$error":"#REF!"}},{"$f":"VLOOKUP(#REF!,'Points Lookup'!$A:$B,2,FALSE)","v":{"$error":"#REF!"}},{"$f":"VLOOKUP(#REF!,'Points Lookup'!$A:$B,2,FALSE)","v":{"$error":"#REF!"}},{"$f":"VLOOKUP(#REF!,'Points Lookup'!$A:$B,2,FALSE)","v":{"$error":"#REF!"}},{"$f":"VLOOKUP(#REF!,'Points Lookup'!$A:$B,2,FALSE)","v":{"$error":"#REF!"}},{"$f":"VLOOKUP(#REF!,'Points Lookup'!$A:$B,2,FALSE)","v":{"$error":"#REF!"}},{"$f":"VLOOKUP(#REF!,'Points Lookup'!$A:$B,2,FALSE)","v":{"$error":"#REF!"}},{"$f":"VLOOKUP(#REF!,'Points Lookup'!$A:$B,2,FALSE)","v":{"$error":"#REF!"}},{"$f":"VLOOKUP(#REF!,'Points Lookup'!$A:$B,2,FALSE)","v":{"$error":"#REF!"}},{"$f":"VLOOKUP(#REF!,'Points Lookup'!$A:$B,2,FALSE)","v":{"$error":"#REF!"}},{"$f":"VLOOKUP(#REF!,'Points Lookup'!$A:$B,2,FALSE)","v":{"$error":"#REF!"}},{"$f":"VLOOKUP(#REF!,'Points Lookup'!$A:$B,2,FALSE)","v":{"$error":"#REF!"}},{"$f":"VLOOKUP(#REF!,'Points Lookup'!$A:$B,2,FALSE)","v":{"$error":"#REF!"}},{"$f":"VLOOKUP(#REF!,'Points Lookup'!$A:$B,2,FALSE)","v":{"$error":"#REF!"}},{"$f":"VLOOKUP(#REF!,'Points Lookup'!$A:$B,2,FALSE)","v":{"$error":"#REF!"}},{"$f":"VLOOKUP(#REF!,'Points Lookup'!$A:$B,2,FALSE)","v":{"$error":"#REF!"}},{"$f":"VLOOKUP(#REF!,'Points Lookup'!$A:$B,2,FALSE)","v":{"$error":"#REF!"}},{"$f":"VLOOKUP(#REF!,'Points Lookup'!$A:$B,2,FALSE)","v":{"$error":"#REF!"}},null,{"$error":"#REF!"},{"$error":"#REF!"},{"$error":"#REF!"},{"$error":"#REF!"},{"$error":"#REF!"},{"$error":"#REF!"},{"$error":"#REF!"},{"$error":"#REF!"}]
[{"$error":"#REF!"},{"$f":"#REF!","v":{"$error":"#REF!"}},{"$f":"IF(ISBLANK(#REF!),\"\",#REF!)","v":{"$error":"#REF!"}},{"$error":"#REF!"},{"$f":"VLOOKUP(#REF!,'Points Lookup'!$A:$B,2,FALSE)","v":{"$error":"#REF!"}},{"$f":"VLOOKUP(#REF!,'Points Lookup'!$A:$B,2,FALSE)","v":{"$error":"#REF!"}},{"$f":"VLOOKUP(#REF!,'Points Lookup'!$A:$B,2,FALSE)","v":{"$error":"#REF!"}},{"$f":"VLOOKUP(#REF!,'Points Lookup'!$A:$B,2,FALSE)","v":{"$error":"#REF!"}},{"$f":"VLOOKUP(#REF!,'Points Lookup'!$A:$B,2,FALSE)","v":{"$error":"#REF!"}},{"$f":"VLOOKUP(#REF!,'Points Lookup'!$A:$B,2,FALSE)","v":{"$error":"#REF!"}},{"$f":"VLOOKUP(#REF!,'Points Lookup'!$A:$B,2,FALSE)","v":{"$error":"#REF!"}},{"$f":"VLOOKUP(#REF!,'Points Lookup'!$A:$B,2,FALSE)","v":{"$error":"#REF!"}},{"$f":"VLOOKUP(#REF!,'Points Lookup'!$A:$B,2,FALSE)","v":{"$error":"#REF!"}},{"$f":"VLOOKUP(#REF!,'Points Lookup'!$A:$B,2,FALSE)","v":{"$error":"#REF!"}},{"$f":"VLOOKUP(#REF!,'Points Lookup'!$A:$B,2,FALSE)","v":{"$error":"#REF!"}},{"$f":"VLOOKUP(#REF!,'Points Lookup'!$A:$B,2,FALSE)","v":{"$error":"#REF!"}},{"$f":"VLOOKUP(#REF!,'Points Lookup'!$A:$B,2,FALSE)","v":{"$error":"#REF!"}},{"$f":"VLOOKUP(#REF!,'Points Lookup'!$A:$B,2,FALSE)","v":{"$error":"#REF!"}},{"$f":"VLOOKUP(#REF!,'Points Lookup'!$A:$B,2,FALSE)","v":{"$error":"#REF!"}},{"$f":"VLOOKUP(#REF!,'Points Lookup'!$A:$B,2,FALSE)","v":{"$error":"#REF!"}},{"$f":"VLOOKUP(#REF!,'Points Lookup'!$A:$B,2,FALSE)","v":{"$error":"#REF!"}},{"$f":"VLOOKUP(#REF!,'Points Lookup'!$A:$B,2,FALSE)","v":{"$error":"#REF!"}},{"$f":"VLOOKUP(#REF!,'Points Lookup'!$A:$B,2,FALSE)","v":{"$error":"#REF!"}},{"$f":"VLOOKUP(#REF!,'Points Lookup'!$A:$B,2,FALSE)","v":{"$error":"#REF!"}},null,{"$error":"#REF!"},{"$error":"#REF!"},{"$error":"#REF!"},{"$error":"#REF!"},{"$error":"#REF!"},{"$error":"#REF!"},{"$error":"#REF!"},{"$error":"#REF!"}]
[{"$error":"#REF!"},{"$f":"#REF!","v":{"$error":"#REF!"}},{"$f":"IF(ISBLANK(#REF!),\"\",#REF!)","v":{"$error":"#REF!"}},{"$error":"#REF!"},{"$f":"VLOOKUP(#REF!,'Points Lookup'!$A:$B,2,FALSE)","v":{"$error":"#REF!"}},{"$f":"VLOOKUP(#REF!,'Points Lookup'!$A:$B,2,FALSE)","v":{"$error":"#REF!"}},{"$f":"VLOOKUP(#REF!,'Points Lookup'!$A:$B,2,FALSE)","v":{"$error":"#REF!"}},{"$f":"VLOOKUP(#REF!,'Points Lookup'!$A:$B,2,FALSE)","v":{"$error":"#REF!"}},{"$f":"VLOOKUP(#REF!,'Points Lookup'!$A:$B,2,FALSE)","v":{"$error":"#REF!"}},{"$f":"VLOOKUP(#REF!,'Points Lookup'!$A:$B,2,FALSE)","v":{"$error":"#REF!"}},{"$f":"VLOOKUP(#REF!,'Points Lookup'!$A:$B,2,FALSE)","v":{"$error":"#REF!"}},{"$f":"VLOOKUP(#REF!,'Points Lookup'!$A:$B,2,FALSE)","v":{"$error":"#REF!"}},{"$f":"VLOOKUP(#REF!,'Points Lookup'!$A:$B,2,FALSE)","v":{"$error":"#REF!"}},{"$f":"VLOOKUP(#REF!,'Points Lookup'!$A:$B,2,FALSE)","v":{"$error":"#REF!"}},{"$f":"VLOOKUP(#REF!,'Points Lookup'!$A:$B,2,FALSE)","v":{"$error":"#REF!"}},{"$f":"VLOOKUP(#REF!,'Points Lookup'!$A:$B,2,FALSE)","v":{"$error":"#REF!"}},{"$f":"VLOOKUP(#REF!,'Points Lookup'!$A:$B,2,FALSE)","v":{"$error":"#REF!"}},{"$f":"VLOOKUP(#REF!,'Points Lookup'!$A:$B,2,FALSE)","v":{"$error":"#REF!"}},{"$f":"VLOOKUP(#REF!,'Points Lookup'!$A:$B,2,FALSE)","v":{"$error":"#REF!"}},{"$f":"VLOOKUP(#REF!,'Points Lookup'!$A:$B,2,FALSE)","v":{"$error":"#REF!"}},{"$f":"VLOOKUP(#REF!,'Points Lookup'!$A:$B,2,FALSE)","v":{"$error":"#REF!"}},{"$f":"VLOOKUP(#REF!,'Points Lookup'!$A:$B,2,FALSE)","v":{"$error":"#REF!"}},{"$f":"VLOOKUP(#REF!,'Points Lookup'!$A:$B,2,FALSE)","v":{"$error":"#REF!"}},{"$f":"VLOOKUP(#REF!,'Points Lookup'!$A:$B,2,FALSE)","v":{"$error":"#REF!"}},null,{"$error":"#REF!"},{"$error":"#REF!"},{"$error":"#REF!"},{"$error":"#REF!"},{"$error":"#REF!"},{"$error":"#REF!"},{"$error":"#REF!"},{"$error":"#REF!"}]
[{"$error":"#REF!"},{"$f":"#REF!","v":{"$error":"#REF!"}},{"$f":"IF(ISBLANK(#REF!),\"\",#REF!)","v":{"$error":"#REF!"}},{"$error":"#REF!"},{"$f":"VLOOKUP(#REF!,'Points Lookup'!$A:$B,2,FALSE)","v":{"$error":"#REF!"}},{"$f":"VLOOKUP(#REF!,'Points Lookup'!$A:$B,2,FALSE)","v":{"$error":"#REF!"}},{"$f":"VLOOKUP(#REF!,'Points Lookup'!$A:$B,2,FALSE)","v":{"$error":"#REF!"}},{"$f":"VLOOKUP(#REF!,'Points Lookup'!$A:$B,2,FALSE)","v":{"$error":"#REF!"}},{"$f":"VLOOKUP(#REF!,'Points Lookup'!$A:$B,2,FALSE)","v":{"$error":"#REF!"}},{"$f":"VLOOKUP(#REF!,'Points Lookup'!$A:$B,2,FALSE)","v":{"$error":"#REF!"}},{"$f":"VLOOKUP(#REF!,'Points Lookup'!$A:$B,2,FALSE)","v":{"$error":"#REF!"}},{"$f":"VLOOKUP(#REF!,'Points Lookup'!$A:$B,2,FALSE)","v":{"$error":"#REF!"}},{"$f":"VLOOKUP(#REF!,'Points Lookup'!$A:$B,2,FALSE)","v":{"$error":"#REF!"}},{"$f":"VLOOKUP(#REF!,'Points Lookup'!$A:$B,2,FALSE)","v":{"$error":"#REF!"}},{"$f":"VLOOKUP(#REF!,'Points Lookup'!$A:$B,2,FALSE)","v":{"$error":"#REF!"}},{"$f":"VLOOKUP(#REF!,'Points Lookup'!$A:$B,2,FALSE)","v":{"$error":"#REF!"}},{"$f":"VLOOKUP(#REF!,'Points Lookup'!$A:$B,2,FALSE)","v":{"$error":"#REF!"}},{"$f":"VLOOKUP(#REF!,'Points Lookup'!$A:$B,2,FALSE)","v":{"$error":"#REF!"}},{"$f":"VLOOKUP(#REF!,'Points Lookup'!$A:$B,2,FALSE)","v":{"$error":"#REF!"}},{"$f":"VLOOKUP(#REF!,'Points Lookup'!$A:$B,2,FALSE)","v":{"$error":"#REF!"}},{"$f":"VLOOKUP(#REF!,'Points Lookup'!$A:$B,2,FALSE)","v":{"$error":"#REF!"}},{"$f":"VLOOKUP(#REF!,'Points Lookup'!$A:$B,2,FALSE)","v":{"$error":"#REF!"}},{"$f":"VLOOKUP(#REF!,'Points Lookup'!$A:$B,2,FALSE)","v":{"$error":"#REF!"}},{"$f":"VLOOKUP(#REF!,'Points Lookup'!$A:$B,2,FALSE)","v":{"$error":"#REF!"}},null,{"$error":"#REF!"},{"$error":"#REF!"},{"$error":"#REF!"},{"$error":"#REF!"},{"$error":"#REF!"},{"$error":"#REF!"},{"$error":"#REF!"},{"$error":"#REF!"}]
[{"$error":"#REF!"},{"$f":"#REF!","v":{"$error":"#REF!"}},{"$f":"IF(ISBLANK(#REF!),\"\",#REF!)","v":{"$error":"#REF!"}},{"$error":"#REF!"},{"$f":"VLOOKUP(#REF!,'Points Lookup'!$A:$B,2,FALSE)","v":{"$error":"#REF!"}},{"$f":"VLOOKUP(#REF!,'Points Lookup'!$A:$B,2,FALSE)","v":{"$error":"#REF!"}},{"$f":"VLOOKUP(#REF!,'Points Lookup'!$A:$B,2,FALSE)","v":{"$error":"#REF!"}},{"$f":"VLOOKUP(#REF!,'Points Lookup'!$A:$B,2,FALSE)","v":{"$error":"#REF!"}},{"$f":"VLOOKUP(#REF!,'Points Lookup'!$A:$B,2,FALSE)","v":{"$error":"#REF!"}},{"$f":"VLOOKUP(#REF!,'Points Lookup'!$A:$B,2,FALSE)","v":{"$error":"#REF!"}},{"$f":"VLOOKUP(#REF!,'Points Lookup'!$A:$B,2,FALSE)","v":{"$error":"#REF!"}},{"$f":"VLOOKUP(#REF!,'Points Lookup'!$A:$B,2,FALSE)","v":{"$error":"#REF!"}},{"$f":"VLOOKUP(#REF!,'Points Lookup'!$A:$B,2,FALSE)","v":{"$error":"#REF!"}},{"$f":"VLOOKUP(#REF!,'Points Lookup'!$A:$B,2,FALSE)","v":{"$error":"#REF!"}},{"$f":"VLOOKUP(#REF!,'Points Lookup'!$A:$B,2,FALSE)","v":{"$error":"#REF!"}},{"$f":"VLOOKUP(#REF!,'Points Lookup'!$A:$B,2,FALSE)","v":{"$error":"#REF!"}},{"$f":"VLOOKUP(#REF!,'Points Lookup'!$A:$B,2,FALSE)","v":{"$error":"#REF!"}},{"$f":"VLOOKUP(#REF!,'Points Lookup'!$A:$B,2,FALSE)","v":{"$error":"#REF!"}},{"$f":"VLOOKUP(#REF!,'Points Lookup'!$A:$B,2,FALSE)","v":{"$error":"#REF!"}},{"$f":"VLOOKUP(#REF!,'Points Lookup'!$A:$B,2,FALSE)","v":{"$error":"#REF!"}},{"$f":"VLOOKUP(#REF!,'Points Lookup'!$A:$B,2,FALSE)","v":{"$error":"#REF!"}},{"$f":"VLOOKUP(#REF!,'Points Lookup'!$A:$B,2,FALSE)","v":{"$error":"#REF!"}},{"$f":"VLOOKUP(#REF!,'Points Lookup'!$A:$B,2,FALSE)","v":{"$error":"#REF!"}},{"$f":"VLOOKUP(#REF!,'Points Lookup'!$A:$B,2,FALSE)","v":{"$error":"#REF!"}},null,{"$error":"#REF!"},{"$error":"#REF!"},{"$error":"#REF!"},{"$error":"#REF!"},{"$error":"#REF!"},{"$error":"#REF!"},{"$error":"#REF!"},{"$error":"#REF!"}]
[{"$error":"#REF!"},{"$f":"#REF!","v":{"$error":"#REF!"}},{"$f":"IF(ISBLANK(#REF!),\"\",#REF!)","v":{"$error":"#REF!"}},{"$error":"#REF!"},{"$f":"VLOOKUP(#REF!,'Points Lookup'!$A:$B,2,FALSE)","v":{"$error":"#REF!"}},{"$f":"VLOOKUP(#REF!,'Points Lookup'!$A:$B,2,FALSE)","v":{"$error":"#REF!"}},{"$f":"VLOOKUP(#REF!,'Points Lookup'!$A:$B,2,FALSE)","v":{"$error":"#REF!"}},{"$f":"VLOOKUP(#REF!,'Points Lookup'!$A:$B,2,FALSE)","v":{"$error":"#REF!"}},{"$f":"VLOOKUP(#REF!,'Points Lookup'!$A:$B,2,FALSE)","v":{"$error":"#REF!"}},{"$f":"VLOOKUP(#REF!,'Points Lookup'!$A:$B,2,FALSE)","v":{"$error":"#REF!"}},{"$f":"VLOOKUP(#REF!,'Points Lookup'!$A:$B,2,FALSE)","v":{"$error":"#REF!"}},{"$f":"VLOOKUP(#REF!,'Points Lookup'!$A:$B,2,FALSE)","v":{"$error":"#REF!"}},{"$f":"VLOOKUP(#REF!,'Points Lookup'!$A:$B,2,FALSE)","v":{"$error":"#REF!"}},{"$f":"VLOOKUP(#REF!,'Points Lookup'!$A:$B,2,FALSE)","v":{"$error":"#REF!"}},{"$f":"VLOOKUP(#REF!,'Points Lookup'!$A:$B,2,FALSE)","v":{"$error":"#REF!"}},{"$f":"VLOOKUP(#REF!,'Points Lookup'!$A:$B,2,FALSE)","v":{"$error":"#REF!"}},{"$f":"VLOOKUP(#REF!,'Points Lookup'!$A:$B,2,FALSE)","v":{"$error":"#REF!"}},{"$f":"VLOOKUP(#REF!,'Points Lookup'!$A:$B,2,FALSE)","v":{"$error":"#REF!"}},{"$f":"VLOOKUP(#REF!,'Points Lookup'!$A:$B,2,FALSE)","v":{"$error":"#REF!"}},{"$f":"VLOOKUP(#REF!,'Points Lookup'!$A:$B,2,FALSE)","v":{"$error":"#REF!"}},{"$f":"VLOOKUP(#REF!,'Points Lookup'!$A:$B,2,FALSE)","v":{"$error":"#REF!"}},{"$f":"VLOOKUP(#REF!,'Points Lookup'!$A:$B,2,FALSE)","v":{"$error":"#REF!"}},{"$f":"VLOOKUP(#REF!,'Points Lookup'!$A:$B,2,FALSE)","v":{"$error":"#REF!"}},{"$f":"VLOOKUP(#REF!,'Points Lookup'!$A:$B,2,FALSE)","v":{"$error":"#REF!"}},null,{"$error":"#REF!"},{"$error":"#REF!"},{"$error":"#REF!"},{"$error":"#REF!"},{"$error":"#REF!"},{"$error":"#REF!"},{"$error":"#REF!"},{"$error":"#REF!"}]
[{"$error":"#REF!"},{"$f":"#REF!","v":{"$error":"#REF!"}},{"$f":"IF(ISBLANK(#REF!),\"\",#REF!)","v":{"$error":"#REF!"}},{"$error":"#REF!"},{"$f":"VLOOKUP(#REF!,'Points Lookup'!$A:$B,2,FALSE)","v":{"$error":"#REF!"}},{"$f":"VLOOKUP(#REF!,'Points Lookup'!$A:$B,2,FALSE)","v":{"$error":"#REF!"}},{"$f":"VLOOKUP(#REF!,'Points Lookup'!$A:$B,2,FALSE)","v":{"$error":"#REF!"}},{"$f":"VLOOKUP(#REF!,'Points Lookup'!$A:$B,2,FALSE)","v":{"$error":"#REF!"}},{"$f":"VLOOKUP(#REF!,'Points Lookup'!$A:$B,2,FALSE)","v":{"$error":"#REF!"}},{"$f":"VLOOKUP(#REF!,'Points Lookup'!$A:$B,2,FALSE)","v":{"$error":"#REF!"}},{"$f":"VLOOKUP(#REF!,'Points Lookup'!$A:$B,2,FALSE)","v":{"$error":"#REF!"}},{"$f":"VLOOKUP(#REF!,'Points Lookup'!$A:$B,2,FALSE)","v":{"$error":"#REF!"}},{"$f":"VLOOKUP(#REF!,'Points Lookup'!$A:$B,2,FALSE)","v":{"$error":"#REF!"}},{"$f":"VLOOKUP(#REF!,'Points Lookup'!$A:$B,2,FALSE)","v":{"$error":"#REF!"}},{"$f":"VLOOKUP(#REF!,'Points Lookup'!$A:$B,2,FALSE)","v":{"$error":"#REF!"}},{"$f":"VLOOKUP(#REF!,'Points Lookup'!$A:$B,2,FALSE)","v":{"$error":"#REF!"}},{"$f":"VLOOKUP(#REF!,'Points Lookup'!$A:$B,2,FALSE)","v":{"$error":"#REF!"}},{"$f":"VLOOKUP(#REF!,'Points Lookup'!$A:$B,2,FALSE)","v":{"$error":"#REF!"}},{"$f":"VLOOKUP(#REF!,'Points Lookup'!$A:$B,2,FALSE)","v":{"$error":"#REF!"}},{"$f":"VLOOKUP(#REF!,'Points Lookup'!$A:$B,2,FALSE)","v":{"$error":"#REF!"}},{"$f":"VLOOKUP(#REF!,'Points Lookup'!$A:$B,2,FALSE)","v":{"$error":"#REF!"}},{"$f":"VLOOKUP(#REF!,'Points Lookup'!$A:$B,2,FALSE)","v":{"$error":"#REF!"}},{"$f":"VLOOKUP(#REF!,'Points Lookup'!$A:$B,2,FALSE)","v":{"$error":"#REF!"}},{"$f":"VLOOKUP(#REF!,'Points Lookup'!$A:$B,2,FALSE)","v":{"$error":"#REF!"}},null,{"$error":"#REF!"},{"$error":"#REF!"},{"$error":"#REF!"},{"$error":"#REF!"},{"$error":"#REF!"},{"$error":"#REF!"},{"$error":"#REF!"},{"$error":"#REF!"}]
[{"$error":"#REF!"},{"$f":"#REF!","v":{"$error":"#REF!"}},{"$f":"IF(ISBLANK(#REF!),\"\",#REF!)","v":{"$error":"#REF!"}},{"$error":"#REF!"},{"$f":"VLOOKUP(#REF!,'Points Lookup'!$A:$B,2,FALSE)","v":{"$error":"#REF!"}},{"$f":"VLOOKUP(#REF!,'Points Lookup'!$A:$B,2,FALSE)","v":{"$error":"#REF!"}},{"$f":"VLOOKUP(#REF!,'Points Lookup'!$A:$B,2,FALSE)","v":{"$error":"#REF!"}},{"$f":"VLOOKUP(#REF!,'Points Lookup'!$A:$B,2,FALSE)","v":{"$error":"#REF!"}},{"$f":"VLOOKUP(#REF!,'Points Lookup'!$A:$B,2,FALSE)","v":{"$error":"#REF!"}},{"$f":"VLOOKUP(#REF!,'Points Lookup'!$A:$B,2,FALSE)","v":{"$error":"#REF!"}},{"$f":"VLOOKUP(#REF!,'Points Lookup'!$A:$B,2,FALSE)","v":{"$error":"#REF!"}},{"$f":"VLOOKUP(#REF!,'Points Lookup'!$A:$B,2,FALSE)","v":{"$error":"#REF!"}},{"$f":"VLOOKUP(#REF!,'Points Lookup'!$A:$B,2,FALSE)","v":{"$error":"#REF!"}},{"$f":"VLOOKUP(#REF!,'Points Lookup'!$A:$B,2,FALSE)","v":{"$error":"#REF!"}},{"$f":"VLOOKUP(#REF!,'Points Lookup'!$A:$B,2,FALSE)","v":{"$error":"#REF!"}},{"$f":"VLOOKUP(#REF!,'Points Lookup'!$A:$B,2,FALSE)","v":{"$error":"#REF!"}},{"$f":"VLOOKUP(#REF!,'Points Lookup'!$A:$B,2,FALSE)","v":{"$error":"#REF!"}},{"$f":"VLOOKUP(#REF!,'Points Lookup'!$A:$B,2,FALSE)","v":{"$error":"#REF!"}},{"$f":"VLOOKUP(#REF!,'Points Lookup'!$A:$B,2,FALSE)","v":{"$error":"#REF!"}},{"$f":"VLOOKUP(#REF!,'Points Lookup'!$A:$B,2,FALSE)","v":{"$error":"#REF!"}},{"$f":"VLOOKUP(#REF!,'Points Lookup'!$A:$B,2,FALSE)","v":{"$error":"#REF!"}},{"$f":"VLOOKUP(#REF!,'Points Lookup'!$A:$B,2,FALSE)","v":{"$error":"#REF!"}},{"$f":"VLOOKUP(#REF!,'Points Lookup'!$A:$B,2,FALSE)","v":{"$error":"#REF!"}},{"$f":"VLOOKUP(#REF!,'Points Lookup'!$A:$B,2,FALSE)","v":{"$error":"#REF!"}},null,{"$error":"#REF!"},{"$error":"#REF!"},{"$error":"#REF!"},{"$error":"#REF!"},{"$error":"#REF!"},{"$error":"#REF!"},{"$error":"#REF!"},{"$error":"#REF!"}]
[{"$error":"#REF!"},{"$f":"#REF!","v":{"$error":"#REF!"}},{"$f":"IF(ISBLANK(#REF!),\"\",#REF!)","v":{"$error":"#REF!"}},{"$error":"#REF!"},{"$f":"VLOOKUP(#REF!,'Points Lookup'!$A:$B,2,FALSE)","v":{"$error":"#REF!"}},{"$f":"VLOOKUP(#REF!,'Points Lookup'!$A:$B,2,FALSE)","v":{"$error":"#REF!"}},{"$f":"VLOOKUP(#REF!,'Points Lookup'!$A:$B,2,FALSE)","v":{"$error":"#REF!"}},{"$f":"VLOOKUP(#REF!,'Points Lookup'!$A:$B,2,FALSE)","v":{"$error":"#REF!"}},{"$f":"VLOOKUP(#REF!,'Points Lookup'!$A:$B,2,FALSE)","v":{"$error":"#REF!"}},{"$f":"VLOOKUP(#REF!,'Points Lookup'!$A:$B,2,FALSE)","v":{"$error":"#REF!"}},{"$f":"VLOOKUP(#REF!,'Points Lookup'!$A:$B,2,FALSE)","v":{"$error":"#REF!"}},{"$f":"VLOOKUP(#REF!,'Points Lookup'!$A:$B,2,FALSE)","v":{"$error":"#REF!"}},{"$f":"VLOOKUP(#REF!,'Points Lookup'!$A:$B,2,FALSE)","v":{"$error":"#REF!"}},{"$f":"VLOOKUP(#REF!,'Points Lookup'!$A:$B,2,FALSE)","v":{"$error":"#REF!"}},{"$f":"VLOOKUP(#REF!,'Points Lookup'!$A:$B,2,FALSE)","v":{"$error":"#REF!"}},{"$f":"VLOOKUP(#REF!,'Points Lookup'!$A:$B,2,FALSE)","v":{"$error":"#REF!"}},{"$f":"VLOOKUP(#REF!,'Points Lookup'!$A:$B,2,FALSE)","v":{"$error":"#REF!"}},{"$f":"VLOOKUP(#REF!,'Points Lookup'!$A:$B,2,FALSE)","v":{"$error":"#REF!"}},{"$f":"VLOOKUP(#REF!,'Points Lookup'!$A:$B,2,FALSE)","v":{"$error":"#REF!"}},{"$f":"VLOOKUP(#REF!,'Points Lookup'!$A:$B,2,FALSE)","v":{"$error":"#REF!"}},{"$f":"VLOOKUP(#REF!,'Points Lookup'!$A:$B,2,FALSE)","v":{"$error":"#REF!"}},{"$f":"VLOOKUP(#REF!,'Points Lookup'!$A:$B,2,FALSE)","v":{"$error":"#REF!"}},{"$f":"VLOOKUP(#REF!,'Points Lookup'!$A:$B,2,FALSE)","v":{"$error":"#REF!"}},{"$f":"VLOOKUP(#REF!,'Points Lookup'!$A:$B,2,FALSE)","v":{"$error":"#REF!"}},null,{"$error":"#REF!"},{"$error":"#REF!"},{"$error":"#REF!"},{"$error":"#REF!"},{"$error":"#REF!"},{"$error":"#REF!"},{"$error":"#REF!"},{"$error":"#REF!"}]
[{"$error":"#REF!"},{"$f":"#REF!","v":{"$error":"#REF!"}},{"$f":"IF(ISBLANK(#REF!),\"\",#REF!)","v":{"$error":"#REF!"}},{"$error":"#REF!"},{"$f":"VLOOKUP(#REF!,'Points Lookup'!$A:$B,2,FALSE)","v":{"$error":"#REF!"}},{"$f":"VLOOKUP(#REF!,'Points Lookup'!$A:$B,2,FALSE)","v":{"$error":"#REF!"}},{"$f":"VLOOKUP(#REF!,'Points Lookup'!$A:$B,2,FALSE)","v":{"$error":"#REF!"}},{"$f":"VLOOKUP(#REF!,'Points Lookup'!$A:$B,2,FALSE)","v":{"$error":"#REF!"}},{"$f":"VLOOKUP(#REF!,'Points Lookup'!$A:$B,2,FALSE)","v":{"$error":"#REF!"}},{"$f":"VLOOKUP(#REF!,'Points Lookup'!$A:$B,2,FALSE)","v":{"$error":"#REF!"}},{"$f":"VLOOKUP(#REF!,'Points Lookup'!$A:$B,2,FALSE)","v":{"$error":"#REF!"}},{"$f":"VLOOKUP(#REF!,'Points Lookup'!$A:$B,2,FALSE)","v":{"$error":"#REF!"}},{"$f":"VLOOKUP(#REF!,'Points Lookup'!$A:$B,2,FALSE)","v":{"$error":"#REF!"}},{"$f":"VLOOKUP(#REF!,'Points Lookup'!$A:$B,2,FALSE)","v":{"$error":"#REF!"}},{"$f":"VLOOKUP(#REF!,'Points Lookup'!$A:$B,2,FALSE)","v":{"$error":"#REF!"}},{"$f":"VLOOKUP(#REF!,'Points Lookup'!$A:$B,2,FALSE)","v":{"$error":"#REF!"}},{"$f":"VLOOKUP(#REF!,'Points Lookup'!$A:$B,2,FALSE)","v":{"$error":"#REF!"}},{"$f":"VLOOKUP(#REF!,'Points Lookup'!$A:$B,2,FALSE)","v":{"$error":"#REF!"}},{"$f":"VLOOKUP(#REF!,'Points Lookup'!$A:$B,2,FALSE)","v":{"$error":"#REF!"}},{"$f":"VLOOKUP(#REF!,'Points Lookup'!$A:$B,2,FALSE)","v":{"$error":"#REF!"}},{"$f":"VLOOKUP(#REF!,'Points Lookup'!$A:$B,2,FALSE)","v":{"$error":"#REF!"}},{"$f":"VLOOKUP(#REF!,'Points Lookup'!$A:$B,2,FALSE)","v":{"$error":"#REF!"}},{"$f":"VLOOKUP(#REF!,'Points Lookup'!$A:$B,2,FALSE)","v":{"$error":"#REF!"}},{"$f":"VLOOKUP(#REF!,'Points Lookup'!$A:$B,2,FALSE)","v":{"$error":"#REF!"}},null,{"$error":"#REF!"},{"$error":"#REF!"},{"$error":"#REF!"},{"$f":"LARGE($E361:$X361,AC$1)","v":{"$error":"#REF!"}},{"$f":"LARGE($E361:$X361,AD$1)","v":{"$error":"#REF!"}},{"$f":"LARGE($E361:$X361,AE$1)","v":{"$error":"#REF!"}},{"$f":"LARGE($E361:$X361,AF$1)","v":{"$error":"#REF!"}},{"$f":"LARGE($E361:$X361,AG$1)","v":{"$error":"#REF!"}}]
[{"$error":"#REF!"},{"$f":"#REF!","v":{"$error":"#REF!"}},{"$f":"IF(ISBLANK(#REF!),\"\",#REF!)","v":{"$error":"#REF!"}},{"$error":"#REF!"},{"$f":"VLOOKUP(#REF!,'Points Lookup'!$A:$B,2,FALSE)","v":{"$error":"#REF!"}},{"$f":"VLOOKUP(#REF!,'Points Lookup'!$A:$B,2,FALSE)","v":{"$error":"#REF!"}},{"$f":"VLOOKUP(#REF!,'Points Lookup'!$A:$B,2,FALSE)","v":{"$error":"#REF!"}},{"$f":"VLOOKUP(#REF!,'Points Lookup'!$A:$B,2,FALSE)","v":{"$error":"#REF!"}},{"$f":"VLOOKUP(#REF!,'Points Lookup'!$A:$B,2,FALSE)","v":{"$error":"#REF!"}},{"$f":"VLOOKUP(#REF!,'Points Lookup'!$A:$B,2,FALSE)","v":{"$error":"#REF!"}},{"$f":"VLOOKUP(#REF!,'Points Lookup'!$A:$B,2,FALSE)","v":{"$error":"#REF!"}},{"$f":"VLOOKUP(#REF!,'Points Lookup'!$A:$B,2,FALSE)","v":{"$error":"#REF!"}},{"$f":"VLOOKUP(#REF!,'Points Lookup'!$A:$B,2,FALSE)","v":{"$error":"#REF!"}},{"$f":"VLOOKUP(#REF!,'Points Lookup'!$A:$B,2,FALSE)","v":{"$error":"#REF!"}},{"$f":"VLOOKUP(#REF!,'Points Lookup'!$A:$B,2,FALSE)","v":{"$error":"#REF!"}},{"$f":"VLOOKUP(#REF!,'Points Lookup'!$A:$B,2,FALSE)","v":{"$error":"#REF!"}},{"$f":"VLOOKUP(#REF!,'Points Lookup'!$A:$B,2,FALSE)","v":{"$error":"#REF!"}},{"$f":"VLOOKUP(#REF!,'Points Lookup'!$A:$B,2,FALSE)","v":{"$error":"#REF!"}},{"$f":"VLOOKUP(#REF!,'Points Lookup'!$A:$B,2,FALSE)","v":{"$error":"#REF!"}},{"$f":"VLOOKUP(#REF!,'Points Lookup'!$A:$B,2,FALSE)","v":{"$error":"#REF!"}},{"$f":"VLOOKUP(#REF!,'Points Lookup'!$A:$B,2,FALSE)","v":{"$error":"#REF!"}},{"$f":"VLOOKUP(#REF!,'Points Lookup'!$A:$B,2,FALSE)","v":{"$error":"#REF!"}},{"$f":"VLOOKUP(#REF!,'Points Lookup'!$A:$B,2,FALSE)","v":{"$error":"#REF!"}},{"$f":"VLOOKUP(#REF!,'Points Lookup'!$A:$B,2,FALSE)","v":{"$error":"#REF!"}},null,{"$f":"LARGE($E362:$X362,Z$1)","v":{"$error":"#REF!"}},{"$error":"#REF!"},{"$error":"#REF!"},{"$error":"#REF!"},{"$error":"#REF!"},{"$error":"#REF!"},{"$error":"#REF!"},{"$error":"#REF!"}]
[{"$error":"#REF!"},{"$f":"#REF!","v":{"$error":"#REF!"}},{"$f":"IF(ISBLANK(#REF!),\"\",#REF!)","v":{"$error":"#REF!"}},{"$error":"#REF!"},{"$f":"VLOOKUP(#REF!,'Points Lookup'!$A:$B,2,FALSE)","v":{"$error":"#REF!"}},{"$f":"VLOOKUP(#REF!,'Points Lookup'!$A:$B,2,FALSE)","v":{"$error":"#REF!"}},{"$f":"VLOOKUP(#REF!,'Points Lookup'!$A:$B,2,FALSE)","v":{"$error":"#REF!"}},{"$f":"VLOOKUP(#REF!,'Points Lookup'!$A:$B,2,FALSE)","v":{"$error":"#REF!"}},{"$f":"VLOOKUP(#REF!,'Points Lookup'!$A:$B,2,FALSE)","v":{"$error":"#REF!"}},{"$f":"VLOOKUP(#REF!,'Points Lookup'!$A:$B,2,FALSE)","v":{"$error":"#REF!"}},{"$f":"VLOOKUP(#REF!,'Points Lookup'!$A:$B,2,FALSE)","v":{"$error":"#REF!"}},{"$f":"VLOOKUP(#REF!,'Points Lookup'!$A:$B,2,FALSE)","v":{"$error":"#REF!"}},{"$f":"VLOOKUP(#REF!,'Points Lookup'!$A:$B,2,FALSE)","v":{"$error":"#REF!"}},{"$f":"VLOOKUP(#REF!,'Points Lookup'!$A:$B,2,FALSE)","v":{"$error":"#REF!"}},{"$f":"VLOOKUP(#REF!,'Points Lookup'!$A:$B,2,FALSE)","v":{"$error":"#REF!"}},{"$f":"VLOOKUP(#REF!,'Points Lookup'!$A:$B,2,FALSE)","v":{"$error":"#REF!"}},{"$f":"VLOOKUP(#REF!,'Points Lookup'!$A:$B,2,FALSE)","v":{"$error":"#REF!"}},{"$f":"VLOOKUP(#REF!,'Points Lookup'!$A:$B,2,FALSE)","v":{"$error":"#REF!"}},{"$f":"VLOOKUP(#REF!,'Points Lookup'!$A:$B,2,FALSE)","v":{"$error":"#REF!"}},{"$f":"VLOOKUP(#REF!,'Points Lookup'!$A:$B,2,FALSE)","v":{"$error":"#REF!"}},{"$f":"VLOOKUP(#REF!,'Points Lookup'!$A:$B,2,FALSE)","v":{"$error":"#REF!"}},{"$f":"VLOOKUP(#REF!,'Points Lookup'!$A:$B,2,FALSE)","v":{"$error":"#REF!"}},{"$f":"VLOOKUP(#REF!,'Points Lookup'!$A:$B,2,FALSE)","v":{"$error":"#REF!"}},{"$f":"VLOOKUP(#REF!,'Points Lookup'!$A:$B,2,FALSE)","v":{"$error":"#REF!"}},null,{"$error":"#REF!"},{"$error":"#REF!"},{"$error":"#REF!"},{"$error":"#REF!"},{"$error":"#REF!"},{"$error":"#REF!"},{"$error":"#REF!"},{"$error":"#REF!"}]
[{"$error":"#REF!"},{"$f":"#REF!","v":{"$error":"#REF!"}},{"$f":"IF(ISBLANK(#REF!),\"\",#REF!)","v":{"$error":"#REF!"}},{"$error":"#REF!"},{"$f":"VLOOKUP(#REF!,'Points Lookup'!$A:$B,2,FALSE)","v":{"$error":"#REF!"}},{"$f":"VLOOKUP(#REF!,'Points Lookup'!$A:$B,2,FALSE)","v":{"$error":"#REF!"}},{"$f":"VLOOKUP(#REF!,'Points Lookup'!$A:$B,2,FALSE)","v":{"$error":"#REF!"}},{"$f":"VLOOKUP(#REF!,'Points Lookup'!$A:$B,2,FALSE)","v":{"$error":"#REF!"}},{"$f":"VLOOKUP(#REF!,'Points Lookup'!$A:$B,2,FALSE)","v":{"$error":"#REF!"}},{"$f":"VLOOKUP(#REF!,'Points Lookup'!$A:$B,2,FALSE)","v":{"$error":"#REF!"}},{"$f":"VLOOKUP(#REF!,'Points Lookup'!$A:$B,2,FALSE)","v":{"$error":"#REF!"}},{"$f":"VLOOKUP(#REF!,'Points Lookup'!$A:$B,2,FALSE)","v":{"$error":"#REF!"}},{"$f":"VLOOKUP(#REF!,'Points Lookup'!$A:$B,2,FALSE)","v":{"$error":"#REF!"}},{"$f":"VLOOKUP(#REF!,'Points Lookup'!$A:$B,2,FALSE)","v":{"$error":"#REF!"}},{"$f":"VLOOKUP(#REF!,'Points Lookup'!$A:$B,2,FALSE)","v":{"$error":"#REF!"}},{"$f":"VLOOKUP(#REF!,'Points Lookup'!$A:$B,2,FALSE)","v":{"$error":"#REF!"}},{"$f":"VLOOKUP(#REF!,'Points Lookup'!$A:$B,2,FALSE)","v":{"$error":"#REF!"}},{"$f":"VLOOKUP(#REF!,'Points Lookup'!$A:$B,2,FALSE)","v":{"$error":"#REF!"}},{"$f":"VLOOKUP(#REF!,'Points Lookup'!$A:$B,2,FALSE)","v":{"$error":"#REF!"}},{"$f":"VLOOKUP(#REF!,'Points Lookup'!$A:$B,2,FALSE)","v":{"$error":"#REF!"}},{"$f":"VLOOKUP(#REF!,'Points Lookup'!$A:$B,2,FALSE)","v":{"$error":"#REF!"}},{"$f":"VLOOKUP(#REF!,'Points Lookup'!$A:$B,2,FALSE)","v":{"$error":"#REF!"}},{"$f":"VLOOKUP(#REF!,'Points Lookup'!$A:$B,2,FALSE)","v":{"$error":"#REF!"}},{"$f":"VLOOKUP(#REF!,'Points Lookup'!$A:$B,2,FALSE)","v":{"$error":"#REF!"}},null,{"$error":"#REF!"},{"$error":"#REF!"},{"$error":"#REF!"},{"$error":"#REF!"},{"$error":"#REF!"},{"$error":"#REF!"},{"$error":"#REF!"},{"$error":"#REF!"}]
[{"$f":"RANK(D365,D:D)","v":{"$error":"#REF!"}},{"$f":"#REF!","v":{"$error":"#REF!"}},{"$f":"IF(ISBLANK(#REF!),\"\",#REF!)","v":{"$error":"#REF!"}},{"$f":"SUM(Z365:AG365)","v":{"$error":"#REF!"}},{"$f":"VLOOKUP(#REF!,'Points Lookup'!$A:$B,2,FALSE)","v":{"$error":"#REF!"}},{"$f":"VLOOKUP(#REF!,'Points Lookup'!$A:$B,2,FALSE)","v":{"$error":"#REF!"}},{"$f":"VLOOKUP(#REF!,'Points Lookup'!$A:$B,2,FALSE)","v":{"$error":"#REF!"}},{"$f":"VLOOKUP(#REF!,'Points Lookup'!$A:$B,2,FALSE)","v":{"$error":"#REF!"}},{"$f":"VLOOKUP(#REF!,'Points Lookup'!$A:$B,2,FALSE)","v":{"$error":"#REF!"}},{"$f":"VLOOKUP(#REF!,'Points Lookup'!$A:$B,2,FALSE)","v":{"$error":"#REF!"}},{"$f":"VLOOKUP(#REF!,'Points Lookup'!$A:$B,2,FALSE)","v":{"$error":"#REF!"}},{"$f":"VLOOKUP(#REF!,'Points Lookup'!$A:$B,2,FALSE)","v":{"$error":"#REF!"}},{"$f":"VLOOKUP(#REF!,'Points Lookup'!$A:$B,2,FALSE)","v":{"$error":"#REF!"}},{"$f":"VLOOKUP(#REF!,'Points Lookup'!$A:$B,2,FALSE)","v":{"$error":"#REF!"}},{"$f":"VLOOKUP(#REF!,'Points Lookup'!$A:$B,2,FALSE)","v":{"$error":"#REF!"}},{"$f":"VLOOKUP(#REF!,'Points Lookup'!$A:$B,2,FALSE)","v":{"$error":"#REF!"}},{"$f":"VLOOKUP(#REF!,'Points Lookup'!$A:$B,2,FALSE)","v":{"$error":"#REF!"}},{"$f":"VLOOKUP(#REF!,'Points Lookup'!$A:$B,2,FALSE)","v":{"$error":"#REF!"}},{"$f":"VLOOKUP(#REF!,'Points Lookup'!$A:$B,2,FALSE)","v":{"$error":"#REF!"}},{"$f":"VLOOKUP(#REF!,'Points Lookup'!$A:$B,2,FALSE)","v":{"$error":"#REF!"}},{"$f":"VLOOKUP(#REF!,'Points Lookup'!$A:$B,2,FALSE)","v":{"$error":"#REF!"}},{"$f":"VLOOKUP(#REF!,'Points Lookup'!$A:$B,2,FALSE)","v":{"$error":"#REF!"}},{"$f":"VLOOKUP(#REF!,'Points Lookup'!$A:$B,2,FALSE)","v":{"$error":"#REF!"}},{"$f":"VLOOKUP(#REF!,'Points Lookup'!$A:$B,2,FALSE)","v":{"$error":"#REF!"}},null,{"$error":"#REF!"},{"$error":"#REF!"},{"$error":"#REF!"},{"$error":"#REF!"},{"$error":"#REF!"},{"$error":"#REF!"},{"$error":"#REF!"},{"$error":"#REF!"}]
[{"$error":"#REF!"},{"$f":"#REF!","v":{"$error":"#REF!"}},{"$f":"IF(ISBLANK(#REF!),\"\",#REF!)","v":{"$error":"#REF!"}},{"$error":"#REF!"},{"$f":"VLOOKUP(#REF!,'Points Lookup'!$A:$B,2,FALSE)","v":{"$error":"#REF!"}},{"$f":"VLOOKUP(#REF!,'Points Lookup'!$A:$B,2,FALSE)","v":{"$error":"#REF!"}},{"$f":"VLOOKUP(#REF!,'Points Lookup'!$A:$B,2,FALSE)","v":{"$error":"#REF!"}},{"$f":"VLOOKUP(#REF!,'Points Lookup'!$A:$B,2,FALSE)","v":{"$error":"#REF!"}},{"$f":"VLOOKUP(#REF!,'Points Lookup'!$A:$B,2,FALSE)","v":{"$error":"#REF!"}},{"$f":"VLOOKUP(#REF!,'Points Lookup'!$A:$B,2,FALSE)","v":{"$error":"#REF!"}},{"$f":"VLOOKUP(#REF!,'Points Lookup'!$A:$B,2,FALSE)","v":{"$error":"#REF!"}},{"$f":"VLOOKUP(#REF!,'Points Lookup'!$A:$B,2,FALSE)","v":{"$error":"#REF!"}},{"$f":"VLOOKUP(#REF!,'Points Lookup'!$A:$B,2,FALSE)","v":{"$error":"#REF!"}},{"$f":"VLOOKUP(#REF!,'Points Lookup'!$A:$B,2,FALSE)","v":{"$error":"#REF!"}},{"$f":"VLOOKUP(#REF!,'Points Lookup'!$A:$B,2,FALSE)","v":{"$error":"#REF!"}},{"$f":"VLOOKUP(#REF!,'Points Lookup'!$A:$B,2,FALSE)","v":{"$error":"#REF!"}},{"$f":"VLOOKUP(#REF!,'Points Lookup'!$A:$B,2,FALSE)","v":{"$error":"#REF!"}},{"$f":"VLOOKUP(#REF!,'Points Lookup'!$A:$B,2,FALSE)","v":{"$error":"#REF!"}},{"$f":"VLOOKUP(#REF!,'Points Lookup'!$A:$B,2,FALSE)","v":{"$error":"#REF!"}},{"$f":"VLOOKUP(#REF!,'Points Lookup'!$A:$B,2,FALSE)","v":{"$error":"#REF!"}},{"$f":"VLOOKUP(#REF!,'Points Lookup'!$A:$B,2,FALSE)","v":{"$error":"#REF!"}},{"$f":"VLOOKUP(#REF!,'Points Lookup'!$A:$B,2,FALSE)","v":{"$error":"#REF!"}},{"$f":"VLOOKUP(#REF!,'Points Lookup'!$A:$B,2,FALSE)","v":{"$error":"#REF!"}},{"$f":"VLOOKUP(#REF!,'Points Lookup'!$A:$B,2,FALSE)","v":{"$error":"#REF!"}},null,{"$error":"#REF!"},{"$error":"#REF!"},{"$error":"#REF!"},{"$error":"#REF!"},{"$error":"#REF!"},{"$error":"#REF!"},{"$error":"#REF!"},{"$error":"#REF!"}]
[{"$error":"#REF!"},{"$f":"#REF!","v":{"$error":"#REF!"}},{"$f":"IF(ISBLANK(#REF!),\"\",#REF!)","v":{"$error":"#REF!"}},{"$error":"#REF!"},{"$f":"VLOOKUP(#REF!,'Points Lookup'!$A:$B,2,FALSE)","v":{"$error":"#REF!"}},{"$f":"VLOOKUP(#REF!,'Points Lookup'!$A:$B,2,FALSE)","v":{"$error":"#REF!"}},{"$f":"VLOOKUP(#REF!,'Points Lookup'!$A:$B,2,FALSE)","v":{"$error":"#REF!"}},{"$f":"VLOOKUP(#REF!,'Points Lookup'!$A:$B,2,FALSE)","v":{"$error":"#REF!"}},{"$f":"VLOOKUP(#REF!,'Points Lookup'!$A:$B,2,FALSE)","v":{"$error":"#REF!"}},{"$f":"VLOOKUP(#REF!,'Points Lookup'!$A:$B,2,FALSE)","v":{"$error":"#REF!"}},{"$f":"VLOOKUP(#REF!,'Points Lookup'!$A:$B,2,FALSE)","v":{"$error":"#REF!"}},{"$f":"VLOOKUP(#REF!,'Points Lookup'!$A:$B,2,FALSE)","v":{"$error":"#REF!"}},{"$f":"VLOOKUP(#REF!,'Points Lookup'!$A:$B,2,FALSE)","v":{"$error":"#REF!"}},{"$f":"VLOOKUP(#REF!,'Points Lookup'!$A:$B,2,FALSE)","v":{"$error":"#REF!"}},{"$f":"VLOOKUP(#REF!,'Points Lookup'!$A:$B,2,FALSE)","v":{"$error":"#REF!"}},{"$f":"VLOOKUP(#REF!,'Points Lookup'!$A:$B,2,FALSE)","v":{"$error":"#REF!"}},{"$f":"VLOOKUP(#REF!,'Points Lookup'!$A:$B,2,FALSE)","v":{"$error":"#REF!"}},{"$f":"VLOOKUP(#REF!,'Points Lookup'!$A:$B,2,FALSE)","v":{"$error":"#REF!"}},{"$f":"VLOOKUP(#REF!,'Points Lookup'!$A:$B,2,FALSE)","v":{"$error":"#REF!"}},{"$f":"VLOOKUP(#REF!,'Points Lookup'!$A:$B,2,FALSE)","v":{"$error":"#REF!"}},{"$f":"VLOOKUP(#REF!,'Points Lookup'!$A:$B,2,FALSE)","v":{"$error":"#REF!"}},{"$f":"VLOOKUP(#REF!,'Points Lookup'!$A:$B,2,FALSE)","v":{"$error":"#REF!"}},{"$f":"VLOOKUP(#REF!,'Points Lookup'!$A:$B,2,FALSE)","v":{"$error":"#REF!"}},{"$f":"VLOOKUP(#REF!,'Points Lookup'!$A:$B,2,FALSE)","v":{"$error":"#REF!"}},null,{"$error":"#REF!"},{"$error":"#REF!"},{"$error":"#REF!"},{"$error":"#REF!"},{"$error":"#REF!"},{"$error":"#REF!"},{"$error":"#REF!"},{"$error":"#REF!"}]
[{"$error":"#REF!"},{"$f":"#REF!","v":{"$error":"#REF!"}},{"$f":"IF(ISBLANK(#REF!),\"\",#REF!)","v":{"$error":"#REF!"}},{"$error":"#REF!"},{"$f":"VLOOKUP(#REF!,'Points Lookup'!$A:$B,2,FALSE)","v":{"$error":"#REF!"}},{"$f":"VLOOKUP(#REF!,'Points Lookup'!$A:$B,2,FALSE)","v":{"$error":"#REF!"}},{"$f":"VLOOKUP(#REF!,'Points Lookup'!$A:$B,2,FALSE)","v":{"$error":"#REF!"}},{"$f":"VLOOKUP(#REF!,'Points Lookup'!$A:$B,2,FALSE)","v":{"$error":"#REF!"}},{"$f":"VLOOKUP(#REF!,'Points Lookup'!$A:$B,2,FALSE)","v":{"$error":"#REF!"}},{"$f":"VLOOKUP(#REF!,'Points Lookup'!$A:$B,2,FALSE)","v":{"$error":"#REF!"}},{"$f":"VLOOKUP(#REF!,'Points Lookup'!$A:$B,2,FALSE)","v":{"$error":"#REF!"}},{"$f":"VLOOKUP(#REF!,'Points Lookup'!$A:$B,2,FALSE)","v":{"$error":"#REF!"}},{"$f":"VLOOKUP(#REF!,'Points Lookup'!$A:$B,2,FALSE)","v":{"$error":"#REF!"}},{"$f":"VLOOKUP(#REF!,'Points Lookup'!$A:$B,2,FALSE)","v":{"$error":"#REF!"}},{"$f":"VLOOKUP(#REF!,'Points Lookup'!$A:$B,2,FALSE)","v":{"$error":"#REF!"}},{"$f":"VLOOKUP(#REF!,'Points Lookup'!$A:$B,2,FALSE)","v":{"$error":"#REF!"}},{"$f":"VLOOKUP(#REF!,'Points Lookup'!$A:$B,2,FALSE)","v":{"$error":"#REF!"}},{"$f":"VLOOKUP(#REF!,'Points Lookup'!$A:$B,2,FALSE)","v":{"$error":"#REF!"}},{"$f":"VLOOKUP(#REF!,'Points Lookup'!$A:$B,2,FALSE)","v":{"$error":"#REF!"}},{"$f":"VLOOKUP(#REF!,'Points Lookup'!$A:$B,2,FALSE)","v":{"$error":"#REF!"}},{"$f":"VLOOKUP(#REF!,'Points Lookup'!$A:$B,2,FALSE)","v":{"$error":"#REF!"}},{"$f":"VLOOKUP(#REF!,'Points Lookup'!$A:$B,2,FALSE)","v":{"$error":"#REF!"}},{"$f":"VLOOKUP(#REF!,'Points Lookup'!$A:$B,2,FALSE)","v":{"$error":"#REF!"}},{"$f":"VLOOKUP(#REF!,'Points Lookup'!$A:$B,2,FALSE)","v":{"$error":"#REF!"}},null,{"$error":"#REF!"},{"$error":"#REF!"},{"$error":"#REF!"},{"$error":"#REF!"},{"$error":"#REF!"},{"$error":"#REF!"},{"$error":"#REF!"},{"$error":"#REF!"}]
[{"$error":"#REF!"},{"$f":"#REF!","v":{"$error":"#REF!"}},{"$f":"IF(ISBLANK(#REF!),\"\",#REF!)","v":{"$error":"#REF!"}},{"$error":"#REF!"},{"$f":"VLOOKUP(#REF!,'Points Lookup'!$A:$B,2,FALSE)","v":{"$error":"#REF!"}},{"$f":"VLOOKUP(#REF!,'Points Lookup'!$A:$B,2,FALSE)","v":{"$error":"#REF!"}},{"$f":"VLOOKUP(#REF!,'Points Lookup'!$A:$B,2,FALSE)","v":{"$error":"#REF!"}},{"$f":"VLOOKUP(#REF!,'Points Lookup'!$A:$B,2,FALSE)","v":{"$error":"#REF!"}},{"$f":"VLOOKUP(#REF!,'Points Lookup'!$A:$B,2,FALSE)","v":{"$error":"#REF!"}},{"$f":"VLOOKUP(#REF!,'Points Lookup'!$A:$B,2,FALSE)","v":{"$error":"#REF!"}},{"$f":"VLOOKUP(#REF!,'Points Lookup'!$A:$B,2,FALSE)","v":{"$error":"#REF!"}},{"$f":"VLOOKUP(#REF!,'Points Lookup'!$A:$B,2,FALSE)","v":{"$error":"#REF!"}},{"$f":"VLOOKUP(#REF!,'Points Lookup'!$A:$B,2,FALSE)","v":{"$error":"#REF!"}},{"$f":"VLOOKUP(#REF!,'Points Lookup'!$A:$B,2,FALSE)","v":{"$error":"#REF!"}},{"$f":"VLOOKUP(#REF!,'Points Lookup'!$A:$B,2,FALSE)","v":{"$error":"#REF!"}},{"$f":"VLOOKUP(#REF!,'Points Lookup'!$A:$B,2,FALSE)","v":{"$error":"#REF!"}},{"$f":"VLOOKUP(#REF!,'Points Lookup'!$A:$B,2,FALSE)","v":{"$error":"#REF!"}},{"$f":"VLOOKUP(#REF!,'Points Lookup'!$A:$B,2,FALSE)","v":{"$error":"#REF!"}},{"$f":"VLOOKUP(#REF!,'Points Lookup'!$A:$B,2,FALSE)","v":{"$error":"#REF!"}},{"$f":"VLOOKUP(#REF!,'Points Lookup'!$A:$B,2,FALSE)","v":{"$error":"#REF!"}},{"$f":"VLOOKUP(#REF!,'Points Lookup'!$A:$B,2,FALSE)","v":{"$error":"#REF!"}},{"$f":"VLOOKUP(#REF!,'Points Lookup'!$A:$B,2,FALSE)","v":{"$error":"#REF!"}},{"$f":"VLOOKUP(#REF!,'Points Lookup'!$A:$B,2,FALSE)","v":{"$error":"#REF!"}},{"$f":"VLOOKUP(#REF!,'Points Lookup'!$A:$B,2,FALSE)","v":{"$error":"#REF!"}},null,{"$error":"#REF!"},{"$error":"#REF!"},{"$error":"#REF!"},{"$error":"#REF!"},{"$error":"#REF!"},{"$error":"#REF!"},{"$error":"#REF!"},{"$error":"#REF!"}]
[{"$error":"#REF!"},{"$f":"#REF!","v":{"$error":"#REF!"}},{"$f":"IF(ISBLANK(#REF!),\"\",#REF!)","v":{"$error":"#REF!"}},{"$error":"#REF!"},{"$f":"VLOOKUP(#REF!,'Points Lookup'!$A:$B,2,FALSE)","v":{"$error":"#REF!"}},{"$f":"VLOOKUP(#REF!,'Points Lookup'!$A:$B,2,FALSE)","v":{"$error":"#REF!"}},{"$f":"VLOOKUP(#REF!,'Points Lookup'!$A:$B,2,FALSE)","v":{"$error":"#REF!"}},{"$f":"VLOOKUP(#REF!,'Points Lookup'!$A:$B,2,FALSE)","v":{"$error":"#REF!"}},{"$f":"VLOOKUP(#REF!,'Points Lookup'!$A:$B,2,FALSE)","v":{"$error":"#REF!"}},{"$f":"VLOOKUP(#REF!,'Points Lookup'!$A:$B,2,FALSE)","v":{"$error":"#REF!"}},{"$f":"VLOOKUP(#REF!,'Points Lookup'!$A:$B,2,FALSE)","v":{"$error":"#REF!"}},{"$f":"VLOOKUP(#REF!,'Points Lookup'!$A:$B,2,FALSE)","v":{"$error":"#REF!"}},{"$f":"VLOOKUP(#REF!,'Points Lookup'!$A:$B,2,FALSE)","v":{"$error":"#REF!"}},{"$f":"VLOOKUP(#REF!,'Points Lookup'!$A:$B,2,FALSE)","v":{"$error":"#REF!"}},{"$f":"VLOOKUP(#REF!,'Points Lookup'!$A:$B,2,FALSE)","v":{"$error":"#REF!"}},{"$f":"VLOOKUP(#REF!,'Points Lookup'!$A:$B,2,FALSE)","v":{"$error":"#REF!"}},{"$f":"VLOOKUP(#REF!,'Points Lookup'!$A:$B,2,FALSE)","v":{"$error":"#REF!"}},{"$f":"VLOOKUP(#REF!,'Points Lookup'!$A:$B,2,FALSE)","v":{"$error":"#REF!"}},{"$f":"VLOOKUP(#REF!,'Points Lookup'!$A:$B,2,FALSE)","v":{"$error":"#REF!"}},{"$f":"VLOOKUP(#REF!,'Points Lookup'!$A:$B,2,FALSE)","v":{"$error":"#REF!"}},{"$f":"VLOOKUP(#REF!,'Points Lookup'!$A:$B,2,FALSE)","v":{"$error":"#REF!"}},{"$f":"VLOOKUP(#REF!,'Points Lookup'!$A:$B,2,FALSE)","v":{"$error":"#REF!"}},{"$f":"VLOOKUP(#REF!,'Points Lookup'!$A:$B,2,FALSE)","v":{"$error":"#REF!"}},{"$f":"VLOOKUP(#REF!,'Points Lookup'!$A:$B,2,FALSE)","v":{"$error":"#REF!"}},null,{"$error":"#REF!"},{"$error":"#REF!"},{"$error":"#REF!"},{"$error":"#REF!"},{"$error":"#REF!"},{"$error":"#REF!"},{"$error":"#REF!"},{"$error":"#REF!"}]
[{"$error":"#REF!"},{"$f":"#REF!","v":{"$error":"#REF!"}},{"$f":"IF(ISBLANK(#REF!),\"\",#REF!)","v":{"$error":"#REF!"}},{"$error":"#REF!"},{"$f":"VLOOKUP(#REF!,'Points Lookup'!$A:$B,2,FALSE)","v":{"$error":"#REF!"}},{"$f":"VLOOKUP(#REF!,'Points Lookup'!$A:$B,2,FALSE)","v":{"$error":"#REF!"}},{"$f":"VLOOKUP(#REF!,'Points Lookup'!$A:$B,2,FALSE)","v":{"$error":"#REF!"}},{"$f":"VLOOKUP(#REF!,'Points Lookup'!$A:$B,2,FALSE)","v":{"$error":"#REF!"}},{"$f":"VLOOKUP(#REF!,'Points Lookup'!$A:$B,2,FALSE)","v":{"$error":"#REF!"}},{"$f":"VLOOKUP(#REF!,'Points Lookup'!$A:$B,2,FALSE)","v":{"$error":"#REF!"}},{"$f":"VLOOKUP(#REF!,'Points Lookup'!$A:$B,2,FALSE)","v":{"$error":"#REF!"}},{"$f":"VLOOKUP(#REF!,'Points Lookup'!$A:$B,2,FALSE)","v":{"$error":"#REF!"}},{"$f":"VLOOKUP(#REF!,'Points Lookup'!$A:$B,2,FALSE)","v":{"$error":"#REF!"}},{"$f":"VLOOKUP(#REF!,'Points Lookup'!$A:$B,2,FALSE)","v":{"$error":"#REF!"}},{"$f":"VLOOKUP(#REF!,'Points Lookup'!$A:$B,2,FALSE)","v":{"$error":"#REF!"}},{"$f":"VLOOKUP(#REF!,'Points Lookup'!$A:$B,2,FALSE)","v":{"$error":"#REF!"}},{"$f":"VLOOKUP(#REF!,'Points Lookup'!$A:$B,2,FALSE)","v":{"$error":"#REF!"}},{"$f":"VLOOKUP(#REF!,'Points Lookup'!$A:$B,2,FALSE)","v":{"$error":"#REF!"}},{"$f":"VLOOKUP(#REF!,'Points Lookup'!$A:$B,2,FALSE)","v":{"$error":"#REF!"}},{"$f":"VLOOKUP(#REF!,'Points Lookup'!$A:$B,2,FALSE)","v":{"$error":"#REF!"}},{"$f":"VLOOKUP(#REF!,'Points Lookup'!$A:$B,2,FALSE)","v":{"$error":"#REF!"}},{"$f":"VLOOKUP(#REF!,'Points Lookup'!$A:$B,2,FALSE)","v":{"$error":"#REF!"}},{"$f":"VLOOKUP(#REF!,'Points Lookup'!$A:$B,2,FALSE)","v":{"$error":"#REF!"}},{"$f":"VLOOKUP(#REF!,'Points Lookup'!$A:$B,2,FALSE)","v":{"$error":"#REF!"}},null,{"$error":"#REF!"},{"$error":"#REF!"},{"$error":"#REF!"},{"$error":"#REF!"},{"$error":"#REF!"},{"$error":"#REF!"},{"$error":"#REF!"},{"$error":"#REF!"}]
[{"$error":"#REF!"},{"$f":"#REF!","v":{"$error":"#REF!"}},{"$f":"IF(ISBLANK(#REF!),\"\",#REF!)","v":{"$error":"#REF!"}},{"$error":"#REF!"},{"$f":"VLOOKUP(#REF!,'Points Lookup'!$A:$B,2,FALSE)","v":{"$error":"#REF!"}},{"$f":"VLOOKUP(#REF!,'Points Lookup'!$A:$B,2,FALSE)","v":{"$error":"#REF!"}},{"$f":"VLOOKUP(#REF!,'Points Lookup'!$A:$B,2,FALSE)","v":{"$error":"#REF!"}},{"$f":"VLOOKUP(#REF!,'Points Lookup'!$A:$B,2,FALSE)","v":{"$error":"#REF!"}},{"$f":"VLOOKUP(#REF!,'Points Lookup'!$A:$B,2,FALSE)","v":{"$error":"#REF!"}},{"$f":"VLOOKUP(#REF!,'Points Lookup'!$A:$B,2,FALSE)","v":{"$error":"#REF!"}},{"$f":"VLOOKUP(#REF!,'Points Lookup'!$A:$B,2,FALSE)","v":{"$error":"#REF!"}},{"$f":"VLOOKUP(#REF!,'Points Lookup'!$A:$B,2,FALSE)","v":{"$error":"#REF!"}},{"$f":"VLOOKUP(#REF!,'Points Lookup'!$A:$B,2,FALSE)","v":{"$error":"#REF!"}},{"$f":"VLOOKUP(#REF!,'Points Lookup'!$A:$B,2,FALSE)","v":{"$error":"#REF!"}},{"$f":"VLOOKUP(#REF!,'Points Lookup'!$A:$B,2,FALSE)","v":{"$error":"#REF!"}},{"$f":"VLOOKUP(#REF!,'Points Lookup'!$A:$B,2,FALSE)","v":{"$error":"#REF!"}},{"$f":"VLOOKUP(#REF!,'Points Lookup'!$A:$B,2,FALSE)","v":{"$error":"#REF!"}},{"$f":"VLOOKUP(#REF!,'Points Lookup'!$A:$B,2,FALSE)","v":{"$error":"#REF!"}},{"$f":"VLOOKUP(#REF!,'Points Lookup'!$A:$B,2,FALSE)","v":{"$error":"#REF!"}},{"$f":"VLOOKUP(#REF!,'Points Lookup'!$A:$B,2,FALSE)","v":{"$error":"#REF!"}},{"$f":"VLOOKUP(#REF!,'Points Lookup'!$A:$B,2,FALSE)","v":{"$error":"#REF!"}},{"$f":"VLOOKUP(#REF!,'Points Lookup'!$A:$B,2,FALSE)","v":{"$error":"#REF!"}},{"$f":"VLOOKUP(#REF!,'Points Lookup'!$A:$B,2,FALSE)","v":{"$error":"#REF!"}},{"$f":"VLOOKUP(#REF!,'Points Lookup'!$A:$B,2,FALSE)","v":{"$error":"#REF!"}},null,{"$error":"#REF!"},{"$error":"#REF!"},{"$error":"#REF!"},{"$error":"#REF!"},{"$error":"#REF!"},{"$error":"#REF!"},{"$error":"#REF!"},{"$error":"#REF!"}]
[{"$error":"#REF!"},{"$f":"#REF!","v":{"$error":"#REF!"}},{"$f":"IF(ISBLANK(#REF!),\"\",#REF!)","v":{"$error":"#REF!"}},{"$error":"#REF!"},{"$f":"VLOOKUP(#REF!,'Points Lookup'!$A:$B,2,FALSE)","v":{"$error":"#REF!"}},{"$f":"VLOOKUP(#REF!,'Points Lookup'!$A:$B,2,FALSE)","v":{"$error":"#REF!"}},{"$f":"VLOOKUP(#REF!,'Points Lookup'!$A:$B,2,FALSE)","v":{"$error":"#REF!"}},{"$f":"VLOOKUP(#REF!,'Points Lookup'!$A:$B,2,FALSE)","v":{"$error":"#REF!"}},{"$f":"VLOOKUP(#REF!,'Points Lookup'!$A:$B,2,FALSE)","v":{"$error":"#REF!"}},{"$f":"VLOOKUP(#REF!,'Points Lookup'!$A:$B,2,FALSE)","v":{"$error":"#REF!"}},{"$f":"VLOOKUP(#REF!,'Points Lookup'!$A:$B,2,FALSE)","v":{"$error":"#REF!"}},{"$f":"VLOOKUP(#REF!,'Points Lookup'!$A:$B,2,FALSE)","v":{"$error":"#REF!"}},{"$f":"VLOOKUP(#REF!,'Points Lookup'!$A:$B,2,FALSE)","v":{"$error":"#REF!"}},{"$f":"VLOOKUP(#REF!,'Points Lookup'!$A:$B,2,FALSE)","v":{"$error":"#REF!"}},{"$f":"VLOOKUP(#REF!,'Points Lookup'!$A:$B,2,FALSE)","v":{"$error":"#REF!"}},{"$f":"VLOOKUP(#REF!,'Points Lookup'!$A:$B,2,FALSE)","v":{"$error":"#REF!"}},{"$f":"VLOOKUP(#REF!,'Points Lookup'!$A:$B,2,FALSE)","v":{"$error":"#REF!"}},{"$f":"VLOOKUP(#REF!,'Points Lookup'!$A:$B,2,FALSE)","v":{"$error":"#REF!"}},{"$f":"VLOOKUP(#REF!,'Points Lookup'!$A:$B,2,FALSE)","v":{"$error":"#REF!"}},{"$f":"VLOOKUP(#REF!,'Points Lookup'!$A:$B,2,FALSE)","v":{"$error":"#REF!"}},{"$f":"VLOOKUP(#REF!,'Points Lookup'!$A:$B,2,FALSE)","v":{"$error":"#REF!"}},{"$f":"VLOOKUP(#REF!,'Points Lookup'!$A:$B,2,FALSE)","v":{"$error":"#REF!"}},{"$f":"VLOOKUP(#REF!,'Points Lookup'!$A:$B,2,FALSE)","v":{"$error":"#REF!"}},{"$f":"VLOOKUP(#REF!,'Points Lookup'!$A:$B,2,FALSE)","v":{"$error":"#REF!"}},null,{"$error":"#REF!"},{"$error":"#REF!"},{"$error":"#REF!"},{"$error":"#REF!"},{"$error":"#REF!"},{"$error":"#REF!"},{"$error":"#REF!"},{"$error":"#REF!"}]
[{"$error":"#REF!"},{"$f":"#REF!","v":{"$error":"#REF!"}},{"$f":"IF(ISBLANK(#REF!),\"\",#REF!)","v":{"$error":"#REF!"}},{"$error":"#REF!"},{"$f":"VLOOKUP(#REF!,'Points Lookup'!$A:$B,2,FALSE)","v":{"$error":"#REF!"}},{"$f":"VLOOKUP(#REF!,'Points Lookup'!$A:$B,2,FALSE)","v":{"$error":"#REF!"}},{"$f":"VLOOKUP(#REF!,'Points Lookup'!$A:$B,2,FALSE)","v":{"$error":"#REF!"}},{"$f":"VLOOKUP(#REF!,'Points Lookup'!$A:$B,2,FALSE)","v":{"$error":"#REF!"}},{"$f":"VLOOKUP(#REF!,'Points Lookup'!$A:$B,2,FALSE)","v":{"$error":"#REF!"}},{"$f":"VLOOKUP(#REF!,'Points Lookup'!$A:$B,2,FALSE)","v":{"$error":"#REF!"}},{"$f":"VLOOKUP(#REF!,'Points Lookup'!$A:$B,2,FALSE)","v":{"$error":"#REF!"}},{"$f":"VLOOKUP(#REF!,'Points Lookup'!$A:$B,2,FALSE)","v":{"$error":"#REF!"}},{"$f":"VLOOKUP(#REF!,'Points Lookup'!$A:$B,2,FALSE)","v":{"$error":"#REF!"}},{"$f":"VLOOKUP(#REF!,'Points Lookup'!$A:$B,2,FALSE)","v":{"$error":"#REF!"}},{"$f":"VLOOKUP(#REF!,'Points Lookup'!$A:$B,2,FALSE)","v":{"$error":"#REF!"}},{"$f":"VLOOKUP(#REF!,'Points Lookup'!$A:$B,2,FALSE)","v":{"$error":"#REF!"}},{"$f":"VLOOKUP(#REF!,'Points Lookup'!$A:$B,2,FALSE)","v":{"$error":"#REF!"}},{"$f":"VLOOKUP(#REF!,'Points Lookup'!$A:$B,2,FALSE)","v":{"$error":"#REF!"}},{"$f":"VLOOKUP(#REF!,'Points Lookup'!$A:$B,2,FALSE)","v":{"$error":"#REF!"}},{"$f":"VLOOKUP(#REF!,'Points Lookup'!$A:$B,2,FALSE)","v":{"$error":"#REF!"}},{"$f":"VLOOKUP(#REF!,'Points Lookup'!$A:$B,2,FALSE)","v":{"$error":"#REF!"}},{"$f":"VLOOKUP(#REF!,'Points Lookup'!$A:$B,2,FALSE)","v":{"$error":"#REF!"}},{"$f":"VLOOKUP(#REF!,'Points Lookup'!$A:$B,2,FALSE)","v":{"$error":"#REF!"}},{"$f":"VLOOKUP(#REF!,'Points Lookup'!$A:$B,2,FALSE)","v":{"$error":"#REF!"}},null,{"$error":"#REF!"},{"$error":"#REF!"},{"$error":"#REF!"},{"$error":"#REF!"},{"$error":"#REF!"},{"$error":"#REF!"},{"$error":"#REF!"},{"$error":"#REF!"}]
[{"$error":"#REF!"},{"$f":"#REF!","v":{"$error":"#REF!"}},{"$f":"IF(ISBLANK(#REF!),\"\",#REF!)","v":{"$error":"#REF!"}},{"$error":"#REF!"},{"$f":"VLOOKUP(#REF!,'Points Lookup'!$A:$B,2,FALSE)","v":{"$error":"#REF!"}},{"$f":"VLOOKUP(#REF!,'Points Lookup'!$A:$B,2,FALSE)","v":{"$error":"#REF!"}},{"$f":"VLOOKUP(#REF!,'Points Lookup'!$A:$B,2,FALSE)","v":{"$error":"#REF!"}},{"$f":"VLOOKUP(#REF!,'Points Lookup'!$A:$B,2,FALSE)","v":{"$error":"#REF!"}},{"$f":"VLOOKUP(#REF!,'Points Lookup'!$A:$B,2,FALSE)","v":{"$error":"#REF!"}},{"$f":"VLOOKUP(#REF!,'Points Lookup'!$A:$B,2,FALSE)","v":{"$error":"#REF!"}},{"$f":"VLOOKUP(#REF!,'Points Lookup'!$A:$B,2,FALSE)","v":{"$error":"#REF!"}},{"$f":"VLOOKUP(#REF!,'Points Lookup'!$A:$B,2,FALSE)","v":{"$error":"#REF!"}},{"$f":"VLOOKUP(#REF!,'Points Lookup'!$A:$B,2,FALSE)","v":{"$error":"#REF!"}},{"$f":"VLOOKUP(#REF!,'Points Lookup'!$A:$B,2,FALSE)","v":{"$error":"#REF!"}},{"$f":"VLOOKUP(#REF!,'Points Lookup'!$A:$B,2,FALSE)","v":{"$error":"#REF!"}},{"$f":"VLOOKUP(#REF!,'Points Lookup'!$A:$B,2,FALSE)","v":{"$error":"#REF!"}},{"$f":"VLOOKUP(#REF!,'Points Lookup'!$A:$B,2,FALSE)","v":{"$error":"#REF!"}},{"$f":"VLOOKUP(#REF!,'Points Lookup'!$A:$B,2,FALSE)","v":{"$error":"#REF!"}},{"$f":"VLOOKUP(#REF!,'Points Lookup'!$A:$B,2,FALSE)","v":{"$error":"#REF!"}},{"$f":"VLOOKUP(#REF!,'Points Lookup'!$A:$B,2,FALSE)","v":{"$error":"#REF!"}},{"$f":"VLOOKUP(#REF!,'Points Lookup'!$A:$B,2,FALSE)","v":{"$error":"#REF!"}},{"$f":"VLOOKUP(#REF!,'Points Lookup'!$A:$B,2,FALSE)","v":{"$error":"#REF!"}},{"$f":"VLOOKUP(#REF!,'Points Lookup'!$A:$B,2,FALSE)","v":{"$error":"#REF!"}},{"$f":"VLOOKUP(#REF!,'Points Lookup'!$A:$B,2,FALSE)","v":{"$error":"#REF!"}},null,{"$error":"#REF!"},{"$error":"#REF!"},{"$error":"#REF!"},{"$error":"#REF!"},{"$error":"#REF!"},{"$error":"#REF!"},{"$error":"#REF!"},{"$error":"#REF!"}]
[{"$error":"#REF!"},{"$f":"#REF!","v":{"$error":"#REF!"}},{"$f":"IF(ISBLANK(#REF!),\"\",#REF!)","v":{"$error":"#REF!"}},{"$error":"#REF!"},{"$f":"VLOOKUP(#REF!,'Points Lookup'!$A:$B,2,FALSE)","v":{"$error":"#REF!"}},{"$f":"VLOOKUP(#REF!,'Points Lookup'!$A:$B,2,FALSE)","v":{"$error":"#REF!"}},{"$f":"VLOOKUP(#REF!,'Points Lookup'!$A:$B,2,FALSE)","v":{"$error":"#REF!"}},{"$f":"VLOOKUP(#REF!,'Points Lookup'!$A:$B,2,FALSE)","v":{"$error":"#REF!"}},{"$f":"VLOOKUP(#REF!,'Points Lookup'!$A:$B,2,FALSE)","v":{"$error":"#REF!"}},{"$f":"VLOOKUP(#REF!,'Points Lookup'!$A:$B,2,FALSE)","v":{"$error":"#REF!"}},{"$f":"VLOOKUP(#REF!,'Points Lookup'!$A:$B,2,FALSE)","v":{"$error":"#REF!"}},{"$f":"VLOOKUP(#REF!,'Points Lookup'!$A:$B,2,FALSE)","v":{"$error":"#REF!"}},{"$f":"VLOOKUP(#REF!,'Points Lookup'!$A:$B,2,FALSE)","v":{"$error":"#REF!"}},{"$f":"VLOOKUP(#REF!,'Points Lookup'!$A:$B,2,FALSE)","v":{"$error":"#REF!"}},{"$f":"VLOOKUP(#REF!,'Points Lookup'!$A:$B,2,FALSE)","v":{"$error":"#REF!"}},{"$f":"VLOOKUP(#REF!,'Points Lookup'!$A:$B,2,FALSE)","v":{"$error":"#REF!"}},{"$f":"VLOOKUP(#REF!,'Points Lookup'!$A:$B,2,FALSE)","v":{"$error":"#REF!"}},{"$f":"VLOOKUP(#REF!,'Points Lookup'!$A:$B,2,FALSE)","v":{"$error":"#REF!"}},{"$f":"VLOOKUP(#REF!,'Points Lookup'!$A:$B,2,FALSE)","v":{"$error":"#REF!"}},{"$f":"VLOOKUP(#REF!,'Points Lookup'!$A:$B,2,FALSE)","v":{"$error":"#REF!"}},{"$f":"VLOOKUP(#REF!,'Points Lookup'!$A:$B,2,FALSE)","v":{"$error":"#REF!"}},{"$f":"VLOOKUP(#REF!,'Points Lookup'!$A:$B,2,FALSE)","v":{"$error":"#REF!"}},{"$f":"VLOOKUP(#REF!,'Points Lookup'!$A:$B,2,FALSE)","v":{"$error":"#REF!"}},{"$f":"VLOOKUP(#REF!,'Points Lookup'!$A:$B,2,FALSE)","v":{"$error":"#REF!"}},null,{"$error":"#REF!"},{"$error":"#REF!"},{"$error":"#REF!"},{"$error":"#REF!"},{"$error":"#REF!"},{"$error":"#REF!"},{"$error":"#REF!"},{"$error":"#REF!"}]
[{"$error":"#REF!"},{"$f":"#REF!","v":{"$error":"#REF!"}},{"$f":"IF(ISBLANK(#REF!),\"\",#REF!)","v":{"$error":"#REF!"}},{"$error":"#REF!"},{"$f":"VLOOKUP(#REF!,'Points Lookup'!$A:$B,2,FALSE)","v":{"$error":"#REF!"}},{"$f":"VLOOKUP(#REF!,'Points Lookup'!$A:$B,2,FALSE)","v":{"$error":"#REF!"}},{"$f":"VLOOKUP(#REF!,'Points Lookup'!$A:$B,2,FALSE)","v":{"$error":"#REF!"}},{"$f":"VLOOKUP(#REF!,'Points Lookup'!$A:$B,2,FALSE)","v":{"$error":"#REF!"}},{"$f":"VLOOKUP(#REF!,'Points Lookup'!$A:$B,2,FALSE)","v":{"$error":"#REF!"}},{"$f":"VLOOKUP(#REF!,'Points Lookup'!$A:$B,2,FALSE)","v":{"$error":"#REF!"}},{"$f":"VLOOKUP(#REF!,'Points Lookup'!$A:$B,2,FALSE)","v":{"$error":"#REF!"}},{"$f":"VLOOKUP(#REF!,'Points Lookup'!$A:$B,2,FALSE)","v":{"$error":"#REF!"}},{"$f":"VLOOKUP(#REF!,'Points Lookup'!$A:$B,2,FALSE)","v":{"$error":"#REF!"}},{"$f":"VLOOKUP(#REF!,'Points Lookup'!$A:$B,2,FALSE)","v":{"$error":"#REF!"}},{"$f":"VLOOKUP(#REF!,'Points Lookup'!$A:$B,2,FALSE)","v":{"$error":"#REF!"}},{"$f":"VLOOKUP(#REF!,'Points Lookup'!$A:$B,2,FALSE)","v":{"$error":"#REF!"}},{"$f":"VLOOKUP(#REF!,'Points Lookup'!$A:$B,2,FALSE)","v":{"$error":"#REF!"}},{"$f":"VLOOKUP(#REF!,'Points Lookup'!$A:$B,2,FALSE)","v":{"$error":"#REF!"}},{"$f":"VLOOKUP(#REF!,'Points Lookup'!$A:$B,2,FALSE)","v":{"$error":"#REF!"}},{"$f":"VLOOKUP(#REF!,'Points Lookup'!$A:$B,2,FALSE)","v":{"$error":"#REF!"}},{"$f":"VLOOKUP(#REF!,'Points Lookup'!$A:$B,2,FALSE)","v":{"$error":"#REF!"}},{"$f":"VLOOKUP(#REF!,'Points Lookup'!$A:$B,2,FALSE)","v":{"$error":"#REF!"}},{"$f":"VLOOKUP(#REF!,'Points Lookup'!$A:$B,2,FALSE)","v":{"$error":"#REF!"}},{"$f":"VLOOKUP(#REF!,'Points Lookup'!$A:$B,2,FALSE)","v":{"$error":"#REF!"}},null,{"$error":"#REF!"},{"$error":"#REF!"},{"$error":"#REF!"},{"$error":"#REF!"},{"$error":"#REF!"},{"$error":"#REF!"},{"$error":"#REF!"},{"$error":"#REF!"}]
[{"$error":"#REF!"},{"$f":"#REF!","v":{"$error":"#REF!"}},{"$f":"IF(ISBLANK(#REF!),\"\",#REF!)","v":{"$error":"#REF!"}},{"$error":"#REF!"},{"$f":"VLOOKUP(#REF!,'Points Lookup'!$A:$B,2,FALSE)","v":{"$error":"#REF!"}},{"$f":"VLOOKUP(#REF!,'Points Lookup'!$A:$B,2,FALSE)","v":{"$error":"#REF!"}},{"$f":"VLOOKUP(#REF!,'Points Lookup'!$A:$B,2,FALSE)","v":{"$error":"#REF!"}},{"$f":"VLOOKUP(#REF!,'Points Lookup'!$A:$B,2,FALSE)","v":{"$error":"#REF!"}},{"$f":"VLOOKUP(#REF!,'Points Lookup'!$A:$B,2,FALSE)","v":{"$error":"#REF!"}},{"$f":"VLOOKUP(#REF!,'Points Lookup'!$A:$B,2,FALSE)","v":{"$error":"#REF!"}},{"$f":"VLOOKUP(#REF!,'Points Lookup'!$A:$B,2,FALSE)","v":{"$error":"#REF!"}},{"$f":"VLOOKUP(#REF!,'Points Lookup'!$A:$B,2,FALSE)","v":{"$error":"#REF!"}},{"$f":"VLOOKUP(#REF!,'Points Lookup'!$A:$B,2,FALSE)","v":{"$error":"#REF!"}},{"$f":"VLOOKUP(#REF!,'Points Lookup'!$A:$B,2,FALSE)","v":{"$error":"#REF!"}},{"$f":"VLOOKUP(#REF!,'Points Lookup'!$A:$B,2,FALSE)","v":{"$error":"#REF!"}},{"$f":"VLOOKUP(#REF!,'Points Lookup'!$A:$B,2,FALSE)","v":{"$error":"#REF!"}},{"$f":"VLOOKUP(#REF!,'Points Lookup'!$A:$B,2,FALSE)","v":{"$error":"#REF!"}},{"$f":"VLOOKUP(#REF!,'Points Lookup'!$A:$B,2,FALSE)","v":{"$error":"#REF!"}},{"$f":"VLOOKUP(#REF!,'Points Lookup'!$A:$B,2,FALSE)","v":{"$error":"#REF!"}},{"$f":"VLOOKUP(#REF!,'Points Lookup'!$A:$B,2,FALSE)","v":{"$error":"#REF!"}},{"$f":"VLOOKUP(#REF!,'Points Lookup'!$A:$B,2,FALSE)","v":{"$error":"#REF!"}},{"$f":"VLOOKUP(#REF!,'Points Lookup'!$A:$B,2,FALSE)","v":{"$error":"#REF!"}},{"$f":"VLOOKUP(#REF!,'Points Lookup'!$A:$B,2,FALSE)","v":{"$error":"#REF!"}},{"$f":"VLOOKUP(#REF!,'Points Lookup'!$A:$B,2,FALSE)","v":{"$error":"#REF!"}},null,{"$error":"#REF!"},{"$error":"#REF!"},{"$error":"#REF!"},{"$error":"#REF!"},{"$error":"#REF!"},{"$error":"#REF!"},{"$error":"#REF!"},{"$error":"#REF!"}]
[{"$error":"#REF!"},{"$f":"#REF!","v":{"$error":"#REF!"}},{"$f":"IF(ISBLANK(#REF!),\"\",#REF!)","v":{"$error":"#REF!"}},{"$error":"#REF!"},{"$f":"VLOOKUP(#REF!,'Points Lookup'!$A:$B,2,FALSE)","v":{"$error":"#REF!"}},{"$f":"VLOOKUP(#REF!,'Points Lookup'!$A:$B,2,FALSE)","v":{"$error":"#REF!"}},{"$f":"VLOOKUP(#REF!,'Points Lookup'!$A:$B,2,FALSE)","v":{"$error":"#REF!"}},{"$f":"VLOOKUP(#REF!,'Points Lookup'!$A:$B,2,FALSE)","v":{"$error":"#REF!"}},{"$f":"VLOOKUP(#REF!,'Points Lookup'!$A:$B,2,FALSE)","v":{"$error":"#REF!"}},{"$f":"VLOOKUP(#REF!,'Points Lookup'!$A:$B,2,FALSE)","v":{"$error":"#REF!"}},{"$f":"VLOOKUP(#REF!,'Points Lookup'!$A:$B,2,FALSE)","v":{"$error":"#REF!"}},{"$f":"VLOOKUP(#REF!,'Points Lookup'!$A:$B,2,FALSE)","v":{"$error":"#REF!"}},{"$f":"VLOOKUP(#REF!,'Points Lookup'!$A:$B,2,FALSE)","v":{"$error":"#REF!"}},{"$f":"VLOOKUP(#REF!,'Points Lookup'!$A:$B,2,FALSE)","v":{"$error":"#REF!"}},{"$f":"VLOOKUP(#REF!,'Points Lookup'!$A:$B,2,FALSE)","v":{"$error":"#REF!"}},{"$f":"VLOOKUP(#REF!,'Points Lookup'!$A:$B,2,FALSE)","v":{"$error":"#REF!"}},{"$f":"VLOOKUP(#REF!,'Points Lookup'!$A:$B,2,FALSE)","v":{"$error":"#REF!"}},{"$f":"VLOOKUP(#REF!,'Points Lookup'!$A:$B,2,FALSE)","v":{"$error":"#REF!"}},{"$f":"VLOOKUP(#REF!,'Points Lookup'!$A:$B,2,FALSE)","v":{"$error":"#REF!"}},{"$f":"VLOOKUP(#REF!,'Points Lookup'!$A:$B,2,FALSE)","v":{"$error":"#REF!"}},{"$f":"VLOOKUP(#REF!,'Points Lookup'!$A:$B,2,FALSE)","v":{"$error":"#REF!"}},{"$f":"VLOOKUP(#REF!,'Points Lookup'!$A:$B,2,FALSE)","v":{"$error":"#REF!"}},{"$f":"VLOOKUP(#REF!,'Points Lookup'!$A:$B,2,FALSE)","v":{"$error":"#REF!"}},{"$f":"VLOOKUP(#REF!,'Points Lookup'!$A:$B,2,FALSE)","v":{"$error":"#REF!"}},null,{"$error":"#REF!"},{"$error":"#REF!"},{"$error":"#REF!"},{"$error":"#REF!"},{"$error":"#REF!"},{"$error":"#REF!"},{"$error":"#REF!"},{"$error":"#REF!"}]
[{"$error":"#REF!"},{"$f":"#REF!","v":{"$error":"#REF!"}},{"$f":"IF(ISBLANK(#REF!),\"\",#REF!)","v":{"$error":"#REF!"}},{"$error":"#REF!"},{"$f":"VLOOKUP(#REF!,'Points Lookup'!$A:$B,2,FALSE)","v":{"$error":"#REF!"}},{"$f":"VLOOKUP(#REF!,'Points Lookup'!$A:$B,2,FALSE)","v":{"$error":"#REF!"}},{"$f":"VLOOKUP(#REF!,'Points Lookup'!$A:$B,2,FALSE)","v":{"$error":"#REF!"}},{"$f":"VLOOKUP(#REF!,'Points Lookup'!$A:$B,2,FALSE)","v":{"$error":"#REF!"}},{"$f":"VLOOKUP(#REF!,'Points Lookup'!$A:$B,2,FALSE)","v":{"$error":"#REF!"}},{"$f":"VLOOKUP(#REF!,'Points Lookup'!$A:$B,2,FALSE)","v":{"$error":"#REF!"}},{"$f":"VLOOKUP(#REF!,'Points Lookup'!$A:$B,2,FALSE)","v":{"$error":"#REF!"}},{"$f":"VLOOKUP(#REF!,'Points Lookup'!$A:$B,2,FALSE)","v":{"$error":"#REF!"}},{"$f":"VLOOKUP(#REF!,'Points Lookup'!$A:$B,2,FALSE)","v":{"$error":"#REF!"}},{"$f":"VLOOKUP(#REF!,'Points Lookup'!$A:$B,2,FALSE)","v":{"$error":"#REF!"}},{"$f":"VLOOKUP(#REF!,'Points Lookup'!$A:$B,2,FALSE)","v":{"$error":"#REF!"}},{"$f":"VLOOKUP(#REF!,'Points Lookup'!$A:$B,2,FALSE)","v":{"$error":"#REF!"}},{"$f":"VLOOKUP(#REF!,'Points Lookup'!$A:$B,2,FALSE)","v":{"$error":"#REF!"}},{"$f":"VLOOKUP(#REF!,'Points Lookup'!$A:$B,2,FALSE)","v":{"$error":"#REF!"}},{"$f":"VLOOKUP(#REF!,'Points Lookup'!$A:$B,2,FALSE)","v":{"$error":"#REF!"}},{"$f":"VLOOKUP(#REF!,'Points Lookup'!$A:$B,2,FALSE)","v":{"$error":"#REF!"}},{"$f":"VLOOKUP(#REF!,'Points Lookup'!$A:$B,2,FALSE)","v":{"$error":"#REF!"}},{"$f":"VLOOKUP(#REF!,'Points Lookup'!$A:$B,2,FALSE)","v":{"$error":"#REF!"}},{"$f":"VLOOKUP(#REF!,'Points Lookup'!$A:$B,2,FALSE)","v":{"$error":"#REF!"}},{"$f":"VLOOKUP(#REF!,'Points Lookup'!$A:$B,2,FALSE)","v":{"$error":"#REF!"}},null,{"$error":"#REF!"},{"$error":"#REF!"},{"$error":"#REF!"},{"$error":"#REF!"},{"$error":"#REF!"},{"$error":"#REF!"},{"$error":"#REF!"},{"$error":"#REF!"}]
[{"$error":"#REF!"},{"$f":"#REF!","v":{"$error":"#REF!"}},{"$f":"IF(ISBLANK(#REF!),\"\",#REF!)","v":{"$error":"#REF!"}},{"$error":"#REF!"},{"$f":"VLOOKUP(#REF!,'Points Lookup'!$A:$B,2,FALSE)","v":{"$error":"#REF!"}},{"$f":"VLOOKUP(#REF!,'Points Lookup'!$A:$B,2,FALSE)","v":{"$error":"#REF!"}},{"$f":"VLOOKUP(#REF!,'Points Lookup'!$A:$B,2,FALSE)","v":{"$error":"#REF!"}},{"$f":"VLOOKUP(#REF!,'Points Lookup'!$A:$B,2,FALSE)","v":{"$error":"#REF!"}},{"$f":"VLOOKUP(#REF!,'Points Lookup'!$A:$B,2,FALSE)","v":{"$error":"#REF!"}},{"$f":"VLOOKUP(#REF!,'Points Lookup'!$A:$B,2,FALSE)","v":{"$error":"#REF!"}},{"$f":"VLOOKUP(#REF!,'Points Lookup'!$A:$B,2,FALSE)","v":{"$error":"#REF!"}},{"$f":"VLOOKUP(#REF!,'Points Lookup'!$A:$B,2,FALSE)","v":{"$error":"#REF!"}},{"$f":"VLOOKUP(#REF!,'Points Lookup'!$A:$B,2,FALSE)","v":{"$error":"#REF!"}},{"$f":"VLOOKUP(#REF!,'Points Lookup'!$A:$B,2,FALSE)","v":{"$error":"#REF!"}},{"$f":"VLOOKUP(#REF!,'Points Lookup'!$A:$B,2,FALSE)","v":{"$error":"#REF!"}},{"$f":"VLOOKUP(#REF!,'Points Lookup'!$A:$B,2,FALSE)","v":{"$error":"#REF!"}},{"$f":"VLOOKUP(#REF!,'Points Lookup'!$A:$B,2,FALSE)","v":{"$error":"#REF!"}},{"$f":"VLOOKUP(#REF!,'Points Lookup'!$A:$B,2,FALSE)","v":{"$error":"#REF!"}},{"$f":"VLOOKUP(#REF!,'Points Lookup'!$A:$B,2,FALSE)","v":{"$error":"#REF!"}},{"$f":"VLOOKUP(#REF!,'Points Lookup'!$A:$B,2,FALSE)","v":{"$error":"#REF!"}},{"$f":"VLOOKUP(#REF!,'Points Lookup'!$A:$B,2,FALSE)","v":{"$error":"#REF!"}},{"$f":"VLOOKUP(#REF!,'Points Lookup'!$A:$B,2,FALSE)","v":{"$error":"#REF!"}},{"$f":"VLOOKUP(#REF!,'Points Lookup'!$A:$B,2,FALSE)","v":{"$error":"#REF!"}},{"$f":"VLOOKUP(#REF!,'Points Lookup'!$A:$B,2,FALSE)","v":{"$error":"#REF!"}},null,{"$error":"#REF!"},{"$error":"#REF!"},{"$error":"#REF!"},{"$error":"#REF!"},{"$error":"#REF!"},{"$error":"#REF!"},{"$error":"#REF!"},{"$error":"#REF!"}]
[{"$error":"#REF!"},{"$f":"#REF!","v":{"$error":"#REF!"}},{"$f":"IF(ISBLANK(#REF!),\"\",#REF!)","v":{"$error":"#REF!"}},{"$error":"#REF!"},{"$f":"VLOOKUP(#REF!,'Points Lookup'!$A:$B,2,FALSE)","v":{"$error":"#REF!"}},{"$f":"VLOOKUP(#REF!,'Points Lookup'!$A:$B,2,FALSE)","v":{"$error":"#REF!"}},{"$f":"VLOOKUP(#REF!,'Points Lookup'!$A:$B,2,FALSE)","v":{"$error":"#REF!"}},{"$f":"VLOOKUP(#REF!,'Points Lookup'!$A:$B,2,FALSE)","v":{"$error":"#REF!"}},{"$f":"VLOOKUP(#REF!,'Points Lookup'!$A:$B,2,FALSE)","v":{"$error":"#REF!"}},{"$f":"VLOOKUP(#REF!,'Points Lookup'!$A:$B,2,FALSE)","v":{"$error":"#REF!"}},{"$f":"VLOOKUP(#REF!,'Points Lookup'!$A:$B,2,FALSE)","v":{"$error":"#REF!"}},{"$f":"VLOOKUP(#REF!,'Points Lookup'!$A:$B,2,FALSE)","v":{"$error":"#REF!"}},{"$f":"VLOOKUP(#REF!,'Points Lookup'!$A:$B,2,FALSE)","v":{"$error":"#REF!"}},{"$f":"VLOOKUP(#REF!,'Points Lookup'!$A:$B,2,FALSE)","v":{"$error":"#REF!"}},{"$f":"VLOOKUP(#REF!,'Points Lookup'!$A:$B,2,FALSE)","v":{"$error":"#REF!"}},{"$f":"VLOOKUP(#REF!,'Points Lookup'!$A:$B,2,FALSE)","v":{"$error":"#REF!"}},{"$f":"VLOOKUP(#REF!,'Points Lookup'!$A:$B,2,FALSE)","v":{"$error":"#REF!"}},{"$f":"VLOOKUP(#REF!,'Points Lookup'!$A:$B,2,FALSE)","v":{"$error":"#REF!"}},{"$f":"VLOOKUP(#REF!,'Points Lookup'!$A:$B,2,FALSE)","v":{"$error":"#REF!"}},{"$f":"VLOOKUP(#REF!,'Points Lookup'!$A:$B,2,FALSE)","v":{"$error":"#REF!"}},{"$f":"VLOOKUP(#REF!,'Points Lookup'!$A:$B,2,FALSE)","v":{"$error":"#REF!"}},{"$f":"VLOOKUP(#REF!,'Points Lookup'!$A:$B,2,FALSE)","v":{"$error":"#REF!"}},{"$f":"VLOOKUP(#REF!,'Points Lookup'!$A:$B,2,FALSE)","v":{"$error":"#REF!"}},{"$f":"VLOOKUP(#REF!,'Points Lookup'!$A:$B,2,FALSE)","v":{"$error":"#REF!"}},null,{"$error":"#REF!"},{"$error":"#REF!"},{"$error":"#REF!"},{"$error":"#REF!"},{"$error":"#REF!"},{"$error":"#REF!"},{"$error":"#REF!"},{"$error":"#REF!"}]
[{"$error":"#REF!"},{"$f":"#REF!","v":{"$error":"#REF!"}},{"$f":"IF(ISBLANK(#REF!),\"\",#REF!)","v":{"$error":"#REF!"}},{"$error":"#REF!"},{"$f":"VLOOKUP(#REF!,'Points Lookup'!$A:$B,2,FALSE)","v":{"$error":"#REF!"}},{"$f":"VLOOKUP(#REF!,'Points Lookup'!$A:$B,2,FALSE)","v":{"$error":"#REF!"}},{"$f":"VLOOKUP(#REF!,'Points Lookup'!$A:$B,2,FALSE)","v":{"$error":"#REF!"}},{"$f":"VLOOKUP(#REF!,'Points Lookup'!$A:$B,2,FALSE)","v":{"$error":"#REF!"}},{"$f":"VLOOKUP(#REF!,'Points Lookup'!$A:$B,2,FALSE)","v":{"$error":"#REF!"}},{"$f":"VLOOKUP(#REF!,'Points Lookup'!$A:$B,2,FALSE)","v":{"$error":"#REF!"}},{"$f":"VLOOKUP(#REF!,'Points Lookup'!$A:$B,2,FALSE)","v":{"$error":"#REF!"}},{"$f":"VLOOKUP(#REF!,'Points Lookup'!$A:$B,2,FALSE)","v":{"$error":"#REF!"}},{"$f":"VLOOKUP(#REF!,'Points Lookup'!$A:$B,2,FALSE)","v":{"$error":"#REF!"}},{"$f":"VLOOKUP(#REF!,'Points Lookup'!$A:$B,2,FALSE)","v":{"$error":"#REF!"}},{"$f":"VLOOKUP(#REF!,'Points Lookup'!$A:$B,2,FALSE)","v":{"$error":"#REF!"}},{"$f":"VLOOKUP(#REF!,'Points Lookup'!$A:$B,2,FALSE)","v":{"$error":"#REF!"}},{"$f":"VLOOKUP(#REF!,'Points Lookup'!$A:$B,2,FALSE)","v":{"$error":"#REF!"}},{"$f":"VLOOKUP(#REF!,'Points Lookup'!$A:$B,2,FALSE)","v":{"$error":"#REF!"}},{"$f":"VLOOKUP(#REF!,'Points Lookup'!$A:$B,2,FALSE)","v":{"$error":"#REF!"}},{"$f":"VLOOKUP(#REF!,'Points Lookup'!$A:$B,2,FALSE)","v":{"$error":"#REF!"}},{"$f":"VLOOKUP(#REF!,'Points Lookup'!$A:$B,2,FALSE)","v":{"$error":"#REF!"}},{"$f":"VLOOKUP(#REF!,'Points Lookup'!$A:$B,2,FALSE)","v":{"$error":"#REF!"}},{"$f":"VLOOKUP(#REF!,'Points Lookup'!$A:$B,2,FALSE)","v":{"$error":"#REF!"}},{"$f":"VLOOKUP(#REF!,'Points Lookup'!$A:$B,2,FALSE)","v":{"$error":"#REF!"}},null,{"$error":"#REF!"},{"$error":"#REF!"},{"$error":"#REF!"},{"$error":"#REF!"},{"$error":"#REF!"},{"$error":"#REF!"},{"$error":"#REF!"},{"$error":"#REF!"}]
[{"$error":"#REF!"},{"$f":"#REF!","v":{"$error":"#REF!"}},{"$f":"IF(ISBLANK(#REF!),\"\",#REF!)","v":{"$error":"#REF!"}},{"$error":"#REF!"},{"$f":"VLOOKUP(#REF!,'Points Lookup'!$A:$B,2,FALSE)","v":{"$error":"#REF!"}},{"$f":"VLOOKUP(#REF!,'Points Lookup'!$A:$B,2,FALSE)","v":{"$error":"#REF!"}},{"$f":"VLOOKUP(#REF!,'Points Lookup'!$A:$B,2,FALSE)","v":{"$error":"#REF!"}},{"$f":"VLOOKUP(#REF!,'Points Lookup'!$A:$B,2,FALSE)","v":{"$error":"#REF!"}},{"$f":"VLOOKUP(#REF!,'Points Lookup'!$A:$B,2,FALSE)","v":{"$error":"#REF!"}},{"$f":"VLOOKUP(#REF!,'Points Lookup'!$A:$B,2,FALSE)","v":{"$error":"#REF!"}},{"$f":"VLOOKUP(#REF!,'Points Lookup'!$A:$B,2,FALSE)","v":{"$error":"#REF!"}},{"$f":"VLOOKUP(#REF!,'Points Lookup'!$A:$B,2,FALSE)","v":{"$error":"#REF!"}},{"$f":"VLOOKUP(#REF!,'Points Lookup'!$A:$B,2,FALSE)","v":{"$error":"#REF!"}},{"$f":"VLOOKUP(#REF!,'Points Lookup'!$A:$B,2,FALSE)","v":{"$error":"#REF!"}},{"$f":"VLOOKUP(#REF!,'Points Lookup'!$A:$B,2,FALSE)","v":{"$error":"#REF!"}},{"$f":"VLOOKUP(#REF!,'Points Lookup'!$A:$B,2,FALSE)","v":{"$error":"#REF!"}},{"$f":"VLOOKUP(#REF!,'Points Lookup'!$A:$B,2,FALSE)","v":{"$error":"#REF!"}},{"$f":"VLOOKUP(#REF!,'Points Lookup'!$A:$B,2,FALSE)","v":{"$error":"#REF!"}},{"$f":"VLOOKUP(#REF!,'Points Lookup'!$A:$B,2,FALSE)","v":{"$error":"#REF!"}},{"$f":"VLOOKUP(#REF!,'Points Lookup'!$A:$B,2,FALSE)","v":{"$error":"#REF!"}},{"$f":"VLOOKUP(#REF!,'Points Lookup'!$A:$B,2,FALSE)","v":{"$error":"#REF!"}},{"$f":"VLOOKUP(#REF!,'Points Lookup'!$A:$B,2,FALSE)","v":{"$error":"#REF!"}},{"$f":"VLOOKUP(#REF!,'Points Lookup'!$A:$B,2,FALSE)","v":{"$error":"#REF!"}},{"$f":"VLOOKUP(#REF!,'Points Lookup'!$A:$B,2,FALSE)","v":{"$error":"#REF!"}},null,{"$error":"#REF!"},{"$error":"#REF!"},{"$error":"#REF!"},{"$error":"#REF!"},{"$error":"#REF!"},{"$error":"#REF!"},{"$error":"#REF!"},{"$error":"#REF!"}]
[{"$error":"#REF!"},{"$f":"#REF!","v":{"$error":"#REF!"}},{"$f":"IF(ISBLANK(#REF!),\"\",#REF!)","v":{"$error":"#REF!"}},{"$error":"#REF!"},{"$f":"VLOOKUP(#REF!,'Points Lookup'!$A:$B,2,FALSE)","v":{"$error":"#REF!"}},{"$f":"VLOOKUP(#REF!,'Points Lookup'!$A:$B,2,FALSE)","v":{"$error":"#REF!"}},{"$f":"VLOOKUP(#REF!,'Points Lookup'!$A:$B,2,FALSE)","v":{"$error":"#REF!"}},{"$f":"VLOOKUP(#REF!,'Points Lookup'!$A:$B,2,FALSE)","v":{"$error":"#REF!"}},{"$f":"VLOOKUP(#REF!,'Points Lookup'!$A:$B,2,FALSE)","v":{"$error":"#REF!"}},{"$f":"VLOOKUP(#REF!,'Points Lookup'!$A:$B,2,FALSE)","v":{"$error":"#REF!"}},{"$f":"VLOOKUP(#REF!,'Points Lookup'!$A:$B,2,FALSE)","v":{"$error":"#REF!"}},{"$f":"VLOOKUP(#REF!,'Points Lookup'!$A:$B,2,FALSE)","v":{"$error":"#REF!"}},{"$f":"VLOOKUP(#REF!,'Points Lookup'!$A:$B,2,FALSE)","v":{"$error":"#REF!"}},{"$f":"VLOOKUP(#REF!,'Points Lookup'!$A:$B,2,FALSE)","v":{"$error":"#REF!"}},{"$f":"VLOOKUP(#REF!,'Points Lookup'!$A:$B,2,FALSE)","v":{"$error":"#REF!"}},{"$f":"VLOOKUP(#REF!,'Points Lookup'!$A:$B,2,FALSE)","v":{"$error":"#REF!"}},{"$f":"VLOOKUP(#REF!,'Points Lookup'!$A:$B,2,FALSE)","v":{"$error":"#REF!"}},{"$f":"VLOOKUP(#REF!,'Points Lookup'!$A:$B,2,FALSE)","v":{"$error":"#REF!"}},{"$f":"VLOOKUP(#REF!,'Points Lookup'!$A:$B,2,FALSE)","v":{"$error":"#REF!"}},{"$f":"VLOOKUP(#REF!,'Points Lookup'!$A:$B,2,FALSE)","v":{"$error":"#REF!"}},{"$f":"VLOOKUP(#REF!,'Points Lookup'!$A:$B,2,FALSE)","v":{"$error":"#REF!"}},{"$f":"VLOOKUP(#REF!,'Points Lookup'!$A:$B,2,FALSE)","v":{"$error":"#REF!"}},{"$f":"VLOOKUP(#REF!,'Points Lookup'!$A:$B,2,FALSE)","v":{"$error":"#REF!"}},{"$f":"VLOOKUP(#REF!,'Points Lookup'!$A:$B,2,FALSE)","v":{"$error":"#REF!"}},null,{"$error":"#REF!"},{"$error":"#REF!"},{"$error":"#REF!"},{"$error":"#REF!"},{"$error":"#REF!"},{"$error":"#REF!"},{"$error":"#REF!"},{"$error":"#REF!"}]
[{"$error":"#REF!"},{"$f":"#REF!","v":{"$error":"#REF!"}},{"$f":"IF(ISBLANK(#REF!),\"\",#REF!)","v":{"$error":"#REF!"}},{"$error":"#REF!"},{"$f":"VLOOKUP(#REF!,'Points Lookup'!$A:$B,2,FALSE)","v":{"$error":"#REF!"}},{"$f":"VLOOKUP(#REF!,'Points Lookup'!$A:$B,2,FALSE)","v":{"$error":"#REF!"}},{"$f":"VLOOKUP(#REF!,'Points Lookup'!$A:$B,2,FALSE)","v":{"$error":"#REF!"}},{"$f":"VLOOKUP(#REF!,'Points Lookup'!$A:$B,2,FALSE)","v":{"$error":"#REF!"}},{"$f":"VLOOKUP(#REF!,'Points Lookup'!$A:$B,2,FALSE)","v":{"$error":"#REF!"}},{"$f":"VLOOKUP(#REF!,'Points Lookup'!$A:$B,2,FALSE)","v":{"$error":"#REF!"}},{"$f":"VLOOKUP(#REF!,'Points Lookup'!$A:$B,2,FALSE)","v":{"$error":"#REF!"}},{"$f":"VLOOKUP(#REF!,'Points Lookup'!$A:$B,2,FALSE)","v":{"$error":"#REF!"}},{"$f":"VLOOKUP(#REF!,'Points Lookup'!$A:$B,2,FALSE)","v":{"$error":"#REF!"}},{"$f":"VLOOKUP(#REF!,'Points Lookup'!$A:$B,2,FALSE)","v":{"$error":"#REF!"}},{"$f":"VLOOKUP(#REF!,'Points Lookup'!$A:$B,2,FALSE)","v":{"$error":"#REF!"}},{"$f":"VLOOKUP(#REF!,'Points Lookup'!$A:$B,2,FALSE)","v":{"$error":"#REF!"}},{"$f":"VLOOKUP(#REF!,'Points Lookup'!$A:$B,2,FALSE)","v":{"$error":"#REF!"}},{"$f":"VLOOKUP(#REF!,'Points Lookup'!$A:$B,2,FALSE)","v":{"$error":"#REF!"}},{"$f":"VLOOKUP(#REF!,'Points Lookup'!$A:$B,2,FALSE)","v":{"$error":"#REF!"}},{"$f":"VLOOKUP(#REF!,'Points Lookup'!$A:$B,2,FALSE)","v":{"$error":"#REF!"}},{"$f":"VLOOKUP(#REF!,'Points Lookup'!$A:$B,2,FALSE)","v":{"$error":"#REF!"}},{"$f":"VLOOKUP(#REF!,'Points Lookup'!$A:$B,2,FALSE)","v":{"$error":"#REF!"}},{"$f":"VLOOKUP(#REF!,'Points Lookup'!$A:$B,2,FALSE)","v":{"$error":"#REF!"}},{"$f":"VLOOKUP(#REF!,'Points Lookup'!$A:$B,2,FALSE)","v":{"$error":"#REF!"}},null,{"$error":"#REF!"},{"$error":"#REF!"},{"$error":"#REF!"},{"$error":"#REF!"},{"$error":"#REF!"},{"$error":"#REF!"},{"$error":"#REF!"},{"$error":"#REF!"}]
[{"$error":"#REF!"},{"$f":"#REF!","v":{"$error":"#REF!"}},{"$f":"IF(ISBLANK(#REF!),\"\",#REF!)","v":{"$error":"#REF!"}},{"$error":"#REF!"},{"$f":"VLOOKUP(#REF!,'Points Lookup'!$A:$B,2,FALSE)","v":{"$error":"#REF!"}},{"$f":"VLOOKUP(#REF!,'Points Lookup'!$A:$B,2,FALSE)","v":{"$error":"#REF!"}},{"$f":"VLOOKUP(#REF!,'Points Lookup'!$A:$B,2,FALSE)","v":{"$error":"#REF!"}},{"$f":"VLOOKUP(#REF!,'Points Lookup'!$A:$B,2,FALSE)","v":{"$error":"#REF!"}},{"$f":"VLOOKUP(#REF!,'Points Lookup'!$A:$B,2,FALSE)","v":{"$error":"#REF!"}},{"$f":"VLOOKUP(#REF!,'Points Lookup'!$A:$B,2,FALSE)","v":{"$error":"#REF!"}},{"$f":"VLOOKUP(#REF!,'Points Lookup'!$A:$B,2,FALSE)","v":{"$error":"#REF!"}},{"$f":"VLOOKUP(#REF!,'Points Lookup'!$A:$B,2,FALSE)","v":{"$error":"#REF!"}},{"$f":"VLOOKUP(#REF!,'Points Lookup'!$A:$B,2,FALSE)","v":{"$error":"#REF!"}},{"$f":"VLOOKUP(#REF!,'Points Lookup'!$A:$B,2,FALSE)","v":{"$error":"#REF!"}},{"$f":"VLOOKUP(#REF!,'Points Lookup'!$A:$B,2,FALSE)","v":{"$error":"#REF!"}},{"$f":"VLOOKUP(#REF!,'Points Lookup'!$A:$B,2,FALSE)","v":{"$error":"#REF!"}},{"$f":"VLOOKUP(#REF!,'Points Lookup'!$A:$B,2,FALSE)","v":{"$error":"#REF!"}},{"$f":"VLOOKUP(#REF!,'Points Lookup'!$A:$B,2,FALSE)","v":{"$error":"#REF!"}},{"$f":"VLOOKUP(#REF!,'Points Lookup'!$A:$B,2,FALSE)","v":{"$error":"#REF!"}},{"$f":"VLOOKUP(#REF!,'Points Lookup'!$A:$B,2,FALSE)","v":{"$error":"#REF!"}},{"$f":"VLOOKUP(#REF!,'Points Lookup'!$A:$B,2,FALSE)","v":{"$error":"#REF!"}},{"$f":"VLOOKUP(#REF!,'Points Lookup'!$A:$B,2,FALSE)","v":{"$error":"#REF!"}},{"$f":"VLOOKUP(#REF!,'Points Lookup'!$A:$B,2,FALSE)","v":{"$error":"#REF!"}},{"$f":"VLOOKUP(#REF!,'Points Lookup'!$A:$B,2,FALSE)","v":{"$error":"#REF!"}},null,{"$error":"#REF!"},{"$error":"#REF!"},{"$error":"#REF!"},{"$error":"#REF!"},{"$error":"#REF!"},{"$error":"#REF!"},{"$error":"#REF!"},{"$error":"#REF!"}]
[{"$error":"#REF!"},{"$f":"#REF!","v":{"$error":"#REF!"}},{"$f":"IF(ISBLANK(#REF!),\"\",#REF!)","v":{"$error":"#REF!"}},{"$error":"#REF!"},{"$f":"VLOOKUP(#REF!,'Points Lookup'!$A:$B,2,FALSE)","v":{"$error":"#REF!"}},{"$f":"VLOOKUP(#REF!,'Points Lookup'!$A:$B,2,FALSE)","v":{"$error":"#REF!"}},{"$f":"VLOOKUP(#REF!,'Points Lookup'!$A:$B,2,FALSE)","v":{"$error":"#REF!"}},{"$f":"VLOOKUP(#REF!,'Points Lookup'!$A:$B,2,FALSE)","v":{"$error":"#REF!"}},{"$f":"VLOOKUP(#REF!,'Points Lookup'!$A:$B,2,FALSE)","v":{"$error":"#REF!"}},{"$f":"VLOOKUP(#REF!,'Points Lookup'!$A:$B,2,FALSE)","v":{"$error":"#REF!"}},{"$f":"VLOOKUP(#REF!,'Points Lookup'!$A:$B,2,FALSE)","v":{"$error":"#REF!"}},{"$f":"VLOOKUP(#REF!,'Points Lookup'!$A:$B,2,FALSE)","v":{"$error":"#REF!"}},{"$f":"VLOOKUP(#REF!,'Points Lookup'!$A:$B,2,FALSE)","v":{"$error":"#REF!"}},{"$f":"VLOOKUP(#REF!,'Points Lookup'!$A:$B,2,FALSE)","v":{"$error":"#REF!"}},{"$f":"VLOOKUP(#REF!,'Points Lookup'!$A:$B,2,FALSE)","v":{"$error":"#REF!"}},{"$f":"VLOOKUP(#REF!,'Points Lookup'!$A:$B,2,FALSE)","v":{"$error":"#REF!"}},{"$f":"VLOOKUP(#REF!,'Points Lookup'!$A:$B,2,FALSE)","v":{"$error":"#REF!"}},{"$f":"VLOOKUP(#REF!,'Points Lookup'!$A:$B,2,FALSE)","v":{"$error":"#REF!"}},{"$f":"VLOOKUP(#REF!,'Points Lookup'!$A:$B,2,FALSE)","v":{"$error":"#REF!"}},{"$f":"VLOOKUP(#REF!,'Points Lookup'!$A:$B,2,FALSE)","v":{"$error":"#REF!"}},{"$f":"VLOOKUP(#REF!,'Points Lookup'!$A:$B,2,FALSE)","v":{"$error":"#REF!"}},{"$f":"VLOOKUP(#REF!,'Points Lookup'!$A:$B,2,FALSE)","v":{"$error":"#REF!"}},{"$f":"VLOOKUP(#REF!,'Points Lookup'!$A:$B,2,FALSE)","v":{"$error":"#REF!"}},{"$f":"VLOOKUP(#REF!,'Points Lookup'!$A:$B,2,FALSE)","v":{"$error":"#REF!"}},null,{"$error":"#REF!"},{"$error":"#REF!"},{"$error":"#REF!"},{"$error":"#REF!"},{"$error":"#REF!"},{"$error":"#REF!"},{"$error":"#REF!"},{"$error":"#REF!"}]
[{"$error":"#REF!"},{"$f":"#REF!","v":{"$error":"#REF!"}},{"$f":"IF(ISBLANK(#REF!),\"\",#REF!)","v":{"$error":"#REF!"}},{"$error":"#REF!"},{"$f":"VLOOKUP(#REF!,'Points Lookup'!$A:$B,2,FALSE)","v":{"$error":"#REF!"}},{"$f":"VLOOKUP(#REF!,'Points Lookup'!$A:$B,2,FALSE)","v":{"$error":"#REF!"}},{"$f":"VLOOKUP(#REF!,'Points Lookup'!$A:$B,2,FALSE)","v":{"$error":"#REF!"}},{"$f":"VLOOKUP(#REF!,'Points Lookup'!$A:$B,2,FALSE)","v":{"$error":"#REF!"}},{"$f":"VLOOKUP(#REF!,'Points Lookup'!$A:$B,2,FALSE)","v":{"$error":"#REF!"}},{"$f":"VLOOKUP(#REF!,'Points Lookup'!$A:$B,2,FALSE)","v":{"$error":"#REF!"}},{"$f":"VLOOKUP(#REF!,'Points Lookup'!$A:$B,2,FALSE)","v":{"$error":"#REF!"}},{"$f":"VLOOKUP(#REF!,'Points Lookup'!$A:$B,2,FALSE)","v":{"$error":"#REF!"}},{"$f":"VLOOKUP(#REF!,'Points Lookup'!$A:$B,2,FALSE)","v":{"$error":"#REF!"}},{"$f":"VLOOKUP(#REF!,'Points Lookup'!$A:$B,2,FALSE)","v":{"$error":"#REF!"}},{"$f":"VLOOKUP(#REF!,'Points Lookup'!$A:$B,2,FALSE)","v":{"$error":"#REF!"}},{"$f":"VLOOKUP(#REF!,'Points Lookup'!$A:$B,2,FALSE)","v":{"$error":"#REF!"}},{"$f":"VLOOKUP(#REF!,'Points Lookup'!$A:$B,2,FALSE)","v":{"$error":"#REF!"}},{"$f":"VLOOKUP(#REF!,'Points Lookup'!$A:$B,2,FALSE)","v":{"$error":"#REF!"}},{"$f":"VLOOKUP(#REF!,'Points Lookup'!$A:$B,2,FALSE)","v":{"$error":"#REF!"}},{"$f":"VLOOKUP(#REF!,'Points Lookup'!$A:$B,2,FALSE)","v":{"$error":"#REF!"}},{"$f":"VLOOKUP(#REF!,'Points Lookup'!$A:$B,2,FALSE)","v":{"$error":"#REF!"}},{"$f":"VLOOKUP(#REF!,'Points Lookup'!$A:$B,2,FALSE)","v":{"$error":"#REF!"}},{"$f":"VLOOKUP(#REF!,'Points Lookup'!$A:$B,2,FALSE)","v":{"$error":"#REF!"}},{"$f":"VLOOKUP(#REF!,'Points Lookup'!$A:$B,2,FALSE)","v":{"$error":"#REF!"}},null,{"$error":"#REF!"},{"$error":"#REF!"},{"$error":"#REF!"},{"$error":"#REF!"},{"$error":"#REF!"},{"$error":"#REF!"},{"$error":"#REF!"},{"$error":"#REF!"}]
[{"$error":"#REF!"},{"$f":"#REF!","v":{"$error":"#REF!"}},{"$f":"IF(ISBLANK(#REF!),\"\",#REF!)","v":{"$error":"#REF!"}},{"$error":"#REF!"},{"$f":"VLOOKUP(#REF!,'Points Lookup'!$A:$B,2,FALSE)","v":{"$error":"#REF!"}},{"$f":"VLOOKUP(#REF!,'Points Lookup'!$A:$B,2,FALSE)","v":{"$error":"#REF!"}},{"$f":"VLOOKUP(#REF!,'Points Lookup'!$A:$B,2,FALSE)","v":{"$error":"#REF!"}},{"$f":"VLOOKUP(#REF!,'Points Lookup'!$A:$B,2,FALSE)","v":{"$error":"#REF!"}},{"$f":"VLOOKUP(#REF!,'Points Lookup'!$A:$B,2,FALSE)","v":{"$error":"#REF!"}},{"$f":"VLOOKUP(#REF!,'Points Lookup'!$A:$B,2,FALSE)","v":{"$error":"#REF!"}},{"$f":"VLOOKUP(#REF!,'Points Lookup'!$A:$B,2,FALSE)","v":{"$error":"#REF!"}},{"$f":"VLOOKUP(#REF!,'Points Lookup'!$A:$B,2,FALSE)","v":{"$error":"#REF!"}},{"$f":"VLOOKUP(#REF!,'Points Lookup'!$A:$B,2,FALSE)","v":{"$error":"#REF!"}},{"$f":"VLOOKUP(#REF!,'Points Lookup'!$A:$B,2,FALSE)","v":{"$error":"#REF!"}},{"$f":"VLOOKUP(#REF!,'Points Lookup'!$A:$B,2,FALSE)","v":{"$error":"#REF!"}},{"$f":"VLOOKUP(#REF!,'Points Lookup'!$A:$B,2,FALSE)","v":{"$error":"#REF!"}},{"$f":"VLOOKUP(#REF!,'Points Lookup'!$A:$B,2,FALSE)","v":{"$error":"#REF!"}},{"$f":"VLOOKUP(#REF!,'Points Lookup'!$A:$B,2,FALSE)","v":{"$error":"#REF!"}},{"$f":"VLOOKUP(#REF!,'Points Lookup'!$A:$B,2,FALSE)","v":{"$error":"#REF!"}},{"$f":"VLOOKUP(#REF!,'Points Lookup'!$A:$B,2,FALSE)","v":{"$error":"#REF!"}},{"$f":"VLOOKUP(#REF!,'Points Lookup'!$A:$B,2,FALSE)","v":{"$error":"#REF!"}},{"$f":"VLOOKUP(#REF!,'Points Lookup'!$A:$B,2,FALSE)","v":{"$error":"#REF!"}},{"$f":"VLOOKUP(#REF!,'Points Lookup'!$A:$B,2,FALSE)","v":{"$error":"#REF!"}},{"$f":"VLOOKUP(#REF!,'Points Lookup'!$A:$B,2,FALSE)","v":{"$error":"#REF!"}},null,{"$error":"#REF!"},{"$error":"#REF!"},{"$error":"#REF!"},{"$f":"LARGE($E390:$X390,AC$1)","v":{"$error":"#REF!"}},{"$error":"#REF!"},{"$error":"#REF!"},{"$error":"#REF!"},{"$error":"#REF!"}]
[{"$error":"#REF!"},{"$f":"#REF!","v":{"$error":"#REF!"}},{"$f":"IF(ISBLANK(#REF!),\"\",#REF!)","v":{"$error":"#REF!"}},{"$error":"#REF!"},{"$f":"VLOOKUP(#REF!,'Points Lookup'!$A:$B,2,FALSE)","v":{"$error":"#REF!"}},{"$f":"VLOOKUP(#REF!,'Points Lookup'!$A:$B,2,FALSE)","v":{"$error":"#REF!"}},{"$f":"VLOOKUP(#REF!,'Points Lookup'!$A:$B,2,FALSE)","v":{"$error":"#REF!"}},{"$f":"VLOOKUP(#REF!,'Points Lookup'!$A:$B,2,FALSE)","v":{"$error":"#REF!"}},{"$f":"VLOOKUP(#REF!,'Points Lookup'!$A:$B,2,FALSE)","v":{"$error":"#REF!"}},{"$f":"VLOOKUP(#REF!,'Points Lookup'!$A:$B,2,FALSE)","v":{"$error":"#REF!"}},{"$f":"VLOOKUP(#REF!,'Points Lookup'!$A:$B,2,FALSE)","v":{"$error":"#REF!"}},{"$f":"VLOOKUP(#REF!,'Points Lookup'!$A:$B,2,FALSE)","v":{"$error":"#REF!"}},{"$f":"VLOOKUP(#REF!,'Points Lookup'!$A:$B,2,FALSE)","v":{"$error":"#REF!"}},{"$f":"VLOOKUP(#REF!,'Points Lookup'!$A:$B,2,FALSE)","v":{"$error":"#REF!"}},{"$f":"VLOOKUP(#REF!,'Points Lookup'!$A:$B,2,FALSE)","v":{"$error":"#REF!"}},{"$f":"VLOOKUP(#REF!,'Points Lookup'!$A:$B,2,FALSE)","v":{"$error":"#REF!"}},{"$f":"VLOOKUP(#REF!,'Points Lookup'!$A:$B,2,FALSE)","v":{"$error":"#REF!"}},{"$f":"VLOOKUP(#REF!,'Points Lookup'!$A:$B,2,FALSE)","v":{"$error":"#REF!"}},{"$f":"VLOOKUP(#REF!,'Points Lookup'!$A:$B,2,FALSE)","v":{"$error":"#REF!"}},{"$f":"VLOOKUP(#REF!,'Points Lookup'!$A:$B,2,FALSE)","v":{"$error":"#REF!"}},{"$f":"VLOOKUP(#REF!,'Points Lookup'!$A:$B,2,FALSE)","v":{"$error":"#REF!"}},{"$f":"VLOOKUP(#REF!,'Points Lookup'!$A:$B,2,FALSE)","v":{"$error":"#REF!"}},{"$f":"VLOOKUP(#REF!,'Points Lookup'!$A:$B,2,FALSE)","v":{"$error":"#REF!"}},{"$f":"VLOOKUP(#REF!,'Points Lookup'!$A:$B,2,FALSE)","v":{"$error":"#REF!"}},null,{"$f":"LARGE($E391:$X391,Z$1)","v":{"$error":"#REF!"}},{"$error":"#REF!"},{"$error":"#REF!"},{"$error":"#REF!"},{"$error":"#REF!"},{"$error":"#REF!"},{"$error":"#REF!"},{"$error":"#REF!"}]
[{"$error":"#REF!"},{"$f":"#REF!","v":{"$error":"#REF!"}},{"$f":"IF(ISBLANK(#REF!),\"\",#REF!)","v":{"$error":"#REF!"}},{"$error":"#REF!"},{"$f":"VLOOKUP(#REF!,'Points Lookup'!$A:$B,2,FALSE)","v":{"$error":"#REF!"}},{"$f":"VLOOKUP(#REF!,'Points Lookup'!$A:$B,2,FALSE)","v":{"$error":"#REF!"}},{"$f":"VLOOKUP(#REF!,'Points Lookup'!$A:$B,2,FALSE)","v":{"$error":"#REF!"}},{"$f":"VLOOKUP(#REF!,'Points Lookup'!$A:$B,2,FALSE)","v":{"$error":"#REF!"}},{"$f":"VLOOKUP(#REF!,'Points Lookup'!$A:$B,2,FALSE)","v":{"$error":"#REF!"}},{"$f":"VLOOKUP(#REF!,'Points Lookup'!$A:$B,2,FALSE)","v":{"$error":"#REF!"}},{"$f":"VLOOKUP(#REF!,'Points Lookup'!$A:$B,2,FALSE)","v":{"$error":"#REF!"}},{"$f":"VLOOKUP(#REF!,'Points Lookup'!$A:$B,2,FALSE)","v":{"$error":"#REF!"}},{"$f":"VLOOKUP(#REF!,'Points Lookup'!$A:$B,2,FALSE)","v":{"$error":"#REF!"}},{"$f":"VLOOKUP(#REF!,'Points Lookup'!$A:$B,2,FALSE)","v":{"$error":"#REF!"}},{"$f":"VLOOKUP(#REF!,'Points Lookup'!$A:$B,2,FALSE)","v":{"$error":"#REF!"}},{"$f":"VLOOKUP(#REF!,'Points Lookup'!$A:$B,2,FALSE)","v":{"$error":"#REF!"}},{"$f":"VLOOKUP(#REF!,'Points Lookup'!$A:$B,2,FALSE)","v":{"$error":"#REF!"}},{"$f":"VLOOKUP(#REF!,'Points Lookup'!$A:$B,2,FALSE)","v":{"$error":"#REF!"}},{"$f":"VLOOKUP(#REF!,'Points Lookup'!$A:$B,2,FALSE)","v":{"$error":"#REF!"}},{"$f":"VLOOKUP(#REF!,'Points Lookup'!$A:$B,2,FALSE)","v":{"$error":"#REF!"}},{"$f":"VLOOKUP(#REF!,'Points Lookup'!$A:$B,2,FALSE)","v":{"$error":"#REF!"}},{"$f":"VLOOKUP(#REF!,'Points Lookup'!$A:$B,2,FALSE)","v":{"$error":"#REF!"}},{"$f":"VLOOKUP(#REF!,'Points Lookup'!$A:$B,2,FALSE)","v":{"$error":"#REF!"}},{"$f":"VLOOKUP(#REF!,'Points Lookup'!$A:$B,2,FALSE)","v":{"$error":"#REF!"}},null,{"$error":"#REF!"},{"$error":"#REF!"},{"$error":"#REF!"},{"$error":"#REF!"},{"$error":"#REF!"},{"$error":"#REF!"},{"$error":"#REF!"},{"$error":"#REF!"}]
[{"$error":"#REF!"},{"$f":"#REF!","v":{"$error":"#REF!"}},{"$f":"IF(ISBLANK(#REF!),\"\",#REF!)","v":{"$error":"#REF!"}},{"$error":"#REF!"},{"$f":"VLOOKUP(#REF!,'Points Lookup'!$A:$B,2,FALSE)","v":{"$error":"#REF!"}},{"$f":"VLOOKUP(#REF!,'Points Lookup'!$A:$B,2,FALSE)","v":{"$error":"#REF!"}},{"$f":"VLOOKUP(#REF!,'Points Lookup'!$A:$B,2,FALSE)","v":{"$error":"#REF!"}},{"$f":"VLOOKUP(#REF!,'Points Lookup'!$A:$B,2,FALSE)","v":{"$error":"#REF!"}},{"$f":"VLOOKUP(#REF!,'Points Lookup'!$A:$B,2,FALSE)","v":{"$error":"#REF!"}},{"$f":"VLOOKUP(#REF!,'Points Lookup'!$A:$B,2,FALSE)","v":{"$error":"#REF!"}},{"$f":"VLOOKUP(#REF!,'Points Lookup'!$A:$B,2,FALSE)","v":{"$error":"#REF!"}},{"$f":"VLOOKUP(#REF!,'Points Lookup'!$A:$B,2,FALSE)","v":{"$error":"#REF!"}},{"$f":"VLOOKUP(#REF!,'Points Lookup'!$A:$B,2,FALSE)","v":{"$error":"#REF!"}},{"$f":"VLOOKUP(#REF!,'Points Lookup'!$A:$B,2,FALSE)","v":{"$error":"#REF!"}},{"$f":"VLOOKUP(#REF!,'Points Lookup'!$A:$B,2,FALSE)","v":{"$error":"#REF!"}},{"$f":"VLOOKUP(#REF!,'Points Lookup'!$A:$B,2,FALSE)","v":{"$error":"#REF!"}},{"$f":"VLOOKUP(#REF!,'Points Lookup'!$A:$B,2,FALSE)","v":{"$error":"#REF!"}},{"$f":"VLOOKUP(#REF!,'Points Lookup'!$A:$B,2,FALSE)","v":{"$error":"#REF!"}},{"$f":"VLOOKUP(#REF!,'Points Lookup'!$A:$B,2,FALSE)","v":{"$error":"#REF!"}},{"$f":"VLOOKUP(#REF!,'Points Lookup'!$A:$B,2,FALSE)","v":{"$error":"#REF!"}},{"$f":"VLOOKUP(#REF!,'Points Lookup'!$A:$B,2,FALSE)","v":{"$error":"#REF!"}},{"$f":"VLOOKUP(#REF!,'Points Lookup'!$A:$B,2,FALSE)","v":{"$error":"#REF!"}},{"$f":"VLOOKUP(#REF!,'Points Lookup'!$A:$B,2,FALSE)","v":{"$error":"#REF!"}},{"$f":"VLOOKUP(#REF!,'Points Lookup'!$A:$B,2,FALSE)","v":{"$error":"#REF!"}},null,{"$error":"#REF!"},{"$error":"#REF!"},{"$error":"#REF!"},{"$error":"#REF!"},{"$error":"#REF!"},{"$error":"#REF!"},{"$error":"#REF!"},{"$error":"#REF!"}]
[{"$error":"#REF!"},{"$f":"#REF!","v":{"$error":"#REF!"}},{"$f":"IF(ISBLANK(#REF!),\"\",#REF!)","v":{"$error":"#REF!"}},{"$error":"#REF!"},{"$f":"VLOOKUP(#REF!,'Points Lookup'!$A:$B,2,FALSE)","v":{"$error":"#REF!"}},{"$f":"VLOOKUP(#REF!,'Points Lookup'!$A:$B,2,FALSE)","v":{"$error":"#REF!"}},{"$f":"VLOOKUP(#REF!,'Points Lookup'!$A:$B,2,FALSE)","v":{"$error":"#REF!"}},{"$f":"VLOOKUP(#REF!,'Points Lookup'!$A:$B,2,FALSE)","v":{"$error":"#REF!"}},{"$f":"VLOOKUP(#REF!,'Points Lookup'!$A:$B,2,FALSE)","v":{"$error":"#REF!"}},{"$f":"VLOOKUP(#REF!,'Points Lookup'!$A:$B,2,FALSE)","v":{"$error":"#REF!"}},{"$f":"VLOOKUP(#REF!,'Points Lookup'!$A:$B,2,FALSE)","v":{"$error":"#REF!"}},{"$f":"VLOOKUP(#REF!,'Points Lookup'!$A:$B,2,FALSE)","v":{"$error":"#REF!"}},{"$f":"VLOOKUP(#REF!,'Points Lookup'!$A:$B,2,FALSE)","v":{"$error":"#REF!"}},{"$f":"VLOOKUP(#REF!,'Points Lookup'!$A:$B,2,FALSE)","v":{"$error":"#REF!"}},{"$f":"VLOOKUP(#REF!,'Points Lookup'!$A:$B,2,FALSE)","v":{"$error":"#REF!"}},{"$f":"VLOOKUP(#REF!,'Points Lookup'!$A:$B,2,FALSE)","v":{"$error":"#REF!"}},{"$f":"VLOOKUP(#REF!,'Points Lookup'!$A:$B,2,FALSE)","v":{"$error":"#REF!"}},{"$f":"VLOOKUP(#REF!,'Points Lookup'!$A:$B,2,FALSE)","v":{"$error":"#REF!"}},{"$f":"VLOOKUP(#REF!,'Points Lookup'!$A:$B,2,FALSE)","v":{"$error":"#REF!"}},{"$f":"VLOOKUP(#REF!,'Points Lookup'!$A:$B,2,FALSE)","v":{"$error":"#REF!"}},{"$f":"VLOOKUP(#REF!,'Points Lookup'!$A:$B,2,FALSE)","v":{"$error":"#REF!"}},{"$f":"VLOOKUP(#REF!,'Points Lookup'!$A:$B,2,FALSE)","v":{"$error":"#REF!"}},{"$f":"VLOOKUP(#REF!,'Points Lookup'!$A:$B,2,FALSE)","v":{"$error":"#REF!"}},{"$f":"VLOOKUP(#REF!,'Points Lookup'!$A:$B,2,FALSE)","v":{"$error":"#REF!"}},null,{"$error":"#REF!"},{"$error":"#REF!"},{"$error":"#REF!"},{"$error":"#REF!"},{"$error":"#REF!"},{"$error":"#REF!"},{"$error":"#REF!"},{"$error":"#REF!"}]
[{"$error":"#REF!"},{"$f":"#REF!","v":{"$error":"#REF!"}},{"$f":"IF(ISBLANK(#REF!),\"\",#REF!)","v":{"$error":"#REF!"}},{"$error":"#REF!"},{"$f":"VLOOKUP(#REF!,'Points Lookup'!$A:$B,2,FALSE)","v":{"$error":"#REF!"}},{"$f":"VLOOKUP(#REF!,'Points Lookup'!$A:$B,2,FALSE)","v":{"$error":"#REF!"}},{"$f":"VLOOKUP(#REF!,'Points Lookup'!$A:$B,2,FALSE)","v":{"$error":"#REF!"}},{"$f":"VLOOKUP(#REF!,'Points Lookup'!$A:$B,2,FALSE)","v":{"$error":"#REF!"}},{"$f":"VLOOKUP(#REF!,'Points Lookup'!$A:$B,2,FALSE)","v":{"$error":"#REF!"}},{"$f":"VLOOKUP(#REF!,'Points Lookup'!$A:$B,2,FALSE)","v":{"$error":"#REF!"}},{"$f":"VLOOKUP(#REF!,'Points Lookup'!$A:$B,2,FALSE)","v":{"$error":"#REF!"}},{"$f":"VLOOKUP(#REF!,'Points Lookup'!$A:$B,2,FALSE)","v":{"$error":"#REF!"}},{"$f":"VLOOKUP(#REF!,'Points Lookup'!$A:$B,2,FALSE)","v":{"$error":"#REF!"}},{"$f":"VLOOKUP(#REF!,'Points Lookup'!$A:$B,2,FALSE)","v":{"$error":"#REF!"}},{"$f":"VLOOKUP(#REF!,'Points Lookup'!$A:$B,2,FALSE)","v":{"$error":"#REF!"}},{"$f":"VLOOKUP(#REF!,'Points Lookup'!$A:$B,2,FALSE)","v":{"$error":"#REF!"}},{"$f":"VLOOKUP(#REF!,'Points Lookup'!$A:$B,2,FALSE)","v":{"$error":"#REF!"}},{"$f":"VLOOKUP(#REF!,'Points Lookup'!$A:$B,2,FALSE)","v":{"$error":"#REF!"}},{"$f":"VLOOKUP(#REF!,'Points Lookup'!$A:$B,2,FALSE)","v":{"$error":"#REF!"}},{"$f":"VLOOKUP(#REF!,'Points Lookup'!$A:$B,2,FALSE)","v":{"$error":"#REF!"}},{"$f":"VLOOKUP(#REF!,'Points Lookup'!$A:$B,2,FALSE)","v":{"$error":"#REF!"}},{"$f":"VLOOKUP(#REF!,'Points Lookup'!$A:$B,2,FALSE)","v":{"$error":"#REF!"}},{"$f":"VLOOKUP(#REF!,'Points Lookup'!$A:$B,2,FALSE)","v":{"$error":"#REF!"}},{"$f":"VLOOKUP(#REF!,'Points Lookup'!$A:$B,2,FALSE)","v":{"$error":"#REF!"}},null,{"$error":"#REF!"},{"$error":"#REF!"},{"$error":"#REF!"},{"$error":"#REF!"},{"$error":"#REF!"},{"$error":"#REF!"},{"$error":"#REF!"},{"$error":"#REF!"}]
[{"$error":"#REF!"},{"$f":"#REF!","v":{"$error":"#REF!"}},{"$f":"IF(ISBLANK(#REF!),\"\",#REF!)","v":{"$error":"#REF!"}},{"$error":"#REF!"},{"$f":"VLOOKUP(#REF!,'Points Lookup'!$A:$B,2,FALSE)","v":{"$error":"#REF!"}},{"$f":"VLOOKUP(#REF!,'Points Lookup'!$A:$B,2,FALSE)","v":{"$error":"#REF!"}},{"$f":"VLOOKUP(#REF!,'Points Lookup'!$A:$B,2,FALSE)","v":{"$error":"#REF!"}},{"$f":"VLOOKUP(#REF!,'Points Lookup'!$A:$B,2,FALSE)","v":{"$error":"#REF!"}},{"$f":"VLOOKUP(#REF!,'Points Lookup'!$A:$B,2,FALSE)","v":{"$error":"#REF!"}},{"$f":"VLOOKUP(#REF!,'Points Lookup'!$A:$B,2,FALSE)","v":{"$error":"#REF!"}},{"$f":"VLOOKUP(#REF!,'Points Lookup'!$A:$B,2,FALSE)","v":{"$error":"#REF!"}},{"$f":"VLOOKUP(#REF!,'Points Lookup'!$A:$B,2,FALSE)","v":{"$error":"#REF!"}},{"$f":"VLOOKUP(#REF!,'Points Lookup'!$A:$B,2,FALSE)","v":{"$error":"#REF!"}},{"$f":"VLOOKUP(#REF!,'Points Lookup'!$A:$B,2,FALSE)","v":{"$error":"#REF!"}},{"$f":"VLOOKUP(#REF!,'Points Lookup'!$A:$B,2,FALSE)","v":{"$error":"#REF!"}},{"$f":"VLOOKUP(#REF!,'Points Lookup'!$A:$B,2,FALSE)","v":{"$error":"#REF!"}},{"$f":"VLOOKUP(#REF!,'Points Lookup'!$A:$B,2,FALSE)","v":{"$error":"#REF!"}},{"$f":"VLOOKUP(#REF!,'Points Lookup'!$A:$B,2,FALSE)","v":{"$error":"#REF!"}},{"$f":"VLOOKUP(#REF!,'Points Lookup'!$A:$B,2,FALSE)","v":{"$error":"#REF!"}},{"$f":"VLOOKUP(#REF!,'Points Lookup'!$A:$B,2,FALSE)","v":{"$error":"#REF!"}},{"$f":"VLOOKUP(#REF!,'Points Lookup'!$A:$B,2,FALSE)","v":{"$error":"#REF!"}},{"$f":"VLOOKUP(#REF!,'Points Lookup'!$A:$B,2,FALSE)","v":{"$error":"#REF!"}},{"$f":"VLOOKUP(#REF!,'Points Lookup'!$A:$B,2,FALSE)","v":{"$error":"#REF!"}},{"$f":"VLOOKUP(#REF!,'Points Lookup'!$A:$B,2,FALSE)","v":{"$error":"#REF!"}},null,{"$error":"#REF!"},{"$error":"#REF!"},{"$error":"#REF!"},{"$error":"#REF!"},{"$error":"#REF!"},{"$error":"#REF!"},{"$error":"#REF!"},{"$error":"#REF!"}]
[{"$error":"#REF!"},{"$f":"#REF!","v":{"$error":"#REF!"}},{"$f":"IF(ISBLANK(#REF!),\"\",#REF!)","v":{"$error":"#REF!"}},{"$error":"#REF!"},{"$f":"VLOOKUP(#REF!,'Points Lookup'!$A:$B,2,FALSE)","v":{"$error":"#REF!"}},{"$f":"VLOOKUP(#REF!,'Points Lookup'!$A:$B,2,FALSE)","v":{"$error":"#REF!"}},{"$f":"VLOOKUP(#REF!,'Points Lookup'!$A:$B,2,FALSE)","v":{"$error":"#REF!"}},{"$f":"VLOOKUP(#REF!,'Points Lookup'!$A:$B,2,FALSE)","v":{"$error":"#REF!"}},{"$f":"VLOOKUP(#REF!,'Points Lookup'!$A:$B,2,FALSE)","v":{"$error":"#REF!"}},{"$f":"VLOOKUP(#REF!,'Points Lookup'!$A:$B,2,FALSE)","v":{"$error":"#REF!"}},{"$f":"VLOOKUP(#REF!,'Points Lookup'!$A:$B,2,FALSE)","v":{"$error":"#REF!"}},{"$f":"VLOOKUP(#REF!,'Points Lookup'!$A:$B,2,FALSE)","v":{"$error":"#REF!"}},{"$f":"VLOOKUP(#REF!,'Points Lookup'!$A:$B,2,FALSE)","v":{"$error":"#REF!"}},{"$f":"VLOOKUP(#REF!,'Points Lookup'!$A:$B,2,FALSE)","v":{"$error":"#REF!"}},{"$f":"VLOOKUP(#REF!,'Points Lookup'!$A:$B,2,FALSE)","v":{"$error":"#REF!"}},{"$f":"VLOOKUP(#REF!,'Points Lookup'!$A:$B,2,FALSE)","v":{"$error":"#REF!"}},{"$f":"VLOOKUP(#REF!,'Points Lookup'!$A:$B,2,FALSE)","v":{"$error":"#REF!"}},{"$f":"VLOOKUP(#REF!,'Points Lookup'!$A:$B,2,FALSE)","v":{"$error":"#REF!"}},{"$f":"VLOOKUP(#REF!,'Points Lookup'!$A:$B,2,FALSE)","v":{"$error":"#REF!"}},{"$f":"VLOOKUP(#REF!,'Points Lookup'!$A:$B,2,FALSE)","v":{"$error":"#REF!"}},{"$f":"VLOOKUP(#REF!,'Points Lookup'!$A:$B,2,FALSE)","v":{"$error":"#REF!"}},{"$f":"VLOOKUP(#REF!,'Points Lookup'!$A:$B,2,FALSE)","v":{"$error":"#REF!"}},{"$f":"VLOOKUP(#REF!,'Points Lookup'!$A:$B,2,FALSE)","v":{"$error":"#REF!"}},{"$f":"VLOOKUP(#REF!,'Points Lookup'!$A:$B,2,FALSE)","v":{"$error":"#REF!"}},null,{"$error":"#REF!"},{"$error":"#REF!"},{"$error":"#REF!"},{"$error":"#REF!"},{"$error":"#REF!"},{"$error":"#REF!"},{"$error":"#REF!"},{"$error":"#REF!"}]
[{"$error":"#REF!"},{"$f":"#REF!","v":{"$error":"#REF!"}},{"$f":"IF(ISBLANK(#REF!),\"\",#REF!)","v":{"$error":"#REF!"}},{"$error":"#REF!"},{"$f":"VLOOKUP(#REF!,'Points Lookup'!$A:$B,2,FALSE)","v":{"$error":"#REF!"}},{"$f":"VLOOKUP(#REF!,'Points Lookup'!$A:$B,2,FALSE)","v":{"$error":"#REF!"}},{"$f":"VLOOKUP(#REF!,'Points Lookup'!$A:$B,2,FALSE)","v":{"$error":"#REF!"}},{"$f":"VLOOKUP(#REF!,'Points Lookup'!$A:$B,2,FALSE)","v":{"$error":"#REF!"}},{"$f":"VLOOKUP(#REF!,'Points Lookup'!$A:$B,2,FALSE)","v":{"$error":"#REF!"}},{"$f":"VLOOKUP(#REF!,'Points Lookup'!$A:$B,2,FALSE)","v":{"$error":"#REF!"}},{"$f":"VLOOKUP(#REF!,'Points Lookup'!$A:$B,2,FALSE)","v":{"$error":"#REF!"}},{"$f":"VLOOKUP(#REF!,'Points Lookup'!$A:$B,2,FALSE)","v":{"$error":"#REF!"}},{"$f":"VLOOKUP(#REF!,'Points Lookup'!$A:$B,2,FALSE)","v":{"$error":"#REF!"}},{"$f":"VLOOKUP(#REF!,'Points Lookup'!$A:$B,2,FALSE)","v":{"$error":"#REF!"}},{"$f":"VLOOKUP(#REF!,'Points Lookup'!$A:$B,2,FALSE)","v":{"$error":"#REF!"}},{"$f":"VLOOKUP(#REF!,'Points Lookup'!$A:$B,2,FALSE)","v":{"$error":"#REF!"}},{"$f":"VLOOKUP(#REF!,'Points Lookup'!$A:$B,2,FALSE)","v":{"$error":"#REF!"}},{"$f":"VLOOKUP(#REF!,'Points Lookup'!$A:$B,2,FALSE)","v":{"$error":"#REF!"}},{"$f":"VLOOKUP(#REF!,'Points Lookup'!$A:$B,2,FALSE)","v":{"$error":"#REF!"}},{"$f":"VLOOKUP(#REF!,'Points Lookup'!$A:$B,2,FALSE)","v":{"$error":"#REF!"}},{"$f":"VLOOKUP(#REF!,'Points Lookup'!$A:$B,2,FALSE)","v":{"$error":"#REF!"}},{"$f":"VLOOKUP(#REF!,'Points Lookup'!$A:$B,2,FALSE)","v":{"$error":"#REF!"}},{"$f":"VLOOKUP(#REF!,'Points Lookup'!$A:$B,2,FALSE)","v":{"$error":"#REF!"}},{"$f":"VLOOKUP(#REF!,'Points Lookup'!$A:$B,2,FALSE)","v":{"$error":"#REF!"}},null,{"$error":"#REF!"},{"$error":"#REF!"},{"$error":"#REF!"},{"$error":"#REF!"},{"$error":"#REF!"},{"$error":"#REF!"},{"$error":"#REF!"},{"$error":"#REF!"}]
[{"$error":"#REF!"},{"$f":"#REF!","v":{"$error":"#REF!"}},{"$f":"IF(ISBLANK(#REF!),\"\",#REF!)","v":{"$error":"#REF!"}},{"$error":"#REF!"},{"$f":"VLOOKUP(#REF!,'Points Lookup'!$A:$B,2,FALSE)","v":{"$error":"#REF!"}},{"$f":"VLOOKUP(#REF!,'Points Lookup'!$A:$B,2,FALSE)","v":{"$error":"#REF!"}},{"$f":"VLOOKUP(#REF!,'Points Lookup'!$A:$B,2,FALSE)","v":{"$error":"#REF!"}},{"$f":"VLOOKUP(#REF!,'Points Lookup'!$A:$B,2,FALSE)","v":{"$error":"#REF!"}},{"$f":"VLOOKUP(#REF!,'Points Lookup'!$A:$B,2,FALSE)","v":{"$error":"#REF!"}},{"$f":"VLOOKUP(#REF!,'Points Lookup'!$A:$B,2,FALSE)","v":{"$error":"#REF!"}},{"$f":"VLOOKUP(#REF!,'Points Lookup'!$A:$B,2,FALSE)","v":{"$error":"#REF!"}},{"$f":"VLOOKUP(#REF!,'Points Lookup'!$A:$B,2,FALSE)","v":{"$error":"#REF!"}},{"$f":"VLOOKUP(#REF!,'Points Lookup'!$A:$B,2,FALSE)","v":{"$error":"#REF!"}},{"$f":"VLOOKUP(#REF!,'Points Lookup'!$A:$B,2,FALSE)","v":{"$error":"#REF!"}},{"$f":"VLOOKUP(#REF!,'Points Lookup'!$A:$B,2,FALSE)","v":{"$error":"#REF!"}},{"$f":"VLOOKUP(#REF!,'Points Lookup'!$A:$B,2,FALSE)","v":{"$error":"#REF!"}},{"$f":"VLOOKUP(#REF!,'Points Lookup'!$A:$B,2,FALSE)","v":{"$error":"#REF!"}},{"$f":"VLOOKUP(#REF!,'Points Lookup'!$A:$B,2,FALSE)","v":{"$error":"#REF!"}},{"$f":"VLOOKUP(#REF!,'Points Lookup'!$A:$B,2,FALSE)","v":{"$error":"#REF!"}},{"$f":"VLOOKUP(#REF!,'Points Lookup'!$A:$B,2,FALSE)","v":{"$error":"#REF!"}},{"$f":"VLOOKUP(#REF!,'Points Lookup'!$A:$B,2,FALSE)","v":{"$error":"#REF!"}},{"$f":"VLOOKUP(#REF!,'Points Lookup'!$A:$B,2,FALSE)","v":{"$error":"#REF!"}},{"$f":"VLOOKUP(#REF!,'Points Lookup'!$A:$B,2,FALSE)","v":{"$error":"#REF!"}},{"$f":"VLOOKUP(#REF!,'Points Lookup'!$A:$B,2,FALSE)","v":{"$error":"#REF!"}},null,{"$error":"#REF!"},{"$error":"#REF!"},{"$error":"#REF!"},{"$error":"#REF!"},{"$error":"#REF!"},{"$error":"#REF!"},{"$error":"#REF!"},{"$error":"#REF!"}]
[{"$error":"#REF!"},{"$f":"#REF!","v":{"$error":"#REF!"}},{"$f":"IF(ISBLANK(#REF!),\"\",#REF!)","v":{"$error":"#REF!"}},{"$error":"#REF!"},{"$f":"VLOOKUP(#REF!,'Points Lookup'!$A:$B,2,FALSE)","v":{"$error":"#REF!"}},{"$f":"VLOOKUP(#REF!,'Points Lookup'!$A:$B,2,FALSE)","v":{"$error":"#REF!"}},{"$f":"VLOOKUP(#REF!,'Points Lookup'!$A:$B,2,FALSE)","v":{"$error":"#REF!"}},{"$f":"VLOOKUP(#REF!,'Points Lookup'!$A:$B,2,FALSE)","v":{"$error":"#REF!"}},{"$f":"VLOOKUP(#REF!,'Points Lookup'!$A:$B,2,FALSE)","v":{"$error":"#REF!"}},{"$f":"VLOOKUP(#REF!,'Points Lookup'!$A:$B,2,FALSE)","v":{"$error":"#REF!"}},{"$f":"VLOOKUP(#REF!,'Points Lookup'!$A:$B,2,FALSE)","v":{"$error":"#REF!"}},{"$f":"VLOOKUP(#REF!,'Points Lookup'!$A:$B,2,FALSE)","v":{"$error":"#REF!"}},{"$f":"VLOOKUP(#REF!,'Points Lookup'!$A:$B,2,FALSE)","v":{"$error":"#REF!"}},{"$f":"VLOOKUP(#REF!,'Points Lookup'!$A:$B,2,FALSE)","v":{"$error":"#REF!"}},{"$f":"VLOOKUP(#REF!,'Points Lookup'!$A:$B,2,FALSE)","v":{"$error":"#REF!"}},{"$f":"VLOOKUP(#REF!,'Points Lookup'!$A:$B,2,FALSE)","v":{"$error":"#REF!"}},{"$f":"VLOOKUP(#REF!,'Points Lookup'!$A:$B,2,FALSE)","v":{"$error":"#REF!"}},{"$f":"VLOOKUP(#REF!,'Points Lookup'!$A:$B,2,FALSE)","v":{"$error":"#REF!"}},{"$f":"VLOOKUP(#REF!,'Points Lookup'!$A:$B,2,FALSE)","v":{"$error":"#REF!"}},{"$f":"VLOOKUP(#REF!,'Points Lookup'!$A:$B,2,FALSE)","v":{"$error":"#REF!"}},{"$f":"VLOOKUP(#REF!,'Points Lookup'!$A:$B,2,FALSE)","v":{"$error":"#REF!"}},{"$f":"VLOOKUP(#REF!,'Points Lookup'!$A:$B,2,FALSE)","v":{"$error":"#REF!"}},{"$f":"VLOOKUP(#REF!,'Points Lookup'!$A:$B,2,FALSE)","v":{"$error":"#REF!"}},{"$f":"VLOOKUP(#REF!,'Points Lookup'!$A:$B,2,FALSE)","v":{"$error":"#REF!"}},null,{"$error":"#REF!"},{"$error":"#REF!"},{"$error":"#REF!"},{"$error":"#REF!"},{"$error":"#REF!"},{"$error":"#REF!"},{"$error":"#REF!"},{"$error":"#REF!"}]

{"sheet":"Points Lookup","index":4,"n_rows":111,"n_cols":2,"rows_kept":111,"cut":false,"hidden":true,"merged":[]}
[0,0]
[1,50]
[2,49]
[3,48]
[4,47]
[5,46]
[6,45]
[7,44]
[8,43]
[9,42]
[10,41]
[11,40]
[12,39]
[13,38]
[14,37]
[15,36]
[16,35]
[17,34]
[18,33]
[19,32]
[20,31]
[21,30]
[22,29]
[23,28]
[24,27]
[25,26]
[26,25]
[27,24]
[28,23]
[29,22]
[30,21]
[31,20]
[32,19]
[33,18]
[34,17]
[35,16]
[36,15]
[37,14]
[38,13]
[39,12]
[40,11]
[41,10]
[42,9]
[43,8]
[44,7]
[45,6]
[46,5]
[47,4]
[48,3]
[49,2]
[50,1]
[51,0]
[52,0]
[53,0]
[54,0]
[55,0]
[56,0]
[57,0]
[58,0]
[59,0]
[60,0]
[61,0]
[62,0]
[63,0]
[64,0]
[65,0]
[66,0]
[67,0]
[68,0]
[69,0]
[70,0]
[71,0]
[72,0]
[73,0]
[74,0]
[75,0]
[76,0]
[77,0]
[78,0]
[79,0]
[80,0]
[81,0]
[82,0]
[83,0]
[84,0]
[85,0]
[86,0]
[87,0]
[88,0]
[89,0]
[90,0]
[91,0]
[92,0]
[93,0]
[94,0]
[95,0]
[96,0]
[97,0]
[98,0]
[99,0]
[100,0]
[101,0]
[102,0]
[103,0]
[104,0]
[105,0]
[106,0]
[107,0]
[108,0]
[109,0]
[110,0]

{"sheet":"Rank","index":5,"n_rows":110,"n_cols":23,"rows_kept":110,"cut":false,"hidden":false,"merged":[[0,2,0,21]]}
[null,null,"Rank"]
["NAME","Division","Dewsbury 10k","Horton Parkrun","Keighley BIG 10k","Epilepsy Action 10k","Bunny Run 1","Guiseley Gallop","Baildon Boundary Way","Over the Odda","Leeds half","Ilkley Trail","Otley 1","Baildon Canter","Lister Parkrun","No Watch Race","Bradford City Runs","Vale of York","Guy Fawkes","Harriers v Cyclists","Leeds 1K","Chevin Chase","Races"]
["Adrian Manning","Second",null,null,null,null,null,null,null,null,null,null,null,null,null,null,null,3,null,null,null,null,1]
["Alan Douglas","Premier",null,16,null,11,7,null,null,5,null,5,null,null,7,1,null,1,null,3,1,null,1]
["Alun Griffiths","Premier",null,7,5,7,null,null,null,null,null,null,null,3,null,7,6,8,6,null,null,null,8]
["Andy Hutchinson","Second",null,null,null,null,null,null,null,null,4,null,null,null,null,null,null,null,null,null,null,null,1]
["Ann Upton","Second",null,null,null,null,null,null,null,null,null,null,null,null,3,null,null,null,null,null,null,null,1]
["Ben Marchant","First",null,null,null,null,null,null,1,null,null,null,null,null,null,null,null,null,null,null,null,1,2]
["Ben Pearson","First",null,null,null,null,null,null,null,null,3,null,null,null,null,null,null,null,null,null,null,null,1]
["Bernadette Cook","First",null,null,null,null,null,null,null,null,null,null,null,null,null,null,null,null,null,3,null,null,1]
["Carl Kernick","Second",null,null,null,null,null,null,null,null,null,null,4,null,null,null,null,null,null,null,null,null,1]
["Chris Jones","Premier",null,8,null,null,null,null,8,null,9,null,null,null,null,null,null,null,null,null,null,null,3]
["Chris Longley","Second",null,null,null,14,null,null,null,null,null,null,null,null,null,null,null,null,null,null,null,null,1]
["Chris Reynier","First",null,3,null,null,null,null,null,null,null,null,null,null,null,null,1,null,null,null,null,null,2]
["Chris Stott","Premier",11,null,null,9,null,null,null,null,null,null,null,null,null,null,null,null,null,null,null,null,2]
["Clair Fitzpatrick","First",null,5,null,null,null,null,null,null,null,null,null,null,null,null,null,null,null,null,null,null,1]
["Claire Thaper","First",null,null,4,5,null,null,null,null,null,null,null,null,5,null,null,null,null,null,null,null,3]
["Dairine Nethercott","Premier",13,17,null,null,null,null,null,null,13,null,6,null,6,null,9,9,7,null,null,null,8]
["Darren Longhorn","Premier",null,1,null,null,6,null,9,4,null,4,null,null,null,null,null,null,null,null,null,null,5]
["Dave Armstrong","Second",null,null,null,null,null,null,null,null,null,3,null,null,null,null,null,null,null,null,null,null,1]
["Barney Lerner","Premier",null,null,null,null,null,null,null,null,null,null,null,null,null,null,null,5,3,null,null,6,3]
["Denise Davis","Premier",9,13,6,null,null,null,null,null,12,null,null,null,8,3,null,null,11,null,null,null,7]
["Duane Craven","Second",null,null,null,null,null,null,2,null,6,null,null,null,null,null,null,null,null,null,null,null,2]
["Emma Dibb","Second",2,null,null,null,null,null,null,null,null,null,null,null,null,null,null,null,null,null,null,null,1]
["Ewan Gibb","Second",null,null,null,12,null,null,null,null,7,null,null,null,null,null,null,1,null,null,null,null,3]
["Fiona Farquhar","Premier",12,12,7,14,null,null,null,null,2,null,null,null,null,null,null,null,null,null,null,null,5]
["Frank Beecroft","Premier",5,4,null,5,null,null,null,null,1,null,null,null,null,null,7,12,null,null,null,null,6]
["Frank Masley","First",null,2,1,2,null,2,null,null,1,null,1,null,null,null,null,1,null,null,null,5,8]
["Gareth Ward","Second",null,null,null,9,2,null,null,null,null,null,null,null,null,null,null,null,null,null,null,null,2]
["Gary Pennington","Premier",7,6,null,null,null,null,7,null,null,null,null,null,null,null,5,7,5,null,null,9,7]
["Gary Western","First",null,1,null,null,1,4,null,null,null,null,null,null,null,null,null,4,null,null,null,2,5]
["Gavin Hamilton","Second",null,4,null,11,null,null,null,null,1,null,null,null,4,null,null,null,null,null,null,null,4]
["Gillian Hyde","First",2,null,null,null,null,null,null,1,null,null,null,null,null,1,null,null,1,null,null,null,4]
["Graham Corbett","Premier",2,null,null,null,2,null,null,null,4,null,null,null,null,null,null,4,null,null,null,null,4]
["Graham Terry","Second",null,null,null,null,null,null,null,null,null,null,null,null,null,1,null,null,null,null,null,null,1]
["Hannah Elliot","Second",null,null,7,null,null,null,null,null,null,null,null,null,null,null,null,null,null,null,null,null,1]
["Hannah Oldroyd","Second",null,null,null,null,null,null,null,null,null,null,1,null,null,null,null,null,null,null,null,null,1]
["Helen Brant","Premier",null,null,null,null,null,null,null,6,null,null,null,6,1,4,12,null,9,null,null,12,7]
["Helen Love","Premier",1,3,2,3,3,2,1,null,2,null,null,null,3,null,2,3,2,null,null,4,13]
["Helen Western","First",null,4,null,null,3,3,null,null,null,null,null,null,null,null,null,3,null,null,null,3,5]
["Ian Dickinson","Second",null,null,null,null,null,null,null,null,null,null,null,null,6,null,3,null,null,null,null,null,2]
["Ian Jenkins","Second",1,2,2,3,null,3,3,3,5,2,3,null,null,null,null,null,null,null,null,1,11]
["Jack Verity","Premier",null,null,3,null,null,null,null,null,null,2,null,null,null,11,3,null,null,null,null,null,4]
["Jenny Colwell","Second",null,null,null,17,null,null,null,null,null,null,null,null,null,3,null,null,null,null,null,null,2]
["Jenny Willingham","Premier",null,null,null,null,null,null,null,null,null,null,null,null,null,8,null,null,null,2,null,7,3]
["Jeremy Wright","Premier",null,null,null,null,null,null,null,null,3,null,null,null,null,null,null,null,null,null,null,null,1]
["Jez Rix","First",null,null,null,null,null,null,null,null,null,null,null,null,1,null,null,null,null,null,null,null,1]
["John Colwell","Second",null,null,null,5,null,null,null,null,null,null,null,null,null,2,null,null,null,null,null,null,2]
["John Singh","Second",null,null,null,null,null,null,null,null,null,null,null,null,null,null,null,null,null,null,null,2,1]
["John Walton","Second",null,null,4,null,null,null,null,null,null,null,null,null,null,null,null,null,null,null,null,3,2]
["Josie Briggs","First",1,null,null,null,2,null,null,null,2,null,null,null,null,null,2,null,null,null,null,null,4]
["Julie Firth","First",null,null,null,3,null,null,null,null,null,null,null,null,2,null,null,null,null,null,null,null,2]
["Kamil Zakowski","Second",null,null,null,null,null,null,null,null,8,4,null,null,2,null,4,2,null,null,null,null,5]
["Kath Stone","Second",null,null,null,null,null,null,null,null,null,null,null,null,null,null,null,null,null,null,null,4,1]
["Kelly Smith","First",null,null,2,null,null,null,null,null,null,null,null,null,null,null,null,null,null,null,null,null,1]
["Kevin Armstrong","Second",null,null,null,null,null,null,null,null,null,1,null,null,null,null,null,null,null,null,null,null,1]
["Laura Richardson","Second",null,null,null,6,null,null,null,null,null,5,null,null,null,null,null,null,null,null,null,null,2]
["Laura Whitworth","Second",null,null,null,21,null,null,null,null,null,null,null,null,null,null,null,null,null,null,null,null,1]
["Liam Verity","First",null,null,null,null,null,null,null,null,null,null,null,null,null,null,null,null,null,null,null,4,1]
["Liz Hamilton","Second",null,null,null,18,null,null,null,null,9,null,null,null,null,null,null,null,null,null,null,null,2]
["Lorna Nixon","Premier",null,18,null,null,null,null,null,8,null,null,null,null,null,null,null,null,null,null,null,null,2]
["Louise Dell'Amico","Premier",null,19,null,null,null,null,null,null,17,null,7,null,null,null,null,null,null,null,null,null,3]
["Louise Nash","Premier",null,null,null,null,4,6,5,null,null,null,null,null,null,null,null,null,null,null,null,null,3]
["Lucy Johnston","Second",null,null,5,null,null,null,null,null,null,null,null,null,null,null,null,null,null,null,null,null,1]
["Marcin Soszka","Second",null,null,null,1,null,null,null,null,1,null,null,null,null,null,1,null,null,null,null,null,3]
["Mark Walker","First",null,null,null,null,null,5,null,null,null,null,null,null,4,null,null,null,null,null,null,null,2]
["Martin Fillingham","Premier",null,null,1,2,1,null,null,null,null,null,null,null,2,null,null,2,null,null,null,3,6]
["Martin Love","Premier",null,null,null,4,null,3,3,null,null,null,null,4,null,null,null,null,null,null,null,null,4]
["Matthew  Richardson","Premier",null,null,null,null,null,4,null,1,7,null,3,2,null,null,null,null,null,null,null,null,5]
["Mel Akeroyd","Premier",14,11,null,12,null,null,null,7,15,null,null,7,null,6,13,null,1,null,null,null,9]
["Mervyn Silva","Second",null,5,null,16,null,null,null,null,null,null,null,null,null,null,null,null,null,null,null,null,2]
["Michael Farren","Second",null,null,null,7,null,null,null,null,null,null,null,null,null,null,null,null,null,null,null,null,1]
["Mohanlal Mistry","Premier",null,15,null,null,null,null,1,null,null,null,5,null,null,null,null,11,null,null,null,1,5]
["Nick Breare","Second",null,null,null,null,null,null,null,null,null,null,null,null,null,null,null,4,null,null,null,null,1]
["Nicola Pickard","Second",null,null,8,2,null,null,null,null,null,null,null,null,null,null,null,null,null,null,null,null,2]
["Nicola Robinson","Second",null,null,null,19,null,null,null,null,null,null,null,null,null,null,null,null,null,null,null,null,1]
["Noel Fitzpatrick","Premier",1,14,null,1,null,null,null,null,14,null,null,null,9,null,8,13,null,null,null,null,7]
["Paul Disney","First",null,null,null,1,null,null,null,null,null,null,null,null,null,null,null,null,null,1,null,null,2]
["Peter Huby","First",null,null,null,null,null,null,null,null,null,null,null,null,null,null,null,null,null,2,null,null,1]
["Rachel Parker","Premier",null,null,null,8,null,7,null,null,16,null,null,5,null,null,4,null,8,null,null,null,6]
["Rahul Mehra","Second",null,null,null,null,null,null,null,null,null,null,null,null,5,null,null,null,null,null,null,null,1]
["Rebecca Saul","Second",null,null,9,null,null,null,null,null,null,null,null,null,8,null,5,null,null,null,null,null,3]
["Reza Abdi","First",null,null,null,null,null,null,null,null,null,null,null,null,3,null,null,null,null,null,null,null,1]
["Richard Nixon","Premier",null,null,null,null,null,null,4,2,null,null,null,null,null,null,null,null,null,null,null,null,2]
["Richard Smith","Second",null,null,null,null,3,null,6,null,null,null,null,null,7,null,2,null,null,null,null,null,4]
["Richard Stone","Premier",null,null,null,null,null,null,null,null,null,null,null,null,null,null,null,null,null,null,null,5,1]
["Robert Davies","Second",null,null,null,null,1,2,1,2,null,null,null,null,null,null,null,null,null,null,null,null,4]
["Robert Donkin","Second",null,null,null,null,null,1,null,1,2,null,null,null,null,null,null,null,null,null,null,null,3]
["Robert Hague","Premier",null,null,null,null,null,null,null,null,null,null,null,null,null,12,null,null,null,null,null,null,1]
["Sam White","Second",null,null,6,15,4,null,null,null,null,null,null,null,null,null,null,5,null,null,null,null,4]
["Sarah Sherratt","Second",null,null,null,13,null,null,null,null,null,null,null,null,null,null,null,null,null,null,null,null,1]
["Simon Frazer","Premier",4,null,null,null,null,null,6,null,6,3,4,null,null,9,null,null,null,null,null,null,6]
["Simon Kingsnorth","Premier",15,null,8,null,null,null,null,null,null,null,null,null,null,null,null,null,null,null,null,null,2]
["Steph Niven","Second",null,null,3,4,null,4,4,null,null,null,2,null,null,null,null,null,null,null,null,null,5]
["Stephen Hetherington","Second",null,3,null,null,null,null,null,null,null,null,null,null,null,null,null,null,null,null,1,null,2]
["Stewart Spink","Premier",3,2,null,null,null,null,null,null,5,null,2,null,4,1,null,null,null,null,null,8,7]
["Stuart Dunbar","Premier",null,2,null,1,null,null,null,null,1,1,null,1,1,5,1,1,1,null,null,1,11]
["Stuart James","Second",null,null,null,null,null,null,5,null,null,null,null,null,null,null,null,null,null,null,null,null,1]
["Susan Manning","First",null,null,null,null,null,null,null,null,null,null,null,null,null,null,null,2,null,null,null,null,1]
["Suzanne Hague","Premier",8,9,null,13,9,null,null,null,18,null,null,8,null,null,11,null,null,null,null,null,7]
["Sylvia Ross","Second",null,1,1,2,null,null,null,null,3,null,null,null,1,null,null,null,null,null,null,null,5]
["Teri Rose","First",3,null,3,null,null,6,null,null,null,null,null,null,null,null,null,null,null,null,null,null,3]
["Therese Sheehan","Second",null,null,null,8,null,null,null,null,null,null,null,null,null,null,null,null,null,null,null,null,1]
["Tim Forster","First",null,null,null,null,null,1,null,null,null,null,null,null,null,null,null,null,null,null,null,null,1]
["Tim Mosedale","Premier",null,null,null,15,8,null,null,null,19,null,null,null,11,null,1,null,null,null,null,11,6]
["Tracy Foy","Premier",6,5,4,6,5,5,null,3,8,null,null,null,5,null,null,6,4,null,null,null,11]
["Urmila Mistry","First",null,null,null,4,null,null,null,null,null,null,2,null,null,null,null,5,null,null,null,null,3]
["Vicki Johnston","Premier",null,null,null,null,null,null,null,null,11,null,null,null,null,null,null,null,null,null,null,null,1]
["Will Collinson","Second",null,null,null,1,null,null,null,null,null,null,null,null,null,null,null,null,null,null,null,null,1]
["Will Kerr","Premier",null,1,null,null,null,1,2,null,null,null,1,null,null,2,null,null,null,1,null,2,7]

{"sheet":"2017 Provisional Divisions","index":6,"n_rows":116,"n_cols":16,"rows_kept":116,"cut":false,"hidden":false,"merged":[]}
["Premier Division",null,null,null,null,null,"First Division",null,null,null,null,null,"Second Division"]
["Rank","Name","Score","Races",null,"Rank","Name","Score","Races",null,null,"Rank","Name","Score","Races"]
[1,"Stuart Dunbar",400,11,null,36,"Jeremy Wright",48,1,"R",null,24,"Claire Burrill",0,0,"R"]
[2,"Helen Love",393,13,null,37,"Richard Stone",46,1,"R",null,25,"Steve Shnyder",0,0,"R"]
[3,"Tracy Foy",371,11,null,38,"Vicki Johnston2",40,1,"R",null,26,"Michelle Eyres",0,0,"R"]
[4,"Alan Douglas",369,10,null,39,"Robert Hague",39,1,"R",null,27,"Keith Jump",0,0,"R"]
[5,"Alun Griffiths",359,8,null,40,"Simon Rose",0,0,"R",null,28,"Kirstie Holmes",0,0,"R"]
[6,"Will Kerr",347,7,null,41,"Loris Dell'Amico",0,0,"R",null,29,"Helen Pennington",0,0,"R"]
[7,"Mel Akeroyd",328,9,null,42,"Emma Cartledge",0,0,"R",null,30,"Paul Rhodes",0,0,"R"]
[8,"Dairine Nethercott",328,8,null,43,"Tamsin Treasure-Jones",0,0,"R",null,31,"Laura Ryall",0,0,"R"]
[9,"Gary Pennington",311,7,null,44,"Igs Robun",0,0,"R",null,32,"Laura Marchant (Mayo)",0,0,"R"]
[10,"Stewart Spink",305,7,null,45,"Alistair Nash",0,0,"R",null,33,"Mick Jones",0,0,"R"]
[11,"Helen Brant",298,7,null,46,"Tony Hart",0,0,"R",null,34,"Aimee Bedford",0,0,"R"]
[12,"Martin Fillingham",295,6,null,47,"Jane Hart",0,0,"R",null,35,"Nicola Short",0,0,"R"]
[13,"Denise Davis",295,7,null,14,"Jez Rix",50,1,null,null,36,"Mark Davis",0,0,"R"]
[14,"Suzanne Hague",281,7,null,15,"Tim Forster",50,1,null,null,37,"Pete  Hopson",0,0,"R"]
[15,"Noel Fitzpatrick",279,7,null,16,"Susan Manning",49,1,null,null,38,"Malcolm Foy",0,0,"R"]
[16,"Simon Frazer",274,6,null,17,"Peter Huby",49,1,null,null,24,"Graham Terry",50,1]
[17,"Frank Beecroft",263,6,null,18,"Kelly Smith",49,1,null,null,25,"Kevin Armstrong",50,1]
[18,"Rachel Parker",258,6,null,19,"Bernadette Cook",48,1,null,null,26,"Hannah Oldroyd",50,1]
[19,"Matthew  Richardson",238,5,null,20,"Reza Abdi",48,1,null,null,27,"Emma Dibb",49,1]
[20,"Tim Mosedale",232,6,null,21,"Ben Pearson",48,1,null,null,28,"John Singh",49,1]
[21,"Darren Longhorn",222,5,null,22,"Liam Verity",47,1,null,null,29,"Adrian Manning",48,1]
[22,"Mohanlal Mistry",204,5,null,23,"Clair Fitzpatrick",46,1,null,null,30,"Ann Upton",48,1]
[23,"Graham Corbett",192,4,null,1,"Ian Jenkins",391,11,"P",null,31,"Dave Armstrong",48,1]
[24,"Fiona Farquhar",190,5,null,2,"Sylvia Ross",247,5,"P",null,32,"Carl Kernick",47,1]
[25,"Martin Love",190,4,null,3,"Steph Niven",238,5,"P",null,33,"Andy Hutchinson",47,1]
[26,"Jack Verity",185,4,null,4,"Kamil Zakowski",235,5,"P",null,34,"Kath Stone",47,1]
[27,"Barney Lerner",139,3,null,5,"Robert Davies",198,4,"P",null,35,"Nick Breare",47,1]
[28,"Louise Nash",138,3,null,6,"Richard Smith",186,4,"P",null,36,"Rahul Mehra",46,1]
[29,"Jenny Willingham",136,3,null,7,"Gavin Hamilton",175,4,"P",null,37,"Stuart James",46,1]
[30,"Chris Jones",128,3,null,8,"Sam White",174,4,"P",null,38,"Lucy Johnston",46,1]
[31,"Louise Dell'Amico",110,3,null,9,"Marcin Soszka",150,3,"P",null,39,"Hannah Elliot",44,1]
[32,"Richard Nixon",96,2,null,10,"Robert Donkin",149,3,"P",null,40,"Michael Farren",44,1]
[33,"Chris Stott",82,2,null,11,"Ewan Gibb",133,3,"P",null,41,"Therese Sheehan",43,1]
[34,"Simon Kingsnorth",79,2,null,12,"Rebecca Saul",131,3,"P",null,42,"Will Collinson",41,1]
[35,"Lorna Nixon",76,2,null,13,"Stephen Hetherington",98,2,"P",null,43,"Sarah Sherratt",38,1]
[1,"Frank Masley",393,8,"P",14,"John Walton",95,2,"P",null,44,"Chris Longley",37,1]
[2,"Gary Western",243,5,"P",15,"John Colwell",95,2,"P",null,45,"Nicola Robinson",32,1]
[3,"Helen Western",239,5,"P",16,"Duane Craven",94,2,"P",null,46,"Laura Whitworth",30,1]
[4,"Gillian Hyde",199,4,"P",17,"Ian Dickinson",93,2,"P",null,47,"Adam Willoughby",0,0]
[5,"Josie Briggs",197,4,"P",18,"Gareth Ward",91,2,"P",null,48,"Philippa Bird",0,0]
[6,"Urmila Mistry",142,3,"P",19,"Laura Richardson",91,2,"P",null,49,"James  Goodall",0,0]
[7,"Teri Rose",141,3,"P",20,"Jenny Colwell",82,2,"P",null,50,"Chris Upton",0,0]
[8,"Claire Thaper",139,3,"P",21,"Mervyn Silva",81,2,"P",null,51,"Heather Bodiam",0,0]
[9,"Ben Marchant",100,2,"P",22,"Liz Hamilton",75,2,"P",null,52,"Carole Raistrick",0,0]
[10,"Paul Disney",100,2,"P",23,"Nicola Pickard",74,2,"P",null,53,"Esther Silva",0,0]
[11,"Chris Reynier",98,2,"P",null,null,null,null,null,null,54,"Michael Moss",0,0]
[12,"Julie Firth",97,2,"P",null,null,null,null,null,null,55,"Diane Collett",0,0]
[13,"Mark Walker",93,2,"P",null,null,null,null,null,null,56,"Nina Rogers",0,0]
[null,null,null,null,null,null,null,null,null,null,null,57,"John Hunt",0,0]
[null,null,null,null,null,null,null,null,null,null,null,58,"Sheila Bugg",0,0]
[null,null,null,null,null,null,null,null,null,null,null,59,"Anna James",0,0]
[null,null,null,null,null,null,null,null,null,null,null,60,"Simon Pass",0,0]
[null,null,null,null,null,null,null,null,null,null,null,61,"Louise McGechaen",0,0]
[null,null,null,null,null,null,null,null,null,null,null,62,"Emma Freer",0,0]
[null,null,null,null,null,null,null,null,null,null,null,63,"Paul Salisbury",0,0]
[null,null,null,null,null,null,null,null,null,null,null,64,"Gemma Bell",0,0]
[null,null,null,null,null,null,null,null,null,null,null,65,"Jac Trow Flynn",0,0]
[null,null,null,null,null,null,null,null,null,null,null,66,"Jadine Smith",0,0]
[null,null,null,null,null,null,null,null,null,null,null,67,"Mick Brearley",0,0]
[null,null,null,null,null,null,null,null,null,null,null,68,"Natalie Stephenson",0,0]
[null,null,null,null,null,null,null,null,null,null,null,69,"Donna Line",0,0]
[null,null,null,null,null,null,null,null,null,null,null,70,"Paula Chadwick",0,0]
[null,null,null,null,null,null,null,null,null,null,null,71,"Sara Atkinson",0,0]
[null,null,null,null,null,null,null,null,null,null,null,72,"Tina Martiny",0,0]
[null,null,null,null,null,null,null,null,null,null,null,73,"Paula Cutter",0,0]
[null,null,null,null,null,null,null,null,null,null,null,74,"Shiela Pepper",0,0]
[null,null,null,null,null,null,null,null,null,null,null,75,"Barbara Winslow",0,0]
[null,null,null,null,null,null,null,null,null,null,null,76,"Camille Kendall",0,0]
[null,null,null,null,null,null,null,null,null,null,null,77,"Catherine Bruckner",0,0]
[null,null,null,null,null,null,null,null,null,null,null,78,"Caroline Rix",0,0]
[null,null,null,null,null,null,null,null,null,null,null,79,"Craig Barrow",0,0]
[null,null,null,null,null,null,null,null,null,null,null,80,"David Schrivener",0,0]
[null,null,null,null,null,null,null,null,null,null,null,81,"Connor Jay Craven",0,0]
[null,null,null,null,null,null,null,null,null,null,null,82,"Rebecca O KEEFE",0,0]
[null,null,null,null,null,null,null,null,null,null,null,83,"Adam Willoughby",0,0]
[null,null,null,null,null,null,null,null,null,null,null,84,"Joseph Broadbent",0,0]
[null,null,null,null,null,null,null,null,null,null,null,85,"Diane Collett",0,0]
[null,null,null,null,null,null,null,null,null,null,null,86,"Anna James",0,0]
[null,null,null,null,null,null,null,null,null,null,null,87,"Jac Trow Flynn",0,0]
[null,null,null,null,null,null,null,null,null,null,null,88,"Sarah Bruckshaw",0,0]
[null,null,null,null,null,null,null,null,null,null,null,89,"Elaine Frazer",0,0]
[null,null,null,null,null,null,null,null,null,null,null,90,"Joseph Broadbent",0,0]
[null,null,null,null,null,null,null,null,null,null,null,91,"Mick Chambers",0,0]
[null,null,null,null,null,null,null,null,null,null,null,92,"Kanwaldeep Kaur",0,0]
[null,null,null,null,null,null,null,null,null,null,null,93,"Keith Abson",0,0]
[null,null,null,null,null,null,null,null,null,null,null,94,"Laura Goodyear",0,0]
[null,null,null,null,null,null,null,null,null,null,null,95,"Lynn Perris",0,0]
[null,null,null,null,null,null,null,null,null,null,null,96,"Laurence Easton",0,0]
[null,null,null,null,null,null,null,null,null,null,null,97,"Matthew Nowell",0,0]
[null,null,null,null,null,null,null,null,null,null,null,98,"Natalie Boardman",0,0]
[null,null,null,null,null,null,null,null,null,null,null,99,"Matthew Reynier",0,0]
[null,null,null,null,null,null,null,null,null,null,null,100,"Steven Maude",0,0]
[null,null,null,null,null,null,null,null,null,null,null,101,"Natalie Evans",0,0]
[null,null,null,null,null,null,null,null,null,null,null,102,"Tim Baldwin",0,0]
[null,null,null,null,null,null,null,null,null,null,null,103,"Nazia Begum",0,0]
[null,null,null,null,null,null,null,null,null,null,null,104,"Tom Lee",0,0]
[null,null,null,null,null,null,null,null,null,null,null,105,"Patricis Farren",0,0]
[null,null,null,null,null,null,null,null,null,null,null,106,"Lindsey Pearson",0,0]
[null,null,null,null,null,null,null,null,null,null,null,107,"Pawel Tryc",0,0]
[null,null,null,null,null,null,null,null,null,null,null,108,"Amanda Hibbert",0,0]
[null,null,null,null,null,null,null,null,null,null,null,109,"Rachel  Herrar",0,0]
[null,null,null,null,null,null,null,null,null,null,null,110,"Ambrose Griffiths",0,0]
[null,null,null,null,null,null,null,null,null,null,null,111,"Rebecca O Keefe",0,0]
[null,null,null,null,null,null,null,null,null,null,null,112,"Andrew Edwards",0,0]
[null,null,null,null,null,null,null,null,null,null,null,113,"Sheila Quarmby",0,0]
[null,null,null,null,null,null,null,null,null,null,null,114,"Andrew Lickley",0,0]
[null,null,null,null,null,null,null,null,null,null,null,115,"Steven Fowler",0,0]
[null,null,null,null,null,null,null,null,null,null,null,116,"ANDY Bedford",0,0]
[null,null,null,null,null,null,null,null,null,null,null,117,"Bernadette Bowden",0,0]
[null,null,null,null,null,null,null,null,null,null,null,118,"Tim Spencer",0,0]
[null,null,null,null,null,null,null,null,null,null,null,119,"Abby Hanson",0,0]
[null,null,null,null,null,null,null,null,null,null,null,120,"Wendy Hey",0,0]
[null,null,null,null,null,null,null,null,null,null,null,121,"Adam Camp",0,0]
[null,null,null,null,null,null,null,null,null,null,null,122,"Alex Ayling",0,0]